Workbook
Name \0: #REF!
Name \00: #REF!
Name \a: #REF!
Name \AA: [1]LIQUIDACION!#REF!
Name \b: [2]STRSUMM0!#REF!
Name \bb: [2]STRSUMM0!#REF!
Name \E: #REF!
Name \EE: #REF!
Name \G: #REF!
Name \k: '[3]7422CW00'!#REF!
Name \l: [4]STRSUMM0!#REF!
Name \M: #REF!
Name \ñ: '[5]7422CW00'!#REF!
Name \P: #REF!
Name \R: #REF!
Name \s: #REF!
Name \V: #REF!
Name \X: [0]!ERR
Name \Z: [0]!ERR
Name _________AFC1: [6]INV!$A$25:$D$28
Name _________AFC3: [6]INV!$F$25:$I$28
Name _________AFC5: [6]INV!$K$25:$N$28
Name _________BGC1: [6]INV!$A$5:$D$8
Name _________BGC3: [6]INV!$F$5:$I$8
Name _________BGC5: [6]INV!$K$5:$N$8
Name _________CAC1: [6]INV!$A$19:$D$22
Name _________CAC3: [6]INV!$F$19:$I$22
Name _________CAC5: [6]INV!$K$19:$N$22
Name _________PJ50: #REF!
Name _________SBC1: [6]INV!$A$12:$D$15
Name _________SBC3: [6]INV!$F$12:$I$15
Name _________SBC5: [6]INV!$K$12:$N$15
Name ________AFC1: [6]INV!$A$25:$D$28
Name ________AFC3: [6]INV!$F$25:$I$28
Name ________AFC5: [6]INV!$K$25:$N$28
Name ________BGC1: [6]INV!$A$5:$D$8
Name ________BGC3: [6]INV!$F$5:$I$8
Name ________BGC5: [6]INV!$K$5:$N$8
Name ________CAC1: [6]INV!$A$19:$D$22
Name ________CAC3: [6]INV!$F$19:$I$22
Name ________CAC5: [6]INV!$K$19:$N$22
Name ________MA2: #REF!
Name ________PJ50: #REF!
Name ________SBC1: [6]INV!$A$12:$D$15
Name ________SBC3: [6]INV!$F$12:$I$15
Name ________SBC5: [6]INV!$K$12:$N$15
Name _______AFC1: [6]INV!$A$25:$D$28
Name _______AFC3: [6]INV!$F$25:$I$28
Name _______AFC5: [6]INV!$K$25:$N$28
Name _______BGC1: [6]INV!$A$5:$D$8
Name _______BGC3: [6]INV!$F$5:$I$8
Name _______BGC5: [6]INV!$K$5:$N$8
Name _______CAC1: [6]INV!$A$19:$D$22
Name _______CAC3: [6]INV!$F$19:$I$22
Name _______CAC5: [6]INV!$K$19:$N$22
Name _______MA2: #REF!
Name _______PJ50: #REF!
Name _______SBC1: [6]INV!$A$12:$D$15
Name _______SBC3: [6]INV!$F$12:$I$15
Name _______SBC5: [6]INV!$K$12:$N$15

Sheet PRESUPUESTO OFICIAL (Entida (2)
B1: Formulario 1 - Propuesta económica - Documento tipo de selección abreviada de menor cuantía - versión 1
B2: Versión: 1 del 21 de agosto de 2025
C5: FORMULARIO 1
C6: PRESUPUESTO OFICIAL
C7: [La entidad puede utilizar este formulario de detalle del presupuesto oficial para determinar las condiciones bajo las cuales los proponentes analizarán y presentarán su propuesta económica de forma detallada, sin perjuicio que la entidad pueda modificarlo o establecer la presentación de la oferta económica con un formulario distinto al indicado.]
C9: Adicionalmente, cuando el proceso de contratación es estructurado por precios unitarios, la Entidad debe aplicar las notas 1, 2 y 3 del presente formulario y las casillas de "Descripción", "Porcentaje" de la Administración, Imprevisto, Utilidad y total A.I.U. resaltadas en colo amarillo. Tratándose de otras modalidades de precio, la Entidad puede o no configurar los mismos aspectos.
C11: Nº | D11: ITEM DE PAGO | E11: ESPECIFICACIONES | G11: DESCRIPCION | H11: UND. | I11: CANTIDAD | J11: VALOR UNITARIO | K11: VALOR TOTAL
E12: GENERAL | F12: PARTICULAR
C13: 1 | G13: CANCHA BARRIO QUINCE DE NOVIEMBRE
C14: 1.1 | G14: =PPT!D12 -> Limpieza, lavado y adecuación superficial de escenario deportivo existente | H14: =PPT!E12 -> UND | I14: =PPT!F12 -> 1 | J14: =PPT!G12 -> 500044 | K14: =PPT!H12 -> 500044
C15: 1.2 | G15: =PPT!D13 -> Resane y reparación puntual de fisuras, desprendimientos e imperfecciones en superficie de concreto | H15: =PPT!E13 -> GLB | I15: =PPT!F13 -> 1 | J15: =PPT!G13 -> 435595 | K15: =PPT!H13 -> 435595
C16: 1.3 | G16: =PPT!D14 -> Demarcación reglamentaria de superficie deportiva mediante aplicación de pintura de tráfico | H16: =PPT!E14 -> ML | I16: =PPT!F14 -> 250 | J16: =PPT!G14 -> 6119 | K16: =PPT!H14 -> 1529750
C17: 1.4 | G17: =PPT!D15 -> Suministro y aplicación de pintura acrílica especializada para superficies deportivas | H17: =PPT!E15 -> M2 | I17: =PPT!F15 -> 360 | J17: =PPT!G15 -> 23678 | K17: =PPT!H15 -> 8524080
C18: 1.5 | G18: =PPT!D16 -> Mantenimiento correctivo y preventivo de estructuras metálicas de porterías deportivas | H18: =PPT!E16 -> UND | I18: =PPT!F16 -> 2 | J18: =PPT!G16 -> 125482 | K18: =PPT!H16 -> 250964
C19: 1.6 | G19: =PPT!D17 -> Mantenimiento y adecuación de tableros y elementos de baloncesto existentes | H19: =PPT!E17 -> UND | I19: =PPT!F17 -> 2 | J19: =PPT!G17 -> 295321 | K19: =PPT!H17 -> 590642
C20: 1.7 | G20: =PPT!D18 -> Suministro e instalación de luminaria LED tipo Roy Alpha Calima II de 250 W, incluye fotocelda, bombillo, accesorios eléctricos y puesta en funcionamiento | H20: =PPT!E18 -> UND | I20: =PPT!F18 -> 1 | J20: =PPT!G18 -> 524157 | K20: =PPT!H18 -> 524157
C21: Subtotal | K21: =SUM(K14:K20) -> 12355232
C22: 2 | G22: CANCHA BARRIO EL OBRERO
C23: 2.1 | G23: Limpieza, lavado y adecuación superficial de escenario deportivo existente | H23: UND | I23: 1 | J23: =PPT!G21 -> 500044 | K23: =PPT!H21 -> 500044
C24: 2.2 | G24: Resane y reparación puntual de fisuras, desprendimientos e imperfecciones en superficie de concreto | H24: GLB | I24: 1 | J24: =PPT!G22 -> 435595 | K24: =PPT!H22 -> 435595
C25: 2.3 | G25: Demarcación reglamentaria de superficie deportiva mediante aplicación de pintura de tráfico | H25: ML | I25: 250 | J25: =PPT!G23 -> 6119 | K25: =PPT!H23 -> 1529750
C26: 2.4 | G26: Suministro y aplicación de pintura acrílica especializada para superficies deportivas | H26: M2 | I26: 360 | J26: =PPT!G24 -> 23678 | K26: =PPT!H24 -> 8524080
C27: 2.5 | G27: Mantenimiento y adecuación de tableros y elementos de baloncesto existentes | H27: UND | I27: 2 | J27: =PPT!G25 -> 295321 | K27: =PPT!H25 -> 590642
C28: 2.6 | G28: Suministro e instalación de lampara Roy Alpha tipo calima ll 250 ws, incl. fotocelda y bombillo | H28: UND | I28: 1 | J28: =PPT!G26 -> 524157 | K28: =PPT!H26 -> 524157
C29: Subtotal | K29: =SUM(K23:K28) -> 12104268
C30: 3 | G30: CANCHA BARRIO PRIMERO DE MAYO
C31: 3.1 | G31: Limpieza, lavado y adecuación superficial de escenario deportivo existente | H31: UND | I31: 1 | J31: =PPT!G29 -> 500044 | K31: =PPT!H29 -> 500044
C32: 3.2 | G32: Resane y reparación puntual de fisuras, desprendimientos e imperfecciones en superficie de concreto | H32: GLB | I32: 1 | J32: =PPT!G30 -> 435595 | K32: =PPT!H30 -> 435595
C33: 3.3 | G33: Demarcación reglamentaria de superficie deportiva mediante aplicación de pintura de tráfico | H33: ML | I33: 250 | J33: =PPT!G31 -> 6119 | K33: =PPT!H31 -> 1529750
C34: 3.4 | G34: Suministro y aplicación de pintura acrílica especializada para superficies deportivas | H34: M2 | I34: 360 | J34: =PPT!G32 -> 23678 | K34: =PPT!H32 -> 8524080
C35: 3.5 | G35: Mantenimiento correctivo y preventivo de estructuras metálicas de porterías deportivas | H35: UND | I35: 2 | J35: =PPT!G33 -> 125482 | K35: =PPT!H33 -> 250964
C36: Subtotal | K36: =SUM(K31:K35) -> 11240433
C37: 4 | G37: CANCHA PARQUE DE LA GUITARRA
C38: 4.1 | G38: Limpieza, lavado y adecuación superficial de escenario deportivo existente | H38: UND | I38: 1 | J38: =PPT!G36 -> 500044 | K38: =PPT!H36 -> 500044
C39: 4.2 | G39: Resane y reparación puntual de fisuras, desprendimientos e imperfecciones en superficie de concreto | H39: GLB | I39: 1 | J39: =PPT!G37 -> 435595 | K39: =PPT!H37 -> 435595
C40: 4.3 | G40: Suministro e instalación de lampara Roy Alpha tipo calima ll 250 ws, incl. fotocelda y bombillo | H40: UND | I40: 1 | J40: =PPT!G38 -> 524157 | K40: =PPT!H38 -> 524157
C41: subtotal | K41: =SUM(K38:K40) -> 1459796
C42: 5 | G42: CANCHA PARQUE LA SALCHIPAPA
C43: 5.1 | G43: =PPT!D41 -> Limpieza, lavado y adecuación superficial de escenario deportivo existente | H43: =PPT!E41 -> UND | I43: =PPT!F41 -> 1 | J43: =PPT!G41 -> 500044 | K43: =PPT!H41 -> 500044
C44: 5.2 | G44: =PPT!D42 -> Resane y reparación puntual de fisuras, desprendimientos e imperfecciones en superficie de concreto | H44: =PPT!E42 -> GLB | I44: =PPT!F42 -> 1 | J44: =PPT!G42 -> 435595 | K44: =PPT!H42 -> 435595
...

Sheet PPT PRINCIPAL
E4: Mejoramiento y Adecuación De Escenarios Recreo Deportivos En El Municipio De Agustín Codazzi - Cesar | I4: SECRETARIA DE EDUCACION
E6: INGETIQUES S.A.S.
E7: NIT 901875361 - 7
E8: PRESUPUESTO GENERAL
D10: ITEMS | E10: CANCHAS A MEJORAR | I10: PRESUPUESTO
D11: 1 | E11: =PPT!C9 -> CANCHA BARRIO QUINCE DE NOVIEMBRE | I11: =PPT!D10 -> 12355232
D12: 2 | E12: =PPT!C19 -> CANCHA BARRIO EL OBRERO | I12: =PPT!D20 -> 12104268
D13: 3 | E13: =PPT!C27 -> CANCHA BARRIO PRIMERO DE MAYO | I13: =PPT!D28 -> 11240433
D14: 4 | E14: =PPT!C34 -> CANCHA PARQUE DE LA GUITARRA | I14: =PPT!D35 -> 1459796
D15: 5 | E15: =PPT!C39 -> CANCHA PARQUE LA SALCHIPAPA | I15: =PPT!D40 -> 13528915
D16: 6 | E16: =PPT!C47 -> CANCHA BARRIO INSTITUTO | I16: =PPT!D48 -> 11764590
D17: 7 | E17: =PPT!C55 -> CANCHA BARRIO LA ANTILLANA | I17: =PPT!D56 -> 11831075
D18: 8 | E18: =PPT!C63 -> CANCHA BARRIO SAN JOSÉ | I18: =PPT!D64 -> 9633570
D19: 9 | E19: =PPT!C71 -> CANCHA PARQUE LA ESPERANZA | I19: =PPT!D72 -> 2050438
D20: 10 | E20: =PPT!C77 -> CANCHA PARQUE EL SOCORRO | I20: =PPT!D78 -> 11513626
D21: 11 | E21: =PPT!C84 -> CANCHA BARRIO EL TESORO | I21: =PPT!D85 -> 13838643
D22: 12 | E22: =PPT!C92 -> CANCHA LLERASCA | I22: =PPT!D93 -> 3078108
E25: SUBTOTAL COSTOS DIRECTO DEL PROYECTO | I25: =SUM(I11:J22) -> 114398694
F26: ADMINISTRACIÓN | H26: 0.26 | I26: =+I25*H26 -> 29743660
F27: IMPREVISTOS | H27: 0.01 | I27: =I25*H27 -> 1143986.9
F28: UTILIDAD | H28: 0.05 | I28: =I25*H28 -> 5719934.7
E29: TOTAL COSTO DEL PROYECTO | I29: =+I25+I26+I27+I28 -> 1.5100628e+08

Sheet PPT
D3: Mejoramiento y Adecuación De Escenarios Recreo Deportivos En El Municipio De Agustín Codazzi - Cesar | H3: SECRETARIA DE EDUCACION
D5: INGETIQUES S.A.S.
D6: NIT 901875361 - 7
D7: PRESUPUESTO GENERAL
C9: CANCHA BARRIO QUINCE DE NOVIEMBRE
C10: 1 | D10: =SUM(H12:H18) -> 12355232
C11: ITEM | D11: DESCRIPCIÓN | E11: UND | F11: CANT | G11: VLR UNIT | H11: VLR TOTAL
C12: 1.1 | D12: Limpieza, lavado y adecuación superficial de escenario deportivo existente | E12: UND | F12: 1 | G12: =+APU!G84 -> 500044 | H12: =+G12*F12 -> 500044
C13: 1.2 | D13: Resane y reparación puntual de fisuras, desprendimientos e imperfecciones en superficie de concreto | E13: GLB | F13: 1 | G13: =+APU!G138 -> 435595 | H13: =+G13*F13 -> 435595
C14: 1.3 | D14: Demarcación reglamentaria de superficie deportiva mediante aplicación de pintura de tráfico | E14: ML | F14: 250 | G14: =+APU!G57 -> 6119 | H14: =+G14*F14 -> 1529750
C15: 1.4 | D15: Suministro y aplicación de pintura acrílica especializada para superficies deportivas | E15: M2 | F15: 360 | G15: =+APU!G29 -> 23678 | H15: =+G15*F15 -> 8524080
C16: 1.5 | D16: Mantenimiento correctivo y preventivo de estructuras metálicas de porterías deportivas | E16: UND | F16: 2 | G16: =+APU!G166 -> 125482 | H16: =+G16*F16 -> 250964
C17: 1.6 | D17: Mantenimiento y adecuación de tableros y elementos de baloncesto existentes | E17: UND | F17: 2 | G17: =+APU!G249 -> 295321 | H17: =+G17*F17 -> 590642
C18: 1.7 | D18: Suministro e instalación de luminaria LED tipo Roy Alpha Calima II de 250 W, incluye fotocelda, bombillo, accesorios eléctricos y puesta en funcionamiento | E18: UND | F18: 1 | G18: =+APU!G111 -> 524157 | H18: =+G18*F18 -> 524157
C19: CANCHA BARRIO EL OBRERO
C20: 2 | D20: =SUM(H21:H26) -> 12104268
C21: 2.1 | D21: Limpieza, lavado y adecuación superficial de escenario deportivo existente | E21: UND | F21: 1 | G21: =+APU!G84 -> 500044 | H21: =+G21*F21 -> 500044
C22: 2.2 | D22: Resane y reparación puntual de fisuras, desprendimientos e imperfecciones en superficie de concreto | E22: GLB | F22: 1 | G22: =+APU!G138 -> 435595 | H22: =+G22*F22 -> 435595
C23: 2.3 | D23: Demarcación reglamentaria de superficie deportiva mediante aplicación de pintura de tráfico | E23: ML | F23: 250 | G23: =+APU!G57 -> 6119 | H23: =+G23*F23 -> 1529750
C24: 2.4 | D24: Suministro y aplicación de pintura acrílica especializada para superficies deportivas | E24: M2 | F24: 360 | G24: =+APU!G29 -> 23678 | H24: =+G24*F24 -> 8524080
C25: 2.5 | D25: Mantenimiento y adecuación de tableros y elementos de baloncesto existentes | E25: UND | F25: 2 | G25: =+APU!G249 -> 295321 | H25: =+G25*F25 -> 590642
C26: 2.6 | D26: Suministro e instalación de lampara Roy Alpha tipo calima ll 250 ws, incl. fotocelda y bombillo | E26: UND | F26: 1 | G26: =+APU!G111 -> 524157 | H26: =+G26*F26 -> 524157
C27: CANCHA BARRIO PRIMERO DE MAYO
C28: 3 | D28: =SUM(H29:H33) -> 11240433
C29: 3.1 | D29: Limpieza, lavado y adecuación superficial de escenario deportivo existente | E29: UND | F29: 1 | G29: =+APU!G84 -> 500044 | H29: =+G29*F29 -> 500044
C30: 3.2 | D30: Resane y reparación puntual de fisuras, desprendimientos e imperfecciones en superficie de concreto | E30: GLB | F30: 1 | G30: =+APU!G138 -> 435595 | H30: =+G30*F30 -> 435595
C31: 3.3 | D31: Demarcación reglamentaria de superficie deportiva mediante aplicación de pintura de tráfico | E31: ML | F31: 250 | G31: =+APU!G57 -> 6119 | H31: =+G31*F31 -> 1529750
C32: 3.4 | D32: Suministro y aplicación de pintura acrílica especializada para superficies deportivas | E32: M2 | F32: 360 | G32: =+APU!G29 -> 23678 | H32: =+G32*F32 -> 8524080
C33: 3.5 | D33: Mantenimiento correctivo y preventivo de estructuras metálicas de porterías deportivas | E33: UND | F33: 2 | G33: =+APU!G166 -> 125482 | H33: =+G33*F33 -> 250964
C34: CANCHA PARQUE DE LA GUITARRA
C35: 4 | D35: =SUM(H36:H38) -> 1459796
C36: 4.1 | D36: Limpieza, lavado y adecuación superficial de escenario deportivo existente | E36: UND | F36: 1 | G36: =+APU!G84 -> 500044 | H36: =+G36*F36 -> 500044
C37: 4.2 | D37: Resane y reparación puntual de fisuras, desprendimientos e imperfecciones en superficie de concreto | E37: GLB | F37: 1 | G37: =+APU!G138 -> 435595 | H37: =+G37*F37 -> 435595
C38: 4.3 | D38: Suministro e instalación de lampara Roy Alpha tipo calima ll 250 ws, incl. fotocelda y bombillo | E38: UND | F38: 1 | G38: =+APU!G111 -> 524157 | H38: =+G38*F38 -> 524157
C39: CANCHA PARQUE LA SALCHIPAPA
C40: 5 | D40: =SUM(H41:H46) -> 13528915
C41: 5.1 | D41: Limpieza, lavado y adecuación superficial de escenario deportivo existente | E41: UND | F41: 1 | G41: =+APU!G84 -> 500044 | H41: =+G41*F41 -> 500044
C42: 5.2 | D42: Resane y reparación puntual de fisuras, desprendimientos e imperfecciones en superficie de concreto | E42: GLB | F42: 1 | G42: =+APU!G138 -> 435595 | H42: =+G42*F42 -> 435595
C43: 5.3 | D43: Demarcación reglamentaria de superficie deportiva mediante aplicación de pintura de tráfico | E43: ML | F43: 250 | G43: =+APU!G57 -> 6119 | H43: =+G43*F43 -> 1529750
C44: 5.4 | D44: Suministro y aplicación de pintura acrílica especializada para superficies deportivas | E44: M2 | F44: 360 | G44: =+APU!G29 -> 23678 | H44: =+G44*F44 -> 8524080
...

Sheet APU
B2: ANÁLISIS DE PRECIOS UNITARIOS
B3: No. DEL ÍTEM: | D3: 1 | E3: UNIDAD: | G3: =[112]FINAL!C130 -> M2
B4: DESCRIPCIÓN DEL ÍTEM: | D4: Suministro y aplicación de pintura acrílica especializada para superficies deportivas
B5: PROYECTO:
B6: 1. EQUIPO, HERRAMIENTAS Y/O MAQUINARIA
B7: DESCRIPCIÓN | D7: UNIDAD | E7: PRECIO UNITARIO | F7: CANTIDAD | G7: VALOR PARCIAL
B9: HERRAMIENTAS MENORES | D9: %MO | F9: 0.03 | G9: =G23*F9 -> 261.25515
B10: SUBTOTAL | G10: =SUM(G9:G9) -> 261.25515
B11: 2. MATERIALES EN OBRA
B12: DESCRIPCIÓN | D12: UNIDAD | E12: PRECIO UNITARIO | F12: CANTIDAD | G12: VALOR PARCIAL
B14: =+INSUMOS!B909 -> PINTURA PARA CANCHAS Y PISOS ANTIDESLIZANTE | D14: =+INSUMOS!C909 -> GAL | E14: =+INSUMOS!D909 -> 147900 | F14: 0.09 | G14: =E14*F14 -> 13311
B15: =+INSUMOS!B921 -> CINTA DE ENMASCARAR 1/2" | D15: =+INSUMOS!C921 -> UND | E15: =+INSUMOS!D921 -> 3846 | F15: 0.2 | G15: =E15*F15 -> 769.2
B16: =+INSUMOS!B925 -> BROCHA 3" | D16: =+INSUMOS!C925 -> UND | E16: =+INSUMOS!D925 -> 8000 | F16: 0.025 | G16: =E16*F16 -> 200
B17: DESPERDICIO | D17: %MT | F17: 0.03 | G17: =(SUM(G14:G16))*F17 -> 428.406
B18: SUBTOTAL | G18: =SUM(G14:G17) -> 14708.606
B19: 3. MANO DE OBRA
B20: TRABAJADOR | C20: UNIDAD | E20: JORNAL | F20: RENDIMIENTO (HORAS) | G20: VALOR PARCIAL
B22: =+INSUMOS!B915 -> CUADRILLA CC - PINTURA | C22: =[112]INSUMOS!C12 -> HC | E22: =+INSUMOS!D915 -> 47073 | F22: 0.185 | G22: =E22*F22 -> 8708.505
B23: SUBTOTAL | G23: =SUM(G22:G22) -> 8708.505
B24: 4. TRANSPORTES
B25: DESCRIPCIÓN | C25: UNIDAD | D25: DISTANCIA (KM) | E25: CANTIDAD (M3) | F25: TARIFA/KM | G25: VALOR PARCIAL
B28: SUBTOTAL | G28: =G27 -> 0
B29: TOTAL COSTOS DIRECTOS | G29: =ROUND(G28+G23+G18+G10,0) -> 23678
B30: ANÁLISIS DE PRECIOS UNITARIOS
B31: No. DEL ÍTEM: | D31: 2 | E31: UNIDAD: | G31: ML
B32: DESCRIPCIÓN DEL ÍTEM: | D32: Demarcación reglamentaria de superficie deportiva mediante aplicación de pintura de tráfico
B33: PROYECTO:
B34: 1. EQUIPO, HERRAMIENTAS Y/O MAQUINARIA
B35: DESCRIPCIÓN | D35: UNIDAD | E35: PRECIO UNITARIO | F35: CANTIDAD | G35: VALOR PARCIAL
B37: HERRAMIENTAS MENORES | D37: %MO | F37: 0.03 | G37: =G51*F37 -> 70.6095
B38: SUBTOTAL | G38: =SUM(G37:G37) -> 70.6095
B39: 2. MATERIALES EN OBRA
B40: DESCRIPCIÓN | D40: UNIDAD | E40: PRECIO UNITARIO | F40: CANTIDAD | G40: VALOR PARCIAL
B42: =+INSUMOS!B905 -> PINTURA ACRILICA PURA PARA TRAFICO | D42: =+INSUMOS!C905 -> GAL | E42: =+INSUMOS!D905 -> 87250 | F42: 0.03 | G42: =E42*F42 -> 2617.5
B43: =+INSUMOS!B921 -> CINTA DE ENMASCARAR 1/2" | D43: =+INSUMOS!C921 -> UND | E43: =+INSUMOS!D921 -> 3846 | F43: 0.2 | G43: =E43*F43 -> 769.2
B44: =+INSUMOS!B925 -> BROCHA 3" | D44: =+INSUMOS!C925 -> UND | E44: =+INSUMOS!D925 -> 8000 | F44: 0.025 | G44: =E44*F44 -> 200
B45: DESPERDICIO | D45: %MT | F45: 0.03 | G45: =(SUM(G42:G44))*F45 -> 107.601
B46: SUBTOTAL | G46: =SUM(G42:G45) -> 3694.301
B47: 3. MANO DE OBRA
B48: TRABAJADOR | C48: UNIDAD | E48: JORNAL | F48: RENDIMIENTO (HORAS) | G48: VALOR PARCIAL
...

Sheet INSUMOS
A1: GOBERNACION DEL CESAR
A2: SECRETARIA DE INFRAESTRUCTURA
A3: PRECIOS DE REFERENCIA PARA EL DEPARTAMENTO DEL CESAR
B4: LISTADO DE MATERIALES-VALLEDUPAR
A5: Calle 16 No 12 - 120 - Telefax: (5) 5749671 - e-mail: obras@gobcesar.gov.co - Valledupar, Cesar.
A6: FECHA: DE 2.026
A7: ITEMS | B7: DESCRIPCION | C7: UN | D7: VR. UNIT
B8: ESTACA DE MADERA 2" X 2" X 1 MTRO | C8: ml | D8: 3500 | E8: Cesar 2023
B9: TABLA ALGARROBILLO 1" X 4" X 3 MTS | C9: UN | D9: 59500 | E9: Cesar 2023
B10: ALGARROBILLO 2"X2"X3.00MT | C10: UN | D10: 17325 | E10: Cesar 2023
B11: TABLA 1''X2"X3.00MT ALGARROBILLO | C11: UN | D11: 10531 | E11: Cesar 2023
B12: TABLA CEDRO / TOLUA 1" X 30 CM X 3MTS | C12: UN | D12: 60690 | E12: Cesar 2022
B13: TABLA 2''X4"X3.00MT ALGARROBILLO | C13: UN | D13: 56000 | E13: Cesar 2022
B14: TABLAS ALGARROBILLO 1" X 30 X 3MTS | C14: UN | D14: 30801 | E14: Cesar 2022
B15: TABLA ALGARROBILLO BURRA 25CMT X3MTR | C15: UN | D15: 15750 | E15: Cesar 2021
B16: ALGARROBILLO | C16: PIE | D16: 2000 | E16: 2021
B17: TOLUA | C17: PIE | D17: 5000 | E17: 2021
B18: CEDRO | C18: PIE | D18: 5000 | E18: 2021
B19: ROBLE | C19: PIE | D19: 5000 | E19: 2021
B20: CARRETO | C20: PIE | D20: 5000 | E20: 2021
B21: ABARCO | C21: PIE
B22: Equipo de topografía teodolito electrónico con abertura de anteojo de 42- 45 mm. aumento del anteojo: 30x.distancia mínima de enfoque: 1 - 1.5 m. precisión: 5´´ | C22: MES | D22: 3149760 | E22: =13124*8*30 -> 3149760 | F22: 2022
B23: CADENERO 1 | C23: MES | D23: 1801000 | E23: Actualizacion honorarios 2023
B24: CADENERO 2 | C24: MES | D24: 1562000 | E24: Actualizacion honorarios 2023
B25: TOPOGRAFO - Profesional Categoria 5 | C25: MES | D25: 6655000 | E25: Actualizacion honorarios 2023
B26: TOPOGRAFO | C26: DIA | D26: =D25/30 -> 221833.33
B27: TRANSPORTE MATERIAL | C27: M3/KM | D27: 1300
C28: M3
B29: TRANSPORTE MEZCLA DENSA | C29: M3 | D29: 1300
B30: VIBROCOMPACTADOR TIPO DINAPAC CA 15 | C30: h | D30: 112400
B31: CINTA SEGURIDAD DE 75 MM X 100 MTS | C31: ML | D31: =11276/100 -> 112.76
B32: BOMBÓN PLASTICO (20 USOS) | C32: UN | D32: 56050 | E32: OK 2022
B33: TELA VERDE ESTABILIZADA H=2.1 | C33: ML | D33: 2856 | E33: OK 2022
B34: TRANSPORTE MOTONIVELADORA | C34: km | D34: 90000
B35: Motoniveladora potencia 215 HP, ancho de cuchilla 4,27 m, peso 18 ton. | C35: h | D35: 240932 | E35: 2022 | F35: INVIAS | G35: 240932.29
B36: MOTONIVELADORA | C36: h | D36: 240932 | E36: 2022
B37: VOLQUETA | C37: m3/Km | D37: 1152 | E37: Invias | G37: 100000
B38: Cargador : Potencia en el volante 110 hp, Clasificación de RPM del motor 2300. | C38: h | D38: 161971 | E38: 2022 | F38: INVIAS
B39: Cargador : Potencia en el volante 125 hp, Clasificación de RPM del motor 2300. | C39: h | D39: 161971 | E39: 2022 | F39: INVIAS
B40: Retroexcavadora sobre oruga, potencia 138 HP, balde de 1,5 m3. | C40: h | D40: 205185 | E40: 2022 | F40: INVIAS
...
