Workbook
Name \0: #REF!
Name \00: #REF!
Name \a: #REF!
Name \AA: #REF!
Name \b: #REF!
Name \bb: #REF!
Name \E: #REF!
Name \EE: #REF!
Name \G: #REF!
Name \k: #REF!
Name \l: #REF!
Name \M: #REF!
Name \ñ: #REF!
Name \P: #REF!
Name \R: #REF!
Name \s: #REF!
Name \V: #REF!
Name \X: 'AIU PMT'!ERR
Name \X: 'PPTO PMT'!ERR
Name \X: [0]!ERR
Name \Z: 'AIU PMT'!ERR
Name \Z: 'PPTO PMT'!ERR
Name \Z: [0]!ERR
Name _________AFC1: #REF!
Name _________AFC3: #REF!
Name _________AFC5: #REF!
Name _________BGC1: #REF!
Name _________BGC3: #REF!
Name _________BGC5: #REF!
Name _________CAC1: #REF!
Name _________CAC3: #REF!
Name _________CAC5: #REF!
Name _________PJ50: #REF!
Name _________SBC1: #REF!
Name _________SBC3: #REF!
Name _________SBC5: #REF!
Name ________AFC1: #REF!
Name ________AFC3: #REF!
Name ________AFC5: #REF!
Name ________BGC1: #REF!
Name ________BGC3: #REF!
Name ________BGC5: #REF!
Name ________CAC1: #REF!
Name ________CAC3: #REF!
Name ________CAC5: #REF!
Name ________MA2: #REF!
Name ________PJ50: #REF!
Name ________SBC1: #REF!
Name ________SBC3: #REF!
Name ________SBC5: #REF!
Name _______AFC1: #REF!
Name _______AFC3: #REF!
Name _______AFC5: #REF!
Name _______BGC1: #REF!
Name _______BGC3: #REF!
Name _______BGC5: #REF!
Name _______CAC1: #REF!
Name _______CAC3: #REF!
Name _______CAC5: #REF!
Name _______MA2: #REF!

Sheet DATOS RESUMEN
C2: FONDO DE DESARROLLO LOCAL DE CIUDAD BOLIVAR
C3: AREA DE INFRAESTRUCTURA Y LOGISTICA
B5: OBJETO DE LA LICITACIÓN: | C5: EJECUTAR LAS OBRAS DE INTERVENCIÓN Y/O ADECUACIÓN Y/O MANTENIMIENTO PREVENTIVO Y/O CORRECTIVO DE LAS UNIDADES OPERATIVAS (JARDINES INFANTILES, CENTROS CRECER Y CENTRO DE DESARROLLO COMUNITARIO), A MONTO AGOTABLE POR EL SISTEMA DE PRECIOS UNITARIOS SIN FÓRMULA DE REAJUSTE, UBICADOS EN LA LOCALIDAD DE CIUDAD BOLIVAR EN BOGOTÁ D.C
B7: MODALIDAD DE PROYECTO | C7: LICITACION PÚBLICA
B9: ACTIVIDADES
B10: COSTO DIRECTO OBRAS | D10: =+'AIU OBRA'!G10 -> 8.029189e+08
B11: AIU | C11: =+'AIU OBRA'!H11 -> 0.3296 | D11: =+C11*D10 -> 2.6464207e+08
B12: SISTEMA DE GESTIÓN AMBIENTAL, SEGURIDAD Y SALUD EN EL TRABAJO (Incl. AIU) | C12: VALOR FIJO | D12: =+'PPTO AMBIENTAL Y SST'!I63 -> 28819227
B13: PLAN DE GESTION SOCIAL PGS (Incl. AIU) | C13: VALOR FIJO | D13: =+'PPTO SOCIAL'!I39 -> 26137225
B14: PMT (Incl. AIU) | C14: VALOR FIJO | D14: =+'AIU OBRA'!G14 -> 23846210
B15: COSTO TOTAL DEL PROYECTO EN PESOS: | D15: =SUM(D10:D14) -> 1.1463636e+09
B16: COSTO TOTAL DEL PROYECTO EN SMMLV 2026: | D16: =+D15/1750905 -> 654.72635

Sheet AIU OBRA
C2: FORMATO
C3: MATRIZ PARA CÁLCULO DE AIU
C4: FONDO DE DESARROLLO LOCAL DE CIUDAD BOLIVAR
C5: AREA DE INFRAESTRUCTURA Y LOGISTICA
C8: OBJETO DE LA LICITACIÓN: | E8: EJECUTAR LAS OBRAS DE INTERVENCIÓN Y/O ADECUACIÓN Y/O MANTENIMIENTO PREVENTIVO Y/O CORRECTIVO DE LAS UNIDADES OPERATIVAS (JARDINES INFANTILES, CENTROS CRECER Y CENTRO DE DESARROLLO COMUNITARIO), A MONTO AGOTABLE POR EL SISTEMA DE PRECIOS UNITARIOS SIN FÓRMULA DE REAJUSTE, UBICADOS EN LA LOCALIDAD DE CIUDAD BOLIVAR EN BOGOTÁ D.C
C10: COSTO DIRECTO ESTIMADO DE OBRA (CD) | G10: 8.029189e+08 | H10: FECHA: XX/XX/2026
C11: AIU | G11: =+H11*G10 -> 2.6464207e+08 | H11: =+K68 -> 0.3296
C12: PLAN DE GESTION AMBIENTAL (PGA) Y SST | G12: =+'PPTO AMBIENTAL Y SST'!I63 -> 28819227
C13: PLAN DE GESTION SOCIAL (PGS) | G13: =+'PPTO SOCIAL'!I39 -> 26137225
C14: PMT | G14: =+'PPTO PMT'!I31 -> 23846210
C15: VALOR TOTAL DEL CONTRATO | G15: 1.1463636e+09 | H15: =SUM(G10:G14) -> 1.1463636e+09 | I15: =+G15-H15 -> 0
C16: TERMINO ESTIMADO DE EJECUCIÓN DE OBRA | G16: 5 | H16: MESES
B19: COD IDU | C19: ÍTEM | D19: A. ADMINISTRACIÓN
D20: 1. COSTOS MENSUALES DE PERSONAL
D21: CARGO | E21: CANTIDAD A | G21: DEDICACIÓN MES | H21: TOPE SALARIO (MES) | I21: FACTOR PRESTACIONAL | J21: N. MESES | K21: SALARIO + PRESTACIONES
G22: B | H22: C | I22: D | J22: E | K22: F=A*B*C*D*E
C23: 1.1 | D23: PERSONAL PROFESIONAL (Ingenieros y Otros)
B24: 9111 | C24: =+C23+0.001 -> 1.101 | D24: DIRECTOR DE OBRA PROFESIONAL | E24: 1 | G24: 0.3 | H24: 7600000 | I24: 1.6029 | J24: =+$G$16 -> 5 | K24: =+E24*G24*H24*I24*J24 -> 18273060
B25: 9113 | C25: =+C24+0.001 -> 1.102 | D25: RESIDENTE DE OBRA PROFESIONAL | E25: 1 | G25: 1 | H25: 4500000 | I25: 1.6029 | J25: =+$G$16 -> 5 | K25: =+E25*G25*H25*I25*J25 -> 36065250
B26: 9112 | C26: =+C25+0.001 -> 1.103 | D26: ESPECIALISTA EN ESTRUCTURAS | E26: 1 | F26: 6 | G26: 0.17 | H26: 6550000 | I26: 1.6029 | J26: =+$G$16 -> 5 | K26: =+E26*G26*H26*I26*J26 -> 8924145.8
B27: 9112 | C27: =+C26+0.001 -> 1.104 | D27: ESPECIALISTA ELECTRICO | E27: 1 | F27: 6 | G27: 0.17 | H27: 6550000 | I27: 1.6029 | J27: =+$G$16 -> 5 | K27: =+E27*G27*H27*I27*J27 -> 8924145.8
C28: 1.2 | D28: PERSONAL ADMINISTRATIVO
B29: 9105 | C29: =+C28+0.001 -> 1.201 | D29: =+VLOOKUP(B29,DATOS1!$B$4:$E$140,2,0) -> TARIFA MES - PERSONAL ADMINISTRATIVO - SECRETARIA 2 (NO INCLUYE FACTOR DE PRESTACIONES) | E29: 1 | F29: N/A | G29: 0.3 | H29: =+VLOOKUP(B29,DATOS1!$B$4:$E$140,4,0) -> 1750905 | I29: 1.8 | J29: =+$G$16 -> 5 | K29: =+E29*G29*H29*I29*J29 -> 4727443.5
B30: 9100 | C30: =+C29+0.001 -> 1.202 | D30: =+VLOOKUP(B30,DATOS1!$B$4:$E$140,2,0) -> TARIFA MES - PERSONAL AUXILIAR TÉCNICO - CONDUCTOR O MOTORISTA (NO INCLUYE FACTOR DE PRESTACIONES) | E30: 1 | F30: N/A | G30: 0.5 | H30: =+VLOOKUP(B30,DATOS1!$B$4:$E$140,4,0) -> 1750905 | I30: 1.8 | J30: =+$G$16 -> 5 | K30: =+E30*G30*H30*I30*J30 -> 7879072.5
C31: SUBTOTAL COSTOS PERSONAL | K31: =SUM(K24:K30) -> 84793118
B33: COD IDU | C33: 2 | D33: GASTOS OPERACIONALES MENSUALES | E33: CANT. | F33: AREA (M2) | G33: DEDICACIÓN | H33: DEDICACIÓN X ÁREA (M2) | I33: COSTO ($/M2.MES) | J33: N. MESES | K33: VALOR ($)
B34: 9576 | C34: =+C33+0.001 -> 2.001 | D34: =+VLOOKUP(B34,DATOS1!$B$4:$E$140,2,0) -> TARIFA MES - ARRIENDO OFICINA INCL. ADMINISTRACIÓN, SERVICIOS PÚBLICOS, COMUNICACIONES | E34: 1 | F34: 20 | G34: 1 | H34: 1 | I34: =+VLOOKUP(B34,DATOS1!$B$4:$E$140,4,0) -> 55270 | J34: =+$G$16 -> 5 | K34: =+I34*G34*E34*J34*F34 -> 5527000
B35: 9578 | C35: =+C34+0.001 -> 2.002 | D35: =+VLOOKUP(B35,DATOS1!$B$4:$E$140,2,0) -> TARIFA MES - GASTOS OFICINA (PAPELERIA, FOTOCOPIAS Y OTROS) | E35: 1 | F35: GL | G35: 0.5 | H35: N/A | I35: =+VLOOKUP(B35,DATOS1!$B$4:$E$140,4,0) -> 1260967 | J35: =+$G$16 -> 5 | K35: =+I35*G35*E35*J35 -> 3152417.5
B36: 9456 | C36: =+C35+0.001 -> 2.003 | D36: =+VLOOKUP(B36,DATOS1!$B$4:$E$140,2,0) -> TARIFA MES - ALQUILER DE VEHICULO: CAMPERO, PICK-UP, CAMIONETA, CAMION O SIMILAR DE 1300cc A 2000cc DE CILINDRADA, MODELO 2018 A 2015. 75% DE LA TARIFA ESTABLECIDA. INCLUYE TODOS LOS COSTOS DE OPERACIÓN Y MANTENIMIENTO EXCEPTO EL SALARIO DEL CONDUCTOR | E36: 1 | F36: N/A | G36: 0.5 | H36: N/A | I36: =+VLOOKUP(B36,DATOS1!$B$4:$E$140,4,0) -> 6583500 | J36: =+$G$16 -> 5 | K36: =+I36*G36*E36*J36 -> 16458750
C37: SUBTOTAL COSTOS OPERACIONALES | K37: =SUM(K34:K36) -> 25138168
D39: TOTAL COSTOS PERSONAL + GASTOS OPERACIONALES POR EL TÉRMINO DE EJECUCIÓN | K39: =(K31+K37) -> 109931285
D40: TOTAL COSTOS PERSONAL + GASTOS OPERACIONALES POR EL TÉRMINO DE EJECUCIÓN EN PORCENTAJE DEL COSTO DIRECTO | K40: =ROUND(K39/G10,4) -> 0.1369
C42: 3. IMPUESTOS Y GARANTÍAS
C43: 3.1 | D43: IMPUESTOS
C44: ÍTEM | D44: DESCRIPCIÓN | I44: IMPUESTO | K44: VALOR ($)
C45: =C43+0.001 -> 3.101 | D45: Contribución Especial (Impuesto de Guerra Ley 1738 DIC18-2014 prorroga 4 años) | I45: 0.05 | K45: =+I45*$G$15 -> 57318182
C46: =C45+0.001 -> 3.102 | D46: ICA (Ley 14 6jul1983, Res 219 25feb2004) | I46: 0.0076 | K46: =+I46*$G$15 -> 8712363.6
C47: =C46+0.001 -> 3.103 | D47: Cuatro por mil | I47: 0.004 | K47: =+I47*$G$15 -> 4585454.5
C48: =C47+0.001 -> 3.104 | D48: Retefuente en la fuente | I48: 0.02 | K48: =+I48*$G$15 -> 22927273
C49: =C48+0.001 -> 3.105 | D49: Estampilla Unipedagógica (Dec 584 de 19 dic 2014) | I49: 0.005 | K49: =+I49*$G$15 -> 5731818.2
...

Sheet PPTO AMBIENTAL Y SST
C4: FONDO DE DESARROLLO LOCAL DE CIUDAD BOLIVAR
C5: AREA DE INFRAESTRUCTURA Y LOGISTICA
C8: OBJETO DE LA LICITACIÓN: | D8: EJECUTAR LAS OBRAS DE INTERVENCIÓN Y/O ADECUACIÓN Y/O MANTENIMIENTO PREVENTIVO Y/O CORRECTIVO DE LAS UNIDADES OPERATIVAS (JARDINES INFANTILES, CENTROS CRECER Y CENTRO DE DESARROLLO COMUNITARIO), A MONTO AGOTABLE POR EL SISTEMA DE PRECIOS UNITARIOS SIN FÓRMULA DE REAJUSTE, UBICADOS EN LA LOCALIDAD DE CIUDAD BOLIVAR EN BOGOTÁ D.C
C9: DURACIÓN | D9: 5 | E9: MESES
C11: COMPONENTE A. PERSONAL
C12: CANTIDAD (A) | D12: CARGO | E12: MESES (B) | F12: DEDICACIÓN (%) | G12: SALARIO BASE (C) | H12: FACTOR PRESTACIONAL (D) | I12: SALARIO MÁS PRESTACIONES (E = A * B * C * D)
B13: 9113 | C13: 1 | D13: PROFESIONAL SISOAMBIENTAL | E13: =+$D$9 -> 5 | F13: 0.7 | G13: 3214285.7 | H13: 1.6029 | I13: =ROUND(C13*E13*F13*G13*H13,2) -> 18032625
C14: =CONCATENATE("SUBTOTAL ",C11, ) -> SUBTOTAL COMPONENTE A. PERSONAL | I14: =SUM(I13:I13) -> 18032625
C16: COMPONENTE B - MANEJO DE LA VEGETACION E INDIVIDUOS FORESTALES
C17: DESCRIPCIÓN | F17: U.M. | G17: CANTIDAD | H17: VR. UNITARIO | I17: VR. TOTAL
B18: 7819. | C18: =+VLOOKUP(B18,DATOS1!$B$20:$E$140,2,0) -> PROTECCIÓN A SUMIDEROS CON POLISOMBRA 47% (INCLUYE SUMINISTRO Y COLOCACIÓN DE POLISOMBRA 47% ASEGURADO CON PUNTILLA GRAPA). | F18: =+VLOOKUP(B18,DATOS1!$B$20:$E$140,3,0) -> UN/MES | G18: 2 | H18: =+VLOOKUP(B18,DATOS1!$B$20:$E$140,4,0) -> 5984 | I18: =ROUND(H18*G18*$D$9,2) -> 59840
B19: 7820 | C19: =+VLOOKUP(B19,DATOS1!$B$20:$E$140,2,0) -> PROTECCIÓN A ÁRBOLES (INCLUYE SUMINISTRO Y COLOCACIÓN DE DURMIENTES DE 2.90M X 0.04M X 0.04M Y POLISOMBRA AL 47% DE TAL MANERA QUE GARANTICE LA PROTECCIÓN AL INDIVIDUO VEGETAL. | F19: =+VLOOKUP(B19,DATOS1!$B$20:$E$140,3,0) -> UN | G19: 5 | H19: =+VLOOKUP(B19,DATOS1!$B$20:$E$140,4,0) -> 33710 | I19: =ROUND(H19*G19,2) -> 168550
C20: =CONCATENATE("SUBTOTAL ",C16, ) -> SUBTOTAL COMPONENTE B - MANEJO DE LA VEGETACION E INDIVIDUOS FORESTALES | I20: =SUM(I18:I19) -> 228390
C22: COMPONTE C. GESTION AMBIENTAL - ACTIVIDADES CONSTRUCTIVAS
C23: DESCRIPCIÓN | F23: U.M. | G23: CANTIDAD | H23: VR. UNITARIO | I23: VR. TOTAL
C24: C1. MANEJO DE CAMPAMENTOS Y CENTROS DE ACOPIO
B25: 4946 | C25: =+VLOOKUP(B25,DATOS1!$B$20:$E$140,2,0) -> ALQUILER DE CERRAMIENTO TIPO 2: CONSTA DE POSTES ROLLIZOS DE 1.90MT DE ALTURA LIBRE CON BASE EN CONCRETO 1500 PSI DE 30CM X 30CM, DOBLE CINTA PELIGRO CAL. 4, TELA PARA CERRAMIENTO.(INCL INSTALACION, MANTENIMIENTO Y DESINSTALACIÓN). | F25: =+VLOOKUP(B25,DATOS1!$B$20:$E$140,3,0) -> ML/MES | G25: 15 | H25: =+VLOOKUP(B25,DATOS1!$B$20:$E$140,4,0) -> 33864 | I25: =ROUND(H25*G25*$D$9,2) -> 2539800
B26: 9290 | C26: =+VLOOKUP(B26,DATOS1!$B$20:$E$140,2,0) -> CANECA PLÁSTICA NEGRA DE 55 GALONES CON TAPA PLANA. | F26: =+VLOOKUP(B26,DATOS1!$B$20:$E$140,3,0) -> UN | G26: 3 | H26: =+VLOOKUP(B26,DATOS1!$B$20:$E$140,4,0) -> 142496 | I26: =ROUND(H26*G26,2) -> 427488
C27: =CONCATENATE("SUBTOTAL ", C22,) -> SUBTOTAL COMPONTE C. GESTION AMBIENTAL - ACTIVIDADES CONSTRUCTIVAS | I27: =SUM(I25:I26) -> 2967288
C29: C2. MANEJO DE MATERIALES DE CONSTRUCCIÓN
B30: 7850 | C30: PUNTO DE ACOPIO DE MATERIALES | D30: =+VLOOKUP(B30,DATOS1!$B$20:$E$140,2,0) -> CINTA PARA SEÑALIZACION DE 500MT X 4" PELIGRO CALIBRE 3.5 | F30: =+VLOOKUP(B30,DATOS1!$B$20:$E$140,3,0) -> ROLLO | G30: 4 | H30: =+VLOOKUP(B30,DATOS1!$B$20:$E$140,4,0) -> 26009 | I30: =ROUND(H30*G30,2) -> 104036
B31: 7556 | D31: =+VLOOKUP(B31,DATOS1!$B$20:$E$140,2,0) -> PLASTICO NEGRO CALIBRE 6 | F31: =+VLOOKUP(B31,DATOS1!$B$20:$E$140,3,0) -> M2 | G31: 200 | H31: =+VLOOKUP(B31,DATOS1!$B$20:$E$140,4,0) -> 1728 | I31: =ROUND(H31*G31,2) -> 345600
B32: 7554 | D32: =+VLOOKUP(B32,DATOS1!$B$20:$E$140,2,0) -> SEÑALIZACION TUBULAR COLOMBINA PLASTICA | F32: =+VLOOKUP(B32,DATOS1!$B$20:$E$140,3,0) -> UN | G32: 5 | H32: =+VLOOKUP(B32,DATOS1!$B$20:$E$140,4,0) -> 46520 | I32: =ROUND(H32*G32,2) -> 232600
C33: =CONCATENATE("SUBTOTAL ", C29,) -> SUBTOTAL C2. MANEJO DE MATERIALES DE CONSTRUCCIÓN | I33: =SUM(I30:I32) -> 682236
C35: C3. MANEJO INTEGRAL DE RESIDUOS SÓLIDOS
B36: 7556 | C36: ACOPIO TEMPORAL DE RCD EN FRENTES DE OBRA | D36: =+VLOOKUP(B36,DATOS1!$B$20:$E$140,2,0) -> PLASTICO NEGRO CALIBRE 6 | F36: =+VLOOKUP(B36,DATOS1!$B$20:$E$140,3,0) -> M2 | G36: 200 | H36: =+VLOOKUP(B36,DATOS1!$B$20:$E$140,4,0) -> 1728 | I36: =ROUND(H36*G36,2) -> 345600
B37: 9280 | D37: =+VLOOKUP(B37,DATOS1!$B$20:$E$140,2,0) -> BOLSA PARA BASURA TIPO INDUSTRIAL NEGRA DE 60 x 90 Cm CALIBRE 2 (PAQUETE DE 30 UNIDADES) | F37: =+VLOOKUP(B37,DATOS1!$B$20:$E$140,3,0) -> UN | G37: 30 | H37: =+VLOOKUP(B37,DATOS1!$B$20:$E$140,4,0) -> 13475 | I37: =ROUND(H37*G37,2) -> 404250
B38: 7571 | D38: =+VLOOKUP(B38,DATOS1!$B$20:$E$140,2,0) -> CONOS H= 0,9- 1,0mt | F38: =+VLOOKUP(B38,DATOS1!$B$20:$E$140,3,0) -> UN | G38: 4 | H38: =+VLOOKUP(B38,DATOS1!$B$20:$E$140,4,0) -> 83781 | I38: =ROUND(H38*G38,2) -> 335124
C39: =CONCATENATE("SUBTOTAL ", C35,) -> SUBTOTAL C3. MANEJO INTEGRAL DE RESIDUOS SÓLIDOS | I39: =SUM(I36:I38) -> 1084974
C41: =CONCATENATE("SUBTOTAL ", C22,) -> SUBTOTAL COMPONTE C. GESTION AMBIENTAL - ACTIVIDADES CONSTRUCTIVAS | I41: =+I39+I33+I27 -> 4734498
C43: COMPONENTE D - GESTIÓN EN SEGURIDAD Y SALUD EN EL TRABAJO (SG-SST)
C44: DESCRIPCIÓN | F44: U.M. | G44: CANTIDAD | H44: VR. UNITARIO | I44: VR. TOTAL
B45: 12357 | C45: =+VLOOKUP(B45,DATOS1!$B$20:$E$140,2,0) -> BOTIQUIN TIPO A DOTADO PORTÁTIL | F45: =+VLOOKUP(B45,DATOS1!$B$20:$E$140,3,0) -> UN | G45: 5 | H45: =+VLOOKUP(B45,DATOS1!$B$20:$E$140,4,0) -> 56900 | I45: =ROUND(H45*G45,2) -> 284500
B46: 12441 | C46: =+VLOOKUP(B46,DATOS1!$B$20:$E$140,2,0) -> CAMILLA FÉRULA ESPINAL LARGA - FEL PARA ADULTO (POLIETILENO). INCLUYE ARNES TIPO ARAÑA CON SECCIONES REFLECTIVAS ._(Según Apéndice Bioseguridad Covid 19_V1 y V2) | F46: =+VLOOKUP(B46,DATOS1!$B$20:$E$140,3,0) -> UN | G46: 3 | H46: =+VLOOKUP(B46,DATOS1!$B$20:$E$140,4,0) -> 132774 | I46: =ROUND(H46*G46,2) -> 398322
B47: 7819 | C47: =+VLOOKUP(B47,DATOS1!$B$20:$E$140,2,0) -> EXTINTOR POLVO QUIMICO SECO DE 20LB TIPO ABC METALICO CON GANCHO Y AVISO | F47: =+VLOOKUP(B47,DATOS1!$B$20:$E$140,3,0) -> UN | G47: 5 | H47: =+VLOOKUP(B47,DATOS1!$B$20:$E$140,4,0) -> 93900 | I47: =ROUND(H47*G47,2) -> 469500
B48: 7836 | C48: =+VLOOKUP(B48,DATOS1!$B$20:$E$140,2,0) -> ARNES MULTIPROPOSITO CON ESLINGA - 4 ANILLOS - PARA RESTRICCION Y DETENCION DE CAIDAS CON PUNTO FIJO | F48: =+VLOOKUP(B48,DATOS1!$B$20:$E$140,3,0) -> UN | G48: 6 | H48: =+VLOOKUP(B48,DATOS1!$B$20:$E$140,4,0) -> 185938 | I48: =ROUND(H48*G48,2) -> 1115628
B49: 12039 | C49: =+VLOOKUP(B49,DATOS1!$B$20:$E$140,2,0) -> TAPABOCAS DESECHABLE. _(Según Apéndice Bioseguridad Covid 19) | F49: =+VLOOKUP(B49,DATOS1!$B$20:$E$140,3,0) -> UN | G49: 280 | H49: =+VLOOKUP(B49,DATOS1!$B$20:$E$140,4,0) -> 336 | I49: =ROUND(H49*G49,2) -> 94080
B50: 7825 | C50: =+VLOOKUP(B50,DATOS1!$B$20:$E$140,2,0) -> MASCARILLA DESECHABLE CONTRA POLVOS Y PARTICULAS NO TOXICAS | F50: =+VLOOKUP(B50,DATOS1!$B$20:$E$140,3,0) -> UN | G50: 30 | H50: =+VLOOKUP(B50,DATOS1!$B$20:$E$140,4,0) -> 4400 | I50: =ROUND(H50*G50,2) -> 132000
C51: =CONCATENATE("SUBTOTAL ", C43,) -> SUBTOTAL COMPONENTE D - GESTIÓN EN SEGURIDAD Y SALUD EN EL TRABAJO (SG-SST) | I51: =SUM(I45:I47) -> 1152322
C53: COMPONENTE E. PLAN DE SEÑALIZACIÓN
...

Sheet AIU SISOAMBIENTAL
B3: FORMATO
B4: MATRIZ PARA CÁLCULO DE AIU
B5: FONDO DE DESARROLLO LOCAL DE CIUDAD BOLIVAR
B6: AREA DE INFRAESTRUCTURA Y LOGISTICA
B9: OBJETO DE LA LICITACIÓN: | D9: EJECUTAR LAS OBRAS DE INTERVENCIÓN Y/O ADECUACIÓN Y/O MANTENIMIENTO PREVENTIVO Y/O CORRECTIVO DE LAS UNIDADES OPERATIVAS (JARDINES INFANTILES, CENTROS CRECER Y CENTRO DE DESARROLLO COMUNITARIO), A MONTO AGOTABLE POR EL SISTEMA DE PRECIOS UNITARIOS SIN FÓRMULA DE REAJUSTE, UBICADOS EN LA LOCALIDAD DE CIUDAD BOLIVAR EN BOGOTÁ D.C
B11: COSTO DIRECTO ESTIMADO SISOAMBIENTAL | F11: =+'PPTO AMBIENTAL Y SST'!I59 -> 24971170 | G11: FECHA: XX/XX/2026
B12: TERMINO ESTIMADO DE EJECUCIÓN DE OBRA | F12: 5 | G12: MESES
B14: 3. IMPUESTOS Y GARANTÍAS
B15: 3.1 | C15: IMPUESTOS
B16: ÍTEM | C16: DESCRIPCIÓN | H16: IMPUESTO | J16: VALOR ($)
B17: =B15+0.001 -> 3.101 | C17: Contribución Especial (Impuesto de Guerra Ley 1738 DIC18-2014 prorroga 4 años) | H17: 0.05 | J17: =+H17*$F$11 -> 1248558.5
B18: =B17+0.001 -> 3.102 | C18: ICA (Ley 14 6jul1983, Res 219 25feb2004) | H18: 0.0076 | J18: =+H18*$F$11 -> 189780.89
B19: =B18+0.001 -> 3.103 | C19: Cuatro por mil | H19: 0.004 | J19: =+H19*$F$11 -> 99884.68
B20: =B19+0.001 -> 3.104 | C20: Retefuente Obra | H20: 0.02 | J20: =+H20*$F$11 -> 499423.4
B21: =B20+0.001 -> 3.105 | C21: Estampilla Unipedagógica (Dec 584 de 19 dic 2014) | H21: 0.005 | J21: =+H21*$F$11 -> 124855.85
B22: SUBTOTAL IMPUESTOS | J22: =SUM(J17:J21) -> 2162503.3
B24: 4.1 | C24: GARANTIAS
B25: ÍTEM | C25: DESCRIPCIÓN | E25: VR. BASE | F25: % ASEGURADO | G25: VIGENCIA AMPARO (MESES) | H25: TASA ASEGURADORA | J25: VALOR ($)
B26: =+B24+0.001 -> 4.101 | C26: Cumplimiento | D26: GARANTIA UNICA | E26: =+'PPTO AMBIENTAL Y SST'!I63 -> 28819227 | F26: 0.3 | G26: =+F12+6 -> 11 | H26: 0.004 | J26: =(((((E26*F26)*H26)/12)*G26)+2500)*1.19 -> 40699.369
B27: =B26+0.001 -> 4.102 | C27: Salarios y Prestaciones Sociales | E27: =+E26 -> 28819227 | F27: 0.1 | G27: =+(12*3)+F12 -> 41 | H27: 0.003 | J27: =(((((E27*F27)*H27)/12)*G27)+2500)*1.19 -> 38127.252
B28: =B27+0.001 -> 4.103 | C28: Estabilidad y Calidad de la Obra | E28: =+E27 -> 28819227 | F28: 0.3 | G28: =+(12*3)+F12 -> 41 | H28: 0.003 | J28: =(((((E28*F28)*H28)/12)*G28)+2500)*1.19 -> 108431.76
B29: =B28+0.001 -> 4.104 | C29: Predios, labores y Operaciones- Vigencia (Decreto 1082 de 2015 Sección III) | D29: RESPONSABILIDAD CIVIL EXTRACONTRACTUAL | E29: 0 | F29: 0.1 | G29: =+F12 -> 5 | H29: 0.004 | J29: =(((((E29*F29)*H29)/12)*G29))*1.19 -> 0
B31: SUBTOTAL GARANTIAS | J31: =SUM(J26:J30) -> 187258.38
B33: TOTAL IMPUESTOS Y GARANTÍAS | J33: =J22+J31 -> 2349761.7
B34: TOTAL IMPUESTOS Y GARANTÍAS EN PORCENTAJE DEL COSTO DIRECTO | J34: =J33/F11 -> 0.094098983
B36: A. ADMINISTRACIÓN (1 + 2 + 3) | J36: =+J12+J34 -> 0.094098983
B37: I. IMPREVISTOS | J37: 0.01
B38: U. UTILIDAD | J38: 0.05
B40: A.I.U. (ADMINISTRACIÓN, IMPREVISTOS Y UTILIDAD) | J40: =SUM(J36:J38) -> 0.15409898

Sheet PPTO SOCIAL
C4: FONDO DE DESARROLLO LOCAL DE CIUDAD BOLIVAR
C5: AREA DE INFRAESTRUCTURA Y LOGISTICA
C8: OBJETO DE LA LICITACIÓN: | D8: EJECUTAR LAS OBRAS DE INTERVENCIÓN Y/O ADECUACIÓN Y/O MANTENIMIENTO PREVENTIVO Y/O CORRECTIVO DE LAS UNIDADES OPERATIVAS (JARDINES INFANTILES, CENTROS CRECER Y CENTRO DE DESARROLLO COMUNITARIO), A MONTO AGOTABLE POR EL SISTEMA DE PRECIOS UNITARIOS SIN FÓRMULA DE REAJUSTE, UBICADOS EN LA LOCALIDAD DE CIUDAD BOLIVAR EN BOGOTÁ D.C
C9: DURACIÓN | D9: 5 | E9: MESES
C11: COMPONENTE A - PERSONAL PROFESIONAL GESTION SOCIAL
C12: CANTIDAD (A) | D12: CARGO | E12: MESES (B) | F12: DEDICACIÓN (%) | G12: SALARIO BASE (C) | H12: FACTOR PRESTACIONAL (D) | I12: SALARIO MÁS PRESTACIONES (E = A * B * C * D)
B13: 9113 | C13: 1 | D13: PROFESIONAL SOCIAL | E13: =+$D$9 -> 5 | F13: 0.5 | G13: 4500000 | H13: 1.6029 | I13: =ROUND(C13*E13*F13*G13*H13,2) -> 18032625
C14: =CONCATENATE("SUBTOTAL ",C11, ) -> SUBTOTAL COMPONENTE A - PERSONAL PROFESIONAL GESTION SOCIAL | I14: =SUM(I12:I13) -> 18032625
C16: COMPONENTE B - PLAN DE GESTION SOCIAL
C17: DESCRIPCIÓN | F17: U.M. | G17: CANTIDAD | H17: VR. UNITARIO | I17: VR. TOTAL
C18: B.1. PROGRAMA DE DIVULGACIÓN AL CIUDADANO
B19: 7870 | C19: =+VLOOKUP(B19,DATOS1!$B$20:$E$140,2,0) -> VÍDEO BEAM - ALQUILER POR DIA | F19: =+VLOOKUP(B19,DATOS1!$B$20:$E$140,3,0) -> DIA | G19: 10 | H19: =+VLOOKUP(B19,DATOS1!$B$20:$E$140,4,0) -> 100862 | I19: =ROUND(H19*G19,2) -> 1008620
C20: =CONCATENATE("SUBTOTAL ", C18,) -> SUBTOTAL B.1. PROGRAMA DE DIVULGACIÓN AL CIUDADANO | I20: =SUM(I19) -> 1008620
C22: B.2. PROGRAMA DE DIVULGACIÓN AL CIUDADANO
B23: 7897 | C23: =+VLOOKUP(B23,DATOS1!$B$20:$E$140,2,0) -> AFICHE TAMAÑO MEDIO PLIEGO A 4X0 TINTAS EN PROPALCOTE DE 115 GR. | F23: =+VLOOKUP(B23,DATOS1!$B$20:$E$140,3,0) -> UN | G23: 10 | H23: =+VLOOKUP(B23,DATOS1!$B$20:$E$140,4,0) -> 1345 | I23: =ROUND(H23*G23,2) -> 13450
B24: 7898 | C24: =+VLOOKUP(B24,DATOS1!$B$20:$E$140,2,0) -> PLEGABLES DE SOSTENIBILIDAD EN TRES CUERPOS TAMAÑO CARTA A 4X4 TINTAS EN PROPALCOTE. | F24: =+VLOOKUP(B24,DATOS1!$B$20:$E$140,3,0) -> UN | G24: 50 | H24: =+VLOOKUP(B24,DATOS1!$B$20:$E$140,4,0) -> 719 | I24: =ROUND(H24*G24,2) -> 35950
C25: =CONCATENATE("SUBTOTAL ", C22,) -> SUBTOTAL B.2. PROGRAMA DE DIVULGACIÓN AL CIUDADANO | I25: =SUM(I23:I24) -> 49400
C27: B.3. Programa de Atención al ciudadano - Adecuación del punto CREA
B28: 9048 | C28: =+VLOOKUP(B28,DATOS1!$B$20:$E$140,2,0) -> CARTELERA CON MARCO EN ALUMINIO ANODIZADO, PAÑO COLOR GRIS CON CENEFA SUPERIOR, PUERTAS CORREDIZAS. Incl. transporte | F28: =+VLOOKUP(B28,DATOS1!$B$20:$E$140,3,0) -> UN | G28: 1 | H28: =+VLOOKUP(B28,DATOS1!$B$20:$E$140,4,0) -> 568502 | I28: =ROUND(H28*G28,2) -> 568502
B29: 9724 | C29: =+VLOOKUP(B29,DATOS1!$B$20:$E$140,2,0) -> PORTÁTILES - Procesador minimo: intel, Core i3 4005U, celeron o similar, Memoria RAM de 4 GB(2x2048 MB) Disco duro de 500gb a 7200 rpm Pantalla LED HP BrightView widescreen alta definición con 35,6 cm | F29: =+VLOOKUP(B29,DATOS1!$B$20:$E$140,3,0) -> UN/MES | G29: 4 | H29: =+VLOOKUP(B29,DATOS1!$B$20:$E$140,4,0) -> 124818 | I29: =ROUND(H29*G29*D9,2) -> 2496360
B30: 9725 | C30: =+VLOOKUP(B30,DATOS1!$B$20:$E$140,2,0) -> IMPRESORA MULTIFUNCIONAL MONOCROMÁTICA 4 en 1, COPIADORA, IMPRESORA, SCANER Y FAX. 35 ppm, RENDIMIENTO 5000 PAG. | F30: =+VLOOKUP(B30,DATOS1!$B$20:$E$140,3,0) -> UN/MES | G30: 1 | H30: =+VLOOKUP(B30,DATOS1!$B$20:$E$140,4,0) -> 97962 | I30: =ROUND(H30*G30*D9,2) -> 489810
C31: =CONCATENATE("SUBTOTAL ", C27,) -> SUBTOTAL B.3. Programa de Atención al ciudadano - Adecuación del punto CREA | I31: =SUM(I28:I30) -> 3554672
C33: =CONCATENATE("SUBTOTAL ", C16,) -> SUBTOTAL COMPONENTE B - PLAN DE GESTION SOCIAL | I33: =+I31+I25+I20 -> 4612692
C35: SUBTOTAL COMPONENTES A+B | I35: =+I33+I14 -> 22645317
C37: AIU | H37: 0.1542 | I37: =+I35*H37 -> 3491907.9
C39: =CONCATENATE("SUBTOTAL ", C32,) -> SUBTOTAL | I39: =ROUND(SUM(I35:I38),2) -> 26137225

Sheet AIU PGA
B3: FORMATO
B4: MATRIZ PARA CÁLCULO DE AIU
B5: FONDO DE DESARROLLO LOCAL DE CIUDAD BOLIVAR
B6: AREA DE INFRAESTRUCTURA Y LOGISTICA
B9: OBJETO DE LA LICITACIÓN: | D9: EJECUTAR LAS OBRAS DE INTERVENCIÓN Y/O ADECUACIÓN Y/O MANTENIMIENTO PREVENTIVO Y/O CORRECTIVO DE LAS UNIDADES OPERATIVAS (JARDINES INFANTILES, CENTROS CRECER Y CENTRO DE DESARROLLO COMUNITARIO), A MONTO AGOTABLE POR EL SISTEMA DE PRECIOS UNITARIOS SIN FÓRMULA DE REAJUSTE, UBICADOS EN LA LOCALIDAD DE CIUDAD BOLIVAR EN BOGOTÁ D.C
B11: COSTO DIRECTO ESTIMADO SOCIAL | F11: =+'PPTO SOCIAL'!I35 -> 22645317 | G11: FECHA: XX/XX/2026
B12: TERMINO ESTIMADO DE EJECUCIÓN DE OBRA | F12: 5 | G12: MESES
B14: 3. IMPUESTOS Y GARANTÍAS
B15: 3.1 | C15: IMPUESTOS
B16: ÍTEM | C16: DESCRIPCIÓN | H16: IMPUESTO | J16: VALOR ($)
B17: =B15+0.001 -> 3.101 | C17: Contribución Especial (Impuesto de Guerra Ley 1738 DIC18-2014 prorroga 4 años) | H17: 0.05 | J17: =+H17*$F$11 -> 1132265.9
B18: =B17+0.001 -> 3.102 | C18: ICA (Ley 14 6jul1983, Res 219 25feb2004) | H18: 0.0076 | J18: =+H18*$F$11 -> 172104.41
B19: =B18+0.001 -> 3.103 | C19: Cuatro por mil | H19: 0.004 | J19: =+H19*$F$11 -> 90581.268
B20: =B19+0.001 -> 3.104 | C20: Retefuente Obra | H20: 0.02 | J20: =+H20*$F$11 -> 452906.34
B21: =B20+0.001 -> 3.105 | C21: Estampilla Unipedagógica (Dec 584 de 19 dic 2014) | H21: 0.005 | J21: =+H21*$F$11 -> 113226.59
B22: SUBTOTAL IMPUESTOS | J22: =SUM(J17:J21) -> 1961084.5
B24: 4.1 | C24: GARANTIAS
B25: ÍTEM | C25: DESCRIPCIÓN | E25: VR. BASE | F25: % ASEGURADO | G25: VIGENCIA AMPARO (MESES) | H25: TASA ASEGURADORA | J25: VALOR ($)
B26: =+B24+0.001 -> 4.101 | C26: Cumplimiento | D26: GARANTIA UNICA | E26: =+'PPTO SOCIAL'!$I$39 -> 26137225 | F26: 0.3 | G26: =+F12+6 -> 11 | H26: 0.004 | J26: =(((((E26*F26)*H26)/12)*G26)+2500)*1.19 -> 37188.627
B27: =B26+0.001 -> 4.102 | C27: Salarios y Prestaciones Sociales | E27: =+'PPTO SOCIAL'!$I$39 -> 26137225 | F27: 0.1 | G27: =+(12*3)+F12 -> 41 | H27: 0.003 | J27: =(((((E27*F27)*H27)/12)*G27)+2500)*1.19 -> 34855.88
B28: =B27+0.001 -> 4.103 | C28: Estabilidad y Calidad de la Obra | E28: =+'PPTO SOCIAL'!$I$39 -> 26137225 | F28: 0.3 | G28: =+(12*3)+F12 -> 41 | H28: 0.003 | J28: =(((((E28*F28)*H28)/12)*G28)+2500)*1.19 -> 98617.64
B29: =B28+0.001 -> 4.104 | C29: Predios, labores y Operaciones- Vigencia (Decreto 1082 de 2015 Sección III) | D29: RESPONSABILIDAD CIVIL EXTRACONTRACTUAL | E29: 0 | F29: 0.1 | G29: =+F12 -> 5 | H29: 0.004 | J29: =(((((E29*F29)*H29)/12)*G29))*1.19 -> 0
B31: SUBTOTAL GARANTIAS | J31: =SUM(J26:J30) -> 170662.15
B33: TOTAL IMPUESTOS Y GARANTÍAS | J33: =J22+J31 -> 2131746.6
B34: TOTAL IMPUESTOS Y GARANTÍAS EN PORCENTAJE DEL COSTO DIRECTO | J34: =J33/F11 -> 0.094136311
B36: A. ADMINISTRACIÓN (1 + 2 + 3) | J36: =+J12+J34 -> 0.094136311
B37: I. IMPREVISTOS | J37: 0.01
B38: U. UTILIDAD | J38: 0.05
B40: A.I.U. (ADMINISTRACIÓN, IMPREVISTOS Y UTILIDAD) | J40: =SUM(J36:J38) -> 0.15413631

Sheet PPTO PMT
C4: FONDO DE DESARROLLO LOCAL DE CIUDAD BOLIVAR
C5: AREA DE INFRAESTRUCTURA Y LOGISTICA
C8: OBJETO DE LA LICITACIÓN: | D8: EJECUTAR LAS OBRAS DE INTERVENCIÓN Y/O ADECUACIÓN Y/O MANTENIMIENTO PREVENTIVO Y/O CORRECTIVO DE LAS UNIDADES OPERATIVAS (JARDINES INFANTILES, CENTROS CRECER Y CENTRO DE DESARROLLO COMUNITARIO), A MONTO AGOTABLE POR EL SISTEMA DE PRECIOS UNITARIOS SIN FÓRMULA DE REAJUSTE, UBICADOS EN LA LOCALIDAD DE CIUDAD BOLIVAR EN BOGOTÁ D.C
C9: DURACIÓN | D9: 5 | E9: MESES
C11: COMPONENTE A - PERSONAL PROFESIONAL
C12: CANTIDAD (A) | D12: CARGO | E12: MESES (B) | F12: DEDICACIÓN (%) | G12: SALARIO BASE (C) | H12: FACTOR PRESTACIONAL (D) | I12: SALARIO MÁS PRESTACIONES (E = A * B * C * D)
D13: GESTIÓN PMT PROFESIONALES
B14: 9113 | C14: 1 | D14: RESIDENTE EN TRÁNSITO Y TRANSPORTE | E14: =+$D$9 -> 5 | F14: 0.2 | G14: 4000000 | H14: 1.6029 | I14: =ROUND(C14*E14*F14*G14*H14,2) -> 6411600
D15: PALETERO
B16: 9424 | C16: 1 | D16: =+VLOOKUP(B16,'[1]PRECIOS PERSONAL'!$B$4:$E$120,2,0) -> TARIFA MES - PERSONAL DE OBRA - AYUDANTE (INCLUYE FACTOR DE PRESTACIONES) | E16: =+$D$9 -> 5 | F16: 0.7 | G16: 1750905 | H16: 1.8 | I16: =ROUND(C16*E16*F16*G16*H16,2) -> 11030702
C17: =CONCATENATE("SUBTOTAL ",C11, ) -> SUBTOTAL COMPONENTE A - PERSONAL PROFESIONAL | I17: =SUM(I14:I16) -> 17442302
C19: COMPONENTE B - SEÑALIZACION TEMPORAL
C20: DESCRIPCIÓN | F20: U.M. | G20: CANTIDAD | H20: VR. UNITARIO | I20: VR. TOTAL
B21: 11888 | C21: =+VLOOKUP(B21,DATOS1!$B$20:$E$140,2,0) -> SEÑAL VERTICAL PREVENTIVA SP-46B TIPO CUADRADO CON FLECHA. Lámina galvanizada Cal. 16, Ángulo de 2x14. Reflectivo diamante tipo XI, verde limón. Pintura electrostática. | F21: =+VLOOKUP(B21,DATOS1!$B$20:$E$140,3,0) -> UN | G21: 4 | H21: =+VLOOKUP(B21,DATOS1!$B$20:$E$140,4,0) -> 643554 | I21: =+H21*G21 -> 2574216
B22: 13428 | C22: =+VLOOKUP(B22,DATOS1!$B$20:$E$140,2,0) -> PASACALLE EN BANNER 13 ONZAS MATE, DE 7.00m x 1.00m, INCLUYE UN PALO DE 1,20m DE LARGO EN CADA EXTREMO. | F22: =+VLOOKUP(B22,DATOS1!$B$20:$E$140,3,0) -> UN | G22: 1 | H22: =+VLOOKUP(B22,DATOS1!$B$20:$E$140,4,0) -> 343700 | I22: =+H22*G22 -> 343700
B23: 9169 | C23: =+VLOOKUP(B23,DATOS1!$B$20:$E$140,2,0) -> PALETA PARE-SIGA REGLAMENTADA | F23: =+VLOOKUP(B23,DATOS1!$B$20:$E$140,3,0) -> UN | G23: 4 | H23: =+VLOOKUP(B23,DATOS1!$B$20:$E$140,4,0) -> 32503 | I23: =+H23*G23 -> 130012
B24: 7555 | C24: =+VLOOKUP(B24,DATOS1!$B$20:$E$140,2,0) -> CINTA DE SEÑALIZACION CAL 4 (ROLLO 500mx0.10m) | F24: =+VLOOKUP(B24,DATOS1!$B$20:$E$140,3,0) -> UN | G24: 4 | H24: =+VLOOKUP(B24,DATOS1!$B$20:$E$140,4,0) -> 42090 | I24: =+H24*G24 -> 168360
C25: =CONCATENATE("SUBTOTAL ",C19, ) -> SUBTOTAL COMPONENTE B - SEÑALIZACION TEMPORAL | I25: =SUM(I21:I24) -> 3216288
C27: SUBTOTAL COMPONENTES A+B | I27: =+I25+I17 -> 20658590
C29: AIU | H29: 0.1543 | I29: =+I27*H29 -> 3187620.4
C31: SUBTOTAL | I31: =ROUND(SUM(I27:I30),2) -> 23846210

Sheet AIU PMT
B3: FORMATO
B4: MATRIZ PARA CÁLCULO DE AIU
B5: FONDO DE DESARROLLO LOCAL DE CIUDAD BOLIVAR
B6: AREA DE INFRAESTRUCTURA Y LOGISTICA
B9: OBJETO DE LA LICITACIÓN: | D9: EJECUTAR LAS OBRAS DE INTERVENCIÓN Y/O ADECUACIÓN Y/O MANTENIMIENTO PREVENTIVO Y/O CORRECTIVO DE LAS UNIDADES OPERATIVAS (JARDINES INFANTILES, CENTROS CRECER Y CENTRO DE DESARROLLO COMUNITARIO), A MONTO AGOTABLE POR EL SISTEMA DE PRECIOS UNITARIOS SIN FÓRMULA DE REAJUSTE, UBICADOS EN LA LOCALIDAD DE CIUDAD BOLIVAR EN BOGOTÁ D.C
B11: COSTO DIRECTO ESTIMADO PMT | F11: =+'PPTO PMT'!I27 -> 20658590 | G11: FECHA: XX/XX/2026
B12: TERMINO ESTIMADO DE EJECUCIÓN DE OBRA | F12: 5 | G12: MESES
B14: 3. IMPUESTOS Y GARANTÍAS
B15: 3.1 | C15: IMPUESTOS
B16: ÍTEM | C16: DESCRIPCIÓN | H16: IMPUESTO | J16: VALOR ($)
B17: =B15+0.001 -> 3.101 | C17: Contribución Especial (Impuesto de Guerra Ley 1738 DIC18-2014 prorroga 4 años) | H17: 0.05 | J17: =+H17*$F$11 -> 1032929.5
B18: =B17+0.001 -> 3.102 | C18: ICA (Ley 14 6jul1983, Res 219 25feb2004) | H18: 0.0076 | J18: =+H18*$F$11 -> 157005.28
B19: =B18+0.001 -> 3.103 | C19: Cuatro por mil | H19: 0.004 | J19: =+H19*$F$11 -> 82634.358
B20: =B19+0.001 -> 3.104 | C20: Retefuente Obra | H20: 0.02 | J20: =+H20*$F$11 -> 413171.79
B21: =B20+0.001 -> 3.105 | C21: Estampilla Unipedagógica (Dec 584 de 19 dic 2014) | H21: 0.005 | J21: =+H21*$F$11 -> 103292.95
B22: SUBTOTAL IMPUESTOS | J22: =SUM(J17:J21) -> 1789033.9
B24: 4.1 | C24: GARANTIAS
B25: ÍTEM | C25: DESCRIPCIÓN | E25: VR. BASE | F25: % ASEGURADO | G25: VIGENCIA AMPARO (MESES) | H25: TASA ASEGURADORA | J25: VALOR ($)
B26: =+B24+0.001 -> 4.101 | C26: Cumplimiento | D26: GARANTIA UNICA | E26: =+'PPTO PMT'!I31 -> 23846210 | F26: 0.3 | G26: =+F12+6 -> 11 | H26: 0.004 | J26: =(((((E26*F26)*H26)/12)*G26)+2500)*1.19 -> 34189.689
B27: =B26+0.001 -> 4.102 | C27: Salarios y Prestaciones Sociales | E27: =+E26 -> 23846210 | F27: 0.1 | G27: =+(12*3)+F12 -> 41 | H27: 0.003 | J27: =(((((E27*F27)*H27)/12)*G27)+2500)*1.19 -> 32061.414
B28: =B27+0.001 -> 4.103 | C28: Estabilidad y Calidad de la Obra | E28: =+E27 -> 23846210 | F28: 0.3 | G28: =+(12*3)+F12 -> 41 | H28: 0.003 | J28: =(((((E28*F28)*H28)/12)*G28)+2500)*1.19 -> 90234.243
B29: =B28+0.001 -> 4.104 | C29: Predios, labores y Operaciones- Vigencia (Decreto 1082 de 2015 Sección III) | D29: RESPONSABILIDAD CIVIL EXTRACONTRACTUAL | E29: =+E28 -> 23846210 | F29: 0 | G29: =+F12 -> 5 | H29: 0.004 | J29: =(((((E29*F29)*H29)/12)*G29))*1.19 -> 0
B31: SUBTOTAL GARANTIAS | J31: =SUM(J26:J30) -> 156485.35
B33: TOTAL IMPUESTOS Y GARANTÍAS | J33: =J22+J31 -> 1945519.2
B34: TOTAL IMPUESTOS Y GARANTÍAS EN PORCENTAJE DEL COSTO DIRECTO | J34: =J33/F11 -> 0.094174832
B36: A. ADMINISTRACIÓN (1 + 2 + 3) | J36: =+J12+J34 -> 0.094174832
B37: I. IMPREVISTOS | J37: 0.01
B38: U. UTILIDAD | J38: 0.05
B40: A.I.U. (ADMINISTRACIÓN, IMPREVISTOS Y UTILIDAD) | J40: =SUM(J36:J38) -> 0.15417483

Sheet DATOS1
B3: NO INCLUYE FACTOR PRESTACIONAL
B4: 9424 | C4: TARIFA MES - PERSONAL DE OBRA - AYUDANTE (INCLUYE FACTOR DE PRESTACIONES) | D4: MES | E4: 2922389
B5: 9098 | C5: TARIFA MES - PERSONAL AUXILIAR TÉCNICO - CADENERO 1 (NO INCLUYE FACTOR DE PRESTACIONES) | D5: MES | E5: 2316000
B6: 9099 | C6: TARIFA MES - PERSONAL AUXILIAR TÉCNICO - CADENERO 2 (NO INCLUYE FACTOR DE PRESTACIONES) | D6: MES | E6: 2018000
B7: 9100 | C7: TARIFA MES - PERSONAL AUXILIAR TÉCNICO - CONDUCTOR O MOTORISTA (NO INCLUYE FACTOR DE PRESTACIONES) | D7: MES | E7: 1750905
B8: 9101 | C8: TARIFA MES - PERSONAL DE OBRA - MAESTRO DE OBRA (NO INCLUYE FACTOR DE PRESTACIONES) | D8: MES | E8: 4488000
B9: 9102 | C9: TARIFA MES - PERSONAL ADMINISTRATIVO - ADMINISTRADOR (NO INCLUYE FACTOR DE PRESTACIONES) | D9: MES | E9: 3479000
B10: 9103 | C10: TARIFA MES - PERSONAL ADMINISTRATIVO - AUXILIAR ADMINISTRATIVO-ALMACENISTA (NO INCLUYE FACTOR DE PRESTACIONES) | D10: MES | E10: 2481000
B11: 9104 | C11: TARIFA MES - PERSONAL ADMINISTRATIVO - SECRETARIA 1 (NO INCLUYE FACTOR DE PRESTACIONES) | D11: MES | E11: 2018000
B12: 9105 | C12: TARIFA MES - PERSONAL ADMINISTRATIVO - SECRETARIA 2 (NO INCLUYE FACTOR DE PRESTACIONES) | D12: MES | E12: 1750905
B13: 9107 | C13: TARIFA MES - PROFESIONAL CATEGORÍA 1 (NO INCLUYE FACTOR DE PRESTACIONES) | D13: MES | E13: 17387000
B14: 9108 | C14: TARIFA MES - PROFESIONAL CATEGORÍA 2 (NO INCLUYE FACTOR DE PRESTACIONES) | D14: MES | E14: 13251000
B15: 9109 | C15: TARIFA MES - PROFESIONAL CATEGORÍA 3 (NO INCLUYE FACTOR DE PRESTACIONES) | D15: MES | E15: 11183000
B16: 9110 | C16: TARIFA MES - PROFESIONAL CATEGORÍA 4 (NO INCLUYE FACTOR DE PRESTACIONES) | D16: MES | E16: 9522000 | I16: 13830994
B17: 9111 | C17: TARIFA MES - PROFESIONAL CATEGORÍA 5 (NO INCLUYE FACTOR DE PRESTACIONES) | D17: MES | E17: 8589000 | I17: =+I16/E16 -> 1.4525304
B18: 9112 | C18: TARIFA MES - PROFESIONAL CATEGORÍA 6 (NO INCLUYE FACTOR DE PRESTACIONES) | D18: MES | E18: 7659000 | I18: 11133493 | J18: =+I18/E18 -> 1.4536484
B19: 9113 | C19: TARIFA MES - PROFESIONAL CATEGORÍA 7 (NO INCLUYE FACTOR DE PRESTACIONES) | D19: MES | E19: 5791000 | I19: 8428754 | J19: =+I19/E19 -> 1.455492
B20: 9084 | C20: TARIFA MES - PERSONAL TÉCNICO-TECNÓLOGO EN ÁREAS DE INGENIERÍA (NO INCLUYE FACTOR DE PRESTACIONES) | D20: MES | E20: 3584000
B21: 9085 | C21: TARIFA MES - PERSONAL TÉCNICO - AUXILIAR DE INGENIERÍA (NO INCLUYE FACTOR DE PRESTACIONES) | D21: MES | E21: 3150000
B22: 9086 | C22: TARIFA MES - PERSONAL TÉCNICO - DIBUJANTE 1 (NO INCLUYE FACTOR DE PRESTACIONES) | D22: MES | E22: 3303000
B23: 9087 | C23: TARIFA MES - PERSONAL TÉCNICO - DIBUJANTE 2 (NO INCLUYE FACTOR DE PRESTACIONES) | D23: MES | E23: 2670000
B24: 9088 | C24: TARIFA MES - PERSONAL TÉCNICO - TOPÓGRAFO INSPECTOR (NO INCLUYE FACTOR DE PRESTACIONES) | D24: MES | E24: 3736000
B25: 9089 | C25: TARIFA MES - PERSONAL TÉCNICO - LABORATORISTA INSPECTOR (NO INCLUYE FACTOR DE PRESTACIONES) | D25: MES | E25: 3310000
B26: 9090 | C26: TARIFA MES - PERSONAL TÉCNICO - LABORATORISTA AUXILIAR (NO INCLUYE FACTOR DE PRESTACIONES) | D26: MES | E26: 2316000
B27: 9091 | C27: TARIFA MES - PERSONAL TÉCNICO - OPERADOR EQUIPO PERFORACIÓN (INCLUYE FACTOR DE PRESTACIONES) | D27: MES | E27: 4690453
B28: 9092 | C28: TARIFA MES - PERSONAL TÉCNICO - OPERADOR AUXILIAR DE EQUIPO (INCLUYE FACTOR DE PRESTACIONES) | D28: MES | E28: 3264239
B29: 9093 | C29: TARIFA MES - PERSONAL TÉCNICO - INSPECTOR 1 (NO INCLUYE FACTOR DE PRESTACIONES) | D29: MES | E29: 2718000
B30: 9094 | C30: TARIFA MES - PERSONAL TÉCNICO - INSPECTOR 2 (NO INCLUYE FACTOR DE PRESTACIONES) | D30: MES | E30: 2447000
B31: 9095 | C31: TARIFA MES - PERSONAL TÉCNICO - TOPÓGRAFO AUXILIAR (NO INCLUYE FACTOR DE PRESTACIONES) | D31: MES | E31: 3064000
... B48: 9113 | C48: TARIFA MES - PROFESIONAL CATEGORÍA 7 (NO INCLUYE FACTOR DE PRESTACIONES) | D48: MES | E48: 5791000
B50: INCLUYE FACTOR PRESTACIONAL
B51: 9465 | C51: TARIFA MES - PROFESIONAL CATEGORÍA 1 (INCLUYE FACTOR DE PRESTACIONES) | D51: MES | E51: 25218989
B52: 9466 | C52: TARIFA MES - PROFESIONAL CATEGORÍA 2 (INCLUYE FACTOR DE PRESTACIONES) | D52: MES | E52: 19230337
B53: 9467 | C53: TARIFA MES - PROFESIONAL CATEGORÍA 3 (INCLUYE FACTOR DE PRESTACIONES) | D53: MES | E53: 16236011
B54: 9468 | C54: TARIFA MES - PROFESIONAL CATEGORÍA 4 (INCLUYE FACTOR DE PRESTACIONES) | D54: MES | E54: 13830994
B55: 9469 | C55: TARIFA MES - PROFESIONAL CATEGORÍA 5 (INCLUYE FACTOR DE PRESTACIONES) | D55: MES | E55: 12480071
B56: 9470 | C56: TARIFA MES - PROFESIONAL CATEGORÍA 6 (INCLUYE FACTOR DE PRESTACIONES) | D56: MES | E56: 11133493
B57: 9471 | C57: TARIFA MES - PROFESIONAL CATEGORÍA 7 (INCLUYE FACTOR DE PRESTACIONES) | D57: MES | E57: 8428754 | J57: =+E57/E19 -> 1.455492
B58: 9473 | C58: TARIFA MES - PERSONAL TÉCNICO - TECNÓLOGO EN ÁREAS DE INGENIERÍA (INCLUYE FACTOR DE PRESTACIONES) | D58: MES | E58: 5233165
B59: 9474 | C59: TARIFA MES - PERSONAL TÉCNICO - AUXILIAR DE INGENIERÍA (INCLUYE FACTOR DE PRESTACIONES) | D59: MES | E59: 4948184
...

Sheet DATOS2
C1: Código | D1: Nombre PERSONAL | E1: UM | F1: Precio | H1: Grupo de base de datos | I1: Código | J1: Nombre GASTOS OPERACIONALES | K1: UM | L1: Precio
C2: 6087 | D2: TARIFA JORNAL - PERSONAL DE OBRA - AYUDANTE (INCLUYE FACTOR DE PRESTACIONES) | E2: JR | F2: 97414 | H2: TARIFA _ EQUIPO | I2: 9116 | J2: TARIFA DIA - EQUIPO COMPLETO DE LABORATORIO - ESTUDIOS | K2: DIA | L2: 268000 | N2: DOTACIÓN (EPP) Y SEGURIDAD INDUSTRIAL | O2: 7568 | P2: EXTINTOR x 5LB | Q2: UN | R2: 45220
C3: 6088 | D3: TARIFA JORNAL - PERSONAL DE OBRA - OFICIAL (INCLUYE FACTOR DE PRESTACIONES) | E3: JR | F3: 121212 | H3: TARIFA _ EQUIPO | I3: 9117 | J3: TARIFA MES - EQUIPO COMPLETO DE LABORATORIO - ESTUDIOS | K3: MES | L3: 7732000 | N3: DOTACIÓN (EPP) Y SEGURIDAD INDUSTRIAL | O3: 7575 | P3: CAPA IMPERMEABLE CALIBRE 14 - 16 | Q3: UN | R3: 34050
C4: 7050 | D4: TARIFA HORA - PERSONAL DE OBRA - OFICIAL (INCLUYE FACTOR DE PRESTACIONES) | E4: HR | F4: 16529 | H4: TARIFA _ EQUIPO | I4: 9118 | J4: TARIFA DIA - EQUIPO COMPLETO DE LABORATORIO - INTERVENTORIAS | K4: DIA | L4: 461000 | N4: DOTACIÓN (EPP) Y SEGURIDAD INDUSTRIAL | O4: 7576 | P4: PROTECCION AUDITIVA DE INSERTAR (PAR) | Q4: UN | R4: 2000
C5: 7057 | D5: TARIFA HORA - PERSONAL DE OBRA - AYUDANTE (INCLUYE FACTOR DE PRESTACIONES) | E5: HR | F5: 13284 | H5: TARIFA _ EQUIPO | I5: 9119 | J5: TARIFA MES - EQUIPO COMPLETO DE LABORATORIO - INTERVENTORIAS | K5: MES | L5: 13668000 | N5: DOTACIÓN (EPP) Y SEGURIDAD INDUSTRIAL | O5: 7577 | P5: GAFAS DE SEGURIDAD | Q5: UN | R5: 8000
C6: 7246 | D6: TARIFA JORNAL - PERSONAL DE OBRA- TÉCNICO ELÉCTRICO (INCLUYE FACTOR DE PRESTACIONES) | E6: JR | F6: 139262 | H6: TARIFA _ EQUIPO | I6: 9120 | J6: TARIFA DIA - EQUIPO COMPLETO DE BATIMETRIA, HIDROMETRIA O SEDIMENTOMETRIA | K6: DIA | L6: 329000 | N6: DOTACIÓN (EPP) Y SEGURIDAD INDUSTRIAL | O6: 7578 | P6: GUANTES DE VAQUETA | Q6: UN | R6: 9055
C7: 7247 | D7: TARIFA HORA - PERSONAL DE OBRA- TÉCNICO ELÉCTRICO (INCLUYE FACTOR DE PRESTACIONES) | E7: HR | F7: 18990 | H7: TARIFA _ EQUIPO | I7: 9121 | J7: TARIFA MES - EQUIPO COMPLETO DE BATIMETRIA, HIDROMETRIA O SEDIMENTOMETRIA | K7: MES | L7: 9921000 | N7: DOTACIÓN (EPP) Y SEGURIDAD INDUSTRIAL | O7: 7579 | P7: MASCARILLA DESECHABLE | Q7: UN | R7: 750
C8: 7248 | D8: TARIFA JORNAL - PERSONAL DE OBRA - TECNICO PLOMERO (INCLUYE FACTOR DE PRESTACIONES) | E8: JR | F8: 139262 | H8: TARIFA _ EQUIPO | I8: 9122 | J8: TARIFA DIA - PLOTTER | K8: DIA | L8: 50353 | N8: DOTACIÓN (EPP) Y SEGURIDAD INDUSTRIAL | O8: 7580 | P8: CASCO DE SEGURIDAD DIELECTRICO | Q8: UN | R8: 23000
C9: 7249 | D9: TARIFA HORA - PERSONAL DE OBRA - TECNICO PLOMERO (INCLUYE FACTOR DE PRESTACIONES) | E9: HR | F9: 18990 | H9: TARIFA _ EQUIPO | I9: 9123 | J9: TARIFA MES - PLOTTER | K9: MES | L9: 1516361 | N9: DOTACIÓN (EPP) Y SEGURIDAD INDUSTRIAL | O9: 7582 | P9: PETO EN CARNAZA | Q9: UN | R9: 25000
C10: 7308 | D10: TARIFA MES - SMMLV | E10: MES | F10: 1750905 | H10: TARIFA _ ALQUILER DE VEHICULO | I10: 9164 | J10: TARIFA DIA - ALQUILER DE VEHICULO: CAMPERO, PICK-UP, CAMIONETA, CAMION O SIMILAR MAYOR A 2000cc DE CILINDRADA, MODELO 2026 A 2023. 100% DE LA TARIFA ESTABLECIDA. INCLUYE TODOS LOS COSTOS DE OPERACIÓN Y MANTENIMIENTO EXCEPTO EL SALARIO DEL CONDUCTOR. | K10: DIA | L10: 416000 | N10: DOTACIÓN (EPP) Y SEGURIDAD INDUSTRIAL | O10: 7583 | P10: PROTECTOR AUDITIVO TIPO COPA | Q10: UN | R10: 29750
C11: 7418 | D11: TARIFA MES - AUXILIO DE TRANSPORTE | E11: MES | F11: 249095 | H11: TARIFA _ ALQUILER DE VEHICULO | I11: 9165 | J11: TARIFA MES - ALQUILER DE VEHICULO: CAMPERO, PICK-UP, CAMIONETA, CAMION O SIMILAR DE 1300cc A 2000cc DE CILINDRADA, MODELO 2026 A 2023. 100% DE LA TARIFA ESTABLECIDA. INCLUYE TODOS LOS COSTOS DE OPERACIÓN Y MANTENIMIENTO EXCEPTO EL SALARIO DEL CONDUCTOR | K11: MES | L11: 8778000 | N11: DOTACIÓN (EPP) Y SEGURIDAD INDUSTRIAL | O11: 7819 | P11: EXTINTOR POLVO QUIMICO SECO DE 20LB TIPO ABC METALICO CON GANCHO Y AVISO | Q11: UN | R11: 93900
C12: 8102 | D12: TARIFA MES OPERADOR EQUIPO (INCLUYE FACTOR DE PRESTACIONES) | E12: MES | F12: 3309125 | H12: TARIFA _ ALQUILER DE VEHICULO | I12: 9166 | J12: TARIFA MES - ALQUILER DE VEHICULO: CAMPERO, PICK-UP, CAMIONETA, CAMION O SIMILAR MAYOR A 2000cc DE CILINDRADA, MODELO 2026 A 2023. 100% DE LA TARIFA ESTABLECIDA. INCLUYE TODOS LOS COSTOS DE OPERACIÓN Y MANTENIMIENTO EXCEPTO EL SALARIO DEL CONDUCTOR | K12: MES | L12: 12539000 | N12: DOTACIÓN (EPP) Y SEGURIDAD INDUSTRIAL | O12: 7821 | P12: BOTA LISA DIELECTRICA CON PUNTERA EN ACERO DE CAUCHO, CINTA AMARILLA, PUNTERA Y PLANTILLA EN ACERO | Q12: PAR | R12: 176120
C13: 8256 | D13: TARIFA JORNAL - PERSONAL DE OBRA - SOLDADOR (INCLUYE FACTOR DE PRESTACIONES) | E13: JR | F13: 121212 | H13: TARIFA _ ALQUILER DE VEHICULO | I13: 9167 | J13: TARIFA DIA - ALQUILER DE VEHICULO: CAMPERO, PICK-UP, CAMIONETA, CAMION O SIMILAR CON CAPACIDAD DE CARGA DE 3 TON O MAS, MODELO 2026 A 2023. 100% DE LA TARIFA ESTABLECIDA. INCLUYE TODOS LOS COSTOS DE OPERACIÓN Y MANTENIMIENTO EXCEPTO EL SALARIO DEL CONDUCTOR. | K13: DIA | L13: 570000 | N13: DOTACIÓN (EPP) Y SEGURIDAD INDUSTRIAL | O13: 7822 | P13: BOTA CUERO LISA NEGRA SEGURIDAD PUNTERA DE ACERO | Q13: PAR | R13: 96900
... C48: 9111 | D48: TARIFA MES - PROFESIONAL CATEGORÍA 5 (NO INCLUYE FACTOR DE PRESTACIONES) | E48: MES | F48: 8589000 | H48: MUEBLES - EQUIPOS Y ELEMENTOS OFICINA | I48: 11625 | J48: MUEBLE O MESA CON PUERTAS EN ACERO INOXIDABLE 2.65m x 0.60m x 0.90m | K48: UN | L48: 9536125 | N48: ELEMENTOS DE BIOSEGURIDAD | O48: 12022 | P48: OVEROL TYVEK BLANCO | Q48: UN | R48: 32900
C49: 9112 | D49: TARIFA MES - PROFESIONAL CATEGORÍA 6 (NO INCLUYE FACTOR DE PRESTACIONES) | E49: MES | F49: 7659000 | N49: ELEMENTOS DE BIOSEGURIDAD | O49: 12023 | P49: RESPIRADOR ELASTOMÉRICO MEDIA CARA | Q49: UN | R49: 62475
C50: 9113 | D50: TARIFA MES - PROFESIONAL CATEGORÍA 7 (NO INCLUYE FACTOR DE PRESTACIONES) | E50: MES | F50: 5791000 | N50: ELEMENTOS DE BIOSEGURIDAD | O50: 12024 | P50: FILTRO P-100 PARTÍCULAS S/ACEITE HUMOS METÁLICOS VAPORES | Q50: PAR | R50: 39000
C51: 9254 | D51: TARIFA JORNAL - PROFESIONAL CATEGORÍA 6 (NO INCLUYE FACTOR DE PRESTACIONES) | E51: JR | F51: 255300 | N51: ELEMENTOS DE BIOSEGURIDAD | O51: 12025 | P51: MONOGAFAS CON VENTILACIÓN DIRECTA | Q51: PAR | R51: 11100
C52: 9314 | D52: TARIFA JORNAL - PERSONAL DE OBRA - PLOMERO ELECTRICISTA (INCLUYE FACTOR DE PRESTACIONES) | E52: JR | F52: 139262 | N52: ELEMENTOS DE BIOSEGURIDAD | O52: 12026 | P52: GORRO DESECHABLE COFIA BLANCO | Q52: UN | R52: 268
C53: 9317 | D53: TARIFA JORNAL - PERSONAL DE OBRA - OPERARIO (INCLUYE FACTOR DE PRESTACIONES) | E53: JR | F53: 157314 | N53: ELEMENTOS DE BIOSEGURIDAD | O53: 12027 | P53: VYNIPEL DE 50cm x 50cm CALIBRE 6 | Q53: ROLLO | R53: 34140
C54: 9318 | D54: TARIFA HORA - PERSONAL DE OBRA - OPERARIO (INCLUYE FACTOR DE PRESTACIONES) | E54: HR | F54: 21451 | N54: ELEMENTOS DE BIOSEGURIDAD | O54: 12028 | P54: DISPOSICIÓN FINAL DE RESIDUOS PELIGROSOS (MATERIALES CON CARACTERÍSTICAS DE PELIGROSIDAD TÓXICA, CORROSIVO, INFLAMABLES, EXPLOSIVOS Y/O ESPECIALES (RESIDUOS APROVECHABLES MEZCLADOS, COLCHONES, SOFÁS, FIBRAS DE VIDRIO Y BOLSAS DE CEMENTOS) | Q54: KG | R54: 2118
C55: 9319 | D55: TARIFA JORNAL- PERSONAL DE OBRA - OPERARIO HORARIO NOCTURNO (INCLUYE FACTOR DE PRESTACIONES) | E55: JR | F55: 214862 | N55: ELEMENTOS DE BIOSEGURIDAD | O55: 12029 | P55: PETO PVC | Q55: UN | R55: 20468
C56: 9320 | D56: TARIFA JORNAL - PERSONAL TÉCNICO - INSPECTOR 2 (INCLUYE FACTOR DE PRESTACIONES) | E56: JR | F56: 131010 | N56: ELEMENTOS DE BIOSEGURIDAD | O56: 12030 | P56: CANECA PLÁSTICA CON TAPA 60 LTS | Q56: UN | R56: 65000
C57: 9321 | D57: TARIFA JORNAL - PERSONAL TÉCNICO - INSPECTOR 1 (INCLUYE FACTOR DE PRESTACIONES) | E57: JR | F57: 144089 | N57: ELEMENTOS DE BIOSEGURIDAD | O57: 12031 | P57: TAPABOCAS N95 SIN FILTRO. (Según Apéndice Bioseguridad Covid 19) | Q57: UN | R57: 2800
C58: 9323 | D58: TARIFA JORNAL - PERSONAL TÉCNICO - TOPÓGRAFO INSPECTOR (INCLUYE FACTOR DE PRESTACIONES) | E58: JR | F58: 181776 | N58: ELEMENTOS DE BIOSEGURIDAD | O58: 12039 | P58: TAPABOCAS DESECHABLE. _(Según Apéndice Bioseguridad Covid 19) | Q58: UN | R58: 336
C59: 9324 | D59: TARIFA JORNAL - PERSONAL AUXILIAR TÉCNICO - CADENERO 2 (INCLUYE FACTOR DE PRESTACIONES) | E59: JR | F59: 110304 | N59: ELEMENTOS DE BIOSEGURIDAD | O59: 12040 | P59: HIPOCLORITO AL 5%._ (Según Apéndice Bioseguridad Covid 19) | Q59: LT | R59: 2800
C60: 9423 | D60: TARIFA MES - PERSONAL DE OBRA - TÉCNICO (PLOMERO_ELECTRICISTA) (INCLUYE FACTOR DE PRESTACIONES) | E60: MES | F60: 4177884 | N60: ELEMENTOS DE BIOSEGURIDAD | O60: 12267 | P60: LAVAMANOS PORTATIL DE PEDAL TIPO MANOS LIBRES. | Q60: UN | R60: 1097900
... C167: 13445 | D167: TARIFA MES - PERSONAL AUXILIAR TÉCNICO - CONDUCTOR O MOTORISTA - HORARIO NOCTURNO (INCLUYE FACTOR DE PRESTACIONES) | E167: MES | F167: 3945223 | N167: GESTION SOCIAL | O167: 6085 | P167: LEVANTAMIENTO DE ACTA DE VECINDAD COMPLETA. (INCLUYE PERSONAL, LOGISTICA, ELABORACION DE FORMATO, PAPELERIA, FOTOGRAFIA Y VIDEO). | Q167: UN PRE | R167: 47225
N168: GESTIÓN AMBIENTAL | O168: 6086 | P168: ACTUALIZACION DE SISTEMA DE GESTION DEL ARBOLADO URBANO UBICADO EN TERRENO. SIGAU POR ARBOL PARA TALA, BLOQUEO Y TRASLADO | Q168: UN | R168: 16669
N169: GESTIÓN AMBIENTAL | O169: 6087 | P169: ACTUALIZACION DE SISTEMA DE GESTION DEL ARBOLADO URBANO UBICADO EN TERRENO. SIGAU POR ARBOL PARA PLANTACION | Q169: UN | R169: 15441
N170: GESTIÓN AMBIENTAL | O170: 6088 | P170: LEVANTAMIENTO DE INVENTARIO FORESTAL. INCLUYE ELABORACION FICHA FORESTAL Y VISITA A TERRENO | Q170: FICHA | R170: 26177
N171: OTROS-SEÑALIZACIÓN | O171: 6186 | P171: ALQUILER BARRERA RELLENABLE (2.00X0.55X1.00M) | Q171: UN/MES | R171: 19693
N172: GESTION SOCIAL | O172: 6190 | P172: CANALIZACIÓN DE TRÁFICO (INSTALACIÓN, MANTENIMIENTO Y DESINSTALACIÓN DIARIO) CON SEÑALIZADORES TUBULARES COLOMBINA PLÁSTICA Y TRIPLE CINTA DE SEÑALIZACIÓN (INCLUYE ALQUILER DE SEÑALIZADORES TUBULARES). LONGITUD 50 METROS. | Q172: UN/DIA | R172: 782
N173: OTROS-SEÑALIZACIÓN | O173: 6364 | P173: SEÑAL ELEVADA BS, TABLERO 3.097M X 2.228M REFLECTIVO DIAMANTE, SOPORTE EN TUBO GALVANIZADO DE 12" EN 7M. CERCHA EN TUBO DE 4" EN 3MM Y 2" EN 2MM. INCLUYE SUMINISTRO E INSTALACIÓN | Q173: UN | R173: 7864390
N174: OTROS-SEÑALIZACIÓN | O174: 6365 | P174: SEÑAL INFORMATIVA SI-05, TABLERO 1.401M X 0.512M REFLECTIVO ALTA INTENSIDAD, PEDESTAL EN ÁNGULO DE 2"X2"X1/4" H= 2.60M EN PINTURA ELECTROSTÁTICA. INCLUYE SUMINISTRO E INSTALACIÓN | Q174: UN | R174: 1174162
N175: OTROS-SEÑALIZACIÓN | O175: 6366 | P175: SEÑAL INFORMATIVA SI-05, TABLERO 1.167M X 0.512M REFLECTIVO ALTA INTENSIDAD, PEDESTAL EN ÁNGULO DE 2"X2"X1/4" H= 2.60M EN PINTURA ELECTROSTÁTICA. INCLUYE SUMINISTRO E INSTALACIÓN | Q175: UN | R175: 763033
N176: OTROS-SEÑALIZACIÓN | O176: 6367 | P176: SEÑAL INFORMATIVA SI-05, TABLERO 1.190M X 0.512M REFLECTIVO ALTA INTENSIDAD, PEDESTAL EN ÁNGULO DE 2"X2"X1/4" H= 2.60M EN PINTURA ELECTROSTÁTICA. INCLUYE SUMINISTRO E INSTALACIÓN | Q176: UN | R176: 666599
N177: OTROS-SEÑALIZACIÓN | O177: 6371 | P177: SEÑAL ELEVADA BS, TABLERO 2.414M X 1.380M REFLECTIVO DIAMANTE, SOPORTE EN TUBO GALVANIZADO DE 12" EN 7M. CERCHA EN TUBO DE 4" EN 3MM Y 2" EN 2MM. INCLUYE SUMINISTRO E INSTALACIÓN | Q177: UN | R177: 7864390
N178: OTROS-SEÑALIZACIÓN | O178: 6372 | P178: SEÑAL ELEVADA BS, TABLERO 3.322M X 2.111M REFLECTIVO DIAMANTE, SOPORTE EN TUBO GALVANIZADO DE 12" EN 7M. CERCHA EN TUBO DE 4" EN 3MM Y 2" EN 2MM. INCLUYE SUMINISTRO E INSTALACIÓN | Q178: UN | R178: 8944501
N179: OTROS-SEÑALIZACIÓN | O179: 6373 | P179: REEMPLAZO DE TABLERO SEÑAL ELEVADA BS, POR TABLERO GALVANIZADO CALIBRE 20 3.914M X 1.972M REFLECTIVO DIAMANTE. INCLUYE SUMINISTRO E INSTALACIÓN | Q179: UN | R179: 4934132
... N270: GESTION SOCIAL | O270: 10348 | P270: PASACALLE EN BANNER 13 ONZAS MATE, DE 7.00m x 1.00m, INCLUYE UN PALO DE 1,20m DE LARGO EN CADA EXTREMO. INCLUYE SUMINISTRO E INSTALACION. | Q270: UN | R270: 388075
