Workbook

Sheet Cálculos
F5: INGEAL SA | G5: AIRELEC | H5: INTELCON | I5: SGCC-MC-CV-902-2025 (HISTORICO) | J5: Cotización 5
B6: Item | C6: Descripcion | D6: Especificaciones Tecnicas | E6: Cant | F6: Valor Unitario | G6: Valor Unitario | H6: Valor Unitario | I6: Valor Unitario | J6: Valor Unitario | K6: Media Aritmetica | L6: Desviacion Estandar | M6: Mediana | N6: Media Geometrica | O6: Media Armonica | P6: Min | Q6: Max
B7: {=_xlfn.SEQUENCE(30,1,1)} -> 1 | C7: "RENOVACIÓN DE GARANTÍA SOBRE EL SISTEMA DE AIRES ACONDICIONADOS DE PRECISIÓN APC UBICADO EN EL DATACENTER PRINCIPAL DE LA GOBERNACIÓN DE CUNDINAMARCA Incluye: 1. Garantía del equipo Marca APC, Modelo ACRP 100, Serie: JK1429002963 (12 meses) 2. Garantía del equipo Marca APC, Modelo ACRP 100, Serie: UK1514103884 (12 meses) 3. Rutinas de mantenimiento: Mantenimientos correctivos ilimitados, 3 Mantenimientos preventivos y Servicio de Atención de emergencia durante la duración del contrato." | D7: Banco de baterías (El banco de baterías se compone de una cantidad de baterías conectadas en serie, para su consolidación en voltaje y corriente exigidos por la UPS trifásica.) el cual respalda el suministro eléctrico para UPS marca EATON Tripp Lite modelo SU80K. Estas baterías deben ser selladas libres de mantenimiento, tipo plomo-ácido, diseñadas para cinco (5) años de vida útil. Garantía de un (01) año con opción de un (01) año adicional de garantía. La fecha de fabricación de las baterías debe ser igual o inferior a 6 meses. | E7: 1 | F7: =113312604 -> 113312604 | G7: =119785200 -> 119785200 | H7: =124643000 -> 124643000 | I7: =89299373.1*1.0556 -> 94264418 | K7: =AVERAGE(F7:J7) -> 1.1300131e+08 | L7: =STDEVA(F7:J7) -> 13325641 | M7: =MEDIAN(F7:J7) -> 116548902 | N7: =GEOMEAN(F7:J7) -> 1.1237618e+08 | O7: =HARMEAN(F7:J7) -> 1.1171689e+08 | P7: =MIN(F7:J7) -> 94264418 | Q7: =MAX(F7:J7) -> 124643000
B8: 2 | K8: =AVERAGE(F8:J8) -> #DIV/0! | L8: =STDEVA(F8:J8) -> #DIV/0! | M8: =MEDIAN(F8:J8) -> #NUM! | N8: =GEOMEAN(F8:J8) -> #NUM! | O8: =HARMEAN(F8:J8) -> #N/A | P8: =MIN(F8:J8) -> 0 | Q8: =MAX(F8:J8) -> 0
B9: 3 | K9: =AVERAGE(F9:J9) -> #DIV/0! | L9: =STDEVA(F9:J9) -> #DIV/0! | M9: =MEDIAN(F9:J9) -> #NUM! | N9: =GEOMEAN(F9:J9) -> #NUM! | O9: =HARMEAN(F9:J9) -> #N/A | P9: =MIN(F9:J9) -> 0 | Q9: =MAX(F9:J9) -> 0
B10: 4 | K10: =AVERAGE(F10:J10) -> #DIV/0! | L10: =STDEVA(F10:J10) -> #DIV/0! | M10: =MEDIAN(F10:J10) -> #NUM! | N10: =GEOMEAN(F10:J10) -> #NUM! | O10: =HARMEAN(F10:J10) -> #N/A | P10: =MIN(F10:J10) -> 0 | Q10: =MAX(F10:J10) -> 0
B11: 5 | K11: =AVERAGE(F11:J11) -> #DIV/0! | L11: =STDEVA(F11:J11) -> #DIV/0! | M11: =MEDIAN(F11:J11) -> #NUM! | N11: =GEOMEAN(F11:J11) -> #NUM! | O11: =HARMEAN(F11:J11) -> #N/A | P11: =MIN(F11:J11) -> 0 | Q11: =MAX(F11:J11) -> 0
B12: 6 | K12: =AVERAGE(F12:J12) -> #DIV/0! | L12: =STDEVA(F12:J12) -> #DIV/0! | M12: =MEDIAN(F12:J12) -> #NUM! | N12: =GEOMEAN(F12:J12) -> #NUM! | O12: =HARMEAN(F12:J12) -> #N/A | P12: =MIN(F12:J12) -> 0 | Q12: =MAX(F12:J12) -> 0
B13: 7 | K13: =AVERAGE(F13:J13) -> #DIV/0! | L13: =STDEVA(F13:J13) -> #DIV/0! | M13: =MEDIAN(F13:J13) -> #NUM! | N13: =GEOMEAN(F13:J13) -> #NUM! | O13: =HARMEAN(F13:J13) -> #N/A | P13: =MIN(F13:J13) -> 0 | Q13: =MAX(F13:J13) -> 0
B14: 8 | K14: =AVERAGE(F14:J14) -> #DIV/0! | L14: =STDEVA(F14:J14) -> #DIV/0! | M14: =MEDIAN(F14:J14) -> #NUM! | N14: =GEOMEAN(F14:J14) -> #NUM! | O14: =HARMEAN(F14:J14) -> #N/A | P14: =MIN(F14:J14) -> 0 | Q14: =MAX(F14:J14) -> 0
B15: 9 | K15: =AVERAGE(F15:J15) -> #DIV/0! | L15: =STDEVA(F15:J15) -> #DIV/0! | M15: =MEDIAN(F15:J15) -> #NUM! | N15: =GEOMEAN(F15:J15) -> #NUM! | O15: =HARMEAN(F15:J15) -> #N/A | P15: =MIN(F15:J15) -> 0 | Q15: =MAX(F15:J15) -> 0
B16: 10 | K16: =AVERAGE(F16:J16) -> #DIV/0! | L16: =STDEVA(F16:J16) -> #DIV/0! | M16: =MEDIAN(F16:J16) -> #NUM! | N16: =GEOMEAN(F16:J16) -> #NUM! | O16: =HARMEAN(F16:J16) -> #N/A | P16: =MIN(F16:J16) -> 0 | Q16: =MAX(F16:J16) -> 0
B17: 11 | K17: =AVERAGE(F17:J17) -> #DIV/0! | L17: =STDEVA(F17:J17) -> #DIV/0! | M17: =MEDIAN(F17:J17) -> #NUM! | N17: =GEOMEAN(F17:J17) -> #NUM! | O17: =HARMEAN(F17:J17) -> #N/A | P17: =MIN(F17:J17) -> 0 | Q17: =MAX(F17:J17) -> 0
B18: 12 | K18: =AVERAGE(F18:J18) -> #DIV/0! | L18: =STDEVA(F18:J18) -> #DIV/0! | M18: =MEDIAN(F18:J18) -> #NUM! | N18: =GEOMEAN(F18:J18) -> #NUM! | O18: =HARMEAN(F18:J18) -> #N/A | P18: =MIN(F18:J18) -> 0 | Q18: =MAX(F18:J18) -> 0
B19: 13 | K19: =AVERAGE(F19:J19) -> #DIV/0! | L19: =STDEVA(F19:J19) -> #DIV/0! | M19: =MEDIAN(F19:J19) -> #NUM! | N19: =GEOMEAN(F19:J19) -> #NUM! | O19: =HARMEAN(F19:J19) -> #N/A | P19: =MIN(F19:J19) -> 0 | Q19: =MAX(F19:J19) -> 0
... B32: 26 | K32: =AVERAGE(F32:J32) -> #DIV/0! | L32: =STDEVA(F32:J32) -> #DIV/0! | M32: =MEDIAN(F32:J32) -> #NUM! | N32: =GEOMEAN(F32:J32) -> #NUM! | O32: =HARMEAN(F32:J32) -> #N/A | P32: =MIN(F32:J32) -> 0 | Q32: =MAX(F32:J32) -> 0
B33: 27
B34: 28 | K34: =K7*1.19 -> 1.3447155e+08
B35: 29
B36: 30

Sheet Variación
B1: PORCENTAJE DE VARIACIÓN
B2: Item | C2: INGEAL SA | D2: AIRELEC | E2: INTELCON | F2: SGCC-MC-CV-902-2025 (HISTORICO) | G2: Cotización 5 | H2: % de variación promedio por Ítem
B3: 1 | C3: =Cálculos!K7/Cálculos!F7 -> 0.99725275 | D3: =Cálculos!K7/Cálculos!G7 -> 0.94336617 | E3: =Cálculos!K7/Cálculos!H7 -> 0.90659969 | F3: =Cálculos!K7/Cálculos!I7 -> 1.1987695 | H3: =AVERAGE(C3:G3) -> 1.011497
B4: 2 | C4: =Cálculos!#REF!/Cálculos!#REF! -> #REF! | D4: =Cálculos!#REF!/Cálculos!#REF! -> #REF! | E4: =Cálculos!#REF!/Cálculos!#REF! -> #REF! | F4: =Cálculos!#REF!/Cálculos!#REF! -> #REF! | H4: =AVERAGE(C4:G4) -> #REF!
B5: 3 | C5: =Cálculos!#REF!/Cálculos!#REF! -> #REF! | D5: =Cálculos!#REF!/Cálculos!#REF! -> #REF! | E5: =Cálculos!#REF!/Cálculos!#REF! -> #REF! | F5: =Cálculos!#REF!/Cálculos!#REF! -> #REF! | H5: =AVERAGE(C5:G5) -> #REF!
B6: 4 | C6: =Cálculos!#REF!/Cálculos!#REF! -> #REF! | D6: =Cálculos!#REF!/Cálculos!#REF! -> #REF! | E6: =Cálculos!#REF!/Cálculos!#REF! -> #REF! | F6: =Cálculos!#REF!/Cálculos!#REF! -> #REF! | H6: =AVERAGE(C6:G6) -> #REF!
B7: 5 | C7: =Cálculos!#REF!/Cálculos!#REF! -> #REF! | D7: =Cálculos!#REF!/Cálculos!#REF! -> #REF! | E7: =Cálculos!#REF!/Cálculos!#REF! -> #REF! | H7: =AVERAGE(C7:G7) -> #REF!
B8: 6 | H8: =AVERAGE(C8:G8) -> #DIV/0!
B9: 7 | H9: =AVERAGE(C9:G9) -> #DIV/0!
B10: 8 | H10: =AVERAGE(C10:G10) -> #DIV/0!
B11: 9 | H11: =AVERAGE(C11:G11) -> #DIV/0!
B12: 10 | H12: =AVERAGE(C12:G12) -> #DIV/0!
B13: 11 | H13: =AVERAGE(C13:G13) -> #DIV/0!
B14: 12 | H14: =AVERAGE(C14:G14) -> #DIV/0!
B15: 13 | H15: =AVERAGE(C15:G15) -> #DIV/0!
B16: 14 | H16: =AVERAGE(C16:G16) -> #DIV/0!
B17: 15 | H17: =AVERAGE(C17:G17) -> #DIV/0!
B18: 16 | H18: =AVERAGE(C18:G18) -> #DIV/0!
B19: 17 | H19: =AVERAGE(C19:G19) -> #DIV/0!
... B28: 26 | H28: =AVERAGE(C28:G28) -> #DIV/0!

Sheet Precio unitario
B1: ITEMS | C1: MEDIA ARITMETICA | D1: MEDIA GEOMETRICA | E1: MEDIA ARMONICA (APLICABLE A VARIACIONES PROMEDIO DE DATOS SUPERIORES AL 40%) | F1: PRECIO UNITARIO OFICIAL ESTIMADO DE ACUERDO CON LOS CRITERIOS PARA APLICAR LA MEDIA
C2: (APLICABLE A VARIACIONES PROMEDIO DE DATOS ENTRE EL 0% Y EL 10%) | D2: (APLICABLE A VARIACION ES PROMEDIO DE DATOS ENTRE EL 11% Y EL 40%)
B3: 1 | C3: =Cálculos!K7 -> 1.1300131e+08 | D3: =Cálculos!N7 -> 1.1237618e+08 | E3: =Cálculos!O7 -> 1.1171689e+08 | F3: =C3 -> 1.1300131e+08
B4: 2 | C4: =Cálculos!#REF! -> #REF! | D4: =Cálculos!#REF! -> #REF! | E4: =Cálculos!#REF! -> #REF! | F4: =C4 -> #REF!
B5: 3 | C5: =Cálculos!#REF! -> #REF! | D5: =Cálculos!#REF! -> #REF! | E5: =Cálculos!#REF! -> #REF! | F5: =C5 -> #REF!
B6: 4 | C6: =Cálculos!#REF! -> #REF! | D6: =Cálculos!#REF! -> #REF! | E6: =Cálculos!#REF! -> #REF! | F6: =C6 -> #REF!
B7: 5 | C7: =Cálculos!#REF! -> #REF! | D7: =Cálculos!#REF! -> #REF! | E7: =Cálculos!#REF! -> #REF! | F7: =C7 -> #REF!
B8: 6 | C8: =Cálculos!K8 -> #DIV/0! | D8: =Cálculos!N8 -> #NUM! | E8: =Cálculos!O8 -> #N/A | F8: =C8 -> #DIV/0!
B9: 7 | C9: =Cálculos!K9 -> #DIV/0! | D9: =Cálculos!N9 -> #NUM! | E9: =Cálculos!O9 -> #N/A | F9: =C9 -> #DIV/0!
B10: 8 | C10: =Cálculos!K10 -> #DIV/0! | D10: =Cálculos!N10 -> #NUM! | E10: =Cálculos!O10 -> #N/A | F10: =C10 -> #DIV/0!
B11: 9 | C11: =Cálculos!K11 -> #DIV/0! | D11: =Cálculos!N11 -> #NUM! | E11: =Cálculos!O11 -> #N/A | F11: =C11 -> #DIV/0!
B12: 10 | C12: =Cálculos!K12 -> #DIV/0! | D12: =Cálculos!N12 -> #NUM! | E12: =Cálculos!O12 -> #N/A | F12: =C12 -> #DIV/0!
B13: 11 | C13: =Cálculos!K13 -> #DIV/0! | D13: =Cálculos!N13 -> #NUM! | E13: =Cálculos!O13 -> #N/A | F13: =C13 -> #DIV/0!
B14: 12 | C14: =Cálculos!K14 -> #DIV/0! | D14: =Cálculos!N14 -> #NUM! | E14: =Cálculos!O14 -> #N/A | F14: =C14 -> #DIV/0!
B15: 13 | C15: =Cálculos!K15 -> #DIV/0! | D15: =Cálculos!N15 -> #NUM! | E15: =Cálculos!O15 -> #N/A | F15: =C15 -> #DIV/0!
B16: 14 | C16: =Cálculos!K16 -> #DIV/0! | D16: =Cálculos!N16 -> #NUM! | E16: =Cálculos!O16 -> #N/A | F16: =C16 -> #DIV/0!
B17: 15 | C17: =Cálculos!K17 -> #DIV/0! | D17: =Cálculos!N17 -> #NUM! | E17: =Cálculos!O17 -> #N/A | F17: =C17 -> #DIV/0!
B18: 16 | C18: =Cálculos!K18 -> #DIV/0! | D18: =Cálculos!N18 -> #NUM! | E18: =Cálculos!O18 -> #N/A | F18: =C18 -> #DIV/0!
B19: 17 | C19: =Cálculos!K19 -> #DIV/0! | D19: =Cálculos!N19 -> #NUM! | E19: =Cálculos!O19 -> #N/A | F19: =C19 -> #DIV/0!
... B28: 26 | C28: =Cálculos!K28 -> #DIV/0! | D28: =Cálculos!N28 -> #NUM! | E28: =Cálculos!O28 -> #N/A | F28: =C28 -> #DIV/0!

Sheet Valor total
B4: ITEM | C4: DESCRIPCION | D4: CANT | E4: VALOR UNITARIO | F4: IVA | G4: VALOR TOTAL
B5: 1 | C5: "RENOVACIÓN DE GARANTÍA SOBRE EL SISTEMA DE AIRES ACONDICIONADOS DE PRECISIÓN APC UBICADO EN EL DATACENTER PRINCIPAL DE LA GOBERNACIÓN DE CUNDINAMARCA Incluye: 1. Garantía del equipo Marca APC, Modelo ACRP 100, Serie: JK1429002963 (12 meses) 2. Garantía del equipo Marca APC, Modelo ACRP 100, Serie: UK1514103884 (12 meses) 3. Rutinas de mantenimiento: Mantenimientos correctivos ilimitados, 3 Mantenimientos preventivos y Servicio de Atención de emergencia durante la duración del contrato." | D5: 1 | E5: ='Precio unitario'!F3 -> 1.1300131e+08 | F5: =E5*19% -> 21470248 | G5: =SUM(E5:F5)*D5 -> 1.3447155e+08
B6: 6 | E6: ='Precio unitario'!F8 -> #DIV/0! | F6: =E6*19% -> #DIV/0! | G6: =SUM(E6:F6)*D6 -> #DIV/0!
B7: 7 | E7: ='Precio unitario'!F9 -> #DIV/0! | F7: =E7*19% -> #DIV/0! | G7: =SUM(E7:F7)*D7 -> #DIV/0!
B8: 8 | E8: ='Precio unitario'!F10 -> #DIV/0! | F8: =E8*19% -> #DIV/0! | G8: =SUM(E8:F8)*D8 -> #DIV/0!
B9: 9 | E9: ='Precio unitario'!F11 -> #DIV/0! | F9: =E9*19% -> #DIV/0! | G9: =SUM(E9:F9)*D9 -> #DIV/0!
B10: 10 | E10: ='Precio unitario'!F12 -> #DIV/0! | F10: =E10*19% -> #DIV/0! | G10: =SUM(E10:F10)*D10 -> #DIV/0!
B11: 11 | E11: ='Precio unitario'!F13 -> #DIV/0! | F11: =E11*19% -> #DIV/0! | G11: =SUM(E11:F11)*D11 -> #DIV/0!
B12: 12 | E12: ='Precio unitario'!F14 -> #DIV/0! | F12: =E12*19% -> #DIV/0! | G12: =SUM(E12:F12)*D12 -> #DIV/0!
B13: 13 | E13: ='Precio unitario'!F15 -> #DIV/0! | F13: =E13*19% -> #DIV/0! | G13: =SUM(E13:F13)*D13 -> #DIV/0!
B14: 14 | E14: ='Precio unitario'!F16 -> #DIV/0! | F14: =E14*19% -> #DIV/0! | G14: =SUM(E14:F14)*D14 -> #DIV/0!
B15: 15 | E15: ='Precio unitario'!F17 -> #DIV/0! | F15: =E15*19% -> #DIV/0! | G15: =SUM(E15:F15)*D15 -> #DIV/0!
B16: 16 | E16: ='Precio unitario'!F18 -> #DIV/0! | F16: =E16*19% -> #DIV/0! | G16: =SUM(E16:F16)*D16 -> #DIV/0!
B17: 17 | E17: ='Precio unitario'!F19 -> #DIV/0! | F17: =E17*19% -> #DIV/0! | G17: =SUM(E17:F17)*D17 -> #DIV/0!
... B26: 26 | E26: ='Precio unitario'!F28 -> #DIV/0! | F26: =E26*19% -> #DIV/0! | G26: =SUM(E26:F26)*D26 -> #DIV/0!
F27: TOTAL | G27: =G5 -> 1.3447155e+08
