Workbook

Sheet N8130
A1: =COUNT(E188:E188) -> 0 | L1: =G388 -> 9.0872322
A2: =+#REF! -> #REF! | B2: Pymes-Individuales
B3: PERIODO ANTERIOR 2025
B4: NIT | C4: Razón social de la sociedad | D4: Clasificación Industrial Internacional Uniforme Versión 4 A.C | E4: Activos corrientes totales | F4: Total de activos | G4: Pasivos corrientes totales | H4: Total pasivos | I4: Patrimonio total | J4: Ganancia (pérdida), antes de impuestos | K4: Ganancia (pérdida) por actividades de operación | L4: Costos financieros
B5: 800051393 | C5: APOREMA S.A.S | D5: M7490 - Otras actividades profesionales, científicas y técnicas n.c.p. | E5: 13795238 | F5: 35427344 | G5: 2863736 | H5: 2863736 | I5: 32563608 | J5: 1042947 | K5: 1089883 | L5: 46936 | M5: =+H5/F5*100 -> 8.0834059
B6: 800057252 | C6: TABASA S.A.S | D6: M7490 - Otras actividades profesionales, científicas y técnicas n.c.p. | M6: =+H6/F6*100 -> #DIV/0!
B7: 800074410 | C7: INDUSTRIAS TRATECNI SAS | D7: M7490 - Otras actividades profesionales, científicas y técnicas n.c.p. | M7: =+H7/F7*100 -> #DIV/0!
B8: 800081075 | C8: SHARMOR S.A.S. | D8: M7490 - Otras actividades profesionales, científicas y técnicas n.c.p. | M8: =+H8/F8*100 -> #DIV/0!
B9: 800195661 | C9: INVERSIONES VALMIERA SAS | D9: M7490 - Otras actividades profesionales, científicas y técnicas n.c.p. | E9: 24632888 | F9: 121545445 | G9: 1258238 | H9: 9429451 | I9: 112115994 | J9: 5389206 | K9: 2852714 | L9: 37414 | M9: =+H9/F9*100 -> 7.7579633
B10: 800203990 | C10: CAÑADUZALES S.A.S | D10: M7490 - Otras actividades profesionales, científicas y técnicas n.c.p. | E10: 23592673 | F10: 23667712 | G10: 625027 | H10: 625027 | I10: 23042685 | J10: 2005062 | K10: 2027839 | L10: 22777 | M10: =+H10/F10*100 -> 2.6408425
B11: 800210555 | C11: SUSTANCIAS BASICAS COLOMBIANAS SBC S A S - EN REORGANIZACIÓN | D11: M7490 - Otras actividades profesionales, científicas y técnicas n.c.p. | M11: =+H11/F11*100 -> #DIV/0!
B12: 800211268 | C12: INVESTMENT GOMEZ H Y CIA S ENC | D12: M7490 - Otras actividades profesionales, científicas y técnicas n.c.p. | M12: =+H12/F12*100 -> #DIV/0!
B13: 800234044 | C13: Odigos sas | D13: M7490 - Otras actividades profesionales, científicas y técnicas n.c.p. | M13: =+H13/F13*100 -> #DIV/0!
B14: 800247308 | C14: INERCO CONSULTORIA COLOMBIA LTDA | D14: M7490 - Otras actividades profesionales, científicas y técnicas n.c.p. | M14: =+H14/F14*100 -> #DIV/0!
B15: 802006419 | C15: INVERSIONES Y REPRESENTACIONES G DAMARCO S.A.S. | D15: M7490 - Otras actividades profesionales, científicas y técnicas n.c.p. | E15: 377591 | F15: 4777087 | G15: 138034 | H15: 3582772 | I15: 1194315 | J15: 103307 | K15: 107157 | L15: 3850 | M15: =+H15/F15*100 -> 74.999095
B16: 805010748 | C16: SINTECO S.A.S | D16: M7490 - Otras actividades profesionales, científicas y técnicas n.c.p. | M16: =+H16/F16*100 -> #DIV/0!
B17: 811017500 | C17: PELTA INVERSIONES S.A.S. | D17: M7490 - Otras actividades profesionales, científicas y técnicas n.c.p. | M17: =+H17/F17*100 -> #DIV/0!
B18: 811031160 | C18: SINUANA DE INVERSIONES SAS | D18: M7490 - Otras actividades profesionales, científicas y técnicas n.c.p. | E18: 13743748 | F18: 16012042 | G18: 784007 | H18: 784007 | I18: 15228035 | J18: 2905719 | K18: 2670764 | L18: 75809 | M18: =+H18/F18*100 -> 4.8963586
B19: 811045711 | C19: ARRODRIGO SAS | D19: M7490 - Otras actividades profesionales, científicas y técnicas n.c.p. | E19: 3399161 | F19: 25694623 | G19: 1204367 | H19: 1204367 | I19: 24490256 | J19: 274580 | K19: 224249 | L19: 3994 | M19: =+H19/F19*100 -> 4.6872336
B20: 811046789 | C20: PUNTO LOGISTICO SAS EN REORGANIZACION | D20: M7490 - Otras actividades profesionales, científicas y técnicas n.c.p. | M20: =+H20/F20*100 -> #DIV/0!
B21: 830002631 | C21: MASTERCARD COLOMBIA INC SUCURSAL COLOMBIANA | D21: M7490 - Otras actividades profesionales, científicas y técnicas n.c.p. | M21: =+H21/F21*100 -> #DIV/0!
B22: 830018330 | C22: CONSULTORES ASOCIADOS ASOCONSULT SAS | D22: M7490 - Otras actividades profesionales, científicas y técnicas n.c.p. | E22: 13967892 | F22: 23327503 | G22: 7812404 | H22: 8064895 | I22: 15262608 | J22: 2017244 | K22: 1725971 | L22: 5952 | M22: =+H22/F22*100 -> 34.572474
B23: 830026911 | C23: QUASFAR MYF SAS | D23: M7490 - Otras actividades profesionales, científicas y técnicas n.c.p. | E23: 7393240 | F23: 12609309 | G23: 3966868 | H23: 8030766 | I23: 4578543 | J23: 444356 | K23: 961465 | L23: 632838 | M23: =+H23/F23*100 -> 63.689184
B24: 830028630 | C24: PANAIA SAS | D24: M7490 - Otras actividades profesionales, científicas y técnicas n.c.p. | E24: 15985853 | F24: 16031353 | G24: 157743 | H24: 1831782 | I24: 14199571 | J24: 785604 | K24: 787804 | L24: 2200 | M24: =+H24/F24*100 -> 11.426247
B25: 830032610 | C25: CONSTRUTECNIA LTDA | D25: M7490 - Otras actividades profesionales, científicas y técnicas n.c.p. | M25: =+H25/F25*100 -> #DIV/0!
B26: 830037180 | C26: AMATISTA SAS | D26: M7490 - Otras actividades profesionales, científicas y técnicas n.c.p. | M26: =+H26/F26*100 -> #DIV/0!
B27: 830046427 | C27: AX2 S.A. | D27: M7490 - Otras actividades profesionales, científicas y técnicas n.c.p. | E27: 6612372 | F27: 63632291 | G27: 4990681 | H27: 4990681 | I27: 58641610 | J27: 9861192 | K27: 9631511 | L27: 1575 | M27: =+H27/F27*100 -> 7.8430007
B28: 830073450 | C28: AMSPEC MCS COLOMBIA SAS | D28: M7490 - Otras actividades profesionales, científicas y técnicas n.c.p. | E28: 41135483 | F28: 80909637 | G28: 30461633 | H28: 38686776 | I28: 42222861 | J28: 6922160 | K28: 11574750 | L28: 4809725 | M28: =+H28/F28*100 -> 47.814794
B29: 830086999 | C29: ASISTA SAS | D29: M7490 - Otras actividades profesionales, científicas y técnicas n.c.p. | E29: 13988325 | F29: 17207839 | G29: 8026065 | H29: 9428313 | I29: 7779526 | J29: 1589023 | K29: 1751480 | L29: 163986 | M29: =+H29/F29*100 -> 54.790802
B30: 830096373 | C30: SERVICIOS CORPORATIVOS PARA ASEGURADORES SAS | D30: M7490 - Otras actividades profesionales, científicas y técnicas n.c.p. | M30: =+H30/F30*100 -> #DIV/0!
B31: 830102185 | C31: INVERSIONES EVE SAS | D31: M7490 - Otras actividades profesionales, científicas y técnicas n.c.p. | M31: =+H31/F31*100 -> #DIV/0!
B32: 830113227 | C32: FTI CONSULTING SAS | D32: M7490 - Otras actividades profesionales, científicas y técnicas n.c.p. | E32: 33230497 | F32: 37768447 | G32: 12899902 | H32: 13426284 | I32: 24342163 | J32: 11713303 | K32: 9658392 | L32: 1250162 | M32: =+H32/F32*100 -> 35.548944
B33: 830115738 | C33: SEC+LATAM COMUNICACIONES ESTRATEGICAS SAS | D33: M7490 - Otras actividades profesionales, científicas y técnicas n.c.p. | E33: 6905476 | F33: 7279696 | G33: 5520569 | H33: 5645569 | I33: 1634127 | J33: 440143 | K33: 674645 | L33: 465758 | M33: =+H33/F33*100 -> 77.552263
B34: 830133279 | C34: INVERFAMA S.A. | D34: M7490 - Otras actividades profesionales, científicas y técnicas n.c.p. | E34: 415164 | F34: 5300433 | G34: 347278 | H34: 439166 | I34: 4861267 | J34: 1389671 | K34: 1397795 | L34: 8260 | M34: =+H34/F34*100 -> 8.285474
B35: 830140226 | C35: IQVIA RDS COLOMBIA S.A.S. | D35: M7490 - Otras actividades profesionales, científicas y técnicas n.c.p. | E35: 12549171 | F35: 13885472 | G35: 8325570 | H35: 8479839 | I35: 5405633 | J35: 2973644 | K35: 2997893 | L35: 490916 | M35: =+H35/F35*100 -> 61.069865
B36: 830142358 | C36: MAFESA SAS | D36: M7490 - Otras actividades profesionales, científicas y técnicas n.c.p. | M36: =+H36/F36*100 -> #DIV/0!
B37: 830144405 | C37: SONY MUSIC PUBLISHING COLOMBIA LTDA | D37: M7490 - Otras actividades profesionales, científicas y técnicas n.c.p. | M37: =+H37/F37*100 -> #DIV/0!
B38: 830514927 | C38: WILLIS TOWERS WATSON CONSULTORES COLOMBIA SAS WILLIS TOWERS WATSON CONSULTORES COLOMBIA SASWILLIS TOWERS WATSON CONSULTORES COLOMBIA SAS | D38: M7490 - Otras actividades profesionales, científicas y técnicas n.c.p. | M38: =+H38/F38*100 -> #DIV/0!
B39: 860001543 | C39: MITSUBISHI COLOMBIA LTDA | D39: M7490 - Otras actividades profesionales, científicas y técnicas n.c.p. | E39: 7899148 | F39: 18360398 | G39: 1432251 | H39: 2855158 | I39: 15505240 | J39: 1896636 | K39: 1920897 | L39: 24261 | M39: =+H39/F39*100 -> 15.550632
B40: 860049506 | C40: MULTI-INVERSIONES S.A.S. | D40: M7490 - Otras actividades profesionales, científicas y técnicas n.c.p. | M40: =+H40/F40*100 -> #DIV/0!
...

Sheet A0161
A1: =COUNT(E19:E28) -> 4 | L1: =G39 -> 26.691491 | M1: =+'N8130'!A1+'A0161'!A1 -> 4
A2: =+A5 -> 10 | B2: Pymes-Individuales
B3: PERIODO ANTERIOR 2025
B4: Pymes-Individuales
A5: =COUNTA(C19:C28) -> 10 | B5: PERIODO ANTERIOR 2025
B6: NIT | C6: Razón social de la sociedad | D6: Clasificación Industrial Internacional Uniforme Versión 4 A.C
B7: 800161561 | C7: CRISTO LECTOR LTDA | D7: P8559 - Otros tipos de educación n.c.p.
B8: 804011907 | C8: SEMINARIOS ANDINOS SAS | D8: P8559 - Otros tipos de educación n.c.p.
B9: 805011877 | C9: EXPERIENCIA CORPORATIVA INTERNACIONAL PRACTICA LTDA | D9: P8559 - Otros tipos de educación n.c.p. | E9: 8845601 | F9: 9568429 | G9: 5064166 | H9: 5064166 | I9: 4504263 | J9: 1031339 | K9: -110206 | L9: 10834
B10: 805027577 | C10: AEROCCIDENTE SOCIEDAD POR ACCIONES SIMPLIFICADA | D10: P8559 - Otros tipos de educación n.c.p.
B11: 830138958 | C11: KUMON INSTITUTO DE EDUCACION DE COLOMBIA SAS | D11: P8559 - Otros tipos de educación n.c.p. | E11: 6054963 | F11: 6322007 | G11: 1499517 | H11: 1499517 | I11: 4822490 | J11: 1595159 | K11: 1516294 | L11: 117934
B12: 900512560 | C12: XAVIA PLATAFORMAS EDUCATIVAS SAS | D12: P8559 - Otros tipos de educación n.c.p.
B13: 900678547 | C13: Panamerican Training Center SAS | D13: P8559 - Otros tipos de educación n.c.p. | E13: 21408195 | F13: 26750385 | G13: 2318182 | H13: 2318182 | I13: 24432203 | J13: 4721487 | K13: 4315734 | L13: 86787
B14: 900835035 | C14: ADALID INMARK COLOMBIA S A S | D14: P8559 - Otros tipos de educación n.c.p.
B15: 901324826 | C15: S4L COLOMBIA SAS | D15: P8559 - Otros tipos de educación n.c.p. | E15: 23658399 | F15: 24664743 | G15: 6676307 | H15: 6676307 | I15: 17988436 | J15: 6854361 | K15: 6321345 | L15: 318246
B16: TOTAL | E16: =SUM(E7:E15) -> 59967158 | F16: =SUM(F7:F15) -> 67305564 | G16: =SUM(G7:G15) -> 15558172 | H16: =SUM(H7:H15) -> 15558172 | I16: =SUM(I7:I15) -> 51747392 | J16: =SUM(J7:J15) -> 14202346 | K16: =SUM(K7:K15) -> 12043167 | L16: =SUM(L7:L15) -> 533801 | M16: =+H16/F16*100 -> 23.115729
B17: Pymes-Individuales | M17: =+H17/F17*100 -> #DIV/0!
B18: PERIODO ACTUAL 2025 | M18: =+H18/F18*100 -> #DIV/0!
B19: NIT | C19: Razón social de la sociedad | D19: Clasificación Industrial Internacional Uniforme Versión 4 A.C | E19: Activos corrientes totales | F19: Total de activos | G19: Pasivos corrientes totales | H19: Total pasivos | I19: Patrimonio total | J19: Ganancia (pérdida), antes de impuestos | K19: Ganancia (pérdida) por actividades de operación | L19: Costos financieros | M19: =+H19/F19*100 -> #VALUE!
B20: 800161561 | C20: CRISTO LECTOR LTDA | D20: P8559 - Otros tipos de educación n.c.p.
B21: 804011907 | C21: SEMINARIOS ANDINOS SAS | D21: P8559 - Otros tipos de educación n.c.p.
B22: 805011877 | C22: EXPERIENCIA CORPORATIVA INTERNACIONAL PRACTICA LTDA | D22: P8559 - Otros tipos de educación n.c.p. | E22: 9199417 | F22: 9864482 | G22: 4706541 | H22: 4706541 | I22: 5157941 | J22: 1013599 | K22: 155200 | L22: 75917
B23: 805027577 | C23: AEROCCIDENTE SOCIEDAD POR ACCIONES SIMPLIFICADA | D23: P8559 - Otros tipos de educación n.c.p.
B24: 830138958 | C24: KUMON INSTITUTO DE EDUCACION DE COLOMBIA SAS | D24: P8559 - Otros tipos de educación n.c.p. | E24: 6403796 | F24: 6628266 | G24: 1517081 | H24: 1517081 | I24: 5111185 | J24: 1443041 | K24: 1428814 | L24: 155724
B25: 900512560 | C25: XAVIA PLATAFORMAS EDUCATIVAS SAS | D25: P8559 - Otros tipos de educación n.c.p.
B26: 900678547 | C26: Panamerican Training Center SAS | D26: P8559 - Otros tipos de educación n.c.p. | E26: 9083632 | F26: 30514139 | G26: 1342707 | H26: 1342707 | I26: 29171432 | J26: 5924036 | K26: 6124165 | L26: 347466
B27: 900835035 | C27: ADALID INMARK COLOMBIA S A S | D27: P8559 - Otros tipos de educación n.c.p.
B28: 901324826 | C28: S4L COLOMBIA SAS | D28: P8559 - Otros tipos de educación n.c.p. | E28: 28763743 | F28: 31889652 | G28: 8547749 | H28: 8547749 | I28: 23341903 | J28: 7986703 | K28: 9728349 | L28: 1966000 | M28: =+H28/F28*100 -> 26.804146
B29: TOTAL | E29: =SUM(E20:E28) -> 53450588 | F29: =SUM(F20:F28) -> 78896539 | G29: =SUM(G20:G28) -> 16114078 | H29: =SUM(H20:H28) -> 16114078 | I29: =SUM(I20:I28) -> 62782461 | J29: =SUM(J20:J28) -> 16367379 | K29: =SUM(K20:K28) -> 17436528 | L29: =SUM(L20:L28) -> 2545107 | M29: =+K29/L29 -> 6.851
B30: SUMATORIA TOTAL PERIODO ACTUAL Y ANTERIOR | E30: =+E29+E16 -> 113417746 | F30: =+F29+F16 -> 146202103 | G30: =+G29+G16 -> 31672250 | H30: =+H29+H16 -> 31672250 | I30: =+I29+I16 -> 114529853 | J30: =+J29+J16 -> 30569725 | K30: =+K29+K16 -> 29479695 | L30: =+L29+L16 -> 3078908 | M30: =+K30/L30 -> 9.5747242
C31: INDICADORES | D31: NOMBRE | E31: FÓRMULA | F31: UNIDAD | G31: VALORES ACEPTABLES | M31: =+K31/L31 -> #DIV/0!
C32: LIQUIDEZ | D32: RAZÓN CORRIENTE | E32: ESF - Activos corrientes totales /EFS - Pasivos Corrientes Totales | F32: Veces | G32: =+E29/G29 -> 3.3170119 | M32: =+K32/L32 -> #DIV/0!
C33: ENDEUDAMIENTO | D33: RAZÓN DE ENDEUDAMIENTO | E33: ESF- Total Pasivo/Total Activo * 100 | F33: % | G33: =H29/F29*100 -> 20.424315 | M33: =+K33/L33 -> #DIV/0!
C34: RAZÓN COBERTURA DE INTERES | D34: RAZON DE COBERTURA | E34: ERI- Ganancia(perdida) por actividades de operación / ERI - Costos financieros | F34: Veces | G34: =+K29/L29 -> 6.851 | M34: =+K34/L34 -> #DIV/0!
C35: LIQUIDEZ | D35: CAPITAL DE TRABAJO NETO | E35: ESF - Activos corrientes totales -EFS Pasivos Corrientes Totales | F35: $ | G35: =+E29-G29 -> 37336510 | M35: =+K35/L35 -> #DIV/0!
C37: INDICADORES | D37: NOMBRE | E37: FÓRMULA | F37: UNIDAD | G37: VALORES ACEPTABLES
C38: RENTABILIDAD | D38: Retorno sobre los Activos (ROA) | E38: ERI - Ganancia (pérdida), antes de impuestos / ESF - Total de activos *100 | F38: % | G38: =J30/F30*100 -> 20.909224
C39: RENTABILIDAD | D39: Retorno Sobre El Patrimonio (ROE) | E39: ERI - Ganancia (pérdida), antes de impuestos / ESF - Patromonio total *100 | F39: % | G39: =J30/I30*100 -> 26.691491

Sheet ESTADISTICAS
B2: PERIODO | C2: INDICADOR A EXIGIR EN EL PROCESO DE CONTRATACIÓN
B4: PERIODOS | C4: INDICADOR | D4: N8130 | E4: A0161 | F4: PROMEDIO GENERAL DE INDICADORES | G4: MEDIA GEOMETRICA | H4: MEDIA ARITMETICA | I4: MEDIANA | J4: MINIMO | K4: MAXIMO | L4: DESVIACION ESTANDAR | M4: MINIMO DESVIACION ESTANDAR CON MEDIANA | N4: MAXIMO DESVIACION ESTANDAR CON MEDIANA | O4: MINIMO DESVIACION ESTANDAR CON MEDIA ARITMETICA | P4: MAXIMO DESVIACION ESTANDAR CON MEDIA ARITMETICA | Q4: DATO PARA EL ESTUDIO
C5: CAPACIDAD FINANCIERA | R5: RESULTADO
B6: 2025 | C6: LIQUIDEZ | D6: =+'N8130'!G381 -> 4.5508543 | E6: =+'A0161'!G32 -> 3.3170119 | F6: =AVERAGE(D6:E6) -> 3.9339331 | G6: =GEOMEAN(D6:E6) -> 3.885259 | H6: =AVERAGE(F6:G6) -> 3.9095961 | I6: =+MEDIAN(D6:E6) -> 3.9339331 | J6: =+MIN(D6:E6) -> 3.3170119 | K6: =+MAX(D6:E6) -> 4.5508543 | L6: =+_xlfn.STDEV.P(D6:E6) -> 0.61692123 | M6: =+I6-L6 -> 3.3170119 | N6: =+I6+L6 -> 4.5508543 | O6: =H6-L6 -> 3.2926748 | P6: =H6+L6 -> 4.5265173 | Q6: 1.2 | R6: LIQUIDEZ | S6: 1.2 | T6: veces
C7: ENDEUDAMIENTO | D7: =+'N8130'!G382 -> 21.531033 | E7: =+'A0161'!G33 -> 20.424315 | F7: =AVERAGE(D7:E7) -> 20.977674 | G7: =GEOMEAN(D7:E7) -> 20.970374 | H7: =AVERAGE(F7:G7) -> 20.974024 | I7: =+MEDIAN(D7:E7) -> 20.977674 | J7: =+MIN(D7:E7) -> 20.424315 | K7: =+MAX(D7:E7) -> 21.531033 | L7: =+_xlfn.STDEV.P(D7:E7) -> 0.55335855 | M7: =+I7-L7 -> 20.424315 | N7: =+I7+L7 -> 21.531033 | O7: =H7-L7 -> 20.420666 | P7: =H7+L7 -> 21.527383 | Q7: 50 | R7: ENDEUDAMIENTO | S7: 50 | T7: %
C8: RAZON COBERTURA DE INTERESES | D8: =+'N8130'!G383 -> 3.2080873 | E8: =+'A0161'!G34 -> 6.851 | F8: =AVERAGE(D8:E8) -> 5.0295437 | G8: =GEOMEAN(D8:E8) -> 4.6881346 | H8: =AVERAGE(F8:G8) -> 4.8588391 | I8: =+MEDIAN(D8:E8) -> 5.0295437 | J8: =+MIN(D8:E8) -> 3.2080873 | K8: =+MAX(D8:E8) -> 6.851 | L8: =+_xlfn.STDEV.P(D8:E8) -> 1.8214563 | M8: =+I8-L8 -> 3.2080873 | N8: =+I8+L8 -> 6.851 | O8: =H8-L8 -> 3.0373828 | P8: =H8+L8 -> 6.6802955 | Q8: 2 | R8: RAZON COBERTURA DE INTERESES | S8: =L8 -> 1.8214563 | T8: veces
C9: CAPITAL DE TRABAJO NETO | D9: =+'N8130'!G384 -> 1698505158 | E9: =+'A0161'!G35 -> 37336510 | F9: =AVERAGE(D9:E9) -> 867920834 | G9: =GEOMEAN(D9:D9) -> 1698505158 | H9: =AVERAGE(F9:G9) -> 1283212996 | I9: =+MEDIAN(D9:E9) -> 867920834 | J9: =+MIN(D9:E9) -> 37336510 | K9: =+MAX(D9:E9) -> 1698505158 | L9: =+_xlfn.STDEV.P(D9:E9) -> 8.3058432e+08 | M9: =+I9-L9 -> 37336510 | N9: =+I9+L9 -> 1698505158 | O9: =I9-L9 -> 37336510 | P9: =H9+L9 -> 2113797320 | Q9: =+AVERAGE(F9:P9) -> 1.0155419e+09 | R9: CAPITAL DE TRABAJO NETO | S9: =+Q9 -> 1.0155419e+09
C10: CAPACIDAD ORGANIZACIONAL | R10: PRESUPUESTO OFICIAL | S10: 0.7
B11: 2025 | C11: RENTABILIDAD ROA ( ACTIVOS) | D11: =+'N8130'!G387 -> 7.1306573 | E11: =+'A0161'!G38 -> 20.909224 | F11: =AVERAGE(D11:E11) -> 14.019941 | G11: =GEOMEAN(D11:E11) -> 12.210508 | H11: =AVERAGE(F11:G11) -> 13.115224 | I11: =+MEDIAN(D11:E11) -> 14.019941 | J11: =+MIN(D11:E11) -> 7.1306573 | K11: =+MAX(D11:E11) -> 20.909224 | L11: =+_xlfn.STDEV.P(D11:E11) -> 6.8892833 | M11: =+I11-L11 -> 7.1306573 | N11: =+I11+L11 -> 20.909224 | O11: =+H11-L11 -> 6.2259411 | P11: =H11+L11 -> 20.004508 | Q11: 2 | R11: DATO PARA EL ESTUDIO | S11: =+Q9 -> 1.0155419e+09
C12: RENTABILIDAD ROE (PATRIMONIO) | D12: 15 | E12: =+'A0161'!G39 -> 26.691491 | F12: =AVERAGE(D12:E12) -> 20.845745 | G12: =GEOMEAN(D12:D12) -> 15 | H12: =AVERAGE(F12:G12) -> 17.922873 | I12: =+MEDIAN(D12:E12) -> 20.845745 | J12: =+MIN(D12:E12) -> 15 | K12: =+MAX(D12:E12) -> 26.691491 | L12: =+_xlfn.STDEV.P(D12:E12) -> 5.8457453 | M12: =+I12-L12 -> 15 | N12: =+I12+L12 -> 26.691491 | O12: =+H12-L12 -> 12.077127 | P12: =H12+L12 -> 23.768618 | Q12: 4 | S12: =+S11*100% -> 1.0155419e+09
R14: RENTABILIDAD ROA (ACTIVOS) | S14: 2 | T14: %
R15: RENTABILIDAD ROE (PATRIMONIO) | S15: 4 | T15: %

Sheet ANALISIS P.
B1: No. PROCESO | C1: ENTIDAD | D1: PRESUPUESTO | E1: OBJETO | F1: LIQUIDEZ | G1: ENDEUDAMIENTO | H1: RAZON DE C. INTERES | I1: CAPITAL DE TRABAJO | J1: R. ACTIVO | K1: R. PATRIMONIO
B2: MYCA-SGOB-SAMC-026-2023 | C2: ALCALDIA DE YOPAL CASANARE | D2: 272750000
B3: FDLCH-SAMC-011-2023 | C3: ALCALDIA LOCAL DE CHAPINERO
B4: FDLCB-LP-011-2022 | C4: ALCALDIA LOCAL DE CIUDAD BOLÍVAR
B5: FDLE-LP-370-2021 | C5: ALCALDIA LOCAL DE ENGATIVÁ
B6: FDLU-SAMC-030-2021 | C6: DISTRITO ESPECIAL DE CIENCIA TECNOLOGIA E INNOVACION DE MEDELLIN
B7: FDLSC-LP-005-2021 | C7: ALCALDIA LOCAL DE SAN CRISTOBAL | D7: 47907074 | E7: PRESTAR SERVICIOS PARA REALIZAR TORNEOS, ACTIVIDADES Y EVENTOS DEPORTIVOS EN LA LOCALIDAD DE CHAPINERO.
B8: PROMEDIO ANALISIS SIS 2023 | F8: =+ESTADISTICAS!S6 -> 1.2 | G8: 0.35 | H8: =+ESTADISTICAS!S8 -> 1.8214563 | I8: =+ESTADISTICAS!S10 -> 0.7 | J8: =+ESTADISTICAS!S14/100 -> 0.02 | K8: =+ESTADISTICAS!S15/100 -> 0.04
B9: PROMEDIO | F9: =+AVERAGE(F2:F8) -> 1.2 | G9: =+AVERAGE(G2:G8) -> 0.35 | H9: =+AVERAGE(H2:H8) -> 1.8214563 | I9: =+AVERAGE(I8:I8) -> 0.7 | J9: =+AVERAGE(J2:J8) -> 0.02 | K9: =+AVERAGE(K2:K8) -> 0.04
B10: MEDIANA | F10: =+MEDIAN(F2:F8) -> 1.2 | G10: =+MEDIAN(G2:G8) -> 0.35 | H10: =+MEDIAN(H2:H8) -> 1.8214563 | I10: =+MEDIAN(I8:I8) -> 0.7 | J10: =+MEDIAN(J2:J8) -> 0.02 | K10: =+MEDIAN(K2:K9) -> 0.04
B11: DESVIACION ESTANDAR | F11: =+STDEV(F9:F10) -> 0 | G11: =+STDEV(G9:G10) -> 0 | H11: =+STDEV(H9:H10) -> 0 | I11: =+STDEV(I9:I10) -> 0 | J11: =+STDEV(J9:J10) -> 0 | K11: =+STDEV(K9:K10) -> 0
B12: DATOS PARA EL ESTUDIO | F12: =+F9 -> 1.2 | G12: =+G9 -> 0.35 | H12: =+H9 -> 1.8214563 | I12: =+I10 -> 0.7 | J12: =+J9 -> 0.02 | K12: =+K9 -> 0.04

Sheet RESULTADO
B2: CAPACIDAD FINANCIERA
B3: ÍNDICE | C3: FÓRMULA | D3: OBSERVACIONES | E3: VALORES ACEPTABLES
B4: ÍNDICE DE LIQUIDEZ | C4: Activo Corriente Pasivo Corriente | D4: Determinar la capacidad que tiene un proponente para cumplir con sus obligaciones a corto plazo. A mayor índice de liquidez, menor es la probabilidad de que el proponente incumpla sus obligaciones de corto plazo | E4: Mayor o igual a | F4: 1.2
B5: ÍNDICE DE ENDEUDAMIENTO | C5: Pasivo Total Activo Total | D5: Determinar el grado de endeudamiento en la estructura de financiación (pasivos y patrimonios) del proponente. A mayor índice de endeudamiento, mayor es la probabilidad del proponente de no poder cumplir con sus pasivos. | E5: Menor o igual al | F5: 0.5
B6: RAZÓN DE COBERTURA DE INTERESES | C6: Utilidad Operacional / Gastos de Intereses | D6: Refleja la capacidad del proponente de cumplir con sus obligaciones financieras. A mayor cobertura de intereses, menor es la probabilidad de que el proponente incumpla sus obligaciones financieras | E6: Mayor o Igual a | F6: =ESTADISTICAS!S8 -> 1.8214563
B7: LIQUIDEZ CAPITAL DE TRABAJO NETO | C7: ESF - Activos corrientes totales -EFS Pasivos Corrientes Totales | D7: Este indicador representa la liquidez operativa del proponente, es decir el remanente del proponente luego de liquidar sus activos corrientes (convertirlos en efectivo) y pagar el pasivo de corto plazo. Un capital de trabajo positivo contribuye con el desarrollo eficiente de la actividad económica del proponente. Es recomendable su uso cuando la Entidad Estatal requiere analizar el nivel de liquidez en términos absolutos. | E7: Mayor o Igual a del P.O | F7: =+'ANALISIS P.'!I12 -> 0.7
B9: CAPACIDAD ORGANIZACIONAL
B10: INDICADOR | C10: FORMULA OFERENTE PLURAL | D10: FORMULA OFERENTE INDIVIDUAL | E10: INDICE REQUERIDO
B11: Rentabilidad del Activo | C11: Rentabilidad ((U.O.*(% Participación) + (U.O.*(% Participación) del Activo : __________________________________________ = XXXXX ((A.T.*(% Participación) + (A.T.*(% Participación)) | D11: Utilidad Operacional/ Activo Total | E11: Mayor o igual a | F11: =+'ANALISIS P.'!J12 -> 0.02
B12: Rentabilidad del Patrimonio | C12: Rentabilidad ((U.O.*(% Participación) + (U.O.*(% Participación)) Patrimonio: __________________________________________ = XXXXX ((P.*(% Participación) + (P.*(% Participación)) | D12: Utilidad Operacional/ Patrimonio | E12: Mayor o igual a | F12: =+'ANALISIS P.'!K12 -> 0.04
