Workbook
Name contratación: 'IDENTIFICACION Y ANALISIS'!$B$48:$B$57
Name ejecución: 'IDENTIFICACION Y ANALISIS'!$B$59:$B$87
Name OPCIONES: 'ASIGNACION Y TRATAMIENTO'!$B$56:$B$58
Name planeación: 'IDENTIFICACION Y ANALISIS'!$B$19:$B$33
Name selección: 'IDENTIFICACION Y ANALISIS'!$B$35:$B$46

Sheet CONTEXTO
C2: MATRIZ DE RIESGOS EN CONTRATACIÓN | F2: Código: GCO-GCI-F164 Versión: 02 Vigencia: 01 de diciembre de 2022 Caso HOLA: 280117
B6: ESTABLECER EL CONTEXTO
B7: El punto inicial es identificar el contexto en el cual interactúa la Entidad Estatal para conocer el ambiente social, económico y político, e identificar (i) sus propios Riesgos; (ii) los Riesgos comunes a sus Procesos de Contratación; y (iii) los Riesgos del Proceso de Contratación en particular. (Aplica igual para contratos interadministrativos) En este paso la Entidad Estatal debe identificar los aspectos que se mencionan a continuación y los posibles efectos adversos que estos pueden generar.
B8: Objeto del Proceso de Contratación VIGILANCIA Y SEGURIDAD
B9: Partícipes del Proceso de Contratación: Agentes externos (Organismos de control, veedurías ciudadanas), agentes internos (supervisores, funcionarios y demás usuarios).
B10: Ciudadanía que se beneficia del Proceso de Contratación: Agentes internos (funcionarios, pasantes) y externos (contratistas, visitantes y usuarios externos en general)
B11: Capacidad de la Entidad Estatal entendida como la disponibilidad de recursos y conocimientos para el Proceso de Contratación: La disponibilidad de la Entidad de sus recursos y el conocimiento de su equipo humano se refleja en los diferentes funcionarios que participarán en las diversas etapas del proceso de selección: participan las áreas que requieren los procesos de contratación (Etapa de Planeación), Dirección de Contratación, Comité Evaluador (Etapa de selección), Dirección de Contratación (Etapa de contratación) y la supervisión y apoyos a la misma (Estapa de Ejecución).
B12: Suficiencia del presupuesto oficial del Proceso de Contratación: De acuerdo al Plan Anual de Adquisiciones se deben estimar los recursos necesarios para el desarrollo del proceso de la contratación, el cual tendrá el soporte presupuestal suficiente para su desarrollo.
B13: Condiciones geográficas y de acceso del lugar en el cual se debe cumplir el objeto del Proceso de Contratación: El suministro, obra o servicio se prestará principalmente en las Sedes de la Entidad, o en el lugar indicado en los estudios previos del proceso.
B14: Entorno socio ambiental: Si aplican
B15: Condiciones políticas: Si aplican
B16: Factores ambientales.
B17: Sector del objeto del Proceso de Contratación y su mercado.
... B19: Experiencia propia y de otras Entidades Estatales en Procesos de Contratación del mismo tipo.

Sheet IDENTIFICACION Y ANALISIS
C2: MATRIZ DE RIESGOS DE CONTRATACIÓN | F2: Código: GCO-GCI-F164 Versión: 02 Vigencia: 01 de diciembre de 2022 Caso HOLA: 280117
B6: DEFINICIONES
B7: RIESGO: Evento que puede generar efectos adversos y de distinta magnitud en el logro de los objetivos del Proceso de Contratación o en la ejecución de un contrato RIESGOS PREVISIBLES: Son los posibles hechos o circunstancias que por la naturaleza del contrato y de la actividad a ejecutar es factible su ocurrencia. ETAPA DE PLANEACIÓN: Está comprendida desde el momento en que se identifican las necesidades que debe satisfacer la Secretaría Distrital de Gobierno y los Fondos de Desarrollo Local, a través del abastecimiento de bienes, obras o servicios, la elaboración del Plan Anual de Adquisiciones y la estructuración de los documentos y estudios previos. ETAPA DE SELECCIÓN: Está comprendida entre el acto de Apertura del Proceso de Contratación y la Adjudicación o la declaración de desierto del Proceso de Contratación ETAPA DE CONTRATACIÓN: Una vez adjudicado el contrato objeto del Proceso de Contratación, inicia la etapa para la celebración del contrato y el cumplimiento de los requisitos para de perfeccionamiento y ejecución. ETAPA DE EJECUCIÓN: Inicia una vez cumplidos los requisitos previstos para iniciar la ejecución del contrato respectivo y termina con el vencimiento del plazo del contrato o la fecha de liquidación si hay lugar a ella. RIESGO GENERAL: Es un riesgo de todos los procesos de contratación adelantados por la Entidad Estatal, por lo cual está presente en toda su actividad contractual. RIEGO ESPECIFICO: Es un riesgo propio del proceso de contratación objeto de análisis. RIESGOS ECONÓMICOS: Son los derivados del comportamiento del mercado, tales como la fluctuación de los precios de los insumos, desabastecimiento y especulación de los mismos, entre otros. RIESGOS SOCIALES O POLÍTICOS: son los derivados de los cambios de las políticas gubernamentales y de cambios en las condiciones sociales que tengan impacto en la ejecución del contrato. RIESGOS OPERACIONALES: Son los asociados a la operatividad del contrato, tales como la suficiencia del presupuesto oficial, del plazo o los derivados de procesos, procedimientos, parámetros, sistemas de información y tecnológicos, equipos humanos o técnicos inadecuados o insuficientes. RIESGOS FINANCIEROS: Son (i) el riesgo de consecución de financiación o riesgo de liquidez para obtener recursos para cumplir con el objeto del contrato, y (ii) el riesgo de las condiciones financieras establecidas para la obtención de los recursos, tales como plazos, tasas, garantías, contragarantías, y refinanciaciones, entre otros. RIESGOS REGULATORIOS: Derivados de cambios regulatorios o reglamentarios que afecten la ecuación económica del contrato. RIESGOS DE LA NATURALEZA: Son los eventos naturales previsibles en los cuales no hay intervención humana que puedan tener impacto en la ejecución del contrato, por ejemplo los temblores, inundaciones, lluvias, sequías, entre otros. RIESGOS AMBIENTALES: Son los derivados de las obligaciones legales o reglamentarias de carácter ambiental, así como de las licencias, planes de manejo o de permisos y autorizaciones ambientales, incluyendo tasas retributivas y compensatorias, obligaciones de mitigación, tareas de monitoreo y control, entre otras. RIESGOS TECNOLÓGICOS: Son los derivados de fallas en los sistemas de comunicación de voz y de datos, suspensión de servicios públicos, nuevos desarrollos tecnológicos o estándares que deben ser tenidos en cuenta para la ejecución del contrato, obsolescencia tecnológica.
B15: INSTRUCCIONES PARA LA IDENTIFICACIÓN, ANALISIS, EVALUACIÓN , ASIGNACIÓN Y TRATAMIENTO DE RIESGOS EN LA CONTRATACIÓN
B16: 1) Identifique los riesgos previsibles que le apliquen al objeto contractual que se adelante. Los relacionados a continuación se establecen de manera general y como proforma. No obstante, si del objeto contractual se identifican otros riesgos diferentes a los aquí determinados, por favor reemplace el texto de la casilla teniendo en cuenta la etapa del proceso. Así mismo, seleccione la clase, fuente y el tipo (Operacional, Económico, Sociales o Políticos, Regulatorios, Financieros, Tecnológicos, De la naturaleza, Ambientales) 2) Continúe en la hoja de "EVALUACIÓN" (SI EXISTEN DUDAS CONCEPTUALES PARA LA ELABORACIÓN DE LA MATRIZ DE RIESGO CONSULTE EL MANUAL PARA LA IDENTIFICACIÓN Y COBERTURA DEL RIESGO EN LOS PROCESOS DE CONTRATACIÓN EXPEDIDO POR COLOMBIA COMPRA EFICIENTE Y LA GUÍA DE RIESGOS PREVISIBLES CONTRACTUALES, EXPEDIDA POR LA VEEDURÍA DISTRITAL)
C17: ETAPAS | D17: CLASE | E17: FUENTE | F17: TIPO
C18: PLANEACIÓN
B19: Inadecuada escogencia de la modalidad de contratación | D19: Especifico | E19: Interno | F19: Operacionales
B20: Requisitos habilitantes inapropiados para el proceso de selección | D20: Especifico | E20: Interno | F20: Operacionales
B21: Inadecuado análisis económico estimativo del valor del contrato | D21: Especifico | E21: Interno | F21: Economicos
B22: Inadecuada descripción del bien o servicio requerido | D22: General | E22: Interno | F22: Operacionales
B23: Inadecuada elaboración de estudios y diseños | D23: Especifico | E23: Interno | F23: Operacionales
B24: Requisitos habilitantes que impidan la selección objetiva | D24: General | E24: Interno | F24: Operacionales
B25: Falta de profundidad en el estudio de sector no identificandose claramente aspectos de oferta y demanda | D25: General | E25: Interno | F25: Economicos
B26: Ausencia de fundamentación de la justificación y conveniencia de la contratación | D26: Estatal | E26: Interno | F26: Operacionales
B27: Inadecuada identificación de las condiciones contractuales | D27: Estatal | E27: Interno | F27: Operacionales
B28: No aprobación o demoras en la expedición vigencias futuras | D28: Especifico | E28: Interno | F28: Operacionales
B29: Apertura de procesos sin disponibilidad presupuestal | D29: Estatal | E29: Interno | F29: Operacionales
B30: Ineficiencia o falta de idoneidad del equipo estructurador | D30: Estatal | E30: Interno | F30: Operacionales
... B33: Inadecuada descripción en la solicitud de la gestión de permisos | D33: General | E33: Interno | F33: Operacionales
C34: SELECCIÓN
B35: Inadecuada evaluación de las ofertas y/o verificación de requisitos habilitantes | D35: Especifico | E35: Interno | F35: Operacionales
B36: Inadecuado manejo administrativo del proceso contractual | D36: Estatal | E36: Interno | F36: Operacionales
B37: Falta de claridad en la elaboración de los actos administrativos | D37: Estatal | E37: Interno | F37: Operacionales
B38: Contestación inoportuna a todas las observaciones formuladas a los documentos de la contratación | D38: Especifico | E38: Interno | F38: Operacionales
B39: No publicación de la documentación del proceso de selección en el SECOP | D39: Estatal | E39: Interno | F39: Operacionales
B40: Confabulacion de los proponentes (Colusión) | D40: Especifico | E40: Externo | F40: Operacionales
B41: Selección de ofertas con precios artificialmente bajos. | D41: Especifico | E41: Interno | F41: Operacionales
B42: Validación de certificaciones de experiencia falsas | D42: General | E42: Interno | F42: Operacionales
B43: Simulación de capacidad instalada propia | D43: General | E43: Externo | F43: Operacionales
B44: Aceptar subsanaciones extemporáneas o ilegales | D44: General | E44: Interno | F44: Operacionales
B45: Falta de competencia técnica especializada del comité evaluador | D45: Especifico | E45: Interno | F45: Operacionales
B46: Rigidez extrema ante errores puramente formales | D46: Especifico | E46: Interno | F46: Operacionales
C47: CONTRATACIÓN
B48: Riesgo de que no se firme el contrato. | D48: Especifico | E48: Interno | F48: Operacionales
B49: Falta de constitución o constitución tardía de la garantía única. Aceptación de garantías que no se ajustan a lo contemplado en el contrato | D49: General | E49: Interno | F49: Operacionales
B50: Falta de solicitud o solicitud tardía del registro presupuestal | D50: General | E50: Interno | F50: Operacionales
B51: No publicación de la documentación del proceso de selección en el SECOP | D51: Especifico | E51: Interno | F51: Operacionales
B52: Presentación de reclamos de terceros sobre la selección del oferente que retrasen el perfeccionamiento del contrato. | D52: General | E52: Externo | F52: Economicos
B53: Inconformidad de los oferente en la adjudicación del proceso | D53: General | E53: Externo | F53: Economicos
...

Sheet EVALUACION
C2: MATRIZ DE RIESGOS DE CONTRATACIÓN | K2: Código: GCO-GCI-F164 Versión: 02 Vigencia: 01 de diciembre de 2022 Caso HOLA: 280117
B6: Objeto Contractual: Contratar la prestación del servicio integral de vigilancia y seguridad privada en la modalidad de vigilancia fija, con medio humano con y sin arma, apoyo canino y medios tecnológicos, para la protección de las personas, bienes muebles e inmuebles y demás intereses patrimoniales del Fondo Desarrollo Local de Kennedy y de aquellos por los cuales sea o llegare a ser legalmente responsable.
B7: INSTRUCCIONES PARA LA IDENTIFICACIÓN, ANALISIS, EVALUACIÓN , ASIGNACIÓN Y TRATAMIENTO DE RIESGOS EN LA CONTRATACIÓN
B8: 1) Diligencie el objeto contractual y seleccione la(s) etapas y los riesgos que aplican al objeto contractual, de acuerdo a lo definido en la hoja de "IDENTIFICACIÓN Y ANÁLISIS"
B9: 2) Describa las consecuencias de la ocurrencia del Riesgo/evento.
B10: 3) Asigne la probabilidad de ocurrencia del riesgo, de conformidad con la tabla de probabilidad y la valoración del riesgo (Cualitativa o Monetaria)
B11: 4) Asigne el impacto que generaría la materialización del riesgo, de conformidad con la tabla de impacto y la valoración del riesgo (Cualitativa o Monetaria)
B12: 5) Al realizar las anteriores actividades se obtendrá la calificación total y la valoración del riesgo (prioridad).
B13: 6) Continúe en la hoja de "EVALUACIÓN DE CONTROLES"
B15: CALIFICACIÓN | H15: Cualitativa
B16: ETAPA | C16: Descripción (Que puede pasar y, cómo puede ocurrir) | H16: Consecuencias de la ocurrencia del evento | I16: Probabilidad de Ocurrencia | J16: Impacto | K16: Calificación Total | L16: Prioridad
B17: PLANEACIÓN | C17: Inadecuada escogencia de la modalidad de contratación | H17: Nulidad del proceso o del contrato, Investigaciones y sanciones de entes de control: Apertura de procesos disciplinarios o fiscales contra los ordenadores del gasto por evadir los procedimientos legales de selección | I17: 1 | J17: 1 | K17: =I17+J17 -> 2 | L17: =IF(K17<=4,"BAJO",IF(K17=5,"MEDIO",IF(K17=6,"ALTO",IF(K17=7,"ALTO","EXTREMO")))) -> BAJO
B18: PLANEACIÓN | C18: Requisitos habilitantes inapropiados para el proceso de selección | H18: Proceso desierto o Contratación de un proveedor sin capacidad real. | I18: 1 | J18: 1 | K18: =+I18+J18 -> 2 | L18: =IF(K18<=4,"BAJO",IF(K18=5,"MEDIO",IF(K18=6,"ALTO",IF(K18=7,"ALTO","EXTREMO")))) -> BAJO
B19: PLANEACIÓN | C19: Inadecuado análisis económico estimativo del valor del contrato | H19: Desequilibrio económico inmediato, posible afectación de los recursos públicos, ineficiencia en el gasto público que puedan ser objeto de hallazgos fiscales. | I19: 1 | J19: 1 | K19: =+I19+J19 -> 2 | L19: =IF(K19<=4,"BAJO",IF(K19=5,"MEDIO",IF(K19=6,"ALTO",IF(K19=7,"ALTO","EXTREMO")))) -> BAJO
B20: PLANEACIÓN | C20: No aprobación o demoras en la expedición vigencias futuras | H20: Inexistencia de justificación financiera para el inicio del proceso contractual | I20: 1 | J20: 1 | K20: =+I20+J20 -> 2 | L20: =IF(K20<=4,"BAJO",IF(K20=5,"MEDIO",IF(K20=6,"ALTO",IF(K20=7,"ALTO","EXTREMO")))) -> BAJO
B21: PLANEACIÓN | C21: Falta de profundidad en el estudio de sector no identificandose claramente aspectos de oferta y demanda | H21: Pérdida de poder de negociación de la entidad, Riesgo de estructurar un pliego de condiciones que de manera involuntaria favorezca a un solo actor del mercado, limitando la libre competencia y propiciando escenarios de colusión. | I21: 1 | J21: 2 | K21: =+I21+J21 -> 3 | L21: =IF(K21<=4,"BAJO",IF(K21=5,"MEDIO",IF(K21=6,"ALTO",IF(K21=7,"ALTO","EXTREMO")))) -> BAJO
B22: PLANEACIÓN | C22: Ineficiencia o falta de idoneidad del equipo estructurador | H22: Proceso sin condiciones técnicas necesarias para la prestación del servicio. | I22: 1 | J22: 1 | K22: =+I22+J22 -> 2 | L22: =IF(K22<=4,"BAJO",IF(K22=5,"MEDIO",IF(K22=6,"ALTO",IF(K22=7,"ALTO","EXTREMO")))) -> BAJO
B23: SELECCIÓN | C23: Inadecuada evaluación de las ofertas y/o verificación de requisitos habilitantes | H23: Demandas por parte de los oferentes no seleccionados: Acciones de nulidad y restablecimiento del derecho por parte de competidores que sí cumplían y vieron vulnerados sus derechos, obligando a la entidad al pago de indemnizaciones. | I23: 2 | J23: 3 | K23: =+I23+J23 -> 5 | L23: =IF(K23<=4,"BAJO",IF(K23=5,"MEDIO",IF(K23=6,"ALTO",IF(K23=7,"ALTO","EXTREMO")))) -> MEDIO
B24: SELECCIÓN | C24: Contestación inoportuna a todas las observaciones formuladas a los documentos de la contratación | H24: Vicios de procedimiento y nulidad y Pérdida de confianza institucional y reputación | I24: 2 | J24: 4 | K24: =+I24+J24 -> 6 | L24: =IF(K24<=4,"BAJO",IF(K24=5,"MEDIO",IF(K24=6,"ALTO",IF(K24=7,"ALTO","EXTREMO")))) -> ALTO
B25: SELECCIÓN | C25: No publicación de la documentación del proceso de selección en el SECOP | H25: Infracción del principio de publicidad y transparencia, nvestigaciones disciplinarias de la Procuraduría, ineficacia de las etapas contractuales. | I25: 1 | J25: 2 | K25: =+I25+J25 -> 3 | L25: =IF(K25<=4,"BAJO",IF(K25=5,"MEDIO",IF(K25=6,"ALTO",IF(K25=7,"ALTO","EXTREMO")))) -> BAJO
B26: SELECCIÓN | C26: Selección de ofertas con precios artificialmente bajos. | H26: Deficiencia extrema en la calidad del servicio o suministro o Litigiosidad por solicitudes de reequilibrio económico. | I26: 2 | J26: 4 | K26: =+I26+J26 -> 6 | L26: =IF(K26<=4,"BAJO",IF(K26=5,"MEDIO",IF(K26=6,"ALTO",IF(K26=7,"ALTO","EXTREMO")))) -> ALTO
B27: SELECCIÓN | C27: Validación de certificaciones de experiencia falsas | H27: Configuración de delitos penales y fiscales, Siniestro por incapacidad técnica absoluta y Revocatoria directa del acto de adjudicación. | I27: 1 | J27: 5 | K27: =+I27+J27 -> 6 | L27: =IF(K27<=4,"BAJO",IF(K27=5,"MEDIO",IF(K27=6,"ALTO",IF(K27=7,"ALTO","EXTREMO")))) -> ALTO
B28: SELECCIÓN | C28: Rigidez extrema ante errores puramente formales | H28: Demandas de los oferentes por una selección no objetiva, posible declaratoria de descierto del proceso contractual. | I28: 1 | J28: 2 | K28: =+I28+J28 -> 3 | L28: =IF(K28<=4,"BAJO",IF(K28=5,"MEDIO",IF(K28=6,"ALTO",IF(K28=7,"ALTO","EXTREMO")))) -> BAJO
B29: CONTRATACIÓN | C29: Falta de constitución o constitución tardía de la garantía única. Aceptación de garantías que no se ajustan a lo contemplado en el contrato | H29: Imposibilidad de iniciar la ejecución (Retraso en el cronograma), Desprotección patrimonial del Estado, | I29: 2 | J29: 3 | K29: =+I29+J29 -> 5 | L29: =IF(K29<=4,"BAJO",IF(K29=5,"MEDIO",IF(K29=6,"ALTO",IF(K29=7,"ALTO","EXTREMO")))) -> MEDIO
... B42: EJECUCIÓN | C42: Incidentes de seguridad y salud en el trabajo con terceros contratados por horas | H42: Posibles sanciones, afectación en la continuidad del servicio y necesidad de reemplazo inmediato del personal para evitar la desatención de los puestos de vigilancia de la Alcaldía Local de Kennedy. | I42: 1 | J42: 2 | K42: =+I42+J42 -> 3 | L42: =IF(K42<=4,"BAJO",IF(K42=5,"MEDIO",IF(K42=6,"ALTO",IF(K42=7,"ALTO","EXTREMO")))) -> BAJO
B45: Probabilidad | C45: Catagoria | E45: Valoración | G45: Impacto | H45: Categoria | I45: Valoración
C46: Raro (puede ocurrir excepcionalmente) | E46: 1 | H46: Insignificante | I46: 1
C47: Improbable (puede ocurrir ocasionalmente) | E47: 2 | H47: Menor | I47: 2
C48: Posible (puede ocurrir en cualquier momento futuro) | E48: 3 | H48: Moderado | I48: 3
C49: Probable (probablemente va a ocurrir) | E49: 4 | H49: Mayor | I49: 4
C50: Casi cierto (ocurre en la mayoria de circunstancias) | E50: 5 | H50: Catastrófico | I50: 5
C52: Valoración del Riesgo
C53: Calificación Cualitativa | F53: Obstruye la ejecución del contrato de manera intrascendente. | G53: Dificulta la ejecución del contrato de manera baja, aplicando medidas mínimas se pueden lograr el objeto contractual | H53: Afecta la ejecución del contrato sin alterar el beneficio para las partes | I53: Obstruye la ejecución del contrato sustancialmente pero aun así permite la consecución del objeto contractual | K53: Perturba la ejecución del contrato de manera grave imposibilitando la consecución del objeto contractual.
C54: Calificación Monetaria | F54: Los sobrecostos no representan más del uno por ciento (1%) del valor del contrato. | G54: Los sobrecostos no representan más del cinco por ciento (5%) del valor del contrato. | H54: Genera un impacto sobre el valor del contrato entre el cinco (5%) y el quince por ciento (15%). | I54: Incrementa el valor del contrato entre el quince (15%) y el treinta por ciento (30%). | K54: Impacto sobre el valor del contrato en más del treinta por ciento (30%).
C55: Categoría | E55: Valoración | F55: Insignificante | G55: Menor | H55: Moderado | I55: Mayor | K55: Catastrófico
F56: 1 | G56: 2 | H56: 3 | I56: 4 | K56: 5
C57: Raro (puede ocurrir excepcionalmente) | E57: 1 | F57: 2 | G57: 3 | H57: 4 | I57: 5 | K57: 6
C58: Improbable (puede ocurrir ocasionalmente) | E58: 2 | F58: 3 | G58: 4 | H58: 5 | I58: 6 | K58: 7
C59: Posible (puede ocurrir en cualquier momento futuro) | E59: 3 | F59: 4 | G59: 5 | H59: 6 | I59: 7 | K59: 8
C60: Probable (probablemente va a ocurrir) | E60: 4 | F60: 5 | G60: 6 | H60: 7 | I60: 8 | K60: 9
...

Sheet EVALUACION CON CONTROLES
C2: MATRIZ DE RIESGOS DE CONTRATACIÓN | Q2: Código: GCO-GCI-F164 Versión: 02 Vigencia: 01 de diciembre de 2022 Caso HOLA: 280117
B6: =+EVALUACION!B6 -> Objeto Contractual: Contratar la prestación del servicio integral de vigilancia y seguridad privada en la modalidad de vigilancia fija, con medio humano con y sin arma, apoyo canino y medios tecnológicos, para la protección de las personas, bienes muebles e inmuebles y demás intereses patrimoniales del Fondo Desarrollo Local de Kennedy y de aquellos por los cuales sea o llegare a ser legalmente responsable.
B7: INSTRUCCIONES PARA LA IDENTIFICACIÓN, ANALISIS, EVALUACIÓN , ASIGNACIÓN Y TRATAMIENTO DE RIESGOS EN LA CONTRATACIÓN
B8: 1) Describa el tratamiento/controles a ser implementados
B9: 2) Diligencie la información de las siguientes columnas, de acuerdo con el análisis realizado a cada riesgo: Afecta el equilibrio económico, persona responsable de implementar el tratamiento, fecha estimada de inicio del tratamiento, fecha estimada en la que se completa el tratamiento, cómo se realiza el monitoreo y la periodicidad.
B10: 3) Continúe en la hoja de "ASIGNACIÓN Y TRATAMIENTO" y diligencie las siguientes casillas: A quien se le asigna y el porcentaje que asume cada una de las partes en caso de que sea compartido.
B15: ETAPA | C15: Descripción (Que puede pasar y, cómo puede ocurrir) | G15: Tratamiento/Controles a ser implementados | I15: Probabilidad de Ocurrencia | J15: Impacto | K15: Calificación Total | L15: Prioridad | M15: ¿Afecta el equilibrio económico del contrato? | N15: Persona responsable por implementar el tratamiento | O15: Fecha estimada en que se inicia el tratamiento | P15: Fecha estimada en que se completa el tratamiento | Q15: ¿Cómo se realiza el monitoreo? | R15: Periodicidad ¿Cuándo?
B16: =+EVALUACION!B17 -> PLANEACIÓN | C16: =+EVALUACION!C17 -> Inadecuada escogencia de la modalidad de contratación | G16: análisis normativo riguroso en los estudios previos que justifique de manera expresa la modalidad de selección elegida, confrontándola directamente con las causales taxativas de la Ley 80 de 1993 y la Ley 1150 de 2007. | I16: =+EVALUACION!I17 -> 1 | J16: =+EVALUACION!J17 -> 1 | K16: =+I16+J16 -> 2 | L16: =IF(K16<=4,"BAJO",IF(K16=5,"MEDIO",IF(K16=6,"ALTO",IF(K16=7,"ALTO","EXTREMO")))) -> BAJO | M16: NO | N16: Coordinador de Contratación. | O16: mayo | P16: junio | Q16: Revisiones a los documentos previos a la publicación | R16: Permanente
B17: =+EVALUACION!B18 -> PLANEACIÓN | C17: =+EVALUACION!C18 -> Requisitos habilitantes inapropiados para el proceso de selección | G17: Estructurar las exigencias de capacidad jurídica, financiera y organizacional con estricta observancia a los principios de proporcionalidad y razonabilidad, tomando como base directa los hallazgos y variables promedio identificadas en el estudio de sector. | I17: =+EVALUACION!I18 -> 1 | J17: =+EVALUACION!J18 -> 1 | K17: =+I17+J17 -> 2 | L17: =IF(K17<=4,"BAJO",IF(K17=5,"MEDIO",IF(K17=6,"ALTO",IF(K17=7,"ALTO","EXTREMO")))) -> BAJO | M17: NO | N17: Formulador, líder, Profesionales | O17: mayo | P17: junio | Q17: Revisiones a los documentos previos a la publicación. | R17: Permanente
B18: =+EVALUACION!B19 -> PLANEACIÓN | C18: =+EVALUACION!C19 -> Inadecuado análisis económico estimativo del valor del contrato | G18: Elaborar el presupuesto estimado mediante el cruce de múltiples fuentes de información confiables: como mínimo tres cotizaciones de proveedores idóneos del sector, precios históricos de contratos estatales de objeto similar en el SECOP y consulta de precios de referencia de catálogos oficiales. | I18: =+EVALUACION!I19 -> 1 | J18: =+EVALUACION!J19 -> 1 | K18: =+I18+J18 -> 2 | L18: =IF(K18<=4,"BAJO",IF(K18=5,"MEDIO",IF(K18=6,"ALTO",IF(K18=7,"ALTO","EXTREMO")))) -> BAJO | M18: SI | N18: Formulador, líder, Profesionales financieros | O18: Mayo | P18: junio | Q18: Revisiones a los documentos previos a la publicación. | R18: Permanente
B19: =+EVALUACION!B20 -> PLANEACIÓN | C19: =+EVALUACION!C20 -> No aprobación o demoras en la expedición vigencias futuras | G19: Realizar tramites de vigencias en tiempos, revisión anticipada de la necesidad y relacionamiento con secretaria de planeación para ajustas el PAA. | I19: =+EVALUACION!I20 -> 1 | J19: =+EVALUACION!J20 -> 1 | K19: =+I19+J19 -> 2 | L19: =IF(K19<=4,"BAJO",IF(K19=5,"MEDIO",IF(K19=6,"ALTO",IF(K19=7,"ALTO","EXTREMO")))) -> BAJO | M19: SI | N19: Formulador, líder, Profesionales | O19: mayo | P19: junio | Q19: Revisiones a los documentos previos a la publicación. | R19: Permanente
B20: =+EVALUACION!B21 -> PLANEACIÓN | C20: =+EVALUACION!C21 -> Falta de profundidad en el estudio de sector no identificandose claramente aspectos de oferta y demanda | G20: Aplicar de manera rigurosa la Guía para la Elaboración de Estudios de Sector de Colombia Compra Eficiente, documentando de forma cualitativa y cuantitativa el comportamiento del mercado, los principales competidores, las condiciones de comercialización y la identificación de riesgos asociados a la cadena de suministro. | I20: =+EVALUACION!I21 -> 1 | J20: =+EVALUACION!J21 -> 2 | K20: =+I20+J20 -> 3 | L20: =IF(K20<=4,"BAJO",IF(K20=5,"MEDIO",IF(K20=6,"ALTO",IF(K20=7,"ALTO","EXTREMO")))) -> BAJO | M20: SI | N20: Formulador, líder, Profesionales financieros | O20: mayo | P20: junio | Q20: Revisiones a los documentos previos a la publicación. | R20: Permanente
B21: =+EVALUACION!B22 -> PLANEACIÓN | C21: =+EVALUACION!C22 -> Ineficiencia o falta de idoneidad del equipo estructurador | G21: Realizar una selección del equipo estrucutrador adecuad, revisión de estudios previos de los No Hay solicitados para los formuladores de los procesos. | I21: =+EVALUACION!I22 -> 1 | J21: =+EVALUACION!J22 -> 1 | K21: =+I21+J21 -> 2 | L21: =IF(K21<=4,"BAJO",IF(K21=5,"MEDIO",IF(K21=6,"ALTO",IF(K21=7,"ALTO","EXTREMO")))) -> BAJO | M21: NO | N21: Coordinador de Contratación. | O21: mayo | P21: junio | Q21: Evaluación de la Propuesta Económica | R21: Permanente
B22: =+EVALUACION!B23 -> SELECCIÓN | C22: =+EVALUACION!C23 -> Inadecuada evaluación de las ofertas y/o verificación de requisitos habilitantes | G22: Designar un comité evaluador (técnico, financiero y jurídico) conformado por profesionales idóneos, garantizando que dediquen el tiempo necesario mediante el uso de listas de chequeo estrictas y automatizadas basadas exclusivamente en los pliegos definitivos. | I22: =+EVALUACION!I23 -> 2 | J22: =+EVALUACION!J23 -> 3 | K22: =+I22+J22 -> 5 | L22: =IF(K22<=4,"BAJO",IF(K22=5,"MEDIO",IF(K22=6,"ALTO",IF(K22=7,"ALTO","EXTREMO")))) -> MEDIO | M22: NO | N22: Comité evaluador | O22: mayo | P22: junio | Q22: Evaluación de la Propuesta Económica | R22: Permanente
B23: =+EVALUACION!B24 -> SELECCIÓN | C23: =+EVALUACION!C24 -> Contestación inoportuna a todas las observaciones formuladas a los documentos de la contratación | G23: Consolidar un banco de respuestas tipo y realizar mesas de trabajo extraordinarias permanentes durante la etapa de observaciones para garantizar respuestas de fondo, motivadas legalmente y publicadas estrictamente dentro de los plazos del cronograma. | I23: =+EVALUACION!I24 -> 2 | J23: =+EVALUACION!J24 -> 4 | K23: =+I23+J23 -> 6 | L23: =IF(K23<=4,"BAJO",IF(K23=5,"MEDIO",IF(K23=6,"ALTO",IF(K23=7,"ALTO","EXTREMO")))) -> ALTO | M23: NO | N23: Comité evaluador | O23: junio | P23: agosto | Q23: Revisiones a los documentos previos a la publicación. | R23: Permanente
B24: =+EVALUACION!B25 -> SELECCIÓN | C24: =+EVALUACION!C25 -> No publicación de la documentación del proceso de selección en el SECOP | G24: Realizar auditorías de control interno periódicas al estado de los expedientes electrónicos para asegurar el cumplimiento del principio de publicidad y transparencia. | I24: =+EVALUACION!I25 -> 1 | J24: =+EVALUACION!J25 -> 2 | K24: =+I24+J24 -> 3 | L24: =IF(K24<=4,"BAJO",IF(K24=5,"MEDIO",IF(K24=6,"ALTO",IF(K24=7,"ALTO","EXTREMO")))) -> BAJO | M24: NO | N24: Coordinador de Contratación. | O24: julio | P24: agosto | Q24: Seguimiento constante en la plataforma del Secop | R24: Permanente
B25: =+EVALUACION!B26 -> SELECCIÓN | C25: =+EVALUACION!C26 -> Selección de ofertas con precios artificialmente bajos. | G25: Aplicar de forma rigurosa la metodología y las fórmulas de la Guía de Precios Artificialmente Bajos de Colombia Compra Eficiente ante cualquier oferta que presente desviaciones significativas frente al presupuesto estimado | I25: =+EVALUACION!I26 -> 2 | J25: =+EVALUACION!J26 -> 4 | K25: =+I25+J25 -> 6 | L25: =IF(K25<=4,"BAJO",IF(K25=5,"MEDIO",IF(K25=6,"ALTO",IF(K25=7,"ALTO","EXTREMO")))) -> ALTO | M25: SI | N25: Comité evaluador | O25: julio | P25: agosto | Q25: Revisiónes en la aplicación de la fórmula para la evaluación. | R25: Permanente
B26: =+EVALUACION!B27 -> SELECCIÓN | C26: =+EVALUACION!C27 -> Validación de certificaciones de experiencia falsas | G26: Cruzar la información del Registro Único de Proponentes (RUP) con las bases de datos públicas del SECOP. | I26: =+EVALUACION!I27 -> 1 | J26: =+EVALUACION!J27 -> 5 | K26: =+I26+J26 -> 6 | L26: =IF(K26<=4,"BAJO",IF(K26=5,"MEDIO",IF(K26=6,"ALTO",IF(K26=7,"ALTO","EXTREMO")))) -> ALTO | M26: NO | N26: Comité evaluador | O26: julio | P26: agosto | Q26: Evaluación de la Propuesta Económica | R26: Permanente
B27: =+EVALUACION!B28 -> SELECCIÓN | C27: =+EVALUACION!C28 -> Rigidez extrema ante errores puramente formales | G27: Socializar con el comité jurídico y técnico de la Alcaldía Local las directrices de Colombia Compra Eficiente sobre el principio de proporcionalidad, enfatizando que la forma no debe prevalecer sobre lo sustancial para no limitar la libre competencia. | I27: =+EVALUACION!I28 -> 1 | J27: =+EVALUACION!J28 -> 2 | K27: =+I27+J27 -> 3 | L27: =IF(K27<=4,"BAJO",IF(K27=5,"MEDIO",IF(K27=6,"ALTO",IF(K27=7,"ALTO","EXTREMO")))) -> BAJO | M27: NO | N27: Coordinador de Contratación. | O27: julio | P27: agosto | Q27: Seguimiento constante en la plataforma del Secop | R27: Permanente
... B32: =+EVALUACION!B33 -> CONTRATACIÓN | C32: =+EVALUACION!C33 -> Presentación de reclamos de terceros sobre la selección del oferente que retrasen el perfeccionamiento del contrato. | G32: Garantizar que los informes de evaluación definitivos y los actos de adjudicación cuenten con una motivación fáctica y jurídica robusta e incontrovertible, resolviendo de fondo cada una de las observaciones para mitigar la interposición de recursos posteriores. | I32: =+EVALUACION!I33 -> 2 | J32: =+EVALUACION!J33 -> 4 | K32: =+I32+J32 -> 6 | L32: =IF(K32<=4,"BAJO",IF(K32=5,"MEDIO",IF(K32=6,"ALTO",IF(K32=7,"ALTO","EXTREMO")))) -> ALTO | M32: NO | N32: Formulador, líder, Profesionales | O32: Junio | P32: septiembre | Q32: Revisiones a los documentos previos a la publicación, y las observaciones realizadas por los proponentes | R32: Permanente
B33: =+EVALUACION!B34 -> EJECUCIÓN | C33: =+EVALUACION!C34 -> Cambios en el marco regulatorio o normatividad aplicable al proyecto. | G33: Establecer en las mesas técnicas bilaterales la evaluación inmediata del impacto económico u operativo de la nueva norma, acordando de ser necesario la suscripción de modificaciones, adiciones o un plan de transición legal que proteja la ecuación contractual y evite litigios administrativos. | I33: 1 | J33: 3 | K33: =+I33+J33 -> 4 | L33: =IF(K33<=4,"BAJO",IF(K33=5,"MEDIO",IF(K33=6,"ALTO",IF(K33=7,"ALTO","EXTREMO")))) -> BAJO | M33: SI | N33: Coordinador de Contratación. | O33: agosto | P33: diciembre | Q33: Seguimiento constante a la ejecución del contrato | R33: Permanente
B34: =+EVALUACION!B35 -> EJECUCIÓN | C34: =+EVALUACION!C35 -> Intrusión violenta y disturbios de colectivos sociales | G34: la exigencia y verificación periódica de protocolos de reacción y contingencia ante alteraciones de orden público, evacuación y coordinación con las autoridades competentes. | I34: 2 | J34: 2 | K34: =+I34+J34 -> 4 | L34: =IF(K34<=4,"BAJO",IF(K34=5,"MEDIO",IF(K34=6,"ALTO",IF(K34=7,"ALTO","EXTREMO")))) -> BAJO | M34: NO | N34: Apoyo a la Supervisión | O34: agosto | P34: diciembre | Q34: Seguimiento constante a la ejecución del contrato | R34: Permanente
B35: =+EVALUACION!B36 -> EJECUCIÓN | C35: =+EVALUACION!C36 -> Emergencia Sanitaria ordenada por OMS y aplicada al territorio | G35: Pactar contractualmente los mecanismos automáticos de suspensión por fuerza mayor, la renegociación de hitos o la virtualización de actividades (como el uso de plataformas para la transmisión de eventos) para mitigar el impacto fiscal ante un cese de actividades presenciales decretado por la autoridad sanitaria. | I35: 1 | J35: 1 | K35: =+I35+J35 -> 2 | L35: =IF(K35<=4,"BAJO",IF(K35=5,"MEDIO",IF(K35=6,"ALTO",IF(K35=7,"ALTO","EXTREMO")))) -> BAJO | M35: SI | N35: Apoyo a la Supervisión | O35: agosto | P35: diciembre | Q35: Seguimiento constante a la ejecución del contrato | R35: Permanente
B36: =+EVALUACION!B37 -> EJECUCIÓN | C36: =+EVALUACION!C37 -> Hackeo de cámaras de vigilancia y vulneración del sistema de seguridad | G36: Exigir al contratista políticas de actualización de firmware, encriptación de datos, cambios periódicos de contraseñas robustas y la instalación de un firewall. Realizar auditorías lógicas e inspecciones técnicas mensuales por parte del supervisor o interventor. | I36: 1 | J36: 1 | K36: =+I36+J36 -> 2 | L36: =IF(K36<=4,"BAJO",IF(K36=5,"MEDIO",IF(K36=6,"ALTO",IF(K36=7,"ALTO","EXTREMO")))) -> BAJO | M36: SI | N36: Apoyo a la Supervisión | O36: agosto | P36: diciembre | Q36: Seguimiento constante a la ejecución del contrato | R36: Permanente
B37: =+EVALUACION!B38 -> EJECUCIÓN | C37: =+EVALUACION!C38 -> Fallas en el servicio por falta de personal | G37: Establecer contractualmente la obligación de mantener un grupo de retén o personal de reserva disponible en la localidad de Kennedy para cubrir ausencias en menos de dos (2) horas. | I37: 2 | J37: 3 | K37: =+I37+J37 -> 5 | L37: =IF(K37<=4,"BAJO",IF(K37=5,"MEDIO",IF(K37=6,"ALTO",IF(K37=7,"ALTO","EXTREMO")))) -> MEDIO | M37: SI | N37: Apoyo a la Supervisión | O37: agosto | P37: diciembre | Q37: Seguimiento constante a la ejecución del contrato | R37: Permanente
B38: =+EVALUACION!B39 -> EJECUCIÓN | C38: =+EVALUACION!C39 -> Hurtos internos dentro del edificio | G38: Diseñar y aplicar un estricto protocolo de control de activos mediante bitácoras digitales para el ingreso/salida de equipos y paquetes. Implementar un plan de rondas dinámicas aleatorias con lector de tags | I38: 2 | J38: 2 | K38: =+I38+J38 -> 4 | L38: =IF(K38<=4,"BAJO",IF(K38=5,"MEDIO",IF(K38=6,"ALTO",IF(K38=7,"ALTO","EXTREMO")))) -> BAJO | M38: NO | N38: Apoyo a la Supervisión | O38: agosto | P38: diciembre | Q38: Seguimiento constante a la ejecución del contrato | R38: Permanente
B39: =+EVALUACION!B40 -> EJECUCIÓN | C39: =+EVALUACION!C40 -> Defecto en la instalación de equipos | G39: Exigir en el pliego de condiciones fichas técnicas homologadas de los equipos y realizar una prueba piloto de funcionamiento antes de la firma del acta de recibo a satisfacción. Pactar un plan de mantenimiento preventivo mensual y correctivo las 24 horas, con la obligación de reemplazar de manera provisional cualquier equipo defectuoso en un plazo máximo | I39: 2 | J39: 3 | K39: =+I39+J39 -> 5 | L39: =IF(K39<=4,"BAJO",IF(K39=5,"MEDIO",IF(K39=6,"ALTO",IF(K39=7,"ALTO","EXTREMO")))) -> MEDIO | M39: NO | N39: Apoyo a la Supervisión/ Contratista | O39: agosto | P39: diciembre | Q39: Seguimiento constante a la ejecución del contrato | R39: Permanente
B40: =+EVALUACION!B41 -> EJECUCIÓN | C40: =+EVALUACION!C41 -> Accidentes por mal manejo del pesonal armado | G40: Exigir de manera obligatoria las pruebas psicotécnicas, certificados de capacitación vigentes en manejo de armas (aprobados por la Superintendencia de Vigilancia) y realizar una estricta verificación antes del despliegue del personal. Establecer un protocolo riguroso para el arme y desarme exclusivamente en las zonas seguras autorizadas dentro de la Alcaldía, bajo supervisión del supervisor de turno. | I40: 2 | J40: 3 | K40: 4 | L40: =IF(K40<=4,"BAJO",IF(K40=5,"MEDIO",IF(K40=6,"ALTO",IF(K40=7,"ALTO","EXTREMO")))) -> BAJO | M40: NO | N40: Apoyo a la Supervisión/ Contratista | O40: agosto | P40: diciembre | Q40: Seguimiento constante a la ejecución del contrato | R40: Permanente
B41: =+EVALUACION!B42 -> EJECUCIÓN | C41: =+EVALUACION!C42 -> Incidentes de seguridad y salud en el trabajo con terceros contratados por horas | G41: Exigir al contratista la afiliación completa y oportuna de todo el personal operativo al Sistema General de Seguridad Social (EPS, ARL, AFP y Caja de Compensación), incluyendo al personal contratado por horas o en modalidad de refuerzo. Implementar un programa de inducción en SST antes del despliegue del personal. El supervisor verificará mensualmente la vigencia de las afiliaciones y aplicará las sanciones contractuales ante cualquier incumplimiento. | I41: 1 | J41: 2 | K41: =+I41+J41 -> 3 | L41: =IF(K41<=4,"BAJO",IF(K41=5,"MEDIO",IF(K41=6,"ALTO",IF(K41=7,"ALTO","EXTREMO")))) -> BAJO | M41: SI | N41: Contratista | O41: agosto | P41: diciembre | Q41: Seguimiento constante a la ejecución del contrato | R41: Permanente
C43: Categoria del Riesgo | H43: Impacto del Riesgo
B44: Probabilidad | C44: Catagoria | F44: Valoración | H44: Categoria | J44: Valoración | N44: Categoria del Riesgo
C45: Raro (puede ocurrir excepcionalmente) | F45: 1 | H45: Insignificante | J45: 1 | N45: Valoración del Riesgo | P45: Categoría
C46: Improbable (puede ocurrir ocasionalmente) | F46: 2 | H46: Menor | J46: 2 | N46: 8, 9 y 10 | P46: Riesgo extremo
C47: Posible (puede ocurrir en cualquier momento futuro) | F47: 3 | H47: Moderado | J47: 3 | N47: 6 y 7 | P47: Riesgo alto
C48: Probable (probablemente va a ocurrir) | F48: 4 | H48: Mayor | J48: 4 | N48: 5 | P48: Riesgo medio
C49: Casi cierto (ocurre en la mayoria de circunstancias) | F49: 5 | H49: Catastrófico | J49: 5 | N49: 2, 3 y 4 | P49: Riesgo bajo
C51: Valoración del Riesgo
C52: Calificación Cualitativa | G52: Obstruye la ejecución del contrato de manera intrascendente. | I52: Dificulta la ejecución del contrato de manera baja, aplicando medidas mínimas se pueden lograr el objeto contractual | L52: Afecta la ejecución del contrato sin alterar el beneficio para las partes | N52: Obstruye la ejecución del contrato sustancialmente pero aun así permite la consecución del objeto contractual | P52: Perturba la ejecución del contrato de manera grave imposibilitando la consecución del objeto contractual.
C53: Calificación Monetaria | G53: Los sobrecostos no representan más del uno por ciento (1%) del valor del contrato. | I53: Los sobrecostos no representan más del cinco por ciento (5%) del valor del contrato. | L53: Genera un impacto sobre el valor del contrato entre el cinco (5%) y el quince por ciento (15%). | N53: Incrementa el valor del contrato entre el quince (15%) y el treinta por ciento (30%). | P53: Impacto sobre el valor del contrato en más del treinta por ciento (30%).
C54: Catagoria | F54: Valoración | G54: Insignificante | I54: Menor | L54: Moderado | N54: Mayor | P54: Catastrófico
...

Sheet ASIGNACION Y TRATAMIENTO
C2: MATRIZ DE RIESGOS DE CONTRATACIÓN | W2: Código: GCO-GCI-F164 Versión: 02 Vigencia: 01 de diciembre de 2022 Caso HOLA: 280117
B5: OBJETO CONTRACTUAL: PRESTACIÓN DEL SERVICIO INTEGRAL DE VIGILANCIA Y SEGURIDAD PRIVADA EN LA MODALIDAD DE VIGILANCIA FIJA, CON MEDIO HUMANO CON Y SIN ARMA, Y MEDIOS TECNOLÓGICOS, PARA LA PROTECCIÓN DE LAS PERSONAS, BIENES MUEBLES E INMUEBLES Y DEMÁS INTERESES PATRIMONIALES DEL FONDO DESARROLLO LOCAL DE KENNEDY Y DE AQUELLOS POR LOS CUALES SEA O LLEGARE A SER LEGALMENTE RESPONSABLE.
B6: Esta matriz es un documento anexo del Estudio Previo
B8: No | C8: Descripción (Que puede pasar y, cómo puede ocurrir) | D8: Etapa | E8: Clase | F8: Fuente | G8: Consecuencias de la ocurrencia del evento | H8: Probabilidad | I8: Impacto | J8: Calificación total | K8: Prioridad | L8: ¿A quien se le asigna? | M8: % | N8: Tratamiento/Controles a ser implementados | O8: Probabilidad | P8: Impacto | Q8: Calificación total | R8: Prioridad | S8: ¿Afecta el equilibrio económico del contrato? | T8: Persona responsable por implementar el tratamiento | U8: Fecha estimada en que se inicia el tratamiento | V8: Fecha estimada en que se completa el tratamiento | W8: ¿Cómo se realiza el monitoreo | X8: Periodicidad ¿Cuándo?
B9: 1 | C9: =+'EVALUACION CON CONTROLES'!C16:F16 -> Inadecuada escogencia de la modalidad de contratación | D9: =+'EVALUACION CON CONTROLES'!B16 -> PLANEACIÓN | E9: =VLOOKUP(C9,'IDENTIFICACION Y ANALISIS'!$B$19:$F$88,3,FALSE()) -> Especifico | F9: =VLOOKUP(C9,'IDENTIFICACION Y ANALISIS'!$B$19:$F$88,4,FALSE()) -> Interno | G9: =+EVALUACION!H17 -> Nulidad del proceso o del contrato, Investigaciones y sanciones de entes de control: Apertura de procesos disciplinarios o fiscales contra los ordenadores del gasto por evadir los procedimientos legales de selección | H9: =+EVALUACION!I17 -> 1 | I9: =+EVALUACION!J17 -> 1 | J9: =+EVALUACION!K17 -> 2 | K9: =+EVALUACION!L17 -> BAJO | L9: SDG | M9: 100 | N9: =+'EVALUACION CON CONTROLES'!G16 -> análisis normativo riguroso en los estudios previos que justifique de manera expresa la modalidad de selección elegida, confrontándola directamente con las causales taxativas de la Ley 80 de 1993 y la Ley 1150 de 2007. | O9: =+'EVALUACION CON CONTROLES'!I16 -> 1 | P9: =+'EVALUACION CON CONTROLES'!J16 -> 1 | Q9: =+'EVALUACION CON CONTROLES'!K16 -> 2 | R9: =+'EVALUACION CON CONTROLES'!L16 -> BAJO | S9: =+'EVALUACION CON CONTROLES'!M16 -> NO | T9: =+'EVALUACION CON CONTROLES'!N16 -> Coordinador de Contratación. | U9: =+'EVALUACION CON CONTROLES'!O16 -> mayo | V9: =+'EVALUACION CON CONTROLES'!P16 -> junio | ... X9: =+'EVALUACION CON CONTROLES'!R16 -> Permanente
B10: 2 | C10: =+'EVALUACION CON CONTROLES'!C17:F17 -> Requisitos habilitantes inapropiados para el proceso de selección | D10: =+'EVALUACION CON CONTROLES'!B17 -> PLANEACIÓN | E10: =VLOOKUP(C10,'IDENTIFICACION Y ANALISIS'!$B$19:$F$88,3,FALSE()) -> Especifico | F10: =VLOOKUP(C10,'IDENTIFICACION Y ANALISIS'!$B$19:$F$88,4,FALSE()) -> Interno | G10: =+EVALUACION!H18 -> Proceso desierto o Contratación de un proveedor sin capacidad real. | H10: =+EVALUACION!I18 -> 1 | I10: =+EVALUACION!J18 -> 1 | J10: =+EVALUACION!K18 -> 2 | K10: =+EVALUACION!L18 -> BAJO | L10: SDG | M10: 100 | N10: =+'EVALUACION CON CONTROLES'!G17 -> Estructurar las exigencias de capacidad jurídica, financiera y organizacional con estricta observancia a los principios de proporcionalidad y razonabilidad, tomando como base directa los hallazgos y variables promedio identificadas en el estudio de sector. | O10: =+'EVALUACION CON CONTROLES'!I17 -> 1 | P10: =+'EVALUACION CON CONTROLES'!J17 -> 1 | Q10: =+'EVALUACION CON CONTROLES'!K17 -> 2 | R10: =+'EVALUACION CON CONTROLES'!L17 -> BAJO | S10: =+'EVALUACION CON CONTROLES'!M17 -> NO | T10: =+'EVALUACION CON CONTROLES'!N17 -> Formulador, líder, Profesionales | U10: =+'EVALUACION CON CONTROLES'!O17 -> mayo | V10: =+'EVALUACION CON CONTROLES'!P17 -> junio | ... X10: =+'EVALUACION CON CONTROLES'!R17 -> Permanente
B11: 3 | C11: =+'EVALUACION CON CONTROLES'!C18:F18 -> Inadecuado análisis económico estimativo del valor del contrato | D11: =+'EVALUACION CON CONTROLES'!B18 -> PLANEACIÓN | E11: =VLOOKUP(C11,'IDENTIFICACION Y ANALISIS'!$B$19:$F$88,3,FALSE()) -> Especifico | F11: =VLOOKUP(C11,'IDENTIFICACION Y ANALISIS'!$B$19:$F$88,4,FALSE()) -> Interno | G11: =+EVALUACION!H19 -> Desequilibrio económico inmediato, posible afectación de los recursos públicos, ineficiencia en el gasto público que puedan ser objeto de hallazgos fiscales. | H11: =+EVALUACION!I19 -> 1 | I11: =+EVALUACION!J19 -> 1 | J11: =+EVALUACION!K19 -> 2 | K11: =+EVALUACION!L19 -> BAJO | L11: SDG | M11: 100 | N11: =+'EVALUACION CON CONTROLES'!G18 -> Elaborar el presupuesto estimado mediante el cruce de múltiples fuentes de información confiables: como mínimo tres cotizaciones de proveedores idóneos del sector, precios históricos de contratos estatales de objeto similar en el SECOP y consulta de precios de referencia de catálogos oficiales. | O11: =+'EVALUACION CON CONTROLES'!I18 -> 1 | P11: =+'EVALUACION CON CONTROLES'!J18 -> 1 | Q11: =+'EVALUACION CON CONTROLES'!K18 -> 2 | R11: =+'EVALUACION CON CONTROLES'!L18 -> BAJO | S11: =+'EVALUACION CON CONTROLES'!M18 -> SI | T11: =+'EVALUACION CON CONTROLES'!N18 -> Formulador, líder, Profesionales financieros | U11: =+'EVALUACION CON CONTROLES'!O18 -> Mayo | V11: =+'EVALUACION CON CONTROLES'!P18 -> junio | ... X11: =+'EVALUACION CON CONTROLES'!R18 -> Permanente
B12: 4 | C12: =+'EVALUACION CON CONTROLES'!C19:F19 -> No aprobación o demoras en la expedición vigencias futuras | D12: =+'EVALUACION CON CONTROLES'!B19 -> PLANEACIÓN | E12: =VLOOKUP(C12,'IDENTIFICACION Y ANALISIS'!$B$19:$F$88,3,FALSE()) -> Especifico | F12: =VLOOKUP(C12,'IDENTIFICACION Y ANALISIS'!$B$19:$F$88,4,FALSE()) -> Interno | G12: =+EVALUACION!H20 -> Inexistencia de justificación financiera para el inicio del proceso contractual | H12: =+EVALUACION!I20 -> 1 | I12: =+EVALUACION!J20 -> 1 | J12: =+EVALUACION!K20 -> 2 | K12: =+EVALUACION!L20 -> BAJO | L12: SDG | M12: 100 | N12: =+'EVALUACION CON CONTROLES'!G19 -> Realizar tramites de vigencias en tiempos, revisión anticipada de la necesidad y relacionamiento con secretaria de planeación para ajustas el PAA. | O12: =+'EVALUACION CON CONTROLES'!I19 -> 1 | P12: =+'EVALUACION CON CONTROLES'!J19 -> 1 | Q12: =+'EVALUACION CON CONTROLES'!K19 -> 2 | R12: =+'EVALUACION CON CONTROLES'!L19 -> BAJO | S12: =+'EVALUACION CON CONTROLES'!M19 -> SI | T12: =+'EVALUACION CON CONTROLES'!N19 -> Formulador, líder, Profesionales | U12: =+'EVALUACION CON CONTROLES'!O19 -> mayo | V12: =+'EVALUACION CON CONTROLES'!P19 -> junio | ... X12: =+'EVALUACION CON CONTROLES'!R19 -> Permanente
B13: 5 | C13: =+'EVALUACION CON CONTROLES'!C20:F20 -> Falta de profundidad en el estudio de sector no identificandose claramente aspectos de oferta y demanda | D13: =+'EVALUACION CON CONTROLES'!B20 -> PLANEACIÓN | E13: =VLOOKUP(C13,'IDENTIFICACION Y ANALISIS'!$B$19:$F$88,3,FALSE()) -> General | F13: =VLOOKUP(C13,'IDENTIFICACION Y ANALISIS'!$B$19:$F$88,4,FALSE()) -> Interno | G13: =+EVALUACION!H21 -> Pérdida de poder de negociación de la entidad, Riesgo de estructurar un pliego de condiciones que de manera involuntaria favorezca a un solo actor del mercado, limitando la libre competencia y propiciando escenarios de colusión. | H13: =+EVALUACION!I21 -> 1 | I13: =+EVALUACION!J21 -> 2 | J13: =+EVALUACION!K21 -> 3 | K13: =+EVALUACION!L21 -> BAJO | L13: SDG | M13: 100 | N13: =+'EVALUACION CON CONTROLES'!G20 -> Aplicar de manera rigurosa la Guía para la Elaboración de Estudios de Sector de Colombia Compra Eficiente, documentando de forma cualitativa y cuantitativa el comportamiento del mercado, los principales competidores, las condiciones de comercialización y la identificación de riesgos asociados a la cadena de suministro. | O13: =+'EVALUACION CON CONTROLES'!I20 -> 1 | P13: =+'EVALUACION CON CONTROLES'!J20 -> 2 | Q13: =+'EVALUACION CON CONTROLES'!K20 -> 3 | R13: =+'EVALUACION CON CONTROLES'!L20 -> BAJO | S13: =+'EVALUACION CON CONTROLES'!M20 -> SI | T13: =+'EVALUACION CON CONTROLES'!N20 -> Formulador, líder, Profesionales financieros | U13: =+'EVALUACION CON CONTROLES'!O20 -> mayo | V13: =+'EVALUACION CON CONTROLES'!P20 -> junio | ... X13: =+'EVALUACION CON CONTROLES'!R20 -> Permanente
B14: 6 | C14: =+'EVALUACION CON CONTROLES'!C21:F21 -> Ineficiencia o falta de idoneidad del equipo estructurador | D14: =+'EVALUACION CON CONTROLES'!B21 -> PLANEACIÓN | E14: =VLOOKUP(C14,'IDENTIFICACION Y ANALISIS'!$B$19:$F$88,3,FALSE()) -> Estatal | F14: =VLOOKUP(C14,'IDENTIFICACION Y ANALISIS'!$B$19:$F$88,4,FALSE()) -> Interno | G14: =+EVALUACION!H22 -> Proceso sin condiciones técnicas necesarias para la prestación del servicio. | H14: =+EVALUACION!I22 -> 1 | I14: =+EVALUACION!J22 -> 1 | J14: =+EVALUACION!K22 -> 2 | K14: =+EVALUACION!L22 -> BAJO | L14: SDG | M14: 100 | N14: =+'EVALUACION CON CONTROLES'!G21 -> Realizar una selección del equipo estrucutrador adecuad, revisión de estudios previos de los No Hay solicitados para los formuladores de los procesos. | O14: =+'EVALUACION CON CONTROLES'!I21 -> 1 | P14: =+'EVALUACION CON CONTROLES'!J21 -> 1 | Q14: =+'EVALUACION CON CONTROLES'!K21 -> 2 | R14: =+'EVALUACION CON CONTROLES'!L21 -> BAJO | S14: =+'EVALUACION CON CONTROLES'!M21 -> NO | T14: =+'EVALUACION CON CONTROLES'!N21 -> Coordinador de Contratación. | U14: =+'EVALUACION CON CONTROLES'!O21 -> mayo | V14: =+'EVALUACION CON CONTROLES'!P21 -> junio | ... X14: =+'EVALUACION CON CONTROLES'!R21 -> Permanente
B15: 7 | C15: =+'EVALUACION CON CONTROLES'!C22:F22 -> Inadecuada evaluación de las ofertas y/o verificación de requisitos habilitantes | D15: =+'EVALUACION CON CONTROLES'!B22 -> SELECCIÓN | E15: =VLOOKUP(C15,'IDENTIFICACION Y ANALISIS'!$B$19:$F$88,3,FALSE()) -> Especifico | F15: =VLOOKUP(C15,'IDENTIFICACION Y ANALISIS'!$B$19:$F$88,4,FALSE()) -> Interno | G15: =+EVALUACION!H23 -> Demandas por parte de los oferentes no seleccionados: Acciones de nulidad y restablecimiento del derecho por parte de competidores que sí cumplían y vieron vulnerados sus derechos, obligando a la entidad al pago de indemnizaciones. | H15: =+EVALUACION!I23 -> 2 | I15: =+EVALUACION!J23 -> 3 | J15: =+EVALUACION!K23 -> 5 | K15: =+EVALUACION!L23 -> MEDIO | L15: SDG | M15: 100 | N15: =+'EVALUACION CON CONTROLES'!G22 -> Designar un comité evaluador (técnico, financiero y jurídico) conformado por profesionales idóneos, garantizando que dediquen el tiempo necesario mediante el uso de listas de chequeo estrictas y automatizadas basadas exclusivamente en los pliegos definitivos. | O15: =+'EVALUACION CON CONTROLES'!I22 -> 2 | P15: =+'EVALUACION CON CONTROLES'!J22 -> 3 | Q15: =+'EVALUACION CON CONTROLES'!K22 -> 5 | R15: =+'EVALUACION CON CONTROLES'!L22 -> MEDIO | S15: =+'EVALUACION CON CONTROLES'!M22 -> NO | T15: =+'EVALUACION CON CONTROLES'!N22 -> Comité evaluador | U15: =+'EVALUACION CON CONTROLES'!O22 -> mayo | V15: =+'EVALUACION CON CONTROLES'!P22 -> junio | ... X15: =+'EVALUACION CON CONTROLES'!R22 -> Permanente
B16: 8 | C16: =+'EVALUACION CON CONTROLES'!C23:F23 -> Contestación inoportuna a todas las observaciones formuladas a los documentos de la contratación | D16: =+'EVALUACION CON CONTROLES'!B23 -> SELECCIÓN | E16: =VLOOKUP(C16,'IDENTIFICACION Y ANALISIS'!$B$19:$F$88,3,FALSE()) -> Especifico | F16: =VLOOKUP(C16,'IDENTIFICACION Y ANALISIS'!$B$19:$F$88,4,FALSE()) -> Interno | G16: =+EVALUACION!H24 -> Vicios de procedimiento y nulidad y Pérdida de confianza institucional y reputación | H16: =+EVALUACION!I24 -> 2 | I16: =+EVALUACION!J24 -> 4 | J16: =+EVALUACION!K24 -> 6 | K16: =+EVALUACION!L24 -> ALTO | L16: SDG | M16: 100 | N16: =+'EVALUACION CON CONTROLES'!G23 -> Consolidar un banco de respuestas tipo y realizar mesas de trabajo extraordinarias permanentes durante la etapa de observaciones para garantizar respuestas de fondo, motivadas legalmente y publicadas estrictamente dentro de los plazos del cronograma. | O16: =+'EVALUACION CON CONTROLES'!I23 -> 2 | P16: =+'EVALUACION CON CONTROLES'!J23 -> 4 | Q16: =+'EVALUACION CON CONTROLES'!K23 -> 6 | R16: =+'EVALUACION CON CONTROLES'!L23 -> ALTO | S16: =+'EVALUACION CON CONTROLES'!M23 -> NO | T16: =+'EVALUACION CON CONTROLES'!N23 -> Comité evaluador | U16: =+'EVALUACION CON CONTROLES'!O23 -> junio | V16: =+'EVALUACION CON CONTROLES'!P23 -> agosto | ... X16: =+'EVALUACION CON CONTROLES'!R23 -> Permanente
B17: 9 | C17: =+'EVALUACION CON CONTROLES'!C24:F24 -> No publicación de la documentación del proceso de selección en el SECOP | D17: =+'EVALUACION CON CONTROLES'!B24 -> SELECCIÓN | E17: =VLOOKUP(C17,'IDENTIFICACION Y ANALISIS'!$B$19:$F$88,3,FALSE()) -> Estatal | F17: =VLOOKUP(C17,'IDENTIFICACION Y ANALISIS'!$B$19:$F$88,4,FALSE()) -> Interno | G17: =+EVALUACION!H25 -> Infracción del principio de publicidad y transparencia, nvestigaciones disciplinarias de la Procuraduría, ineficacia de las etapas contractuales. | H17: =+EVALUACION!I25 -> 1 | I17: =+EVALUACION!J25 -> 2 | J17: =+EVALUACION!K25 -> 3 | K17: =+EVALUACION!L25 -> BAJO | L17: SDG | M17: 100 | N17: =+'EVALUACION CON CONTROLES'!G24 -> Realizar auditorías de control interno periódicas al estado de los expedientes electrónicos para asegurar el cumplimiento del principio de publicidad y transparencia. | O17: =+'EVALUACION CON CONTROLES'!I24 -> 1 | P17: =+'EVALUACION CON CONTROLES'!J24 -> 2 | Q17: =+'EVALUACION CON CONTROLES'!K24 -> 3 | R17: =+'EVALUACION CON CONTROLES'!L24 -> BAJO | S17: =+'EVALUACION CON CONTROLES'!M24 -> NO | T17: =+'EVALUACION CON CONTROLES'!N24 -> Coordinador de Contratación. | U17: =+'EVALUACION CON CONTROLES'!O24 -> julio | V17: =+'EVALUACION CON CONTROLES'!P24 -> agosto | ... X17: =+'EVALUACION CON CONTROLES'!R24 -> Permanente
B18: 10 | C18: =+'EVALUACION CON CONTROLES'!C25:F25 -> Selección de ofertas con precios artificialmente bajos. | D18: =+'EVALUACION CON CONTROLES'!B25 -> SELECCIÓN | E18: =VLOOKUP(C18,'IDENTIFICACION Y ANALISIS'!$B$19:$F$88,3,FALSE()) -> Especifico | F18: =VLOOKUP(C18,'IDENTIFICACION Y ANALISIS'!$B$19:$F$88,4,FALSE()) -> Interno | G18: =+EVALUACION!H26 -> Deficiencia extrema en la calidad del servicio o suministro o Litigiosidad por solicitudes de reequilibrio económico. | H18: =+EVALUACION!I26 -> 2 | I18: =+EVALUACION!J26 -> 4 | J18: =+EVALUACION!K26 -> 6 | K18: =+EVALUACION!L26 -> ALTO | L18: CONTRATISTA Y SDG | M18: 80/20 | N18: =+'EVALUACION CON CONTROLES'!G25 -> Aplicar de forma rigurosa la metodología y las fórmulas de la Guía de Precios Artificialmente Bajos de Colombia Compra Eficiente ante cualquier oferta que presente desviaciones significativas frente al presupuesto estimado | O18: =+'EVALUACION CON CONTROLES'!I25 -> 2 | P18: =+'EVALUACION CON CONTROLES'!J25 -> 4 | Q18: =+'EVALUACION CON CONTROLES'!K25 -> 6 | R18: =+'EVALUACION CON CONTROLES'!L25 -> ALTO | S18: =+'EVALUACION CON CONTROLES'!M25 -> SI | T18: =+'EVALUACION CON CONTROLES'!N25 -> Comité evaluador | U18: =+'EVALUACION CON CONTROLES'!O25 -> julio | V18: =+'EVALUACION CON CONTROLES'!P25 -> agosto | ... X18: =+'EVALUACION CON CONTROLES'!R25 -> Permanente
B19: 11 | C19: =+'EVALUACION CON CONTROLES'!C26:F26 -> Validación de certificaciones de experiencia falsas | D19: =+'EVALUACION CON CONTROLES'!B26 -> SELECCIÓN | E19: =VLOOKUP(C19,'IDENTIFICACION Y ANALISIS'!$B$19:$F$88,3,FALSE()) -> General | F19: =VLOOKUP(C19,'IDENTIFICACION Y ANALISIS'!$B$19:$F$88,4,FALSE()) -> Interno | G19: =+EVALUACION!H27 -> Configuración de delitos penales y fiscales, Siniestro por incapacidad técnica absoluta y Revocatoria directa del acto de adjudicación. | H19: =+EVALUACION!I27 -> 1 | I19: =+EVALUACION!J27 -> 5 | J19: =+EVALUACION!K27 -> 6 | K19: =+EVALUACION!L27 -> ALTO | L19: SDG | M19: 100 | N19: =+'EVALUACION CON CONTROLES'!G26 -> Cruzar la información del Registro Único de Proponentes (RUP) con las bases de datos públicas del SECOP. | O19: =+'EVALUACION CON CONTROLES'!I26 -> 1 | P19: =+'EVALUACION CON CONTROLES'!J26 -> 5 | Q19: =+'EVALUACION CON CONTROLES'!K26 -> 6 | R19: =+'EVALUACION CON CONTROLES'!L26 -> ALTO | S19: =+'EVALUACION CON CONTROLES'!M26 -> NO | T19: =+'EVALUACION CON CONTROLES'!N26 -> Comité evaluador | U19: =+'EVALUACION CON CONTROLES'!O26 -> julio | V19: =+'EVALUACION CON CONTROLES'!P26 -> agosto | ... X19: =+'EVALUACION CON CONTROLES'!R26 -> Permanente
B20: 12 | C20: =+'EVALUACION CON CONTROLES'!C27:F27 -> Rigidez extrema ante errores puramente formales | D20: =+'EVALUACION CON CONTROLES'!B27 -> SELECCIÓN | E20: =VLOOKUP(C20,'IDENTIFICACION Y ANALISIS'!$B$19:$F$88,3,FALSE()) -> Especifico | F20: =VLOOKUP(C20,'IDENTIFICACION Y ANALISIS'!$B$19:$F$88,4,FALSE()) -> Interno | G20: =+EVALUACION!H28 -> Demandas de los oferentes por una selección no objetiva, posible declaratoria de descierto del proceso contractual. | H20: =+EVALUACION!I28 -> 1 | I20: =+EVALUACION!J28 -> 2 | J20: =+EVALUACION!K28 -> 3 | K20: =+EVALUACION!L28 -> BAJO | L20: SDG | M20: 100 | N20: =+'EVALUACION CON CONTROLES'!G27 -> Socializar con el comité jurídico y técnico de la Alcaldía Local las directrices de Colombia Compra Eficiente sobre el principio de proporcionalidad, enfatizando que la forma no debe prevalecer sobre lo sustancial para no limitar la libre competencia. | O20: =+'EVALUACION CON CONTROLES'!I27 -> 1 | P20: =+'EVALUACION CON CONTROLES'!J27 -> 2 | Q20: =+'EVALUACION CON CONTROLES'!K27 -> 3 | R20: =+'EVALUACION CON CONTROLES'!L27 -> BAJO | S20: =+'EVALUACION CON CONTROLES'!M27 -> NO | T20: =+'EVALUACION CON CONTROLES'!N27 -> Coordinador de Contratación. | U20: =+'EVALUACION CON CONTROLES'!O27 -> julio | V20: =+'EVALUACION CON CONTROLES'!P27 -> agosto | ... X20: =+'EVALUACION CON CONTROLES'!R27 -> Permanente
B21: 13 | C21: =+'EVALUACION CON CONTROLES'!C28:F28 -> Falta de constitución o constitución tardía de la garantía única. Aceptación de garantías que no se ajustan a lo contemplado en el contrato | D21: =+'EVALUACION CON CONTROLES'!B28 -> CONTRATACIÓN | E21: =VLOOKUP(C21,'IDENTIFICACION Y ANALISIS'!$B$19:$F$88,3,FALSE()) -> General | F21: =VLOOKUP(C21,'IDENTIFICACION Y ANALISIS'!$B$19:$F$88,4,FALSE()) -> Interno | G21: =+EVALUACION!H31 -> Fracaso del proceso de selección, activiación de garantías | H21: =+EVALUACION!I29 -> 2 | I21: =+EVALUACION!J29 -> 3 | J21: =+EVALUACION!K29 -> 5 | K21: =+EVALUACION!L29 -> MEDIO | L21: CONTRATISTA | M21: 100 | N21: =+'EVALUACION CON CONTROLES'!G28 -> Diseñar y aplicar una lista de chequeo interna por parte del equipo jurídico o de contratación para validar rigurosamente que cada amparo (cumplimiento, salarios, calidad, responsabilidad civil) coincida exactamente con los valores, vigencias y condiciones técnicas exigidas en los pliegos definitivos antes de expedir el acto de aprobación de la garantía. | O21: =+'EVALUACION CON CONTROLES'!I28 -> 2 | P21: =+'EVALUACION CON CONTROLES'!J28 -> 3 | Q21: =+'EVALUACION CON CONTROLES'!K28 -> 5 | R21: =+'EVALUACION CON CONTROLES'!L28 -> MEDIO | S21: =+'EVALUACION CON CONTROLES'!M28 -> NO | T21: =+'EVALUACION CON CONTROLES'!N28 -> Coordinador de Contratación. | U21: =+'EVALUACION CON CONTROLES'!O28 -> julio | V21: =+'EVALUACION CON CONTROLES'!P28 -> agosto | ... X21: =+'EVALUACION CON CONTROLES'!R28 -> Permanente
