Workbook

Sheet CosteoIndividual
G4: Proyección Resolución CIRCULAR EXTERNA N° 20251300000115CS
B5: ITEM | C5: PRODUCTO O SERVICIO | D5: ESPECIFICACION TECNICA | E5: UNIDAD DE MEDIDA A COTIZAR | F5: CANTIDAD A COTIZAR | G5: Cotización 1 VALOR UNITARIO (INCLUIDO IVA SI APLICA) | H5: Cotización 2 VALOR UNITARIO (INCLUIDO IVA SI APLICA) | I5: Cotización 3 VALOR UNITARIO (INCLUIDO IVA SI APLICA) | J5: Cotización 4 VALOR UNITARIO (INCLUIDO IVA SI APLICA) | K5: VALOR UNITARIO PROMEDIO O MEDIANA (INCLUIDO IVA SI APLICA) | L5: VALOR PROMEDIO O MEDIANA TOTAL (INCLUIDO IVA SI APLICA) | M5: FUENTE DE CONSULTA | N5: DESVIACIÓN ESTÁNDAR | O5: SI DESVEST ES >15% SE PROMEDIA CON MEDIANA | Q5: Cotizaciones Elemento | R5: Probabilidad de ahorro
B6: 1 | C6: Talento humano | D6: Servicio humano SIN ARMA (24 horas del día de Lunes a Domingo) - Mes de servicio (Incluye Impuestos, Seguros, AIU) | E6: Mes | F6: 1 | G6: =+#REF! -> #REF! | K6: =IFERROR(IF(O6>(0.15),ROUND(MEDIAN(G6:J6),0),ROUND(AVERAGE(G6:J6),0)),"") | L6: =IFERROR(K6*F6,"") | N6: =IFERROR(STDEV(G6:J6),"") | O6: =IFERROR(N6/AVERAGE(G6:J6),"") | Q6: 3 | R6: =1-(MIN(G6:J6)/K6) -> #REF!
B7: 2 | C7: Talento humano | D7: Servicio humano CON ARMA (24 horas del día de Lunes a Domingo) - Mes de servicio (Incluye Impuestos, Seguros, AIU) | E7: Mes | F7: 1 | G7: =+#REF! -> #REF! | K7: =IFERROR(IF(O7>(0.15),ROUND(MEDIAN(G7:J7),0),ROUND(AVERAGE(G7:J7),0)),"") | L7: =IFERROR(K7*F7,"") | N7: =IFERROR(STDEV(G7:J7),"") | O7: =IFERROR(N7/AVERAGE(G7:J7),"") | Q7: 3 | R7: =1-(MIN(G7:J7)/K7) -> #REF!
B8: 3 | C8: Talento humano | D8: Servicio humano CON CANINO (24 horas del día de Lunes a Domingo) - Mes de servicio (Incluye Impuestos, Seguros, AIU) | E8: Mes | F8: 1 | G8: =+#REF! -> #REF! | K8: =IFERROR(IF(O8>(0.15),ROUND(MEDIAN(G8:J8),0),ROUND(AVERAGE(G8:J8),0)),"") | L8: =IFERROR(K8*F8,"") | N8: =IFERROR(STDEV(G8:J8),"") | O8: =IFERROR(N8/AVERAGE(G8:J8),"") | Q8: 3 | R8: =1-(MIN(G8:J8)/K8) -> #REF!
B9: =+B8+1 -> 4 | C9: Talento humano | D9: Servicio humano sin arma (12 horas diarias de lunes a viernes sin festivos) | E9: Mes | F9: 1 | G9: =+#REF! -> #REF! | K9: =IFERROR(IF(O9>(0.15),ROUND(MEDIAN(G9:J9),0),ROUND(AVERAGE(G9:J9),0)),"") | L9: =IFERROR(K9*F9,"") | N9: =IFERROR(STDEV(G9:J9),"") | O9: =IFERROR(N9/AVERAGE(G9:J9),"") | Q9: 3 | R9: =1-(MIN(G9:J9)/K9) -> #REF!
B10: =+B9+1 -> 5 | C10: Talento humano | D10: Servicio humano sin arma (12 horas diarias de lunes a sábado sin festivos) | E10: Mes | F10: 1 | G10: =+#REF! -> #REF! | K10: =IFERROR(IF(O10>(0.15),ROUND(MEDIAN(G10:J10),0),ROUND(AVERAGE(G10:J10),0)),"") | L10: =IFERROR(K10*F10,"") | N10: =IFERROR(STDEV(G10:J10),"") | O10: =IFERROR(N10/AVERAGE(G10:J10),"") | Q10: 3 | R10: =1-(MIN(G10:J10)/K10) -> #REF!
B11: =+B10+1 -> 6 | C11: Servicio Alquiler | D11: CCTV compuesto por 140 cámaras Tipo domo IP - Precio Alquiler Por Mes | E11: Mes | F11: 1 | N11: =IFERROR(STDEV(G11),"") | O11: =IFERROR(N11/AVERAGE(G11:J11),"") | Q11: 3 | R11: =1-(MIN(G11:J11)/K11) -> #DIV/0!
B12: =+B11+1 -> 7 | C12: Servicio Alquiler | D12: Brazos para soporte de cámaras - Precio Alquiler Por Mes | E12: Mes | F12: 1 | G12: 0 | H12: 0 | I12: 0 | J12: 0 | K12: =IFERROR(IF(O12>(0.15),ROUND(MEDIAN(G12:J12),0),ROUND(AVERAGE(G12:J12),0)),"") -> 0 | L12: =IFERROR(K12*F12,"") -> 0 | N12: =IFERROR(STDEV(G12:J12),"") -> 0 | O12: =IFERROR(N12/AVERAGE(G12:J12),"") | Q12: 3 | R12: =1-(MIN(G12:J12)/K12) -> #DIV/0!
B13: =+B12+1 -> 8 | C13: Servicio Alquiler | D13: Alquiler RACK para Instalación de los equipos de grabación - Precio Alquiler Por Mes | E13: Mes | F13: 1 | G13: 8000 | H13: 5000 | I13: 6000 | J13: 7000 | K13: =IFERROR(IF(O13>(0.15),ROUND(MEDIAN(G13:J13),0),ROUND(AVERAGE(G13:J13),0)),"") -> 6500 | L13: =IFERROR(K13*F13,"") -> 6500 | N13: =IFERROR(STDEV(G13:J13),"") -> 1290.9944 | O13: =IFERROR(N13/AVERAGE(G13:J13),"") -> 0.19861453 | Q13: 3 | R13: =1-(MIN(G13:J13)/K13) -> 0.23076923
B14: =+B13+1 -> 9 | C14: Servicio Alquiler | D14: Alquiler RACK para Instalación de los equipos de grabación - Precio Alquiler Por Mes | E14: Mes | F14: 1 | G14: 8000 | H14: 5000 | I14: 6000 | J14: 7000 | K14: =IFERROR(IF(O14>(0.15),ROUND(MEDIAN(G14:J14),0),ROUND(AVERAGE(G14:J14),0)),"") -> 6500 | L14: =IFERROR(K14*F14,"") -> 6500 | N14: =IFERROR(STDEV(G14:J14),"") -> 1290.9944 | O14: =IFERROR(N14/AVERAGE(G14:J14),"") -> 0.19861453 | Q14: 3 | R14: =1-(MIN(G14:J14)/K14) -> 0.23076923
B15: =+B14+1 -> 10 | C15: Servicio Alquiler | D15: Monitores LED de 50” - Precio Alquiler Por Mes | E15: Mes | F15: 1 | G15: 8000 | H15: 5000 | I15: 6000 | J15: 7000 | K15: =IFERROR(IF(O15>(0.15),ROUND(MEDIAN(G15:J15),0),ROUND(AVERAGE(G15:J15),0)),"") -> 6500 | L15: =IFERROR(K15*F15,"") -> 6500 | N15: =IFERROR(STDEV(G15:J15),"") -> 1290.9944 | O15: =IFERROR(N15/AVERAGE(G15:J15),"") -> 0.19861453 | Q15: 3 | R15: =1-(MIN(G15:J15)/K15) -> 0.23076923
B16: =+B15+1 -> 11 | C16: Servicio Alquiler | D16: Kit´s de alarma - Precio Alquiler Por Mes | E16: Mes | F16: 1 | G16: 8000 | H16: 5000 | I16: 6000 | J16: 7000 | K16: =IFERROR(IF(O16>(0.15),ROUND(MEDIAN(G16:J16),0),ROUND(AVERAGE(G16:J16),0)),"") -> 6500 | L16: =IFERROR(K16*F16,"") -> 6500 | N16: =IFERROR(STDEV(G16:J16),"") -> 1290.9944 | O16: =IFERROR(N16/AVERAGE(G16:J16),"") -> 0.19861453 | Q16: 3 | R16: =1-(MIN(G16:J16)/K16) -> 0.23076923
B17: =+B16+1 -> 12 | C17: Servicio Alquiler | D17: Computadores de escritorio - Precio Alquiler Por Mes | E17: Mes | F17: 1 | G17: 8000 | H17: 5000 | I17: 6000 | J17: 7000 | K17: =IFERROR(IF(O17>(0.15),ROUND(MEDIAN(G17:J17),0),ROUND(AVERAGE(G17:J17),0)),"") -> 6500 | L17: =IFERROR(K17*F17,"") -> 6500 | N17: =IFERROR(STDEV(G17:J17),"") -> 1290.9944 | O17: =IFERROR(N17/AVERAGE(G17:J17),"") -> 0.19861453 | Q17: 3 | R17: =1-(MIN(G17:J17)/K17) -> 0.23076923
B18: =+B17+1 -> 13 | C18: Servicio Alquiler | D18: Impresoras térmicas para stikers - Precio Alquiler Por Mes | E18: Mes | F18: 1 | G18: 8000 | H18: 5000 | I18: 6000 | J18: 7000 | K18: =IFERROR(IF(O18>(0.15),ROUND(MEDIAN(G18:J18),0),ROUND(AVERAGE(G18:J18),0)),"") -> 6500 | L18: =IFERROR(K18*F18,"") -> 6500 | N18: =IFERROR(STDEV(G18:J18),"") -> 1290.9944 | O18: =IFERROR(N18/AVERAGE(G18:J18),"") -> 0.19861453 | Q18: 3 | R18: =1-(MIN(G18:J18)/K18) -> 0.23076923
B19: =+B18+1 -> 14 | C19: Servicio Alquiler | D19: Lector de registro de cedula - Precio Alquiler Por Mes | E19: Mes | F19: 1 | G19: 8000 | H19: 5000 | I19: 6000 | J19: 7000 | K19: =IFERROR(IF(O19>(0.15),ROUND(MEDIAN(G19:J19),0),ROUND(AVERAGE(G19:J19),0)),"") -> 6500 | L19: =IFERROR(K19*F19,"") -> 6500 | N19: =IFERROR(STDEV(G19:J19),"") -> 1290.9944 | O19: =IFERROR(N19/AVERAGE(G19:J19),"") -> 0.19861453 | Q19: 3 | R19: =1-(MIN(G19:J19)/K19) -> 0.23076923
B20: =+B19+1 -> 15 | C20: Servicio Alquiler | D20: Equipo biométrico - Precio Alquiler Por Mes | E20: Mes | F20: 1 | G20: 8000 | H20: 5000 | I20: 6000 | J20: 7000 | K20: =IFERROR(IF(O20>(0.15),ROUND(MEDIAN(G20:J20),0),ROUND(AVERAGE(G20:J20),0)),"") -> 6500 | L20: =IFERROR(K20*F20,"") -> 6500 | N20: =IFERROR(STDEV(G20:J20),"") -> 1290.9944 | O20: =IFERROR(N20/AVERAGE(G20:J20),"") -> 0.19861453 | Q20: 3 | R20: =1-(MIN(G20:J20)/K20) -> 0.23076923
B21: =+B20+1 -> 16 | C21: Servicio Alquiler | D21: Baños portátiles con sistema flushing con bomba de piso - Precio Alquiler Por Mes | E21: Mes | F21: 1 | G21: 8000 | H21: 5000 | I21: 6000 | J21: 7000 | K21: =IFERROR(IF(O21>(0.15),ROUND(MEDIAN(G21:J21),0),ROUND(AVERAGE(G21:J21),0)),"") -> 6500 | L21: =IFERROR(K21*F21,"") -> 6500 | N21: =IFERROR(STDEV(G21:J21),"") -> 1290.9944 | O21: =IFERROR(N21/AVERAGE(G21:J21),"") -> 0.19861453 | Q21: 3 | R21: =1-(MIN(G21:J21)/K21) -> 0.23076923
F22: Unitario | G22: =SUMPRODUCT($F$6:$F$21,G6:G21) -> #REF! | H22: =SUMPRODUCT($F$6:$F$21,H6:H21) -> 45000 | I22: =SUMPRODUCT($F$6:$F$21,I6:I21) -> 54000 | J22: =SUMPRODUCT($F$6:$F$21,J6:J21) -> 63000 | K22: =SUMPRODUCT($F$6:$F$21,K6:K21) -> 58500 | L22: =SUMPRODUCT($F$6:$F$21,L6:L21) -> 58500

Sheet Proyección_Bolsa
B3: PROYECCIÓN COSTOS
B4: VALORES UNITARIOS
B5: ITEM | C5: PRODUCTO O SERVICIO | D5: ESPECIFICACION TECNICA | E5: UNIDAD DE MEDIDA A COTIZAR | F5: CANTIDAD A COTIZAR | G5: VALOR UNITARIO ANTES DE IVA | H5: VALOR UNITARIO ANTES DE IVA
B6: 1 | C6: CCTV | D6: CCTV compuesto por 140 cámaras Tipo domo IP - Precio Alquiler Por Mes | E6: Mes | F6: 1 | G6: =+CosteoIndividual!L11 -> 0 | H6: =+F6*G6 -> 0
B7: =+B6+1 -> 2 | C7: Brazo soporte | D7: Brazos para soporte de cámaras - Precio Alquiler Por Mes | E7: Mes | F7: 2 | G7: =+CosteoIndividual!L12 -> 0 | H7: =+F7*G7 -> 0
B8: =+B7+1 -> 3 | C8: RACK | D8: Alquiler RACK para Instalación de los equipos de grabación - Precio Alquiler Por Mes | E8: Mes | F8: 6 | G8: =+CosteoIndividual!L13 -> 6500 | H8: =+F8*G8 -> 39000
B9: 4 | C9: RACK | D9: Alquiler RACK para Instalación de los equipos de grabación - Precio Alquiler Por Mes | E9: Mes | F9: 4 | G9: =+CosteoIndividual!L14 -> 6500 | H9: =+F9*G9 -> 26000
B10: =+B9+1 -> 5 | C10: MONITORES | D10: Monitores LED de 50” - Precio Alquiler Por Mes | E10: Mes | F10: 6 | G10: =+CosteoIndividual!L15 -> 6500 | H10: =+F10*G10 -> 39000
B11: =+B10+1 -> 6 | C11: ALARMA | D11: Kit´s de alarma - Precio Alquiler Por Mes | E11: Mes | F11: 1 | G11: =+CosteoIndividual!L16 -> 6500 | H11: =+F11*G11 -> 6500
B12: =+B11+1 -> 7 | C12: COMPUTADOR | D12: Computadores de escritorio - Precio Alquiler Por Mes | E12: Mes | F12: 2 | G12: =+CosteoIndividual!L17 -> 6500 | H12: =+F12*G12 -> 13000
B13: =+B12+1 -> 8 | C13: IMPRESORA | D13: Impresoras térmicas para stikers - Precio Alquiler Por Mes | E13: Mes | F13: 2 | G13: =+CosteoIndividual!L18 -> 6500 | H13: =+F13*G13 -> 13000
B14: =+B13+1 -> 9 | C14: LECTOR | D14: Lector de registro de cedula - Precio Alquiler Por Mes | E14: Mes | F14: 2 | G14: =+CosteoIndividual!L19 -> 6500 | H14: =+F14*G14 -> 13000
B15: =+B14+1 -> 10 | C15: BIOMETRICO | D15: Equipo biométrico - Precio Alquiler Por Mes | E15: Mes | F15: 2 | G15: =+CosteoIndividual!L20 -> 6500 | H15: =+F15*G15 -> 13000
B16: =+B15+1 -> 11 | C16: BAÑOS | D16: Baños portátiles con sistema flushing con bomba de piso - Precio Alquiler Por Mes | E16: Mes | F16: 3 | G16: =+CosteoIndividual!L21 -> 6500 | H16: =+F16*G16 -> 19500
G17: =SUM(G6:G16) -> 58500 | H17: =SUM(H6:H16) -> 182000
G25: Elaborado por:

Sheet RESUMEN
B2: COMPONENTE DEL COSTO | C2: UBICACIÓN | D2: No. PUESTOS | E2: CARACTERISTICAS | F2: PLAZO DE EJECUCIÓN EN MESES | G2: VALOR UNITARIO DEL SERVICIO | H2: VALOR TOTAL DEL SERVICIO | I2: VALOR PUESTOS DE TRABAJO 25 DÍAS
B3: RECURSO HUMANO | C3: SEDE KENNEDY | D3: 2 | E3: Servicio humano sin arma las 24 horas del día de Lunes a Domingo | F3: 1 | G3: =+'ProyecciónResolución2026 (2)'!M14 -> 18008701 | H3: =ROUND('ProyecciónResolución2026 (2)'!$M$14*RESUMEN!D3,0) -> 36017402 | I3: =ROUND(H3*F3,0) -> 36017402
D4: 1 | E4: Servicio humano CON arma las 24 horas del día de Lunes a Domingo | F4: 1 | G4: =+'ProyecciónResolución2026 (2)'!M15 -> 18342195 | H4: =ROUND('ProyecciónResolución2026 (2)'!$M$15*RESUMEN!D4,0) -> 18342195 | I4: =ROUND(H4*F4,0) -> 18342195
C5: SEDE CARVAJAL | D5: 1 | E5: Servicio humano CON arma las 24 horas del día de Lunes a Domingo | F5: 1 | G5: =+'ProyecciónResolución2026 (2)'!M15 -> 18342195 | H5: =ROUND('ProyecciónResolución2026 (2)'!$M$15*RESUMEN!D5,0) -> 18342195 | I5: =ROUND(H5*F5,0) -> 18342195
B6: SUBTOTAL RECURSO HUMANO (A) | H6: =+SUM(H3:H5) -> 72701792 | I6: =+SUM(I3:I5) -> 72701792
B8: SUBTOTAL MEDIOS TECNOLÓGICOS (B) | H8: =+'COMPONENTES LOGIS Y TECN'!AC18 -> 6087249 | I8: =+'COMPONENTES LOGIS Y TECN'!AC18 -> 6087249
B10: VALOR TOTAL RECURSO HUMANO (A) + MEDIOS TECNOLÓGICOS (B) | H10: =+H6+H8 -> 78789041 | I10: =+I6+I8 -> 78789041
E24: 45657
E25: 45658

Sheet RECURSO HUMANO 2026
B2: RECURSO HUMANO
B3: CIRCULAR EXTERNA N° 20251300000115CS - 30 diciembre de 2025 SuperVigilancia
B4: UBICACIÓN | C4: No. PUESTOS | D4: CARACTERISTICAS | E4: VALOR UNITARIO DEL SERVICIO | F4: VALOR TOTAL DEL SERVICIO - 25 DÍAS | G4: TOTAL PUESTOS DE TRABAJO
B5: SEDE KENNEDY | C5: 2 | D5: Servicio humano sin arma las 24 horas del día de Lunes a Domingo | E5: =+'ProyecciónResolución2026 (2)'!M14 -> 18008701 | F5: =ROUND('ProyecciónResolución2026 (2)'!$M$14*'RECURSO HUMANO 2026'!C5,0) -> 36017402 | G5: =ROUND(SUM(F5:F5),0) -> 36017402
C6: 1 | D6: Servicio humano CON arma las 24 horas del día de Lunes a Domingo | E6: =+'ProyecciónResolución2026 (2)'!M15 -> 18342195 | F6: =ROUND('ProyecciónResolución2026 (2)'!$M$15*'RECURSO HUMANO 2026'!C6,0) -> 18342195 | G6: =ROUND(SUM(F6:F6),0) -> 18342195
B7: SEDE CARVAJAL | C7: 1 | D7: Servicio humano CON arma las 24 horas del día de Lunes a Domingo | E7: =+'ProyecciónResolución2026 (2)'!M15 -> 18342195 | F7: =ROUND('ProyecciónResolución2026 (2)'!$M$15*'RECURSO HUMANO 2026'!C7,0) -> 18342195 | G7: =ROUND(SUM(F7:F7),0) -> 18342195
B8: VALOR TOTAL TALENTO HUMANO | F8: =+SUM(F5:F7) -> 72701792 | G8: =+SUM(G5:G7) -> 72701792
D21: 45657
D22: 45658

Sheet COMPONENTES LOGIS Y TECN
E1: FONDO DE DESARROLLO LOCAL DE KENNEDY
B2: CONOLIDADO DE COTIZACIONES - ESTUDIO DE MERCADO
B3: OBJETO: PRESTACIÓN DEL SERVICIO INTEGRAL DE VIGILANCIA Y SEGURIDAD PRIVADA EN LA MODALIDAD DE VIGILANCIA FIJA, CON MEDIO HUMANO CON Y SIN ARMA, Y MEDIOS TECNOLÓGICOS, PARA LA PROTECCIÓN DE LAS PERSONAS, BIENES MUEBLES E INMUEBLES Y DEMÁS INTERESES PATRIMONIALES DEL FONDO DESARROLLO LOCAL DE KENNEDY Y DE AQUELLOS POR LOS CUALES SEA O LLEGARE A SER LEGALMENTE RESPONSABLE.
I5: EMPRESA DE VIGILANCIA TIGERS JOB LTDA SECOP ll | L5: EMPRESA DE VIGILANCIA TOP GUARD LTDA | O5: EMPRESA DE VIGILANCIA FULL PROTECTION LTDA | R5: EMPRESA DE SEGURIDAD PRIVADA SHALOM LTDA. | U5: EMPRESAS DE SEGURIDAD CIPRÉS SEGURIDAD Y PROTECCIÓN LTDA. | X5: EMPRESAS DE SEGURIDAD TORONTO LTDA | AA5: MEDIA GEOMETRICA 4 MÁS BAJAS
B6: Item | C6: Nombre | D6: Descripción | E6: Meses | F6: Unidad de Medida | G6: Cantidad | H6: IVA | I6: VALOR UNITARIO ANTES DE IVA | J6: VALOR UNITARIO INCLUIDO IVA | K6: VALOR TOTAL OFERTA INCLUIDO IVA | L6: VALOR UNITARIO ANTES DE IVA | M6: VALOR UNITARIO INCLUIDO IVA | N6: VALOR TOTAL OFERTA INCLUIDO IVA | O6: VALOR UNITARIO ANTES DE IVA | P6: VALOR UNITARIO INCLUIDO IVA | Q6: VALOR TOTAL OFERTA INCLUIDO IVA | R6: VALOR UNITARIO ANTES DE IVA | S6: VALOR UNITARIO INCLUIDO IVA | T6: VALOR TOTAL OFERTA INCLUIDO IVA | U6: VALOR UNITARIO ANTES DE IVA | V6: VALOR UNITARIO INCLUIDO IVA | W6: VALOR TOTAL OFERTA INCLUIDO IVA | X6: VALOR UNITARIO ANTES DE IVA | Y6: VALOR UNITARIO INCLUIDO IVA | Z6: VALOR TOTAL OFERTA INCLUIDO IVA | AA6: VALOR UNITARIO ANTES DE IVA | AB6: VALOR UNITARIO INCLUIDO IVA | AC6: VALOR TOTAL OFERTA INCLUIDO IVA
B7: CIRCUITO CERRADO DE TELEVISIÓN ALK
B8: 1 | C8: Alquiler de Cámaras de video vigilancia Tipo domo IP P | D8: REQUERIMIENTOS TÉCNICOS MÍNIMOS cámaras Tipo do-mo IP • Resolución mínima: 2 megapíxeles (Full HD) o superior. • Sensibilidad lumínica:0.001 Lux @ (F1.0, AGC ON), 0 Lux con iluminación infrarroja o luz blanca. • Compresión de video: H.265 / H.265+ / H.264 / H.264+. • Ángulo de visión: Panorámica: 0° a 360°, Inclinación: 0° a 75°, Rotación: 0° a 360°. Lente mínimo 2.8 mm con FOV amplio. • Protocolos: TCP/IP, HTTP, HTTPS, DHCP, DNS, RTP, RTSP, NTP, IGMP, IPv4/IPv6, SSL/TLS. • Compatibilidad: Compatible con el sistema actual de la Alcaldía y protocolo ONVIF Perfil S/G/T. • Interfaz de red: Puerto Ethernet RJ45 10/100 Mbps autoadaptativo. • Alimentación: 12 VDC ±25% y/o PoE IEEE 802.3af Clase 3. • Consumo máximo: 6.5 W por cámara. • Protección: IP66 o superior para exterior, IK10 cuando aplique en zonas de riesgo o exposición. • Cableado:Se deberá conservar el cableado existente si cumple condiciones técnicas. En caso contrario, se deberá suministrar e instalar cableado UTP categoría 6A en cobre certificado. • Instalación: Incluye suministro, instalación, configuración, integración, pruebas y puesta en marcha del sistema completo. Almacenamiento: la infraestructura de almacenamiento (servidores, NVR, discos duros tipo Surveillance o Enterprise) necesaria para garantizar la grabación continua (24/7) de las cámaras por un periodo mínimo de 90 días (3 meses). Electrónica de Red (Switches): El servicio incluye el suministro y configuración de los switches administrables necesarios. El contratista deberá proveer equipos con puertos suficientes y capacidad Power over Ethernet (PoE) para energizar el 100% de las cámaras sin interrupciones. DEBE QUEDAR INSTALADO Y EN FUNCIONAMIENTO CON EL CABLEADO QUE SEA REQUERIDO PARA SU FUNCIONAMIENTO | E8: 1 | F8: mes | G8: 119 | H8: 0.19 | I8: =+'COT 1'!G5 -> 20000 | J8: =ROUND(I8*(1+$H8),0) -> 23800 | K8: =J8*$G8*$E8 -> 2832200 | L8: =+'COT 2'!G5 -> 54166.667 | M8: =ROUND(L8*(1+$H8),0) -> 64458 | N8: =M8*$G8*$E8 -> 7670502 | O8: =+'COT 3'!G5 -> 29042 | P8: =ROUND(O8*(1+$H8),0) -> 34560 | Q8: =P8*$G8*$E8 -> 4112640 | R8: =+'COT 4'!G5 -> 40000 | S8: =ROUND(R8*(1+$H8),0) -> 47600 | T8: =S8*$G8*$E8 -> 5664400 | U8: =+'COT 5'!G5 -> 20000 | V8: =ROUND(U8*(1+$H8),0) -> 23800 | W8: =V8*$G8*$E8 -> 2832200 | X8: =+'COT 6'!G5 -> 180000 | Y8: =ROUND(X8*(1+$H8),0) -> 214200 | Z8: =Y8*$G8*$E8 -> 25489800 | AA8: {=ROUND(+GEOMEAN(SMALL((I8,L8,O8,R8,U8,X8),{1;2;3;4})),0)} -> 26109 | AB8: =ROUND(AA8*(1+$H8),0) -> 31070 | AC8: =AB8*$G8*$E8 -> 3697330
B9: 2 | C9: Alquiler Brazos para soporte de cámaras | D9: Brazos para soporte de cámaras de 0.5 metros a un metro metálico de color blanco o negro Con instalación y puesta en marcha ( EN LOS DOS COSTADOS DE LA ALCALDIA - DERECHA E IZQUIERDA CON VISTA AL PARQUEADERO) | E9: 1 | F9: mes | G9: 6 | H9: 0.19 | I9: =+'COT 1'!G6 -> 35000 | J9: =ROUND(I9*(1+$H9),0) -> 41650 | K9: =J9*$G9*$E9 -> 249900 | L9: =+'COT 2'!G6 -> 5833.3333 | M9: =ROUND(L9*(1+$H9),0) -> 6942 | N9: =M9*$G9*$E9 -> 41652 | O9: =+'COT 3'!G6 -> 28000 | P9: =ROUND(O9*(1+$H9),0) -> 33320 | Q9: =P9*$G9*$E9 -> 199920 | R9: =+'COT 4'!G6 -> 20000 | S9: =ROUND(R9*(1+$H9),0) -> 23800 | T9: =S9*$G9*$E9 -> 142800 | U9: =+'COT 5'!G6 -> 35000 | V9: =ROUND(U9*(1+$H9),0) -> 41650 | W9: =V9*$G9*$E9 -> 249900 | X9: =+'COT 6'!G6 -> 230000 | Y9: =ROUND(X9*(1+$H9),0) -> 273700 | Z9: =Y9*$G9*$E9 -> 1642200 | AA9: {=ROUND(+GEOMEAN(SMALL((I9,L9,O9,R9,U9,X9),{1;2;3;4})),0)} -> 18388 | AB9: =ROUND(AA9*(1+$H9),0) -> 21882 | AC9: =AB9*$G9*$E9 -> 131292
B10: 3 | C10: Alquiler de RACK mural para Instalación de los switches por piso | D10: Rack mural tipo gabinete cerrado para telecomunicaciones, con las siguientes características mínimas: • Formato estándar de 19 pulgadas. • Estructura metálica de alta resistencia. • Montaje en pared. • Puerta frontal con ventilación lateral y cerradura. • Organización interna mediante patch panel, bandejas y organizadores horizontales de cableado. • Espacio para instalación de switches, NVR y equipos de videovigilancia. • Regleta eléctrica interna (PDU) mínimo de 6 tomas. • Ventilación activa o ventiladores superiores. Dimensiones mínimas recomendadas: • Altura: entre 12U y 15U. • Fondo mínimo: 60 cm. • Capacidad de carga mínima: 40 kg. Debe permitir la instalación y correcta operación de: • Switches administrables y/o PoE. • Equipos de videovigilancia tipo NVR. • Patch panel. • Organizadores de cableado. • Cableado estructurado UTP y/o fibra óptica. El rack deberá garantizar adecuada ventilación, distribución eléctrica y organización del cableado para asegurar el correcto funcionamiento de los equipos tecnológicos Debe incluir: • Instalación. • Configuración. • Organización interna del cableado. • Puesta en marcha. • Todos los accesorios requeridos para su correcto funcionamiento. | E10: 1 | F10: mes | G10: 5 | H10: 0.19 | I10: =+'COT 1'!G7 -> 125000 | J10: =ROUND(I10*(1+$H10),0) -> 148750 | K10: =J10*$G10*$E10 -> 743750 | L10: =+'COT 2'!G7 -> 50000 | M10: =ROUND(L10*(1+$H10),0) -> 59500 | N10: =M10*$G10*$E10 -> 297500 | O10: =+'COT 3'!G7 -> 100800 | P10: =ROUND(O10*(1+$H10),0) -> 119952 | Q10: =P10*$G10*$E10 -> 599760 | R10: =+'COT 4'!G7 -> 40000 | S10: =ROUND(R10*(1+$H10),0) -> 47600 | T10: =S10*$G10*$E10 -> 238000 | U10: =+'COT 5'!G7 -> 125000 | V10: =ROUND(U10*(1+$H10),0) -> 148750 | W10: =V10*$G10*$E10 -> 743750 | X10: =+'COT 6'!G7 -> 420000 | Y10: =ROUND(X10*(1+$H10),0) -> 499800 | Z10: =Y10*$G10*$E10 -> 2499000 | AA10: {=ROUND(+GEOMEAN(SMALL((I10,L10,O10,R10,U10,X10),{1;2;3;4})),0)} -> 70852 | AB10: =ROUND(AA10*(1+$H10),0) -> 84314 | AC10: =AB10*$G10*$E10 -> 421570
B11: 4 | C11: Aquiler de rack de piso para instalación de los NVR | D11: Rack de Piso (Gabinete Principal) para alojamiento de NVR y Core de red, con las siguientes características mínimas: • Formato estándar de 19 pulgadas. • Estructura metálica en acero laminado en frío de alta resistencia. • Gabinete autosoportado (de piso) con rodachinas de alta resistencia y niveladores. • Puerta frontal y posterior microperforadas (malla) para garantizar un flujo de aire óptimo y disipación de calor, ambas con cerradura de seguridad. • Paneles laterales desmontables con cerradura. • Organización interna mediante patch panel, bandejas de alta resistencia y organizadores de cableado verticales y horizontales. • Espacio y profundidad adecuada para instalación de switches core, servidores de videovigilancia (NVR) de gran formato y sistemas de alimentación ininterrumpida (UPS). • Regletas eléctricas (PDU): Mínimo dos (2) regletas de montaje vertical con mínimo 10 tomas cada una. • Sistema de ventilación activa en el techo (mínimo 4 ventiladores). Dimensiones mínimas recomendadas: • Altura: entre 32U y 42U • Fondo mínimo: 100 cm (1000 mm). • Capacidad de carga estática mínima: 800 kg. Debe permitir la instalación y correcta operación de: • Servidores de almacenamiento y/o equipos de videovigilancia tipo NVR de alta densidad. • Switches administrables de distribución/core. • Patch panel y organizadores de cableado de alta densidad. • Cableado estructurado UTP y/o fibra óptica (bandejas de empalme). | E11: 1 | F11: mes | G11: 2 | H11: 0.19 | I11: =+'COT 1'!G8 -> 66000 | J11: =ROUND(I11*(1+$H11),0) -> 78540 | K11: =J11*$G11*$E11 -> 157080 | L11: =+'COT 2'!G8 -> 41666.667 | M11: =ROUND(L11*(1+$H11),0) -> 49583 | N11: =M11*$G11*$E11 -> 99166 | O11: =+'COT 3'!G8 -> 56000 | P11: =ROUND(O11*(1+$H11),0) -> 66640 | Q11: =P11*$G11*$E11 -> 133280 | R11: =+'COT 4'!G8 -> 45000 | S11: =ROUND(R11*(1+$H11),0) -> 53550 | T11: =S11*$G11*$E11 -> 107100 | U11: =+'COT 5'!G8 -> 66000 | V11: =ROUND(U11*(1+$H11),0) -> 78540 | W11: =V11*$G11*$E11 -> 157080 | X11: =+'COT 6'!G8 -> 890750 | Y11: =ROUND(X11*(1+$H11),0) -> 1059993 | Z11: =Y11*$G11*$E11 -> 2119986 | AA11: {=ROUND(+GEOMEAN(SMALL((I11,L11,O11,R11,U11,X11),{1;2;3;4})),0)} -> 51308 | AB11: =ROUND(AA11*(1+$H11),0) -> 61057 | AC11: =AB11*$G11*$E11 -> 122114
B12: 5 | C12: Alquiler de Monitores LED de 50” | D12: Con entradas: VGA, DVI, HDMI, USB con bocinas internas y soporte de fijación tipo pared y/o tipo mesa. Estos monitores deben quedar instaladas en los mismos puntos con los que actualmente cuenta el Fondo Local de Kennedy o en su defecto los puntos recomendados por el área de TIC con instalación y puesta en marcha | E12: 1 | F12: mes | G12: 7 | H12: 0.19 | I12: =+'COT 1'!G9 -> 38000 | J12: =ROUND(I12*(1+$H12),0) -> 45220 | K12: =J12*$G12*$E12 -> 316540 | L12: =+'COT 2'!G9 -> 208333.33 | M12: =ROUND(L12*(1+$H12),0) -> 247917 | N12: =M12*$G12*$E12 -> 1735419 | O12: =+'COT 3'!G9 -> 52267 | P12: =ROUND(O12*(1+$H12),0) -> 62198 | Q12: =P12*$G12*$E12 -> 435386 | R12: =+'COT 4'!G9 -> 40000 | S12: =ROUND(R12*(1+$H12),0) -> 47600 | T12: =S12*$G12*$E12 -> 333200 | U12: =+'COT 5'!G9 -> 38000 | V12: =ROUND(U12*(1+$H12),0) -> 45220 | W12: =V12*$G12*$E12 -> 316540 | X12: =+'COT 6'!G9 -> 470000 | Y12: =ROUND(X12*(1+$H12),0) -> 559300 | Z12: =Y12*$G12*$E12 -> 3915100 | AA12: {=ROUND(+GEOMEAN(SMALL((I12,L12,O12,R12,U12,X12),{1;2;3;4})),0)} -> 41683 | AB12: =ROUND(AA12*(1+$H12),0) -> 49603 | AC12: =AB12*$G12*$E12 -> 347221
B13: SISTEMAS PARA EL CONTROL DE ACCESO INTEGRAL
B14: 6 | C14: Computadores de escritorio | D14: Las especificaciones de los computado-res de escritorio mínimo deben tener las siguientes características: • Procesador (CPU): Intel Core i5 de 14ª generación en adelante o AMD Ryzen 5 (serie 5000 o superior) • Memoria RAM:16 GB DDR5 (mínimo) • Almacenamiento: 512 GB SSD (mínimo) • Sistema Operativo: Windows: Win-dows 11 Pro • Monitor: de 24 pulgadas Full HD (mínimo) • Conectividad: Ethernet (RJ45), Conexión a WiFi (integrado), Bluetooth (integrado) • Puertos: 4 puertos USB 3.0 (Minimo), 1 puerto HDMI o DisplayPort • Periféricos: Teclado y mouse alambrcos conexión USB • Cámara web HD integrada en el monitor • Lectores o dispositivos adicionales según operación (eje: lector de có-digo de barras) • Seguridad: Antivirus Licenciado DEBE TENER SOFTWARE REGISTRO DE VISITANTES Y DEBE QUEDAR INSTALADO Y EN FUNCIONAMIENTO CON EL CABLEADO QUE SEA REQUERIDO PARA SU FUNCIONAMIENTO | E14: 1 | F14: mes | G14: 2 | H14: 0.19 | I14: =+'COT 1'!G16 -> 530000 | J14: =ROUND(I14*(1+$H14),0) -> 630700 | K14: =J14*$G14*$E14 -> 1261400 | L14: =+'COT 2'!G16 -> 166666.67 | M14: =ROUND(L14*(1+$H14),0) -> 198333 | N14: =M14*$G14*$E14 -> 396666 | O14: =+'COT 3'!G16 -> 448000 | P14: =ROUND(O14*(1+$H14),0) -> 533120 | Q14: =P14*$G14*$E14 -> 1066240 | R14: =+'COT 4'!G16 -> 420000 | S14: =ROUND(R14*(1+$H14),0) -> 499800 | T14: =S14*$G14*$E14 -> 999600 | U14: =+'COT 5'!G16 -> 530000 | V14: =ROUND(U14*(1+$H14),0) -> 630700 | W14: =V14*$G14*$E14 -> 1261400 | X14: =+'COT 6'!G16 -> 650450 | Y14: =ROUND(X14*(1+$H14),0) -> 774036 | Z14: =Y14*$G14*$E14 -> 1548072 | AA14: {=ROUND(+GEOMEAN(SMALL((I14,L14,O14,R14,U14,X14),{1;2;3;4})),0)} -> 359057 | AB14: =ROUND(AA14*(1+$H14),0) -> 427278 | AC14: =AB14*$G14*$E14 -> 854556
B15: 7 | C15: Impresoras térmicas para stikers | D15: Dos (2) impresoras térmicas para impresión de stickers de ingreso de visitantes. El equipo deberá permitir la identificación de los visitantes mediante la impresión de información como: nombre completo, tipo y número de documento, fotografía, hora de ingreso, oficina a la cual se dirige y persona que autoriza el ingreso. Así mismo, el elemento deberá contar con tecnología de impresión térmica y ser compatible con el sistema operativo de los computadores de la entidad y sercompatible con e programa y equipos suministrados, incluyendo rollos de uso y de backup requeridos, CON INSTALACION Y PUESTA EN MARCHA - Y CABLEADO QUE SEA REQUERIDO PARA SU FUNCIONAMIENTO | E15: 1 | F15: mes | G15: 2 | H15: 0.19 | I15: =+'COT 1'!G17 -> 105000 | J15: =ROUND(I15*(1+$H15),0) -> 124950 | K15: =J15*$G15*$E15 -> 249900 | L15: =+'COT 2'!G17 -> 40000 | M15: =ROUND(L15*(1+$H15),0) -> 47600 | N15: =M15*$G15*$E15 -> 95200 | O15: =+'COT 3'!G17 -> 95200 | P15: =ROUND(O15*(1+$H15),0) -> 113288 | Q15: =P15*$G15*$E15 -> 226576 | R15: =+'COT 4'!G17 -> 550000 | S15: =ROUND(R15*(1+$H15),0) -> 654500 | T15: =S15*$G15*$E15 -> 1309000 | U15: =+'COT 5'!G17 -> 105000 | V15: =ROUND(U15*(1+$H15),0) -> 124950 | W15: =V15*$G15*$E15 -> 249900 | X15: =+'COT 6'!G17 -> 430890 | Y15: =ROUND(X15*(1+$H15),0) -> 512759 | Z15: =Y15*$G15*$E15 -> 1025518 | AA15: {=ROUND(+GEOMEAN(SMALL((I15,L15,O15,R15,U15,X15),{1;2;3;4})),0)} -> 80495 | AB15: =ROUND(AA15*(1+$H15),0) -> 95789 | AC15: =AB15*$G15*$E15 -> 191578
B16: 8 | C16: Lector de registro de cedulas | D16: Lector código de barras de las cedulas de ciudadania que permita registrar automáticamente en la base de datos la información de los visitantes. | E16: 1 | F16: mes | G16: 2 | H16: 0.19 | I16: =+'COT 1'!G18 -> 85000 | J16: =ROUND(I16*(1+$H16),0) -> 101150 | K16: =J16*$G16*$E16 -> 202300 | L16: =+'COT 2'!G18 -> 29166.667 | M16: =ROUND(L16*(1+$H16),0) -> 34708 | N16: =M16*$G16*$E16 -> 69416 | O16: =+'COT 3'!G18 -> 78400 | P16: =ROUND(O16*(1+$H16),0) -> 93296 | Q16: =P16*$G16*$E16 -> 186592 | R16: =+'COT 4'!G18 -> 25000 | S16: =ROUND(R16*(1+$H16),0) -> 29750 | T16: =S16*$G16*$E16 -> 59500 | U16: =+'COT 5'!G18 -> 85000 | V16: =ROUND(U16*(1+$H16),0) -> 101150 | W16: =V16*$G16*$E16 -> 202300 | X16: =+'COT 6'!G18 -> 850540 | Y16: =ROUND(X16*(1+$H16),0) -> 1012143 | Z16: =Y16*$G16*$E16 -> 2024286 | AA16: {=ROUND(+GEOMEAN(SMALL((I16,L16,O16,R16,U16,X16),{1;2;3;4})),0)} -> 46951 | AB16: =ROUND(AA16*(1+$H16),0) -> 55872 | AC16: =AB16*$G16*$E16 -> 111744
B17: 9 | C17: Equipo biométrico | D17: Con su respectivo enrolador que permita el registro de huellas, sensor óptico, control de tiempo y asistencia, comunicación TCP/IP, RS-485, identificación de huella en 1 segundo, mínimo 10.000 usuarios Mínimo 50.000 eventos, kit de alimentación, software para el registro y salida de visitantes que será instalado en un equipo de cómputo de la entidad con entrega mensual de 20.000 stickers o etiquetas. Con instalación y puesta en marcha | E17: 1 | F17: mes | G17: 2 | H17: 0.19 | I17: =+'COT 1'!G19 -> 92000 | J17: =ROUND(I17*(1+$H17),0) -> 109480 | K17: =J17*$G17*$E17 -> 218960 | L17: =+'COT 2'!G19 -> 416666.67 | M17: =ROUND(L17*(1+$H17),0) -> 495833 | N17: =M17*$G17*$E17 -> 991666 | O17: =+'COT 3'!G19 -> 84000 | P17: =ROUND(O17*(1+$H17),0) -> 99960 | Q17: =P17*$G17*$E17 -> 199920 | R17: =+'COT 4'!G19 -> 85000 | S17: =ROUND(R17*(1+$H17),0) -> 101150 | T17: =S17*$G17*$E17 -> 202300 | U17: =+'COT 5'!G19 -> 92000 | V17: =ROUND(U17*(1+$H17),0) -> 109480 | W17: =V17*$G17*$E17 -> 218960 | X17: =+'COT 6'!G19 -> 1250800 | Y17: =ROUND(X17*(1+$H17),0) -> 1488452 | Z17: =Y17*$G17*$E17 -> 2976904 | AA17: {=ROUND(+GEOMEAN(SMALL((I17,L17,O17,R17,U17,X17),{1;2;3;4})),0)} -> 88170 | AB17: =ROUND(AA17*(1+$H17),0) -> 104922 | AC17: =AB17*$G17*$E17 -> 209844
J18: =J8+J9+J10+J11+J12+J14+J15+J16+J17 -> 1304240 | K18: =K8+K9+K10+K11+K12+K14+K15+K16+K17 -> 6232030 | M18: =M8+M9+M10+M11+M12+M14+M15+M16+M17 -> 1204874 | N18: =N8+N9+N10+N11+N12+N14+N15+N16+N17 -> 11397187 | P18: =P8+P9+P10+P11+P12+P14+P15+P16+P17 -> 1156334 | Q18: =Q8+Q9+Q10+Q11+Q12+Q14+Q15+Q16+Q17 -> 7160314 | S18: =S8+S9+S10+S11+S12+S14+S15+S16+S17 -> 1505350 | T18: =T8+T9+T10+T11+T12+T14+T15+T16+T17 -> 9055900 | V18: =V8+V9+V10+V11+V12+V14+V15+V16+V17 -> 1304240 | W18: =W8+W9+W10+W11+W12+W14+W15+W16+W17 -> 6232030 | Y18: =Y8+Y9+Y10+Y11+Y12+Y14+Y15+Y16+Y17 -> 6394383 | Z18: =Z8+Z9+Z10+Z11+Z12+Z14+Z15+Z16+Z17 -> 43240866 | AB18: =AB8+AB9+AB10+AB11+AB12+AB14+AB15+AB16+AB17 -> 931787 | AC18: =AC8+AC9+AC10+AC11+AC12+AC14+AC15+AC16+AC17 -> 6087249
B19: Nota 1 :Es importante indicar que la solicitud de cotización inicial se realizó para 7.5 meses de ejecución, contemplando un total de 12 ítem, relacionados con circuito cerrado de televisión ALK (5), alarma ALK (2) y sistemas para el control de acceso integral (4) y batería de baño (1). No obstante, la Entidad no logró adelantar el proceso de selección bajo las condiciones inicialmente previstas. En consecuencia, y una vez realizada la correspondiente investigación de mercado, se tomaron como referencia las cotizaciones obtenidas para estructurar el presente proceso de selección bajo la modalidad de mínima cuantía, considerando un período de ejecución de un (1) mes. Es importante señalar que las cotizaciones utilizadas corresponden a la vigencia 2026 y, por tanto, sus precios se consideran vigentes y actualizados para efectos de la estimación económica del presente proceso. Dado lo anterior, los requerimientos de medios tecnológicos fueron ajustados a un total de nueve (9) ítems, modificando igualmente las cantidades inicialmente previstas, de acuerdo con las necesidades actuales de la Entidad y con el presupuesto disponible para adelantar el presente proceso.
B20: Nota 2: Para establecer el precio de referencia, se calculó la media geométrica de las cuatro (4) cotizaciones de menor valor unitario

Sheet ProyecciónResolución2026 (2)
A1: ESTIMACIÓN DE COSTOS 2026
B3: CIRCULAR 20251300000115CS
B5: ESTIMACIÓN DE COSTOS DEL 15/07/2026 - 31/12/2026
B8: Tarifa Base Personal | C8: 1750905
B9: Base de incremento por costos | C9: 10.21
B10: Valor estimado antes de variables | C10: =+C8*C9 -> 17876740
E12: 0.4759 | F12: 0.5241 | G12: 25
B13: SERVICIO | C13: VALOR | D13: SEGURO DE VIDA | E13: VARIABLE PROPORCIONALIDAD | F13: VARIABLE PROPORCIONALIDAD | G13: VALOR 25 DIAS | H13: Porcentaje de gastos de administración y supervisión | I13: Gasto de Administración y de supervisión | J13: TOTAL SIN IVA | K13: AIU 10% DEL SERVICIO | L13: IVA 19% | M13: TOTAL CON IVA
A14: 24 HORAS | B14: Servicio humano SIN ARMA (24 horas del día de Lunes a Domingo) - Mes de servicio (Incluye Impuestos, Seguros, AIU) | C14: =+$C$10 -> 17876740 | D14: 5000 | E14: =ROUND((C14*$E$12)+(D14*$E$12),0) -> 8509920 | F14: =ROUND((C14*$F$12)+(D14*$F$12),0) -> 9371820 | G14: =((E14+F14)/30)*$G$12 -> 14901450 | H14: 0.08 | I14: =G14*H14 -> 1192116 | J14: =G14+I14 -> 16093566 | K14: =ROUND(+J14*10%,0) -> 1609357 | L14: =ROUND(+K14*19%,0) -> 305778 | M14: =+J14+K14+L14 -> 18008701
B15: Servicio humano CON ARMA (24 horas del día de Lunes a Domingo) - Mes de servicio (Incluye Impuestos, Seguros, AIU) | C15: =+$C$10 -> 17876740 | D15: 5000 | E15: =ROUND((C15*$E$12)+(D15*$E$12),0) -> 8509920 | F15: =ROUND((C15*$F$12)+(D15*$F$12),0) -> 9371820 | G15: =((E15+F15)/30)*$G$12 -> 14901450 | H15: 0.1 | I15: =G15*H15 -> 1490145 | J15: =G15+I15 -> 16391595 | K15: =ROUND(+J15*10%,0) -> 1639160 | L15: =ROUND(+K15*19%,0) -> 311440 | M15: =+J15+K15+L15 -> 18342195
B16: Servicio humano CON CANINO (24 horas del día de Lunes a Domingo) - Mes de servicio (Incluye Impuestos, Seguros, AIU) | C16: =+$C$10 -> 17876740 | D16: 5000 | E16: =ROUND((C16*$E$12)+(D16*$E$12),0) -> 8509920 | F16: =ROUND((C16*$F$12)+(D16*$F$12),0) -> 9371820 | G16: =((E16+F16)/30)*$G$12 -> 14901450 | H16: 0.11 | I16: =G16*H16 -> 1639159.5 | J16: =G16+I16 -> 16540610 | K16: =ROUND(+J16*10%,0) -> 1654061 | L16: =ROUND(+K16*19%,0) -> 314272 | M16: =+J16+K16+L16 -> 18508942
B17: Servicio humano sin arma (12 horas diarias de lunes a viernes sin festivos) | C17: =+((((((($C$8*10.21))*47.59%)/30)*20)/13)*12) -> 5235409.6 | D17: 3000 | E17: =ROUND((C17*$E$12)+(D17*$E$12),0) -> 2492959 | F17: =ROUND((C17*$F$12)+(D17*$F$12),0) -> 2745450 | G17: =((E17+F17)/30)*$G$12 -> 4365340.8 | H17: 0.08 | I17: =G17*H17 -> 349227.27 | J17: =G17+I17 -> 4714568.1 | K17: =ROUND(+J17*10%,0) -> 471457 | L17: =ROUND(+K17*19%,0) -> 89577 | M17: =+J17+K17+L17 -> 5275602.1
B18: Servicio humano sin arma (12 horas diarias de lunes a sábado sin festivos) | C18: =+((((((($C$8*10.21))*47.59%)/30)*24)/13)*12) -> 6282491.5 | D18: 3000 | E18: =ROUND((C18*$E$12)+(D18*$E$12),0) -> 2991265 | F18: =ROUND((C18*$F$12)+(D18*$F$12),0) -> 3294226 | G18: =((E18+F18)/30)*$G$12 -> 5237909.2 | H18: 0.08 | I18: =G18*H18 -> 419032.73 | J18: =G18+I18 -> 5656941.9 | K18: =ROUND(+J18*10%,0) -> 565694 | L18: =ROUND(+K18*19%,0) -> 107482 | M18: =+J18+K18+L18 -> 6330117.9
D19: =+((((((($C$8*10.21))*47.59%)/30)*20)/13)*12) -> 5235409.6 | G19: =((E19+F19)/30)*20 -> 0
C21: =+((((((($C$8*9.85))*47.59%)/30)*9)/13)*12) -> 2272865.1 | D21: =+((((((($C$8*10.21))*47.59%)/30)*11)/13)*12) -> 2879475.3
C22: =+((((((($C$8*9.85))*47.59%)/30)*12)/13)*12) -> 3030486.8 | D22: =+((((((($C$8*10.21))*47.59%)/30)*12)/13)*12) -> 3141245.8
D23: =+((((((($C$8*10.21))*47.59%)/30)*24)/13)*12) -> 6282491.5
A25: ESTIMACIÓN DE COSTOS 2027
B27: ESTIMACION AÑO 2027
B29: ESTIMACIÓN DE COSTOS DEL 01/01/2027 - 14/07/2027
B31: Tarifa Base Personal | C31: =+C8*$C$52+C8 -> 1998412.9
B32: Base de incremento por costos | C32: =+C9 -> 10.21
B33: Valor estimado antes de variables | C33: =C31*C32 -> 20403796
B36: SERVICIO | C36: VALOR | D36: SEGURO DE VIDA | H36: Porcentaje | I36: A y S | J36: TOTAL SIN IVA | K36: AIU 10% DEL SERVICIO | L36: IVA 19% | M36: TOTAL CON IVA
B37: Servicio humano SIN ARMA (24 horas del día de Lunes a Domingo) - Mes de servicio (Incluye Impuestos, Seguros, AIU) | C37: =+$C$33 -> 20403796 | D37: 5000 | H37: 0.08 | I37: =+(C37+D37)*H37 -> 1632703.7 | J37: =+C37+D37+I37 -> 22041500 | K37: =+J37*10% -> 2204150 | L37: =+K37*19% -> 418788.49 | M37: =+J37+L37+K37 -> 24664438 | N37: =+C37/C14-1 -> 0.14136
B38: Servicio humano CON ARMA (24 horas del día de Lunes a Domingo) - Mes de servicio (Incluye Impuestos, Seguros, AIU) | C38: =+$C$33 -> 20403796 | D38: 5000 | H38: 0.1 | I38: =+(C38+D38)*H38 -> 2040879.6 | J38: =+C38+D38+I38 -> 22449676 | K38: =+J38*10% -> 2244967.6 | L38: =+K38*19% -> 426543.84 | M38: =+J38+L38+K38 -> 25121187 | N38: =+C38/C15-1 -> 0.14136
B39: Servicio humano CON CANINO (24 horas del día de Lunes a Domingo) - Mes de servicio (Incluye Impuestos, Seguros, AIU) | C39: =+$C$33 -> 20403796 | D39: 5000 | H39: 0.11 | I39: =+(C39+D39)*H39 -> 2244967.6 | J39: =+C39+D39+I39 -> 22653764 | K39: =+J39*10% -> 2265376.4 | L39: =+K39*19% -> 430421.51 | M39: =+J39+L39+K39 -> 25349561 | N39: =+C39/C16-1 -> 0.14136
B40: Servicio humano sin arma (12 horas diarias de lunes a viernes sin festivos) | C40: =+((((((($C$31*10.21))*47.59%)/30)*20)/13)*12) -> 5975487.1 | D40: 3000 | H40: 0.08 | I40: =+(C40+D40)*H40 -> 478278.97 | J40: =+C40+D40+I40 -> 6456766.1 | K40: =+J40*10% -> 645676.61 | L40: =+K40*19% -> 122678.56 | M40: =+J40+L40+K40 -> 7225121.2 | N40: =+C40/C17-1 -> 0.14136
B41: Servicio humano sin arma (12 horas diarias de lunes a sábado sin festivos) | C41: =+((((((($C$31*10.21))*47.59%)/30)*24)/13)*12) -> 7170584.5 | D41: 3000 | H41: 0.08 | I41: =+(C41+D41)*H41 -> 573886.76 | J41: =+C41+D41+I41 -> 7747471.3 | K41: =+J41*10% -> 774747.13 | L41: =+K41*19% -> 147201.95 | M41: =+J41+L41+K41 -> 8669420.4 | N41: =+C41/C18-1 -> 0.14136
B46: Año | C46: Aumento | D46: Salario Mínimo
B47: 2026 | C47: 0.23 | D47: =+C47*D48+D48 -> 1750905
B48: 2025 | C48: 0.0954 | D48: 1423500
B49: 2024 | C49: 0.1207 | D49: 1300000
B50: 2023 | C50: 0.16 | D50: 1160000
B51: 2022 | C51: 0.1007 | D51: 1000000
B52: PROMEDIO | C52: =AVERAGE(C47:C51) -> 0.14136

Sheet COT 1
A1: FORMATO COTIZACIÓN Objeto: CONTRATAR LA PRESTACIÓN DEL SERVICIO INTEGRAL DE VIGILANCIA Y SEGURIDAD PRIVADA EN LA MODALIDAD DE VIGILANCIA FIJA, CON MEDIO HUMANO CON Y SIN ARMA, APOYO CANINO Y MEDIOS TECNOLÓGICOS, PARA LA PROTECCIÓN DE LAS PERSONAS, BIENES MUEBLES E INMUEBLES Y DEMÁS INTERESES PATRIMONIALES DEL FONDO DE DESARROLLO LOCAL DE KENNEDY Y DE AQUELLOS POR LOS CUALES SEA O LLEGARE A SER LEGALMENTE RESPONSABLE.
A2: INFORMACIÓN GENERAL | G2: COTIZACIÓN
A3: Items Totaltes | B3: Nombre | C3: Descripción | D3: Meses | E3: Unidad de Medida | F3: Cantidad | G3: Valor unitarios sin IVA | H3: Valor IVA | I3: Valor total con IVA | J3: Valor total mensual | K3: Valor total includio iva por los 7,5 meses
A4: CIRCUITO CERRADO DE TELEVISIÓN ALK
A5: 1 | B5: Alquiler de Cámaras de video vigilancia Tipo domo IP P | C5: REQUERIMIENTOS TÉCNICOS MÍNIMOS 140 cámaras Tipo do-mo IP • Resolución mínima: 2 megapíxeles (Full HD) o superior. • Sensibilidad lumínica:0.001 Lux @ (F1.0, AGC ON), 0 Lux con iluminación infrarroja o luz blanca. • Compresión de video: H.265 / H.265+ / H.264 / H.264+. • Ángulo de visión: Panorámica: 0° a 360°, Inclinación: 0° a 75°, Rotación: 0° a 360°. Lente mínimo 2.8 mm con FOV amplio. • Protocolos: TCP/IP, HTTP, HTTPS, DHCP, DNS, RTP, RTSP, NTP, IGMP, IPv4/IPv6, SSL/TLS. • Compatibilidad: Compatible con el sistema actual de la Alcaldía y protocolo ONVIF Perfil S/G/T. • Interfaz de red: Puerto Ethernet RJ45 10/100 Mbps autoadaptativo. • Alimentación: 12 VDC ±25% y/o PoE IEEE 802.3af Clase 3. • Consumo máximo: 6.5 W por cámara. • Protección: IP66 o superior para exterior, IK10 cuando aplique en zonas de riesgo o exposición. • Cableado:Se deberá conservar el cableado existente si cumple condiciones técnicas. En caso contrario, se deberá suministrar e instalar cableado UTP categoría 6A en cobre certificado. • Instalación: Incluye suministro, instalación, configuración, integración, pruebas y puesta en marcha del sistema completo. Almacenamiento: la infraestructura de almacenamiento (servidores, NVR, discos duros tipo Surveillance o Enterprise) necesaria para garantizar la grabación continua (24/7) de las 140 cámaras por un periodo mínimo de 90 días (3 meses). Electrónica de Red (Switches): El servicio incluye el suministro y configuración de los switches administrables necesarios. El contratista deberá proveer equipos con puertos suficientes y capacidad Power over Ethernet (PoE) para energizar el 100% de las cámaras sin interrupciones. DEBE QUEDAR INSTALADO Y EN FUNCIONAMIENTO CON EL CABLEADO QUE SEA REQUERIDO PARA SU FUNCIONAMIENTO | D5: 7.5 | E5: mes | F5: 140 | G5: 20000 | H5: =+G5*19% -> 3800 | I5: =+G5+H5 -> 23800 | J5: =+I5*F5 -> 3332000 | K5: =+D5*J5 -> 24990000
A6: 2 | B6: Alquiler Brazos para soporte de cámaras | C6: Brazos para soporte de cámaras de 0.5 metros a un metro metálico de color blanco o negro Con instalación y puesta en marcha ( EN LOS DOS COSTADOS DE LA ALCALDIA - DERECHA E IZQUIERDA CON VISTA AL PARQUEADERO) | D6: 7.5 | E6: mes | F6: 2 | G6: 35000 | H6: =+G6*19% -> 6650 | I6: =+G6+H6 -> 41650 | J6: =+I6*F6 -> 83300 | K6: =+D6*J6 -> 624750
A7: 3 | B7: Alquiler de RACK para Instalación de los switches por piso | C7: Rack mural tipo gabinete cerrado para telecomunicaciones, con las siguientes características mínimas: • Formato estándar de 19 pulgadas. • Estructura metálica de alta resistencia. • Montaje en pared. • Puerta frontal con ventilación lateral y cerradura. • Organización interna mediante patch panel, bandejas y organizadores horizontales de cableado. • Espacio para instalación de switches, NVR y equipos de videovigilancia. • Regleta eléctrica interna (PDU) mínimo de 6 tomas. • Ventilación activa o ventiladores superiores. Dimensiones mínimas recomendadas: • Altura: entre 12U y 15U. • Fondo mínimo: 60 cm. • Capacidad de carga mínima: 40 kg. Debe permitir la instalación y correcta operación de: • Switches administrables y/o PoE. • Equipos de videovigilancia tipo NVR. • Patch panel. • Organizadores de cableado. • Cableado estructurado UTP y/o fibra óptica. El rack deberá garantizar adecuada ventilación, distribución eléctrica y organización del cableado para asegurar el correcto funcionamiento de los equipos tecnológicos. Debe incluir: • Instalación. • Configuración. • Organización interna del cableado. • Puesta en marcha. • Todos los accesorios requeridos para su correcto funcionamiento. | D7: 7.5 | E7: mes | F7: 5 | G7: 125000 | H7: =+G7*19% -> 23750 | I7: =+G7+H7 -> 148750 | J7: =+I7*F7 -> 743750 | K7: =+D7*J7 -> 5578125
A8: 4 | B8: Aquiler de rack para instalación de los NVR | C8: Rack de Piso (Gabinete Principal) para alojamiento de NVR y Core de red, con las siguientes características mínimas: • Formato estándar de 19 pulgadas. • Estructura metálica en acero laminado en frío de alta resistencia. • Gabinete autosoportado (de piso) con rodachinas de alta resistencia y niveladores. • Puerta frontal y posterior microperforadas (malla) para garantizar un flujo de aire óptimo y disipación de calor, ambas con cerradura de seguridad. • Paneles laterales desmontables con cerradura. • Organización interna mediante patch panel, bandejas de alta resistencia y organizadores de cableado verticales y horizontales. • Espacio y profundidad adecuada para instalación de switches core, servidores de videovigilancia (NVR) de gran formato y sistemas de alimentación ininterrumpida (UPS). • Regletas eléctricas (PDU): Mínimo dos (2) regletas de montaje vertical con mínimo 10 tomas cada una. • Sistema de ventilación activa en el techo (mínimo 4 ventiladores). Dimensiones mínimas recomendadas: • Altura: entre 32U y 42U • Fondo mínimo: 100 cm (1000 mm). • Capacidad de carga estática mínima: 800 kg. Debe permitir la instalación y correcta operación de: • Servidores de almacenamiento y/o equipos de videovigilancia tipo NVR de alta densidad. • Switches administrables de distribución/core. • Patch panel y organizadores de cableado de alta densidad. • Cableado estructurado UTP y/o fibra óptica (bandejas de empalme). | D8: 7.5 | E8: mes | F8: 2 | G8: 66000 | H8: =+G8*19% -> 12540 | I8: =+G8+H8 -> 78540 | J8: =+I8*F8 -> 157080 | K8: =+D8*J8 -> 1178100
A9: 5 | B9: Alquiler de Monitores LED de 50” | C9: Con entradas: VGA, DVI, HDMI, USB con bocinas internas y soporte de fijación tipo pared y/o tipo mesa. Estos monitores deben quedar instaladas en los mismos puntos con los que actualmente cuenta el Fondo Local de Kennedy o en su defecto los puntos recomendados por el área de TIC con instalación y puesta en marcha | D9: 7.5 | E9: mes | F9: 6 | G9: 38000 | H9: =+G9*19% -> 7220 | I9: =+G9+H9 -> 45220 | J9: =+I9*F9 -> 271320 | K9: =+D9*J9 -> 2034900
A10: SUBTOTAL | I10: =SUM(I5:I9) -> 337960 | K10: =SUM(K5:K9) -> 34405875
A11: ALARMA ALK
A12: 6 | B12: Alquiler de Kit´s de alarma | C12: Kit de alarma deberá incluir como mínimo: Panel de alarma con capacidad mínima de 4 zonas expandibles, Teclado LED, Caja metálica, Batería de respaldo, Sirena interior y/o exterior, Transformador, Pulsador de pánico fijo, Sensores magnéticos para puertas, Mínimo cuatro (4) sensores de movimiento PIR, Módulo de comunicación GPRS/IP, Accesorios completos para instalación y funcionamiento. El sistema deberá permitir monitoreo, activación y funcionamiento continuo de manera estable y segura. Debe incluir: Instalación, Configuración, Integración, Puesta en marcha, Cableado y accesorios requeridos para su funcionamiento. Los equipos deben compatibles con la infraestructura tecnológica existente. Los equipos deberán quedar instalados en los mismos puntos actualmente definidos por el Fondo Local de Kennedy o según indicaciones del área TIC. Debe incluir instalación, configuración y puesta en marcha. | D12: 7.5 | E12: mes | F12: 6 | G12: 163000 | H12: =+G12*19% -> 30970 | I12: =+G12+H12 -> 193970 | J12: =+I12*F12 -> 1163820 | K12: =+D12*J12 -> 8728650
A13: 7 | B13: Arco de seguridad detector de metales | C13: Altura exterior: approx 2.20 m (87 pulgadas) Ancho exterior: Approx 0.90 (35 pulgadas) Paso interior: Approx 0.76 a 0.80 (30 a 33 pulgadas) Arco Detector De Metales Garrett PD 6500i, Arco detector de metales Garrett MZ-6100 EnergíaEnergía: Totalmente automáticos (AC 100 a 240 V, 50/60 Hz), con un consumo bajo (aprox.45 W- Garrett PD 6500i Arco Detector de Metales Profesional | 33 Zonas. -Humedad del 95% sin condensacion -Almacenamiento: -40°C a 70°C (-40°F a 158°F) -Alimentacion: Totalmente automática de 100 a 240 VCA, 50 o 60 Hz, 45 vatios - Estándares de protección contra la intemperie / objetos extraños Cumple con las normas de protección IP 55, IEC. ''Grados de protección proporcionados por los cerramientos'', IEC 529. *IP 65 opcional -Contador de personas de 4 dígitos, y contador de detecciones de metal de 4 dígitos. - Luces de localización precisa de objetivo: Dispone de un indicador LED para cada una de las zonas, que permite la identificación aproximada de la zona del cuerpo en donde hay metales. -Programas: Mas de 20 programas independientes - Supresion de interferencias: Filtrado avanzado analógico y digital, así como frecuencias de operación ajustables, eliminan los efectos potenciales de unidades de rayos x, radios y otras fuentes de interferencia eléctrica - Alarmas: Tono audible y volumen ajustable. Alarma visual de LED brillante - A prueba de manipulacion: Todos los ajustes están asegurados con una cerradura con llave y dos niveles de códigos de acceso - Salidas de control: Interruptores de estado sólido (AC o DC de baja tensión) para el funcionamiento de las alarmas y dispositivos de control. Se debe instalar y dejar funcional segun indique la norma vigente, realizando las pruebas necesarias para el buen funcionamiento | D13: 7.5 | E13: mes | F13: 1 | G13: 1000000 | H13: =+G13*19% -> 190000 | I13: =+G13+H13 -> 1190000 | J13: =+I13*F13 -> 1190000 | K13: =+D13*J13 -> 8925000
A14: SUBTOTAL | I14: =+I12+I13 -> 1383970 | K14: =K13 -> 8925000
A15: SISTEMAS PARA EL CONTROL DE ACCESO INTEGRAL
A16: 8 | B16: Computadores de escritorio | C16: Las especificaciones de los computado-res de escritorio mínimo deben tener las siguientes características: • Procesador (CPU): Intel Core i5 de 14ª generación en adelante o AMD Ryzen 5 (serie 5000 o superior) • Memoria RAM:16 GB DDR5 (mínimo) • Almacenamiento: 512 GB SSD (mínimo) • Sistema Operativo: Windows: Win-dows 11 Pro • Monitor: de 24 pulgadas Full HD (mínimo) • Conectividad: Ethernet (RJ45), Conexión a WiFi (integrado), Bluetooth (integrado) • Puertos: 4 puertos USB 3.0 (Minimo), 1 puerto HDMI o DisplayPort • Periféricos: Teclado y mouse alambrcos conexión USB • Cámara web HD integrada en el monitor • Lectores o dispositivos adicionales según operación (eje: lector de có-digo de barras) • Seguridad: Antivirus Licenciado DEBE TENER SOFTWARE REGISTRO DE VISITANTES Y DEBE QUEDAR INSTALADO Y EN FUNCIONAMIENTO CON EL CABLEADO QUE SEA REQUERIDO PARA SU FUNCIONAMIENTO | D16: 7.5 | E16: mes | F16: 2 | G16: 530000 | H16: =+G16*19% -> 100700 | I16: =+G16+H16 -> 630700 | J16: =+I16*F16 -> 1261400 | K16: =+D16*J16 -> 9460500
A17: 9 | B17: Impresoras térmicas para stikers | C17: Dos (2) impresoras térmicas para impresión de stickers de ingreso de visitantes. El equipo deberá permitir la identificación de los visitantes mediante la impresión de información como: nombre completo, tipo y número de documento, fotografía, hora de ingreso, oficina a la cual se dirige y persona que autoriza el ingreso. Así mismo, el elemento deberá contar con tecnología de impresión térmica y ser compatible con el sistema operativo de los computadores de la entidad y sercompatible con e programa y equipos suministrados, incluyendo rollos de uso y de backup requeridos, CON INSTALACION Y PUESTA EN MARCHA - Y CABLEADO QUE SEA REQUERIDO PARA SU FUNCIONAMIENTO | D17: 7.5 | E17: mes | F17: 2 | G17: 105000 | H17: =+G17*19% -> 19950 | I17: =+G17+H17 -> 124950 | J17: =+I17*F17 -> 249900 | K17: =+D17*J17 -> 1874250
A18: 10 | B18: Lector de registro de cedulas | C18: Lector código de barras de las cedulas de ciudadania que permita registrar automáticamente en la base de datos la información de los visitantes. | D18: 7.5 | E18: mes | F18: 2 | G18: 85000 | H18: =+G18*19% -> 16150 | I18: =+G18+H18 -> 101150 | J18: =+I18*F18 -> 202300 | K18: =+D18*J18 -> 1517250
A19: 11 | B19: Equipo biométrico | C19: Con su respectivo enrolador que permita el registro de huellas, sensor óptico, control de tiempo y asistencia, comunicación TCP/IP, RS-485, identificación de huella en 1 segundo, mínimo 10.000 usuarios Mínimo 50.000 eventos, kit de alimentación, software para el registro y salida de visitantes que será instalado en un equipo de cómputo de la entidad con entrega mensual de 20.000 stickers o etiquetas. Con instalación y puesta en marcha | D19: 7.5 | E19: mes | F19: 2 | G19: 92000 | H19: =+G19*19% -> 17480 | I19: =+G19+H19 -> 109480 | J19: =+I19*F19 -> 218960 | K19: =+D19*J19 -> 1642200
A20: SUBTOTAL | I20: =SUM(I16,I17,I18,I19) -> 966280 | K20: =SUM(K16,K17,K18,K19) -> 14494200
A21: BATERIA DE BAÑO
A22: 12 | B22: Baño portátil con sistema flushing con bomba de piso (66 GL) y unidad de lavamanos interna (7.7 GL) que incluya como mínimo dos (2) aseos semana-les para un total de ocho (8) mensuales. | C22: Baño portátil con sistema flushing con bomba de piso (66 GL) y unidad de lavamanos interna (7.7 GL) que incluya como mínimo dos (2) aseos semanales para un total de ocho (8) mensuales. Con instalación y puesta en marcha | D22: 7.5 | E22: mes | F22: 1 | G22: 2160000 | H22: =+G22*19% -> 410400 | I22: =+G22+H22 -> 2570400 | J22: =+I22*F22 -> 2570400 | K22: =+D22*J22 -> 19278000
A23: SUBTOTAL | I23: =I22 -> 2570400 | K23: =K22 -> 19278000
A24: TOTAL | K24: =SUM(K10,K14,K20,K23) -> 77103075
A25: NOTA 1. No se aceptarán cotizaciones parciales ni que omitan alguno de los componentes solicitados.
A26: NOTA 2. El valor deberá incluir todos los impuestos, tasas y contribuciones a que haya lugar.
A27: NOTA 3: Los computadores deberán contar con software de control de visitantes con sistema biométrico, el cual deberá adaptarse y ser compatible con las características y especificaciones técnicas de los dos (2) equipos suministrados en calidad de arrendamiento y del computador de propiedad de la Alcaldía Local. Así mismo, deberá contar con base de datos SQL y permitir el registro de información como nombre del visitante, tipo y número de documento, dependencia o tema al cual se dirige en la Alcaldía, fecha y hora de ingreso y salida, así como la generación de informes estadísticos relacionados con la cantidad de visitantes, horarios de ingreso y salida y demás reportes requeridos por la entidad, conforme a las especificaciones mínimas establecidas. | I27: =I23+I20+I14+I10 -> 5258610
A29: NOMBRE DE LA EMPRESA | C29: TIGERS JOB LTDA
A30: NOMBRE REP. LEGAL | C30: MARIA DEL CARMEN DELGADO LEÓN
A31: NUMERO DOCUMENTO DE IDENTIDAD: | C31: 60406951
A32: FIRMA:

Sheet COT 2
A1: FORMATO COTIZACIÓN Objeto: CONTRATAR LA PRESTACIÓN DEL SERVICIO INTEGRAL DE VIGILANCIA Y SEGURIDAD PRIVADA EN LA MODALIDAD DE VIGILANCIA FIJA, CON MEDIO HUMANO CON Y SIN ARMA, APOYO CANINO Y MEDIOS TECNOLÓGICOS, PARA LA PROTECCIÓN DE LAS PERSONAS, BIENES MUEBLES E INMUEBLES Y DEMÁS INTERESES PATRIMONIALES DEL FONDO DE DESARROLLO LOCAL DE KENNEDY Y DE AQUELLOS POR LOS CUALES SEA O LLEGARE A SER LEGALMENTE RESPONSABLE.
A2: INFORMACIÓN GENERAL | G2: COTIZACIÓN
A3: Items Totaltes | B3: Nombre | C3: Descripción | D3: Meses | E3: Unidad de Medida | F3: Cantidad | G3: Valor unitarios sin IVA | H3: Valor IVA | I3: Valor total con IVA | J3: Valor total mensual | K3: Valor total includio iva por los 7,5 meses
A4: CIRCUITO CERRADO DE TELEVISIÓN ALK
A5: 1 | B5: Alquiler de Cámaras de video vigilancia Tipo domo IP P | C5: REQUERIMIENTOS TÉCNICOS MÍNIMOS 140 cámaras Tipo do-mo IP • Resolución mínima: 2 megapíxeles (Full HD) o superior. • Sensibilidad lumínica:0.001 Lux @ (F1.0, AGC ON), 0 Lux con iluminación infrarroja o luz blanca. • Compresión de video: H.265 / H.265+ / H.264 / H.264+. • Ángulo de visión: Panorámica: 0° a 360°, Inclinación: 0° a 75°, Rotación: 0° a 360°. Lente mínimo 2.8 mm con FOV amplio. • Protocolos: TCP/IP, HTTP, HTTPS, DHCP, DNS, RTP, RTSP, NTP, IGMP, IPv4/IPv6, SSL/TLS. • Compatibilidad: Compatible con el sistema actual de la Alcaldía y protocolo ONVIF Perfil S/G/T. • Interfaz de red: Puerto Ethernet RJ45 10/100 Mbps autoadaptativo. • Alimentación: 12 VDC ±25% y/o PoE IEEE 802.3af Clase 3. • Consumo máximo: 6.5 W por cámara. • Protección: IP66 o superior para exterior, IK10 cuando aplique en zonas de riesgo o exposición. • Cableado:Se deberá conservar el cableado existente si cumple condiciones técnicas. En caso contrario, se deberá suministrar e instalar cableado UTP categoría 6A en cobre certificado. • Instalación: Incluye suministro, instalación, configuración, integración, pruebas y puesta en marcha del sistema completo. Almacenamiento: la infraestructura de almacenamiento (servidores, NVR, discos duros tipo Surveillance o Enterprise) necesaria para garantizar la grabación continua (24/7) de las 140 cámaras por un periodo mínimo de 90 días (3 meses). Electrónica de Red (Switches): El servicio incluye el suministro y configuración de los switches administrables necesarios. El contratista deberá proveer equipos con puertos suficientes y capacidad Power over Ethernet (PoE) para energizar el 100% de las cámaras sin interrupciones. DEBE QUEDAR INSTALADO Y EN FUNCIONAMIENTO CON EL CABLEADO QUE SEA REQUERIDO PARA SU FUNCIONAMIENTO | D5: 5.5 | E5: mes | F5: 140 | G5: =(650000)/12 -> 54166.667 | H5: =+G5*19% -> 10291.667 | I5: =+G5+H5 -> 64458.333 | J5: =+I5*F5 -> 9024166.7 | K5: =+D5*J5 -> 49632917
A6: 2 | B6: Alquiler Brazos para soporte de cámaras | C6: Brazos para soporte de cámaras de 0.5 metros a un metro metálico de color blanco o negro Con instalación y puesta en marcha ( EN LOS DOS COSTADOS DE LA ALCALDIA - DERECHA E IZQUIERDA CON VISTA AL PARQUEADERO) | D6: 5.5 | E6: mes | F6: 2 | G6: =(70000)/12 -> 5833.3333 | H6: =+G6*19% -> 1108.3333 | I6: =+G6+H6 -> 6941.6667 | J6: =+I6*F6 -> 13883.333 | K6: =+D6*J6 -> 76358.333
A7: 3 | B7: Alquiler de RACK para Instalación de los switches por piso | C7: Rack mural tipo gabinete cerrado para telecomunicaciones, con las siguientes características mínimas: • Formato estándar de 19 pulgadas. • Estructura metálica de alta resistencia. • Montaje en pared. • Puerta frontal con ventilación lateral y cerradura. • Organización interna mediante patch panel, bandejas y organizadores horizontales de cableado. • Espacio para instalación de switches, NVR y equipos de videovigilancia. • Regleta eléctrica interna (PDU) mínimo de 6 tomas. • Ventilación activa o ventiladores superiores. Dimensiones mínimas recomendadas: • Altura: entre 12U y 15U. • Fondo mínimo: 60 cm. • Capacidad de carga mínima: 40 kg. Debe permitir la instalación y correcta operación de: • Switches administrables y/o PoE. • Equipos de videovigilancia tipo NVR. • Patch panel. • Organizadores de cableado. • Cableado estructurado UTP y/o fibra óptica. El rack deberá garantizar adecuada ventilación, distribución eléctrica y organización del cableado para asegurar el correcto funcionamiento de los equipos tecnológicos. Debe incluir: • Instalación. • Configuración. • Organización interna del cableado. • Puesta en marcha. • Todos los accesorios requeridos para su correcto funcionamiento. | D7: 5.5 | E7: mes | F7: 5 | G7: =(1200000)/24 -> 50000 | H7: =+G7*19% -> 9500 | I7: =+G7+H7 -> 59500 | J7: =+I7*F7 -> 297500 | K7: =+D7*J7 -> 1636250
A8: 4 | B8: Aquiler de rack para instalación de los NVR | C8: Rack de Piso (Gabinete Principal) para alojamiento de NVR y Core de red, con las siguientes características mínimas: • Formato estándar de 19 pulgadas. • Estructura metálica en acero laminado en frío de alta resistencia. • Gabinete autosoportado (de piso) con rodachinas de alta resistencia y niveladores. • Puerta frontal y posterior microperforadas (malla) para garantizar un flujo de aire óptimo y disipación de calor, ambas con cerradura de seguridad. • Paneles laterales desmontables con cerradura. • Organización interna mediante patch panel, bandejas de alta resistencia y organizadores de cableado verticales y horizontales. • Espacio y profundidad adecuada para instalación de switches core, servidores de videovigilancia (NVR) de gran formato y sistemas de alimentación ininterrumpida (UPS). • Regletas eléctricas (PDU): Mínimo dos (2) regletas de montaje vertical con mínimo 10 tomas cada una. • Sistema de ventilación activa en el techo (mínimo 4 ventiladores). Dimensiones mínimas recomendadas: • Altura: entre 32U y 42U • Fondo mínimo: 100 cm (1000 mm). • Capacidad de carga estática mínima: 800 kg. Debe permitir la instalación y correcta operación de: • Servidores de almacenamiento y/o equipos de videovigilancia tipo NVR de alta densidad. • Switches administrables de distribución/core. • Patch panel y organizadores de cableado de alta densidad. • Cableado estructurado UTP y/o fibra óptica (bandejas de empalme). | D8: 5.5 | E8: mes | F8: 2 | G8: =(500000)/12 -> 41666.667 | H8: =+G8*19% -> 7916.6667 | I8: =+G8+H8 -> 49583.333 | J8: =+I8*F8 -> 99166.667 | K8: =+D8*J8 -> 545416.67
A9: 5 | B9: Alquiler de Monitores LED de 50” | C9: Con entradas: VGA, DVI, HDMI, USB con bocinas internas y soporte de fijación tipo pared y/o tipo mesa. Estos monitores deben quedar instaladas en los mismos puntos con los que actualmente cuenta el Fondo Local de Kennedy o en su defecto los puntos recomendados por el área de TIC con instalación y puesta en marcha | D9: 5.5 | E9: mes | F9: 6 | G9: =(2500000)/12 -> 208333.33 | H9: =+G9*19% -> 39583.333 | I9: =+G9+H9 -> 247916.67 | J9: =+I9*F9 -> 1487500 | K9: =+D9*J9 -> 8181250
A10: SUBTOTAL | I10: =SUM(I5:I9) -> 428400 | K10: =SUM(K5:K9) -> 60072192
A11: ALARMA ALK
