Workbook
Name \0: #REF!
Name \0: #REF!
Name \00: #REF!
Name \00: #REF!
Name \a: #REF!
Name \a: #REF!
Name \AA: [1]LIQUIDACION!#REF!
Name \AA: [1]LIQUIDACION!#REF!
Name \b: '[2]CUAD-DIURNA'!#REF!
Name \b: '[2]CUAD-DIURNA'!#REF!
Name \bb: [3]STRSUMM0!#REF!
Name \bb: [3]STRSUMM0!#REF!
Name \c: #REF!
Name \c: #REF!
Name \E: #REF!
Name \E: #REF!
Name \EE: #REF!
Name \EE: #REF!
Name \G: #REF!
Name \G: #REF!
Name \k: '[4]7422CW00'!#REF!
Name \k: '[4]7422CW00'!#REF!
Name \L: #REF!
Name \L: #REF!
Name \m: #REF!
Name \m: #REF!
Name \ñ: '[5]7422CW00'!#REF!
Name \ñ: '[5]7422CW00'!#REF!
Name \P: #REF!
Name \P: #REF!
Name \q: #REF!
Name \q: #REF!
Name \R: #REF!
Name \R: #REF!
Name \s: #REF!
Name \s: #REF!
Name \V: #REF!
Name \V: #REF!
Name \w: #N/A
Name \X: [0]!err
Name \Z: [0]!err
Name _________________________________________________AFC1: [6]INV!$A$25:$D$28
Name _________________________________________________AFC3: [6]INV!$F$25:$I$28
Name _________________________________________________AFC5: [6]INV!$K$25:$N$28
Name _________________________________________________BGC1: [6]INV!$A$5:$D$8
Name _________________________________________________BGC3: [6]INV!$F$5:$I$8
Name _________________________________________________BGC5: [6]INV!$K$5:$N$8
Name _________________________________________________CAC1: [6]INV!$A$19:$D$22
Name _________________________________________________CAC3: [6]INV!$F$19:$I$22
Name _________________________________________________CAC5: [6]INV!$K$19:$N$22
Name _________________________________________________SBC1: [6]INV!$A$12:$D$15
Name _________________________________________________SBC3: [6]INV!$F$12:$I$15
Name _________________________________________________SBC5: [6]INV!$K$12:$N$15
Name ________________________________________________AFC1: [6]INV!$A$25:$D$28
Name ________________________________________________AFC3: [6]INV!$F$25:$I$28
Name ________________________________________________AFC5: [6]INV!$K$25:$N$28
Name ________________________________________________BGC1: [6]INV!$A$5:$D$8
Name ________________________________________________BGC3: [6]INV!$F$5:$I$8
Name ________________________________________________BGC5: [6]INV!$K$5:$N$8
Name ________________________________________________CAC1: [6]INV!$A$19:$D$22

Sheet Supervision
B1: =+'PRESUPUESTO OFICIAL PLIEGO TIPO'!A11 -> OBJETO: CONSTRUCCIÓN DE PLACA HUELLA TIPO INVIAS, INCLUYENDO OBRAS DE CONTENCIÓN, DRENAJE Y ACTIVIDADES COMPLEMENTARIAS PARA MEJORAR EL CORREDOR VIAL RURAL EN LA VEREDA SAN ANTONIO, SECTOR CAÑO RICO, MUNICIPIO DE SABANALARGA DEPARTAMENTO DE CASANARE”
A3: PERSONAL | C3: No | D3: VALOR | E3: UND | F3: TIEMPO MES | G3: TIEMPO EFECTIVO | H3: VR. PARCIAL
A5: PERSONAL PROFESIONAL
A6: Titulo profesional universitario, titulo de posgrado afin al objeto contractual y siete (7) años de experiencia profesional, de los cuales minuno cuatro( 4) deben correspponder a experiencia relacionada con el objeto a contratar. | C6: 1 | D6: 5500000 | E6: Mes | F6: 2 | G6: 1 | H6: =+D6*F6 -> 11000000
F8: TOTAL COSTOS | H8: =SUM(H6) -> 11000000
F10: TOTAL COSTO MENSUAL | H10: =+H8/F6 -> 5500000
A12: NOTA: Presupuesto realizadocon base en el Decretro No. 006 de 22 de Enero de 2025 "Por la cual se se establecen la escala de honorarios de contractos de prestacion de servicios profesionales y de apoyo a la gestion en el municipio de sabanalarga casanare para la vigencia 2025"
A16: Elaboró: | E16: Revisó
B17: MARCIA LUCERO ALFONSO GAMEZ | F17: MONICA YULIETH RODRIGUEZ TORRES
B18: M.P. 54202-342375 NTS | F18: Secretaria de Planeacion y Obras publicas

Sheet MEMO-huellas-100
C1: FORMATO DE MEMORIAS DE CALCULO | Y1: =+Y270 -> ESQUEMA O SOPORTE GRAFICO
B2: OBJETO DEL PROYECTO: | C2: =+C271 -> OBJETO: CONSTRUCCIÓN DE PLACA HUELLA TIPO INVIAS, INCLUYENDO OBRAS DE CONTENCIÓN, DRENAJE Y ACTIVIDADES COMPLEMENTARIAS PARA MEJORAR EL CORREDOR VIAL RURAL EN LA VEREDA SAN ANTONIO, SECTOR CAÑO RICO, MUNICIPIO DE SABANALARGA DEPARTAMENTO DE CASANARE”
B3: CAPITULO | C3: PLACAS HUELLAS VEREDA SAN ANTONIO - SECTOR CAÑO RICO - 154 ML | S3: UNIDAD | V3: =+'PRESUPUESTO OFICIAL PLIEGO TIPO'!F17 -> Km
B4: ITEM | C4: =+'PRESUPUESTO OFICIAL PLIEGO TIPO'!B17 -> 101 | S4: CANTIDAD | X4: =+V24 -> 0.15
B5: ACTIVIDAD: | C5: Replanteo y localizacion para vias
B6: ID | C6: UBICACIÓN | D6: DIMENSIONES | L6: Volumen | O6: sub total | S6: Repeticiones | V6: TOTAL ACUMULADO
D7: Longitud metros | F7: Longitud Kilometro | I7: ancho
C8: Longitud total tramo
C9: TRAMO K2+125 A K2+279 | D9: =2279-2125 -> 154 | F9: =+D9/1000 -> 0.154 | I9: =0.9+0.45+0.9+0.9+0.9+0.45+0.9 -> 5.4 | S9: 1 | V9: =+F9 -> 0.154
B22: Observacion: | V22: =ROUND(V9+B10,2) -> 0.15
V23: 0.00
V24: =V22 -> 0.15
D26: Elaboró: | S26: Revisó y aprobó:
F27: MARCIA LUCERO ALFONSO GAMEZ | Y27: MONICA YULIETH RODRIGUEZ TORRES
F28: Profesional de apoyo contratada S.P.O.P | Y28: Secretaria de Planeacion y Pbras publicas
Y29: Supervisor
C31: FORMATO DE MEMORIAS DE CALCULO | Y31: ESQUEMA O SOPORTE GRAFICO
B32: OBJETO DEL PROYECTO: | C32: =+'PRESUPUESTO OFICIAL PLIEGO TIPO'!A11 -> OBJETO: CONSTRUCCIÓN DE PLACA HUELLA TIPO INVIAS, INCLUYENDO OBRAS DE CONTENCIÓN, DRENAJE Y ACTIVIDADES COMPLEMENTARIAS PARA MEJORAR EL CORREDOR VIAL RURAL EN LA VEREDA SAN ANTONIO, SECTOR CAÑO RICO, MUNICIPIO DE SABANALARGA DEPARTAMENTO DE CASANARE”
B33: CAPITULO | C33: =+C3 -> PLACAS HUELLAS VEREDA SAN ANTONIO - SECTOR CAÑO RICO - 154 ML | S33: UNIDAD | V33: =+'PRESUPUESTO OFICIAL PLIEGO TIPO'!F18 -> M³
B34: ITEM | C34: =+'PRESUPUESTO OFICIAL PLIEGO TIPO'!B18 -> 102 | S34: CANTIDAD | X34: =+V53 -> 415.8
B35: ACTIVIDAD: | C35: =+'102-ITEM'!$C$22 -> Excavacion mecanica en material comun 0 - 2 m(oruga)
B36: ID | C36: UBICACIÓN | D36: DIMENSIONES | L36: Volumen | O36: sub total | S36: Repeticiones | V36: TOTAL ACUMULADO
D37: cant | F37: alto | I37: ancho
C38: Longitud total tramo
C39: =+C9 -> TRAMO K2+125 A K2+279 | D39: =+D9 -> 154 | F39: 0.5 | I39: 5.4 | L39: =+D39*F39*I39 -> 415.8 | S39: 1 | V39: =L39*S39 -> 415.8
B51: Observacion: | V51: =ROUND(V38+V39,2) -> 415.8
V52: 0.00
V53: =V51 -> 415.8
D55: Elaboró: | V55: =+S26 -> Revisó y aprobó:
F56: MARCIA LUCERO ALFONSO GAMEZ | Y56: MONICA YULIETH RODRIGUEZ TORRES
F57: =+F28 -> Profesional de apoyo contratada S.P.O.P | Y57: Secretaria de Planeacion y Pbras publicas
Y58: Supervisor
C60: FORMATO DE MEMORIAS DE CALCULO | Y60: ESQUEMA O SOPORTE GRAFICO
B61: OBJETO DEL PROYECTO: | C61: =+C124 -> OBJETO: CONSTRUCCIÓN DE PLACA HUELLA TIPO INVIAS, INCLUYENDO OBRAS DE CONTENCIÓN, DRENAJE Y ACTIVIDADES COMPLEMENTARIAS PARA MEJORAR EL CORREDOR VIAL RURAL EN LA VEREDA SAN ANTONIO, SECTOR CAÑO RICO, MUNICIPIO DE SABANALARGA DEPARTAMENTO DE CASANARE”
B62: CAPITULO | C62: =+C33 -> PLACAS HUELLAS VEREDA SAN ANTONIO - SECTOR CAÑO RICO - 154 ML | T62: UNIDAD | W62: =+'PRESUPUESTO OFICIAL PLIEGO TIPO'!F19 -> M³
B63: ITEM | C63: =+'PRESUPUESTO OFICIAL PLIEGO TIPO'!B19 -> 103 | T63: CANTIDAD | X63: =+W84 -> 166.32
B64: ACTIVIDAD: | C64: =+'PRESUPUESTO OFICIAL PLIEGO TIPO'!E19 -> Relleno con material crudo de rio T.m 6", compactado y transportado
B65: ID | C65: UBICACIÓN | E65: DIMENSIONES | M65: Volumen | P65: sub total | T65: Repeticiones | W65: TOTAL ACUMULADO
E66: Longitud metros | G66: espesor | J66: ancho
C67: Longitud total tramo
...

Sheet MEMO-alcantarilla-200
C1: FORMATO DE MEMORIAS DE CALCULO | Y1: =+Y142 -> ESQUEMA O SOPORTE GRAFICO
B2: OBJETO DEL PROYECTO: | C2: =+'PRESUPUESTO OFICIAL PLIEGO TIPO'!A11 -> OBJETO: CONSTRUCCIÓN DE PLACA HUELLA TIPO INVIAS, INCLUYENDO OBRAS DE CONTENCIÓN, DRENAJE Y ACTIVIDADES COMPLEMENTARIAS PARA MEJORAR EL CORREDOR VIAL RURAL EN LA VEREDA SAN ANTONIO, SECTOR CAÑO RICO, MUNICIPIO DE SABANALARGA DEPARTAMENTO DE CASANARE”
B3: CAPITULO | C3: =+'PRESUPUESTO OFICIAL PLIEGO TIPO'!A31 -> OBRAS DE DRENAJE | S3: UNIDAD | V3: M2
B4: ITEM | C4: =+'PRESUPUESTO OFICIAL PLIEGO TIPO'!B33 -> 201 | S4: CANTIDAD | V4: =+V27 -> 19.39
B5: ACTIVIDAD: | C5: =+'PRESUPUESTO OFICIAL PLIEGO TIPO'!E33 -> Replanteo y localizacion para obras de proteccion (Planimetria y Altimetria)
B6: ID | C6: UBICACIÓN | D6: DIMENSIONES | L6: Area | O6: sub total | S6: Repeticiones | V6: TOTAL ACUMULADO
D7: Largo | F7: altura | I7: ancho
C8: alcantarilla k2+250
C9: cajon de entrada | D9: 1.8 | I9: 1.8 | L9: =+I9*D9 -> 3.24 | O9: =+L9 -> 3.24 | S9: 1 | V9: =+ROUND(O9*S9,2) -> 3.24
C10: Aletas | D10: 1.8 | I10: 0.4 | L10: =+I10*D10 -> 0.72 | O10: =+L10 -> 0.72 | S10: 2 | V10: =+ROUND(O10*S10,2) -> 1.44
C11: cajon de salida solera (trapezoide) | D11: 4.35 | F11: 1.27 | I11: 1.8 | L11: =+(((D11+I11)*F11/2)) -> 3.90525 | O11: =+L11 -> 3.90525 | S11: 1 | V11: =+ROUND(O11*S11,2) -> 3.91
C12: cuerpo alcantarilla | D12: 6 | I12: 1.8 | L12: =+I12*D12 -> 10.8 | O12: =+L12 -> 10.8 | S12: 1 | V12: =+ROUND(O12*S12,2) -> 10.8
B25: Observacion: | V25: =ROUND(V12+V11+V9+V10,2) -> 19.39
V26: 0.00
V27: =V25 -> 19.39
D29: Elaboró: | S29: =+'MEMO-huellas-100'!S26 -> Revisó y aprobó:
F30: MARCIA LUCERO ALFONSO GAMEZ | Y30: MONICA YULIETH RODRIGUEZ TORRES
F31: Profesional de apoyo contratada S.P.O.P | Y31: Secretaria de Planeacion y Pbras publicas
Y32: Supervisor
C34: FORMATO DE MEMORIAS DE CALCULO | Y34: ESQUEMA O SOPORTE GRAFICO
B35: OBJETO DEL PROYECTO: | C35: =+'PRESUPUESTO OFICIAL PLIEGO TIPO'!A11 -> OBJETO: CONSTRUCCIÓN DE PLACA HUELLA TIPO INVIAS, INCLUYENDO OBRAS DE CONTENCIÓN, DRENAJE Y ACTIVIDADES COMPLEMENTARIAS PARA MEJORAR EL CORREDOR VIAL RURAL EN LA VEREDA SAN ANTONIO, SECTOR CAÑO RICO, MUNICIPIO DE SABANALARGA DEPARTAMENTO DE CASANARE”
B36: CAPITULO | C36: =+C3 -> OBRAS DE DRENAJE | S36: UNIDAD | V36: =+'PRESUPUESTO OFICIAL PLIEGO TIPO'!F34 -> M³
B37: ITEM | C37: ='PRESUPUESTO OFICIAL PLIEGO TIPO'!B34 -> 202 | S37: CANTIDAD | V37: =+V63 -> 67.91
B38: ACTIVIDAD: | C38: =+'PRESUPUESTO OFICIAL PLIEGO TIPO'!E34 -> Excavacion mecanica en material comun hasta 4 m (oruga)
B39: ID | C39: UBICACIÓN | D39: DIMENSIONES | L39: Volumen | O39: sub total | S39: Repeticiones | V39: TOTAL ACUMULADO
D40: largo | F40: alto | I40: ancho
C41: alcantarilla K2+250
C42: Cajon de entrada | D42: 1.8 | F42: 2.8 | I42: 1.8 | L42: =+I42*D42*F42 -> 9.072 | O42: =+L42 -> 9.072 | S42: 1 | V42: =+ROUND(O42*S42,2) -> 9.07
C43: Cajon de salida solera (Area trapecio) | D43: 4.35 | F43: LARGO DEL TRAPECIO | I43: 1.8 | L43: Altura excavacion | N43: =+(((D43+I43)*F44)/2)*L44 -> 19.5447 | O43: =+N43 -> 19.5447 | S43: 1 | V43: =S43*O43 -> 19.5447
F44: 2.27 | L44: 2.8
C45: Dentellon de salida | D45: 4.35 | F45: 0.2 | I45: 0.27 | L45: =+I45*D45*F45 -> 0.2349 | O45: =+L45 -> 0.2349 | S45: 1 | V45: =+ROUND(O45*S45,2) -> 0.23
C46: Placa Ciclopeo | D46: 4.35 | F46: 0.55 | I46: 2 | L46: =+I46*D46*F46 -> 4.785 | O46: =+L46 -> 4.785 | S46: 1 | V46: =+ROUND(O46*S46,2) -> 4.79
C47: Zapata muro pantalla | D47: 1 | F47: 0.2 | I47: 1.8 | L47: =+I47*D47*F47 -> 0.36 | O47: =+L47 -> 0.36 | S47: 1 | V47: =+ROUND(O47*S47,2) -> 0.36
C48: Aletas | D48: 1.8 | F48: 2.55 | I48: 0.4 | L48: =+I48*D48*F48 -> 1.836 | O48: =+L48 -> 1.836 | S48: 2 | V48: =S48*O48 -> 3.672
C49: Cuerpo alcantarilla | D49: 6 | F49: 2.8 | I49: 1.8 | L49: =+I49*D49*F49 -> 30.24 | O49: =+L49 -> 30.24 | S49: 1 | V49: =+ROUND(O49*S49,2) -> 30.24
B61: Observacion: | V61: =ROUND(V42+V43+V49+V45+V46+V47+V48,2) -> 67.91
V62: 0.00
V63: =V61 -> 67.91
D65: Elaboró: | V65: =+S29 -> Revisó y aprobó:
F66: MARCIA LUCERO ALFONSO GAMEZ | Y66: MONICA YULIETH RODRIGUEZ TORRES
...

Sheet MEMO-gaviones-300
C1: FORMATO DE MEMORIAS DE CALCULO | Y1: =+'MEMO-alcantarilla-200'!Y337 -> ESQUEMA O SOPORTE GRAFICO
B2: OBJETO DEL PROYECTO: | C2: =+'PRESUPUESTO OFICIAL PLIEGO TIPO'!A11 -> OBJETO: CONSTRUCCIÓN DE PLACA HUELLA TIPO INVIAS, INCLUYENDO OBRAS DE CONTENCIÓN, DRENAJE Y ACTIVIDADES COMPLEMENTARIAS PARA MEJORAR EL CORREDOR VIAL RURAL EN LA VEREDA SAN ANTONIO, SECTOR CAÑO RICO, MUNICIPIO DE SABANALARGA DEPARTAMENTO DE CASANARE”
B3: CAPITULO | C3: =+'PRESUPUESTO OFICIAL PLIEGO TIPO'!A43 -> OBRAS DE CONTENCION | S3: UNIDAD | V3: =+'PRESUPUESTO OFICIAL PLIEGO TIPO'!F45 -> M²
B4: ITEM | C4: =+'PRESUPUESTO OFICIAL PLIEGO TIPO'!B45 -> 301 | S4: CANTIDAD | V4: =+V32 -> 80
B5: ACTIVIDAD: | C5: =+'PRESUPUESTO OFICIAL PLIEGO TIPO'!E45 -> Replanteo y localizacion para obras de proteccion (Planimetria y Altimetria)
B6: ID | C6: UBICACIÓN | D6: DIMENSIONES | L6: Volumen | O6: sub total | S6: Repeticiones | V6: TOTAL ACUMULADO
D7: Longitud metros | F7: Longitud Kilometro | I7: ancho
C8: GAVIONES
D9: 20 | I9: 4 | S9: 1 | V9: =+S9*I9*D9 -> 80
B30: Observacion: | V30: =ROUND(V9+B10,2) -> 80
V31: 0.00
V32: =V30 -> 80
D34: Elaboró: | S34: =+'MEMO-alcantarilla-200'!S366 -> Revisó y aprobó:
F35: MARCIA LUCERO ALFONSO GAMEZ | Y35: MONICA YULIETH RODRIGUEZ TORRES
F36: Profesional de apoyo contratada S.P.O.P | Y36: Secretaria de Planeacion y Pbras publicas
Y37: Supervisor
C40: FORMATO DE MEMORIAS DE CALCULO | Y40: ESQUEMA O SOPORTE GRAFICO
B41: OBJETO DEL PROYECTO: | C41: =+C2 -> OBJETO: CONSTRUCCIÓN DE PLACA HUELLA TIPO INVIAS, INCLUYENDO OBRAS DE CONTENCIÓN, DRENAJE Y ACTIVIDADES COMPLEMENTARIAS PARA MEJORAR EL CORREDOR VIAL RURAL EN LA VEREDA SAN ANTONIO, SECTOR CAÑO RICO, MUNICIPIO DE SABANALARGA DEPARTAMENTO DE CASANARE”
B42: CAPITULO | C42: =+C3 -> OBRAS DE CONTENCION | T42: UNIDAD | W42: =+'PRESUPUESTO OFICIAL PLIEGO TIPO'!F46 -> M³
B43: ITEM | C43: =+'PRESUPUESTO OFICIAL PLIEGO TIPO'!B46 -> 302 | T43: CANTIDAD | W43: =+W76 -> 248
B44: ACTIVIDAD: | C44: =+'PRESUPUESTO OFICIAL PLIEGO TIPO'!E46 -> Excavacion mecanica en material comun hasta 4 m (oruga)
B45: ID | C45: UBICACIÓN | E45: DIMENSIONES | M45: Volumen | P45: sub total | T45: Repeticiones | W45: TOTAL ACUMULADO
E46: Longitud metros | G46: altura | J46: ancho
C47: EXCAVACION LONGITUDINAL | E47: 20 | G47: 2.8 | J47: 3 | M47: =+J47*G47*E47 -> 168 | P47: =+M47 -> 168 | T47: 1 | W47: =+T47*P47 -> 168
C48: EXCAVACION PARA PLACA DE NIVELACION | E48: 20 | G48: 1 | J48: 4 | M48: =+J48*G48*E48 -> 80 | P48: =+M48 -> 80 | T48: 1 | W48: =+T48*P48 -> 80
B74: Observacion: | W74: =ROUND(W47+W48,2) -> 248
W75: 0.00
W76: =W74 -> 248
D78: Elaboró: | V78: Revisó:
F79: MARCIA LUCERO ALFONSO GAMEZ | Y79: MONICA YULIETH RODRIGUEZ TORRES
F80: =+F36 -> Profesional de apoyo contratada S.P.O.P | Y80: Secretaria de Planeacion y Pbras publicas
Y81: Supervisor
C84: FORMATO DE MEMORIAS DE CALCULO | Y84: ESQUEMA O SOPORTE GRAFICO
B85: OBJETO DEL PROYECTO: | C85: =+C41 -> OBJETO: CONSTRUCCIÓN DE PLACA HUELLA TIPO INVIAS, INCLUYENDO OBRAS DE CONTENCIÓN, DRENAJE Y ACTIVIDADES COMPLEMENTARIAS PARA MEJORAR EL CORREDOR VIAL RURAL EN LA VEREDA SAN ANTONIO, SECTOR CAÑO RICO, MUNICIPIO DE SABANALARGA DEPARTAMENTO DE CASANARE”
B86: CAPITULO | C86: =+C42 -> OBRAS DE CONTENCION | T86: UNIDAD | W86: =+'PRESUPUESTO OFICIAL PLIEGO TIPO'!F47 -> M³
B87: ITEM | C87: =+'PRESUPUESTO OFICIAL PLIEGO TIPO'!B47 -> 303 | T87: CANTIDAD | W87: =+W107 -> 134.4
B88: ACTIVIDAD: | C88: =+'PRESUPUESTO OFICIAL PLIEGO TIPO'!E47 -> Relleno con material crudo de rio T.m 6", compactado y transportado
B89: ID | C89: UBICACIÓN | E89: DIMENSIONES | M89: Volumen | P89: sub total | T89: Repeticiones | W89: TOTAL ACUMULADO
E90: Longitud metros | G90: altura | J90: ancho
C91: Longitud total tramo
...

Sheet AIU (2)
B2: REPÙBLICA DE COLOMBIA DEPARTAMENTO DE CASANARE MUNICIPIO DE SABANALARGA-CASANARE ALCALDÍA MUNICIPAL
B3: =+'PRESUPUESTO OFICIAL PLIEGO TIPO'!A11 -> OBJETO: CONSTRUCCIÓN DE PLACA HUELLA TIPO INVIAS, INCLUYENDO OBRAS DE CONTENCIÓN, DRENAJE Y ACTIVIDADES COMPLEMENTARIAS PARA MEJORAR EL CORREDOR VIAL RURAL EN LA VEREDA SAN ANTONIO, SECTOR CAÑO RICO, MUNICIPIO DE SABANALARGA DEPARTAMENTO DE CASANARE”
B4: ANEXO - ANALISIS DE AIU
C5: Valor estimado del costo directo | F5: =+'PRESUPUESTO OFICIAL PLIEGO TIPO'!I52/1.34 -> 3.8070713e+08
C6: Valor estimado total presupuesto de obra | F6: =+'PRESUPUESTO OFICIAL PLIEGO TIPO'!$I$54 -> 510147555
C7: Plazo de ejecución estimado (meses) | F7: 3
B8: CAPITULO | C8: TIPO DE GASTO | D8: UND | E8: CANT | F8: DEDICACION | G8: SALARIO MENSUAL | H8: FACTOR PRESTACIONAL | I8: TIEMPO | J8: VALOR PARCIAL | K8: TOTAL | L8: % sobre C.D.
B9: 1 | C9: GASTOS GENERALES | K9: =SUM(J10:J13) -> 20619000 | L9: =K9/F5 -> 0.054159742
B10: 1.1 | C10: PERSONAL
C11: Director de Obra | D11: un | E11: 1 | F11: 0.2 | H11: 0.58 | I11: =+F7 -> 3 | J11: =+E11*F11*G11*(1+H11)*I11 -> 0
C12: Residente de obra | D12: un | E12: 1 | F12: 1 | G12: 3450000 | H12: 0.58 | I12: =F7 -> 3 | J12: =+E12*F12*G12*(1+H12)*I12 -> 16353000
C13: Sisoma de Obra | D13: un | E13: 1 | F13: 0.3 | G13: 3000000 | H13: 0.58 | I13: =+F7 -> 3 | J13: =+E13*F13*G13*(1+H13)*I13 -> 4266000
B14: 2 | C14: GASTOS INDIRECTOS
B15: 2.1 | C15: POLIZAS (% calculados sobre el valor total del contrato) | K15: =SUM(J16:J20) -> 2091605 | L15: =+K15/$F$5 -> 0.005494
C16: Seriedad de la propuesta | D16: un | E16: 1 | F16: 0.0004 | J16: =+F16*$F$6 -> 204059.02
C17: Cumplimiento | D17: un | E17: 1 | F17: 0.0002 | J17: =+F17*$F$6 -> 102029.51
C18: Calidad y estabilidad de la obra | D18: un | E18: 1 | F18: 0.002 | J18: =+F18*$F$6 -> 1020295.1
C19: Responsabilidad civil extracont | D19: un | E19: 1 | F19: 0.0012 | J19: =+F19*$F$6 -> 612177.07
C20: Prestaciones sociales | D20: un | E20: 1 | F20: 0.0003 | J20: =+F20*$F$6 -> 153044.27
B21: 2.2 | C21: INSTALACIONES PROVISIONALES, TRANSPORTES , GASTOS DE OFICINA Y ENSAYOS DE LABORATORIO | K21: =SUM(J22:J25) -> 8209328 | L21: =+K21/$F$5 -> 0.021563368
C22: Gastos de Oficina (arriendos, servicios publicos, comunicaciones) | D22: un | E22: 1 | G22: 600000 | I22: 3 | J22: =+I22*G22 -> 1800000
C23: Gastos de papeleria e informes (empastes, copias, impresiones, planos, registro fotografico, videos) | D23: un | E23: 1 | G23: 200000 | I23: =F7 -> 3 | J23: =+G23*I23 -> 600000
C24: Gastos de Campamento y obra (Valla informativa, dotaciones, adecuacion instalaciones para empleados, servicios Públicos Provisionales durante la obra y trámites ante las empresas de servicios.) | D24: un | E24: 1 | G24: 900000 | I24: =F7 -> 3 | J24: =+G24*I24*E24 -> 2700000
C25: Ensayos de laboratorio | D25: un | E25: 1 | G25: 1554664 | I25: 2 | J25: =+I25*G25*E25 -> 3109328
B26: 2.3 | C26: IMPUESTOS, TASAS Y CONTRIBUCIONES (% calculados sobre el valor del contrato) | K26: =SUM(J27:J34) -> 84327391 | L26: =+K26/$F$5 -> 0.221502
C27: Estampilla para el fomento y estímulo a la cultura 1% sobre el valor total del contrato. | F27: 0.01 | J27: =+F27*F6 -> 5101475.5
C28: Estampilla para el bienestar del adulto mayor 4% sobre el valor total del contrato. | F28: 0.04 | J28: =+F28*F6 -> 20405902
C29: Tasa pro deporte y recreación 1.5 % sobre el valor total del contrato. | F29: 0.015 | J29: =+$F$29*F6 -> 7652213.3
C30: Estampilla para la justicia familiar 2%, sobre el valor bruto del contrato, es decir, el valor de cada pago sin incluir el IVA. | F30: 0.02 | J30: =+$F$30*F6 -> 10202951
C31: Impuesto de seguridad 5 % sobre el valor total del contrato. | F31: 0.05 | J31: =+F31*F6 -> 25507378
C32: Industria y Comercio 10 x 1000 sobre el valor total del contrato. (Régimen de rentas del municipio de Sabanalarga) | F32: 0.01 | J32: =+F32*F6 -> 5101475.5
C33: Estampilla Bomberil 3% de la sumatoria de lo liquidado de industria y comercio y avisos y tableros. | F33: 0.03 | G33: Ind y Com. | J33: =+J32*F33 -> 153044.27
C34: Retención, Conforme a lo previsto en la ley 1607 de 2012 y sus decretos reglamentarios Nos. 099 y 1070 de 2013. | F34: 0.02 | J34: =+F34*F6 -> 10202951
C35: TOTAL GASTOS ADMINISTRACIÓN | F35: =ROUND(+K35/F5,2) -> 0.3 | K35: =ROUND(SUM(K9:K34),0) -> 115247324 | N35: =#REF! -> #REF! | O35: =K35-N35 -> #REF! | P35: 29251436
B36: 3 | C36: IMPREVISTOS | F36: 0.01 | K36: =ROUND(+F36*F5,0) -> 3807071 | N36: =#REF! -> #REF! | P36: 1044694
B37: 4 | C37: UTILIDAD | F37: 0.05 | K37: =ROUND(+F37*F5,0) -> 19035357 | N37: =#REF! -> #REF! | P37: 5223471
C38: TOTAL A.I.U. | F38: =ROUND(+K38/F5,2) -> 0.36 | K38: =+K37+K36+K35 -> 138089752 | N38: =+F5*34% -> 1.2944042e+08 | P38: =+P35+P36+P37 -> 35519601
P39: 1.0446941e+08
B41: Revisó/Aprobó: | C41: MONICA YULIETH RODRIGUEZ TORRES | F41: Proyectó: | G41: MARCIA LUCERO ALFONSO GAMEZ
C42: Secretaria de Planeacion y Obras Publicas | G42: Profesional de Apoyo S.P.O.P

Sheet PMT
A1: =+'PRESUPUESTO OFICIAL PLIEGO TIPO'!A11:I11 -> OBJETO: CONSTRUCCIÓN DE PLACA HUELLA TIPO INVIAS, INCLUYENDO OBRAS DE CONTENCIÓN, DRENAJE Y ACTIVIDADES COMPLEMENTARIAS PARA MEJORAR EL CORREDOR VIAL RURAL EN LA VEREDA SAN ANTONIO, SECTOR CAÑO RICO, MUNICIPIO DE SABANALARGA DEPARTAMENTO DE CASANARE”
A2: IMPLEMENTAR PLAN DE MANEJO DE TRAFICO | G2: MUNICIPIO: | H2: SABANALARGA
A4: ITEM | B4: DESCRIPCION | C4: UND | D4: CANT. | E4: VR. UNIT | F4: VR. TOTAL
A6: 1 | B6: PLAN DE MANEJO DE TRAFICO ( DISPOSITIVOS, SEÑALIZACION Y EQUIPOS) ( A )
B7: DISPOSITIVOS DE CONTROL
A8: 1.1 | B8: BARRICADA METALICA TIPO IDU CON CERRADO REFLECTIVO NARANJA Y BLANCO GRADO INGENIERIA, MEDIDAS: 2.40m x 1.50m - 3 BANDEJAS DE 20cm x 2.40m. TABLERO DE DESVIO DE 60 cm | C8: UND | E8: 220250 | F8: =D8*E8 -> 0
A9: 1.1 | B9: Paleta PARE - SIGA 45 cm | C9: UND | D9: 2 | E9: 76842 | F9: =D9*E9 -> 153684
A10: 1.2 | B10: Colombina o baliza de señalizacion H=1.30 m | C10: UND | D10: 10 | E10: 52767 | F10: =D10*E10 -> 527670
A11: 1.3 | B11: Barrera o maletin plástico rellenable (tipo New Jersey) 2.0 x 1.0 x 0.50 m | C11: UND | D11: 2 | E11: 550101 | F11: =D11*E11 -> 1100202
A12: 1.5 | B12: CONO DE SEÑALIZACION VIAL DOBLE REFLECTIVO H=70 CMS | C12: UND | E12: 48720 | F12: =D12*E12 -> 0
A13: 1.4 | B13: Cinta de Señalizacion - peligro no pase - | C13: ML | D13: 200 | E13: 77 | F13: =D13*E13 -> 15400
B14: SEÑALIZACION
A15: 1.5 | B15: Señal movil 60 x 120 reflectiva. | C15: UND | D15: 10 | E15: 156600 | F15: =D15*E15 -> 1566000
A16: 1.6 | B16: Cono de señalizacion vial, doble reflectivo H=70 cm | C16: UND | D16: 4 | E16: 62635 | F16: =D16*E16 -> 250540
B17: EQUIPOS VARIOS
A18: 1.6 | B18: PLOTEO PLANOS PMT ESPECÍFICOS | C18: UNID. | D18: 1 | E18: 938292 | F18: =D18*E18 -> 938292
A19: A | B19: SUBTOTAL PLAN DE MANEJO DE TRAFICO ( DISPOSITIVOS, SEÑALIZACION Y EQUIPOS) | F19: =SUM(F8:F18) -> 4551788
A21: ÍTEM | B21: DESCRIPCIÓN | C21: UNIDAD | D21: NUMERO DE PALETEROS | E21: VR. UNITARIO | F21: MESES | G21: DEDICACIÓN | H21: VR. TOTAL
B22: PERSONAL PROFESIONAL, AUXILIARES DE TRANSITO Y BRIGADAS ( B )
A23: 1.1 | B23: CONTROLADOR VIAL | C23: AUXILIARES | D23: 2 | E23: 2800000 | F23: 2 | G23: 0.5 | H23: =D23*E23*F23*G23 -> 5600000
A25: B | B25: SUBTOTAL PLAN DE MANEJO DE TRAFICO ( PERSONAL ) | H25: =H23 -> 5600000
A27: VALOR COSTOS DIRECTOS ( A ) + ( B ) | F27: =F19+H25 -> 10151788
A29: ELABORÓ | B29: Firma | D29: APROBÓ | E29: Firma
B30: MARCIA LUCERO ALFONSO GAMEZ | E30: Nombre: | F30: MONICA YULIETH RODRIGUEZ TORRES
B31: Profesional de Apoyo S.P.O.P | E31: Secretaria de Planeacion y obras Publicas

Sheet PAGA
B1: OBJETO: | D1: “CONSTRUCCIÓN DE PLACA HUELLA TIPO INVÍAS, INCLUYENDO LA EJECUCIÓN DE OBRAS DE CONTENCIÓN, OBRAS DE ARTE, DRENAJE Y ACTIVIDADES COMPLEMENTARIAS REQUERIDAS PARA LA ESTABILIZACIÓN Y MEJORAMIENTO DEL CORREDOR VIAL RURAL EN LA VEREDA SAN ANTONIO, SECTOR CAÑO RICO, DEL MUNICIPIO DE SABANALARGA, DEPARTAMENTO DE CASANARE”
B2: PRESUPUESTO PLAN DE ADAPTACIÓN DE LA GUÍA AMBIENTAL - PAGA
B3: ITEM | C3: ESPECIFICACIÓN | D3: ACTIVIDAD | E3: UND | F3: CANT | G3: VR. UNITARIO | H3: VR. TOTAL
B4: 1 | C4: GENERAL | D4: PROGRAMA GESTIÓN HIDRICA
B5: 1.1 | C5: 703 | D5: Unidades sanitarias portatil (Incluye: mantenimiento, transporte y disposicion de ARD) | E5: UND/MES | F5: 1 | G5: ='[170]1.1 APU PAGA'!N63 -> 7104867 | H5: =F5*G5 -> 7104867
B6: 1.2 | C6: 7.259 | D6: Tanque plastico de 2000 litros. Suministro e Instal | E6: UND | F6: 1 | G6: ='[170]1.2 APU PAGA,'!N71 -> 1692753 | H6: =F6*G6 -> 1692753
B7: SUBTOTAL PROGRAMA GESTIÓN HIDRICA | H7: =H5+H6 -> 8797620
B8: 2 | D8: PROGRAMA ACTIVIDADES CONSTRUCTIVAS
B9: 2.1 | C9: 6.821 | D9: Impermeabilizacion de suelo para mezcla de concretos | E9: m2 | F9: 12 | G9: ='[170]2.1 APU PAGA'!N70 -> 15345 | H9: =+F9*G9 -> 184140
B10: 2.2 | C10: 7.332 | D10: Punto ecológico en frente de obra, incluye, suministro, instalación y desmonte | E10: UND | F10: 1 | G10: ='[170]2.2 APU PAGA '!N70 -> 1128564 | H10: =+F10*G10 -> 1128564
B11: 2.3 | C11: 6.973 | D11: Mantenimiento punto ecologico en frente de obra | E11: MES | F11: 2 | G11: ='[170]2.3 APU PAGA '!N66 -> 472689 | H11: =+F11*G11 -> 945378
B12: 2.4 | C12: 6.974 | D12: Punto acopio de residuos, materiales peligrosos y especiales. Incluye suministro e instalacion y desmonte. | E12: und | F12: 1 | G12: ='[170]2.4 APU PAGA '!N72 -> 1609952 | H12: =+F12*G12 -> 1609952
B13: 2.5 | C13: 6975 | D13: Mantenimiento punto acopio de residuos, materiales peligrosos y especiales | E13: MES | F13: 1 | G13: ='[170]2.5 APU PAGA'!N70 -> 216338 | H13: =+F13*G13 -> 216338
B14: 2.6 | C14: 3.223 | D14: Gestión final de RESPEL | E14: MES | F14: 1 | G14: ='[170]2.6 APU PAGA'!N64 -> 773114 | H14: =+F14*G14 -> 773114
B15: 2.7 | C15: 5.24 | D15: Sitio de acopio temporal de residuos, escombros y desperdicios de 4.0 x 4.0 m, incluye instalacion y desmonte. | E15: UND | F15: 1 | G15: =+'2.7 APU PAGA'!N67 -> 652160 | H15: =+F15*G15 -> 652160
B16: 2.8 | C16: 5.46 | D16: Punto acopio de materiales de construccion. Incluye suministro, instalacion y desmonte | E16: UND | F16: 1 | G16: ='[170]2.8 APU PAGA'!N71 -> 1557637 | H16: =+F16*G16 -> 1557637
B17: SUBTOTAL PROGRAMA ACTIVIDADES CONSTRUCTIVAS | H17: =SUM(H9:H16) -> 7067283
B18: 3 | D18: UBICACIÓN, DOTACION CAMPAMENTO Y GESTION SOCIAL
B19: 3.1 | C19: N/A | D19: Camilla Emergencia: Polietileno 185x45 cm | E19: UND | F19: 1 | G19: 321900 | H19: =F19*G19 -> 321900
B20: 3.2 | C20: N/A | D20: Extintor ABC 20 Lb ( mas dos recargas) | E20: UND | F20: 1 | G20: =99900+15000 -> 114900 | H20: =F20*G20 -> 114900
B21: 3.3 | C21: N/A | D21: Botiquín Tipo A Según Resolución | E21: UND | F21: 1 | G21: 149900 | H21: =F21*G21 -> 149900
A22: Elaboró: | B22: SUBTOTAL UBICACIÓN, DOTACION CAMPAMENTO Y GESTION SOCIAL | H22: =SUM(H19:H21) -> 586700
B23: COSTO IMPLEMENTACION PAGA | H23: =H7+H17+H22 -> 16451603
B25: Firma | D25: APROBÓ | E25: Firma
B26: DEISY JOHANNA RAMIREZ LEGUIZAMON | E26: Nombre: | F26: MONICA YULIETH RODRIGUEZ TORRES
B27: Profesional de Apoyo S.P.O.P | E27: Secretaria de Planeacion y obras Publicas

Sheet 1.1 APU PAGA
A1: Formulario 1 - Propuesta económica - Documento tipo de licitación de obra pública de infraestructura de transporte - versión 4
A2: Código | B2: CCE-EICP-FM-14 | C2: Versión | D2: 4
A3: FORMULARIO 1
A4: PRESUPUESTO OFICIAL
A6: [La entidad podrá utilizar este formato para la presentación de los análisis de precios unitarios del contratista en la oportunidad prevista en el numeral 8.2. del Documento Base]
C8: ALCALDIA MUNICIPAL DE SABANALARGA - CASANARE
K9: VERSIÓN
C11: ANALISIS DE PRECIOS UNITARIOS | K11: PÁGINA | L11: 1 | M11: DE | N11: 1
K14: FECHA | L14: DD | M14: MM | N14: AA
A16: ÍTEMS DE LA PROPUESTA ECONÓMICA | H16: ÍTEMS NO PREVISTOS
A19: =[170]PAGA!D4 -> PROGRAMA GESTIÓN HIDRICA
A20: DATOS ESPECÍFICOS
A22: ÍTEM | B22: 1.1 | C22: Unidades sanitarias portatil (Incluye: mantenimiento, transporte y disposicion de ARD) | L22: UNIDAD | N22: CANTIDAD
B23: 703 | L23: mes
A24: I. EQUIPO
A27: DESCRIPCIÓN | G27: MARCA | I27: TIPO | K27: TARIFA/HORA | L27: RENDIMIENTO | N27: Vr. UNITARIO
N28: =+K28*L28 -> 0
A30: SUBTOTAL $ | N30: =ROUND(SUM(N28:N29),0) -> 0
A31: II. MATERIALES
A34: DESCRIPCIÓN | J34: UNIDAD | K34: CANTIDAD | L34: PRECIO UNIT. | N34: Vr. UNITARIO
A35: Unidad sanitaria portatil o baño - alquiler (mes) | J35: und | K35: 3 | L35: 500000 | N35: =+L35*K35 -> 1500000
A36: Mantenimiento baño portatil, incluye: cambio de papel, recarga de gel antibacterial c/15 dias y movilizacion interna | J36: und | K36: 24 | L36: 75000 | N36: =+L36*K36 -> 1800000
A38: SUBTOTAL $ | N38: =ROUND(SUM(N35:N36),0) -> 3300000
A39: III. TRANSPORTES
A42: MATERIAL | I42: VOL. o PESO | J42: DISTANCIA | K42: M3 o Ton/Km | L42: TARIFA | N42: Vr. UNITARIO
A43: Transporte de residuos solidos - aguas residuales - en vehiculos especializados - m³ | I43: m³ | K43: 10 | L43: ='[170]1.2 ANA TRANS PAGA'!N64 -> 200214 | N43: =+L43*K43 -> 2002140
A45: SUBTOTAL $ | N45: =+N43 -> 2002140
A46: IV. MANO DE OBRA
A49: TRABAJADOR | I49: JORNAL | J49: PRESTACIONES | K49: JORNAL TOTAL | L49: RENDIMIENTO | N49: Vr. UNITARIO
A51: SUBTOTAL $ | N51: =SUM(N50:N50) -> 0
A53: TOTAL COSTO DIRECTO $ | N53: =ROUND(+N30+N38+N45+N51,0) -> 5302140
A54: V. COSTOS INDIRECTOS
A57: Descripción | K57: Porcentaje | L57: Valor Total
A58: ADMINISTRACION | K58: 0.28 | L58: =ROUND((N53*K58),0) -> 1484599 | M58: =ROUND((J58*K58),0) -> 0 | N58: =+L58 -> 1484599
A59: IMPREVISTOS | K59: 0.01 | L59: =ROUND((N53*K59),0) -> 53021 | M59: =ROUND((J59*K59),0) -> 0 | N59: =+L59 -> 53021
A60: UTILIDAD | K60: 0.05 | L60: =ROUND((N53*K60),0) -> 265107 | M60: =ROUND((J60*K60),0) -> 0 | N60: =+L60 -> 265107
A61: SUBTOTAL $ | N61: =ROUND(SUM(N58:N60),0) -> 1802727
A63: Precio Unitario Total Aproximado al peso $ | N63: =+N53+N61 -> 7104867
F66: Firma
F67: Nombre: | G67: DEISY JOHANNA RAMIREZ LEGUIZAMON
...

Sheet 1.2 ANA TRANS PAGA
A1: Formulario 1 - Propuesta económica - Documento tipo de licitación de obra pública de infraestructura de transporte - versión 4
A2: Código | B2: CCE-EICP-FM-14 | C2: Versión | D2: 4
A3: FORMULARIO 1
A4: PRESUPUESTO OFICIAL
A6: [La entidad podrá utilizar este formato para la presentación de los análisis de precios unitarios del contratista en la oportunidad prevista en el numeral 8.2. del Documento Base]
C8: ALCALDIA MUNICIPAL DE SABANALARGA - CASANARE
K9: VERSIÓN
C11: ANALISIS DE PRECIOS UNITARIOS | K11: PÁGINA | L11: 1 | M11: DE | N11: 1
K14: FECHA | L14: DD | M14: MM | N14: AA
A16: ÍTEMS DE LA PROPUESTA ECONÓMICA | H16: ÍTEMS NO PREVISTOS
A19: =[170]PAGA!D4 -> PROGRAMA GESTIÓN HIDRICA
A20: DATOS ESPECÍFICOS
A22: ÍTEM | B22: 1.2 | C22: Transporte de residuos solidos - aguas residuales - en vehiculos especializados - m³ | L22: UNIDAD | N22: CANTIDAD
B23: 5960 | L23: m³
A24: I. EQUIPO
A27: DESCRIPCIÓN | G27: MARCA | I27: TIPO | K27: TARIFA/HORA | L27: RENDIMIENTO | N27: Vr. UNITARIO
N28: =+K28*L28 -> 0
N29: =+K29*L29 -> 0
A31: SUBTOTAL $ | N31: =ROUND(SUM(N28:N30),0) -> 0
A32: II. MATERIALES
A35: DESCRIPCIÓN | J35: UNIDAD | K35: CANTIDAD | L35: PRECIO UNIT. | N35: Vr. UNITARIO
N36: =ROUND((K36*L36),0) -> 0
N37: =ROUND((K37*L37),0) -> 0
A39: SUBTOTAL $ | N39: =ROUND(SUM(N36:N37),0) -> 0
A40: III. TRANSPORTES
A43: MATERIAL | I43: VOL. o PESO | J43: DISTANCIA | K43: M3 o Ton/Km | L43: TARIFA | N43: Vr. UNITARIO
A44: Transporte por volumen - residuos solidos | J44: 42.9 | K44: m3-km | L44: 4667 | N44: =J44*L44 -> 200214.3
A46: SUBTOTAL $ | N46: =+N44 -> 200214.3
A47: IV. MANO DE OBRA
A50: TRABAJADOR | I50: JORNAL | J50: PRESTACIONES | K50: JORNAL TOTAL | L50: RENDIMIENTO | N50: Vr. UNITARIO
A52: SUBTOTAL $ | N52: =SUM(N51:N51) -> 0
A54: TOTAL COSTO DIRECTO $ | N54: =ROUND(+N31+N39+N46+N52,0) -> 200214
A55: V. COSTOS INDIRECTOS
A58: Descripción | K58: Porcentaje | L58: Valor Total
A59: ADMINISTRACION | K59: 0.28 | N59: =+L59 -> 0
A60: IMPREVISTOS | K60: 0.01 | N60: =+L60 -> 0
A61: UTILIDAD | K61: 0.05 | N61: =+L61 -> 0
A62: SUBTOTAL $ | N62: =ROUND(SUM(N59:N61),0) -> 0
A64: Precio Unitario Total Aproximado al peso $ | N64: =+N54+N62 -> 200214
F67: Firma
...

Sheet 1.2 APU PAGA,
A1: Formulario 1 - Propuesta económica - Documento tipo de licitación de obra pública de infraestructura de transporte - versión 4
A2: Código | B2: CCE-EICP-FM-14 | C2: Versión | D2: 4
A3: FORMULARIO 1
A4: PRESUPUESTO OFICIAL
A6: [La entidad podrá utilizar este formato para la presentación de los análisis de precios unitarios del contratista en la oportunidad prevista en el numeral 8.2. del Documento Base]
C8: ALCALDIA MUNICIPAL DE SABANALARGA - CASANARE
K9: VERSIÓN
C11: ANALISIS DE PRECIOS UNITARIOS | K11: PÁGINA | L11: 1 | M11: DE | N11: 1
K14: FECHA | L14: DD | M14: MM | N14: AA
A16: ÍTEMS DE LA PROPUESTA ECONÓMICA | H16: ÍTEMS NO PREVISTOS
A17: =[170]PAGA!D4 -> PROGRAMA GESTIÓN HIDRICA
A18: DATOS ESPECÍFICOS
A20: ÍTEM | B20: 1.2 | C20: Tanque plastico de 2000 litros. Suministro e Instal. | L20: UNIDAD | N20: CANTIDAD
B21: 7.259 | L21: und
A22: I. EQUIPO
A25: DESCRIPCIÓN | G25: MARCA | I25: TIPO | K25: TARIFA/HORA | L25: RENDIMIENTO | N25: Vr. UNITARIO
A26: Herramienta menor 5% M.O. AA | K26: 1441 | L26: 0.8 | N26: =+K26*L26 -> 1152.8
A27: SUBTOTAL $ | N27: =(SUM(N26:N26)) -> 1152.8
A28: II. MATERIALES
A31: DESCRIPCIÓN | J31: UNIDAD | K31: CANTIDAD | L31: PRECIO UNIT. | N31: Vr. UNITARIO
A32: Soldadura liquida PVC 1/4 gl | J32: und | K32: 0.0038 | L32: 124266 | N32: =+L32*K32 -> 472.2108
A33: Limpiador liquido PVC 1/4 gl o 760 gr | J33: und | K33: 0.0066 | L33: 59917 | N33: =+L33*K33 -> 395.4522
A34: Cinta teflon 3/4" x 10 m | J34: und | K34: 0.05 | L34: 3854 | N34: =+L34*K34 -> 192.7
A35: Tubo presion RDE 13.5 PVC 1/2 " | J35: m | K35: 0.3 | L35: 3376 | N35: =+L35*K35 -> 1012.8
A36: Adaptador macho presión PVC 1/2" | J36: und | K36: 1 | L36: 540 | N36: =+L36*K36 -> 540
A37: Adaptador hembra presión PVC 1" | J37: und | K37: 1 | L37: 2435 | N37: =+L37*K37 -> 2435
A38: Buje soldado presion PVC 1 x 1/2 | J38: und | K38: 1 | L38: 1510 | N38: =ROUND((K38*L38),0) -> 1510
A39: Llave jardin tipo liviana 1/2" PVC | J39: und | K39: 1 | L39: 5000 | N39: =ROUND((K39*L39),0) -> 5000
A40: Tanque plástico 2000 lt | J40: und | K40: 1 | L40: 1227484 | N40: =ROUND((K40*L40),0) -> 1227484
A41: SUBTOTAL $ | N41: =SUM(N32:N40) -> 1239042.2
A42: III. TRANSPORTES
A45: MATERIAL | I45: VOL. o PESO | J45: DISTANCIA | K45: M3 o Ton/Km | L45: TARIFA | N45: Vr. UNITARIO
N46: =+L46*K46 -> 0
A47: SUBTOTAL $ | N47: =+N46 -> 0
A48: IV. MANO DE OBRA
A51: TRABAJADOR | I51: JORNAL | J51: PRESTACIONES | K51: JORNAL TOTAL | L51: RENDIMIENTO | N51: Vr. UNITARIO
A52: Cuadrilla AA (Albañileria) | K52: 0.8 | L52: 28817 | N52: =((K52*L52)) -> 23053.6
N53: =ROUND((K53*L53),0) -> 0
A54: SUBTOTAL $ | N54: =SUM(N52:N53) -> 23053.6
A56: TOTAL COSTO DIRECTO $ | N56: =ROUND(+N27+N41+N47+N54,0) -> 1263249
...

Sheet 2.1 APU PAGA
A1: Formulario 1 - Propuesta económica - Documento tipo de licitación de obra pública de infraestructura de transporte - versión 4
A2: Código | B2: CCE-EICP-FM-14 | C2: Versión | D2: 4
A3: FORMULARIO 1
A4: PRESUPUESTO OFICIAL
A6: [La entidad podrá utilizar este formato para la presentación de los análisis de precios unitarios del contratista en la oportunidad prevista en el numeral 8.2. del Documento Base]
C8: ALCALDIA MUNICIPAL DE SABANALARGA - CASANARE
K9: VERSIÓN
C11: ANALISIS DE PRECIOS UNITARIOS | K11: PÁGINA | L11: 1 | M11: DE | N11: 1
K14: FECHA | L14: DD | M14: MM | N14: AA
A16: ÍTEMS DE LA PROPUESTA ECONÓMICA | H16: ÍTEMS NO PREVISTOS
A19: PROGRAMA ACTIVIDADES CONSTRUCTIVAS
A20: DATOS ESPECÍFICOS
A22: ÍTEM | B22: 2.1 | C22: Impermeabilizacion de suelo para mezcla de concretos | L22: UNIDAD | N22: CANTIDAD
B23: 6.821 | L23: m²
A24: I. EQUIPO
A27: DESCRIPCIÓN | G27: MARCA | I27: TIPO | K27: TARIFA/HORA | L27: RENDIMIENTO | N27: Vr. UNITARIO
A28: Herramienta menor 10% M.O. AA | K28: 2882 | L28: 0.0833 | N28: =+K28*L28 -> 240.0706
N29: =+K29*L29 -> 0
A31: SUBTOTAL $ | N31: =SUM(N28:N30) -> 240.0706
A32: II. MATERIALES
A35: DESCRIPCIÓN | J35: UNIDAD | K35: CANTIDAD | L35: PRECIO UNIT. | N35: Vr. UNITARIO
A36: Geotextil No Tejido 2000 | J36: m2 | K36: 1 | L36: 7262 | N36: =+L36*K36 -> 7262
A37: Plastico en Polietileno negro Cal. 6 | J37: m2 | K37: 1 | L37: 1548 | N37: =+L37*K37 -> 1548
A38: SUBTOTAL $ | N38: =SUM(N36:N37) -> 8810
A39: III. TRANSPORTES
A42: MATERIAL | I42: VOL. o PESO | J42: DISTANCIA | K42: M3 o Ton/Km | L42: TARIFA | N42: Vr. UNITARIO
N43: =+L43*K43 -> 0
A45: SUBTOTAL $ | N45: =SUM(N43:N44) -> 0
A46: IV. MANO DE OBRA
A49: TRABAJADOR | I49: JORNAL | J49: PRESTACIONES | K49: JORNAL TOTAL | L49: RENDIMIENTO | N49: Vr. UNITARIO
A50: Cuadrilla AA (Albañileria) | I50: h | K50: 28817 | L50: 0.0833 | N50: =K50*L50 -> 2400.4561
N51: =K51*L51 -> 0
N52: =K52*L52 -> 0
A53: SUBTOTAL $ | N53: =SUM(N50:N52) -> 2400.4561
A55: TOTAL COSTO DIRECTO $ | N55: =ROUND(+N31+N38+N45+N53,0) -> 11451 | O55: =(+N31+N38+N45+N53) -> 11450.527
A56: V. COSTOS INDIRECTOS
A59: Descripción | K59: Porcentaje | L59: Valor Total
A60: ADMINISTRACION | K60: 0.28 | L60: =ROUND((N55*K60),0) -> 3206 | M60: =ROUND((J60*K60),0) -> 0 | N60: =+L60 -> 3206
A61: IMPREVISTOS | K61: 0.01 | L61: =ROUND((N55*K61),0) -> 115 | M61: =ROUND((J61*K61),0) -> 0 | N61: =+L61 -> 115
A62: UTILIDAD | K62: 0.05 | L62: =ROUND((N55*K62),0) -> 573 | M62: =ROUND((J62*K62),0) -> 0 | N62: =+L62 -> 573
...

Sheet 2.2 APU PAGA 
A1: Formulario 1 - Propuesta económica - Documento tipo de licitación de obra pública de infraestructura de transporte - versión 4
A2: Código | B2: CCE-EICP-FM-14 | C2: Versión | D2: 4
A3: FORMULARIO 1
A4: PRESUPUESTO OFICIAL
A6: [La entidad podrá utilizar este formato para la presentación de los análisis de precios unitarios del contratista en la oportunidad prevista en el numeral 8.2. del Documento Base]
C8: ALCALDIA MUNICIPAL DE SABANALARGA - CASANARE
K9: VERSIÓN
C11: ANALISIS DE PRECIOS UNITARIOS | K11: PÁGINA | L11: 1 | M11: DE | N11: 1
K14: FECHA | L14: DD | M14: MM | N14: AA
A16: ÍTEMS DE LA PROPUESTA ECONÓMICA | H16: ÍTEMS NO PREVISTOS
A18: PROGRAMA ACTIVIDADES CONSTRUCTIVAS
A19: DATOS ESPECÍFICOS
A21: ÍTEM | B21: 2.1 | C21: Punto ecologico en frente de obra, incluye, suministro, instalacion y desmonte. | L21: UNIDAD | N21: CANTIDAD
B22: 7.332 | L22: m²
A23: I. EQUIPO
A26: DESCRIPCIÓN | G26: MARCA | I26: TIPO | K26: TARIFA/HORA | L26: RENDIMIENTO | N26: Vr. UNITARIO
A27: Herramienta menor 10% M.O. Ayud. const.1 | K27: 1183 | L27: 2 | N27: =+K27*L27 -> 2366
N28: =+K28*L28 -> 0
A30: SUBTOTAL $ | N30: =SUM(N27:N29) -> 2366
A31: II. MATERIALES
A34: DESCRIPCIÓN | J34: UNIDAD | K34: CANTIDAD | L34: PRECIO UNIT. | N34: Vr. UNITARIO
A35: Contenedor de residuos solidos, tipo 3 canecas de 53 litros con estructura | J35: und | K35: 1 | L35: 769100 | N35: =+L35*K35 -> 769100
N36: =+L36*K36 -> 0
A38: SUBTOTAL $ | N38: =SUM(N35:N37) -> 769100
A39: III. TRANSPORTES
A42: MATERIAL | I42: VOL. o PESO | J42: DISTANCIA | K42: M3 o Ton/Km | L42: TARIFA | N42: Vr. UNITARIO
A43: Transporte de materiales - t | J43: 0.8 | L43: ='[170]2.1 ANA TRANS PAGA '!N64 -> 58862 | N43: =J43*L43 -> 47089.6
A45: SUBTOTAL $ | N45: =SUM(N43:N44) -> 47089.6
A46: IV. MANO DE OBRA
A49: TRABAJADOR | I49: JORNAL | J49: PRESTACIONES | K49: JORNAL TOTAL | L49: RENDIMIENTO | N49: Vr. UNITARIO
A50: Ayudante construcción 1 | K50: 11828 | L50: 2 | N50: =K50*L50 -> 23656
N51: =K51*L51 -> 0
N52: =K52*L52 -> 0
N53: =K53*L53 -> 0
A54: SUBTOTAL $ | N54: =SUM(N50:N53) -> 23656
A56: TOTAL COSTO DIRECTO $ | N56: =ROUND(+N30+N38+N45+N54,0) -> 842212 | O56: =(+N30+N38+N45+N54) -> 842211.6
A57: V. COSTOS INDIRECTOS
A60: Descripción | K60: Porcentaje | L60: Valor Total
A61: ADMINISTRACION | K61: 0.28 | L61: =ROUND((N56*K61),0) -> 235819 | M61: =ROUND((J61*K61),0) -> 0 | N61: =+L61 -> 235819
A62: IMPREVISTOS | K62: 0.01 | L62: =ROUND((N56*K62),0) -> 8422 | M62: =ROUND((J62*K62),0) -> 0 | N62: =+L62 -> 8422
...

Sheet 2.1 ANA TRANS PAGA 
A1: Formulario 1 - Propuesta económica - Documento tipo de licitación de obra pública de infraestructura de transporte - versión 4
A2: Código | B2: CCE-EICP-FM-14 | C2: Versión | D2: 4
A3: FORMULARIO 1
A4: PRESUPUESTO OFICIAL
A6: [La entidad podrá utilizar este formato para la presentación de los análisis de precios unitarios del contratista en la oportunidad prevista en el numeral 8.2. del Documento Base]
C8: ALCALDIA MUNICIPAL DE SABANALARGA - CASANARE
K9: VERSIÓN
C11: ANALISIS DE PRECIOS UNITARIOS | K11: PÁGINA | L11: 1 | M11: DE | N11: 1
K14: FECHA | L14: DD | M14: MM | N14: AA
A16: ÍTEMS DE LA PROPUESTA ECONÓMICA | H16: ÍTEMS NO PREVISTOS
A19: =[170]PAGA!D4 -> PROGRAMA GESTIÓN HIDRICA
A20: DATOS ESPECÍFICOS
A22: ÍTEM | B22: 2.1 | C22: Transporte de materiales - t | L22: UNIDAD | N22: CANTIDAD
B23: 5.144 | L23: t
A24: I. EQUIPO
A27: DESCRIPCIÓN | G27: MARCA | I27: TIPO | K27: TARIFA/HORA | L27: RENDIMIENTO | N27: Vr. UNITARIO
N28: =+K28*L28 -> 0
A30: SUBTOTAL $ | N30: =ROUND(SUM(N28:N29),0) -> 0
A31: II. MATERIALES
A34: DESCRIPCIÓN | J34: UNIDAD | K34: CANTIDAD | L34: PRECIO UNIT. | N34: Vr. UNITARIO
N35: =ROUND((K35*L35),0) -> 0
A36: SUBTOTAL $ | N36: =ROUND(SUM(N35:N35),0) -> 0
A37: III. TRANSPORTES
A40: MATERIAL | I40: VOL. o PESO | J40: DISTANCIA | K40: M3 o Ton/Km | L40: TARIFA | N40: Vr. UNITARIO
A41: Transporte por peso en vía (sin pavimentar) | J41: 49.2 | K41: t-km | L41: 685 | N41: =J41*L41 -> 33702
A42: Transporte por peso en vía (pavimentada) | J42: 1.8 | K42: t-km | L42: 429 | N42: =J42*L42 -> 772.2
A43: Transporte por peso en vía (sin.pav-montaña) | J43: 7 | K43: t-km | L43: 3484 | N43: =J43*L43 -> 24388
A44: SUBTOTAL $ | N44: =SUM(N41:N43) -> 58862.2
A45: IV. MANO DE OBRA
A48: TRABAJADOR | I48: JORNAL | J48: PRESTACIONES | K48: JORNAL TOTAL | L48: RENDIMIENTO | N48: Vr. UNITARIO
N49: =ROUND((K49*L49),0) -> 0
A51: SUBTOTAL $ | N51: =SUM(N49:N50) -> 0
A53: TOTAL COSTO DIRECTO $ | N53: =ROUND(+N30+N36+N44+N51,0) -> 58862
A54: V. COSTOS INDIRECTOS
A57: Descripción | K57: Porcentaje | L57: Valor Total
A58: ADMINISTRACION | K58: 0.28 | N58: =+L58 -> 0
A59: IMPREVISTOS | K59: 0.01 | N59: =+L59 -> 0
A60: UTILIDAD | K60: 0.05 | N60: =+L60 -> 0
A61: SUBTOTAL $ | N61: =ROUND(SUM(N58:N60),0) -> 0
A63: Precio Unitario Total Aproximado al peso $ | N63: =+N53+N61 -> 58862
...

Sheet 2.3 APU PAGA 
A1: Formulario 1 - Propuesta económica - Documento tipo de licitación de obra pública de infraestructura de transporte - versión 4
A2: Código | B2: CCE-EICP-FM-14 | C2: Versión | D2: 4
A3: FORMULARIO 1
A4: PRESUPUESTO OFICIAL
A6: [La entidad podrá utilizar este formato para la presentación de los análisis de precios unitarios del contratista en la oportunidad prevista en el numeral 8.2. del Documento Base]
C8: ALCALDIA MUNICIPAL DE SABANALARGA - CASANARE
K9: VERSIÓN
C11: ANALISIS DE PRECIOS UNITARIOS | K11: PÁGINA | L11: 1 | M11: DE | N11: 1
K14: FECHA | L14: DD | M14: MM | N14: AA
A16: ÍTEMS DE LA PROPUESTA ECONÓMICA | H16: ÍTEMS NO PREVISTOS
A19: PROGRAMA ACTIVIDADES CONSTRUCTIVAS
A20: DATOS ESPECÍFICOS
A22: ÍTEM | B22: 2.3 | C22: Mantenimiento punto ecologico en frente de obra | L22: UNIDAD | N22: CANTIDAD
B23: 6.973 | L23: mes
A24: I. EQUIPO
A27: DESCRIPCIÓN | G27: MARCA | I27: TIPO | K27: TARIFA/HORA | L27: RENDIMIENTO | N27: Vr. UNITARIO
A28: Herramienta menor 5% M.O. Ayudante 1 | K28: 591 | L28: 8 | N28: =+K28*L28 -> 4728
N29: =+K29*L29 -> 0
A31: SUBTOTAL $ | N31: =SUM(N28:N30) -> 4728
A32: II. MATERIALES
A35: DESCRIPCIÓN | J35: UNIDAD | K35: CANTIDAD | L35: PRECIO UNIT. | N35: Vr. UNITARIO
A36: Disposicion de residuos | J36: kg | K36: 200 | L36: 122 | N36: =+L36*K36 -> 24400
N37: =+L37*K37 -> 0
A38: SUBTOTAL $ | N38: =SUM(N36:N37) -> 24400
A39: III. TRANSPORTES
A42: MATERIAL | I42: VOL. o PESO | J42: DISTANCIA | K42: M3 o Ton/Km | L42: TARIFA | N42: Vr. UNITARIO
A43: Transporte de residuos solidos en vehiculos especializados - kg | I43: kg | J43: 200 | L43: ='[170]2.3 ANA TRANS PAGA '!N65 -> 1145 | N43: =J43*L43 -> 229000
A45: SUBTOTAL $ | N45: =SUM(N43:N44) -> 229000
A46: IV. MANO DE OBRA
A49: TRABAJADOR | I49: JORNAL | J49: PRESTACIONES | K49: JORNAL TOTAL | L49: RENDIMIENTO | N49: Vr. UNITARIO
A50: Ayudante construcción 1 | I50: h | K50: 11828 | L50: 8 | N50: =K50*L50 -> 94624
N51: =K51*L51 -> 0
N52: =K52*L52 -> 0
N53: =K53*L53 -> 0
A54: SUBTOTAL $ | N54: =SUM(N50:N53) -> 94624
A56: TOTAL COSTO DIRECTO $ | N56: =ROUND(+N31+N38+N45+N54,0) -> 352752 | O56: =(+N31+N38+N45+N54) -> 352752
A57: V. COSTOS INDIRECTOS
A60: Descripción | K60: Porcentaje | L60: Valor Total
A61: ADMINISTRACION | K61: 0.28 | L61: =ROUND((N56*K61),0) -> 98771 | M61: =ROUND((J61*K61),0) -> 0 | N61: =+L61 -> 98771
A62: IMPREVISTOS | K62: 0.01 | L62: =ROUND((N56*K62),0) -> 3528 | M62: =ROUND((J62*K62),0) -> 0 | N62: =+L62 -> 3528
...

Sheet 2.3 ANA TRANS PAGA 
A1: Formulario 1 - Propuesta económica - Documento tipo de licitación de obra pública de infraestructura de transporte - versión 4
A2: Código | B2: CCE-EICP-FM-14 | C2: Versión | D2: 4
A3: FORMULARIO 1
A4: PRESUPUESTO OFICIAL
A6: [La entidad podrá utilizar este formato para la presentación de los análisis de precios unitarios del contratista en la oportunidad prevista en el numeral 8.2. del Documento Base]
C8: ALCALDIA MUNICIPAL DE SABANALARGA - CASANARE
K9: VERSIÓN
C11: ANALISIS DE PRECIOS UNITARIOS | K11: PÁGINA | L11: 1 | M11: DE | N11: 1
K14: FECHA | L14: DD | M14: MM | N14: AA
A16: ÍTEMS DE LA PROPUESTA ECONÓMICA | H16: ÍTEMS NO PREVISTOS
A19: PROGRAMA ACTIVIDADES CONSTRUCTIVAS
A20: DATOS ESPECÍFICOS
A22: ÍTEM | B22: 2.3 | C22: Transporte de residuos solidos en vehiculos especializados - kg | L22: UNIDAD | N22: CANTIDAD
B23: 7.907 | L23: kg
A24: I. EQUIPO
A27: DESCRIPCIÓN | G27: MARCA | I27: TIPO | K27: TARIFA/HORA | L27: RENDIMIENTO | N27: Vr. UNITARIO
N28: =+K28*L28 -> 0
A29: SUBTOTAL $ | N29: =ROUND(SUM(N28:N28),0) -> 0
A30: II. MATERIALES
A33: DESCRIPCIÓN | J33: UNIDAD | K33: CANTIDAD | L33: PRECIO UNIT. | N33: Vr. UNITARIO
N34: =ROUND((K34*L34),0) -> 0
A36: SUBTOTAL $ | N36: =ROUND(SUM(N34:N34),0) -> 0
A37: III. TRANSPORTES
A40: MATERIAL | I40: VOL. o PESO | J40: DISTANCIA | K40: M3 o Ton/Km | L40: TARIFA | N40: Vr. UNITARIO
A41: Transporte de residuos solidos en vehiculos especializados - kg | I41: Kg-km | J41: 58 | L41: 19.74 | N41: =J41*L41 -> 1144.92
N42: =J42*L42 -> 0
A43: SUBTOTAL $ | N43: =SUM(N41:N42) -> 1144.92
A44: IV. MANO DE OBRA
A47: TRABAJADOR | I47: JORNAL | J47: PRESTACIONES | K47: JORNAL TOTAL | L47: RENDIMIENTO | N47: Vr. UNITARIO
N48: =ROUND((K48*L48),0) -> 0
A50: SUBTOTAL $ | N50: =SUM(N48:N49) -> 0
A52: TOTAL COSTO DIRECTO $ | N52: =ROUND(+N29+N36+N43+N50,0) -> 1145
A53: V. COSTOS INDIRECTOS
A56: Descripción | K56: Porcentaje | L56: Valor Total
A57: ADMINISTRACION | K57: 0.28 | N57: =+L57 -> 0
A58: IMPREVISTOS | K58: 0.01 | N58: =+L58 -> 0
A59: UTILIDAD | K59: 0.05 | N59: =+L59 -> 0
A60: SUBTOTAL $ | N60: =ROUND(SUM(N57:N59),0) -> 0
A62: Precio Unitario Total Aproximado al peso $ | N62: =+N52+N60 -> 1145
F65: Firma
...

Sheet 2.4 APU PAGA 
A1: Formulario 1 - Propuesta económica - Documento tipo de licitación de obra pública de infraestructura de transporte - versión 4
A2: Código | B2: CCE-EICP-FM-14 | C2: Versión | D2: 4
A3: FORMULARIO 1
A4: PRESUPUESTO OFICIAL
A5: [La entidad podrá utilizar este formato para la presentación de los análisis de precios unitarios del contratista en la oportunidad prevista en el numeral 8.2. del Documento Base]
C7: ALCALDIA MUNICIPAL DE SABANALARGA - CASANARE
K8: VERSIÓN
C10: ANALISIS DE PRECIOS UNITARIOS | K10: PÁGINA | L10: 1 | M10: DE | N10: 1
K12: FECHA | L12: DD | M12: MM | N12: AA
A14: ÍTEMS DE LA PROPUESTA ECONÓMICA | H14: ÍTEMS NO PREVISTOS
A16: PROGRAMA ACTIVIDADES CONSTRUCTIVAS
A17: DATOS ESPECÍFICOS
A19: ÍTEM | B19: 2.4 | C19: Punto acopio de residuos, materiales peligrosos y especiales. Incluye suministro e instalacion y desmonte. | L19: UNIDAD | N19: CANTIDAD
B20: 6.974 | L20: und
A21: I. EQUIPO
A24: DESCRIPCIÓN | G24: MARCA | I24: TIPO | K24: TARIFA/HORA | L24: RENDIMIENTO | N24: Vr. UNITARIO
A25: Herramienta menor 10% M.O. AA | K25: 2882 | L25: 10 | N25: =+K25*L25 -> 28820
N26: =+K26*L26 -> 0
A27: SUBTOTAL $ | N27: =SUM(N25:N26) -> 28820
A28: II. MATERIALES
A31: DESCRIPCIÓN | J31: UNIDAD | K31: CANTIDAD | L31: PRECIO UNIT. | N31: Vr. UNITARIO
A32: Amarre teja tapa metalica 26 cm cal. 18 | J32: und | K32: 36 | L32: 379 | N32: =+L32*K32 -> 13644
A33: Caneca usada 55 galones (reciclada) | J33: und | K33: 2 | L33: 98750 | N33: =+L33*K33 -> 197500
A34: Lona polietileno para cerramiento verde ancho 2.10 m | J34: m | K34: 16 | L34: 3368 | N34: =+L34*K34 -> 53888
A35: Liston ordinario 0.05 x 0.05 | J35: m | K35: 22 | L35: 4892 | N35: =ROUND((K35*L35),0) -> 107624
A36: Teja zinc 3.05 x 0.82 C-35 o 17 mm | J36: und | K36: 6 | L36: 35875 | N36: =ROUND((K36*L36),0) -> 215250
A37: Alambre galvanizado No. 12 | J37: kg | K37: 2 | L37: 10690 | N37: =ROUND((K37*L37),0) -> 21380
A38: Puntilla con cabeza 2 1/2" | J38: lb | K38: 0.5 | L38: 5668 | N38: =ROUND((K38*L38),0) -> 2834
A39: Cinta de Señalizacion - peligro no pase - | J39: m | K39: 50 | L39: 77 | N39: =ROUND((K39*L39),0) -> 3850
A40: Estacon de Madera Ø=10 cm o Vara rolliza | J40: m | K40: 8.8 | L40: 21420 | N40: =ROUND((K40*L40),0) -> 188496
A41: Estiba de madera 1.4 x 0.7 o 1.2 x 1.0 x 0.14 m | J41: und | K41: 2 | L41: 40000 | N41: =ROUND((K41*L41),0) -> 80000
A42: SUBTOTAL $ | N42: =SUM(N32:N41) -> 884466
A43: III. TRANSPORTES
A46: MATERIAL | I46: VOL. o PESO | J46: DISTANCIA | K46: M3 o Ton/Km | L46: TARIFA | N46: Vr. UNITARIO
N47: =J47*L47 -> 0
A48: SUBTOTAL $ | N48: =SUM(N47:N47) -> 0
A49: IV. MANO DE OBRA
A52: TRABAJADOR | I52: JORNAL | J52: PRESTACIONES | K52: JORNAL TOTAL | L52: RENDIMIENTO | N52: Vr. UNITARIO
A53: Cuadrilla AA (Albañileria) | I53: h | K53: 10 | L53: 28817 | N53: =K53*L53 -> 288170
N54: =K54*L54 -> 0
...

Sheet 2.5 APU PAGA
A1: Formulario 1 - Propuesta económica - Documento tipo de licitación de obra pública de infraestructura de transporte - versión 4
A2: Código | B2: CCE-EICP-FM-14 | C2: Versión | D2: 4
A3: FORMULARIO 1
A4: PRESUPUESTO OFICIAL
A6: [La entidad podrá utilizar este formato para la presentación de los análisis de precios unitarios del contratista en la oportunidad prevista en el numeral 8.2. del Documento Base]
C8: ALCALDIA MUNICIPAL DE SABANALARGA - CASANARE
K9: VERSIÓN
C11: ANALISIS DE PRECIOS UNITARIOS | K11: PÁGINA | L11: 1 | M11: DE | N11: 1
K13: FECHA | L13: DD | M13: MM | N13: AA
A15: ÍTEMS DE LA PROPUESTA ECONÓMICA | H15: ÍTEMS NO PREVISTOS
A18: PROGRAMA ACTIVIDADES CONSTRUCTIVAS
A19: DATOS ESPECÍFICOS
A21: ÍTEM | B21: 2.5 | C21: Mantenimiento punto acopio de residuos, materiales peligrosos y especiales | L21: UNIDAD | N21: CANTIDAD
B22: 6975
A23: I. EQUIPO
A26: DESCRIPCIÓN | G26: MARCA | I26: TIPO | K26: TARIFA/HORA | L26: RENDIMIENTO | N26: Vr. UNITARIO
A27: Herramienta menor 5% M.O. Ayudante 1 | K27: 591 | L27: 13 | N27: =+K27*L27 -> 7683
N28: =+K28*L28 -> 0
A29: SUBTOTAL $ | N29: =SUM(N27:N28) -> 7683
A30: II. MATERIALES
A33: DESCRIPCIÓN | J33: UNIDAD | K33: CANTIDAD | L33: PRECIO UNIT. | N33: Vr. UNITARIO
N34: =+L34*K34 -> 0
A36: SUBTOTAL $ | N36: =SUM(N34:N35) -> 0
A37: III. TRANSPORTES
A40: MATERIAL | I40: VOL. o PESO | J40: DISTANCIA | K40: M3 o Ton/Km | L40: TARIFA | N40: Vr. UNITARIO
N41: =+L41*K41 -> 0
A43: SUBTOTAL $ | N43: =SUM(N41:N42) -> 0
A44: IV. MANO DE OBRA
A47: TRABAJADOR | I47: JORNAL | J47: PRESTACIONES | K47: JORNAL TOTAL | L47: RENDIMIENTO | N47: Vr. UNITARIO
A48: Ayudante de construccion 1 | I48: h | K48: 11828 | L48: 13 | N48: =ROUND((K48*L48),0) -> 153764
N49: =ROUND((K49*L49),0) -> 0
N50: =ROUND((K50*L50),0) -> 0
A52: SUBTOTAL $ | N52: =SUM(N48:N51) -> 153764
A54: TOTAL COSTO DIRECTO $ | N54: =ROUND(+N29+N36+N43+N52,0) -> 161447 | O54: =(+N29+N36+N43+N52) -> 161447
A55: V. COSTOS INDIRECTOS
A58: Descripción | K58: Porcentaje | L58: Valor Total
A59: ADMINISTRACION | K59: 0.28 | L59: =ROUND((N54*K59),0) -> 45205 | M59: =ROUND((J59*K59),0) -> 0 | N59: =+L59 -> 45205
A60: IMPREVISTOS | K60: 0.01 | L60: =ROUND((N54*K60),0) -> 1614 | M60: =ROUND((J60*K60),0) -> 0 | N60: =+L60 -> 1614
A61: UTILIDAD | K61: 0.05 | L61: =ROUND((N54*K61),0) -> 8072 | M61: =ROUND((J61*K61),0) -> 0 | N61: =+L61 -> 8072
A62: SUBTOTAL $ | N62: =ROUND(SUM(N59:N61),0) -> 54891
...

Sheet 2.6 APU PAGA
A1: Formulario 1 - Propuesta económica - Documento tipo de licitación de obra pública de infraestructura de transporte - versión 4
A2: Código | B2: CCE-EICP-FM-14 | C2: Versión | D2: 4
A3: FORMULARIO 1
A4: PRESUPUESTO OFICIAL
A6: [La entidad podrá utilizar este formato para la presentación de los análisis de precios unitarios del contratista en la oportunidad prevista en el numeral 8.2. del Documento Base]
C8: ALCALDIA MUNICIPAL DE SABANALARGA - CASANARE
K9: VERSIÓN
C11: ANALISIS DE PRECIOS UNITARIOS | K11: PÁGINA | L11: 1 | M11: DE | N11: 1
K14: FECHA | L14: DD | M14: MM | N14: AA
A16: ÍTEMS DE LA PROPUESTA ECONÓMICA | H16: ÍTEMS NO PREVISTOS
A19: PROGRAMA ACTIVIDADES CONSTRUCTIVAS
A20: DATOS ESPECÍFICOS
A22: ÍTEM | B22: 2.6 | C22: Gestion final de RESPEL | L22: UNIDAD | N22: CANTIDAD
B23: 3.223 | L23: mes
A24: I. EQUIPO
A27: DESCRIPCIÓN | G27: MARCA | I27: TIPO | K27: TARIFA/HORA | L27: RENDIMIENTO | N27: Vr. UNITARIO
N28: =+K28*L28 -> 0
A29: SUBTOTAL $ | N29: =SUM(N28:N28) -> 0
A30: II. MATERIALES
A33: DESCRIPCIÓN | J33: UNIDAD | K33: CANTIDAD | L33: PRECIO UNIT. | N33: Vr. UNITARIO
A34: Tratamiento y disposicion final - residuos solidos | J34: kg | K34: 110 | L34: 4100 | N34: =+L34*K34 -> 451000
N35: =+L35*K35 -> 0
N36: =ROUND((K36*L36),0) -> 0
A38: SUBTOTAL $ | N38: =SUM(N34:N37) -> 451000
A39: III. TRANSPORTES
A42: MATERIAL | I42: VOL. o PESO | J42: DISTANCIA | K42: M3 o Ton/Km | L42: TARIFA | N42: Vr. UNITARIO
A43: Transporte de residuos solidos en vehiculos especializados - kg | I43: kg | J43: 110 | L43: ='[170]2.3 ANA TRANS PAGA '!N65 -> 1145 | N43: =J43*L43 -> 125950
A45: SUBTOTAL $ | N45: =SUM(N43:N44) -> 125950
A46: IV. MANO DE OBRA
A49: TRABAJADOR | I49: JORNAL | J49: PRESTACIONES | K49: JORNAL TOTAL | L49: RENDIMIENTO | N49: Vr. UNITARIO
N50: =ROUND((K50*L50),0) -> 0
A52: SUBTOTAL $ | N52: =SUM(N50:N51) -> 0
A54: TOTAL COSTO DIRECTO $ | N54: =ROUND(+N29+N38+N45+N52,0) -> 576950 | O54: =(+N29+N38+N45+N52) -> 576950
A55: V. COSTOS INDIRECTOS
A58: Descripción | K58: Porcentaje | L58: Valor Total
A59: ADMINISTRACION | K59: 0.28 | L59: =ROUND((N54*K59),0) -> 161546 | M59: =ROUND((J59*K59),0) -> 0 | N59: =+L59 -> 161546
A60: IMPREVISTOS | K60: 0.01 | L60: =ROUND((N54*K60),0) -> 5770 | M60: =ROUND((J60*K60),0) -> 0 | N60: =+L60 -> 5770
A61: UTILIDAD | K61: 0.05 | L61: =ROUND((N54*K61),0) -> 28848 | M61: =ROUND((J61*K61),0) -> 0 | N61: =+L61 -> 28848
A62: SUBTOTAL $ | N62: =ROUND(SUM(N59:N61),0) -> 196164
A64: Precio Unitario Total Aproximado al peso $ | N64: =+N54+N62 -> 773114
...

Sheet 2.7 APU PAGA
A1: Formulario 1 - Propuesta económica - Documento tipo de licitación de obra pública de infraestructura de transporte - versión 4
A2: Código | B2: CCE-EICP-FM-14 | C2: Versión | D2: 4
A3: FORMULARIO 1
A4: PRESUPUESTO OFICIAL
A6: [La entidad podrá utilizar este formato para la presentación de los análisis de precios unitarios del contratista en la oportunidad prevista en el numeral 8.2. del Documento Base]
C8: ALCALDIA MUNICIPAL DE SABANALARGA - CASANARE
K9: VERSIÓN
C11: ANALISIS DE PRECIOS UNITARIOS | K11: PÁGINA | L11: 1 | M11: DE | N11: 1
K14: FECHA | L14: DD | M14: MM | N14: AA
A16: ÍTEMS DE LA PROPUESTA ECONÓMICA | H16: ÍTEMS NO PREVISTOS
A19: PROGRAMA ACTIVIDADES CONSTRUCTIVAS - PAGA
A20: DATOS ESPECÍFICOS
A22: ÍTEM | B22: 2.7 | C22: Sitio de acopio temporal de residuos, escombros y desperdicios de 4.0 x 4.0 m, incluye instalacion y desmonte. | L22: UNIDAD | N22: CANTIDAD
B23: 5.24 | L23: und
A24: I. EQUIPO
A27: DESCRIPCIÓN | G27: MARCA | I27: TIPO | K27: TARIFA/HORA | L27: RENDIMIENTO | N27: Vr. UNITARIO
A28: Herramienta menor 10% M.O. AA | K28: 2882 | L28: 7 | N28: =+K28*L28 -> 20174
A30: SUBTOTAL $ | N30: =SUM(N28:N29) -> 20174
A31: II. MATERIALES
A34: DESCRIPCIÓN | J34: UNIDAD | K34: CANTIDAD | L34: PRECIO UNIT. | N34: Vr. UNITARIO
A35: Lona polietileno para cerramiento verde ancho 2.10 m | J35: m | K35: 18 | L35: 3368 | N35: =+L35*K35 -> 60624
A36: Alambre galvanizado No. 12 | J36: kg | K36: 1 | L36: 10690 | N36: =+L36*K36 -> 10690
A37: Puntilla con cabeza 2 1/2" | J37: lb | K37: 0.2 | L37: 5668 | N37: =+L37*K37 -> 1133.6
A38: Cinta de Señalizacion - peligro no pase - | J38: m | K38: 50 | L38: 77 | N38: =ROUND((K38*L38),0) -> 3850
A39: Estacon de Madera Ø=10 cm o Vara rolliza | J39: m | K39: 8.8 | L39: 21420 | N39: =ROUND((K39*L39),0) -> 188496
A41: SUBTOTAL $ | N41: =SUM(N35:N40) -> 264793.6
A42: III. TRANSPORTES
A45: MATERIAL | I45: VOL. o PESO | J45: DISTANCIA | K45: M3 o Ton/Km | L45: TARIFA | N45: Vr. UNITARIO
N46: =+L46*K46 -> 0
A48: SUBTOTAL $ | N48: =SUM(N46:N47) -> 0
A49: IV. MANO DE OBRA
A52: TRABAJADOR | I52: JORNAL | J52: PRESTACIONES | K52: JORNAL TOTAL | L52: RENDIMIENTO | N52: Vr. UNITARIO
A53: Cuadrilla AA (Albañileria) | I53: h | K53: 28817 | L53: 7 | N53: =ROUND((K53*L53),0) -> 201719
N54: =ROUND((K54*L54),0) -> 0
A55: SUBTOTAL $ | N55: =SUM(N53:N54) -> 201719
A57: TOTAL COSTO DIRECTO $ | N57: =ROUND(+N30+N41+N48+N55,0) -> 486687 | O57: =(+N30+N41+N48+N55) -> 486686.6
A58: V. COSTOS INDIRECTOS
A61: Descripción | K61: Porcentaje | L61: Valor Total
A62: ADMINISTRACION | K62: 0.28 | L62: =ROUND((N57*K62),0) -> 136272 | M62: =ROUND((J62*K62),0) -> 0 | N62: =+L62 -> 136272
A63: IMPREVISTOS | K63: 0.01 | L63: =ROUND((N57*K63),0) -> 4867 | M63: =ROUND((J63*K63),0) -> 0 | N63: =+L63 -> 4867
...

Sheet 2.8 APU PAGA
A1: Formulario 1 - Propuesta económica - Documento tipo de licitación de obra pública de infraestructura de transporte - versión 4
A2: Código | B2: CCE-EICP-FM-14 | C2: Versión | D2: 4
A3: FORMULARIO 1
A4: PRESUPUESTO OFICIAL
A5: [La entidad podrá utilizar este formato para la presentación de los análisis de precios unitarios del contratista en la oportunidad prevista en el numeral 8.2. del Documento Base]
C7: ALCALDIA MUNICIPAL DE SABANALARGA - CASANARE
K8: VERSIÓN
C10: ANALISIS DE PRECIOS UNITARIOS | K10: PÁGINA | L10: 1 | M10: DE | N10: 1
K12: FECHA | L12: DD | M12: MM | N12: AA
A14: ÍTEMS DE LA PROPUESTA ECONÓMICA | H14: ÍTEMS NO PREVISTOS
A16: PROGRAMA ACTIVIDADES CONSTRUCTIVAS - PAGA
A17: DATOS ESPECÍFICOS
A19: ÍTEM | B19: 2.8 | C19: Punto acopio de materiales de construccion. Incluye suministro, instalacion y desmonte | L19: UNIDAD | N19: CANTIDAD
B20: 5.46 | L20: und
A21: I. EQUIPO
A24: DESCRIPCIÓN | G24: MARCA | I24: TIPO | K24: TARIFA/HORA | L24: RENDIMIENTO | N24: Vr. UNITARIO
A25: Herramienta menor 10% M.O. AA | K25: 2882 | L25: 10 | N25: =+K25*L25 -> 28820
A26: SUBTOTAL $ | N26: =SUM(N25:N25) -> 28820
A27: II. MATERIALES
A30: DESCRIPCIÓN | J30: UNIDAD | K30: CANTIDAD | L30: PRECIO UNIT. | N30: Vr. UNITARIO
A31: Amarre teja tapa metalica 26 cm cal. 18 | J31: und | K31: 36 | L31: 379 | N31: =+L31*K31 -> 13644
A32: Lona polietileno para cerramiento verde ancho 2.10 m | J32: m | K32: 16 | L32: 3368 | N32: =+L32*K32 -> 53888
A33: Liston ordinario 0.05 x 0.05 | J33: m | K33: 22 | L33: 4892 | N33: =+L33*K33 -> 107624
A34: Teja zinc 3.05 x 0.80/0.82 C-34/35 o 17/20 mm | J34: und | K34: 6 | L34: 35875 | N34: =ROUND((K34*L34),0) -> 215250
A35: Alambre galvanizado No. 12 | J35: kg | K35: 2 | L35: 10690 | N35: =ROUND((K35*L35),0) -> 21380
A36: Puntilla con cabeza 2 1/2" | J36: lb | K36: 0.5 | L36: 5668 | N36: =ROUND((K36*L36),0) -> 2834
A37: Cinta de Señalizacion - peligro no pase - | J37: m | K37: 30 | L37: 77 | N37: =ROUND((K37*L37),0) -> 2310
A38: Estacon de Madera Ø=10 cm o Vara rolliza | J38: m | K38: 8.8 | L38: 21420 | N38: =ROUND((K38*L38),0) -> 188496
A39: Estiba de madera a x l (1.0 x 1.0/1.20 m) | J39: und | K39: 6 | L39: 40000 | N39: =ROUND((K39*L39),0) -> 240000
A40: SUBTOTAL $ | N40: =SUM(N31:N39) -> 845426
A41: III. TRANSPORTES
A44: MATERIAL | I44: VOL. o PESO | J44: DISTANCIA | K44: M3 o Ton/Km | L44: TARIFA | N44: Vr. UNITARIO
N45: =+L45*K45 -> 0
A46: SUBTOTAL $ | N46: =SUM(N45:N45) -> 0
A47: IV. MANO DE OBRA
A50: TRABAJADOR | I50: JORNAL | J50: PRESTACIONES | K50: JORNAL TOTAL | L50: RENDIMIENTO | N50: Vr. UNITARIO
A51: Cuadrilla AA (Albañileria) | K51: 10 | L51: 28817 | N51: =ROUND((K51*L51),0) -> 288170
N52: =ROUND((K52*L52),0) -> 0
A53: SUBTOTAL $ | N53: =SUM(N51:N52) -> 288170
A55: TOTAL COSTO DIRECTO $ | N55: =ROUND(+N26+N40+N46+N53,0) -> 1162416 | O55: =(+N26+N40+N46+N53) -> 1162416
...

Sheet HOMECENTER

Sheet AIU
D2: REPÚBLICA DE COLOMBIA
D3: DEPARTAMENTO DE CASANARE
D4: ALCALDÍA MUNICIPAL DE SABANALARGA
D5: ANEXO - ANALISIS DE AIU
D6: CONSTRUCCIÓN DE PLACA HUELLA TIPO INVIAS, INCLUYENDO OBRAS DE CONTENCIÓN, DRENAJE Y ACTIVIDADES COMPLEMENTARIAS PARA MEJORAR EL CORREDOR VIAL RURAL EN LA VEREDA SAN ANTONIO, SECTOR CAÑO RICO, MUNICIPIO DE SABANALARGA DEPARTAMENTO DE CASANARE”
C8: Valor estimado del costo directo | G8: =ROUND(G9/1.34,0) -> 380707131
