Workbook

Sheet Inventario Flota
A1: INVENTARIO DE FLOTA VEHICULAR
A2: Unidad Administrativa Especial de la Justicia Penal Militar y Policial — 29 vehículos
A3: # | B3: PLACA | C3: CLASE | D3: MARCA | E3: LÍNEA / MODELO | F3: AÑO
A4: CHEVROLET (8 vehículos)
A5: 1 | B5: KGF279 | C5: CAMIONETA | D5: CHEVROLET | E5: LUV D MAX | F5: 2012
A6: 2 | B6: KMY775 | C6: CAMIONETA | D6: CHEVROLET | E6: COLORADO | F6: 2021
A7: 3 | B7: KMY776 | C7: CAMIONETA | D7: CHEVROLET | E7: COLORADO | F7: 2021
A8: 4 | B8: KMY777 | C8: CAMIONETA | D8: CHEVROLET | E8: TRAIL BLAZER | F8: 2021
A9: 5 | B9: QNK247 | C9: CAMIONETA | D9: CHEVROLET | E9: COLORADO | F9: 2026
A10: 6 | B10: QNK248 | C10: CAMIONETA | D10: CHEVROLET | E10: COLORADO | F10: 2026
A11: 7 | B11: QNK249 | C11: CAMIONETA | D11: CHEVROLET | E11: COLORADO | F11: 2026
A12: 8 | B12: QNK250 | C12: CAMIONETA | D12: CHEVROLET | E12: COLORADO | F12: 2026
A13: FORD (7 vehículos)
A14: 9 | B14: NOP952 | C14: CAMIONETA | D14: FORD | E14: RANGER XLT | F14: 2023
A15: 10 | B15: NOP953 | C15: CAMIONETA | D15: FORD | E15: RANGER XLT | F15: 2023
A16: 11 | B16: NOP954 | C16: CAMIONETA | D16: FORD | E16: RANGER XLT | F16: 2023
A17: 12 | B17: NOP955 | C17: CAMIONETA | D17: FORD | E17: RANGER XLT | F17: 2023
A18: 13 | B18: NOP956 | C18: CAMIONETA | D18: FORD | E18: RANGER XLT | F18: 2023
A19: 14 | B19: NOP978 | C19: CAMIONETA | D19: FORD | E19: RANGER XLT | F19: 2023
A20: 15 | B20: NOP979 | C20: CAMIONETA | D20: FORD | E20: RANGER XLT | F20: 2023
A21: HYUNDAI (13 vehículos)
A22: 16 | B22: OBI821 | C22: AUTOMOVIL | D22: HYUNDAI | E22: ELANTRA GLS | F22: 2011
A23: 17 | B23: NON658 | C23: AUTOMOVIL | D23: HYUNDAI | E23: ACCENT HB20S ADVANCE MT | F23: 2024
A24: 18 | B24: NON659 | C24: AUTOMOVIL | D24: HYUNDAI | E24: ACCENT HB20S ADVANCE MT | F24: 2024
A25: 19 | B25: NON660 | C25: AUTOMOVIL | D25: HYUNDAI | E25: ACCENT HB20S ADVANCE MT | F25: 2024
A26: 20 | B26: NON661 | C26: AUTOMOVIL | D26: HYUNDAI | E26: ACCENT HB20S ADVANCE MT | F26: 2024
A27: 21 | B27: NXR462 | C27: UNIDAD MOVIL | D27: HYUNDAI | E27: STARIA | F27: 2024
A28: 22 | B28: NXR463 | C28: UNIDAD MOVIL | D28: HYUNDAI | E28: STARIA | F28: 2024
A29: 23 | B29: NXR464 | C29: UNIDAD MOVIL | D29: HYUNDAI | E29: STARIA | F29: 2024
A30: 24 | B30: PHX493 | C30: UNIDAD MOVIL | D30: HYUNDAI | E30: STARIA | F30: 2024
A31: 25 | B31: QIZ025 | C31: UNIDAD MOVIL | D31: HYUNDAI | E31: STARIA | F31: 2026
A32: 26 | B32: QIZ026 | C32: UNIDAD MOVIL | D32: HYUNDAI | E32: STARIA | F32: 2026
A33: 27 | B33: QIZ027 | C33: UNIDAD MOVIL | D33: HYUNDAI | E33: STARIA | F33: 2026
A34: 28 | B34: NGQ679 | C34: UNIDAD MOVIL | D34: HYUNDAI | E34: STARIA | F34: 2026
A35: DODGE (1 vehículos)
A36: 29 | B36: NMS832 | C36: NECROMOVIL | D36: DODGE | E36: RAM 1500DT | F36: 2023

Sheet Resumen Presupuestal
A1: ESTIMACIÓN PRESUPUESTAL — MANTENIMIENTO FLOTA VEHICULAR 2026
A2: Metodología: Media Aritmética Simple — (AUTOINVERCOL + COPCON + PRECAR) ÷ 3
A3: RESUMEN EJECUTIVO
A4: TOTAL COPCON (Prev + Corr) | C4: TOTAL AUTOINVERCOL (Prev + Corr) | E4: TOTAL PRECAR (Prev + Corr) | G4: PRESUPUESTO OFICIAL Media Aritmética (3 prov.)
A5: 2.6202289e+08 | C5: 2.2775527e+08 | E5: =+E19 -> 162896000 | G5: =+H19 -> 218726610
A7: DESGLOSE POR MARCA Y TIPO
A8: MARCA | B8: TIPO | C8: COPCON ($) | D8: AUTOINVERCOL ($) | E8: PRECAR ($) | F8: PROMEDIO Simple ($) | G8: % vs COPCON | H8: PRESUPUESTO REF. ($)
A9: CHEVROLET | B9: CORRECTIVO | C9: 36905144 | D9: 34235770 | E9: 22886000 | F9: =+' Detalle Correctivo'!M34 -> 32510865 | G9: -0.15073345 | H9: =+' Detalle Correctivo'!M34 -> 32510865 | J9: 34235770 | M9: 36905144 | P9: 22886000 | Q9: =SUM(#REF!) -> #REF!
A10: FORD | B10: CORRECTIVO | C10: 38021750 | D10: 37654770 | E10: 27399000 | F10: 34358507 | G10: -0.096345993 | H10: =+' Detalle Correctivo'!M64 -> 34358502
A11: HYUNDAI | B11: CORRECTIVO | C11: 34060000 | D11: 46196408 | E11: 26984000 | F11: 35746803 | G11: 0.049524451 | H11: =+' Detalle Correctivo'!M95 -> 35746802
A12: DODGE | B12: CORRECTIVO | C12: 30064000 | D12: 45994170 | E12: 28775000 | F12: 34944390 | G12: 0.16233336 | H12: =+' Detalle Correctivo'!M124 -> 34944390
B13: SUBTOTAL CORRECTIVO | H13: =SUM(H9:H12) -> 137560559
A14: CHEVROLET | B14: PREVENTIVO | C14: 32058000 | D14: 24479355 | E14: 18002000 | F14: 24846452 | G14: -0.22495316 | H14: =+' Detalle Preventivo'!P65 -> 24846452
A15: FORD | B15: PREVENTIVO | C15: 51440000 | D15: 23016439 | E15: 20512000 | F15: 31656146 | G15: -0.38460057 | H15: =+' Detalle Preventivo'!P107 -> 31656147
A16: HYUNDAI | B16: PREVENTIVO | C16: 32404000 | D16: 13393783 | E16: 15076000 | F16: 20291261 | G16: -0.37380382 | H16: =+' Detalle Preventivo'!P138 -> 20291260
A17: DODGE | B17: PREVENTIVO | C17: 7070000 | D17: 2784575 | E17: 3262000 | F17: 4372191.7 | G17: -0.38158533 | H17: =+' Detalle Preventivo'!P162 -> 4372192
B18: SUBTOTAL -PREVENTIVO | H18: =SUM(H14:H17) -> 81166051
A19: PRESUPUESTO OFICIAL TOTAL | C19: 2.6202289e+08 | D19: 2.2775527e+08 | E19: 162896000 | F19: 2.1755806e+08 | G19: -0.1696983 | H19: =+H13+H18 -> 218726610 | I19: =+H19+'[1]1. Resumen Ejecutivo'!$E$19 -> 305402544
A21: NOTA METODOLÓGICA
A22: Preventivo: Promedio = (AUTOINVERCOL + COPCON + PRECAR) ÷ 3 por ítem × N° vehículos del rango de km.
A23: Correctivo: Promedio = (AUTOINVERCOL + COPCON + PRECAR) ÷ 3 sobre catálogo completo por marca. Valor unitario de referencia (bolsa).
A24: Dodge preventivo: solo rangos 10.000 km y 20.000 km (filtro aire motor y filtro aire son ítems distintos). Chevrolet 80.000/90.000 km: 3 vehículos.
A25: Dodge correctivo PRECAR validado: $28.775.000 (detalle ítem por ítem), no $68.896.000 (valor erróneo de la hoja Resumen del cuadro fuente).
A26: Fuentes: Cuadro Comparativo Vehículos VALIDADO — AUTOINVERCOL, COPCON, PRECAR L.T.D.A. SAS — Mayo 2026.

Sheet 2. Prev - Comparativo
A1: COMPARATIVO MANTENIMIENTO PREVENTIVO — MEDIA ARITMÉTICA 3 PROVEEDORES × N° VEHÍCULOS
A2: Media Aritmética = (COPCON + AUTOINVERCOL + PRECAR) ÷ 3 | COP IVA incluido
A3: MARCA | B3: KM | C3: N° VEH. | D3: COPCON Unit ($) | E3: COPCON Total ($) | F3: AUTOINVERCOL Unit ($) | G3: AUTOINVERCOL Total ($) | H3: PRECAR Unit ($) | I3: PRECAR Total ($) | J3: PROMEDIO 3P Unit ($) | K3: PROMEDIO 3P Total ($) | L3: % vs COPCON | M3: MÉTODO
A4: ▶ CHEVROLET
A5: CHEVROLET | B5: 80,000 | C5: 3 | D5: 3752000 | E5: 11256000 | F5: 1874694.2 | G5: 5624082.6 | H5: 2147000 | I5: 6441000 | J5: 2591231.4 | K5: 7773694.2 | L5: -0.30937329 | M5: Prom. 3 prov.
A6: CHEVROLET | B6: 90,000 | C6: 3 | D6: 2817000 | E6: 8451000 | F6: 1088193.1 | G6: 3264579.3 | H6: 1293000 | I6: 3879000 | J6: 1732731 | K6: 5198193.1 | L6: -0.38490201 | M6: Prom. 3 prov.
A7: CHEVROLET | B7: 150,000 | C7: 1 | D7: 4090000 | E7: 4090000 | F7: 1830718.9 | G7: 1830718.9 | H7: 2073000 | I7: 2073000 | J7: 2664573 | K7: 2664573 | L7: -0.34851517 | M7: Prom. 3 prov.
A8: CHEVROLET | B8: 160,000 | C8: 1 | D8: 5409000 | E8: 5409000 | F8: 12309255 | G8: 12309255 | H8: 4284000 | I8: 4284000 | J8: 7334085.1 | K8: 7334085.1 | L8: 0.35590407 | M8: Prom. 3 prov.
A9: CHEVROLET | B9: 170,000 | C9: 1 | D9: 2852000 | E9: 2852000 | F9: 1450718.9 | G9: 1450718.9 | H9: 1325000 | I9: 1325000 | J9: 1875906.3 | K9: 1875906.3 | L9: -0.34224885 | M9: Prom. 3 prov.
A10: SUBTOTAL CHEVROLET | E10: 32058000 | G10: 24479355 | I10: 18002000 | J10: -0.077926404 | K10: 24846452
A11: ▶ FORD
A12: FORD | B12: 20,000 | C12: 1 | D12: 3215000 | E12: 3215000 | F12: 1438527.5 | G12: 1438527.5 | H12: 1359000 | I12: 1359000 | J12: 2004175.8 | K12: 2004175.8 | L12: -0.37661716 | M12: Prom. 3 prov.
A13: FORD | B13: 30,000 | C13: 1 | D13: 3215000 | E13: 3215000 | F13: 1438527.5 | G13: 1438527.5 | H13: 1359000 | I13: 1359000 | J13: 2004175.8 | K13: 2004175.8 | L13: -0.37661716 | M13: Prom. 3 prov.
A14: FORD | B14: 40,000 | C14: 7 | D14: 3215000 | E14: 22505000 | F14: 1438527.5 | G14: 10069692 | H14: 1359000 | I14: 9513000 | J14: 2004175.8 | K14: 14029231 | L14: -0.37661716 | M14: Prom. 3 prov.
A15: FORD | B15: 50,000 | C15: 7 | D15: 3215000 | E15: 22505000 | F15: 1438527.5 | G15: 10069692 | H15: 1183000 | I15: 8281000 | J15: 1945509.2 | K15: 13618564 | L15: -0.39486496 | M15: Prom. 3 prov.
A16: SUBTOTAL FORD | E16: 51440000 | G16: 23016439 | I16: 20512000 | J16: -0.27627878 | K16: 31656146
A17: ▶ HYUNDAI
A18: HYUNDAI | B18: 30,000 | C18: 4 | D18: 2507000 | E18: 10028000 | F18: 993897.27 | G18: 3975589.1 | H18: 1117000 | I18: 4468000 | J18: 1539299.1 | K18: 6157196.4 | L18: -0.38599957 | M18: Prom. 3 prov.
A19: HYUNDAI | B19: 40,000 | C19: 4 | D19: 2797000 | E19: 11188000 | F19: 1177274.3 | G19: 4709097 | H19: 1326000 | I19: 5304000 | J19: 1766758.1 | K19: 7067032.3 | L19: -0.36833819 | M19: Prom. 3 prov.
A20: HYUNDAI | B20: 50,000 | C20: 4 | D20: 2797000 | E20: 11188000 | F20: 1177274.3 | G20: 4709097 | H20: 1326000 | I20: 5304000 | J20: 1766758.1 | K20: 7067032.3 | L20: -0.36833819 | M20: Prom. 3 prov.
A21: SUBTOTAL HYUNDAI | E21: 32404000 | G21: 13393783 | I21: 15076000 | J21: -0.29333133 | K21: 20291261
A22: ▶ DODGE
A23: DODGE | B23: 10,000 | C23: 1 | D23: 3535000 | E23: 3535000 | F23: 1392287.5 | G23: 1392287.5 | H23: 1631000 | I23: 1631000 | J23: 2186095.8 | K23: 2186095.8 | L23: -0.38158533 | M23: Prom. 3 prov.
A24: DODGE | B24: 20,000 | C24: 1 | D24: 3535000 | E24: 3535000 | F24: 1392287.5 | G24: 1392287.5 | H24: 1631000 | I24: 1631000 | J24: 2186095.8 | K24: 2186095.8 | L24: -0.38158533 | M24: Prom. 3 prov.
A25: SUBTOTAL DODGE | E25: 7070000 | G25: 2784575 | I25: 3262000 | J25: -0.30307107 | K25: 4372191.7
A26: GRAN TOTAL PREVENTIVO | E26: 122972000 | G26: 63674153 | I26: 56852000 | J26: -0.2392195 | K26: 81166051
E29: 3220000

Sheet  Detalle Preventivo
A1: DETALLE ÍTEM A ÍTEM — MANTENIMIENTO PREVENTIVO — 3 PROVEEDORES
A2: Promedio = (COPCON + AUTOINVERCOL + PRECAR) ÷ 3 por ítem | Cant = N° vehículos | COP IVA incluido
A3: MARCA | B3: KM | C3: SERVICIO / ÍTEM | D3: CANT. | E3: AI Repuesto ($) | F3: AI Mano Obra ($) | G3: AI TOTAL Unit ($) | H3: AI TOTAL×Cant ($) | I3: COP Repuesto ($) | J3: COP Mano Obra ($) | K3: COP TOTAL Unit ($) | L3: COP TOTAL×Cant ($) | M3: PRECAR Unit ($) | N3: PRECAR Total×Cant ($) | O3: PROMEDIO 3P Unit ($) | P3: PROMEDIO 3P Total×Cant ($)
A4: ▶ CHEVROLET
A5: CHEVROLET | B5: ── 80,000 KM (3 vehículos) ──
A6: CHEVROLET | B6: 80000 | C6: Cambio de aceite del motor | D6: 3 | E6: 47257.406 | F6: 128000 | G6: 175257.41 | H6: 525772.22 | I6: 900000 | J6: 62000 | K6: 962000 | L6: 2886000 | M6: 373000 | N6: 1119000 | O6: 503419 | P6: 1510257 | R6: =+ROUND(O6,0) -> 503419 | S6: =+R6*D6 -> 1510257
A7: CHEVROLET | B7: 80000 | C7: Cambio filtro de aceite | D7: 3 | E7: 62645.721 | F7: 19892.513 | G7: 82538.235 | H7: 247614.7 | I7: 225000 | J7: 55000 | K7: 280000 | L7: 840000 | M7: 113000 | N7: 339000 | O7: 158513 | P7: 475539 | R7: =+ROUND(O7,0) -> 158513 | S7: =+R7*D7 -> 475539
A8: CHEVROLET | B8: 80000 | C8: Cambio filtro de aire | D8: 3 | E8: 140551.3 | F8: 21561.081 | G8: 162112.38 | H8: 486337.14 | I8: 250000 | J8: 55000 | K8: 305000 | L8: 915000 | M8: 150000 | N8: 450000 | O8: 205704 | P8: 617112 | R8: =+ROUND(O8,0) -> 205704 | S8: =+R8*D8 -> 617112
A9: CHEVROLET | B9: 80000 | C9: Inspección general frenos | D9: 3 | E9: 0 | F9: 150000 | G9: 150000 | H9: 450000 | I9: 0 | J9: 215000 | K9: 215000 | L9: 645000 | M9: 80000 | N9: 240000 | O9: 148333 | P9: 444999 | R9: =+ROUND(O9,0) -> 148333 | S9: =+R9*D9 -> 444999
A10: CHEVROLET | B10: 80000 | C10: Inspección general suspension | D10: 3 | E10: 0 | F10: 150000 | G10: 150000 | H10: 450000 | I10: 0 | J10: 250000 | K10: 250000 | L10: 750000 | M10: 80000 | N10: 240000 | O10: 160000 | P10: 480000 | R10: =+ROUND(O10,0) -> 160000 | S10: =+R10*D10 -> 480000
A11: CHEVROLET | B11: 80000 | C11: Rotacion de llantas | D11: 3 | E11: 0 | F11: 80000 | G11: 80000 | H11: 240000 | I11: 0 | J11: 195000 | K11: 195000 | L11: 585000 | M11: 64000 | N11: 192000 | O11: 113000 | P11: 339000 | R11: =+ROUND(O11,0) -> 113000 | S11: =+R11*D11 -> 339000
A12: CHEVROLET | B12: 80000 | C12: Alineacion y balanceo | D12: 3 | E12: 0 | F12: 90000 | G12: 90000 | H12: 270000 | I12: 0 | J12: 315000 | K12: 315000 | L12: 945000 | M12: 230000 | N12: 690000 | O12: 211667 | P12: 635001 | R12: =+ROUND(O12,0) -> 211667 | S12: =+R12*D12 -> 635001
A13: CHEVROLET | B13: 80000 | C13: Cambio de liquido de la transmision | D13: 3 | E13: 68267.773 | F13: 128000 | G13: 196267.77 | H13: 588803.32 | I13: 190000 | J13: 150000 | K13: 340000 | L13: 1020000 | M13: 597000 | N13: 1791000 | O13: 377756 | P13: 1133268 | R13: =+ROUND(O13,0) -> 377756 | S13: =+R13*D13 -> 1133268
A14: CHEVROLET | B14: 80000 | C14: Cambio correa | D14: 3 | E14: 196771.82 | F14: 51746.595 | G14: 248518.41 | H14: 745555.24 | I14: 355000 | J14: 185000 | K14: 540000 | L14: 1620000 | M14: 348000 | N14: 1044000 | O14: 378839 | P14: 1136517 | R14: =+ROUND(O14,0) -> 378839 | S14: =+R14*D14 -> 1136517
A15: CHEVROLET | B15: 80000 | C15: inspeccion del motor | D15: 3 | E15: 0 | F15: 540000 | G15: 540000 | H15: 1620000 | I15: 0 | J15: 350000 | K15: 350000 | L15: 1050000 | M15: 112000 | N15: 336000 | O15: 334000 | P15: 1002000 | R15: =+ROUND(O15,0) -> 334000 | S15: =+R15*D15 -> 1002000
A16: Subtotal CHEVROLET — 80,000 KM (×3 veh.) | G16: 1874694.2 | H16: 5624082.6 | K16: 3752000 | L16: 11256000 | O16: =SUM(O6:O15) -> 2591231 | P16: =SUM(P6:P15) -> 7773693 | R16: =+ROUND(O16,0) -> 2591231 | S16: =+R16*D16 -> 0
A17: CHEVROLET | B17: ── 90,000 KM (3 vehículos) ── | R17: =+ROUND(O17,0) -> 0 | S17: =+R17*D17 -> 0
A18: CHEVROLET | B18: 90000 | C18: Cambio de aceite del motor | D18: 3 | E18: 47257.406 | F18: 128000 | G18: 175257.41 | H18: 525772.22 | I18: 900000 | J18: 62000 | K18: 962000 | L18: 2886000 | M18: 373000 | N18: 1119000 | O18: 503419 | P18: 1510257 | R18: =+ROUND(O18,0) -> 503419 | S18: =+R18*D18 -> 1510257
A19: CHEVROLET | B19: 90000 | C19: Cambio filtro de aceite | D19: 3 | E19: 62645.721 | F19: 19892.513 | G19: 82538.235 | H19: 247614.7 | I19: 225000 | J19: 55000 | K19: 280000 | L19: 840000 | M19: 113000 | N19: 339000 | O19: 158513 | P19: 475539 | R19: =+ROUND(O19,0) -> 158513 | S19: =+R19*D19 -> 475539
A20: CHEVROLET | B20: 90000 | C20: Cambio filtro de combustible | D20: 3 | E20: 159475.12 | F20: 38809.946 | G20: 198285.07 | H20: 594855.21 | I20: 240000 | J20: 55000 | K20: 295000 | L20: 885000 | M20: 203000 | N20: 609000 | O20: 232095 | P20: 696285 | R20: =+ROUND(O20,0) -> 232095 | S20: =+R20*D20 -> 696285
A21: CHEVROLET | B21: 90000 | C21: Cambio filtro de aire | D21: 3 | E21: 140551.3 | F21: 21561.081 | G21: 162112.38 | H21: 486337.14 | I21: 250000 | J21: 55000 | K21: 305000 | L21: 915000 | M21: 150000 | N21: 450000 | O21: 205704 | P21: 617112 | R21: =+ROUND(O21,0) -> 205704 | S21: =+R21*D21 -> 617112
A22: CHEVROLET | B22: 90000 | C22: Inspección general frenos | D22: 3 | E22: 0 | F22: 150000 | G22: 150000 | H22: 450000 | I22: 0 | J22: 215000 | K22: 215000 | L22: 645000 | M22: 80000 | N22: 240000 | O22: 148333 | P22: 444999 | R22: =+ROUND(O22,0) -> 148333 | S22: =+R22*D22 -> 444999
A23: CHEVROLET | B23: 90000 | C23: Inspección general suspension | D23: 3 | E23: 0 | F23: 150000 | G23: 150000 | H23: 450000 | I23: 0 | J23: 250000 | K23: 250000 | L23: 750000 | M23: 80000 | N23: 240000 | O23: 160000 | P23: 480000 | R23: =+ROUND(O23,0) -> 160000 | S23: =+R23*D23 -> 480000
A24: CHEVROLET | B24: 90000 | C24: Rotacion de llantas | D24: 3 | E24: 0 | F24: 80000 | G24: 80000 | H24: 240000 | I24: 0 | J24: 195000 | K24: 195000 | L24: 585000 | M24: 64000 | N24: 192000 | O24: 113000 | P24: 339000 | R24: =+ROUND(O24,0) -> 113000 | S24: =+R24*D24 -> 339000
A25: CHEVROLET | B25: 90000 | C25: Alineacion y balanceo | D25: 3 | E25: 0 | F25: 90000 | G25: 90000 | H25: 270000 | I25: 0 | J25: 315000 | K25: 315000 | L25: 945000 | M25: 230000 | N25: 690000 | O25: 211667 | P25: 635001 | R25: =+ROUND(O25,0) -> 211667 | S25: =+R25*D25 -> 635001
A26: Subtotal CHEVROLET — 90,000 KM (×3 veh.) | G26: 1088193.1 | H26: 3264579.3 | K26: 2817000 | L26: 8451000 | O26: =SUM(O18:O25) -> 1732731 | P26: =SUM(P18:P25) -> 5198193 | R26: =+ROUND(O26,0) -> 1732731 | S26: =+R26*D26 -> 0
A27: CHEVROLET | B27: ── 150,000 KM (1 vehículo) ── | R27: =+ROUND(O27,0) -> 0 | S27: =+R27*D27 -> 0
A28: CHEVROLET | B28: 150000 | C28: Cambio de aceite del motor | D28: 1 | E28: 47257.406 | F28: 128000 | G28: 175257.41 | H28: 175257.41 | I28: 900000 | J28: 62000 | K28: 962000 | L28: 962000 | M28: 373000 | N28: 373000 | O28: 503419 | P28: 503419 | R28: =+ROUND(O28,0) -> 503419 | S28: =+R28*D28 -> 503419
A29: CHEVROLET | B29: 150000 | C29: Cambio filtro de aceite | D29: 1 | E29: 62645.721 | F29: 19892.513 | G29: 82538.235 | H29: 82538.235 | I29: 225000 | J29: 55000 | K29: 280000 | L29: 280000 | M29: 113000 | N29: 113000 | O29: 158513 | P29: 158513 | R29: =+ROUND(O29,0) -> 158513 | S29: =+R29*D29 -> 158513
A30: CHEVROLET | B30: 150000 | C30: Cambio filtro de combustible | D30: 1 | E30: 159475.12 | F30: 38809.946 | G30: 198285.07 | H30: 198285.07 | I30: 240000 | J30: 55000 | K30: 295000 | L30: 295000 | M30: 203000 | N30: 203000 | O30: 232095 | P30: 232095 | R30: =+ROUND(O30,0) -> 232095 | S30: =+R30*D30 -> 232095
A31: CHEVROLET | B31: 150000 | C31: Cambio filtro de aire | D31: 1 | E31: 140551.3 | F31: 21561.081 | G31: 162112.38 | H31: 162112.38 | I31: 250000 | J31: 55000 | K31: 305000 | L31: 305000 | M31: 150000 | N31: 150000 | O31: 205704 | P31: 205704 | R31: =+ROUND(O31,0) -> 205704 | S31: =+R31*D31 -> 205704
A32: CHEVROLET | B32: 150000 | C32: Cambio liquido refrigerante | D32: 1 | E32: 60236.271 | F32: 20907.438 | G32: 81143.708 | H32: 81143.708 | I32: 420000 | J32: 78000 | K32: 498000 | L32: 498000 | M32: 302000 | N32: 302000 | O32: 293715 | P32: 293715 | R32: =+ROUND(O32,0) -> 293715 | S32: =+R32*D32 -> 293715
A33: CHEVROLET | B33: 150000 | C33: Cambio filtro de aceite caja de cambios | D33: 1 | E33: 47948.071 | F33: 73434 | G33: 121382.07 | H33: 121382.07 | I33: 350000 | J33: 75000 | K33: 425000 | L33: 425000 | M33: 286000 | N33: 286000 | O33: 277461 | P33: 277461 | R33: =+ROUND(O33,0) -> 277461 | S33: =+R33*D33 -> 277461
A34: CHEVROLET | B34: 150000 | C34: Inspección general frenos | D34: 1 | E34: 0 | F34: 150000 | G34: 150000 | H34: 150000 | I34: 0 | J34: 215000 | K34: 215000 | L34: 215000 | M34: 80000 | N34: 80000 | O34: 148333 | P34: 148333 | R34: =+ROUND(O34,0) -> 148333 | S34: =+R34*D34 -> 148333
A35: CHEVROLET | B35: 150000 | C35: Inspección exaustiva suspension | D35: 1 | E35: 0 | F35: 150000 | G35: 150000 | H35: 150000 | I35: 0 | J35: 250000 | K35: 250000 | L35: 250000 | M35: 160000 | N35: 160000 | O35: 186667 | P35: 186667 | R35: =+ROUND(O35,0) -> 186667 | S35: =+R35*D35 -> 186667
A36: CHEVROLET | B36: 150000 | C36: Rotacion de llantas | D36: 1 | E36: 0 | F36: 80000 | G36: 80000 | H36: 80000 | I36: 0 | J36: 195000 | K36: 195000 | L36: 195000 | M36: 64000 | N36: 64000 | O36: 113000 | P36: 113000 | R36: =+ROUND(O36,0) -> 113000 | S36: =+R36*D36 -> 113000
A37: CHEVROLET | B37: 150000 | C37: Alineacion y balanceo | D37: 1 | E37: 0 | F37: 90000 | G37: 90000 | H37: 90000 | I37: 0 | J37: 315000 | K37: 315000 | L37: 315000 | M37: 230000 | N37: 230000 | O37: 211667 | P37: 211667 | R37: =+ROUND(O37,0) -> 211667 | S37: =+R37*D37 -> 211667
A38: CHEVROLET | B38: 150000 | C38: Revision general motor | D38: 1 | E38: 0 | F38: 540000 | G38: 540000 | H38: 540000 | I38: 0 | J38: 350000 | K38: 350000 | L38: 350000 | M38: 112000 | N38: 112000 | O38: 334000 | P38: 334000 | R38: =+ROUND(O38,0) -> 334000 | S38: =+R38*D38 -> 334000
A39: Subtotal CHEVROLET — 150,000 KM (×1 veh.) | G39: 1830718.9 | H39: 1830718.9 | K39: 4090000 | L39: 4090000 | O39: =SUM(O28:O38) -> 2664574 | P39: =SUM(P28:P38) -> 2664574 | R39: =+ROUND(O39,0) -> 2664574 | S39: =+R39*D39 -> 0
A40: CHEVROLET | B40: ── 160,000 KM (1 vehículo) ── | R40: =+ROUND(O40,0) -> 0 | S40: =+R40*D40 -> 0
A41: CHEVROLET | B41: 160000 | C41: Cambio de aceite del motor | D41: 1 | E41: 47257.406 | F41: 128000 | G41: 175257.41 | H41: 175257.41 | I41: 900000 | J41: 62000 | K41: 962000 | L41: 962000 | M41: 373000 | N41: 373000 | O41: 503419 | P41: 503419 | R41: =+ROUND(O41,0) -> 503419 | S41: =+R41*D41 -> 503419
A42: CHEVROLET | B42: 160000 | C42: Cambio filtro de aceite | D42: 1 | E42: 62645.721 | F42: 19892.513 | G42: 82538.235 | H42: 82538.235 | I42: 225000 | J42: 55000 | K42: 280000 | L42: 280000 | M42: 113000 | N42: 113000 | O42: 158513 | P42: 158513 | R42: =+ROUND(O42,0) -> 158513 | S42: =+R42*D42 -> 158513
A43: CHEVROLET | B43: 160000 | C43: Cambio filtro de combustible | D43: 1 | E43: 159475.12 | F43: 38809.946 | G43: 198285.07 | H43: 198285.07 | I43: 240000 | J43: 55000 | K43: 295000 | L43: 295000 | M43: 203000 | N43: 203000 | O43: 232095 | P43: 232095 | R43: =+ROUND(O43,0) -> 232095 | S43: =+R43*D43 -> 232095
A44: CHEVROLET | B44: 160000 | C44: Cambio filtro de aire | D44: 1 | E44: 140551.3 | F44: 21561.081 | G44: 162112.38 | H44: 162112.38 | I44: 250000 | J44: 55000 | K44: 305000 | L44: 305000 | M44: 150000 | N44: 150000 | O44: 205704 | P44: 205704 | R44: =+ROUND(O44,0) -> 205704 | S44: =+R44*D44 -> 205704
A45: CHEVROLET | B45: 160000 | C45: Cambio liquido refrigerante | D45: 1 | E45: 60236.271 | F45: 20907.438 | G45: 81143.708 | H45: 81143.708 | I45: 420000 | J45: 78000 | K45: 498000 | L45: 498000 | M45: 302000 | N45: 302000 | O45: 293715 | P45: 293715 | R45: =+ROUND(O45,0) -> 293715 | S45: =+R45*D45 -> 293715
A46: CHEVROLET | B46: 160000 | C46: Cambio filtro de aceite caja de cambios | D46: 1 | E46: 47948.071 | F46: 73434 | G46: 121382.07 | H46: 121382.07 | I46: 350000 | J46: 75000 | K46: 425000 | L46: 425000 | M46: 286000 | N46: 286000 | O46: 277461 | P46: 277461 | R46: =+ROUND(O46,0) -> 277461 | S46: =+R46*D46 -> 277461
A47: CHEVROLET | B47: 160000 | C47: Cambio correa de distribución | D47: 1 | E47: 7453234.5 | F47: 2287740.5 | G47: 9740975.1 | H47: 9740975.1 | I47: 355000 | J47: 185000 | K47: 540000 | L47: 540000 | M47: 1790000 | N47: 1790000 | O47: 4023658 | P47: 4023658 | R47: =+ROUND(O47,0) -> 4023658 | S47: =+R47*D47 -> 4023658
A48: CHEVROLET | B48: 160000 | C48: Cambio de pastillas de frenos | D48: 1 | E48: 616819.41 | F48: 120742.05 | G48: 737561.47 | H48: 737561.47 | I48: 529000 | J48: 250000 | K48: 779000 | L48: 779000 | M48: 421000 | N48: 421000 | O48: 645854 | P48: 645854 | R48: =+ROUND(O48,0) -> 645854 | S48: =+R48*D48 -> 645854
A49: CHEVROLET | B49: 160000 | C49: Inspección general frenos | D49: 1 | E49: 0 | F49: 150000 | G49: 150000 | H49: 150000 | I49: 0 | J49: 215000 | K49: 215000 | L49: 215000 | M49: 80000 | N49: 80000 | O49: 148333 | P49: 148333 | R49: =+ROUND(O49,0) -> 148333 | S49: =+R49*D49 -> 148333
A50: CHEVROLET | B50: 160000 | C50: Inspección exaustiva suspension | D50: 1 | E50: 0 | F50: 150000 | G50: 150000 | H50: 150000 | I50: 0 | J50: 250000 | K50: 250000 | L50: 250000 | M50: 160000 | N50: 160000 | O50: 186667 | P50: 186667 | R50: =+ROUND(O50,0) -> 186667 | S50: =+R50*D50 -> 186667
A51: CHEVROLET | B51: 160000 | C51: Rotacion de llantas | D51: 1 | E51: 0 | F51: 80000 | G51: 80000 | H51: 80000 | I51: 0 | J51: 195000 | K51: 195000 | L51: 195000 | M51: 64000 | N51: 64000 | O51: 113000 | P51: 113000 | R51: =+ROUND(O51,0) -> 113000 | S51: =+R51*D51 -> 113000
A52: CHEVROLET | B52: 160000 | C52: Alineacion y balanceo | D52: 1 | E52: 0 | F52: 90000 | G52: 90000 | H52: 90000 | I52: 0 | J52: 315000 | K52: 315000 | L52: 315000 | M52: 230000 | N52: 230000 | O52: 211667 | P52: 211667 | R52: =+ROUND(O52,0) -> 211667 | S52: =+R52*D52 -> 211667
A53: CHEVROLET | B53: 160000 | C53: Revision general motor | D53: 1 | E53: 0 | F53: 540000 | G53: 540000 | H53: 540000 | I53: 0 | J53: 350000 | K53: 350000 | L53: 350000 | M53: 112000 | N53: 112000 | O53: 334000 | P53: 334000 | R53: =+ROUND(O53,0) -> 334000 | S53: =+R53*D53 -> 334000
A54: Subtotal CHEVROLET — 160,000 KM (×1 veh.) | G54: 12309255 | H54: 12309255 | K54: 5409000 | L54: 5409000 | O54: =SUM(O41:O53) -> 7334086 | P54: =SUM(P41:P53) -> 7334086 | R54: =+ROUND(O54,0) -> 7334086 | S54: =+R54*D54 -> 0
A55: CHEVROLET | B55: ── 170,000 KM (1 vehículo) ── | R55: =+ROUND(O55,0) -> 0 | S55: =+R55*D55 -> 0
A56: CHEVROLET | B56: 170000 | C56: Cambio de aceite del motor | D56: 1 | E56: 47257.406 | F56: 128000 | G56: 175257.41 | H56: 175257.41 | I56: 900000 | J56: 62000 | K56: 962000 | L56: 962000 | M56: 373000 | N56: 373000 | O56: 503419 | P56: 503419 | R56: =+ROUND(O56,0) -> 503419 | S56: =+R56*D56 -> 503419
A57: CHEVROLET | B57: 170000 | C57: Cambio filtro de aceite | D57: 1 | E57: 62645.721 | F57: 19892.513 | G57: 82538.235 | H57: 82538.235 | I57: 225000 | J57: 55000 | K57: 280000 | L57: 280000 | M57: 113000 | N57: 113000 | O57: 158513 | P57: 158513 | R57: =+ROUND(O57,0) -> 158513 | S57: =+R57*D57 -> 158513
A58: CHEVROLET | B58: 170000 | C58: Cambio filtro de combustible | D58: 1 | E58: 159475.12 | F58: 38809.946 | G58: 198285.07 | H58: 198285.07 | I58: 240000 | J58: 55000 | K58: 295000 | L58: 295000 | M58: 203000 | N58: 203000 | O58: 232095 | P58: 232095 | R58: =+ROUND(O58,0) -> 232095 | S58: =+R58*D58 -> 232095
A59: CHEVROLET | B59: 170000 | C59: Cambio filtro de aire | D59: 1 | E59: 140551.3 | F59: 21561.081 | G59: 162112.38 | H59: 162112.38 | I59: 250000 | J59: 55000 | K59: 305000 | L59: 305000 | M59: 150000 | N59: 150000 | O59: 205704 | P59: 205704 | R59: =+ROUND(O59,0) -> 205704 | S59: =+R59*D59 -> 205704
A60: CHEVROLET | B60: 170000 | C60: Inspección general frenos | D60: 1 | E60: 60236.271 | F60: 20907.438 | G60: 81143.708 | H60: 81143.708 | I60: 0 | J60: 215000 | K60: 215000 | L60: 215000 | M60: 80000 | N60: 80000 | O60: 125381 | P60: 125381 | R60: =+ROUND(O60,0) -> 125381 | S60: =+R60*D60 -> 125381
A61: CHEVROLET | B61: 170000 | C61: Rotacion de llantas | D61: 1 | E61: 47948.071 | F61: 73434 | G61: 121382.07 | H61: 121382.07 | I61: 0 | J61: 250000 | K61: 250000 | L61: 250000 | M61: 64000 | N61: 64000 | O61: 145127 | P61: 145127 | R61: =+ROUND(O61,0) -> 145127 | S61: =+R61*D61 -> 145127
A62: CHEVROLET | B62: 170000 | C62: Alineacion y balanceo | D62: 1 | E62: 0 | F62: 90000 | G62: 90000 | H62: 90000 | I62: 0 | J62: 195000 | K62: 195000 | L62: 195000 | M62: 230000 | N62: 230000 | O62: 171667 | P62: 171667 | R62: =+ROUND(O62,0) -> 171667 | S62: =+R62*D62 -> 171667
A63: CHEVROLET | B63: 170000 | C63: Revision general motor | D63: 1 | E63: 0 | F63: 540000 | G63: 540000 | H63: 540000 | I63: 0 | J63: 350000 | K63: 350000 | L63: 350000 | M63: 112000 | N63: 112000 | O63: 334000 | P63: 334000 | R63: =+ROUND(O63,0) -> 334000 | S63: =+R63*D63 -> 334000
A64: Subtotal CHEVROLET — 170,000 KM (×1 veh.) | G64: 1450718.9 | H64: 1450718.9 | K64: 2852000 | L64: 2852000 | O64: =SUM(O56:O63) -> 1875906 | P64: =SUM(P56:P63) -> 1875906 | R64: =+ROUND(O64,0) -> 1875906 | S64: =+R64*D64 -> 0
A65: SUBTOTAL CHEVROLET | H65: 24479355 | L65: 32058000 | N65: 18002000 | P65: =+P64+P54+P39+P26+P16 -> 24846452 | R65: =+ROUND(O65,0) -> 0 | S65: =+R65*D65 -> 0
A66: ▶ FORD | R66: =+ROUND(O66,0) -> 0 | S66: =+R66*D66 -> 0
A67: FORD | B67: ── 20,000 KM (1 vehículo) ── | R67: =+ROUND(O67,0) -> 0 | S67: =+R67*D67 -> 0
A68: FORD | B68: 20000 | C68: Cambio de aceite del motor | D68: 1 | E68: 49560.708 | F68: 128000 | G68: 177560.71 | H68: 177560.71 | I68: 1150000 | J68: 125000 | K68: 1275000 | L68: 1275000 | M68: 399000 | N68: 399000 | O68: 617187 | P68: 617187 | Q68: =+N68+K68+G68 -> 1851560.7 | R68: =+ROUND(O68,0) -> 617187 | S68: =+R68*D68 -> 617187
A69: FORD | B69: 20000 | C69: Cambio filtro de aceite | D69: 1 | E69: 225039.77 | F69: 25586.323 | G69: 250626.09 | H69: 250626.09 | I69: 250000 | J69: 55000 | K69: 305000 | L69: 305000 | M69: 120000 | N69: 120000 | O69: 225209 | P69: 225209 | R69: =+ROUND(O69,0) -> 225209 | S69: =+R69*D69 -> 225209
A70: FORD | B70: 20000 | C70: Cambio filtro de combustible | D70: 1 | E70: 243659.18 | F70: 46055.382 | G70: 289714.57 | H70: 289714.57 | I70: 285000 | J70: 55000 | K70: 340000 | L70: 340000 | M70: 216000 | N70: 216000 | O70: 281905 | P70: 281905 | R70: =+ROUND(O70,0) -> 281905 | S70: =+R70*D70 -> 281905
A71: FORD | B71: 20000 | C71: Cambio filtro de aire | D71: 1 | E71: 225039.77 | F71: 25586.323 | G71: 250626.09 | H71: 250626.09 | I71: 265000 | J71: 55000 | K71: 320000 | L71: 320000 | M71: 160000 | N71: 160000 | O71: 243542 | P71: 243542 | R71: =+ROUND(O71,0) -> 243542 | S71: =+R71*D71 -> 243542
A72: FORD | B72: 20000 | C72: Inspección general frenos | D72: 1 | E72: 0 | F72: 150000 | G72: 150000 | H72: 150000 | I72: 0 | J72: 215000 | K72: 215000 | L72: 215000 | M72: 80000 | N72: 80000 | O72: 148333 | P72: 148333 | R72: =+ROUND(O72,0) -> 148333 | S72: =+R72*D72 -> 148333
A73: FORD | B73: 20000 | C73: Inspección general suspension | D73: 1 | E73: 0 | F73: 150000 | G73: 150000 | H73: 150000 | I73: 0 | J73: 250000 | K73: 250000 | L73: 250000 | M73: 80000 | N73: 80000 | O73: 160000 | P73: 160000 | R73: =+ROUND(O73,0) -> 160000 | S73: =+R73*D73 -> 160000
A74: FORD | B74: 20000 | C74: Rotacion de llantas | D74: 1 | E74: 0 | F74: 80000 | G74: 80000 | H74: 80000 | I74: 0 | J74: 195000 | K74: 195000 | L74: 195000 | M74: 64000 | N74: 64000 | O74: 113000 | P74: 113000 | R74: =+ROUND(O74,0) -> 113000 | S74: =+R74*D74 -> 113000
A75: FORD | B75: 20000 | C75: Alineacion y balanceo | D75: 1 | E75: 0 | F75: 90000 | G75: 90000 | H75: 90000 | I75: 0 | J75: 315000 | K75: 315000 | L75: 315000 | M75: 240000 | N75: 240000 | O75: 215000 | P75: 215000 | R75: =+ROUND(O75,0) -> 215000 | S75: =+R75*D75 -> 215000
A76: Subtotal FORD — 20,000 KM (×1 veh.) | G76: 1438527.5 | H76: 1438527.5 | K76: 3215000 | L76: 3215000 | O76: =SUM(O68:O75) -> 2004176 | P76: =SUM(P68:P75) -> 2004176 | R76: =+ROUND(O76,0) -> 2004176 | S76: =+R76*D76 -> 0
A77: FORD | B77: ── 30,000 KM (1 vehículo) ── | R77: =+ROUND(O77,0) -> 0 | S77: =+R77*D77 -> 0
A78: FORD | B78: 30000 | C78: Cambio de aceite del motor | D78: 1 | E78: 49560.708 | F78: 128000 | G78: 177560.71 | H78: 177560.71 | I78: 1150000 | J78: 125000 | K78: 1275000 | L78: 1275000 | M78: 399000 | N78: 399000 | O78: 617187 | P78: 617187 | R78: =+ROUND(O78,0) -> 617187 | S78: =+R78*D78 -> 617187
A79: FORD | B79: 30000 | C79: Cambio filtro de aceite | D79: 1 | E79: 225039.77 | F79: 25586.323 | G79: 250626.09 | H79: 250626.09 | I79: 250000 | J79: 55000 | K79: 305000 | L79: 305000 | M79: 120000 | N79: 120000 | O79: 225209 | P79: 225209 | R79: =+ROUND(O79,0) -> 225209 | S79: =+R79*D79 -> 225209
A80: FORD | B80: 30000 | C80: Cambio filtro de combustible | D80: 1 | E80: 243659.18 | F80: 46055.382 | G80: 289714.57 | H80: 289714.57 | I80: 285000 | J80: 55000 | K80: 340000 | L80: 340000 | M80: 216000 | N80: 216000 | O80: 281905 | P80: 281905 | R80: =+ROUND(O80,0) -> 281905 | S80: =+R80*D80 -> 281905
A81: FORD | B81: 30000 | C81: Cambio filtro de aire | D81: 1 | E81: 225039.77 | F81: 25586.323 | G81: 250626.09 | H81: 250626.09 | I81: 265000 | J81: 55000 | K81: 320000 | L81: 320000 | M81: 160000 | N81: 160000 | O81: 243542 | P81: 243542 | R81: =+ROUND(O81,0) -> 243542 | S81: =+R81*D81 -> 243542
A82: FORD | B82: 30000 | C82: Inspección general frenos | D82: 1 | E82: 0 | F82: 150000 | G82: 150000 | H82: 150000 | I82: 0 | J82: 215000 | K82: 215000 | L82: 215000 | M82: 80000 | N82: 80000 | O82: 148333 | P82: 148333 | R82: =+ROUND(O82,0) -> 148333 | S82: =+R82*D82 -> 148333
A83: FORD | B83: 30000 | C83: Inspección general suspension | D83: 1 | E83: 0 | F83: 150000 | G83: 150000 | H83: 150000 | I83: 0 | J83: 250000 | K83: 250000 | L83: 250000 | M83: 80000 | N83: 80000 | O83: 160000 | P83: 160000 | R83: =+ROUND(O83,0) -> 160000 | S83: =+R83*D83 -> 160000
A84: FORD | B84: 30000 | C84: Rotacion de llantas | D84: 1 | E84: 0 | F84: 80000 | G84: 80000 | H84: 80000 | I84: 0 | J84: 195000 | K84: 195000 | L84: 195000 | M84: 64000 | N84: 64000 | O84: 113000 | P84: 113000 | R84: =+ROUND(O84,0) -> 113000 | S84: =+R84*D84 -> 113000
A85: FORD | B85: 30000 | C85: Alineacion y balanceo | D85: 1 | E85: 0 | F85: 90000 | G85: 90000 | H85: 90000 | I85: 0 | J85: 315000 | K85: 315000 | L85: 315000 | M85: 240000 | N85: 240000 | O85: 215000 | P85: 215000 | R85: =+ROUND(O85,0) -> 215000 | S85: =+R85*D85 -> 215000
A86: Subtotal FORD — 30,000 KM (×1 veh.) | G86: 1438527.5 | H86: 1438527.5 | K86: 3215000 | L86: 3215000 | O86: =SUM(O78:O85) -> 2004176 | P86: =SUM(P78:P85) -> 2004176 | R86: =+ROUND(O86,0) -> 2004176 | S86: =+R86*D86 -> 0
A87: FORD | B87: ── 40,000 KM (7 vehículos) ── | R87: =+ROUND(O87,0) -> 0 | S87: =+R87*D87 -> 0
A88: FORD | B88: 40000 | C88: Cambio de aceite del motor | D88: 7 | E88: 49560.708 | F88: 128000 | G88: 177560.71 | H88: 1242925 | I88: 1150000 | J88: 125000 | K88: 1275000 | L88: 8925000 | M88: 399000 | N88: 2793000 | O88: 617187 | P88: 4320309 | R88: =+ROUND(O88,0) -> 617187 | S88: =+R88*D88 -> 4320309
A89: FORD | B89: 40000 | C89: Cambio filtro de aceite | D89: 7 | E89: 225039.77 | F89: 25586.323 | G89: 250626.09 | H89: 1754382.6 | I89: 250000 | J89: 55000 | K89: 305000 | L89: 2135000 | M89: 120000 | N89: 840000 | O89: 225209 | P89: 1576463 | R89: =+ROUND(O89,0) -> 225209 | S89: =+R89*D89 -> 1576463
A90: FORD | B90: 40000 | C90: Cambio filtro de combustible | D90: 7 | E90: 243659.18 | F90: 46055.382 | G90: 289714.57 | H90: 2028002 | I90: 285000 | J90: 55000 | K90: 340000 | L90: 2380000 | M90: 216000 | N90: 1512000 | O90: 281905 | P90: 1973335 | R90: =+ROUND(O90,0) -> 281905 | S90: =+R90*D90 -> 1973335
A91: FORD | B91: 40000 | C91: Cambio filtro de aire | D91: 7 | E91: 225039.77 | F91: 25586.323 | G91: 250626.09 | H91: 1754382.6 | I91: 265000 | J91: 55000 | K91: 320000 | L91: 2240000 | M91: 160000 | N91: 1120000 | O91: 243542 | P91: 1704794 | R91: =+ROUND(O91,0) -> 243542 | S91: =+R91*D91 -> 1704794
A92: FORD | B92: 40000 | C92: Inspección general frenos | D92: 7 | E92: 0 | F92: 150000 | G92: 150000 | H92: 1050000 | I92: 0 | J92: 215000 | K92: 215000 | L92: 1505000 | M92: 80000 | N92: 560000 | O92: 148333 | P92: 1038331 | R92: =+ROUND(O92,0) -> 148333 | S92: =+R92*D92 -> 1038331
A93: FORD | B93: 40000 | C93: Inspección general suspension | D93: 7 | E93: 0 | F93: 150000 | G93: 150000 | H93: 1050000 | I93: 0 | J93: 250000 | K93: 250000 | L93: 1750000 | M93: 80000 | N93: 560000 | O93: 160000 | P93: 1120000 | R93: =+ROUND(O93,0) -> 160000 | S93: =+R93*D93 -> 1120000
A94: FORD | B94: 40000 | C94: Rotacion de llantas | D94: 7 | E94: 0 | F94: 80000 | G94: 80000 | H94: 560000 | I94: 0 | J94: 195000 | K94: 195000 | L94: 1365000 | M94: 64000 | N94: 448000 | O94: 113000 | P94: 791000 | R94: =+ROUND(O94,0) -> 113000 | S94: =+R94*D94 -> 791000
A95: FORD | B95: 40000 | C95: Alineacion y balanceo | D95: 7 | E95: 0 | F95: 90000 | G95: 90000 | H95: 630000 | I95: 0 | J95: 315000 | K95: 315000 | L95: 2205000 | M95: 240000 | N95: 1680000 | O95: 215000 | P95: 1505000 | R95: =+ROUND(O95,0) -> 215000 | S95: =+R95*D95 -> 1505000
A96: Subtotal FORD — 40,000 KM (×7 veh.) | G96: 1438527.5 | H96: 10069692 | K96: 3215000 | L96: 22505000 | O96: =SUM(O88:O95) -> 2004176 | P96: =SUM(P88:P95) -> 14029232 | R96: =+ROUND(O96,0) -> 2004176 | S96: =+R96*D96 -> 0
A97: FORD | B97: ── 50,000 KM (7 vehículos) ── | R97: =+ROUND(O97,0) -> 0 | S97: =+R97*D97 -> 0
A98: FORD | B98: 50000 | C98: Cambio de aceite del motor | D98: 7 | E98: 49560.708 | F98: 128000 | G98: 177560.71 | H98: 1242925 | I98: 1150000 | J98: 125000 | K98: 1275000 | L98: 8925000 | M98: 399000 | N98: 2793000 | O98: 617187 | P98: 4320309 | R98: =+ROUND(O98,0) -> 617187 | S98: =+R98*D98 -> 4320309
A99: FORD | B99: 50000 | C99: Cambio filtro de aceite | D99: 7 | E99: 225039.77 | F99: 25586.323 | G99: 250626.09 | H99: 1754382.6 | I99: 250000 | J99: 55000 | K99: 305000 | L99: 2135000 | M99: 120000 | N99: 840000 | O99: 225209 | P99: 1576463 | R99: =+ROUND(O99,0) -> 225209 | S99: =+R99*D99 -> 1576463
A100: FORD | B100: 50000 | C100: Cambio filtro de combustible | D100: 7 | E100: 243659.18 | F100: 46055.382 | G100: 289714.57 | H100: 2028002 | I100: 285000 | J100: 55000 | K100: 340000 | L100: 2380000 | M100: 216000 | N100: 1512000 | O100: 281905 | P100: 1973335 | R100: =+ROUND(O100,0) -> 281905 | S100: =+R100*D100 -> 1973335
...

Sheet 3. Corr - Comparativo
A1: COMPARATIVO MANTENIMIENTO CORRECTIVO — MEDIA ARITMÉTICA 3 PROVEEDORES (BOLSA UNITARIA)
A2: Promedio = (AUTOINVERCOL + COPCON + PRECAR) ÷ 3 | Valor unitario de referencia | COP IVA incluido
A3: MARCA | B3: N° ÍTEMS | C3: COPCON Total ($) | D3: AUTOINVERCOL Total ($) | E3: PRECAR ($) | F3: PROMEDIO 3P ($) | G3: % vs COPCON | H3: REF. PRESUPUESTO ($) | I3: MÉTODO
A4: CHEVROLET | B4: 29 | C4: 36905144 | D4: 34235770 | E4: 22886000 | F4: 32510865 | G4: -0.15073345 | H4: 32510865 | I4: Prom. 3 prov.
A5: FORD | B5: 28 | C5: 38021750 | D5: 37654770 | E5: 27399000 | F5: 34358507 | G5: -0.096345993 | H5: 34358507 | I5: Prom. 3 prov.
A6: HYUNDAI | B6: 29 | C6: 34060000 | D6: 46196408 | E6: 26984000 | F6: 35746803 | G6: 0.049524451 | H6: 35746803 | I6: Prom. 3 prov.
A7: DODGE | B7: 27 | C7: 30064000 | D7: 45994170 | E7: 28775000 | F7: 34944390 | G7: 0.16233336 | H7: 34944390 | I7: Prom. 3 prov.
A8: GRAN TOTAL CORRECTIVO | C8: 1.3905089e+08 | D8: 1.6408112e+08 | E8: 106044000 | F8: =SUM(F4:F7) -> 1.3756056e+08 | G8: 1.5156601e+08 | H8: =SUM(H4:H7) -> 1.3756056e+08

Sheet  Detalle Correctivo
A1: DETALLE ÍTEM A ÍTEM — MANTENIMIENTO CORRECTIVO — 3 PROVEEDORES
A2: Promedio = (AUTOINVERCOL + COPCON + PRECAR) ÷ 3 | Valor unitario de referencia | COP IVA incluido
A3: MARCA | B3: REPUESTO / ÍTEM | C3: UND | D3: AI Repuesto ($) | E3: AI Mano Obra ($) | F3: AI TOTAL ($) | G3: COP Repuesto ($) | H3: COP Mano Obra ($) | I3: COP TOTAL ($) | J3: PRECAR Repuesto ($) | K3: PRECAR Mano Obra ($) | L3: PRECAR TOTAL ($) | M3: PROMEDIO 3P ($)
A4: ▶ CHEVROLET
A5: CHEVROLET | B5: ALTERNADOR | C5: UNIDAD | D5: 2402150 | E5: 450000 | F5: 2852150 | G5: 1308572.7 | H5: 215610.81 | I5: 1524183.6 | J5: 0 | K5: 0 | L5: 0 | M5: 2188167 | O5: =+ROUND(M5,0) -> 2188167
A6: CHEVROLET | B6: AMORTIGUADOR | C6: JUEGO | D6: 1128850 | E6: 385000 | F6: 1513850 | G6: 965939.67 | H6: 155239.78 | I6: 1121179.5 | J6: 0 | K6: 0 | L6: 0 | M6: 1317515 | O6: =+ROUND(M6,0) -> 1317515
A7: CHEVROLET | B7: ARRANQUE | C7: UNIDAD | D7: 2125020 | E7: 259000 | F7: 2384020 | G7: 1364150.7 | H7: 215610.81 | I7: 1579761.6 | J7: 1232000 | K7: 223000 | L7: 1455000 | M7: 1806261 | O7: =+ROUND(M7,0) -> 1806261
A8: CHEVROLET | B8: BATERIA | C8: UNIDAD | D8: 1064650 | E8: 80000 | F8: 1144650 | G8: 843307.79 | H8: 70720.346 | I8: 914028.13 | J8: 754000 | K8: 48000 | L8: 802000 | M8: 953559 | O8: =+ROUND(M8,0) -> 953559
A9: CHEVROLET | B9: BOBINA DE ENCENDIDO | C9: UNIDAD | D9: 588500 | E9: 250000 | F9: 838500 | G9: 1521969.8 | H9: 155239.78 | I9: 1677209.6 | J9: 377000 | K9: 160000 | L9: 537000 | M9: 1017570 | O9: =+ROUND(M9,0) -> 1017570
A10: CHEVROLET | B10: BOMBA COMBUSTIBLE | C10: UNIDAD | D10: 2354000 | E10: 450000 | F10: 2804000 | G10: 677576.69 | H10: 307035.88 | I10: 984612.56 | J10: 1044000 | K10: 399000 | L10: 1443000 | M10: 1743871 | O10: =+ROUND(M10,0) -> 1743871
A11: CHEVROLET | B11: BOMBA DE ACEITE | C11: UNIDAD | D11: 1605000 | E11: 380000 | F11: 1985000 | G11: 1490646.9 | H11: 508071.03 | I11: 1998717.9 | J11: 942000 | K11: 558000 | L11: 1500000 | M11: 1827906 | O11: =+ROUND(M11,0) -> 1827906
A12: CHEVROLET | B12: BOMBA DE AGUA | C12: UNIDAD | D12: 1284000 | E12: 380000 | F12: 1664000 | G12: 719622.65 | H12: 155239.78 | I12: 874862.43 | J12: 609000 | K12: 399000 | L12: 1008000 | M12: 1182287 | O12: =+ROUND(M12,0) -> 1182287
A13: CHEVROLET | B13: BOMBILLO | C13: UNIDAD | D13: 58850 | E13: 15000 | F13: 73850 | G13: 67767.12 | H13: 20907.438 | I13: 88674.558 | J13: 36000 | K13: 32000 | L13: 68000 | M13: 76842 | O13: =+ROUND(M13,0) -> 76842
A14: CHEVROLET | B14: BUJE TIJERA | C14: UNIDAD | D14: 197950 | E14: 155000 | F14: 352950 | G14: 431649.15 | H14: 93271.53 | I14: 524920.68 | J14: 174000 | K14: 160000 | L14: 334000 | M14: 403957 | O14: =+ROUND(M14,0) -> 403957
A15: CHEVROLET | B15: BUJIA MOTOR | C15: UNIDAD | D15: 133750 | E15: 285000 | F15: 418750 | G15: 72283.525 | H15: 22125.347 | I15: 94408.871 | J15: 65000 | K15: 80000 | L15: 145000 | M15: 219386 | O15: =+ROUND(M15,0) -> 219386
A16: CHEVROLET | B16: CILINDRO FRENO | C16: UNIDAD | D16: 299600 | E16: 195000 | F16: 494600 | G16: 421536.06 | H16: 184221.53 | I16: 605757.59 | J16: 276000 | K16: 160000 | L16: 436000 | M16: 512119 | O16: =+ROUND(M16,0) -> 512119
... A33: CHEVROLET | B33: LLANTAS | C33: UNIDAD | D33: 1284000 | E33: 105000 | F33: 1389000 | G33: 1059511 | H33: 50746.208 | I33: 1110257.2 | J33: 942000 | K33: 80000 | L33: 1022000 | M33: 1173752 | O33: =+ROUND(M33,0) -> 1173752
A34: SUBTOTAL CHEVROLET | F34: 34235770 | I34: 36905144 | L34: 22886000 | M34: =SUM(M5:M33) -> 32510865 | O34: =+ROUND(M34,0) -> 32510865
A35: ▶ FORD | O35: =+ROUND(M35,0) -> 0
A36: FORD | B36: ALTERNADOR | C36: UNIDAD | D36: 1264652.6 | E36: 215610.81 | F36: 1480263.4 | G36: 2806250 | H36: 450000 | I36: 3256250 | J36: 1515000 | K36: 239000 | L36: 1754000 | M36: 2163504 | O36: =+ROUND(M36,0) -> 2163504
A37: FORD | B37: AMORTIGUADOR | C37: JUEGO | D37: 791424.28 | E37: 155239.78 | F37: 946664.07 | G37: 1318750 | H37: 385000 | I37: 1703750 | J37: 1212000 | K37: 351000 | L37: 1563000 | M37: 1404471 | O37: =+ROUND(M37,0) -> 1404471
A38: FORD | B38: ARRANQUE | C38: UNIDAD | D38: 1364150.7 | E38: 215610.81 | F38: 1579761.6 | G38: 2482500 | H38: 259000 | I38: 2741500 | J38: 1356000 | K38: 223000 | L38: 1579000 | M38: 1966754 | O38: =+ROUND(M38,0) -> 1966754
A39: FORD | B39: BATERIA | C39: UNIDAD | D39: 891225.4 | E39: 182000.15 | F39: 1073225.6 | G39: 1243750 | H39: 80000 | I39: 1323750 | J39: 829000 | K39: 48000 | L39: 877000 | M39: 1091325 | O39: =+ROUND(M39,0) -> 1091325
A40: FORD | B40: BOBINA DE ENCENDIDO | C40: UNIDAD | D40: 434254.5 | E40: 132435.76 | F40: 566690.26 | G40: 687500 | H40: 250000 | I40: 937500 | J40: 415000 | K40: 160000 | L40: 575000 | M40: 693063 | O40: =+ROUND(M40,0) -> 693063
A41: FORD | B41: BOMBA COMBUSTIBLE | C41: UNIDAD | D41: 677576.69 | E41: 460553.82 | F41: 1138130.5 | G41: 2750000 | H41: 450000 | I41: 3200000 | J41: 1148000 | K41: 399000 | L41: 1547000 | M41: 1961710 | O41: =+ROUND(M41,0) -> 1961710
A42: FORD | B42: BOMBA DE ACEITE | C42: UNIDAD | D42: 5332809.2 | E42: 1152547.9 | F42: 6485357.1 | G42: 1875000 | H42: 380000 | I42: 2255000 | J42: 1037000 | K42: 558000 | L42: 1595000 | M42: 3445119 | O42: =+ROUND(M42,0) -> 3445119
A43: FORD | B43: BOMBA DE AGUA | C43: UNIDAD | D43: 1358555.9 | E43: 293617.56 | F43: 1652173.5 | G43: 1500000 | H43: 380000 | I43: 1880000 | J43: 670000 | K43: 399000 | L43: 1069000 | M43: 1533724 | O43: =+ROUND(M43,0) -> 1533724
A44: FORD | B44: BOMBILLO | C44: UNIDAD | D44: 82442.332 | E44: 20907.438 | F44: 103349.77 | G44: 68750 | H44: 15000 | I44: 83750 | J44: 40000 | K44: 32000 | L44: 72000 | M44: 86367 | O44: =+ROUND(M44,0) -> 86367
A45: FORD | B45: BUJES TIJERA | C45: UNIDAD | D45: 431649.15 | E45: 93271.53 | F45: 524920.68 | G45: 231250 | H45: 155000 | I45: 386250 | J45: 191000 | K45: 160000 | L45: 351000 | M45: 420724 | O45: =+ROUND(M45,0) -> 420724
A46: FORD | B46: BUJIA MOTOR | C46: UNIDAD | D46: 506162.1 | E46: 82254.31 | F46: 588416.41 | G46: 156250 | H46: 285000 | I46: 441250 | J46: 72000 | K46: 80000 | L46: 152000 | M46: 393889 | O46: =+ROUND(M46,0) -> 393889
A47: FORD | B47: CILINDRO FRENO | C47: UNIDAD | D47: 457924.26 | E47: 98955.105 | F47: 556879.37 | G47: 350000 | H47: 195000 | I47: 545000 | J47: 303000 | K47: 160000 | L47: 463000 | M47: 521626 | O47: =+ROUND(M47,0) -> 521626
... A63: FORD | B63: LLANTAS | C63: UNIDAD | D63: 947983.56 | E63: 31767.126 | F63: 979750.69 | G63: 1500000 | H63: 105000 | I63: 1605000 | J63: 1037000 | K63: 80000 | L63: 1117000 | M63: 1233917 | O63: =+ROUND(M63,0) -> 1233917
A64: SUBTOTAL FORD | F64: 37654770 | I64: 38021750 | L64: 27399000 | M64: =SUM(M36:M63) -> 34358502 | O64: =+ROUND(M64,0) -> 34358502
A65: ▶ HYUNDAI | O65: =+ROUND(M65,0) -> 0
A66: HYUNDAI | B66: ALTERNADOR | C66: UNIDAD | D66: 920811.79 | E66: 215610.81 | F66: 1136422.6 | G66: 2245000 | H66: 450000 | I66: 2695000 | J66: 1446000 | K66: 239000 | L66: 1685000 | M66: 1838808 | O66: =+ROUND(M66,0) -> 1838808
A67: HYUNDAI | B67: AMORTIGUADOR | C67: JUEGO | D67: 1000885.9 | E67: 155239.78 | F67: 1156125.7 | G67: 1055000 | H67: 385000 | I67: 1440000 | J67: 1157000 | K67: 351000 | L67: 1508000 | M67: 1368042 | O67: =+ROUND(M67,0) -> 1368042
A68: HYUNDAI | B68: ARRANQUE | C68: UNIDAD | D68: 1364150.7 | E68: 215610.81 | F68: 1579761.6 | G68: 1986000 | H68: 259000 | I68: 2245000 | J68: 1294000 | K68: 223000 | L68: 1517000 | M68: 1780587 | O68: =+ROUND(M68,0) -> 1780587
A69: HYUNDAI | B69: BATERIA | C69: UNIDAD | D69: 1164567.9 | E69: 70720.346 | F69: 1235288.2 | G69: 995000 | H69: 80000 | I69: 1075000 | J69: 792000 | K69: 48000 | L69: 840000 | M69: 1050096 | O69: =+ROUND(M69,0) -> 1050096
A70: HYUNDAI | B70: BOBINA DE ENCENDIDO | C70: UNIDAD | D70: 702756.49 | E70: 155239.78 | F70: 857996.27 | G70: 550000 | H70: 250000 | I70: 800000 | J70: 396000 | K70: 160000 | L70: 556000 | M70: 737999 | O70: =+ROUND(M70,0) -> 737999
A71: HYUNDAI | B71: BOMBA COMBUSTIBLE | C71: UNIDAD | D71: 14822941 | E71: 307035.88 | F71: 15129977 | G71: 2200000 | H71: 450000 | I71: 2650000 | J71: 1096000 | K71: 399000 | L71: 1495000 | M71: 6424992 | O71: =+ROUND(M71,0) -> 6424992
A72: HYUNDAI | B72: BOMBA DE ACEITE | C72: UNIDAD | D72: 3425676.9 | E72: 1152243.4 | F72: 4577920.3 | G72: 1500000 | H72: 380000 | I72: 1880000 | J72: 990000 | K72: 558000 | L72: 1548000 | M72: 2668640 | O72: =+ROUND(M72,0) -> 2668640
A73: HYUNDAI | B73: BOMBA DE AGUA | C73: UNIDAD | D73: 670791.11 | E73: 215610.81 | F73: 886401.92 | G73: 1200000 | H73: 380000 | I73: 1580000 | J73: 639000 | K73: 399000 | L73: 1038000 | M73: 1168134 | O73: =+ROUND(M73,0) -> 1168134
A74: HYUNDAI | B74: BOMBILLO | C74: UNIDAD | D74: 69472.499 | E74: 23647.733 | F74: 93120.232 | G74: 55000 | H74: 15000 | I74: 70000 | J74: 38000 | K74: 32000 | L74: 70000 | M74: 77707 | O74: =+ROUND(M74,0) -> 77707
A75: HYUNDAI | B75: BUJES TIJERA | C75: UNIDAD | D75: 226970.27 | E75: 75307.372 | F75: 302277.64 | G75: 185000 | H75: 155000 | I75: 340000 | J75: 183000 | K75: 160000 | L75: 343000 | M75: 328426 | O75: =+ROUND(M75,0) -> 328426
A76: HYUNDAI | B76: BUJIA MOTOR | C76: UNIDAD | D76: 166091.48 | E76: 35820.852 | F76: 201912.33 | G76: 125000 | H76: 285000 | I76: 410000 | J76: 69000 | K76: 80000 | L76: 149000 | M76: 253637 | O76: =+ROUND(M76,0) -> 253637
A77: HYUNDAI | B77: CILINDRO FRENO | C77: UNIDAD | D77: 470646.06 | E77: 103493.19 | F77: 574139.25 | G77: 280000 | H77: 195000 | I77: 475000 | J77: 289000 | K77: 160000 | L77: 449000 | M77: 499380 | O77: =+ROUND(M77,0) -> 499380
... A94: HYUNDAI | B94: LLANTAS | C94: UNIDAD | D94: 493149.85 | E94: 29850.71 | F94: 523000.56 | G94: 456000 | H94: 320000 | I94: 776000 | J94: 990000 | K94: 80000 | L94: 1070000 | M94: 789667 | O94: =+ROUND(M94,0) -> 789667
A95: SUBTOTAL HYUNDAI | F95: 46196408 | I95: 34060000 | L95: 26984000 | M95: =SUM(M66:M94) -> 35746802 | O95: =+ROUND(M95,0) -> 35746802
A96: ▶ DODGE | O96: =+ROUND(M96,0) -> 0
A97: DODGE | B97: ALTERNADOR | C97: UNIDAD | D97: 3634255 | E97: 215610.81 | F97: 3849865.8 | G97: 2245000 | H97: 450000 | I97: 2695000 | J97: 1722000 | K97: 239000 | L97: 1961000 | M97: 2835289 | O97: =+ROUND(M97,0) -> 2835289
A98: DODGE | B98: AMORTIGUADOR | C98: JUEGO | D98: 1521969.8 | E98: 184221.53 | F98: 1706191.3 | G98: 1055000 | H98: 385000 | I98: 1440000 | J98: 1378000 | K98: 351000 | L98: 1729000 | M98: 1625064 | O98: =+ROUND(M98,0) -> 1625064
A99: DODGE | B99: ARRANQUE | C99: UNIDAD | D99: 2397403.6 | E99: 215610.81 | F99: 2613014.4 | G99: 1986000 | H99: 259000 | I99: 2245000 | J99: 1541000 | K99: 223000 | L99: 1764000 | M99: 2207338 | O99: =+ROUND(M99,0) -> 2207338
A100: DODGE | B100: BATERIA | C100: UNIDAD | D100: 1188662.4 | E100: 83923.14 | F100: 1272585.5 | G100: 995000 | H100: 80000 | I100: 1075000 | J100: 942000 | K100: 48000 | L100: 990000 | M100: 1112529 | O100: =+ROUND(M100,0) -> 1112529
A101: DODGE | B101: BOBINA DE ENCENDIDO | C101: UNIDAD | D101: 1188662.4 | E101: 83923.14 | F101: 1272585.5 | G101: 550000 | H101: 250000 | I101: 800000 | J101: 471000 | K101: 160000 | L101: 631000 | M101: 901195 | O101: =+ROUND(M101,0) -> 901195
A102: DODGE | B102: BOMBA COMBUSTIBLE | C102: UNIDAD | D102: 4389898.9 | E102: 460553.82 | F102: 4850452.7 | G102: 2200000 | H102: 450000 | I102: 2650000 | J102: 1305000 | K102: 399000 | L102: 1704000 | M102: 3068151 | O102: =+ROUND(M102,0) -> 3068151
A103: DODGE | B103: BOMBA DE ACEITE | C103: UNIDAD | D103: 3418368.2 | E103: 1111747.9 | F103: 4530116.1 | G103: 1500000 | H103: 380000 | I103: 1880000 | J103: 1178000 | K103: 558000 | L103: 1736000 | M103: 2715372 | O103: =+ROUND(M103,0) -> 2715372
A104: DODGE | B104: BOMBA DE AGUA | C104: UNIDAD | D104: 3418368.2 | E104: 1111747.9 | F104: 4530116.1 | G104: 1200000 | H104: 380000 | I104: 1580000 | J104: 761000 | K104: 399000 | L104: 1160000 | M104: 2423372 | O104: =+ROUND(M104,0) -> 2423372
A105: DODGE | B105: BOMBILLO | C105: UNIDAD | D105: 82442.332 | E105: 48296.822 | F105: 130739.15 | G105: 55000 | H105: 15000 | I105: 70000 | J105: 45000 | K105: 32000 | L105: 77000 | M105: 92580 | O105: =+ROUND(M105,0) -> 92580
A106: DODGE | B106: BUJES TIJERA | C106: UNIDAD | D106: 714884.06 | E106: 206986.38 | F106: 921870.44 | G106: 185000 | H106: 155000 | I106: 340000 | J106: 218000 | K106: 160000 | L106: 378000 | M106: 546623 | O106: =+ROUND(M106,0) -> 546623
A107: DODGE | B107: BUJIA MOTOR | C107: UNIDAD | D107: 144567.05 | E107: 35820.852 | F107: 180387.9 | G107: 125000 | H107: 285000 | I107: 410000 | J107: 82000 | K107: 80000 | L107: 162000 | M107: 250796 | O107: =+ROUND(M107,0) -> 250796
A108: DODGE | B108: CILINDRO FRENO | C108: UNIDAD | D108: 756728.19 | E108: 184221.53 | F108: 940949.72 | G108: 280000 | H108: 195000 | I108: 475000 | J108: 344000 | K108: 160000 | L108: 504000 | M108: 639983 | O108: =+ROUND(M108,0) -> 639983
... A123: DODGE | B123: LLANTAS | C123: UNIDAD | D123: 722660.25 | E123: 51172.646 | F123: 773832.9 | G123: 456000 | H123: 320000 | I123: 776000 | J123: 1178000 | K123: 80000 | L123: 1258000 | M123: 935944 | O123: =+ROUND(M123,0) -> 935944
A124: SUBTOTAL DODGE | F124: 45994170 | I124: 30064000 | L124: 28775000 | M124: =SUM(M97:M123) -> 34944390
A125: GRAN TOTAL CORRECTIVO | F125: 1.6408112e+08 | I125: 1.3905089e+08 | M125: =+M124+M95+M64+M34 -> 137560559
