Workbook

Sheet Resumen
C2: Forrmato Oferte Economica
C4: Servicio de mantenimiento preventivo y correctivo para los vehículos destinados y de propiedad de la Unidad Administrativa Especial de la Justicia Penal Militar y Policial.
C7: Grupo | D7: Ofertaeconomica | E7: Tarifa techo | F7: Vinculo
C8: 1. Mto. preventivo Vehiculo | D8: =+'1. Mto. preventivo Vehiculo'!F163 -> 0 | E8: =+'1. Mto. preventivo Vehiculo'!I163 -> 81166051 | F8: ▶ Ir
C9: 2. Mto. preventivo Motos | D9: =+'2. Mto. preventivo Motos'!F41 -> 0 | E9: =+'2. Mto. preventivo Motos'!I41 -> 8265166 | F9: ▶ Ir
C10: 3. Mto. correctivo Vehiculos | D10: =+'3. Mto. correctivo Vehiculos '!F125 -> 400000 | E10: =+'3. Mto. correctivo Vehiculos '!H125 -> 137560559 | F10: ▶ Ir
C11: 4. Mto. correctivo Motos | D11: =+'4. Mto. correctivo Motos'!F207 -> 0 | E11: =+'4. Mto. correctivo Motos'!H207 -> 78410768 | F11: ▶ Ir
C12: Total | D12: =SUM(D8:D11) -> 400000 | E12: =SUM(E8:E11) -> 305402544
C15: Nota: El oferente deberá diligenciar exclusivamente los campos resaltados en color amarillo en cada una de las cuatro (4) hojas que componen el presente archivo. Las demás celdas corresponden a fórmulas, cálculos automáticos o información definida por la Entidad, por lo que no deberán ser modificadas. Adicionalmente, el valor unitario ofertado para cada actividad deberá ser menor o igual a la tarifa techo establecida por la Entidad. Para facilitar la validación, el archivo incorpora una columna denominada "Validador", la cual mostrará el resultado "VERDADERO" cuando el valor diligenciado cumpla esta condición y "FALSO" cuando el valor ofertado supere la tarifa techo definida. Será responsabilidad del oferente verificar que todos los registros presenten el resultado "VERDADERO" antes de la presentación de la oferta.

Sheet 1. Mto. preventivo Vehiculo
A1: 1. MANTENIMIENTO PREVENTIVO VEHICULOS | J1: ◀ Regresar Pagina Resumen
H2: Valor Techo
A3: MARCA | B3: KM | C3: SERVICIO / ÍTEM | D3: CANT. | E3: Valor unitario repuesto y mano de obra | F3: Total | G3: Validador | H3: Valor unitario repuesto y mano de obra | I3: Total
A4: ▶ CHEVROLET
A5: CHEVROLET | B5: ── 80,000 KM (3 vehículos) ──
A6: CHEVROLET | B6: 80000 | C6: Cambio de aceite del motor | D6: 3 | F6: =+E6*D6 -> 0 | G6: =+E6<=H6 -> TRUE | H6: 503419 | I6: 1510257
A7: CHEVROLET | B7: 80000 | C7: Cambio filtro de aceite | D7: 3 | F7: =+E7*D7 -> 0 | G7: =+E7<=H7 -> TRUE | H7: 158513 | I7: 475539
A8: CHEVROLET | B8: 80000 | C8: Cambio filtro de aire | D8: 3 | F8: =+E8*D8 -> 0 | G8: =+E8<=H8 -> TRUE | H8: 205704 | I8: 617112
A9: CHEVROLET | B9: 80000 | C9: Inspección general frenos | D9: 3 | F9: =+E9*D9 -> 0 | G9: =+E9<=H9 -> TRUE | H9: 148333 | I9: 444999
A10: CHEVROLET | B10: 80000 | C10: Inspección general suspension | D10: 3 | F10: =+E10*D10 -> 0 | G10: =+E10<=H10 -> TRUE | H10: 160000 | I10: 480000
A11: CHEVROLET | B11: 80000 | C11: Rotacion de llantas | D11: 3 | F11: =+E11*D11 -> 0 | G11: =+E11<=H11 -> TRUE | H11: 113000 | I11: 339000
A12: CHEVROLET | B12: 80000 | C12: Alineacion y balanceo | D12: 3 | F12: =+E12*D12 -> 0 | G12: =+E12<=H12 -> TRUE | H12: 211667 | I12: 635001
A13: CHEVROLET | B13: 80000 | C13: Cambio de liquido de la transmision | D13: 3 | F13: =+E13*D13 -> 0 | G13: =+E13<=H13 -> TRUE | H13: 377756 | I13: 1133268
A14: CHEVROLET | B14: 80000 | C14: Cambio correa | D14: 3 | F14: =+E14*D14 -> 0 | G14: =+E14<=H14 -> TRUE | H14: 378839 | I14: 1136517
A15: CHEVROLET | B15: 80000 | C15: inspeccion del motor | D15: 3 | F15: =+E15*D15 -> 0 | G15: =+E15<=H15 -> TRUE | H15: 334000 | I15: 1002000
A16: Subtotal CHEVROLET — 80,000 KM (×3 veh.) | F16: =SUM(F6:F15) -> 0 | H16: =SUM(H6:H15) -> 2591231 | I16: =SUM(I6:I15) -> 7773693
A17: CHEVROLET | B17: ── 90,000 KM (3 vehículos) ──
A18: CHEVROLET | B18: 90000 | C18: Cambio de aceite del motor | D18: 3 | F18: =+E18*D18 -> 0 | G18: =+E18<=H18 -> TRUE | H18: 503419 | I18: 1510257
A19: CHEVROLET | B19: 90000 | C19: Cambio filtro de aceite | D19: 3 | F19: =+E19*D19 -> 0 | G19: =+E19<=H19 -> TRUE | H19: 158513 | I19: 475539
A20: CHEVROLET | B20: 90000 | C20: Cambio filtro de combustible | D20: 3 | F20: =+E20*D20 -> 0 | G20: =+E20<=H20 -> TRUE | H20: 232095 | I20: 696285
A21: CHEVROLET | B21: 90000 | C21: Cambio filtro de aire | D21: 3 | F21: =+E21*D21 -> 0 | G21: =+E21<=H21 -> TRUE | H21: 205704 | I21: 617112
A22: CHEVROLET | B22: 90000 | C22: Inspección general frenos | D22: 3 | F22: =+E22*D22 -> 0 | G22: =+E22<=H22 -> TRUE | H22: 148333 | I22: 444999
A23: CHEVROLET | B23: 90000 | C23: Inspección general suspension | D23: 3 | F23: =+E23*D23 -> 0 | G23: =+E23<=H23 -> TRUE | H23: 160000 | I23: 480000
A24: CHEVROLET | B24: 90000 | C24: Rotacion de llantas | D24: 3 | F24: =+E24*D24 -> 0 | G24: =+E24<=H24 -> TRUE | H24: 113000 | I24: 339000
A25: CHEVROLET | B25: 90000 | C25: Alineacion y balanceo | D25: 3 | F25: =+E25*D25 -> 0 | G25: =+E25<=H25 -> TRUE | H25: 211667 | I25: 635001
A26: Subtotal CHEVROLET — 90,000 KM (×3 veh.) | F26: =SUM(F18:F25) -> 0 | H26: =SUM(H18:H25) -> 1732731 | I26: =SUM(I18:I25) -> 5198193
A27: CHEVROLET | B27: ── 150,000 KM (1 vehículo) ──
A28: CHEVROLET | B28: 150000 | C28: Cambio de aceite del motor | D28: 1 | F28: =+E28*D28 -> 0 | G28: =+E28<=H28 -> TRUE | H28: 503419 | I28: 503419
A29: CHEVROLET | B29: 150000 | C29: Cambio filtro de aceite | D29: 1 | F29: =+E29*D29 -> 0 | G29: =+E29<=H29 -> TRUE | H29: 158513 | I29: 158513
A30: CHEVROLET | B30: 150000 | C30: Cambio filtro de combustible | D30: 1 | F30: =+E30*D30 -> 0 | G30: =+E30<=H30 -> TRUE | H30: 232095 | I30: 232095
A31: CHEVROLET | B31: 150000 | C31: Cambio filtro de aire | D31: 1 | F31: =+E31*D31 -> 0 | G31: =+E31<=H31 -> TRUE | H31: 205704 | I31: 205704
A32: CHEVROLET | B32: 150000 | C32: Cambio liquido refrigerante | D32: 1 | F32: =+E32*D32 -> 0 | G32: =+E32<=H32 -> TRUE | H32: 293715 | I32: 293715
A33: CHEVROLET | B33: 150000 | C33: Cambio filtro de aceite caja de cambios | D33: 1 | F33: =+E33*D33 -> 0 | G33: =+E33<=H33 -> TRUE | H33: 277461 | I33: 277461
A34: CHEVROLET | B34: 150000 | C34: Inspección general frenos | D34: 1 | F34: =+E34*D34 -> 0 | G34: =+E34<=H34 -> TRUE | H34: 148333 | I34: 148333
A35: CHEVROLET | B35: 150000 | C35: Inspección exaustiva suspension | D35: 1 | F35: =+E35*D35 -> 0 | G35: =+E35<=H35 -> TRUE | H35: 186667 | I35: 186667
A36: CHEVROLET | B36: 150000 | C36: Rotacion de llantas | D36: 1 | F36: =+E36*D36 -> 0 | G36: =+E36<=H36 -> TRUE | H36: 113000 | I36: 113000
A37: CHEVROLET | B37: 150000 | C37: Alineacion y balanceo | D37: 1 | F37: =+E37*D37 -> 0 | G37: =+E37<=H37 -> TRUE | H37: 211667 | I37: 211667
A38: CHEVROLET | B38: 150000 | C38: Revision general motor | D38: 1 | F38: =+E38*D38 -> 0 | G38: =+E38<=H38 -> TRUE | H38: 334000 | I38: 334000
A39: Subtotal CHEVROLET — 150,000 KM (×1 veh.) | F39: =SUM(F28:F38) -> 0 | H39: =SUM(H28:H38) -> 2664574 | I39: =SUM(I28:I38) -> 2664574
A40: CHEVROLET | B40: ── 160,000 KM (1 vehículo) ──
A41: CHEVROLET | B41: 160000 | C41: Cambio de aceite del motor | D41: 1 | F41: =+E41*D41 -> 0 | G41: =+E41<=H41 -> TRUE | H41: 503419 | I41: 503419
A42: CHEVROLET | B42: 160000 | C42: Cambio filtro de aceite | D42: 1 | F42: =+E42*D42 -> 0 | G42: =+E42<=H42 -> TRUE | H42: 158513 | I42: 158513
A43: CHEVROLET | B43: 160000 | C43: Cambio filtro de combustible | D43: 1 | F43: =+E43*D43 -> 0 | G43: =+E43<=H43 -> TRUE | H43: 232095 | I43: 232095
A44: CHEVROLET | B44: 160000 | C44: Cambio filtro de aire | D44: 1 | F44: =+E44*D44 -> 0 | G44: =+E44<=H44 -> TRUE | H44: 205704 | I44: 205704
A45: CHEVROLET | B45: 160000 | C45: Cambio liquido refrigerante | D45: 1 | F45: =+E45*D45 -> 0 | G45: =+E45<=H45 -> TRUE | H45: 293715 | I45: 293715
A46: CHEVROLET | B46: 160000 | C46: Cambio filtro de aceite caja de cambios | D46: 1 | F46: =+E46*D46 -> 0 | G46: =+E46<=H46 -> TRUE | H46: 277461 | I46: 277461
A47: CHEVROLET | B47: 160000 | C47: Cambio correa de distribución | D47: 1 | F47: =+E47*D47 -> 0 | G47: =+E47<=H47 -> TRUE | H47: 4023658 | I47: 4023658
A48: CHEVROLET | B48: 160000 | C48: Cambio de pastillas de frenos | D48: 1 | F48: =+E48*D48 -> 0 | G48: =+E48<=H48 -> TRUE | H48: 645854 | I48: 645854
A49: CHEVROLET | B49: 160000 | C49: Inspección general frenos | D49: 1 | F49: =+E49*D49 -> 0 | G49: =+E49<=H49 -> TRUE | H49: 148333 | I49: 148333
A50: CHEVROLET | B50: 160000 | C50: Inspección exaustiva suspension | D50: 1 | F50: =+E50*D50 -> 0 | G50: =+E50<=H50 -> TRUE | H50: 186667 | I50: 186667
A51: CHEVROLET | B51: 160000 | C51: Rotacion de llantas | D51: 1 | F51: =+E51*D51 -> 0 | G51: =+E51<=H51 -> TRUE | H51: 113000 | I51: 113000
A52: CHEVROLET | B52: 160000 | C52: Alineacion y balanceo | D52: 1 | F52: =+E52*D52 -> 0 | G52: =+E52<=H52 -> TRUE | H52: 211667 | I52: 211667
A53: CHEVROLET | B53: 160000 | C53: Revision general motor | D53: 1 | F53: =+E53*D53 -> 0 | G53: =+E53<=H53 -> TRUE | H53: 334000 | I53: 334000
A54: Subtotal CHEVROLET — 160,000 KM (×1 veh.) | F54: =SUM(F41:F53) -> 0 | H54: =SUM(H41:H53) -> 7334086 | I54: =SUM(I41:I53) -> 7334086
A55: CHEVROLET | B55: ── 170,000 KM (1 vehículo) ──
A56: CHEVROLET | B56: 170000 | C56: Cambio de aceite del motor | D56: 1 | F56: =+E56*D56 -> 0 | G56: =+E56<=H56 -> TRUE | H56: 503419 | I56: 503419
A57: CHEVROLET | B57: 170000 | C57: Cambio filtro de aceite | D57: 1 | F57: =+E57*D57 -> 0 | G57: =+E57<=H57 -> TRUE | H57: 158513 | I57: 158513
A58: CHEVROLET | B58: 170000 | C58: Cambio filtro de combustible | D58: 1 | F58: =+E58*D58 -> 0 | G58: =+E58<=H58 -> TRUE | H58: 232095 | I58: 232095
A59: CHEVROLET | B59: 170000 | C59: Cambio filtro de aire | D59: 1 | F59: =+E59*D59 -> 0 | G59: =+E59<=H59 -> TRUE | H59: 205704 | I59: 205704
A60: CHEVROLET | B60: 170000 | C60: Inspección general frenos | D60: 1 | F60: =+E60*D60 -> 0 | G60: =+E60<=H60 -> TRUE | H60: 125381 | I60: 125381
A61: CHEVROLET | B61: 170000 | C61: Rotacion de llantas | D61: 1 | F61: =+E61*D61 -> 0 | G61: =+E61<=H61 -> TRUE | H61: 145127 | I61: 145127
A62: CHEVROLET | B62: 170000 | C62: Alineacion y balanceo | D62: 1 | F62: =+E62*D62 -> 0 | G62: =+E62<=H62 -> TRUE | H62: 171667 | I62: 171667
A63: CHEVROLET | B63: 170000 | C63: Revision general motor | D63: 1 | F63: =+E63*D63 -> 0 | G63: =+E63<=H63 -> TRUE | H63: 334000 | I63: 334000
A64: Subtotal CHEVROLET — 170,000 KM (×1 veh.) | F64: =SUM(F56:F63) -> 0 | H64: =SUM(H56:H63) -> 1875906 | I64: =SUM(I56:I63) -> 1875906
A65: SUBTOTAL CHEVROLET | F65: =+F64+F54+F39+F26+F16 -> 0 | I65: =+I64+I54+I39+I26+I16 -> 24846452
A66: ▶ FORD
A67: FORD | B67: ── 20,000 KM (1 vehículo) ── | G67: =+E67<=H67 -> TRUE
A68: FORD | B68: 20000 | C68: Cambio de aceite del motor | D68: 1 | F68: =+E68*D68 -> 0 | G68: =+E68<=H68 -> TRUE | H68: 617187 | I68: 617187
A69: FORD | B69: 20000 | C69: Cambio filtro de aceite | D69: 1 | F69: =+E69*D69 -> 0 | G69: =+E69<=H69 -> TRUE | H69: 225209 | I69: 225209
A70: FORD | B70: 20000 | C70: Cambio filtro de combustible | D70: 1 | F70: =+E70*D70 -> 0 | G70: =+E70<=H70 -> TRUE | H70: 281905 | I70: 281905
A71: FORD | B71: 20000 | C71: Cambio filtro de aire | D71: 1 | F71: =+E71*D71 -> 0 | G71: =+E71<=H71 -> TRUE | H71: 243542 | I71: 243542
A72: FORD | B72: 20000 | C72: Inspección general frenos | D72: 1 | F72: =+E72*D72 -> 0 | G72: =+E72<=H72 -> TRUE | H72: 148333 | I72: 148333
A73: FORD | B73: 20000 | C73: Inspección general suspension | D73: 1 | F73: =+E73*D73 -> 0 | G73: =+E73<=H73 -> TRUE | H73: 160000 | I73: 160000
A74: FORD | B74: 20000 | C74: Rotacion de llantas | D74: 1 | F74: =+E74*D74 -> 0 | G74: =+E74<=H74 -> TRUE | H74: 113000 | I74: 113000
A75: FORD | B75: 20000 | C75: Alineacion y balanceo | D75: 1 | F75: =+E75*D75 -> 0 | G75: =+E75<=H75 -> TRUE | H75: 215000 | I75: 215000
A76: Subtotal FORD — 20,000 KM (×1 veh.) | F76: =SUM(F68:F75) -> 0 | H76: =SUM(H68:H75) -> 2004176 | I76: =SUM(I68:I75) -> 2004176
A77: FORD | B77: ── 30,000 KM (1 vehículo) ──
A78: FORD | B78: 30000 | C78: Cambio de aceite del motor | D78: 1 | F78: =+E78*D78 -> 0 | G78: =+E78<=H78 -> TRUE | H78: 617187 | I78: 617187
A79: FORD | B79: 30000 | C79: Cambio filtro de aceite | D79: 1 | F79: =+E79*D79 -> 0 | G79: =+E79<=H79 -> TRUE | H79: 225209 | I79: 225209
A80: FORD | B80: 30000 | C80: Cambio filtro de combustible | D80: 1 | F80: =+E80*D80 -> 0 | G80: =+E80<=H80 -> TRUE | H80: 281905 | I80: 281905
A81: FORD | B81: 30000 | C81: Cambio filtro de aire | D81: 1 | F81: =+E81*D81 -> 0 | G81: =+E81<=H81 -> TRUE | H81: 243542 | I81: 243542
A82: FORD | B82: 30000 | C82: Inspección general frenos | D82: 1 | F82: =+E82*D82 -> 0 | G82: =+E82<=H82 -> TRUE | H82: 148333 | I82: 148333
A83: FORD | B83: 30000 | C83: Inspección general suspension | D83: 1 | F83: =+E83*D83 -> 0 | G83: =+E83<=H83 -> TRUE | H83: 160000 | I83: 160000
A84: FORD | B84: 30000 | C84: Rotacion de llantas | D84: 1 | F84: =+E84*D84 -> 0 | G84: =+E84<=H84 -> TRUE | H84: 113000 | I84: 113000
A85: FORD | B85: 30000 | C85: Alineacion y balanceo | D85: 1 | F85: =+E85*D85 -> 0 | G85: =+E85<=H85 -> TRUE | H85: 215000 | I85: 215000
A86: Subtotal FORD — 30,000 KM (×1 veh.) | F86: =SUM(F78:F85) -> 0 | H86: =SUM(H78:H85) -> 2004176 | I86: =SUM(I78:I85) -> 2004176
A87: FORD | B87: ── 40,000 KM (7 vehículos) ──
A88: FORD | B88: 40000 | C88: Cambio de aceite del motor | D88: 7 | F88: =+E88*D88 -> 0 | G88: =+E88<=H88 -> TRUE | H88: 617187 | I88: 4320309
A89: FORD | B89: 40000 | C89: Cambio filtro de aceite | D89: 7 | F89: =+E89*D89 -> 0 | G89: =+E89<=H89 -> TRUE | H89: 225209 | I89: 1576463
A90: FORD | B90: 40000 | C90: Cambio filtro de combustible | D90: 7 | F90: =+E90*D90 -> 0 | G90: =+E90<=H90 -> TRUE | H90: 281905 | I90: 1973335
A91: FORD | B91: 40000 | C91: Cambio filtro de aire | D91: 7 | F91: =+E91*D91 -> 0 | G91: =+E91<=H91 -> TRUE | H91: 243542 | I91: 1704794
A92: FORD | B92: 40000 | C92: Inspección general frenos | D92: 7 | F92: =+E92*D92 -> 0 | G92: =+E92<=H92 -> TRUE | H92: 148333 | I92: 1038331
A93: FORD | B93: 40000 | C93: Inspección general suspension | D93: 7 | F93: =+E93*D93 -> 0 | G93: =+E93<=H93 -> TRUE | H93: 160000 | I93: 1120000
A94: FORD | B94: 40000 | C94: Rotacion de llantas | D94: 7 | F94: =+E94*D94 -> 0 | G94: =+E94<=H94 -> TRUE | H94: 113000 | I94: 791000
A95: FORD | B95: 40000 | C95: Alineacion y balanceo | D95: 7 | F95: =+E95*D95 -> 0 | G95: =+E95<=H95 -> TRUE | H95: 215000 | I95: 1505000
A96: Subtotal FORD — 40,000 KM (×7 veh.) | F96: =SUM(F88:F95) -> 0 | H96: =SUM(H88:H95) -> 2004176 | I96: =SUM(I88:I95) -> 14029232
A97: FORD | B97: ── 50,000 KM (7 vehículos) ──
A98: FORD | B98: 50000 | C98: Cambio de aceite del motor | D98: 7 | F98: =+E98*D98 -> 0 | G98: =+E98<=H98 -> TRUE | H98: 617187 | I98: 4320309
A99: FORD | B99: 50000 | C99: Cambio filtro de aceite | D99: 7 | F99: =+E99*D99 -> 0 | G99: =+E99<=H99 -> TRUE | H99: 225209 | I99: 1576463
A100: FORD | B100: 50000 | C100: Cambio filtro de combustible | D100: 7 | F100: =+E100*D100 -> 0 | G100: =+E100<=H100 -> TRUE | H100: 281905 | I100: 1973335
...

Sheet 2. Mto. preventivo Motos
A1: 2. MANTENIMIENTO PREVENTIVO MOTOS | J1: ◀ Regresar Pagina Resumen
H2: Valor Techo
A3: MARCA | B3: KM | C3: SERVICIO / ÍTEM | D3: CANTIDAD | E3: Valor unitario Repuesto y mano de obra | F3: Total | G3: Validador | H3: Valor unitario repuesto y mano de obra | I3: Total
A4: YAMAHA | B4: 60.000 KM | C4: Cambio de aceite del motor | D4: 2 | F4: =+E4*D4 -> 0 | G4: =+E4<=H4 -> TRUE | H4: 89641 | I4: 179282
A5: YAMAHA | B5: 60.000 KM | C5: Cambio filtro de aceite | D5: 2 | F5: =+E5*D5 -> 0 | G5: =+E5<=H5 -> TRUE | H5: 125337 | I5: 250674
A6: YAMAHA | B6: 60.000 KM | C6: Calibración de válvulas | D6: 2 | F6: =+E6*D6 -> 0 | G6: =+E6<=H6 -> TRUE | H6: 185965 | I6: 371930
A7: YAMAHA | B7: 60.000 KM | C7: inspección cuerpo de aceleración | D7: 2 | F7: =+E7*D7 -> 0 | G7: =+E7<=H7 -> TRUE | H7: 139226 | I7: 278452
A8: YAMAHA | B8: 60.000 KM | C8: Calibración cadena de distribución | D8: 2 | F8: =+E8*D8 -> 0 | G8: =+E8<=H8 -> TRUE | H8: 109743 | I8: 219486
A9: YAMAHA | B9: 60.000 KM | C9: Inspección tren delantero | D9: 2 | F9: =+E9*D9 -> 0 | G9: =+E9<=H9 -> TRUE | H9: 77261 | I9: 154522
A10: YAMAHA | B10: 60.000 KM | C10: Revisión de frenos | D10: 2 | F10: =+E10*D10 -> 0 | G10: =+E10<=H10 -> TRUE | H10: 161965 | I10: 323930
A11: YAMAHA | B11: 60.000 KM | C11: Cambio filtro de aire | D11: 2 | F11: =+E11*D11 -> 0 | G11: =+E11<=H11 -> TRUE | H11: 196858 | I11: 393716
A12: Subtotal 60.000 KM | F12: =SUM(F4:F11) -> 0 | H12: =SUM(H4:H11) -> 1085996 | I12: =SUM(I4:I11) -> 2171992
A14: YAMAHA | B14: 70.000 KM | C14: Cambio de aceite del motor | D14: 2 | F14: =+E14*D14 -> 0 | G14: =+E14<=H14 -> TRUE | H14: 89641 | I14: 179282
A15: YAMAHA | B15: 70.000 KM | C15: Cambio filtro de aceite | D15: 2 | F15: =+E15*D15 -> 0 | G15: =+E15<=H15 -> TRUE | H15: 125337 | I15: 250674
A16: YAMAHA | B16: 70.000 KM | C16: Cambio de kit de arrastre | D16: 2 | F16: =+E16*D16 -> 0 | G16: =+E16<=H16 -> TRUE | H16: 626826 | I16: 1253652
A17: YAMAHA | B17: 70.000 KM | C17: Revisión de frenos | D17: 2 | F17: =+E17*D17 -> 0 | G17: =+E17<=H17 -> TRUE | H17: 161965 | I17: 323930
A18: YAMAHA | B18: 70.000 KM | C18: Revisión de rodamientos | D18: 2 | F18: =+E18*D18 -> 0 | G18: =+E18<=H18 -> TRUE | H18: 77711 | I18: 155422
A19: YAMAHA | B19: 70.000 KM | C19: Revisión de pastillas | D19: 2 | F19: =+E19*D19 -> 0 | G19: =+E19<=H19 -> TRUE | H19: 69711 | I19: 139422
A20: YAMAHA | B20: 70.000 KM | C20: Revisión de discos | D20: 2 | F20: =+E20*D20 -> 0 | G20: =+E20<=H20 -> TRUE | H20: 69711 | I20: 139422
A21: YAMAHA | B21: 70.000 KM | C21: Verificación sistema eléctrico | D21: 2 | F21: =+E21*D21 -> 0 | G21: =+E21<=H21 -> TRUE | H21: 100726 | I21: 201452
A22: Subtotal 70.000 KM | F22: =SUM(F14:F21) -> 0 | H22: =SUM(H14:H21) -> 1321628 | I22: =SUM(I14:I21) -> 2643256
A24: HERO | B24: 10.000 KM | C24: Cambio de aceite del motor | D24: 2 | F24: =+E24*D24 -> 0 | G24: =+E24<=H24 -> TRUE | H24: 87055 | I24: 174110
A25: HERO | B25: 10.000 KM | C25: Cambio filtro de aceite | D25: 2 | F25: =+E25*D25 -> 0 | G25: =+E25<=H25 -> TRUE | H25: 122572 | I25: 245144
A26: HERO | B26: 10.000 KM | C26: Verificación sistema eléctrico | D26: 2 | F26: =+E26*D26 -> 0 | G26: =+E26<=H26 -> TRUE | H26: 98297 | I26: 196594
A27: HERO | B27: 10.000 KM | C27: Revisión de frenos | D27: 2 | F27: =+E27*D27 -> 0 | G27: =+E27<=H27 -> TRUE | H27: 157086 | I27: 314172
A28: HERO | B28: 10.000 KM | C28: Mantenimiento transmisión | D28: 2 | F28: =+E28*D28 -> 0 | G28: =+E28<=H28 -> TRUE | H28: 244258 | I28: 488516
A29: HERO | B29: 10.000 KM | C29: Revisión general | D29: 2 | F29: =+E29*D29 -> 0 | G29: =+E29<=H29 -> TRUE | H29: 158773 | I29: 317546
A30: Subtotal 10.000 KM | F30: =SUM(F24:F29) -> 0 | H30: =SUM(H24:H29) -> 868041 | I30: =SUM(I24:I29) -> 1736082
A32: HERO | B32: 20.000 KM | C32: Cambio de aceite del motor | D32: 2 | F32: =+E32*D32 -> 0 | G32: =+E32<=H32 -> TRUE | H32: 87055 | I32: 174110
A33: HERO | B33: 20.000 KM | C33: Cambio filtro de aceite | D33: 2 | F33: =+E33*D33 -> 0 | G33: =+E33<=H33 -> TRUE | H33: 122572 | I33: 245144
A34: HERO | B34: 20.000 KM | C34: Calibración de válvulas | D34: 2 | F34: =+E34*D34 -> 0 | G34: =+E34<=H34 -> TRUE | H34: 181086 | I34: 362172
A35: HERO | B35: 20.000 KM | C35: Mantenimiento transmisión | D35: 2 | F35: =+E35*D35 -> 0 | G35: =+E35<=H35 -> TRUE | H35: 244258 | I35: 488516
A36: HERO | B36: 20.000 KM | C36: Mantenimiento Sistema de eléctrico | D36: 2 | F36: =+E36*D36 -> 0 | G36: =+E36<=H36 -> TRUE | H36: 98297 | I36: 196594
A37: HERO | B37: 20.000 KM | C37: Mantenimiento kit de arrastre | D37: 2 | F37: =+E37*D37 -> 0 | G37: =+E37<=H37 -> TRUE | H37: 123650 | I37: 247300
A38: Subtotal 20.000 KM | E38: =SUM(E32:E37) -> 0 | F38: =SUM(F32:F37) -> 0 | H38: =SUM(H32:H37) -> 856918 | I38: =SUM(I32:I37) -> 1713836
A41: TOTALES POR MARCA — MANTENIMIENTO PREVENTIVO (2 MOTOS) | F41: =+F38+F30+F22+F12 -> 0 | I41: =+I38+I30+I22+I12 -> 8265166
C42: YAMAHA — Total Preventivo (2 motos) | I42: =+I12+I22 -> 4815248
C43: HERO — Total Preventivo (2 motos) | I43: =+I30+I38 -> 3449918
C45: TOTAL PRESUPUESTO PREVENTIVO (YAMAHA + HERO) | H45: =+I41 -> 8265166

Sheet 3. Mto. correctivo Vehiculos 
A1: 3. MANTENIMIENTO CORRECTIVO VEHICULOS | I1: ◀ Regresar Pagina Resumen
H2: Valor Techo
A3: MARCA | B3: REPUESTO / ÍTEM | C3: UND | D3: Cantidad | E3: Valor unitario Repuesto y mano de obra | F3: Total | G3: Validador | H3: Valor unitario repuesto y mano de obra
A4: ▶ CHEVROLET
A5: CHEVROLET | B5: ALTERNADOR | C5: UNIDAD | D5: 1 | F5: =+E5*D5 -> 0 | G5: =+E5<=H5 -> TRUE | H5: 2188167
A6: CHEVROLET | B6: AMORTIGUADOR | C6: JUEGO | D6: 1 | F6: =+E6*D6 -> 0 | G6: =+E6<=H6 -> TRUE | H6: 1317515
A7: CHEVROLET | B7: ARRANQUE | C7: UNIDAD | D7: 1 | F7: =+E7*D7 -> 0 | G7: =+E7<=H7 -> TRUE | H7: 1806261
A8: CHEVROLET | B8: BATERIA | C8: UNIDAD | D8: 1 | F8: =+E8*D8 -> 0 | G8: =+E8<=H8 -> TRUE | H8: 953559
A9: CHEVROLET | B9: BOBINA DE ENCENDIDO | C9: UNIDAD | D9: 1 | F9: =+E9*D9 -> 0 | G9: =+E9<=H9 -> TRUE | H9: 1017570
A10: CHEVROLET | B10: BOMBA COMBUSTIBLE | C10: UNIDAD | D10: 1 | F10: =+E10*D10 -> 0 | G10: =+E10<=H10 -> TRUE | H10: 1743871
A11: CHEVROLET | B11: BOMBA DE ACEITE | C11: UNIDAD | D11: 1 | F11: =+E11*D11 -> 0 | G11: =+E11<=H11 -> TRUE | H11: 1827906
A12: CHEVROLET | B12: BOMBA DE AGUA | C12: UNIDAD | D12: 1 | F12: =+E12*D12 -> 0 | G12: =+E12<=H12 -> TRUE | H12: 1182287
A13: CHEVROLET | B13: BOMBILLO | C13: UNIDAD | D13: 1 | F13: =+E13*D13 -> 0 | G13: =+E13<=H13 -> TRUE | H13: 76842
A14: CHEVROLET | B14: BUJE TIJERA | C14: UNIDAD | D14: 1 | F14: =+E14*D14 -> 0 | G14: =+E14<=H14 -> TRUE | H14: 403957
A15: CHEVROLET | B15: BUJIA MOTOR | C15: UNIDAD | D15: 1 | F15: =+E15*D15 -> 0 | G15: =+E15<=H15 -> TRUE | H15: 219386
A16: CHEVROLET | B16: CILINDRO FRENO | C16: UNIDAD | D16: 1 | F16: =+E16*D16 -> 0 | G16: =+E16<=H16 -> TRUE | H16: 512119
... A28: CHEVROLET | B28: PLUMILLAS | C28: JUEGO | D28: 1 | F28: =+E28*D28 -> 0 | G28: =+E28<=H28 -> TRUE | H28: 162004
A29: CHEVROLET | B29: REVISIÓN TÉCNICA MECÁNICA Y EMISIONES | C29: UNIDAD | D29: 1 | E29: 400000 | F29: =+E29*D29 -> 400000 | G29: =+E29<=H29 -> TRUE | H29: 434000
A30: CHEVROLET | B30: RODAMIENTOS | C30: UNIDAD | D30: 1 | F30: =+E30*D30 -> 0 | G30: =+E30<=H30 -> TRUE | H30: 391333
A31: CHEVROLET | B31: TERMOSTATO | C31: UNIDAD | D31: 1 | F31: =+E31*D31 -> 0 | G31: =+E31<=H31 -> TRUE | H31: 532582
A32: CHEVROLET | B32: TIJERA | C32: UNIDAD | D32: 1 | F32: =+E32*D32 -> 0 | G32: =+E32<=H32 -> TRUE | H32: 810556
A33: CHEVROLET | B33: LLANTAS | C33: UNIDAD | D33: 1 | F33: =+E33*D33 -> 0 | G33: =+E33<=H33 -> TRUE | H33: 1173752
A34: SUBTOTAL CHEVROLET | F34: =SUM(F5:F33) -> 400000 | H34: =SUM(H5:H33) -> 32510865
A35: ▶ FORD
A36: FORD | B36: ALTERNADOR | C36: UNIDAD | D36: 1 | F36: =+E36*D36 -> 0 | G36: =+E36<=H36 -> TRUE | H36: 2163504
A37: FORD | B37: AMORTIGUADOR | C37: JUEGO | D37: 1 | F37: =+E37*D37 -> 0 | G37: =+E37<=H37 -> TRUE | H37: 1404471
A38: FORD | B38: ARRANQUE | C38: UNIDAD | D38: 1 | F38: =+E38*D38 -> 0 | G38: =+E38<=H38 -> TRUE | H38: 1966754
A39: FORD | B39: BATERIA | C39: UNIDAD | D39: 1 | F39: =+E39*D39 -> 0 | G39: =+E39<=H39 -> TRUE | H39: 1091325
A40: FORD | B40: BOBINA DE ENCENDIDO | C40: UNIDAD | D40: 1 | F40: =+E40*D40 -> 0 | G40: =+E40<=H40 -> TRUE | H40: 693063
A41: FORD | B41: BOMBA COMBUSTIBLE | C41: UNIDAD | D41: 1 | F41: =+E41*D41 -> 0 | G41: =+E41<=H41 -> TRUE | H41: 1961710
A42: FORD | B42: BOMBA DE ACEITE | C42: UNIDAD | D42: 1 | F42: =+E42*D42 -> 0 | G42: =+E42<=H42 -> TRUE | H42: 3445119
A43: FORD | B43: BOMBA DE AGUA | C43: UNIDAD | D43: 1 | F43: =+E43*D43 -> 0 | G43: =+E43<=H43 -> TRUE | H43: 1533724
A44: FORD | B44: BOMBILLO | C44: UNIDAD | D44: 1 | F44: =+E44*D44 -> 0 | G44: =+E44<=H44 -> TRUE | H44: 86367
A45: FORD | B45: BUJES TIJERA | C45: UNIDAD | D45: 1 | F45: =+E45*D45 -> 0 | G45: =+E45<=H45 -> TRUE | H45: 420724
A46: FORD | B46: BUJIA MOTOR | C46: UNIDAD | D46: 1 | F46: =+E46*D46 -> 0 | G46: =+E46<=H46 -> TRUE | H46: 393889
A47: FORD | B47: CILINDRO FRENO | C47: UNIDAD | D47: 1 | F47: =+E47*D47 -> 0 | G47: =+E47<=H47 -> TRUE | H47: 521626
... A63: FORD | B63: LLANTAS | C63: UNIDAD | D63: 1 | F63: =+E63*D63 -> 0 | G63: =+E63<=H63 -> TRUE | H63: 1233917
A64: SUBTOTAL FORD | F64: =SUM(F36:F63) -> 0 | H64: =SUM(H36:H63) -> 34358502
A65: ▶ HYUNDAI
A66: HYUNDAI | B66: ALTERNADOR | C66: UNIDAD | D66: 1 | F66: =+E66*D66 -> 0 | G66: =+E66<=H66 -> TRUE | H66: 1838808
A67: HYUNDAI | B67: AMORTIGUADOR | C67: JUEGO | D67: 1 | F67: =+E67*D67 -> 0 | G67: =+E67<=H67 -> TRUE | H67: 1368042
A68: HYUNDAI | B68: ARRANQUE | C68: UNIDAD | D68: 1 | F68: =+E68*D68 -> 0 | G68: =+E68<=H68 -> TRUE | H68: 1780587
A69: HYUNDAI | B69: BATERIA | C69: UNIDAD | D69: 1 | F69: =+E69*D69 -> 0 | G69: =+E69<=H69 -> TRUE | H69: 1050096
A70: HYUNDAI | B70: BOBINA DE ENCENDIDO | C70: UNIDAD | D70: 1 | F70: =+E70*D70 -> 0 | G70: =+E70<=H70 -> TRUE | H70: 737999
A71: HYUNDAI | B71: BOMBA COMBUSTIBLE | C71: UNIDAD | D71: 1 | F71: =+E71*D71 -> 0 | G71: =+E71<=H71 -> TRUE | H71: 6424992
A72: HYUNDAI | B72: BOMBA DE ACEITE | C72: UNIDAD | D72: 1 | F72: =+E72*D72 -> 0 | G72: =+E72<=H72 -> TRUE | H72: 2668640
A73: HYUNDAI | B73: BOMBA DE AGUA | C73: UNIDAD | D73: 1 | F73: =+E73*D73 -> 0 | G73: =+E73<=H73 -> TRUE | H73: 1168134
A74: HYUNDAI | B74: BOMBILLO | C74: UNIDAD | D74: 1 | F74: =+E74*D74 -> 0 | G74: =+E74<=H74 -> TRUE | H74: 77707
A75: HYUNDAI | B75: BUJES TIJERA | C75: UNIDAD | D75: 1 | F75: =+E75*D75 -> 0 | G75: =+E75<=H75 -> TRUE | H75: 328426
A76: HYUNDAI | B76: BUJIA MOTOR | C76: UNIDAD | D76: 1 | F76: =+E76*D76 -> 0 | G76: =+E76<=H76 -> TRUE | H76: 253637
A77: HYUNDAI | B77: CILINDRO FRENO | C77: UNIDAD | D77: 1 | F77: =+E77*D77 -> 0 | G77: =+E77<=H77 -> TRUE | H77: 499380
... A94: HYUNDAI | B94: LLANTAS | C94: UNIDAD | D94: 1 | F94: =+E94*D94 -> 0 | G94: =+E94<=H94 -> TRUE | H94: 789667
A95: SUBTOTAL HYUNDAI | F95: =SUM(F66:F94) -> 0 | H95: =SUM(H66:H94) -> 35746802
A96: ▶ DODGE
A97: DODGE | B97: ALTERNADOR | C97: UNIDAD | D97: 1 | F97: =+E97*D97 -> 0 | G97: =+E97<=H97 -> TRUE | H97: 2835289
A98: DODGE | B98: AMORTIGUADOR | C98: JUEGO | D98: 1 | F98: =+E98*D98 -> 0 | G98: =+E98<=H98 -> TRUE | H98: 1625064
A99: DODGE | B99: ARRANQUE | C99: UNIDAD | D99: 1 | F99: =+E99*D99 -> 0 | G99: =+E99<=H99 -> TRUE | H99: 2207338
A100: DODGE | B100: BATERIA | C100: UNIDAD | D100: 1 | F100: =+E100*D100 -> 0 | G100: =+E100<=H100 -> TRUE | H100: 1112529
A101: DODGE | B101: BOBINA DE ENCENDIDO | C101: UNIDAD | D101: 1 | F101: =+E101*D101 -> 0 | G101: =+E101<=H101 -> TRUE | H101: 901195
A102: DODGE | B102: BOMBA COMBUSTIBLE | C102: UNIDAD | D102: 1 | F102: =+E102*D102 -> 0 | G102: =+E102<=H102 -> TRUE | H102: 3068151
A103: DODGE | B103: BOMBA DE ACEITE | C103: UNIDAD | D103: 1 | F103: =+E103*D103 -> 0 | G103: =+E103<=H103 -> TRUE | H103: 2715372
A104: DODGE | B104: BOMBA DE AGUA | C104: UNIDAD | D104: 1 | F104: =+E104*D104 -> 0 | G104: =+E104<=H104 -> TRUE | H104: 2423372
A105: DODGE | B105: BOMBILLO | C105: UNIDAD | D105: 1 | F105: =+E105*D105 -> 0 | G105: =+E105<=H105 -> TRUE | H105: 92580
A106: DODGE | B106: BUJES TIJERA | C106: UNIDAD | D106: 1 | F106: =+E106*D106 -> 0 | G106: =+E106<=H106 -> TRUE | H106: 546623
A107: DODGE | B107: BUJIA MOTOR | C107: UNIDAD | D107: 1 | F107: =+E107*D107 -> 0 | G107: =+E107<=H107 -> TRUE | H107: 250796
A108: DODGE | B108: CILINDRO FRENO | C108: UNIDAD | D108: 1 | F108: =+E108*D108 -> 0 | G108: =+E108<=H108 -> TRUE | H108: 639983
... A123: DODGE | B123: LLANTAS | C123: UNIDAD | D123: 1 | F123: =+E123*D123 -> 0 | G123: =+E123<=H123 -> TRUE | H123: 935944
A124: SUBTOTAL DODGE | F124: =SUM(F97:F123) -> 0 | H124: =SUM(H97:H123) -> 34944390
A125: GRAN TOTAL CORRECTIVO | F125: =+F124+F95+F64+F34 -> 400000 | H125: =+H124+H95+H64+H34 -> 137560559

Sheet 4. Mto. correctivo Motos
A1: 4. MANTENIMIENTO CORRECTIVO MOTOS | I1: ◀ Regresar Pagina Resumen
H2: Valor Techo
A3: MARCA | B3: REPUESTO / ÍTEM | C3: UND | D3: Cantidad | E3: Valor unitario Repuesto y mano de obra | F3: Total | G3: Validador | H3: Valor unitario repuesto y mano de obra
A4: YAMAHA | B4: ACEITE | C4: UNIDAD | D4: 1 | F4: =+E4*D4 -> 0 | G4: =+E4<=H4 -> TRUE | H4: 89141
A5: YAMAHA | B5: AGUJA CARBURADOR | C5: UNIDAD | D5: 1 | F5: =+E5*D5 -> 0 | G5: =+E5<=H5 -> TRUE | H5: 177631
A6: YAMAHA | B6: ALTERNADOR | C6: UNIDAD | D6: 1 | F6: =+E6*D6 -> 0 | G6: =+E6<=H6 -> TRUE | H6: 1087763
A7: YAMAHA | B7: AMORTIGUADOR | C7: UNIDAD | D7: 1 | F7: =+E7*D7 -> 0 | G7: =+E7<=H7 -> TRUE | H7: 578579
A8: YAMAHA | B8: ANILLOS | C8: UNIDAD | D8: 1 | F8: =+E8*D8 -> 0 | G8: =+E8<=H8 -> TRUE | H8: 798270
A9: YAMAHA | B9: ARRANQUE | C9: UNIDAD | D9: 1 | F9: =+E9*D9 -> 0 | G9: =+E9<=H9 -> TRUE | H9: 980794
A10: YAMAHA | B10: AUTOMATICO ARRANQUE | C10: UNIDAD | D10: 1 | F10: =+E10*D10 -> 0 | G10: =+E10<=H10 -> TRUE | H10: 261273
A11: YAMAHA | B11: BALANCIN | C11: UNIDAD | D11: 1 | F11: =+E11*D11 -> 0 | G11: =+E11<=H11 -> TRUE | H11: 329105
A12: YAMAHA | B12: BANDAS FRENO | C12: UNIDAD | D12: 1 | F12: =+E12*D12 -> 0 | G12: =+E12<=H12 -> TRUE | H12: 352882
A13: YAMAHA | B13: BATERIA | C13: UNIDAD | D13: 1 | F13: =+E13*D13 -> 0 | G13: =+E13<=H13 -> TRUE | H13: 544193
A14: YAMAHA | B14: BOBINA | C14: UNIDAD | D14: 1 | F14: =+E14*D14 -> 0 | G14: =+E14<=H14 -> TRUE | H14: 295003
A15: YAMAHA | B15: BOMBA ACEITE | C15: UNIDAD | D15: 1 | F15: =+E15*D15 -> 0 | G15: =+E15<=H15 -> TRUE | H15: 383382
... A102: YAMAHA | B102: DESPINCHADO | C102: UNIDAD | D102: 1 | F102: =+E102*D102 -> 0 | G102: =+E102<=H102 -> TRUE | H102: 62131
A103: TOTAL YAMAHA — CORRECTIVO (CATÁLOGO) | F103: =SUM(F4:F102) -> 0 | H103: =SUM(H4:H102) -> 40754105
A105: HERO | B105: ACEITE | C105: UNIDAD | D105: 1 | F105: =+E105*D105 -> 0 | G105: =+E105<=H105 -> TRUE | H105: 87555
A106: HERO | B106: AGUJA CARBURADOR | C106: UNIDAD | D106: 1 | F106: =+E106*D106 -> 0 | G106: =+E106<=H106 -> TRUE | H106: 139253
A107: HERO | B107: ALTERNADOR | C107: UNIDAD | D107: 1 | F107: =+E107*D107 -> 0 | G107: =+E107<=H107 -> TRUE | H107: 1064013
A108: HERO | B108: AMORTIGUADOR | C108: UNIDAD | D108: 1 | F108: =+E108*D108 -> 0 | G108: =+E108<=H108 -> TRUE | H108: 564999
A109: HERO | B109: ANILLOS | C109: UNIDAD | D109: 1 | F109: =+E109*D109 -> 0 | G109: =+E109<=H109 -> TRUE | H109: 782846
A110: HERO | B110: ARRANQUE | C110: UNIDAD | D110: 1 | F110: =+E110*D110 -> 0 | G110: =+E110<=H110 -> TRUE | H110: 972048
A111: HERO | B111: AUTOMATICO ARRANQUE | C111: UNIDAD | D111: 1 | F111: =+E111*D111 -> 0 | G111: =+E111<=H111 -> TRUE | H111: 258207
A112: HERO | B112: BALANCIN | C112: UNIDAD | D112: 1 | F112: =+E112*D112 -> 0 | G112: =+E112<=H112 -> TRUE | H112: 322699
A113: HERO | B113: BANDAS FRENO | C113: UNIDAD | D113: 1 | F113: =+E113*D113 -> 0 | G113: =+E113<=H113 -> TRUE | H113: 348283
A114: HERO | B114: BATERIA | C114: UNIDAD | D114: 1 | F114: =+E114*D114 -> 0 | G114: =+E114<=H114 -> TRUE | H114: 506849
A115: HERO | B115: BOBINA | C115: UNIDAD | D115: 1 | F115: =+E115*D115 -> 0 | G115: =+E115<=H115 -> TRUE | H115: 259628
A116: HERO | B116: BOMBA ACEITE | C116: UNIDAD | D116: 1 | F116: =+E116*D116 -> 0 | G116: =+E116<=H116 -> TRUE | H116: 376363
... A203: HERO | B203: DESPINCHADO | C203: UNIDAD | D203: 1 | F203: =+E203*D203 -> 0 | G203: =+E203<=H203 -> TRUE | H203: 62089
A204: TOTAL HERO — CORRECTIVO (CATÁLOGO) | F204: =SUM(F105:F203) -> 0 | H204: =SUM(H105:H203) -> 37656663
B207: TOTAL PRESUPUESTO CORRECTIVO (YAMAHA + HERO) | F207: =+F204+F103 -> 0 | H207: =+H204+H103 -> 78410768
