Workbook

Sheet PRESUPUESTO OFICIAL (Entidad)
B1: Formulario 1 - Propuesta económica - Documento tipo de selección abreviada de menor cuantía - versión 1
B2: Versión: 1 del 21 de agosto de 2025
C5: FORMULARIO 1
C6: PRESUPUESTO OFICIAL
C7: [La entidad puede utilizar este formulario de detalle del presupuesto oficial para determinar las condiciones bajo las cuales los proponentes analizarán y presentarán su propuesta económica de forma detallada, sin perjuicio que la entidad pueda modificarlo o establecer la presentación de la oferta económica con un formulario distinto al indicado.]
C9: Adicionalmente, cuando el proceso de contratación es estructurado por precios unitarios, la Entidad debe aplicar las notas 1, 2 y 3 del presente formulario y las casillas de "Descripción", "Porcentaje" de la Administración, Imprevisto, Utilidad y total A.I.U. resaltadas en colo amarillo. Tratándose de otras modalidades de precio, la Entidad puede o no configurar los mismos aspectos.
C10: PROCESO DE SELECCIÓN ABREVIADA No. 076-00-J-EMAVI-GRUAL-2026 CUYO OBEJTO ES: OBRA PÚBLICA PARA EL MANTENIMIENTO Y ADECUACIÓN DE LOS ALOJAMIENTOS DE CADETES DE LA ESCUELA MILITAR DE AVIACIÓN MARCO FIDEL SUÁREZ
C11: PRESUPUESTO OFICIAL $ 1.740.000.000,00
C13: ACTIVIDADES AL GASTO RUBRO A-02-02-02-005-004 SERVICIOS DE CONSTRUCCIÓN $417.600.000,00
C16: Nº | D16: ITEM DE PAGO | E16: ESPECIFICACIONES | G16: DESCRIPCION | H16: UND. | I16: CANTIDAD | J16: VALOR UNITARIO | K16: VALOR TOTAL
E17: GENERAL | F17: PARTICULAR
C18: 1 | D18: PRELIMINARES
C19: 1.01 | D19: 1.01 | E19: 1.01 | F19: 1.01 | G19: DESMONTE DE VIDRIOS Y/O ESPEJOS | H19: m² | I19: 42 | J19: 6056 | K19: =+I19*J19 -> 254352
C20: 1.02 | D20: 1.02 | E20: 1.02 | F20: 1.02 | G20: DESMONTE, RETIRO Y TRANSPORTE A SITIO AUTORIZADO DE ACCESORIOS DEL PUNTO HIDRAULICO EXISTENTE EN EL SITIO A INTERVENINR (GRIFERIAS LAVAMANOS, DUCHAS, GRIFERIA LAVAPLATOS, GRIFERIA LAVADERO, LLAVES TIPO JARDIN Y OTROS), INCLUYE RETIRO DE SOBRANTES | H20: un | I20: 24 | J20: 12765 | K20: =+I20*J20 -> 306360
C21: 1.03 | D21: 1.03 | E21: 1.03 | F21: 1.03 | G21: DESMONTE DE BARANDA METÁLICA | H21: ML | I21: 2 | J21: 13655 | K21: =+I21*J21 -> 27310
C22: 1.04 | D22: 1.04 | E22: 1.04 | F22: 1.04 | G22: DEMOLICIÓN DE POYO DUCHA INCLUYE ACABADOS Y TODOS SUS ACCESORIOS, INCLUYE RETIRO | H22: ML | I22: 40 | J22: 35349 | K22: =+I22*J22 -> 1413960
C23: 1.05 | D23: 1.05 | E23: 1.05 | F23: 1.05 | G23: ESCARIFICACIÓN DE PINTURA EN PAREDES Y ESTRUCTURA DE CONCRETO MENOS DE 1MM, INCLUYE PULIDO Y LIJADO CON DISCO DIAMANTADO | H23: m² | I23: 720 | J23: 2475 | K23: =+I23*J23 -> 1782000
C24: 1.06 | D24: 1.06 | E24: 1.06 | F24: 1.06 | G24: DEMOLICIÓN DE MESÓN EN CONCRETO, INCLUYE RETIRO DE SOBRANTES | H24: ml | I24: 18 | J24: 57391 | K24: =+I24*J24 -> 1033038
C25: 1.07 | D25: 1.07 | E25: 1.07 | F25: 1.07 | G25: DEMOLICIÓN DE MUROS EN BLOQUE / LADRILLO / DRY WALL, DINTELES. INCLUYE RETIRO DEL MATERIAL | H25: m² | I25: 10 | J25: 23458 | K25: =+I25*J25 -> 234580
C26: 1.08 | D26: 1.08 | E26: 1.08 | F26: 1.08 | G26: LOCALIZACIÓN Y REPLANTEO EDIFICIO/MANTENIMIENTO/OBRA | H26: m² | I26: 850 | J26: 4907 | K26: =+I26*J26 -> 4170950
C27: 1.09 | D27: 1.09 | E27: 1.09 | F27: 1.09 | G27: DESMONTE DE PUERTAS METÁLICAS INCLUYE HOJA, MARCO Y TODOS SUS ACCESORIOS, INCLUYE RETIRO | H27: m² | I27: 6 | J27: 22627 | K27: =+I27*J27 -> 135762
C28: 1.1 | D28: 1.1 | E28: 1.1 | F28: 1.1 | G28: CERRAMIENTO EN POLISOMBRA H= 2,00 MTS | H28: ml | I28: 176 | J28: 21487 | K28: =+I28*J28 -> 3781712
C29: 1.11 | D29: 1.11 | E29: 1.11 | F29: 1.11 | G29: DESMONTE DE VENTANERIA, INCLUYE VIDRIO Y ANGEOS | H29: m² | I29: 35 | J29: 11224 | K29: =+I29*J29 -> 392840
C30: 1.12 | D30: 1.12 | E30: 1.12 | F30: 1.12 | G30: RETIRO DE GRANIPLAST EN FACHADA (INCLUYE FILOS Y DILATACIONES) | H30: m² | I30: 60 | J30: 12169 | K30: =+I30*J30 -> 730140
... C37: 1.19 | D37: 1.19 | E37: 1.19 | F37: 1.19 | G37: LIMPIEZA DE CANALES, INCLUYE RETIRO Y DISPOSICIÓN FINAL DE RESIDUOS | H37: ml | I37: 1 | J37: 3440 | K37: =+I37*J37 -> 3440
C38: Subtotal | K38: =+SUM(K19:K37) -> 72362493
C40: 2 | D40: MOVIMIENTO DE TIERRAS
C41: 2.01 | D41: 2.01 | E41: 2.01 | F41: 2.01 | G41: DEMOLICIÓN ANDÉN ESPESOR HASTA 25 CM, INCLUYE RETIRO | H41: m² | I41: 12 | J41: 44676 | K41: =+I41*J41 -> 536112
C42: 2.02 | D42: 2.02 | E42: 2.02 | F42: 2.02 | G42: EXCAVACION MANUAL EN TERRENO CONSISTENTE, INCLUYE CARGUE, RETIRO Y DISPOSICION FINAL DE EXCAVACION | H42: m³ | I42: 22 | J42: 105913 | K42: =+I42*J42 -> 2330086
C43: 2.03 | D43: 2.03 | E43: 2.03 | F43: 2.03 | G43: DEMOLICIÓN ANDÉN ESPESOR HASTA 10 CM, INCLUYE RETIRO | H43: m² | I43: 6 | J43: 22976 | K43: =+I43*J43 -> 137856
C44: Subtotal | K44: =+SUM(K41:K43) -> 3004054
C45: 11 | D45: ACABADOS DE MUROS, PINTURAS Y/O ENCHAPES
C46: 11.01 | D46: 11.01 | E46: 11.01 | F46: 11.01 | G46: ESTUCO Y VINILO TIPO-1, 3 MANOS (INCLUYE FILOS Y DILATACIÓNES) | H46: m² | I46: 1699.3732 | J46: 40218 | K46: =+ROUND(I46*J46,2) -> 68345392
C47: 11.02 | D47: 11.02 | E47: 11.02 | F47: 11.02 | G47: GRANIPLAST ESGRAFIADO FACHADA | H47: m² | I47: 117 | J47: 134454 | K47: =+I47*J47 -> 15731118
C48: 11.03 | D48: 11.03 | E48: 11.03 | F48: 11.03 | G48: ESTUCO Y PINTURA KORAZA (INCLUYE ESTUCO, FILOS Y DILATACIONES) | H48: m² | I48: 645 | J48: 44792 | K48: =+I48*J48 -> 28890840
C49: Subtotal | K49: =+SUM(K46:K48) -> 1.1296735e+08
C50: 13 | D50: ASEO Y RETIRO DE ESCOMBROS
C51: 13.01 | D51: 13.01 | E51: 13.01 | F51: 13.01 | G51: LAMINA METÁLICA EN ACERO GALVANIZADO CAL. 16 MICRO PERFORADA (PERFORACIÓN Y TONO SEGÚN DISEÑO), ACABADO CON PINTURA ELECTROSTÁTICA, INCLUYE ESTRUCTURA DE SOPORTE, ANCLAJE Y TODOS LOS ELEMENTOS PARA SU INSTALACIÓN, EN FACHADA | H51: m² | I51: 110 | J51: 778998 | K51: =+I51*J51 -> 85689780
C52: 13.02 | D52: 13.02 | E52: 13.02 | F52: 13.02 | G52: MANTENIMIENTO DE PUERTA METALICA, CONSISTENTE EN LIMPIEZA, LIJADO, REMOCION DE OXIDO, APLICACIÓN DE ANTICORROSIVO Y PINTURA ESMALTE PARA EXTERIORES A DOS MANOS | H52: m² | I52: 276 | J52: 49324 | K52: =+I52*J52 -> 13613424
C53: 13.03 | D53: 13.03 | E53: 13.03 | F53: 13.03 | G53: MANTENIMIENTO DE COMODA METALICA, PINTURA ESMALTE 2 MANOS INCLUYE CAMBIO DE RIELES, RODAMIENTOS, MANIJAS, CERRADURAS, BISAGRAS, TARJETERO | H53: m² | I53: 210 | J53: 534279 | K53: =+I53*J53 -> 112198590
...

Sheet PROPUESTA ECONOMICA(Proponente)
B1: Formulario 1 - Propuesta económica - Documento tipo de selección abreviada de menor cuantía - versión 1
B2: Versión: 1 del 21 de agosto de 2025
C5: FORMULARIO 1
C6: PROPUESTA ECONOMICA
C7: [La entidad puede utilizar este formulario de presentación de propuesta económica de forma detallada, sin perjuicio que la entidad pueda modificarlo o establecer la presentación de la oferta económica con un formulario distinto al indicado.] [Los proponentes emplearán el formulario establecido por la entidad para determinar su propuesta económica conforme al Formulario 1 - Presupuesto Oficial publicado por la Entidad] [En caso de modificar el formulario, es importante tener en cuenta que no se deben incluir causales de rechazo, reglas o parámetros contrarios a los definidos en el documento base. Los términos del proceso solo se encuentran en el Documento Base, por lo que la Entidad no deberá incluir ningún tipo de notas que se configuren en reglas contrarias a las definidas en dicho documento, las notas únicamente pueden ser aclaratorias para efectos del diligenciamiento del formato]
C9: Cuando el proceso de contratación es estructurado por precios unitarios, la Entidad debe aplicar las notas 1, 2 y 3 del presente formato y las casillas de "Descripción", "Porcentaje" de la Administración, Imprevisto, Utilidad y total A.I.U. resaltadas en color amarillo.
C10: =+'PRESUPUESTO OFICIAL (Entidad)'!C10 -> PROCESO DE SELECCIÓN ABREVIADA No. 076-00-J-EMAVI-GRUAL-2026 CUYO OBEJTO ES: OBRA PÚBLICA PARA EL MANTENIMIENTO Y ADECUACIÓN DE LOS ALOJAMIENTOS DE CADETES DE LA ESCUELA MILITAR DE AVIACIÓN MARCO FIDEL SUÁREZ
C13: =+'PRESUPUESTO OFICIAL (Entidad)'!C13 -> ACTIVIDADES AL GASTO RUBRO A-02-02-02-005-004 SERVICIOS DE CONSTRUCCIÓN $417.600.000,00
C16: Nº | D16: ITEM DE PAGO | E16: ESPECIFICACIONES | G16: DESCRIPCION | H16: UND. | I16: CANTIDAD | J16: VALOR UNITARIO | K16: VALOR TOTAL
E17: GENERAL | F17: PARTICULAR
C18: 1 | D18: PRELIMINARES
C19: 1.01 | D19: 1.01 | E19: 1.01 | F19: 1.01 | G19: DESMONTE DE VIDRIOS Y/O ESPEJOS | H19: m² | I19: 42 | K19: =I19*J19 -> 0
C20: 1.02 | D20: 1.02 | E20: 1.02 | F20: 1.02 | G20: DESMONTE, RETIRO Y TRANSPORTE A SITIO AUTORIZADO DE ACCESORIOS DEL PUNTO HIDRAULICO EXISTENTE EN EL SITIO A INTERVENINR (GRIFERIAS LAVAMANOS, DUCHAS, GRIFERIA LAVAPLATOS, GRIFERIA LAVADERO, LLAVES TIPO JARDIN Y OTROS), INCLUYE RETIRO DE SOBRANTES | H20: un | I20: 24 | K20: =I20*J20 -> 0
C21: 1.03 | D21: 1.03 | E21: 1.03 | F21: 1.03 | G21: DESMONTE DE BARANDA METÁLICA | H21: ML | I21: 2 | K21: =I21*J21 -> 0
C22: 1.04 | D22: 1.04 | E22: 1.04 | F22: 1.04 | G22: DEMOLICIÓN DE POYO DUCHA INCLUYE ACABADOS Y TODOS SUS ACCESORIOS, INCLUYE RETIRO | H22: ML | I22: 40 | K22: =I22*J22 -> 0
C23: 1.05 | D23: 1.05 | E23: 1.05 | F23: 1.05 | G23: ESCARIFICACIÓN DE PINTURA EN PAREDES Y ESTRUCTURA DE CONCRETO MENOS DE 1MM, INCLUYE PULIDO Y LIJADO CON DISCO DIAMANTADO | H23: m² | I23: 720 | K23: =I23*J23 -> 0
C24: 1.06 | D24: 1.06 | E24: 1.06 | F24: 1.06 | G24: DEMOLICIÓN DE MESÓN EN CONCRETO, INCLUYE RETIRO DE SOBRANTES | H24: ml | I24: 18 | K24: =I24*J24 -> 0
C25: 1.07 | D25: 1.07 | E25: 1.07 | F25: 1.07 | G25: DEMOLICIÓN DE MUROS EN BLOQUE / LADRILLO / DRY WALL, DINTELES. INCLUYE RETIRO DEL MATERIAL | H25: m² | I25: 10 | K25: =I25*J25 -> 0
C26: 1.08 | D26: 1.08 | E26: 1.08 | F26: 1.08 | G26: LOCALIZACIÓN Y REPLANTEO EDIFICIO/MANTENIMIENTO/OBRA | H26: m² | I26: 850 | K26: =I26*J26 -> 0
C27: 1.09 | D27: 1.09 | E27: 1.09 | F27: 1.09 | G27: DESMONTE DE PUERTAS METÁLICAS INCLUYE HOJA, MARCO Y TODOS SUS ACCESORIOS, INCLUYE RETIRO | H27: m² | I27: 6 | K27: =I27*J27 -> 0
C28: 1.1 | D28: 1.1 | E28: 1.1 | F28: 1.1 | G28: CERRAMIENTO EN POLISOMBRA H= 2,00 MTS | H28: ml | I28: 176 | K28: =I28*J28 -> 0
C29: 1.11 | D29: 1.11 | E29: 1.11 | F29: 1.11 | G29: DESMONTE DE VENTANERIA, INCLUYE VIDRIO Y ANGEOS | H29: m² | I29: 35 | K29: =I29*J29 -> 0
C30: 1.12 | D30: 1.12 | E30: 1.12 | F30: 1.12 | G30: RETIRO DE GRANIPLAST EN FACHADA (INCLUYE FILOS Y DILATACIONES) | H30: m² | I30: 60 | K30: =I30*J30 -> 0
... C37: 1.19 | D37: 1.19 | E37: 1.19 | F37: 1.19 | G37: LIMPIEZA DE CANALES, INCLUYE RETIRO Y DISPOSICIÓN FINAL DE RESIDUOS | H37: ml | I37: 1 | K37: =I37*J37 -> 0
C38: Subtotal | K38: =+SUM(K19:K37) -> 0
C40: 2 | D40: MOVIMIENTO DE TIERRAS
C41: 2.01 | D41: 2.01 | E41: 2.01 | F41: 2.01 | G41: DEMOLICIÓN ANDÉN ESPESOR HASTA 25 CM, INCLUYE RETIRO | H41: m² | I41: 12 | K41: =I41*J41 -> 0
C42: 2.02 | D42: 2.02 | E42: 2.02 | F42: 2.02 | G42: EXCAVACION MANUAL EN TERRENO CONSISTENTE, INCLUYE CARGUE, RETIRO Y DISPOSICION FINAL DE EXCAVACION | H42: m³ | I42: 22 | K42: =I42*J42 -> 0
C43: 2.03 | D43: 2.03 | E43: 2.03 | F43: 2.03 | G43: DEMOLICIÓN ANDÉN ESPESOR HASTA 10 CM, INCLUYE RETIRO | H43: m² | I43: 6 | K43: =I43*J43 -> 0
C44: Subtotal | K44: =+SUM(K41:K43) -> 0
C45: 11 | D45: ACABADOS DE MUROS, PINTURAS Y/O ENCHAPES
C46: 11.01 | D46: 11.01 | E46: 11.01 | F46: 11.01 | G46: ESTUCO Y VINILO TIPO-1, 3 MANOS (INCLUYE FILOS Y DILATACIÓNES) | H46: m² | I46: 1699.3732 | K46: =I46*J46 -> 0
C47: 11.02 | D47: 11.02 | E47: 11.02 | F47: 11.02 | G47: GRANIPLAST ESGRAFIADO FACHADA | H47: m² | I47: 117 | K47: =I47*J47 -> 0
C48: 11.03 | D48: 11.03 | E48: 11.03 | F48: 11.03 | G48: ESTUCO Y PINTURA KORAZA (INCLUYE ESTUCO, FILOS Y DILATACIONES) | H48: m² | I48: 645 | K48: =I48*J48 -> 0
C49: Subtotal | K49: =+SUM(K46:K48) -> 0
C50: 13 | D50: ASEO Y RETIRO DE ESCOMBROS
C51: 13.01 | D51: 13.01 | E51: 13.01 | F51: 13.01 | G51: LAMINA METÁLICA EN ACERO GALVANIZADO CAL. 16 MICRO PERFORADA (PERFORACIÓN Y TONO SEGÚN DISEÑO), ACABADO CON PINTURA ELECTROSTÁTICA, INCLUYE ESTRUCTURA DE SOPORTE, ANCLAJE Y TODOS LOS ELEMENTOS PARA SU INSTALACIÓN, EN FACHADA | H51: m² | I51: 110 | K51: =I51*J51 -> 0
C52: 13.02 | D52: 13.02 | E52: 13.02 | F52: 13.02 | G52: MANTENIMIENTO DE PUERTA METALICA, CONSISTENTE EN LIMPIEZA, LIJADO, REMOCION DE OXIDO, APLICACIÓN DE ANTICORROSIVO Y PINTURA ESMALTE PARA EXTERIORES A DOS MANOS | H52: m² | I52: 276 | K52: =I52*J52 -> 0
C53: 13.03 | D53: 13.03 | E53: 13.03 | F53: 13.03 | G53: MANTENIMIENTO DE COMODA METALICA, PINTURA ESMALTE 2 MANOS INCLUYE CAMBIO DE RIELES, RODAMIENTOS, MANIJAS, CERRADURAS, BISAGRAS, TARJETERO | H53: m² | I53: 210 | K53: =I53*J53 -> 0
C54: Subtotal | K54: =+SUM(K51:K53) -> 0
...

Sheet AIU
A1: ADMINISTRACION, IMPREVISTOS Y UTILIDADES (A.I.U.)
C3: =+'PRESUPUESTO OFICIAL (Entidad)'!C10 -> PROCESO DE SELECCIÓN ABREVIADA No. 076-00-J-EMAVI-GRUAL-2026 CUYO OBEJTO ES: OBRA PÚBLICA PARA EL MANTENIMIENTO Y ADECUACIÓN DE LOS ALOJAMIENTOS DE CADETES DE LA ESCUELA MILITAR DE AVIACIÓN MARCO FIDEL SUÁREZ
A5: COSTO DIRECTO OBRA CIVIL | D5: 1.4421881e+09 | F5: TIEMPO DE EJECUCIÓN EN MESES | H5: 1.75
F6: IVA | H6: 0.19
F7: FECHA: | H7: 46275
A9: COSTO DEL PERSONAL ADMINISTRATIVO DE LA OBRA + PRESTACIONES SOCIALES 2025
A10: PROFESIONAL | C10: CATEGORIA | D10: CANTIDAD | E10: SALARIO | F10: MESES | G10: DEDICACIÓN / MES | H10: VALOR TOTAL
A11: PERSONAL PROFESIONAL
A12: RESIDENTE DE OBRA - ARQUITECTO | C12: RESIDENTE PERFIL 3 | D12: 1 | E12: 11136710 | F12: =+H5 -> 1.75 | G12: 1 | H12: =IFERROR(D12*E12*F12*G12," ") -> 19489243
A13: RESIDENTE ADMINISTRATIVO - INGENIERO CIVIL | C13: RESIDENTE PERFIL 3 | D13: 1 | E13: 11136710 | F13: =+H5 -> 1.75 | G13: 1 | H13: =IFERROR(D13*E13*F13*G13," ") -> 19489243
A14: GESTOR SISO | C14: PROFESIONAL PERFIL 1 | D14: 1 | E14: 8659035 | F14: =+H5 -> 1.75 | G14: 1 | H14: =IFERROR(D14*E14*F14*G14," ") -> 15153311
H15: =IFERROR(D15*E15*F15*G15," ") -> 0
H16: =IFERROR(D16*E16*F16*G16," ") -> 0
A17: TOTAL SALARIOS | H17: =SUM(H12:H16) -> 54131797 | J17: =+H17*2/3 -> 36087865 | K17: =+H17 -> 54131797
A19: IMPUESTOS OBRA CIVIL
E20: CONTRIBUCIÓN ESPECIAL (ART. 6. LEY 1106/2006, VIGENTE PERMANENTEMENTE POR EL PARÁGRAFO DEL ART. 8, LEY 1738/2014) | F20: =D5+I69 -> 1.7249692e+09 | G20: 0.05 | H20: =F20*G20 -> 86248460
E21: ESTAMPILLA UNIVERSIDAD NACIONAL (1697 DEL 2013) | F21: =F20 -> 1.7249692e+09 | G21: 0.005 | H21: =F21*G21 -> 8624846
E22: I.C.A. OBRA | F22: =+F21 -> 1.7249692e+09 | G22: 7,12X1000 | H22: =F22*7.12/1000 -> 12281781
E23: IMPUESTO FIC | F23: =+F22 -> 1.7249692e+09 | G23: 0.0025 | H23: =G23*F23 -> 4312423
A24: IMPUESTOS EQUIPOS
A25: I.C.A. EQUIPOS | G25: 11,04X1000 | H25: =E25*11.04/1000 -> 0
A26: TOTAL GASTOS IMPUESTOS | H26: =SUM(H20:H25) -> 1.1146751e+08 | J26: =+H26 -> 1.1146751e+08 | K26: =+H26 -> 1.1146751e+08
A28: GASTOS GENERALES
A29: DESCRIPCION | E29: UNIDAD | F29: VALOR UNITARIO | G29: CANTIDAD | H29: VALOR TOTAL
A30: COSTO MENSUAL DE SERVICIOS PUBLICOS
A31: SERVICIO DE INTERNET / CELULAR | E31: Ms | F31: 75000 | G31: =+H5 -> 1.75 | H31: =F31*G31 -> 131250
A32: TOTAL GASTOS GENERALES | H32: =+SUM(H31:H31) -> 131250 | J32: =+H32*2/3 -> 87500 | K32: =+H32 -> 131250
B34: COSTOS DE LEGALIZACIÓN DE CONTRATO / POLIZAS
A35: ITEM | G35: % | H35: VALOR TOTAL
A36: CUMPLIMIENTO DEL CONTRATO | G36: 0.3 | H36: 501584
A37: SALARIOS Y PRESTACIONES SOCIALES | G37: 0.1 | H37: 1361752
A38: ESTABILIDAD DE OBRA | G38: 0.5 | H38: 4215441
A39: CALIDAD Y CORRECTO FUNCIONAMIENTO DE LOS EQUIPOS | H39: 0
A40: GASTOS DE EXPEDICION | H40: 7000
A41: IVA 19% | H41: =+SUM(H36:H40)*0.19 -> 1156297.6
A42: ITEM | G42: SUBTOTAL | H42: =+SUM(H36:H41) -> 7242074.6 | J42: =+H42 -> 7242074.6 | K42: =+H42 -> 7242074.6
A43: RESPONSABILIDAD CIVIL | C43: 200SMLV. | H43: 175463
A44: GASTOS DE EXPEDICION | H44: 7000
A45: IVA 19% | H45: 34668
G46: SUBTOTAL | H46: =+SUM(H43:H45) -> 217131 | J46: =+H46 -> 217131 | K46: =+H46 -> 217131
...

Sheet APU ALOJAMIENTOS
G4: Capitulo | J4: 01 PRELIMINARES
A5: OBRA PÚBLICA PARA EL MANTENIMIENTO Y ADECUACIÓN DE LOS ALOJAMIENTOS DE CADETES DE LA ESCUELA MILITAR DE AVIACIÓN MARCO FIDEL SUÁREZ | G5: Actividad | J5: 01.01 DESMONTE DE VIDRIOS Y/O ESPEJOS
G6: U.M. | J6: m²
A8: 1 | C8: Materiales
A10: Descripción | F10: U.M. | K10: Vr. Unitario | M10: Cantidad | O10: Vr. Parcial
A11: LONA PARA ESCOMBRO- POLIPROPILENO | F11: Unidad | K11: 1,500 | M11: 0.38 | O11: 570
L12: Total | M12: Materiales | O12: 570
A13: 2 | C13: Equipo
A15: Descripción | F15: U.M. | K15: Vr. Unitario | M15: Cantidad | O15: Vr. Parcial
A16: HERRAMIENTA MENOR | F16: Porcentaje | K16: 3,275 | M16: 5.00 | O16: 164
L17: Total | M17: Equipo | O17: 164
A18: 3 | C18: Mano de Obra
A20: Descripción | F20: U.M. | K20: Vr. Unitario | M20: Cantidad | O20: Vr. Parcial
A21: AYUDANTE ALBAÑILERIA (A) | F21: Hora Hombre | K21: 13,644 | M21: 0.24 | O21: 3,275
L22: Total | M22: Mano de Obra | O22: 3,275
A23: 4 | C23: Transporte
A25: Descripción | F25: U.M. | K25: Vr. Unitario | M25: Cantidad | O25: Vr. Parcial
A26: RETIRO DE SOBRANTES EN VOLQUETA | F26: Metro Cubico | K26: 35,000 | M26: 0.03 | O26: 1,050
L27: Total | M27: Transporte | O27: 1,050
I29: Total Costos Directos Actividad: | N29: 5059
I30: Costo total con AIU | N30: =+ROUND(N29*(1+AIU!$G$69),0) -> 6056
G34: Capitulo | J34: 01 PRELIMINARES
A35: OBRA PÚBLICA PARA EL MANTENIMIENTO Y ADECUACIÓN DE LOS ALOJAMIENTOS DE CADETES DE LA ESCUELA MILITAR DE AVIACIÓN MARCO FIDEL SUÁREZ | G35: Actividad | J35: 01.02 DESMONTE, RETIRO Y TRANSPORTE A SITIO AUTORIZADO DE ACCESORIOS DEL PUNTO HIDRAULICO EXISTENTE EN EL SITIO A INTERVENINR (GRIFERIAS LAVAMANOS, DUCHAS, GRIFERIA LAVAPLATOS, GRIFERIA LAVADERO, LLAVES TIPO JARDIN Y OTROS), INCLUYE RETIRO DE SOBRANTES
G36: U.M. | J36: un
A38: 1 | C38: Materiales
A40: Descripción | F40: U.M. | K40: Vr. Unitario | M40: Cantidad | O40: Vr. Parcial
F41: Hora Hombre | O41: 0
L42: Total | M42: Materiales | O42: 0
A43: 2 | C43: Equipo
A45: Descripción | F45: U.M. | K45: Vr. Unitario | M45: Cantidad | O45: Vr. Parcial
A46: HERRAMIENTA MENOR | F46: Porcentaje | K46: 6,823 | M46: 5.00 | O46: 341
L47: Total | M47: Equipo | O47: 341
A48: 3 | C48: Mano de Obra
A50: Descripción | F50: U.M. | K50: Vr. Unitario | M50: Cantidad | O50: Vr. Parcial
A51: CUADRILLA ALBAÑILERIA (2 AYUDANTES) | F51: Hora Hombre | K51: 27,290 | M51: 0.25 | O51: 6,823
L52: Total | M52: Mano de Obra | O52: 6,823
A53: 4 | C53: Transporte
A55: Descripción | F55: U.M. | K55: Vr. Unitario | M55: Cantidad | O55: Vr. Parcial
A56: RETIRO DE SOBRANTES EN VOLQUETA | F56: Metro Cubico | K56: 35,000 | M56: 0.10 | O56: 3,500
L57: Total | M57: Transporte | O57: 3,500
...
