Workbook

Sheet GRUPO 1. TR DAÑOS MATERIALES
A1: ANEXO Nº 1 (ESPECIFICACIONES TECNICAS SEGURO DE TODO RIESGOS DAÑO MATERIALES)
A2: TOMADOR: | B2: DISTRITO TURISTICO Y CULTURAL DE CARTAGENA DE INDIAS
A3: ASEGURADO: | B3: =B2 -> DISTRITO TURISTICO Y CULTURAL DE CARTAGENA DE INDIAS
A4: BENEFICIARIO: | B4: =B3 -> DISTRITO TURISTICO Y CULTURAL DE CARTAGENA DE INDIAS
A5: NIT: | B5: 890.480.184-4
A6: RAMO | B6: TODO RIESGO DAÑOS MATERIALES
A7: INTERMEDIARIO: | B7: GONSEGUROS CORREDORES DE SEGUROS S.A
A8: VIGENCIA: | B8: DESDE LAS 00:00 HORAS DEL 29 DE OCTUBRE DEL 2026 HASTA LAS 24:00 HORAS DEL 16 DE MAYO DEL 2027
A9: CONDICIONES TÉCNICAS BÁSICAS OBLIGATORIAS
A10: BIENES ASEGURADOS | B10: VALOR ASEGURABLE | D10: VALOR ASEGURADO
A12: EDIFICIOS Y CONTENIDOS EN GENERAL: Edificios y contenidos en general: Toda clase de bienes e inmuebles, muebles enseres, herramienta, maquinaria, equipo, mercancias propias, insumos, dinero en efectivo y demas bienes aunque no se hayan determinado especificamente de propiedad del asegurado o por los que sea responsable ubicados dentro o fuera de los predios asegurados (incluye suelos y terrenos ,casetas, cerramientos, Incluida la norma de , Retie y Retilap, avisos). | B12: =(42654705517*1.04)+12488511139.98+1844844595.36+604823097958.8 -> 6.6351735e+11 | D12: =+B12 -> 6.6351735e+11
A13: EMBARCADERO - PLAYA BLANCA | B13: 5301312931 | D13: =+B13 -> 5301312931
A14: TERRENOS | B14: 280394634800 | D14: =+B14 -> 280394634800
A15: EQUIPOS ELECTRONICOS: (equipos de comuniciacion, y similares, equipos de computo fijos y portatiles y similares aunque no se especifiquen, incluye equipos en comodatos de terceros al ENTIDAD y del ENTIDAD a terceros). (incluidos equipos móviles y portátiles, licencias y software) | B15: =20984326989.6*1.04 -> 2.18237e+10 | D15: =+B15 -> 2.18237e+10
A16: BIOLOGICOS Y/O VACUNAS | B16: =12903955187*1.04 -> 1.3420113e+10 | D16: =+B16 -> 1.3420113e+10
A17: BIENES EN REPOSO (VEHICULOS SIN USO) | B17: 700000000 | D17: =+B17 -> 700000000
A18: ADECUACIÓN DE CONSTRUCCIONES A LAS NORMAS DE SISMO RESISTENCIA | B18: =B12*5% -> 3.3175867e+10 | D18: =+B18 -> 3.3175867e+10
A19: ADECUACIÓN DE TERRENOS | B19: =B12*5% -> 3.3175867e+10 | D19: =+B19 -> 3.3175867e+10
A20: Totales | B20: =SUM(B12:B19) -> 1.0515088e+12 | D20: =SUM(D12:D19) -> 1.0515088e+12
A21: Total Indice Variable (4%) | B21: =SUM(B12:B15)*4% -> 3.884148e+10 | D21: =SUM(D12:D15)*4% -> 3.884148e+10
A22: TOTAL | B22: =+B20+B21 -> 1.0903503e+12 | D22: =+D20+D21 -> 1.0903503e+12
A23: OBJETO DEL SEGURO | B23: Amparar todos los activos (bienes inmuebles y muebles) de propiedad de la ENTIDAD o aquellos que se encuentren bajo su control, tenencia, responsabilidad o custodia, contra los daños o pérdidas materiales a consecuencia de cualquier riesgo, tanto por eventos internos o externos y en general los recibidos a cualquier título o por los que tenga algún interés asegurable, ubicados en el territorio nacional o por aquellos que por su naturaleza se deban trasladar a nivel mundial, dentro o fuera de las instalaciones del asegurado y/o en predios de terceros o a la intemperie y los utilizados en desarrollo del objeto social de la ENTIDAD.
A24: COBERTURA OBLIGATORIA
A25: MODALIDAD DE LA POLIZA: TODO RIESGO PERDIDA Y/O DAÑO MATERIAL CON EXCLUSIONES La aseguradora se obliga a indemnizar al asegurado los daños y/o pérdidas que sufran los intereses asegurados, así como los costos y/o gastos en que incurra, o todos combinados, como consecuencia de los riesgos que a continuación se enuncian y sujeto a los riesgos excluidos: Todo riesgo para las pérdidas y/o daños materiales que sufran los intereses asegurados por cualquier riesgo y/o causas, incluidos, pero no limitados a: Incendio, explosión, anegación, daños por agua; extended coverage; daños a calderas o aparatos generadores de vapor, huelga, asonada, motín, conmoción civil o popular, actos malintencionados de terceros, incluidos sabotaje y los actos terroristas, cometidos o no por movimientos subversivos (tomas a poblaciones, municipios y ciudades y los actos de la autoridad para repelerlos; también se amparan las pérdidas materiales que sufran los bienes asegurados causados directa o indirectamente por cohetes, misiles o similares); terremoto, temblor y/o erupción volcánica, maremoto, tsunami, y/o eventos de la naturaleza tales como ciclón, huracán, tempestad, vientos, inundación, desbordamiento, alza en el nivel de aguas y enfangamiento, hundimiento, deslizamiento del terreno, derrumbes, ludes, desprendimiento de tierra y rocas, y las pérdidas y/o daños consecuenciales originados por tales fenómenos los cuales sean consecuencia de un hecho súbito, accidental e imprevisto cubiertos en la póliza ; daño interno de equipos eléctricos y electrónicos: coberturas de todo riesgo daño material por rotura de maquinaria y equipos eléctricos y electrónicos (explosión física o química interna, caída directa de rayo, rotura debido a fuerza centrifuga, cuerpo extraños, acción directa de la energía eléctrica y/o rayo, impericia, descuido, negligencia; sabotaje individual; error de diseño, defecto de mano de obra, falta de agua en aparatos generadores de vapor, otros accidentes ocurridos a los equipos por causas no expresamente excluidas en la póliza); rotura de vidrios, sustracción con violencia y sustracción sin violencia, y demás amparos y/o cobertura que no se encuentren expresamente excluidas. se amparan los hundimientos, desplazamientos, agrietamientos o asentamientos de cimientos, muros, pisos, techos y pavimentos, vibraciones o movimientos naturales del suelo, siempre y cuando sean consecuencia de un hecho accidental, súbito e imprevisto cubierto en la póliza La cobertura de Hurto simple y calificado se extiende a amparar los equipos moviles y portatiles , kit de emergencias, herramientas, equipos y similares dentro y/o fuera de los predios del asegurado y en aquellos donde ejerza su actividad y cuando estan siendo transportados en vehiculos del asegurado, de sus empleados y/o de terceros contratistas y/o subcontratistas del mismo.
A26: BIENES ASEGURADOS (INTERES ASEGURABLE) OBLIGATORIA
A27: Todos los bienes de propiedad real o personal del ASEGURADO, o en los que tuviere interés asegurable , o los recibidos a cualquier titulo, los tomados en arriendo, los recibidos en dación de pagos o los recibidos a cualquier titulo, comodato, los de terceros o aquellos por los cuales sea o pueda llegar a ser responsable, que se encuentren bajo su cuidado, control y custodia, utilizados en el desarrollo del objeto social del asegurado, consistentes principalmente en, pero no limitados a : edificios, estructuras, cimientos, muros de contención, cercas, escaleras externas, vidrios planos, patios, avisos, torres, toldos, techos, estacionamientos, vías de acceso, otras construcciones separadas de las edificaciones, instalaciones subterráneas, instalaciones eléctricas, de cableado estructural, de aires acondicionados, electrónicas, de comunicación, para conducción de gas sean o no subterráneas, tuberías. conductos, desagües, y en general todo tipo de instalación y equipos que se encuentren por debajo del nivel del suelo, instalaciones fijas de protección contra incendio, instalaciones eléctricas, alarmas, cámaras y circuitos cerrados de televisión, maquinaria, equipos, herramientas, ascensores, subestaciones y /o plantas eléctricas, motores, transformadores, muebles e inmuebles de todo tipo y descripción. enseres, equipos de construcción, equipos de oficina, de procesamiento de datos, equipos de comunicación, de audiovisuales, de sistemas, de laboratorios, equipos de hospitalización, equipos de apoyo, equipos de diagnostico, equipos de apoyo terapéutico, equipos médicos y científicos, instrumental médico mejoras locativas (acabados y obras realizadas en el edificio, mercancías, repuestos, insumos, armas de fuego, equipos móviles y portátiles, vehículos inmovilizados ( en reposo), dinero en efectivo, medallas, plata labrada, obras de arte, estatuas, frescos, colecciones, y muebles que tengan valor artístico, científico e histórico, manuscritos, planos, croquis, patrones, sellos, monedas, libros de comercio, títulos valores y billetes de bancos, instrumentos musicales, equipos de sonidos, bienes que por su naturaleza deben permanecer a la intemperie televisores, equipos de video, cámaras fotográficas, electrodomésticos, equipos para el manejo y movilización de materiales, camillas, papelería, mercancìas azarosas necesarias para el normal funcionamiento del establecimiento y demás bienes que aunque no hayan sido mencionados específicamente se encuentren localizados dentro o fuera de los predios asegurados y/o donde el asegurado desarrolle su actividad dentro del territorio de la republica de Colombia, incluidos predios y bienes con valor histórico o declarados como patrimonio nacional.
A28: DIRECCION UBICACIÓN RIESGOS | B28: DIRECCION PRINCIPAL Centro Plaza de la Aduana Diagonal 30 No. 30-78 (VALOR ADMITIDO) y 'EDIFICIO SAE SAS (Calle 31 D No.72-110 - Urbanización Los Abetos, Manzana J, Lote 2, CARTAGENA, BOLIVAR) demas riesgos donde el asegurado ejerce su actividad, aunque no esten determinados especificamente ubicados en el territorio Colombiano.
A29: COBERTURAS Y SUBLIMITES
A30: Daños Materiales | B30: 1
A31: Terremoto, temblor, erupcion volcanica y demas eventos de la naturaleza | B31: 1
A32: Actos Mal intencionados de terceros ,sabotaje , Terrorismo, Huelga, Motín, Asonada, conmoción o popular. | B32: 100000000000
A33: Rotura de Maquinaria: | B33: 1
A34: Equipos electricos y electronicos: | B34: 1
A35: Frigorificos y Bienes Refrigerados | B35: 1
A36: Hurto y Hurto Calificado | B36: 25000000000
A37: Dinero y títulos valores dentro y fuera de caja fuerte. Sublimite a primera perdida absoluta | B37: 50000000
A38: CONVENIO PARA EL PLAZO DEL PAGO DE LA PRIMA | B38: No obstante cualquier estipulación en contrario, por la presente cláusula se deja establecido que, de acuerdo con lo estipulado en el artículo 81 de la Ley 45/90 y la Resolución numero 03750 de Diciembre 31/74 de la Superintendencia Financiera, las partes contratantes convienen que las primas causadas por el presente Contrato de seguros y los Certificados o Anexos que se emitan en aplicación al mismo serán pagadas por el asegurado dentro de los noventa (90) días a partir de la fecha en que el respectivo documento sea recibido en sus oficinas, directamente por la Aseguradora y/o por el intermediario de seguros, quien deberá certificar haber recibido a satisfacción las respectivas pólizas en las condiciones contratadas; Si las pólizas no han sido correctamente elaboradas, el término para el pago solo empezará a contarse desde la fecha en que se presenten en debida forma. La demora en el pago originada por la presentación incorrecta de los documentos requeridos será responsabilidad del contratista y no tendrán por ello derecho al pago de intereses o compensación de ninguna naturaleza o a la aplicación de la terminación del contrato por mora en el pago de la prima.
A39: REVOCACIÓN, NO RENOVACIÓN O MODIFICACIONES DE LA PÓLIZA Y SUS ANEXOS | B39: La Aseguradora deberá dar aviso por escrito al ASEGURADO, con una anticipación de cientoveinte (120) días en caso que decida modificar, revocar o no renovar esta póliza y/o alguno de sus amparos adicionales o modificar cualquiera de sus condiciones. En caso de revocación la aseguradora devolverá al asegurado, la proporción de prima correspondiente al tiempo que falte para el vencimiento de la Póliza, liquidada a prorrata. Para HMACC AMIT TERRORISMO Aplican 10 días. Si la revocación es solicitada por EL ASEGURADO , la Aseguradora devolverá el valor de la prima no corrida del riesgo, liquidada a Prorrata
A40: MODIFICACIONES A FAVOR DEL ASEGURADO | B40: Si durante la vigencia de este seguro se presentan modificaciones a las condiciones generales y particulares de la póliza, que presenten un beneficio a favor del ASEGURADO, tales modificaciones se consideran automáticamente incorporadas a la póliza siempre que el cambio no implique un aumento en la prima originalmente pactada.
A41: CLAUSULA DE APLICACION DE CONDICIONES PARTICULARES | B41: Queda expresamente acordado y convenido, que la Compañía acepta las condiciones básicas tecnicas establecidas en este anexo en los terminos señalados en el mismo, por lo tanto, en caso de existir discrepancia ente los ofrecimientos contenidos en la propuesta tecnica básica, frente a los textos de los ejemplares de las pólizas, certificados, anexos o cualquier otro documento; prevalecerá la información y condiciones básicas tecnicas establecidas.
...

Sheet GRUPO 1. EQUIPO Y MAQUINARIA
A1: ANEXO Nº 2 ESPECIFICACIONES TECNICAS SEGURO DE TODO RIESGO EQUIPO Y MAQUINARIA
A2: TOMADOR: | B2: =+'GRUPO 1. TR DAÑOS MATERIALES'!B2 -> DISTRITO TURISTICO Y CULTURAL DE CARTAGENA DE INDIAS
A3: ASEGURADO : | B3: =+B2 -> DISTRITO TURISTICO Y CULTURAL DE CARTAGENA DE INDIAS | C3: =+B2 -> DISTRITO TURISTICO Y CULTURAL DE CARTAGENA DE INDIAS
A4: BENEFICIARIO: | B4: =+B3 -> DISTRITO TURISTICO Y CULTURAL DE CARTAGENA DE INDIAS | C4: =+B3 -> DISTRITO TURISTICO Y CULTURAL DE CARTAGENA DE INDIAS
A5: NIT | B5: =+'GRUPO 1. TR DAÑOS MATERIALES'!B5 -> 890.480.184-4 | C5: 890.399.029-5
A6: NIT | B6: =+B5 -> 890.480.184-4
A7: RAMO | B7: TODO RIESGO EQUIPO Y MAQUINARIA | C7: TODO RIESGO DANO MATERIAL
A8: INTERMEDIARIO | B8: GONSEGUROS CORREDORES DE SEGUROS S.A.
A9: VIGENCIA | B9: =+'GRUPO 1. TR DAÑOS MATERIALES'!B8 -> DESDE LAS 00:00 HORAS DEL 29 DE OCTUBRE DEL 2026 HASTA LAS 24:00 HORAS DEL 16 DE MAYO DEL 2027 | C9: DESDE: xx de xxxx DEL 2012 HORA: 00,00 HASTA: xxx DEL XXXXX 2013 HORA:00,00
A10: CONDICIONES TÉCNICAS BÁSICAS OBLIGATORIAS
A11: DETALLE | B11: VALOR ASEGURADO
A13: - Maquinaria en vehículo de ataque rápido RB mini pumper (no incluye chasis) Rosen Bauer 2016. - Maquinaria en vehículo de ataque rápido RB mini pumper (no incluye chasis) Rosen Bauer 2016. - Maquinaria en vehículo de ataque rápido RB mini pumper (no incluye chasis) Rosen Bauer 2016. - Maquinaria en vehículo de ataque rápido RB mini pumper-Sistema de Incendios- Equipo Adicional (no incluye chasis) Rosen Bauer 2016. - Maquinaria en vehículo para rescate RB mini rescue (no incluye chasis) Rosen Bauer. - Maquinaria en vehículo Escalera para rescate y extinción de incendios L56- Equipo Adicional (no incluye chasis) Metz 2016. - Maquinaria en vehículo para rescate RB (No incluye Chasis) – Sistema de incendios – Equipo adicional 2016. - Sistema de bombeo para abastecimiento y extinción de siniestros, instalados en el vehículo de placa OUG899, ROSENBAUER 2025, (no incluye chasis). - Sistema de bombeo para abastecimiento y extinción de siniestros, instalados en el vehículo de placa OUG900, ROSENBAUER 2025, (no incluye chasis). - Sistema de bombero para abastecimiento y extincion de siniestros | B13: 1.9525741e+10
A14: DESCRIPCION DE LA ACTIVIDAD DEL ASEGURADO | B14: Entidad Pública
A15: DIRECCION COMERCIAL /TELEFONO | B15: DISTRITO DE CARTAGENA
A16: DIRECCION DEL RIESGO | B16: Territorio Colombiano
A17: OBJETO DEL SEGURO | B17: Amparar las pérdidas o daños materiales que sufran los bienes de propiedad de la entidad, bajo su responsabilidad, tenencia y/o control, y en general los recibidos a cualquier titulo y/o por los que tenga algún interés asegurable, de acuerdo con el tipo de maquinaria de la relación asegurada, en sus operaciones sobre cualquier terreno y zona en el cual realizan sus operaciones.
A18: BIENES ASEGURADOS | B18: Toda la maquinaria y equipo de propiedad de la entidad, que se hallen bajo su responsabilidad, tenencia y/o control, y en general los recibidos a cualquier titulo o por los que tenga algún interés asegurable y consistente principalmente, pero no limitados, en los siguientes: Maquinaria y equipo consistente principalmente en: Buldoceres, Tractores, Motoniveladoras, Excavadoras, Retroexcavadoras, Equipos Agrícolas, Planchones y otras similares ubicados en el territorio nacional, de propiedad de la entidad, bajo su responsabilidad, tenencia y/o control.
A19: BIENES NO ASEGURABLES | B19: • Vehículos a motor destinados para transitar en vias públicas y provistos de una licencia y/o placa para tal fin, cuando la operación de los mismos sea la movilización en vías públicas y esten asegurados en pólizas de autos. • Embarcaciones, naves flotantes, aeronaves o máquinas que hagan parte de ellas.
A20: MODALIDAD DE VALOR ASEGURADO DE LOS BIENES ASEGURADOS | B20: EQUIPO Y MAQUINARÍA: Valor de reposición o reemplazo.
A21: VALORES ASEGURADOS | B21: Según relacion
A22: NOTA: | B22: QUEDA EXPRESAMENTE ACEPTADO POR LA ASEGURADORA QUE LAS CONDICIONES, COBERTURAS Y CLAUSULAS BÁSICAS PARA LAS CUALES NO SE INDIQUE SUBLÍMITE, OPERARÁN AL 100% DEL VALOR ASEGURADO.
A23: COBERTURA BASICA TODO RIESGO | B23: La aseguradora se obliga a indemnizar al asegurado los daños y/o pérdidas que sufran los intereses asegurados, así como los costos y/o gastos en que incurra, o todos combinados, por cualquier causa, como consecuencia de los riesgos que a continuación se enuncian y sujeto a los riesgos excluidos: Incendio y/o Rayo, Explosión, Impacto directo de rayo, Terremoto, Temblor y/o Erupción, Maremoto (100%). Actos Mal Intencionados de Terceros, Asonada, Motín, Conmoción Civil o Popular y Huelga. (Incluido Terrorismo). 100% del valor asegurado. Cobertura para Daño interno, si a consecuencia de tal daño interno o desarreglo surge un accidente que produce daños externos, este daño consecuencial será indemnizable sujeto a la demostración del mantenimiento. Cobertura para partes Eléctricas y/o Electrónicas. Sustracción con y sin violencia (Hurto y Hurto Calificado). Sublímite básico obligatorio de $100% Daños por agua Anegación Extended coverage Errores de Diseño y Defectos de Fabricación. Movilización por sus propios medios Volcamiento Responsabilidad Civil básico obligatorio de $100% DE CADA MAQUINA ASEGURADA Colisión con objetos en movimiento o estacionarios
A24: CONVENIO PARA EL PLAZO DEL PAGO DE LA PRIMA | B24: No obstante cualquier estipulación en contrario, por la presente cláusula se deja establecido que, de acuerdo con lo estipulado en el artículo 81 de la Ley 45/90 y la Resolución numero 03750 de Diciembre 31/74 de la Superintendencia Financiera, las partes contratantes convienen que las primas causadas por el presente Contrato de seguros y los Certificados o Anexos que se emitan en aplicación al mismo serán pagadas por el asegurado dentro de los noventa (90) días a partir de la fecha en que el respectivo documento sea recibido en sus oficinas, directamente por la Aseguradora y/o por el intermediario de seguros, quien deberá certificar haber recibido a satisfacción las respectivas pólizas en las condiciones contratadas; Si las pólizas no han sido correctamente elaboradas, el término para el pago solo empezará a contarse desde la fecha en que se presenten en debida forma. La demora en el pago originada por la presentación incorrecta de los documentos requeridos será responsabilidad del contratista y no tendrán por ello derecho al pago de intereses o compensación de ninguna naturaleza o a la aplicación de la terminación del contrato por mora en el pago de la prima.
A25: REVOCACIÓN, NO RENOVACIÓN O MODIFICACIONES DE LA PÓLIZA Y SUS ANEXOS | B25: La Aseguradora deberá dar aviso por escrito al ASEGURADO, con una anticipación deciento veinte (120) días en caso que decida modificar, revocar o no renovar esta póliza y/o alguno de sus amparos adicionales o modificar cualquiera de sus condiciones. En caso de revocación la aseguradora devolverá al asegurado, la proporción de prima correspondiente al tiempo que falte para el vencimiento de la Póliza, liquidada a prorrata. Para HMACC AMIT TERRORISMO Aplican 10 días. Si la revocación es solicitada por EL ASEGURADO , la Aseguradora devolverá el valor de la prima no corrida del riesgo, liquidada a Prorrata
... A36: Actos de autoridad. | B36: La póliza cubre los daños o pérdidas materiales de los bienes asegurados, causados directamente por la acción de la autoridad legalmente constituida, ejercida con el fin de disminuir o aminorar las consecuencias de cualquiera de los riesgos amparados por esta póliza.
A37: PARA LOS SIGUIENTES AMPAROS ADICIONALES SUBLIMITADOS NO HAY APLICACIÓN DE DEDUCIBLE
A38: AMPAROS ADICIONALES SUBLIMITADOS EN CASO DE SINIESTRO LA COMPAÑÍA CUBRIRA LOS GASTOS RAZONABLES EN QUE INCURRA EL ASEGURADO POR UNO, VARIOS O TODOS ESTOS CONCEPTOS SIN EXCEDER EL 20% DE LA SUMA ASEGURADA DE LOS BIENES AFECTADOS
A39: GASTOS RAZONABLES DE HORAS EXTRAS, TRABAJO NOCTURNO O EN DÍAS FESTIVOS Y FLETE EXPRESO Y AÉREO. | B39: Bajo esta cobertura se amparan los gastos adicionales y extraordinarios por concepto de horas extras, trabajo nocturno o en días festivos, flete expreso y aéreo, que se incurran o deba incurrir con motivo de una pérdida o daño amparado.
A40: GASTOS RAZONABLES DE VIAJES Y ESTADÍA. | B40: Bajo esta cobertura se amparan los gastos (que incurra o deba incurrir) de viajes de y estadía de funcionarios, empleados y técnicos que intervienen en la planificación de la reconstrucción o adquisición de los bienes asegurados.
A41: REMOCIÓN DE ESCOMBROS Y GASTOS DE DEMOLICIÓN. | B41: Mediante este amparo la compañía indemnizará, los gastos razonables (en que incurra o deba incurrir) demostrados por remoción de escombros, desmantelamiento, demolición o de apuntalamiento de los bienes asegurados, que hayan sido dañados o destruidos por la ocurrencia de cualquiera de los riesgos amparados, incluyendo los gastos de limpieza, recuperación de materiales y el traslado de los escombros a sitio autorizado, con ocasión de un siniestro.
A42: GASTOS PARA LA DEMOSTRACIÓN DEL SINIESTRO. | B42: Bajo este amparo se cubren los gastos razonables en que incurra o deba incurrir el asegurado, para la demostración de la ocurrencia y cuantía del siniestro y serán indemnizados bajo esta póliza. La aseguradora indemnizará hasta el 100% de los gastos demostrados.
A43: GASTOS PARA LA EXTINCIÓN DEL SINIESTRO. | B43: La Compañía se obliga a indemnizar el 100% de los gastos en que necesaria y razonablemente incurra o deba incurrir el asegurado así como los costos de los productos o sustancias utilizadas, o de los elementos o equipos destruidos total o parcialmente, como consecuencia de las actividades dirigidas a la extinción de cualquier siniestro amparado por la póliza o para evitar su propagación, de acuerdo con lo señalado en el artículo 1074 del Código de Comercio. Se precisa que bajo ninguna circunstancia se considerara como gastos de extinción de un incendio la colaboración personal prestada por el asegurado, ni la de sus empleados, obreros o sus contratistas para el apoyo a la gestión.
A44: GASTOS DE AUDITORES, REVISORES Y CONTADORES. | B44: Bajo este amparo la Compañía indemnizará, los gastos razonables en que en que incurra o deba incurrir el asegurado, por pago de auditores, revisores y contadores que se requieran para analizar y certificar los datos extraídos de los libros de contabilidad y demás documentos del negocio del asegurado, al igual que cualesquiera otras informaciones que sean solicitadas por la compañía al asegurado, para la demostración de la ocurrencia y cuantía del siniestro, según lo establecido en esta póliza.
A45: PAGO DE HONORARIOS PROFESIONALES. | B45: Se otorga cobertura para amparar los honorarios (en que incurra o deba incurrir) razonables de arquitectos, interventores, ingenieros, técnicos, consultores u otros profesionales, que sean razonablemente necesarios, así como los gastos de viaje y estadía que se requieran para la planificación, reconstrucción o reparación de los bienes asegurados, a condición de que sea consecuencia de un siniestro cubierto por la póliza.
A46: GASTOS PARA LA PRESERVACIÓN DE BIENES Y CONTINUACIÓN DE ACTIVIDADES. | B46: Se ampara bajo la presente cobertura, los gastos razonables en que incurra o deba incurrir el asegurado para realizar remplazos temporales y/o provisionales o reacondicionamientos y/o reparación de los bienes asegurados afectados por siniestro, así como la ejecución de obras o construcciones provisionales o transitorias, siempre y cuando estos gastos sean requeridos para la preservación y/o conservación de los bienes asegurados con el fin de establecer y continuar con igual eficiencia, como sea posible, las operaciones del giro normal de las actividades del asegurado que sean afectados directamente por un evento amparado.
A47: GASTOS PARA ACELERAR LA REPARACIÓN, REACONDICIONAMIENTO O EL REEMPLAZO DE LOS BIENES ASEGURADOS. | B47: Se ampara bajo la presente cobertura, los gastos razonables en que en que incurra o deba incurrir el asegurado para acelerar la reparación, reacondicionamiento o el reemplazo de los bienes asegurados.
A48: GASTOS PARA REACONDICIONAMIENTOS O REPARACIONES PROVISONALES O TRANSITORIAS. | B48: Se ampara bajo la presente cobertura, los gastos razonables en que en que incurra o deba incurrir el asegurado con el fin de efectuar reacondicionamientos o reparaciones provisionales transitorias, con el objeto de salvar, preservar o conservar los bienes amparados.
A49: Gastos extraordinarios. 100% de los gastos demostrados | B49: Mediante esta condición la cobertura de la póliza se extiende a amparar los gastos razonables extras por arrendamientos de bienes, cualquier tipo de equipos, en que incurra el asegurado, adicionales y en exceso a sus costos normales de operación, con el único fin de poder continuar con igual eficiencia, como sea posible, las operaciones del giro normal de sus actividades que se vean afectadas directamente por un evento amparado bajo este seguro, incluido los gastos por pago de administración y servicios públicos de las instalaciones utilizadas. Se precisa que la indemnización de estos gastos opera en adición a la suma asegurada de los bienes amparados y que el pago de los mismos se efectuará sin aplicación de deducible.
A50: Cobertura automática para nuevos bienes. Sublímite de $1.500.000.000 | B50: La presente clausula se amplia hasta $1.500 Millones para otorgar cobertura automática, a partir del momento en que el asegurado asuma la responsabilidad por los bienes hasta la suma asegurada, sujeto a que éste queda obligado a dar aviso a la aseguradora dentro de los 90 días siguientes. Se precisa, que la aplicación de esta cobertura dará derecho a la compañía al cobro de la prima proporcional calculada a prorrata, de acuerdo con las tasas ofrecidas en este proceso y correspondiente al periodo de amparo, incluido el término automático otorgado para esta condición.
... A68: REPOSICION O REEMPLAZO | B68: Bajo esta cláusula la Compañía pagará la indemnización por el valor de la reposición o reemplazo de los bienes asegurados, cuando el conjunto o la totalidad de ellos queden destruidos o de tal modo averiados que pierdan la aptitud para el fin a que están destinados o cuando no obstante no perder esa aptitud, su reparación aunque se facilite, implique perjuicios en la calidad o eficiencia en la producción u operación y de conformidad con lo siguiente:
...

Sheet GRUPO 1. MANEJO ESTATAL
A1: ANEXO Nº 3 ESPECIFICACIONES TECNICAS SEGURO DE MANEJO ENTIDADES ESTATALES
A2: TOMADOR: | B2: =+'GRUPO 3. CASCO AVIACION'!B2 -> DISTRITO TURISTICO Y CULTURAL DE CARTAGENA DE INDIAS
A3: ASEGURADO : | B3: =+B2 -> DISTRITO TURISTICO Y CULTURAL DE CARTAGENA DE INDIAS
A4: BENEFICIARIO: | B4: =+B2 -> DISTRITO TURISTICO Y CULTURAL DE CARTAGENA DE INDIAS
A5: NIT | B5: =+'GRUPO 3. CASCO AVIACION'!B5 -> 890.480.184-4
A6: RAMO | B6: Seguro de Manejo Entidades Estatales
A7: INTERMEDIARIO | B7: GONSEGUROS CORREDORES DE SEGUROS S.A.
A8: VIGENCIA | B8: =+'GRUPO 3. CASCO AVIACION'!B8 -> DESDE LAS 00:00 HORAS DEL 29 DE OCTUBRE DEL 2026 HASTA LAS 24:00 HORAS DEL 16 DE MAYO DEL 2027
A9: CONDICIONES TÉCNICAS BÁSICAS OBLIGATORIAS
A10: DESCRIPCION DE LA ACTIVIDAD DEL ASEGURADO | B10: Entidad Pública -
A11: DIRECCION COMERCIAL /TELEFONO | B11: =+B2 -> DISTRITO TURISTICO Y CULTURAL DE CARTAGENA DE INDIAS
A12: DIRECCION DEL RIESGO | B12: Territorio Colombiano
A13: AMPAROS OBLIGATORIOS | B13: Delitos contra la Administración Pública
B14: Delitos contra el patrimonio económico.
B15: Juicios por Responsabilidad Fiscal
B16: Gastos de reconstrucción de cuentas.
B17: Gastos de rendición de cuentas.
A18: OBJETO DEL SEGURO | B18: Amparar los riesgos que impliquen menoscabo de los fondos y/o bienes de propiedad de la entidad, o que estén bajo su tenencia, control y/o responsabilidad causados por acciones u omisiones de sus servidores, que incurran en delitos contra la administración pública o fallos con responsabilidad fiscal, por incumplimiento de las disposiciones legales y reglamentarias, incluyendo el costo de la rendición de cuentas en caso de abandono del cargo o fallecimiento del empleado, en concordancia con la Resolución 014249 del 15 de mayo de 1992, aprobada por la Contraloría General de la República.
A19: MODALIDAD DE COBERTURA | B19: Los amparos otorgados, en la presente póliza, operan bajo la modalidad de delimitación temporal de cobertura, denominada OCURRENCIA, es decir que se cubrirán las pérdidas que sufra o que se causen al asegurado durante la vigencia de la póliza.
A20: VALORES ASEGURADOS OBLIGATORIOS
A21: Amparo básico | B21: 650000000
A22: Empleados no identificados 100% del valor asegurado principal | B22: =+B21 -> 650000000
A23: Protección de depósitos bancarios: 100% del valor asegurado principal. | B23: =+B21 -> 650000000
A24: Empleados de firmas temporales y especializadas, de cooperativas y empresas asociativas: 100% del valor asegurado principal. | B24: =+B21 -> 650000000
A25: Pago del siniestro sin necesidad de Fallo Fiscal | B25: =+B21 -> 650000000
A26: Costas en juicios y honorarios profesionales 50% del Valor Asegurado | B26: =+B25*50% -> 325000000
A27: Bienes bajo cuidado, tenencia o control declarados por el asegurado. 50% del valor asegurado | B27: =+B26 -> 325000000
A28: Gastos de Reconstrucción de cuentas | B28: =+B21 -> 650000000
A29: Gastos de Rendición de cuentas | B29: =+B21 -> 650000000
A30: Cargos Asegurados | B30: Total Planta de cargos del Asegurado
A31: CLAUSULAS Y SUBLIMITES OBLIGATORIOS
A32: EMPLEADOS NO IDENTIFICADOS | B32: En caso de ocurrencia de cualquier pérdida, en la que la entidad, no pudiera determinar específicamente al empleado o los empleados responsables, la compañía reconocerá la indemnización correspondiente, siempre y cuando las circunstancias que dieron lugar al evento, permitan considerar que en la ocurrencia del mismo intervinieron uno o varios empleados de la entidad, a cualquier titulo (autor intelectual, material o cómplice). Queda entendido que la responsabilidad de la compañía, respecto de tales pérdidas, no excederá en ningún caso del monto asegurado estipulado en la póliza. Los faltantes de inventario estarán amparados en los mismos términos establecidos anteriormente, siempre y cuando no sean atribuibles a entradas y salidas de almacén. Prevalecerá sobre esta condición el señalamiento de la pérdida por hurto simple cuando así lo indique la entidad. No se interpretara como faltante de inventario la pérdida de bienes en deposito y/o almacenados (guardados), que sean señaladas como hurto simple. NOTA: Para faltantes de inventario, sublimite del 15%
A33: PROTECCIÓN DE DEPÓSITOS BANCARIOS | B33: Cubre las pérdidas de dinero que el asegurado tenga depositado en sus cuentas corrientes o de ahorro en entidades bancarias o financieras (incluidos sus respectivos intereses), que se deba a falsificación o adulteración de un cheque, letra de cambio, pagaré, carta de crédito o cualquier otra clase de título valor que el banco o entidad financiera presuma que ha sido firmado, endosado o avalado por el asegurado o por una persona que obre en su nombre o representación y que el banco o entidad financiera compruebe que no es responsable por dicho pago, incluyendo: • Cualquier cheque o giro hecho o girado en nombre de la Entidad pagadero a una persona ficticia y endosado o pagado a nombre de dicha persona. • Cualquier cheque o giro hecho o girado en transacción de la Entidad o por su representante a favor de un tercero y entregado al representante de éste que resultare endosado o cobrado por persona distinta de aquel a quien se giró. • y, Cualquier cheque o giro con destino al pago de salarios que habiendo sido girado u ordenado por la Entidad, resultare endosado y cobrado por un tercero obrando supuestamente a nombre del girador, o de aquel a quien se debía hacer el pago. Para efectos de esta cobertura, las firmas estampadas por medios mecánicos, se consideran como firmas autografas
A34: EXTENSION DE COBERTURA PARA EMPLEADOS OCASIONALES, TEMPORALES Y TRANSITORIOS | B34: Por la presente condición la cobertura de la presente póliza se extiende a amparar a los trabajadores ocasionales, temporales o transitorios y a quienes sin serlo, realicen prácticas o investigaciones en sus dependencias. Esta cobertura queda sujeta a que las operaciones que realicen tales personas estén bajo el control de la entidad
A35: EXTENSION DE COBERTURA PARA EMPLEADOS DE FIRMAS ESPECIALIZADAS Y OTROS | B35: Bajo esta condición la cobertura de la presente póliza se extiende a amparar a todas aquellas personas naturales que presten servicios en los establecimientos del asegurado bajo cualquier título o contrato, incluidos los empleados de firmas especializadas, los empleados de contratistas independientes, los cuales deben cumplir con las normas que los regulan y con las garantías exigidas por la ley 80 de 1993. Esta cobertura queda sujeta a que las operaciones que realicen tales personas estén bajo el control de la entidad
A36: EXTENSIÓN DE COBERTURA PARA PERDIDAS OCASIONADAS POR EMPLEADOS DE CONTRATISTAS INDEPENDIENTES | B36: AL 100% DEL VALOR ASEGURADO.
A37: CLAUSULAS PARTICULARES Y CONDICIONES ESPECIALES OBLITATORIAS
A38: CONVENIO PARA EL PLAZO DEL PAGO DE LA PRIMA | B38: No obstante cualquier estipulación en contrario, por la presente cláusula se deja establecido que, de acuerdo con lo estipulado en el artículo 81 de la Ley 45/90 y la Resolución numero 03750 de Diciembre 31/74 de la Superintendencia Financiera, las partes contratantes convienen que las primas causadas por el presente Contrato de seguros y los Certificados o Anexos que se emitan en aplicación al mismo serán pagadas por el asegurado dentro de los noventa (90) días a partir de la fecha en que el respectivo documento sea recibido en sus oficinas, directamente por la Aseguradora y/o por el intermediario de seguros, quien deberá certificar haber recibido a satisfacción las respectivas pólizas en las condiciones contratadas; Si las pólizas no han sido correctamente elaboradas, el término para el pago solo empezará a contarse desde la fecha en que se presenten en debida forma. La demora en el pago originada por la presentación incorrecta de los documentos requeridos será responsabilidad del contratista y no tendrán por ello derecho al pago de intereses o compensación de ninguna naturaleza o a la aplicación de la terminación del contrato por mora en el pago de la prima.
A39: REVOCACIÓN, NO RENOVACIÓN O MODIFICACIONES DE LA PÓLIZA Y SUS ANEXOS | B39: La Aseguradora deberá dar aviso por escrito al ASEGURADO, con una anticipación de noventa (90) días en caso que decida modificar, revocar o no renovar esta póliza y/o alguno de sus amparos adicionales o modificar cualquiera de sus condiciones. En caso de revocación la aseguradora devolverá al asegurado, la proporción de prima correspondiente al tiempo que falte para el vencimiento de la Póliza, liquidada a prorrata.
A40: MODIFICACIONES A FAVOR DEL ASEGURADO | B40: Si durante la vigencia de este seguro se presentan modificaciones a las condiciones generales y particulares de la póliza, que presenten un beneficio a favor del ASEGURADO, tales modificaciones se consideran automáticamente incorporadas a la póliza siempre que el cambio no implique un aumento en la prima originalmente pactada.
...

Sheet GRUPO 1. RCE 
A1: ANEXO No 4 ESPECIFICACIONES TECNICAS SEGURO DE RESPONSABILIDAD CIVIL EXTRACONTRACTUAL
A2: TOMADOR | B2: =+'GRUPO 1. MANEJO ESTATAL'!B2 -> DISTRITO TURISTICO Y CULTURAL DE CARTAGENA DE INDIAS
A3: ASEGURADO : | B3: =B2 -> DISTRITO TURISTICO Y CULTURAL DE CARTAGENA DE INDIAS
A4: BENEFICIARIO: | B4: TERCEROS AFECTADOS
A5: NIT | B5: =+'GRUPO 1. MANEJO ESTATAL'!B5 -> 890.480.184-4
A6: RAMO | B6: Seguro de Responsabilidad Civil Extracontractual
A7: INTERMEDIARIO | B7: GONSEGUROS CORREDORES DE SEGUROS S.A.
A8: VIGENCIA | B8: =+'GRUPO 1. AUTOMOVILES'!B8 -> DESDE LAS 00:00 HORAS DEL 29 DE OCTUBRE DEL 2026 HASTA LAS 24:00 HORAS DEL 16 DE MAYO DEL 2027
A9: CONDICIONES TECNICAS BASICAS OBLIGATORIAS
A10: DESCRIPCION DE LA ACTIVIDAD DEL ASEGURADO | B10: Entidad Pública -
A11: DIRECCION COMERCIAL | B11: =+B3 -> DISTRITO TURISTICO Y CULTURAL DE CARTAGENA DE INDIAS
A12: DIRECCION DEL RIESGO | B12: Territorio Colombiano
A13: UBICACIÓN GEOGRAFICA | B13: Republica de Colombia
A14: JURISDICCION | B14: Esta póliza ampara en todas partes del mundo, con sujeción a la Ley Colombiana. La cobertura mundial, operará solo para viajes de servidores públicos al exterior, en calidad de trabajo.
A15: INTERES ASEGURADO | B15: Se cubren los perjuicios patrimoniales y extrapatrimoniales que se causen a terceros con motivo de la responsabilidad civil en que incurra el asegurado de acuerdo con la Ley Colombiana, por lesiones o muerte a personas y/o destrucción de bienes y perjuicios económicos, incluyendo lucro cesante y daños morales, como consecuencia de tales daños personales y/ materiales, causados durante el giro normal de su actividad, llevados a cabo en cualquier lugar dentro del territorio Colombiano.
A16: BIENES E INTERESES ASEGURABLES | B16: Se considerarán asegurados todos los predios y actividades que el asegurado posea y desarrolle, bien sea en arriendo, comodato, use o entregue en comodato y aquellos de terceros que la entidad use, mantenga, ocupe, y desempeñe sus actividades y operaciones, o que sea tenedor o a cualquier título y en general en los cuales desarrolle y realice las actividades propias de la administración municipal, control y de servicio a la comunidad, incluyendo los predios e instalaciones públicos que, de acuerdo a la ley, se encuentren bajo su responsabilidad, protección, administración y control.
A17: COBERTURAS VALORES ASEGURADOS Y SUBLIMITES OBLIGATORIOS
A18: Predios, Labores y operaciones. (PLO) | B18: 9000000000
A19: Actividades de cargue, descargue y transporte de bienes, incluyendo eventualmente los azarosos e inflamables. | B19: =+B18 -> 9000000000
A20: Transporte y Manejo de Materias prima y Productos | B20: =+B18 -> 9000000000
A21: Actividades deportivas, culturales y sociales dentro y fuera de los predios del asegurado | B21: =+B20 -> 9000000000
A22: Avisos, vallas y letreros dentro y fuera de predios, sean o no instalados por el asegurado | B22: =+B18 -> 9000000000
A23: Perjuicios causados por directivos, representantes y empleados del asegurado, en el desempeño de sus funciones y dentro de las actividades del asegurado, dentro y fuera de Colombia, incluyendo en viajes. La presente cobertura no ampara la responsabilidad civil profesional, ni RC Servidores Publicos | B23: =+B22 -> 9000000000
A24: Contaminación accidental, súbita e imprevista | B24: 9000000000
A25: Eventos sociales organizados por el asegurado, desarrollados dentro y fuera de sus predios. | B25: =+B24 -> 9000000000
A26: RC Incendio y explosión. | B26: =+B25 -> 9000000000
A27: Participación del asegurado en ferias y exposiciones nacionales e internacionales | B27: =+B26 -> 9000000000
A28: Posesión, uso y mantenimiento de depósitos, tanques y tuberías o redes. | B28: =+B27 -> 9000000000
A29: Uso de Restaurantes y cafeterías, campos deportivos, clubes y casinos. | B29: =+B28 -> 9000000000
A30: Uso de ascensores, elevadores, escaleras automáticas, grúas, montacargas y equipos de trabajo y transporte dentro de predios. | B30: =+B29 -> 9000000000
A31: Actividades propias del asegurado que realicen sus empleados temporales, ocasionales o transitorios, excluyendo errores y omisiones. | B31: =+B30 -> 9000000000
A32: Propietarios, Arrendatarios y/o poseedores | B32: =+B31 -> 9000000000
A33: Contratistas y subcontratistas independientes. Incluyendo trabajos de mantenimiento, reparaciones y modificaciones de predios.
A34: Evento | B34: 2000000000
A35: Vigencia | B35: 4000000000
A36: Bienes bajo cuidado, tenencia y control y custodia, declarados o no.
A37: Evento | B37: 2000000000
A38: Vigencia | B38: 2000000000
A39: R.C. Parqueaderos.
A40: Evento | B40: 800000000
...

Sheet GRUPO 1. AUTOMOVILES
A1: ANEXO Nº 5 (ESPECIFICACIONES TECNICAS SEGURO DE AUTOMOVILES)
A2: TOMADOR: | B2: =+'GRUPO 1. EQUIPO Y MAQUINARIA'!B2 -> DISTRITO TURISTICO Y CULTURAL DE CARTAGENA DE INDIAS
A3: ASEGURADO : | B3: =+B2 -> DISTRITO TURISTICO Y CULTURAL DE CARTAGENA DE INDIAS
A4: BENEFICIARIO: | B4: =+B3 -> DISTRITO TURISTICO Y CULTURAL DE CARTAGENA DE INDIAS
A5: NIT | B5: =+'GRUPO 1. EQUIPO Y MAQUINARIA'!B5 -> 890.480.184-4
A6: RAMO | B6: AUTOMOVILES
A7: INTERMEDIARIO | B7: GONSEGUROS CORREDORES DE SEGUROS S.A.
A8: VIGENCIA | B8: =+'GRUPO 1. EQUIPO Y MAQUINARIA'!B9 -> DESDE LAS 00:00 HORAS DEL 29 DE OCTUBRE DEL 2026 HASTA LAS 24:00 HORAS DEL 16 DE MAYO DEL 2027
A9: CONDICIONES TECNICAS BASICAS OBLIGATORIAS
A10: DESCRIPCION DE LA ACTIVIDAD DEL ASEGURADO | B10: Entidad Pública
A11: DIRECCION COMERCIAL /TELEFONO
A12: Objeto del Seguro: | B12: Amparar los daños y/o pérdidas que sufran los vehículos de propiedad, bajo tenencia, control o por los que sea legalmente responsable la entidad, o los perjuicios patrimoniales y/o extrapatrimoniales por daños a bienes o lesiones o muerte a terceros que causen.
A13: LIMITES ASEGURADOS RESPONSABILIDAD CIVIL EXTRACONTRATUAL OBLIGATORIO
A14: AUTOMOVILES
A15: - Daños a bienes de terceros | B15: 1800000000
A16: - Lesiones o muerte a una persona | B16: 1800000000
A17: - Lesiones o muerte a dos o más personas | B17: 3600000000
A18: o limite unico combinado de | B18: 3600000000
A19: COBERTURAS AL VEHICULO OBLIGATORIAS
A20: Pérdida Total por Daños | B20: Valor Guia de Valores (Tabla de Fasecolda) mas accesorios
A21: Pérdida Parcial por Daños | B21: Valor Guia de Valores (Tabla de Fasecolda) mas accesorios
A22: Pérdida total o Parcial por Hurto | B22: Valor Guia de Valores (Tabla de Fasecolda) mas accesorios
A23: Terremoto, temblor y/o erupción volcánica y otros eventos de la naturaleza. | B23: Valor Guia de Valores (Tabla de Fasecolda) mas accesorios
A24: Amparo Patrimonial | B24: SI
A25: Asistencia Jurídica en Proceso Civil, Penal y Administrativo. | B25: SI
A26: Asistencia en viaje | B26: Incluyendo perímetro urbano y rural, excluye motos. Sin limite de eventos.
A27: Casa Cárcel | B27: SI
A28: Gastos de transporte | B28: Con un tiempo mínimo de 60 días y $40.000 diarios.
A29: Gastos de grúa, transporte y protección al vehículo, para automóviles, vehículos livianos y camionetas. | B29: Sin limite de kilometraje
A30: Huelga, Motín, Asonada, Conmoción Civil o Popular, explosión, terrorismo (Actos Mal Intencionados de Terceros), movimientos subversivos o, en general, conmociones populares de cualquier clase. | B30: Incluidos actos terroristas y riesgos asegurados por pólizas contratadas por el gobierno nacional o entidades de cualquier orden
A31: Accidentes Personales para el conductor | B31: Valor asegurado $50.000.000
... A33: Deducible | B33: No aplicación de deducible
A34: VALORES ASEGURADOS
A35: PARQUE AUTOMOTOR | B35: Ver relacion adjunta
A36: CLAUSULAS Y SUBLIMITES OBLIGATORIOS
A37: HONORARIOS DE ABOGADOS Y GASTOS DE DEFENSA. | B37: Se cubren los gastos de honorarios requeridos para asistir profesionalmente a la entidad, demandados como consecuencia de daños a cosas, o lesiones o muerte de terceras personas durante el ejercicio de sus actividades laborales.
A38: AMPARO AUTOMATICO VEHICULOS NUEVOS O USADOS término de noventa (120) días para aviso. | B38: Limite: $ 500.000.000. Los vehículos automotores adquiridos por el Asegurado quedan automáticamente amparados por la presente Póliza, siempre que el Asegurado, notifique a la Aseguradora su adquisición dentro de los cientoveinte (120) días calendarios siguientes a la fecha en que reciba el Vehículo, ó este quede por su cuenta y bajo la garantía de que todos los vehículos de su propiedad, serán amparados de acuerdo con las condiciones pactadas. El límite de responsabilidad de la Aseguradora en cuanto a los vehículos que ingresan a la Póliza, para los amparos de Daños, Robo y Hurto e Incendio, en ningún caso excederá, del valor que aparezca en la factura de compra o documento similar. Para el Amparo de Responsabilidad Civil, así como para los Amparos adicionales, los límites serán los estipulados en la póliza.
A39: RED DE TALLERES Y PRESTACIÓN DEL SERVICIO EN LA CIUDAD DE CARTAGENA | B39: La aseguradora adjudicataria deberá garantizar, durante toda la vigencia de la póliza, la atención de los vehículos asegurados mediante una red de talleres con capacidad técnica, operativa y de infraestructura para atender los vehículos de la Entidad en la ciudad de Cartagena de Indias. La red deberá garantizar la disponibilidad y prestación oportuna de los servicios de inspección, peritaje, reparación y suministro e instalación de repuestos que sean necesarios como consecuencia de un siniestro amparado por la póliza. La aseguradora deberá garantizar que los talleres que conformen la red cuenten con capacidad para atender las diferentes clases, tipos, modelos y características de los vehículos que integran el parque automotor de la Entidad, incluyendo los vehículos que sean incorporados durante la vigencia de la póliza. Para los vehículos que, con ocasión de un siniestro, requieran ser reparados en concesionarios o talleres especializados, la aseguradora deberá garantizar la disponibilidad de dichos establecimientos en la ciudad de Cartagena de Indias o, cuando técnicamente se requiera, la alternativa de atención que garantice la reparación oportuna y adecuada del vehículo, sin que ello implique una disminución de las coberturas contratadas. En los casos en que, con ocasión de un siniestro, el vehículo requiera ser reparado en un concesionario o taller autorizado que no tenga presencia en la ciudad de Cartagena de Indias, la aseguradora deberá garantizar, a través del servicio de asistencia, el traslado del vehículo desde Cartagena hasta la ciudad donde se encuentre el establecimiento especializado requerido y, una vez finalizada la reparación, su traslado de regreso hasta Cartagena de Indias, sin que ello genere costos adicionales para la Entidad. La aseguradora deberá entregar a la Entidad, al inicio de la ejecución del contrato, la relación de los talleres que conforman su red de atención en la ciudad de Cartagena de Indias, indicando como mínimo nombre, dirección, teléfono, servicios ofrecidos y tipo de vehículos atendidos. Cualquier modificación, retiro o sustitución de un taller de la red deberá ser informada previamente a la Entidad, garantizando que dicha modificación no afecte la continuidad, oportunidad y calidad de la atención de los siniestros. El cumplimiento de esta condición será de carácter obligatorio y deberá mantenerse durante toda la vigencia del contrato.
A40: CONVENIO PARA EL PLAZO DEL PAGO DE LA PRIMA | B40: No obstante cualquier estipulación en contrario, por la presente cláusula se deja establecido que, de acuerdo con lo estipulado en el artículo 81 de la Ley 45/90 y la Resolución numero 03750 de Diciembre 31/74 de la Superintendencia Financiera, las partes contratantes convienen que las primas causadas por el presente Contrato de seguros y los Certificados o Anexos que se emitan en aplicación al mismo serán pagadas por el asegurado dentro de los noventa (90) días a partir de la fecha en que el respectivo documento sea recibido en sus oficinas, directamente por la Aseguradora y/o por el intermediario de seguros, quien deberá certificar haber recibido a satisfacción las respectivas pólizas en las condiciones contratadas; Si las pólizas no han sido correctamente elaboradas, el término para el pago solo empezará a contarse desde la fecha en que se presenten en debida forma. La demora en el pago originada por la presentación incorrecta de los documentos requeridos será responsabilidad del contratista y no tendrán por ello derecho al pago de intereses o compensación de ninguna naturaleza o a la aplicación de la terminación del contrato por mora en el pago de la prima.
A41: REVOCACIÓN, NO RENOVACIÓN O MODIFICACIONES DE LA PÓLIZA Y SUS ANEXOS | B41: La Aseguradora deberá dar aviso por escrito aL ASEGURADO, con una anticipación de noventa (90) días, en caso que decida modificar, revocar o no renovar esta póliza y/o alguno de sus amparos adicionales o modificar cualquiera de sus condiciones. En caso de revocación la aseguradora devolverá al asegurado, la proporción de prima correspondiente al tiempo que falte para el vencimiento de la Póliza, liquidada a prorrata. Si la revocación es solicitada por EL ASEGURADO , la Aseguradora devolverá el valor de la prima no corrida del riesgo, liquidada a Prorrata.
...

Sheet GRUPO 1. RCSP
A1: ANEXO Nº 6 (ESPECIFICACIONES TECNICAS SEGURO DE RESPONSABILIDAD CIVIL SERVIDORES PUBLICOS)
A2: TOMADOR | B2: =+'GRUPO 1. AUTOMOVILES'!B2 -> DISTRITO TURISTICO Y CULTURAL DE CARTAGENA DE INDIAS
A3: ASEGURADO | B3: =+B2 -> DISTRITO TURISTICO Y CULTURAL DE CARTAGENA DE INDIAS
A4: BENEFICIARIO | B4: TERCEROS AFECTADOS
A5: NIT | B5: =+'GRUPO 1. AUTOMOVILES'!B5 -> 890.480.184-4
A6: RAMO | B6: RC SERVIDORES PUBLICOS
A7: INTERMEDIARIO: | B7: GONSEGUROS CORREDORES DE SEGUROS S.A.
A8: VIGENCIA | B8: =+'GRUPO 1. AUTOMOVILES'!B8 -> DESDE LAS 00:00 HORAS DEL 29 DE OCTUBRE DEL 2026 HASTA LAS 24:00 HORAS DEL 16 DE MAYO DEL 2027
A9: CONDICIONES TECNICAS BASICAS OBLIGATORIAS
A10: OBJETO | B10: Contratar la cobertura de seguro de responsabilidad civil servidores públicos, de conformidad con lo previsto en artículo 43 de la ley 2008 de 2019 y el articulo 46 del decreto 2411 de 2019, disposiciones que autorizan a las entidades estatales la contratación del seguro en los términos allí establecidos. También podrán contratar un seguro de responsabilidad civil para servidores públicos, mediante el cual se ampare la responsabilidad de los mismos por actos o hechos no dolosos ocurridos en ejercicio de sus funciones, y los gastos de defensa en materia disciplinaria, penal y fiscal que deban realizar; estos últimos gastos los podrán pagar las entidades, siempre y cuando exista decisión definitiva que exonere de toda responsabilidad y no sea condenada la contraparte a las costas del proceso. amparar los perjuicios o detrimentos patrimoniales causados a la contraloría general de la república, como consecuencia de decisiones de gestión incorrectas, pero no dolosas, adoptadas y/o ejecutadas o inejecutadas, por los servidores públicos y/o funcionarios con regímenes de responsabilidad similares a los de los servidores públicos, cuyos cargos se relacionan en el presente pliego de condiciones. Al igual que asumir los gastos de defensa (honorarios profesionales de abogados defensores y cauciones judiciales) según los límites por etapas procesales establecidos en este documento, en todo tipo de procesos, incluidos los penales siempre que se trate de delitos no dolosos; civiles; administrativos; iniciados por entes de control (procuraduría, contraloría o similares), investigaciones o procesos internos, o; por cualquier organismo oficial, en los que se discuta la responsabilidad correspondiente a los cargos asegurado.
A11: VALORES ASEGURADOS
A12: PERJUICIOS O DETRIMENTO PATRIMONIAL | B12: 4610000000
A13: GASTOS DE DEFENSA | B13: 2000000000
A14: RELACIÓN DE CARGOS A ASEGURAR | B14: SEGÚN FORMULARIO
A16: PERJUICIOS O DETRIMENTO PATRIMONIAL, SUBLÍMITE DE $4,610,000,000 EVENTO / AGREGADO VIGENCIA INCLUIDO LOS GASTOS DE DEFENSA: | B16: Ampara los perjuicios o detrimentos patrimoniales causados a la entidad y/o al estado, incluyendo la culpa grave como consecuencia de las decisiones de gestiones incorrectas pero no dolosas, adoptadas y/o ejecutadas o inejecutadas por los servidores públicos y/o funcionarios con regímenes de responsabilidad similares a los de los servidores públicos, cuyos cargos estén amparados en la póliza así mismo, esta cobertura se extiende para amparar los perjuicios por los que los funcionarios asegurados sean responsables por haber cometido algún acto incorrecto respecto del cual se les siga o debiera seguir, un juicio de responsabilidad fiscal de acuerdo con las previsiones de la ley 610 de 2000, así como la acción de repetición o de llamamiento en garantía con fines de repetición, contemplado en la ley 678 de 2001, articulo 90 de la cpc.
A17: GASTOS DE DEFENSA SUBLÍMITE DE $2,000.000.000 AGREGADO VIGENCIA / $500.000.000 EVENTO, INCLUIDOS EN EL LÍMITE DE PERJUICIOS O DETRIMENTO PATRIMONIAL | B17: Mediante esta cobertura se amparan los gastos de defensa (honorarios profesionales de abogados defensores y cauciones judiciales) en materia disciplinaria, penal, fiscal, administrativo (incluidos los de reparación directa), civil (incluidos, los artículos 64 y 65 del código general del proceso y la ley 1564 de 2012), investigaciones disciplinarias internas y en general los incurridos para defenderse en cualquier tipo de investigación o proceso adelantados por organismos oficiales, según los límites por: tipos de procesos y etapas procesales establecidos en este documento. queda expresamente convenido, que dentro de los límites y sublímites de gastos de defensa están considerados los impuestos y gravámenes, ya sean fiscales, tributarios u otros legalmente establecidos, y que por tal motivo formen parte del costo de los servicios de gastos de defensa que sean prestados a los asegurados
A18: DEFINICIÓN DE ASEGURADO: | B18: Se considera asegurado: los administradores de la entidad, cuyos cargos se detallan en el formulario de solicitud adjunto a estos Pliegos de Condiciones. Cuando se dé un cambio de funcionario éste se cubre automáticamente, siempre y cuando el cargo que se ocupe se encuentre en la relación de los cargos asegurados.
A19: MODIFICACIÓN EN LAS LEYES EXISTENTES O INTRODUCCIÓN DE NUEVA LEGISLACIÓN: | B19: La presente póliza otorgará cobertura a los asegurados, frente a la modificación en las leyes existentes o la introducción de nueva legislación en materia penal, disciplinaria o fiscal, sujeto a que las investigaciones o procesos que sean iniciados en virtud de dichas modificaciones legislativas, tengan como finalidad imputar responsabilidad a los asegurados, por acciones u omisiones no dolosas cometidas en calidad de servidores públicos, con ocasión de las funciones propias del cargo asegurado. esta póliza se extiende a cubrir los perjuicios (reales o presuntos), reclamaciones, demandas o investigaciones contra los funcionarios que ocupan los cargos asegurados, cuando ellas individualicen o se dirijan contra un funcionario asegurado. de acuerdo con los términos y condiciones de esta póliza.
A20: SUBLÍMITES BÁSICOS OBLIGATORIOS PARA LA COBERTURA DE GASTOS DE DEFENSA
A21: La propuesta debe contemplar el ofrecimiento de los siguientes sublimites de honorarios profesionales de abogados, los cuales deben operar exclusivamente bajo la modalidad de: por persona y por cada proceso para cada una de de las personas cuyo cargo se encuentre asegurado, precisando que la presente cobertura será efectiva siempre y cuando en la reclamación este individualizado el cargo, la persona, y que la conducta a investigar goce de cobertura.
A22: DEFINICIONES | B22: EL AUTO DE APERTURA DE LA INVESTIGACIÓN O PROCESO, hace referencia al documento mediante el cual se inicia la investigación y se vincula formalmente al asegurado a la misma, según el tipo de proceso este documento puede variar (Según se trate de procesos de responsabilidad fiscal, procesos penales o procesos disciplinario), y en todo caso es indispensable para el análisis de la reclamación. SE ENTIENDE POR NOTIFICACIÓN, la personal (sentencia No. T 684/98 la Corte Suprema) por Edicto, por Estado, por Estrado o por Conducta Concluyente, para esta última no se requiere de certificación alguna de constancia del organismo de control que investiga.
A23: CARGO PRINCIPAL | C23: Límite por etapa Persona por Proceso | E23: Límite Vigencia por Persona
A24: Etapa preliminar | C24: 50000000 | E24: 300000000
A25: Vinculación procesal hasta primera instancia | C25: 100000000 | E25: 350000000
A26: Vinculación procesal hasta segundo instancia | C26: 100000000 | E26: 500000000
A28: DEMAS CARGOS | C28: Límite por etapa Persona por Proceso | E28: Límite Vigencia por Persona
A29: Etapa preliminar | C29: 50000000 | E29: 300000000
A30: Vinculación procesal hasta primera instancia | C30: 100000000 | E30: 350000000
A31: Vinculación procesal hasta segundo instancia | C31: 100000000 | E31: 500000000
A32: Cauciones judiciales hasta $30.000.000 por evento y $150.000.000 por vigencia.
A33: PROCESOS DE CONTROL INTERNO O INVESTIGACIONES INTERNAS y/o similares (incluidos en los gastos de defensa hasta Sublímite de $15.000.000, por cargo asegurado y por cada proceso para cada una de los cargos asegurados / $100.000.000 agregado anual por persona.
A34: PROCESOS DE INDAGACIÓN O INVESTIGACIONES PRELIMINARES, Según el tipo de proceso con base en las siguientes definiciones:
A35: DEFINICIÓN PARA PROCESOS FISCALES. LEY 610 DE 2000 | B35: La investigación preliminar para este tipo de procesos es la fase de instrucción comprendida entre la iniciación de una investigación de oficio, por solicitud de las entidades vigiladas, o por denuncias o quejas presentadas por cualquier persona u organización ciudadana, hasta antes de abrirse formalmente el proceso (Artículo 39).
A36: DEFINICIÓN PARA PROCESOS DISCIPLINARIOS. Ley 1952 de 2019, articulo 208 PROCEDENCIA, OBJETIVO Y TRÁMITE DE LA INDAGACIÓN PREVIA.(CÓDIGO GENERAL DISCIPLINARIO) | B36: La indagación preliminar para este tipo de procesos es la fase de instrucción iniciada en caso de duda sobre la identificación o individualización del posible autor de una falta disciplinaria.
A37: DEFINICIÓN PARA PROCESOS PENALES | B37: Sistema Acusatorio (Ley 906 de 2004). Toda la etapa de instrucción adelantada por la Fiscalía de acuerdo con el procedimiento establecido para el sistema penal acusatorio hasta antes del auto de formulación de imputación (art. 286 y s.s.).
A38: DEFINICIÓN PARA PROCESOS ANTE OTROS ORGANISMOS | B38: Toda la etapa de investigación preliminar adelantada contra un servidor público y/o funcionario con responsabilidades similares, adelantada por un organismo oficial, antes de que exista decisión de vinculación definitiva a un proceso.
