Workbook
Name _Toc140149825_1: #REF!
Name _Toc140149825_1: #REF!
Name _Toc140149825_1: #REF!
Name _Toc140149825_1: #REF!
Name _Toc140149825_59: #REF!
Name _Toc140149825_59: #REF!
Name _Toc140149825_59: #REF!
Name _Toc140149825_59: #REF!
Name _Toc142149825_60: #REF!
Name _Toc142149825_60: #REF!
Name _Toc142149825_60: #REF!
Name _Toc142149825_60: #REF!
Name AMOR: #REF!
Name AMOR: #REF!
Name AMOR: #REF!
Name AMOR: #REF!
Name bg: #REF!
Name bg: #REF!
Name bg: #REF!
Name bg: #REF!
Name cvehiculo: #REF!
Name ESTADO: #REF!
Name ESTADO: #REF!
Name ESTADO: #REF!
Name ESTADO: #REF!
Name estadof: #REF!
Name estadof: #REF!
Name estadof: #REF!
Name estadof: #REF!
Name FFFFFFF: #REF!
Name FFFFFFF: #REF!
Name FFFFFFF: #REF!
Name FFFFFFF: #REF!
Name g: #REF!
Name g: #REF!
Name g: #REF!
Name g: #REF!
Name GENERAL: #REF!
Name GENERAL: #REF!
Name GENERAL: #REF!
Name GENERAL: #REF!
Name GG: #REF!
Name GG: #REF!
Name GG: #REF!
Name GG: #REF!
Name GGGGGG: #REF!
Name GGGGGG: #REF!
Name GGGGGG: #REF!
Name GGGGGG: #REF!
Name Grupo: #REF!
Name opcion2: #REF!
Name opcion2: #REF!
Name opcion2: #REF!
Name opcion2: #REF!
Name opcion3: #REF!
Name opcion3: #REF!
Name opcion3: #REF!
Name opcion3: #REF!
Name opcion4: #REF!
Name opcion4: #REF!

Sheet ESTUDIO DE MERCADO
B2: ALCALDIA DISTRITAL DE CARTAGENA DE INDIAS
B3: ESTUDIO DE MERCADO
B4: LICITACIÓN PÚBLICA 2024
H6: 2447901008
B8: VIGENCIAS PROYECTADAS | C8: GRUPO 1 Y 2 | D8: GRUPO 3 SALUD | F8: GRUPO 4 CBAR Y DRONES
D9: ALCALDE, CONCEJALES, PERSONERO (A) | E9: EDILES
B10: VIGENCIA DESDE 00:00 HORAS | C10: 45573 | D10: 45597 | E10: 45616 | F10: 45573
B11: VIGENCIA HASTA 00:00 HORAS | C11: 45938 | D11: 45938 | E11: 45938 | F11: 45938
B12: DIAS DE COBERTURA PROYECTADOS | C12: =C11-C10 -> 365 | D12: =D11-D10 -> 341 | E12: =E11-E10 -> 322 | F12: =F11-F10 -> 365
B14: GRUPO 2 - VIDA ALCALDES - VIGENCIA INCREMENTO SALARIO DE ALCALDE VIDA ALCALDE, PERSONERO, CONCEJALES Y EDILES | G14: PRESUPUESTO PROYECTADO | J14: =ROUND((K59),0) -> #REF!
B15: VIGENCIA DESDE 00:00 HORAS | C15: 45689
B16: VIGENCIA HASTA 00:00 HORAS | C16: =C11 -> 45938
B17: DIAS DE COBERTURA PROYECTADOS | C17: =C16-C15 -> 249
B20: Fecha de elaboración: 04 de agosto de 2024
B21: GRUPO 1 | F21: PRIMA ANUAL | I21: PRIMA PERIODO PROYECTADO
B22: RAMO | C22: VALOR ASEGURADO | D22: TASA ANUAL ESTUDIO MERCADO | F22: PRIMA NETA ANUAL | G22: IVA 19% | H22: TOTAL PRIMA ANUAL | I22: PRIMA NETA PROYECTADA | J22: IVA 19% | K22: TOTAL PROYECCIÓN
B23: TODO RIESGO DAÑOS MATERIALES | C23: =#REF! -> #REF! | D23: ='TASAS PROMEDIO'!I7 -> 3.008 | E23: %o | F23: =C23*D23/1000 -> #REF! | G23: =F23*19% -> #REF! | H23: =F23+G23 -> #REF! | I23: =F23/365*C12 -> #REF! | J23: =I23*19% -> #REF! | K23: =I23+J23 -> #REF!
B24: INDICE VARIABLE TODO RIESGO DAÑOS MATERIALES (4%) | C24: =#REF! -> #REF! | D24: =D23/2 -> 1.504 | E24: %o | F24: =C24*D24/1000 -> #REF! | G24: =F24*19% -> #REF! | H24: =F24+G24 -> #REF! | I24: =F24/365*C12 -> #REF! | J24: =I24*19% -> #REF! | K24: =I24+J24 -> #REF!
B25: TOTAL TODO RIESGO DAÑOS MATERIALES | C25: =C23+C24 -> #REF! | F25: =SUM(F23:F24) -> #REF! | G25: =SUM(G23:G24) -> #REF! | H25: =SUM(H23:H24) -> #REF! | I25: =SUM(I23:I24) -> #REF! | J25: =SUM(J23:J24) -> #REF! | K25: =SUM(K23:K24) -> #REF!
B26: TODO RIESGO EQUIPO Y MAQUINARIA | C26: =#REF! -> #REF! | D26: ='TASAS PROMEDIO'!I9 -> 11.464667 | E26: %o | F26: =C26*D26/1000 -> #REF! | G26: =F26*19% -> #REF! | H26: =F26+G26 -> #REF! | I26: =F26/365*C12 -> #REF! | J26: =I26*19% -> #REF! | K26: =I26+J26 -> #REF!
B27: INDICE VARIABLE TODO RIESGO EQUIPO Y MAQUINARIA (5%) | C27: =#REF! -> #REF! | D27: =D26/2 -> 5.7323333 | E27: %o | F27: =C27*D27/1000 -> #REF! | G27: =F27*19% -> #REF! | H27: =F27+G27 -> #REF! | I27: =F27/365*C12 -> #REF! | J27: =I27*19% -> #REF! | K27: =I27+J27 -> #REF!
B28: TOTAL TODO RIESGO EQUIPO Y MAQUINARIA | C28: =C26+C27 -> #REF! | F28: =SUM(F26:F27) -> #REF! | G28: =SUM(G26:G27) -> #REF! | H28: =H26+H27 -> #REF! | I28: =I26+I27 -> #REF! | J28: =J26+J27 -> #REF! | K28: =K26+K27 -> #REF!
B29: MANEJO GLOBAL ENTIDADES OFICIALES | C29: 500000000 | D29: ='TASAS PROMEDIO'!I12 -> 10.8 | E29: % | F29: =C29*D29/100 -> 54000000 | G29: =F29*19% -> 10260000 | H29: =F29+G29 -> 64260000 | I29: =F29/365*$C$12 -> 54000000 | J29: =I29*19% -> 10260000 | K29: =I29+J29 -> 64260000
B30: RESP. CIVIL EXTRACONTRACTUAL | C30: 7000000000 | D30: ='TASAS PROMEDIO'!I15 -> 0.51175 | E30: % | F30: =C30*D30/100 -> 35822500 | G30: =F30*19% -> 6806275 | H30: =F30+G30 -> 42628775 | I30: =F30/365*$C$12 -> 35822500 | J30: =I30*19% -> 6806275 | K30: =I30+J30 -> 42628775
B31: AUTOMOVILES | C31: =AUTOMOVILES!R197 -> 5296600000 | D31: ='TASAS PROMEDIO'!I19 -> 7.4 | E31: % | F31: =C31*D31/100 -> 391948400 | G31: =F31*19% -> 74470196 | H31: =F31+G31 -> 466418596 | I31: =F31/365*$C$12 -> 3.919484e+08 | J31: =I31*19% -> 74470196 | K31: =I31+J31 -> 4.664186e+08
B32: RESPONSABILIDAD CIVIL SERVIDORES PÚBLICOS | C32: 1610000000 | D32: ='TASAS PROMEDIO'!I21 -> 29.34835 | E32: % | F32: =C32*D32/100 -> 472508435 | G32: =F32*19% -> 89776603 | H32: =F32+G32 -> 5.6228504e+08 | I32: =F32/365*$C$12 -> 472508435 | J32: =I32*19% -> 89776603 | K32: =I32+J32 -> 5.6228504e+08
B33: INFIDELIDAD Y RIESGOS FINANCIEROS | C33: 4000000000 | D33: ='TASAS PROMEDIO'!I23 -> 4.3333333 | E33: % | F33: =C33*D33/100 -> 1.7333333e+08 | G33: =F33*19% -> 32933333 | H33: =F33+G33 -> 2.0626667e+08 | I33: =F33/365*$C$12 -> 1.7333333e+08 | J33: =I33*19% -> 32933333 | K33: =I33+J33 -> 2.0626667e+08
B34: REMANENTE FUTURAS INCLUSIONES | K34: 300000000
B35: TOTAL GRUPO 1 | K35: =ROUND((K25+K28+K29+K30+K31+K32+K33+K34),0) -> #REF!
B36: Queda expresamente acordado y convenido que el remanente para las futuras inclusiones no constituye una obligación de pago por parte de la entidad en el momento de la adjudicación, en tanto este valor no sea empleado para incluir nuevos riesgos en los ramos de seguros del grupo 1.
B37: GRUPO 2 | F37: PRIMA ANUAL | I37: PRIMA PERIODO PROYECTADO
B38: RAMO | C38: VALOR ASEGURADO | D38: TASA ANUAL ESTUDIO MERCADO | F38: PRIMA NETA ANUAL | G38: IVA 19% | H38: TOTAL PRIMA ANUAL | I38: PRIMA NETA PROYECTADA | J38: TOTAL PROYECCIÓN
B39: VIDA GRUPO ALCALDE, PERSONERO Y CONCEJALES 48 ASEGURADOS | C39: ='VIDA ALCALDE-CONCEJALES'!F12 -> 22874835840 | D39: ='TASAS PROMEDIO'!G26 -> 34.8295 | E39: %o | F39: =ROUND((C39*D39/1000),0) -> 796719095 | G39: N/A | H39: =ROUND((F39),0) -> 796719095 | I39: =ROUND((F39/365*$C$12),0) -> 796719095 | J39: =I39+I40 -> 878246378
B40: INCREMENTO POR AUMENTO DE SALARIO DEL 01FEBR25 AL 08OCT25 (15% SOBRE EL VALOR ASEGURADO) | C40: =C39*15% -> 3431225376 | E40: %o | F40: =C40*D39/1000 -> 1.1950786e+08 | G40: N/A | H40: =ROUND((F40),0) -> 119507864 | I40: =ROUND((F40/365*$C$17),0) -> 81527283
B41: VIDA GRUPO BOMBEROS 94 ASEGURADOS | C41: ='VIDA BOMBEROS'!L13 -> 9400000000 | D41: ='TASAS PROMEDIO'!G28 -> 18.533 | E41: %o | F41: =ROUND((C41*D41/1000),0) -> 174210200 | G41: N/A | H41: =ROUND((F41),0) -> 174210200 | I41: =ROUND((F41/365*$C$12),0) -> 174210200 | J41: =ROUND((I41),0) -> 174210200
B42: TOTAL GRUPO 2 | J42: =J39+J41 -> 1052456578
B43: La póliza de Vida Grupo Alcalde, Personero y Concejales incluye el incremento automático del salario del Alcalde para el año 2025, por lo tanto no se generará cobro de prima adicional, por este concepto.
B45: GRUPO 3 | F45: PRIMA ANUAL | I45: PRIMA PERIODO PROYECTADO
B46: RAMO | C46: VALOR ASEGURADO | D46: TASA ANUAL ESTUDIO MERCADO | F46: PRIMA NETA ANUAL | G46: IVA 5% | H46: TOTAL PRIMA ANUAL | I46: PRIMA NETA PROYECTADA | J46: IVA 5% | K46: TOTAL PROYECCIÓN
B47: SALUD CONCEJALES, PERSONERA, ALCALDE (21 ASEGURADOS) | C47: ILIMITADO | D47: N/A | E47: N/A | F47: ='SALUD EDILES Y CONCEJALES'!H68 -> 1.8065655e+08 | G47: =ROUND((F47*5%),0) -> 9032828 | H47: =ROUND((F47+G47),0) -> 189689380 | I47: =ROUND((F47/365*$D$12),0) -> 168777765 | J47: =ROUND((I47*5%),0) -> 8438888 | K47: =ROUND((I47+J47),0) -> 177216653
...

Sheet TASAS PROMEDIO
C1: ='ESTUDIO DE MERCADO'!$B$2 -> ALCALDIA DISTRITAL DE CARTAGENA DE INDIAS
C2: LICITACIÓN PÚBLICA 2024
C3: DETERMINACIÓN TASAS PROMEDIOS
B5: RAMO | C5: ENTIDAD | D5: PROCESO DE CONTRATACION | E5: LIMITE ASEGURADO | F5: TASAS | G5: CALCULO DE TASA PROMEDIO
G6: PROMEDIO TASA MERCADO (A) | H6: AJUSTE POR SINIESTRALIDAD Y/O MERCADO | I6: TASA FINAL PROMEDIO | J6: TIPO DE TASA % - %o
B7: TODO RIESGO DAÑOS MATERIALES | C7: ALCALDIA DISTRITAL DE CARTAGENA DE INDIAS | D7: LP-DAAL-UAC-016-2023 | F7: 2.71 | G7: =AVERAGE(F7:F8) -> 3.008 | H7: 0 | I7: =G7+H8 -> 3.008 | J7: %o
C8: UNIDAD ADMINISTRATIVA ESPECIAL CUERPO OFICIAL DE BOMBEROS | D8: UAECOB-LP-01-2024 | E8: 212999494241 | F8: 3.306
B9: TODO RIESGO EQUIPO Y MAQUINARÍA | C9: ALCALDIA DISTRITAL DE CARTAGENA DE INDIAS | D9: LP-DAAL-UAC-016-2023 | F9: 10 | G9: =AVERAGE(F9:F11) -> 11.464667 | H9: 0 | I9: =G9+H10 -> 11.464667 | J9: %o
C10: MUNICIPIO BARRANQUILLA | D10: LP-002-2023 | F10: 13.594
C11: COMPUTADORES PARA EDUCAR | D11: LP-01-24 | F11: 10.8
B12: MANEJO GLOBAL | C12: ALCALDIA DISTRITAL DE CARTAGENA DE INDIAS | D12: LP-DAAL-UAC-016-2023 | F12: 10.04 | G12: =AVERAGE(F12:F14) -> 10.8 | H12: 0 | I12: =+G12 -> 10.8 | J12: %
C13: GOBERNACIÓN DEL QUINDIO | D13: LP-014-2022 | E13: 600000000 | F13: 12.5
C14: MUNICIPIO DE ENVIGADO | D14: ENV-11-21-0803-23 | E14: 750000000 | F14: 9.86
B15: RESPONSABILIDAD CIVIL EXTRACONTRACTUAL | C15: ALCALDIA DISTRITAL DE CARTAGENA DE INDIAS | D15: LP-DAAL-UAC-016-2023 | F15: 0.5 | G15: =AVERAGE(F15:F18) -> 0.51175 | H15: 0 | I15: =+(G15*H15)+G15 -> 0.51175 | J15: %
C16: MUNICIPIO DE ENVIGADO | D16: ENV-11-21-0803-23 | E16: 7500000000 | F16: 0.557
C17: ALCALDIA ZIPAQUIRA | D17: SAMC-008-2024 | E17: 1500000000 | F17: 0.49
C18: ALCALDIA POPAYAN | D18: MP-SG-LP-001-2023 | F18: 0.5
B19: AUTOMÓVILES | C19: ALCALDIA DISTRITAL DE CARTAGENA DE INDIAS | D19: LP-DAAL-UAC-016-2023 | F19: 7 | G19: =AVERAGE(F19:F20) -> 7.4 | H19: 0 | I19: =G19+H19 -> 7.4 | J19: %
C20: ALCALDIA BUCARAMANGA | F20: 7.8
B21: RESPONSABILIDAD CIVIL SERVIDORES PÚBLICOS | C21: ALCALDIA DISTRITAL DE CARTAGENA DE INDIAS | D21: LP-DAAL-UAC-016-2023 | F21: 28.2467 | G21: =AVERAGE(F21:F22) -> 29.34835 | H21: 0 | I21: =G21+H22 -> 29.34835 | J21: %
C22: CONTRALORIA GENERAL DE LA REPUBLICA | D22: CGR-LP-002-2023 | F22: 30.45
B23: INFIDELIDAD Y RIESGOS FINANCIEROS | C23: ALCALDIA DISTRITAL DE CARTAGENA DE INDIAS | D23: LP-DAAL-UAC-016-2023 | F23: 4.2 | G23: =AVERAGE(F23:F25) -> 4.3333333 | H23: 0 | I23: =(G23*H23)+G23 -> 4.3333333 | J23: %
C24: AGENCIA NACIONAL DE HIDROCARBUROS - ANH | D24: ANH-01-LP-2023 | F24: 4.6
C25: INSTITUTO NACIONAL PENITENCIARIO Y CARCELARIO - INPEC | D25: LP-09-2023 | F25: 4.2
B26: VIDA GRUPO ALCALDES, PERSONEROS, CONCEJALES Y EDILES | C26: ALCALDIA DISTRITAL DE CARTAGENA DE INDIAS | D26: LP-DAAL-UAC-016-2023 | F26: 33.559 | G26: =AVERAGE(F26:F27) -> 34.8295 | H26: 0 | I26: =G26+H26 -> 34.8295 | J26: %o
C27: ALCALDIA POPAYAN | D27: MP-SG-LP-001-2023 | F27: 36.1
B28: VIDA GRUPO BOMBEROS | C28: ALCALDIA DISTRITAL DE CARTAGENA DE INDIAS | D28: LP-DAAL-UAC-016-2023 | F28: 18.533 | G28: =AVERAGE(F28:F28) -> 18.533 | H28: 0 | I28: =+G28 -> 18.533 | J28: %o
B29: SEGUROS CASCO BARCO | C29: CORPORACIÓN AUTÓNOMA PARA EL CANAL DEL DIQUE - CARDIQUE | D29: SA-CARDIQUE-016-2024 | E29: 361982440 | F29: 4.5 | G29: =AVERAGE(F29:F32) -> 4.6425 | H29: 0 | I29: =G29+H29 -> 4.6425 | J29: %
C30: CORPORACIÓN AUTÓNOMA PARA EL RIO DE MAGDALENA | D30: SAMC-002-2023 | E30: 267933320 | F30: 3.29
C31: UNIDAD ADMINISTRATIVA ESPECIAL CUERPO OFICIAL DE BOMBEROS | D31: UAECOB-LP-001-2024 | E31: 220789968 | F31: 3.5
C32: AGENCIA LOGISTICA DE LAS FUERZA MILITARES | D32: LP 002-041-2024 | E32: 642410059 | F32: 7.28
B33: SEGUROS VEHÍCULO AÉREO NO TRIPULADO (DRONE) | C33: SECRETARÍA DISTRITAL DE HABITAT | D33: SDHT-MC-010-2023 | E33: 43693304 | F33: 58.52 | G33: =AVERAGE(F33:F36) -> 54.843945 | H33: 0 | I33: =G33+H33 -> 54.843945 | J33: %
C34: INSTITUTO DISTRITAL DE GESTIÓN DE RIESGOS Y CAMBIO CLIMÁTICO - IDIGER | D34: MIC-008-2023 | E34: 21790832 | F34: 79.137345
C35: INSTITUTO GEOGRÁFICO AGUSTIN CODAZZI | D35: SAMC-02-2023 | E35: 369036467 | F35: 41.718433
C36: SERVICIO NACIONAL DE APRENDIZAJE - SENA | D36: SAMC-DG-0013-2021 | E36: 1195052025 | F36: 40

Sheet RELACIÓN CASCO AVIACIÓN
D2: ALCALDIA MAYOR DE CARTAGENA DE INDIAS
D3: LICITACIÓN 2026
D4: RELACIÓN DE DRONES
D5: TODO RIESGO CASCO AVIACIÓN
D7: FECHA ADQUISICIÓN | E7: MARCA | F7: MODELO | G7: SERIAL | H7: VALOR
D8: 42853 | E8: INSPIRE | F8: PROFESIONAL | G8: EB1115324400278 | H8: 10663000
D9: 43154 | E9: TYPHOON | F9: AEREOS | G9: YU16531091B08A01 | H9: 9996000
D10: 43154 | E10: TYPHOON | F10: AEREO | G10: YU16531012B08A01 | H10: 9996000
D11: 43154 | E11: TYPHOON | F11: AEREO | G11: YU16530887B08A01 | H11: 9996000
D12: 43154 | E12: TYPHOON | F12: AEREO | G12: YU17450113B08A01 | H12: 9996000
D13: 44272 | E13: DJI RTK | F13: MATRICE 210 | G13: 17TDGCDR133369 | H13: 29869000
D14: 44838 | E14: DJI | F14: MAVIC MINI | G14: 3Q4CK413A3PNRT | H14: 3658060
D15: 45029 | E15: DJI MAVIC | F15: N/A | G15: 1581F67PB22B200305UJ | H15: 22575000
D16: 45181 | E16: DJI MAVIC | F16: MOVIC3ENTERPRISE | G16: MOVIC3ENTERPRICE | H16: 32645746
D17: 45775 | E17: S7N | G17: 1581FQC23B8014SE1J | H17: 45647726
D18: 45775 | E18: S7N | G18: 1581F5FHD23CS00D5652 | H18: 45647726
D19: 45891 | E19: DJI | G19: 1581F6Z9A24BLML30V85 | H19: 7325000
D20: TOTAL VALOR ASEGURADO | H20: =SUM(H8:H19) -> 2.3801526e+08

Sheet RELACIÓN TR EYM
B2: ALCALDIA MAYOR DE CARTAGENA DE INDIAS
B3: LICITACIÓN 2026
B4: RELACIÓN BIENES Y VALORES ASEGURADOS
B5: TODO RIESGO EQUIPO Y MAQUINARIA
B8: DETALLE | D8: VALOR ASEGURADO | E8: INDICE VARIABLE ANUAL 5% | F8: TOTAL VALOR ASEGURADO
B9: Maquinaria en vehículo de ataque rápido RB mini pumper (no incluye chasis) Rosen Bauer 2016 | D9: =(640463506.2*1.05)*1.05 -> 7.0611102e+08 | E9: =D9*5% -> 35305551 | F9: =D9+E9 -> 7.4141657e+08
B10: Maquinaria en vehículo de ataque rápido RB mini pumper (no incluye chasis) Rosen Bauer 2016 | D10: =640463506.2*1.05*1.05 -> 7.0611102e+08 | E10: =D10*5% -> 35305551 | F10: =D10+E10 -> 7.4141657e+08
B11: Maquinaria en vehículo de ataque rápido RB mini pumper (no incluye chasis) Rosen Bauer 2016 | D11: =640463506.2*1.05*1.05 -> 7.0611102e+08 | E11: =D11*5% -> 35305551 | F11: =D11+E11 -> 7.4141657e+08
B12: Maquinaria en vehículo de ataque rápido RB mini pumper-Sistema de Incendios- Equipo Adicional (no incluye chasis) Rosen Bauer 2016 | D12: =891927387.75*1.05*1.05 -> 9.8334994e+08 | E12: =D12*5% -> 49167497 | F12: =D12+E12 -> 1.0325174e+09
B13: Maquinaria en vehículo para rescate RB mini rescue (no incluye chasis) Rosen Bauer | D13: =524389783.05*1.05*1.05 -> 5.7813974e+08 | E13: =D13*5% -> 28906987 | F13: =D13+E13 -> 6.0704672e+08
B14: Maquinaria en vehículo Escalera para rescate y extinción de incendios L56- Equipo Adicional (no incluye chasis) Metz 2016 | D14: =5740350000*1.05*1.05 -> 6328735875 | E14: =D14*5% -> 3.1643679e+08 | F14: =D14+E14 -> 6.6451727e+09
B15: Maquinaria en vehículo para rescate RB (No incluye Chasis) – Sistema de incendios – Equipo adicional 2016 | D15: =376541764.2*1.05*1.05 -> 4.151373e+08 | E15: =D15*5% -> 20756865 | F15: =D15+E15 -> 4.3589416e+08
B16: Sistema de bombeo para abastecimiento y extinción de siniestros, instalados en el vehículo de placa OUG899, ROSENBAUER 2025, (no incluye chasis) | D16: =3706235019.9*1.05*1.05 -> 4.0861241e+09 | E16: =D16*5% -> 2.0430621e+08 | F16: =D16+E16 -> 4.2904303e+09
B17: Sistema de bombeo para abastecimiento y extinción de siniestros, instalados en el vehículo de placa OUG900, ROSENBAUER 2025, (no incluye chasis) | D17: =3706235019.9*1.05*1.05 -> 4.0861241e+09 | E17: =D17*5% -> 2.0430621e+08 | F17: =D17+E17 -> 4.2904303e+09
B18: SUBTOTAL DE VALORES ASEGURADOS | D18: =SUM(D9:D17) -> 1.8595944e+10 | E18: =SUM(E9:E17) -> 9.2979721e+08 | F18: =SUM(F9:F17) -> 1.9525741e+10
B20: NOTA 1: EL OFERENTE DEBERÁ OFRECER UNA TASA ÚNICA PARA ESTE SEGURO, LA CUAL SE APLICARÁ PARA TODOS LOS MOVIMIENTOS QUE SE REALICEN DURANTE LA VIGENCIA DE LA PÓLIZA.
B21: NOTA 2: EL OFERENTE EN SU OFERTA, DEBERÁ CALCULAR EL ÍNDICE VARIABLE DE ACUERDO A LA TOTALIDAD DE LA VIGENCIA OFRECIDA.

Sheet RELACIÓN CASCO BARCO
B2: ALCALDIA MAYOR DE CARTAGENA DE INDIAS
B3: LICITACIÓN 2026
B4: RELACIÓN BIENES Y VALORES ASEGURADOS
B5: TODO RIESGO CASCO BARCO
B8: DETALLE | D8: VALOR ASEGURADO | E8: INDICE VARIABLE ANUAL 5% | F8: TOTAL VALOR ASEGURADO
B9: EMBARCACION PARA TRANSPORTE 40 PASAJEROS + 2 MOTORES MERCURY 300HP S#3B586159,3B5837 38 + 2 MOTORES FUERA DE BORDA | D9: 1298117741 | E9: =D9*5% -> 64905887 | F9: =D9+E9 -> 1.3630236e+09
B10: EMBARCACION PARA TRANSPORTE DE 16 PASAJEROS + 3 MOTORES 300HP MERCURY S# 3B583729,3B582151, 3B589266 + 3 MOTORES FUERA DE BORDA | D10: 1299947501 | E10: =D10*5% -> 64997375 | F10: =D10+E10 -> 1.3649449e+09
B11: BOTE CABINADO 32 PIES MOTOR 2 200HP | D11: 3.9285e+08 | E11: =D11*5% -> 19642500 | F11: =D11+E11 -> 4.124925e+08
B12: BOTE YAMAHA PRANSPORTE BTE21AURL | D12: 9307150 | E12: =D12*5% -> 465357.5 | F12: =D12+E12 -> 9772507.5
B13: BOTE YAMAHA TRANSPORTE BTE21210 | D13: 9307150 | E13: =D13*5% -> 465357.5 | F13: =D13+E13 -> 9772507.5
B14: BOTE NAVY SAR 4,00 SAR401 11384 | D14: 22873506 | E14: =D14*5% -> 1143675.3 | F14: =D14+E14 -> 24017181
B15: BOTE NAVY SAR SAR4,00 | D15: 22873506 | E15: =D15*5% -> 1143675.3 | F15: =D15+E15 -> 24017181
B16: BOTE ZODIACMILPRO NA XMDP336RH223 | D16: 103000000 | E16: =D16*5% -> 5150000 | F16: =D16+E16 -> 108150000
B17: BOTE ZODIACMILPRO NA XMP929PE223 | D17: 138600000 | E17: =D17*5% -> 6930000 | F17: =D17+E17 -> 145530000
B18: BOTE FB N/A | D18: 15310000 | E18: =D18*5% -> 765500 | F18: =D18+E18 -> 16075500
B19: MOTOR FUERA DE BORDA | D19: 200000000 | E19: =D19*5% -> 10000000 | F19: =D19+E19 -> 210000000
B20: MOTOR FUERA DE BORDA | D20: 200000000 | E20: =D20*5% -> 10000000 | F20: =D20+E20 -> 210000000
B21: SUBTOTAL DE VALORES ASEGURADOS | D21: =SUM(D9:D20) -> 3.7121866e+09 | E21: =SUM(E9:E20) -> 1.8560933e+08 | F21: =SUM(F9:F20) -> 3.8977959e+09
B23: NOTA 1: EL OFERENTE DEBERÁ OFRECER UNA TASA ÚNICA PARA ESTE SEGURO, LA CUAL SE APLICARÁ PARA TODOS LOS MOVIMIENTOS QUE SE REALICEN DURANTE LA VIGENCIA DE LA PÓLIZA.
B24: NOTA 2: EL OFERENTE EN SU OFERTA, DEBERÁ CALCULAR EL ÍNDICE VARIABLE DE ACUERDO A LA TOTALIDAD DE LA VIGENCIA OFRECIDA.

Sheet RELACIÓN SALUD
B2: ALCALDIA MAYOR DE CARTAGENA DE INDIAS
B3: LICITACIÓN 2026
B4: RELACIÓN BIENES Y VALORES ASEGURADOS
B5: SALUD
B8: EDILES
B9: ITEM | C9: NOMBRES Y APELLIDOS | D9: CARGO | E9: FECHA DE NACIMIENTO | F9: EDAD | G9: CÉDULA
B10: 1 | C10: DAMIÁN HERNÁNDEZ ANILLO | D10: Edil Localidad No. 1 Histórica y Caribe Norte | E10: 31670 | F10: 39 | G10: 1128048967
B11: 2 | C11: BENJAMIN HERNANDO HERRERA VÉLEZ | D11: Edil Localidad No. 1 Histórica y Caribe Norte | E11: 30875 | F11: 42 | G11: 73208929
B12: 3 | C12: DANIEL IGNACIO AGUIRRE PIEDRAHITA | D12: Edil Localidad No. 1 Histórica y Caribe Norte | E12: 29459 | F12: 45 | G12: 9145771
B13: 4 | C13: LUIS ANTONIO GONZÁLEZ GARCÍA | D13: Edil Localidad No. 1 Histórica y Caribe Norte | E13: 23845 | F13: 61 | G13: 73122279
B14: 5 | C14: JOSÉ MIGUEL ROMERO PÉREZ | D14: Edil Localidad No. 1 Histórica y Caribe Norte | E14: 33969 | F14: 33 | G14: 1050959607
B15: 6 | C15: DANIEL ALFONSO OSORIO JULIO | D15: Edil Localidad No. 1 Histórica y Caribe Norte | E15: 34336 | F15: 32 | G15: 1047469275
B16: 7 | C16: ANDERSON JOEL SAER HERMOSILLA | D16: Edil Localidad No. 1 Histórica y Caribe Norte | E16: 32526 | F16: 37 | G16: 1143329549
B17: 8 | C17: ALFONSO NICOLAS BORRE BUSTILLO | D17: Edil Localidad No. 1 Histórica y Caribe Norte | E17: 22608 | F17: 64 | G17: 73105553
B18: 9 | C18: SEBASTIAN FOX GOMEZ | D18: Edil Localidad No. 1 Histórica y Caribe Norte | E18: 34126 | F18: 33 | G18: 1047457512
B19: 10 | C19: JIMENEZ MACIA VERONICA PATRICIA | D19: Edil Localidad No. 2 Virgen y Turística. | E19: 31283 | F19: 40 | G19: 32937026
B20: 11 | C20: JULIO VILLALOBO TATIANA VANESA | D20: Edil Localidad No. 2 Virgen y Turística. | E20: 07/07/01988 | F20: 38 | G20: 1047398543
B21: 12 | C21: SOCARRAS TORRES OSCAR JAVIER | D21: Edil Localidad No. 2 Virgen y Turística. | E21: 35350 | F21: 29 | G21: 73208863
B22: 13 | C22: MOLINA RAMOS JUAN CARLOS. | D22: Edil Localidad No. 2 Virgen y Turística. | E22: 28446 | F22: 48 | G22: 7917731
B23: 14 | C23: MORALES GUERRERO LISBETH MARGARITA | D23: Edil Localidad No. 2 Virgen y Turística. | E23: 30588 | F23: 42 | G23: 45. 553.494
B24: 15 | C24: PAREJA VELASQUEZ MARCEL ENRIQUE | D24: Edil Localidad No. 2 Virgen y Turística. | E24: 36910 | F24: 25 | G24: 73193557
B25: 16 | C25: PEREZ TEHERAN KARIL LORENZO | D25: Edil Localidad No. 2 Virgen y Turística. | E25: 32634 | F25: 37 | G25: 1047416300
B26: 17 | C26: ROMERO PEREZ VICTOR MANUEL | D26: Edil Localidad No. 2 Virgen y Turística. | E26: 31721 | F26: 39 | G26: 1128051608
B27: 18 | C27: SAYAS RUZ MARIA BERNARDA | D27: Edil Localidad No. 2 Virgen y Turística. | E27: 25975 | F27: 55 | G27: 45503577
B28: 19 | C28: PEDRO MANUEL BARRIOS GELES | D28: Edil Localidad No. 3 Industrial y de la Bahia | E28: 27466 | F28: 51 | G28: 73208929
B29: 20 | C29: JULIA SUSANA CABRERA PALOMINO | D29: Edil Localidad No. 3 Industrial y de la Bahia | E29: 36271 | F29: 27 | G29: 9145771
B30: 21 | C30: ARINDA ROSA GANDARA BERRIO | D30: Edil Localidad No. 3 Industrial y de la Bahia | E30: 26444 | F30: 54 | G30: 73122279
B31: 22 | C31: MARCO ANTONIO GARCIA REALES | D31: Edil Localidad No. 3 Industrial y de la Bahia | E31: 31725 | F31: 39 | G31: 1050959607
B32: 23 | C32: GUSTAVO ENRIQUE BOSSIO CASAS | D32: Edil Localidad No. 3 Industrial y de la Bahia | E32: 29766 | F32: 45 | G32: 1047469275
B33: 24 | C33: GABRIEL ALBERTO MEDRANO ROMERO | D33: Edil Localidad No. 3 Industrial y de la Bahia | E33: 29848 | F33: 44 | G33: 1143329549
B34: 25 | C34: YADIRA MERCADO BOLAÑOS | D34: Edil Localidad No. 3 Industrial y de la Bahia | E34: 28909 | F34: 47 | G34: 73105553
B35: 26 | C35: FREDDY JAVIER PERIÑAN HERRERA | D35: Edil Localidad No. 3 Industrial y de la Bahia | E35: 33941 | F35: 33 | G35: 1047457512
B36: 27 | C36: ALBERTO ENRIQUE BERNAL NOVOA | D36: Edil Localidad No. 3 Industrial y de la Bahia | E36: 31990 | F36: 38 | G36: 1128055566
B40: ALCALDE, PERSONERO, CONCEJALES
B41: ITEM | C41: NOMBRES Y APELLIDOS | D41: CARGO | E41: FECHA DE NACIMIENTO | F41: EDAD | G41: CÉDULA
B42: 1 | C42: TURBAY PAZ DUMEK JOSE | D42: ALCALDE | E42: 25974 | F42: 55 | G42: 73547859
B43: 2 | C43: ELIANA DEL CARMEN SIMANCAS TINOCO | D43: PERSONERA | E43: 32455 | F43: 37 | G43: 1044913815
B44: 3 | C44: PIÑA ELLES HERNANDO | D44: CONCEJAL | E44: 27961 | F44: 50 | G44: 9292317
B45: 4 | C45: CORDOBA JULIO ARMANDO LUIS | D45: CONCEJAL | E45: 29095 | F45: 46 | G45: 3806696
B46: 5 | C46: BARRIOS GÓMEZ CARLOS ALBERTO | D46: CONCEJAL | E46: 29714 | F46: 45 | G46: 73180512
...

Sheet AUTOMOVILES
E2: BASE DE DATOS PARQUE AUTOMOTOR
E3: ALCALDIA MAYOR DE CARTAGENA
E4: OFICINA DE APOYO LOGISTICO
B5: No. | C5: Placa | D5: NUMERO DE MOTOR | E5: NUMERO DE CHASIS | F5: MARCA | G5: LINEA | H5: MODELO | I5: SERVICIO | J5: DEPENDENCIA | K5: TONELADAS | L5: CLASE DE VEHICULO | M5: NUMERO DE PASAJEROS | N5: VIGENCIA DE CONTRATOS EN DIAS | O5: SUBTIPO | P5: CILINDRAJE | Q5: CODIGO FASECOLDA | R5: TARIFA FASECOLDA JULIO/2024
B6: 1 | C6: KNR424 | D6: LWN F220681136 | E6: 9BG148ZK0NC450644 | F6: chevrolet | G6: COLORADO | H6: 2022 | I6: Oficiales | J6: Riesgos | K6: 3100 | L6: CAMPEROS Y CAMIONETAS | M6: 5 | N6: 365 | O6: Más de 2500 c.c. | P6: 2776 | Q6: 01621097 | R6: 110800000
B7: 2 | C7: OUG879 | D7: VF3VFAHXGMZ008462 | E7: VF3VFAHXGMZ008462 | F7: PEUGEOT | G7: EXPERT | H7: 2021 | I7: Oficiales | J7: dadis | K7: 3100 | L7: AMBULANCIA | M7: 3 | N7: 365 | O7: De 1000 a 2000 c.c. | P7: 1997 | Q7: 06806054 | R7: 99300000
B8: 3 | C8: MDK11D | D8: 162FMJ FA146346 | E8: 9F0JCKL07G1C01058 | F8: AYCO | G8: AY150GY-8 | H8: 2016 | I8: Oficiales | J8: DATT | K8: 0 | L8: MOTOS | M8: 2 | N8: 365 | O8: De 100 a 200 c.c. | P8: 149 | Q8: 14117017 | R8: 2100000
B9: 4 | C9: MDK19D | D9: 162FMJ FA146339 | E9: 9F0JCKL04G1C01051 | F9: AYCO | G9: AY150GY-8 | H9: 2016 | I9: Oficiales | J9: DATT | K9: 0 | L9: MOTOS | M9: 2 | N9: 365 | O9: De 100 a 200 c.c. | P9: 149 | Q9: 14117017 | R9: 2100000
B10: 5 | C10: MDK20D | D10: 162FMJ FA146359 | E10: 9F0JCKL0XG1C01071 | F10: AYCO | G10: AY150GY-8 | H10: 2016 | I10: Oficiales | J10: DATT | K10: 0 | L10: MOTOS | M10: 2 | N10: 365 | O10: De 100 a 200 c.c. | P10: 149 | Q10: 14117017 | R10: 2100000
B11: 6 | C11: MDK28D | D11: 162FMJ FA146351 | E11: 9F0JCKL00G1C01063 | F11: AYCO | G11: AY150GY-8 | H11: 2016 | I11: Oficiales | J11: DATT | K11: 0 | L11: MOTOS | M11: 2 | N11: 365 | O11: De 100 a 200 c.c. | P11: 149 | Q11: 14117017 | R11: 2100000
B12: 7 | C12: MDK29D | D12: 162FMJ FA146354 | E12: 9F0JCKL06G1C01066 | F12: AYCO | G12: AY150GY-8 | H12: 2016 | I12: Oficiales | J12: DATT | K12: 0 | L12: MOTOS | M12: 2 | N12: 365 | O12: De 100 a 200 c.c. | P12: 149 | Q12: 14117017 | R12: 2100000
B13: 8 | C13: MDK30D | D13: 162FMJ FA146366 | E13: 9F0JCKL02G1C01078 | F13: AYCO | G13: AY150GY-8 | H13: 2016 | I13: Oficiales | J13: DATT | K13: 0 | L13: MOTOS | M13: 2 | N13: 365 | O13: De 100 a 200 c.c. | P13: 149 | Q13: 14117017 | R13: 2100000
B14: 9 | C14: MDK31D | D14: 162FMJ FA146334 | E14: 9F0JCKL00G1C01046 | F14: AYCO | G14: AY150GY-8 | H14: 2016 | I14: Oficiales | J14: DATT | K14: 0 | L14: MOTOS | M14: 2 | N14: 365 | O14: De 100 a 200 c.c. | P14: 149 | Q14: 14117017 | R14: 2100000
B15: 10 | C15: MDK39D | D15: 162FMJ FA146324 | E15: 9F0JCKL08G1C01036 | F15: AYCO | G15: AY150GY-8 | H15: 2016 | I15: Oficiales | J15: DATT | K15: 0 | L15: MOTOS | M15: 2 | N15: 365 | O15: De 100 a 200 c.c. | P15: 149 | Q15: 14117017 | R15: 2100000
B16: 11 | C16: MDK50D | D16: 162FMJ FA146367 | E16: 9F0JCKL04G1C01079 | F16: AYCO | G16: AY150GY-8 | H16: 2016 | I16: Oficiales | J16: DATT | K16: 0 | L16: MOTOS | M16: 2 | N16: 365 | O16: De 100 a 200 c.c. | P16: 149 | Q16: 14117017 | R16: 2100000
B17: 12 | C17: MDK51D | D17: 162FMJ FA146328 | E17: 9F0JCKL0XG1C01040 | F17: AYCO | G17: AY150GY-8 | H17: 2016 | I17: Oficiales | J17: DATT | K17: 0 | L17: MOTOS | M17: 2 | N17: 365 | O17: De 100 a 200 c.c. | P17: 149 | Q17: 14117017 | R17: 2100000
B18: 13 | C18: MDK52D | D18: 162FMJ FA146364 | E18: 9F0JCKL09G1C01076 | F18: AYCO | G18: AY150GY-8 | H18: 2016 | I18: Oficiales | J18: DATT | K18: 0 | L18: MOTOS | M18: 2 | N18: 365 | O18: De 100 a 200 c.c. | P18: 149 | Q18: 14117017 | R18: 2100000
B19: 14 | C19: IXN37C | D19: JBMBTD87176 | E19: MD2PAB1Z5BFD02191 | F19: bajaj | G19: DISCOVER 100 | H19: 2011 | I19: Oficiales | J19: Bomberos | K19: 0 | L19: MOTOS | M19: 2 | N19: 365 | O19: Menos de 100 c.c. | P19: 94 | Q19: 00317048 | R19: 2000000
B20: 15 | C20: IXN42C | D20: JBMBTD87362 | E20: MD2PAB1Z1BFD02186 | F20: bajaj | G20: DISCOVER 100 | H20: 2011 | I20: Oficiales | J20: Bomberos | K20: 0 | L20: MOTOS | M20: 2 | N20: 365 | O20: Menos de 100 c.c. | P20: 94 | Q20: 00317048 | R20: 2000000
B21: 16 | C21: IXN43C | D21: JBMBTD15461 | E21: MD2PAB1Z1BFD02175 | F21: bajaj | G21: DISCOVER 100 | H21: 2011 | I21: Oficiales | J21: Bomberos | K21: 0 | L21: MOTOS | M21: 2 | N21: 365 | O21: Menos de 100 c.c. | P21: 94 | Q21: 00317048 | R21: 2000000
B22: 17 | C22: UDH40D | D22: JEZWFM314443 | E22: 9FLA37CZ6GDG80389 | F22: BAJAJ | G22: DISCOVER 125 ST | H22: 2016 | I22: Oficiales | J22: Bomberos | K22: 0 | L22: MOTOS | M22: 2 | N22: 365 | O22: De 100 a 200 c.c. | P22: 124 | Q22: 00317053 | R22: 3400000
B23: 18 | C23: UDH42D | D23: JEZWFM34913 | E23: 9FLA37CZ5GDG80786 | F23: BAJAJ | G23: DISCOVER 125 ST | H23: 2016 | I23: Oficiales | J23: Bomberos | K23: 0 | L23: MOTOS | M23: 2 | N23: 365 | O23: De 100 a 200 c.c. | P23: 124 | Q23: 00317053 | R23: 3400000
B24: 19 | C24: UDH48D | D24: JEZWFM35654 | E24: 9FLA37CZ1GDG80591 | F24: BAJAJ | G24: DISCOVER 125 ST | H24: 2016 | I24: Oficiales | J24: Bomberos | K24: 0 | L24: MOTOS | M24: 2 | N24: 365 | O24: De 100 a 200 c.c. | P24: 124 | Q24: 00317053 | R24: 3400000
B25: 20 | C25: OUG847 | D25: PA1805 | E25: 8LBETF3W2HO351665 | F25: CHEVROLET | G25: DMAX | H25: 2017 | I25: Oficiales | J25: espacio publico | K25: 0 | L25: CAMPEROS Y CAMIONETAS | M25: 4 | N25: 365 | O25: 1500 a 2500 | P25: 2500 | Q25: 01611156 | R25: 82700000
B26: 21 | C26: GWM921 | D26: BF12586518 | E26: LFNA7LCE8MAX04898 | F26: FAW | G26: CA1073P40K2L2E5A84 | H26: 2021 | I26: Oficiales | J26: Daal | K26: 8600 | L26: CARGA O MIXTO | M26: 2 | N26: 365 | O26: Menos de 5 toneladas | P26: 3000 | Q26: 25711014 | R26: 144100000
B27: 22 | C27: MUR332 | D27: QW2P FJ276930 | E27: 8AFAR23J0FJ276930 | F27: FORD | G27: RANGER | H27: 2015 | I27: Oficiales | J27: dadis | K27: 0 | L27: CAMPEROS Y CAMIONETAS | M27: 4 | N27: 365 | O27: 1500 a 2500 | P27: 2198 | Q27: 03021068 | R27: 84600000
B28: 23 | C28: OUG850 | D28: N04CVC12932 | E28: 9F3BCN4H2H2103822 | F28: HINO | G28: XZU640L-HKMLN3 | H28: 2017 | I28: Oficiales | J28: espacio publico | K28: 4550 | L28: CAMPEROS Y CAMIONETAS | M28: 3 | N28: 365 | O28: Más de 2500 c.c. | P28: 4009 | Q28: 03704034 | R28: 90000000
B29: 24 | C29: BZO85D | D29: JD21E-2180483 | E29: 9FMJD2121DF000896 | F29: HONDA | G29: XR 125 BRIO | H29: 2013 | I29: Oficiales | J29: DATT | K29: 0 | L29: MOTOS | M29: 2 | N29: 365 | O29: De 100 a 200 c.c. | P29: 125 | Q29: 03417136 | R29: 5500000
B30: 25 | C30: BZO83D | D30: JD21E-2180473 | E30: 9FMJD2120DF000890 | F30: HONDA | G30: XR 125 BRIO | H30: 2013 | I30: Oficiales | J30: DATT | K30: 0 | L30: MOTOS | M30: 2 | N30: 365 | O30: De 100 a 200 c.c. | P30: 125 | Q30: 03417136 | R30: 5500000
... B43: 38 | C43: CWV10E | D43: KL650AEAB4233 | E43: JKAKLEE16JDA97338 | F43: HONDA | G43: XR-250 TORNADO | H43: 2018 | I43: Oficial | J43: DATT | K43: 0 | L43: MOTOS | M43: 2 | N43: 365 | O43: De 100 a 200 c.c. | P43: 249 | Q43: 03417093 | R43: 9800000
B44: 39 | C44: OUG862 | D44: VE03E8502189 | E44: 1HFVE03U9K4400386 | F44: HONDA | G44: PIONEER 500-2 | H44: 2019 | I44: Oficial | J44: DATT | K44: 0 | L44: CUADRICICLO | M44: 2 | N44: 365 | P44: 475 | Q44: 03419014 | R44: 72500000
B45: 40 | C45: OUG873 | D45: F1CE3481C*7277750* | E45: 93ZL50C01K8484364 | F45: IVECO | G45: DAILY 50C17 | H45: 2019 | I45: Bomberos | J45: Bomberos | K45: 5000 | L45: OFICIALES ESPECIALES | M45: 19 | N45: 365 | O45: Más de 2500 c.c. | P45: 2998 | Q45: 10274014 | R45: 140800000
B46: 41 | C46: OUG878 | D46: M4401970 | E46: LJ11PDBD6N1300565 | F46: JAC | G46: HFC1042KND | H46: 2022 | I46: Oficiales | J46: Riesgos | K46: 2050 | L46: CARGA O MIXTO | M46: 6 | N46: 365 | O46: Menos de 5 toneladas | P46: 2746 | Q46: 11312056 | R46: 111000000
B47: 42 | C47: OUG886 | D47: 77255791 | E47: LJ11KRBD2P1104038 | F47: JAC | G47: HFC1048KN | H47: 2023 | I47: Oficiales | J47: PES | K47: 8490 | L47: CAMPEROS Y CAMIONETAS | M47: 5 | N47: 365 | O47: Más de 2500 c.c. | P47: 3760 | Q47: 11311046 | R47: 118500000
B48: 43 | C48: OUG869 | D48: 65195035170995 | E48: WD4WG3A97L3653938 | F48: mercedes benz | G48: VITO TOURER 114 | H48: 2020 | I48: Bomberos | J48: Bomberos | K48: 3050 | L48: OFICIALES ESPECIALES | M48: 8 | N48: 365 | O48: 1500 a 2500 | P48: 2499 | Q48: 05806062 | R48: 146400000
B49: 44 | C49: FVK383 | D49: 926991U1244945 | E49: 9BM958156KB105664 | F49: mercedes benz | G49: ATEGO 1726 AUB L | H49: 2019 | I49: Bomberos | J49: Bomberos | K49: 17000 | L49: OFICIALES ESPECIALES | M49: 3 | N49: 365 | O49: Más de 2500 c.c. | P49: 7201 | Q49: 05811029 | R49: 207700000
B50: 45 | C50: OUG864 | D50: 4D56UAW2143 | E50: MMBJNKL30LH000717 | F50: MITSUBISHI | G50: L200 2.5 | H50: 2020 | I50: Oficiales | J50: Riesgos | K50: 2850 | L50: CAMPEROS Y CAMIONETAS | M50: 5 | N50: 365 | O50: 1500 a 2500 | P50: 2500 | Q50: 06221024 | R50: 124900000
B51: 46 | C51: OUG804 | D51: YD25-613130P | E51: 3N6PD23Y8ZK937973 | F51: NISSAN | G51: D22/NP300 | H51: 2015 | I51: Oficiales | J51: dadis | K51: 2740 | L51: CAMPEROS Y CAMIONETAS | M51: 5 | N51: 365 | O51: 1500 a 2500 | P51: 2500 | Q51: 06420042 | R51: 77700000
B52: 47 | C52: OUG860 | D52: YD25-691136P | E52: 3N6CD35A2ZK399601 | F52: NISSAN | G52: D22/NP300 | H52: 2019 | I52: Oficiales | J52: dadis | K52: 2910 | L52: CAMPEROS Y CAMIONETAS | M52: 3 | N52: 365 | O52: 1500 a 2500 | P52: 2488 | Q52: 06421069 | R52: 113100000
B53: 48 | C53: OUG879 | D53: VF3VFAHXGMZ008462 | E53: VF3VFAHXGMZ008462 | F53: peougeot | G53: EXPERT | H53: 2021 | I53: Oficiales | J53: dadis | K53: 3100 | L53: OFICIALES ESPECIALES | M53: 3 | N53: 365 | O53: 1500 a 2500 | P53: 1997 | Q53: 06807004 | R53: 100800000
...

Sheet VIDA ALCALDE-CONCEJALES
C2: ALCALDIA MAYOR DE CARTAGENA DE INDIAS
C4: PROCESO DE CONTRATACIÓN 2024
C5: VALOR ASEGURADO POLIZA VIDA GRUPO (Alcalde, Personero, Concejales y Ediles)
F7: VIGENCIA 2024 | H7: CARGO | I7: PERSONAS | K7: Decreto 0740 del 17 de mayo de 2024 aumento 10,88% salario Alcalde Mayor
C8: VALOR ASEGURADO EN SALARIOS DE ALCALDE | F8: 20 | H8: Alcalde | I8: 1 | K8: BASE | L8: GASTOS REPRESENTACIÓN | M8: TOTAL
C9: SALARIO DEL ALCALDE 2023 | F9: =M9 -> 23827954 | H9: Personero (a) | I9: 1 | K9: 17949978 | L9: 5877976 | M9: =K9+L9 -> 23827954
C10: VALOR ASEGURADO POR PERSONA | F10: =F9*F8 -> 476559080 | H10: Concejales | I10: 19
C11: NÚMERO DE FUNCIONARIOS | F11: =I12 -> 48 | H11: Ediles | I11: 27
C12: TOTAL VALOR ASEGURADO | F12: =F10*F11 -> 22874835840 | H12: TOTAL | I12: =SUM(I8:I11) -> 48
C15: SALARIO ALCALDE 2023 | F15: 16188652
C16: SALARIO ALCALDE 2024 | F16: 17949978
C17: DIFERENCIA - INCREMENTO SALARIO 2023 | F17: =F16-F15 -> 1761326
C18: INCREMENTO EN PORCENTAJE AL SALARIO 2023 | F18: =F17/F15 -> 0.10880004
C20: INCREMENTO APROXIMADO PARA EL 2025
C21: SALARIO ALCALDE 2024 | F21: =F16 -> 17949978
C22: DIAS PARA LA ACTUALIZACIÓN DE SALARIO | E22: DESDE | F22: 45689
E23: HASTA | F23: 45938
E24: No. DÍAS | F24: =F23-F22 -> 249
C27: NOTA: EL NÚMERO DE ASEGURADOS FUE EXTRAIDO CON BASE A LA NÓMINA ACTUAL DE CONCEJALES Y EDILES ELECTOS, RESPECTO A LA NUEVA PERSONERA, SE REQUIERE CONFIRMACIÓN DE DOCUMENTO DE IDENTIDAD Y EDAD (LA RELACIÓN DE ASEGURADOS SE ENCUENTRA EN LA HOJA "SALUD EDILES Y CONCEJALES")

Sheet SALUD EDILES Y CONCEJALES
B2: ALCALDÍA MAYOR DE CARTAGENA DE INDIAS
B3: SEGURO DE SALUD ALCALDE, PERSONERO, EDILES Y CONCEJALES
G6: VIGENCIA A CONTRATAR
C7: CONDICIONES MC-DAAL-005-2024 - AXA COLPATRIA | G7: CONCEJALES, PERSONERO(A), ALCALDE | I7: EDILES
C8: PRIMA SIN IVA POR 184 DIAS (26 EDILES) | D8: 112754200 | F8: INICIO VIGENCIA | G8: 45597 | I8: 45616
C9: PRIMA SIN IVA POR CADA EDIL POR 184 DIAS | D9: =D8/26 -> 4336700 | F9: FIN VIGENCIA | G9: 45938 | I9: 45938
C10: PRIMA SIN IVA ANUAL POR EDIL | D10: =D9/184*365 -> 8602692.9
C11: PRIMA SIN IVA MENSUAL POR EDIL | D11: =D10/12 -> 716891.08
B14: EDILES - INCLUIDOS EN EL 2024 - INICIO VIGENCIA DESDE 20/11/2024 HASTA 08/10/2025
B15: ITEM | C15: NOMBRES Y APELLIDOS | D15: CARGO | E15: EDAD | F15: CÉDULA | G15: PRIMA NETA MENSUAL POR ASEGURADO | H15: PRIMA NETA ANUAL | I15: IVA | J15: TOTAL PRIMA ANUAL
B16: 1 | C16: JIMENEZ MACIA VERONICA PATRICIA | D16: Edil Localidad No. 2 Virgen y Turística. | E16: 39 AÑOS | F16: 32937026 | G16: =$D$11 -> 716891.08 | H16: =G16*12 -> 8602692.9 | I16: =H16*5% -> 430134.65 | J16: =+H16+I16 -> 9032827.6
B17: 2 | C17: JULIO VILLALOBO TATIANA VANESA | D17: Edil Localidad No. 2 Virgen y Turística. | E17: 35 AÑOS | F17: 1047398543 | G17: =$D$11 -> 716891.08 | H17: =G17*12 -> 8602692.9 | I17: =H17*5% -> 430134.65 | J17: =+H17+I17 -> 9032827.6
B18: 3 | C18: MARBELLO UTRIA OSCAR EMILIO | D18: Edil Localidad No. 2 Virgen y Turística. | E18: 42 AÑOS | F18: 73208863 | G18: =$D$11 -> 716891.08 | H18: =G18*12 -> 8602692.9 | I18: =H18*5% -> 430134.65 | J18: =+H18+I18 -> 9032827.6
B19: 4 | C19: MOLINA RAMOS JUAN CARLOS. | D19: Edil Localidad No. 2 Virgen y Turística. | E19: 46 AÑOS | F19: 7917731 | G19: =$D$11 -> 716891.08 | H19: =G19*12 -> 8602692.9 | I19: =H19*5% -> 430134.65 | J19: =+H19+I19 -> 9032827.6
B20: 5 | C20: MORALES GUERRERO LISBETH MARGARITA | D20: Edil Localidad No. 2 Virgen y Turística. | E20: 40 AÑOS | F20: 45. 553.494 | G20: =$D$11 -> 716891.08 | H20: =G20*12 -> 8602692.9 | I20: =H20*5% -> 430134.65 | J20: =+H20+I20 -> 9032827.6
B21: 6 | C21: PAREJA VELASQUEZ MARCEL ENRIQUE | D21: Edil Localidad No. 2 Virgen y Turística. | E21: 41 AÑOS | F21: 73193557 | G21: =$D$11 -> 716891.08 | H21: =G21*12 -> 8602692.9 | I21: =H21*5% -> 430134.65 | J21: =+H21+I21 -> 9032827.6
B22: 7 | C22: PEREZ TEHERAN KARIL LORENZO | D22: Edil Localidad No. 2 Virgen y Turística. | E22: 34 AÑOS | F22: 1047416300 | G22: =$D$11 -> 716891.08 | H22: =G22*12 -> 8602692.9 | I22: =H22*5% -> 430134.65 | J22: =+H22+I22 -> 9032827.6
B23: 8 | C23: ROMERO PEREZ VICTOR MANUEL | D23: Edil Localidad No. 2 Virgen y Turística. | E23: 37 AÑOS | F23: 1128051608 | G23: =$D$11 -> 716891.08 | H23: =G23*12 -> 8602692.9 | I23: =H23*5% -> 430134.65 | J23: =+H23+I23 -> 9032827.6
B24: 9 | C24: SAYAS RUZ MARIA BERNARDA | D24: Edil Localidad No. 2 Virgen y Turística. | E24: 53 AÑOS | F24: 45503577 | G24: =$D$11 -> 716891.08 | H24: =G24*12 -> 8602692.9 | I24: =H24*5% -> 430134.65 | J24: =+H24+I24 -> 9032827.6
B25: 10 | C25: PEDRO MANUEL BARRIOS GELES | D25: Edil Localidad No. 3 Industrial y de la Bahia | E25: 59 AÑO | F25: 73169463 | G25: =$D$11 -> 716891.08 | H25: =G25*12 -> 8602692.9 | I25: =H25*5% -> 430134.65 | J25: =+H25+I25 -> 9032827.6
B26: 11 | C26: JULIA SUSANA CABRERA PALOMINO | D26: Edil Localidad No. 3 Industrial y de la Bahia | E26: 25 AÑOS | F26: 1143412242 | G26: =$D$11 -> 716891.08 | H26: =G26*12 -> 8602692.9 | I26: =H26*5% -> 430134.65 | J26: =+H26+I26 -> 9032827.6
B27: 12 | C27: ARINDA ROSA GANDARA BERRIO | D27: Edil Localidad No. 3 Industrial y de la Bahia | E27: 52 AÑOS | F27: 45758011 | G27: =$D$11 -> 716891.08 | H27: =G27*12 -> 8602692.9 | I27: =H27*5% -> 430134.65 | J27: =+H27+I27 -> 9032827.6
B28: 13 | C28: MARCO ANTONIO GARCIA REALES | D28: Edil Localidad No. 3 Industrial y de la Bahia | E28: 19 AÑOS | F28: 1047380711 | G28: =$D$11 -> 716891.08 | H28: =G28*12 -> 8602692.9 | I28: =H28*5% -> 430134.65 | J28: =+H28+I28 -> 9032827.6
B29: 14 | C29: YINA MARCELA MEDINA BENAVIDES | D29: Edil Localidad No. 3 Industrial y de la Bahia | E29: 33 AÑOS | F29: 1047424872 | G29: =$D$11 -> 716891.08 | H29: =G29*12 -> 8602692.9 | I29: =H29*5% -> 430134.65 | J29: =+H29+I29 -> 9032827.6
B30: 15 | C30: GABRIEL ALBERTO MEDRANO ROMERO | D30: Edil Localidad No. 3 Industrial y de la Bahia | E30: 42 AÑOS | F30: 73186492 | G30: =$D$11 -> 716891.08 | H30: =G30*12 -> 8602692.9 | I30: =H30*5% -> 430134.65 | J30: =+H30+I30 -> 9032827.6
B31: 16 | C31: YADIRA MERCADO BOLAÑOS | D31: Edil Localidad No. 3 Industrial y de la Bahia | E31: 42 AÑOS | F31: 45687107 | G31: =$D$11 -> 716891.08 | H31: =G31*12 -> 8602692.9 | I31: =H31*5% -> 430134.65 | J31: =+H31+I31 -> 9032827.6
B32: 17 | C32: FREDDY JAVIER PERIÑAN HERRERA | D32: Edil Localidad No. 3 Industrial y de la Bahia | E32: 31 AÑOS | F32: 1047452085 | G32: =$D$11 -> 716891.08 | H32: =G32*12 -> 8602692.9 | I32: =H32*5% -> 430134.65 | J32: =+H32+I32 -> 9032827.6
... B42: 27 | C42: ALBERTO ENRIQUE BERNAL NOVOA | D42: Edil Localidad No. 1 Histórica y Caribe Norte | E42: 37 AÑOS | F42: 1128055566 | G42: =$D$11 -> 716891.08 | H42: =G42*12 -> 8602692.9 | I42: =H42*5% -> 430134.65 | J42: =+H42+I42 -> 9032827.6
B43: TOTAL PRIMA ANUAL IVA INCLUIDO | G43: =SUM(G16:G42) -> 19356059 | H43: =SUM(H16:H42) -> 2.3227271e+08 | I43: =SUM(I16:I42) -> 11613635 | J43: =SUM(J16:J42) -> 2.4388634e+08
B45: ALCALDE, PERSONERO, CONCEJALES - INCLUIDOS EN 2023 - INICIO VIGENCIA DESDE 01/11/2024 HASTA 08/10/2025
B46: ITEM | C46: NOMBRES Y APELLIDOS | D46: CARGO | E46: EDAD | F46: CÉDULA | G46: PRIMA MENSUAL POR ASEGURADO ACTUAL SIN IVA | H46: PRIMA NETA ANUAL | I46: IVA | J46: TOTAL PRIMA ANUAL
B47: 1 | C47: TURBAY PAZ DUMEK JOSE | D47: ALCALDE | E47: 53 AÑOS | F47: 73547859 | G47: =$D$11 -> 716891.08 | H47: =G47*12 -> 8602692.9 | I47: =H47*5% -> 430134.65 | J47: =H47+I47 -> 9032827.6
B48: 2 | C48: ELIANA DEL CARMEN SIMANCAS TINOCO | D48: PERSONERA | F48: 1044913815 | G48: =$D$11 -> 716891.08 | H48: =G48*12 -> 8602692.9 | I48: =H48*5% -> 430134.65 | J48: =H48+I48 -> 9032827.6
B49: 3 | C49: PIÑA ELLES HERNANDO | D49: CONCEJAL | E49: 48 AÑOS | F49: 9292317 | G49: =$D$11 -> 716891.08 | H49: =G49*12 -> 8602692.9 | I49: =H49*5% -> 430134.65 | J49: =H49+I49 -> 9032827.6
B50: 4 | C50: CORDOBA JULIO ARMANDO LUIS | D50: CONCEJAL | E50: 44 AÑOS | F50: 3806696 | G50: =$D$11 -> 716891.08 | H50: =G50*12 -> 8602692.9 | I50: =H50*5% -> 430134.65 | J50: =H50+I50 -> 9032827.6
B51: 5 | C51: BARRIOS GÓMEZ CARLOS ALBERTO | D51: CONCEJAL | E51: 41 AÑOS | F51: 73180512 | G51: =$D$11 -> 716891.08 | H51: =G51*12 -> 8602692.9 | I51: =H51*5% -> 430134.65 | J51: =H51+I51 -> 9032827.6
B52: 6 | C52: CABALLERO RODRÍGUEZ DAVID BERNARDO | D52: CONCEJAL | E52: 56 AÑOS | F52: 73117242 | G52: =$D$11 -> 716891.08 | H52: =G52*12 -> 8602692.9 | I52: =H52*5% -> 430134.65 | J52: =H52+I52 -> 9032827.6
B53: 7 | C53: RAAD DE LA OSSA CARLOS ALBERTO | D53: CONCEJAL | E53: 37 AÑOS | F53: 1047379462 | G53: =$D$11 -> 716891.08 | H53: =G53*12 -> 8602692.9 | I53: =H53*5% -> 430134.65 | J53: =H53+I53 -> 9032827.6
B54: 8 | C54: CURI ZAPATA LAUREANO MIGUEL | D54: CONCEJAL | E54: 40 AÑOS | F54: 73191260 | G54: =$D$11 -> 716891.08 | H54: =G54*12 -> 8602692.9 | I54: =H54*5% -> 430134.65 | J54: =H54+I54 -> 9032827.6
B55: 9 | C55: ESTRADA BENAVIDES GLORIA ISABEL | D55: CONCEJAL | E55: 40 AÑOS | F55: 33354483 | G55: =$D$11 -> 716891.08 | H55: =G55*12 -> 8602692.9 | I55: =H55*5% -> 430134.65 | J55: =H55+I55 -> 9032827.6
...

Sheet VIDA BOMBEROS
C1: ALCALDIA MAYOR DE CARTAGENA DE INDIAS
D2: SEGURO VIDA GRUPO BOMBEROS
C3: PROCESO DE CONTRATACIÓN 2024
C4: VALOR ASEGURADO POLIZA VIDA GRUPO (Alcalde. Personero. Concejales y Ediles)
A6: LISTADO DEL PERSONAL DEL CUEPO DE BOMBEROS AÑO 2024
A7: ITEM | B7: APELLIDOS Y NOMBRES | C7: FECHA INGRESO | D7: EDAD | E7: FECHA NACIMIENTO | F7: No. CÉDULA | G7: CARGO
A8: 1 | B8: GUERRERO TORRES ANÍBAL | C8: 34335 | D8: 64 | E8: 20862 | F8: 79143460 | G8: TENIENTE | H8: VALOR ASEGURADO POLIZA DE VIDA GRUPO BOMBEROS
A9: 2 | B9: HAMILTON VELÁSQUEZ FRANKLIN | C9: 34335 | D9: 62 | E9: 21859 | F9: 73083213 | G9: TENIENTE
A10: 3 | B10: CANABAL HERRERA ADOLFO | C10: 34335 | D10: 61 | E10: 22164 | F10: 73093341 | G10: TENIENTE | L10: VIGENCIA 2024
A11: 4 | B11: ADARRAGA JULIO DANIEL | C11: 35124 | D11: 54 | E11: 24994 | F11: 8531449 | G11: SARGENTO | I11: VALOR ASEGURADO POR PERSONA | L11: 100000000
A12: 5 | B12: SUÁREZ CABRERA OSCAR ANTONIO | C12: 33864 | D12: 47 | E12: 24017 | F12: 92506038 | G12: SARGENTO | I12: NÚMERO DE BOMBEROS | L12: 94
A13: 6 | B13: CABEZA RAMIREZ GASPAR | C13: 35123 | D13: 62 | E13: 21921 | F13: 73093253 | G13: SARGENTO | I13: TOTAL VALOR ASEGURADO | L13: =L11*L12 -> 9400000000
A14: 7 | B14: CASTILLA JOSÉ DIONISIO | C14: 34335 | D14: 60 | E14: 22755 | F14: 3882417 | G14: SARGENTO
A15: 8 | B15: MOUTHON BATISTA ALEJANDRO | C15: 34335 | D15: 58 | E15: 23398 | F15: 9285374 | G15: SARGENTO | I15: El valor asegurado por persona es el que viene actualmente en la póliza contratada por la ACAR.
A16: 9 | B16: ALARCÓN CASTRO JOSÉ AUGUSTO | C16: 35069 | D16: 51 | E16: 25875 | F16: 73153296 | G16: SARGENTO
A17: 10 | B17: VILLA SUÁREZ ENRIQUE | C17: 34335 | D17: 55 | E17: 24328 | F17: 73121648 | G17: CABO | I17: Relación de asegurados conforme listado enviado el 20/08/2024 y solicitud de asegurado adicional del 28/08/2024
A18: 11 | B18: SALGADO PÉREZ EUGENIO | C18: 34512 | D18: 60 | E18: 22480 | F18: 12552688 | G18: CABO
A19: 12 | B19: SAMPAYO PEDROZA ÁNGEL | C19: 35062 | D19: 52 | E19: 25519 | F19: 73139780 | G19: CABO
A20: 13 | B20: MONTOYA ARENAS RUBÉN DARÍO | C20: 34335 | D20: 58 | E20: 23172 | F20: 71633663 | G20: CABO
A21: 14 | B21: DOMÍNGUEZ PRADA JORGE LUÍS | C21: 35062 | D21: 55 | E21: 24466 | F21: 73125251 | G21: CABO
A22: 15 | B22: PALACIO PARDO HÉCTOR | C22: 34335 | D22: 60 | E22: 22490 | F22: 73098811 | G22: CABO
A23: 16 | B23: NAVARRO GUZMÁN JORGE | C23: 34339 | D23: 55 | E23: 24624 | F23: 73127930 | G23: CABO
A24: 17 | B24: RODRÍGUEZ ÁNGULO VÍCTOR | C24: 34335 | D24: 52 | E24: 25712 | F24: 73150266 | G24: CABO
A25: 18 | B25: LUGO MEDINA LUÍS | C25: 34335 | D25: 55 | E25: 24628 | F25: 73126429 | G25: CABO
A26: 19 | B26: CONRADO VALDELAMAR ÁLVARO | C26: 34335 | D26: 57 | E26: 23694 | F26: 73116571 | G26: CABO
A27: 20 | B27: ACUÑA TERRIL ERKY DE JESUS | C27: 39575 | D27: 45 | E27: 28272 | F27: 9293057 | G27: BOMBERO
A28: 21 | B28: AGUDELO GUERRERO JUAN JOSÉ | C28: 34335 | D28: 58 | E28: 23509 | F28: 8738550 | G28: BOMBERO
A29: 22 | B29: AGUILAR SILGADO JOSÉ LUÍS | C29: 34335 | D29: 53 | E29: 25176 | F29: 73133742 | G29: BOMBERO
... A74: 67 | B74: PINEDA LOPEZ ANTONY YVAN | C74: 42543 | D74: 36 | E74: 31287 | F74: 1047366221 | G74: BOMBERO
A75: 68 | B75: PIÑERES PEREZ LUIS DAVID | C75: 44432 | D75: 64 | F75: 73009834 | G75: BOMBERO
A76: 69 | B76: PUERTA NATES JOE | C76: 38938 | D76: 46 | E76: 26/04/1976 | F76: 73574496 | G76: BOMBERO
A77: 70 | B77: RAMÍREZ PALACIO ENRIQUE A. | C77: 34335 | D77: 55 | E77: 24451 | F77: 73123945 | G77: BOMBERO
A78: 71 | B78: REYES BOSSIO EDWIN | C78: 34335 | D78: 57 | E78: 23834 | F78: 7886934 | G78: BOMBERO
A79: 72 | B79: REYES DÍAZ JOSÉ MARÍA | C79: 35062 | D79: 53 | E79: 25196 | F79: 3951717 | G79: BOMBERO
A80: 73 | B80: TIMANA REYNEL | C80: 34335 | D80: 53 | E80: 25184 | F80: 18284822 | G80: BOMBERO
A81: 74 | B81: SEPÚLVEDA ORTIZ RONALD | C81: 35062 | D81: 48 | E81: 27135 | F81: 73166981 | G81: BOMBERO
A82: 75 | B82: SOSSA BELTRÁN GABRIEL | C82: 34335 | D82: 59 | E82: 22858 | F82: 19812000 | G82: BOMBERO
A83: 76 | B83: VANEGAS CASSIANI LEVINTON | C83: 39756 | D83: 38 | E83: 30588 | F83: 73201443 | G83: BOMBERO
A84: 77 | B84: VARGAS SALGUEDO WILLIAM | C84: 41122 | D84: 37 | E84: 31131 | F84: 1047371218 | G84: BOMBERO
A85: 78 | B85: MURCIA PARRA FRANCISCO HUMBERTO | C85: 43222 | D85: 30 | E85: 33604 | F85: 1047442895 | G85: BOMBERO
...
