Workbook
Name _Hlk209098655: HISTORICO!$A$2054
Name _Hlk209106479: HISTORICO!$A$5
Name _Hlk209106780: HISTORICO!$A$2039
Name _Hlk209107024: HISTORICO!$A$2177
Name _Hlk209107077: HISTORICO!$A$2298
Name _Hlk209107254: HISTORICO!$A$2429
Name _Hlk209107317: HISTORICO!$A$2445
Name _Hlk209107353: HISTORICO!$A$2459
Name _Hlk209107388: HISTORICO!$A$2468
Name _Hlk209107416: HISTORICO!$A$2480
Name _Hlk209107448: HISTORICO!$A$2487
Name _Hlk209107486: HISTORICO!$A$2504
Name _Hlk209107522: HISTORICO!$A$2758
Name _Hlk209107544: HISTORICO!$A$2767
Name _Hlk209107577: HISTORICO!$A$2876
Name _Hlk209107588: HISTORICO!$A$2892
Name _Hlk209107621: HISTORICO!$A$2929
Name _Hlk209107629: HISTORICO!$A$2941

Sheet HISTORICO
A1: PRESTACIÓN DE SERVICIOS DE SALUD DE BAJA Y MEDIANA COMPLEJIDAD, CON IPS EN EL ÁREA DE: URGENCIAS, HOSPITALIZACIÓN (Y DEMÁS SERVICIOS QUE SE DERIVE DE ELLOS), MEDICINA GENERAL, MEDICINA ESPECIALIZADA, CIRUGÍA AMBULATORIA, INYECTOLOGIA, PARA EL PERSONAL DE USUARIOS RESIDENTES EN EL MUNICIPIO DE BUGA Y SU ÁREA DE INFLUENCIA (YOTOCO, SAN PEDRO, GUACARI, GINEBRA, RESTREPO Y DARIÉN)
A5: ITEMS | B5: CODIGO ALTERNO | C5: CODIGO CUPS | D5: DESCRIPCION | E5: VALOR HISTORICO | F5: VALOR HISTORICO PROYECTADO
A6: 1 | B6: 702203 | C6: 702203 | D6: COLPOSCOPIA CON BIOPSIA | E6: 370440 | F6: =(E6*5.1%)+E6 -> 389332.44
A7: 2 | B7: 431002 | C7: 431002 | D7: GASTROSTOMIA VIA PERCUTANEA (ENDOSCOPICA) | E7: 605405 | F7: =(E7*5.1%)+E7 -> 636280.66
A8: 3 | B8: 890606 | C8: 890606 | D8: ASISTENCIA INTRAHOSPITALARIA POR NUTRICION Y DIETETICA - CONTROL | E8: 26460 | F8: =(E8*5.1%)+E8 -> 27809.46
A9: 4 | B9: 890608 | C9: 890608 | D9: ASISTENCIA INTRAHOSPITALARIA POR PSICOLOGIA | E9: 26460 | F9: =(E9*5.1%)+E9 -> 27809.46
A10: 5 | B10: 890502 | C10: 890502 | D10: PARTICIPACION EN JUNTA MEDICA. POR MEDICINA ESPECIALIZADA Y CASO (PACIENTE) | E10: 63504 | F10: =(E10*5.1%)+E10 -> 66742.704
A11: 6 | B11: 937000 | C11: 937000 | D11: TERAPIA FONOAUDIOLOGICA INTEGRAL SOD | E11: 26460 | F11: =(E11*5.1%)+E11 -> 27809.46
A12: 7 | B12: S22101 | C12: 5DS002 | D12: SALA DE CURACIONES | E12: 31752 | F12: =(E12*5.1%)+E12 -> 33371.352
A13: 8 | B13: 965201 | C13: 965201 | D13: LAVADO E IRRIGACION DE OIDOS | E13: 21168 | F13: =(E13*5.1%)+E13 -> 22247.568
A14: 9 | B14: 931001 | C14: 931001 | D14: TERAPIA FISICA INTEGRAL | E14: 26460 | F14: =(E14*5.1%)+E14 -> 27809.46
A15: 10 | B15: 939403 | C15: 939403 | D15: TERAPIA RESPIRATORIA INTEGRAL | E15: 26460 | F15: =(E15*5.1%)+E15 -> 27809.46
A16: 11 | B16: 53109 | C16: 53109 | D16: BLOQUEO DE NERVIOS PUDENDOS | E16: 158442 | F16: =(E16*5.1%)+E16 -> 166522.54
A17: 12 | B17: 893808 | C17: 893808 | D17: ESPIROMETRIA O CURVA DE FLUJO VOLUMEN SIMPLE | E17: 127008 | F17: =(E17*5.1%)+E17 -> 133485.41
A18: 13 | B18: 110002 | C18: 110002 | D18: EXTRACCION DE CUERPO EXTRAÑO PROFUNDO EN CORNEA | E18: 84672 | F18: =(E18*5.1%)+E18 -> 88990.272
A19: 14 | B19: 951103 | C19: 951103 | D19: FOTOGRAFIA A COLOR DE SEGMENTO POSTERIOR DEL OJO | E19: 158760 | F19: =(E19*5.1%)+E19 -> 166856.76
A20: 15 | B20: 951102 | C20: 951102 | D20: FOTOGRAFIA A COLOR DE SEGMENTO ANTERIOR DEL OJO | E20: 158760 | F20: =(E20*5.1%)+E20 -> 166856.76
A21: 16 | B21: 881313 | C21: 881313 | D21: ECOGRAFIA DE ABDOMEN (PILORO) | E21: 89223 | F21: =(E21*5.1%)+E21 -> 93773.373
A22: 17 | B22: 881211 | C22: 881211 | D22: ECOGRAFIA DE TORAX (PERICARDIO O PLEURA) | E22: 89223 | F22: =(E22*5.1%)+E22 -> 93773.373
A23: 18 | B23: 881130 | C23: 881130 | D23: ECOGRAFÍA DE TEJIDOS BLANDOS DE CARA | E23: 83402 | F23: =(E23*5.1%)+E23 -> 87655.502
A24: 19 | B24: 881151 | C24: 881151 | D24: ECOGRAFIA DE GLANGLIOS CERVICALES (MAPEO) | E24: 89223 | F24: =(E24*5.1%)+E24 -> 93773.373
... A2024: 2019 | B2024: 91100302 | C2024: 911003 | D2024: COOMBS INDIRECTO. PRUEBA CUALITATIVA | E2024: 16194 | F2024: =(E2024*5.1%)+E2024 -> 17019.894
A2025: 2020 | B2025: S12103 | C2025: 110A01 | D2025: INTERNACIÓN EN UNIDAD DE CUIDADO INTENSIVO ADULTOS | E2025: 1563100 | F2025: =(E2025*5.1%)+E2025 -> 1642818.1
A2026: 2021 | B2026: S12101 | C2026: 108A01 | D2026: INTERNACIÓN EN UNIDAD DE CUIDADO INTENSIVO NEONATAL | E2026: 1563100 | F2026: =(E2026*5.1%)+E2026 -> 1642818.1
A2027: 2022 | B2027: S12400 | C2027: 120B01 | D2027: INTERNACIÓN EN UNIDAD DE CUIDADO BÁSICO NEONATAL (CUNA O INCUBADORA) | E2027: 547947 | F2027: =(E2027*5.1%)+E2027 -> 575892.3
A2028: 2023 | B2028: S12203 | C2028: 107M01 | D2028: INTERNACIÓN EN UNIDAD DE CUIDADO INTERMEDIO ADULTO | E2028: 970200 | F2028: =(E2028*5.1%)+E2028 -> 1019680.2
A2029: 2024 | B2029: S12201 | C2029: 105M01 | D2029: INTERNACIÓN EN UNIDAD DE CUIDADO INTERMEDIO NEONATAL | E2029: 970200 | F2029: =(E2029*5.1%)+E2029 -> 1019680.2
A2030: 2025 | B2030: S11301 | C2030: 129A01 | D2030: INTERNACIÓN COMPLEJIDAD ALTA HABITACION UNIPERSONAL (INCLUYE AISLAMIENTO) | E2030: 431200 | F2030: =(E2030*5.1%)+E2030 -> 453191.2
A2031: 2026 | B2031: S11302 | C2031: 129A02 | D2031: INTERNACIÓN COMPLEJIDAD ALTA HABITACION BIPERSONAL | E2031: 377300 | F2031: =(E2031*5.1%)+E2031 -> 396542.3
A2032: 2027 | B2032: S11303 | C2032: 129A02 | D2032: INTERNACIÓN COMPLEJIDAD ALTA TRES O MÁS CAMAS | E2032: 377300 | F2032: =(E2032*5.1%)+E2032 -> 396542.3
A2033: 2028 | B2033: S11304 | C2033: 129A02 | D2033: INTERNACIÓN COMPLEJIDAD ALTA CUATRO O MÁS CAMAS | E2033: 269500 | F2033: =(E2033*5.1%)+E2033 -> 283244.5
A2034: 2029 | B2034: S20200 | C2034: 5DSA01 | D2034: SALA DE OBSERVACION (URGENCIAS) DE COMPLEJIDAD ALTA SOD | E2034: 172480 | F2034: =(E2034*5.1%)+E2034 -> 181276.48
A2035: 2030 | B2035: S22101 | C2035: 5DS002 | D2035: SALA DE CURACIONES | E2035: 32340 | F2035: =(E2035*5.1%)+E2035 -> 33989.34
A2039: ITEMS | B2039: CODIGO ALTERNO | C2039: CODIGO CUPS | D2039: DESCRIPCION | E2039: VALOR HISTORICO | F2039: VALOR HISTORICO PROYECTADO
A2040: 1 | B2040: 964900 | C2040: 964900 | D2040: INSTILACION GENITOURINARIA SOD | E2040: 175000 | F2040: =(E2040*5.1%)+E2040 -> 183925
A2041: 2 | B2041: 881511 | C2041: 881511 | D2041: ECOGRAFIA TESTICULAR CON ANALISIS DOPPLER | E2041: 92730 | F2041: =(E2041*5.1%)+E2041 -> 97459.23
A2042: 3 | B2042: 890207 | C2042: 890207 | D2042: CONSULTA DE PRIMERA VEZ POR OPTOMETRIA | E2042: 86400 | F2042: =(E2042*5.1%)+E2042 -> 90806.4
A2043: 4 | B2043: 89020207 | C2043: 890202 | D2043: CONSULTA DE PRIMERA VEZ POR OTRAS ESPECIALIDADES MEDICAS (CARDIOLOGIA) | E2043: 132000 | F2043: =(E2043*5.1%)+E2043 -> 138732
A2044: 5 | B2044: 89020211 | C2044: 890202 | D2044: CONSULTA DE PRIMERA VEZ POR OTRAS ESPECIALIDADES MEDICAS (CIRUGIA PLASTICA ESTETICA Y RECONSTRUCTIVA) | E2044: 132000 | F2044: =(E2044*5.1%)+E2044 -> 138732
A2045: 6 | B2045: 89020212 | C2045: 890202 | D2045: CONSULTA DE PRIMERA VEZ POR OTRAS ESPECIALIDADES MEDICAS (CIRUGIA VASCULAR) | E2045: 132000 | F2045: =(E2045*5.1%)+E2045 -> 138732
...

Sheet MERCADO
A1: PRESTACIÓN DE SERVICIOS DE SALUD DE BAJA Y MEDIANA COMPLEJIDAD, CON IPS EN EL ÁREA DE: URGENCIAS, HOSPITALIZACIÓN (Y DEMÁS SERVICIOS QUE SE DERIVE DE ELLOS), MEDICINA GENERAL, MEDICINA ESPECIALIZADA, CIRUGÍA AMBULATORIA, INYECTOLOGIA, PARA EL PERSONAL DE USUARIOS RESIDENTES EN EL MUNICIPIO DE BUGA Y SU ÁREA DE INFLUENCIA (YOTOCO, SAN PEDRO, GUACARI, GINEBRA, RESTREPO Y DARIÉN)
A5: ITEM | B5: CODIGO ALTERNO | C5: COD CUPS | D5: DESCRIPCION IPS | E5: DESCRIPCION CUPS | F5: FHSJB | G5: REDESIMAT | H5: DIVINO NIÑO | I5: VALOR MERCADO
A6: 1 | B6: 908856 | C6: 908856 | D6: PCR IDENTIFICACIÓN DE OTRO VIRUS (ESPECÍFICA) POR PRUEBAS MOLECULARES | E6: IDENTIFICACIÓN DE OTRO VIRUS (ESPECÍFICA) POR PRUEBAS MOLECULARES | F6: 155000 | G6: NO OFERTA | H6: NO OFERTA | I6: =MIN(F6:H6) -> 155000
A7: 2 | B7: 903043 | C7: 903043 | D7: PRUEBA DE ALIENTO (13 C UREA) PARA HELICOBACTER PILORY | E7: PRUEBA DE ALIENTO (13 C UREA) PARA HELICOBACTER PILORY | F7: 244000 | G7: NO OFERTA | H7: NO OFERTA | I7: =MIN(F7:H7) -> 244000
A8: 3 | B8: 711110 | C8: 711110 | D8: BIOPSIA DE LABIO MAYOR VULVA | E8: BIOPSIA DE LABIO MAYOR VULVA | F8: 183100 | G8: NO OFERTA | H8: NO OFERTA | I8: =MIN(F8:H8) -> 183100
A9: 4 | B9: 272301 | C9: 272301 | D9: BIOPSIA INCISIONAL DE LABIO | E9: BIOPSIA INCISIONAL DE LABIO | F9: 183100 | G9: NO OFERTA | H9: NO OFERTA | I9: =MIN(F9:H9) -> 183100
A10: 5 | B10: 718101 | C10: 718101 | D10: EXTRACCION DE CUERPO EXTRAÑO DE VULVA O PERINE SIN INCISION | E10: EXTRACCIÓN DE CUERPO EXTRAÑO DE VULVA O PERINÉ SIN INCISIÓN | F10: 183100 | G10: NO OFERTA | H10: NO OFERTA | I10: =MIN(F10:H10) -> 183100
A11: 6 | B11: 136504 | C11: 136504 | D11: CAPSULOTOMIA MANUAL | E11: CAPSULOTOMÍA MANUAL | F11: 183100 | G11: NO OFERTA | H11: NO OFERTA | I11: =MIN(F11:H11) -> 183100
A12: 7 | B12: 243101 | C12: 243101 | D12: ESCISION DE LESION BENIGNA ENCAPSULADA EN ENCIA HASTA DE TRES CENTIMETROS | E12: ESCISIÓN DE LESIÓN BENIGNA ENCAPSULADA EN ENCÍA HASTA DE TRES CENTÍMETROS | F12: 183100 | G12: NO OFERTA | H12: NO OFERTA | I12: =MIN(F12:H12) -> 183100
A13: 8 | B13: 255006 | C13: 255006 | D13: PLASTIA DE FRENILLO LINGUAL | E13: PLASTIA DE FRENILLO LINGUAL | F13: 183100 | G13: NO OFERTA | H13: NO OFERTA | I13: =MIN(F13:H13) -> 183100
A14: 9 | B14: 272401 | C14: 272401 | D14: BIOPSIA POR ASPIRACION CON AGUJA FINA EN CAVIDAD ORAL [BACAF] | E14: BIOPSIA POR ASPIRACIÓN CON AGUJA FINA EN CAVIDAD ORAL [BACAF] | F14: 183100 | G14: NO OFERTA | H14: NO OFERTA | I14: =MIN(F14:H14) -> 183100
A15: 10 | B15: 274901 | C15: 274901 | D15: REMOCION DE CUERPO EXTRAÑO EN TEJIDOS BLANDOS DE LA BOCA | E15: REMOCIÓN DE CUERPO EXTRAÑO EN TEJIDOS BLANDOS DE LA BOCA | F15: 183100 | G15: NO OFERTA | H15: =VLOOKUP(C15,'D NIÑO'!$A$2:$E$741,5,0) -> 52300 | I15: =MIN(F15:H15) -> 52300
A16: 11 | B16: 275201 | C16: 275201 | D16: ESTOMATORRAFIA (SUTURA DE HERIDA EN MUCOSA ORAL) DE MENOS DE CINCO CENTIMETROS | E16: ESTOMATORRAFIA (SUTURA DE HERIDA EN MUCOSA ORAL) DE MENOS DE CINCO CENTÍMETROS | F16: 183100 | G16: NO OFERTA | H16: NO OFERTA | I16: =MIN(F16:H16) -> 183100
A17: 12 | B17: 275202 | C17: 275202 | D17: ESTOMATORRAFIA (SUTURA DE HERIDA EN MUCOSA ORAL) DE MAS DE CINCO CENTIMETROS | E17: ESTOMATORRAFIA (SUTURA DE HERIDA EN MUCOSA ORAL) DE MÁS DE CINCO CENTÍMETROS | F17: 183100 | G17: NO OFERTA | H17: NO OFERTA | I17: =MIN(F17:H17) -> 183100
A18: 13 | B18: 289102 | C18: 289102 | D18: BIOPSIA DE AMIGDALAS O VEGETACIONES ADENOIDES | E18: BIOPSIA DE AMÍGDALAS O VEGETACIONES ADENOIDES | F18: 183100 | G18: NO OFERTA | H18: NO OFERTA | I18: =MIN(F18:H18) -> 183100
A19: 14 | B19: 613102 | C19: 613102 | D19: FULGURACION DE LESION ESCROTAL | E19: FULGURACIÓN DE LESIÓN ESCROTAL | F19: 183100 | G19: NO OFERTA | H19: NO OFERTA | I19: =MIN(F19:H19) -> 183100
A20: 15 | B20: 642101 | C20: 642101 | D20: FULGURACION O RESECCION DE LESION EN PENE SOD | E20: FULGURACIÓN O RESECCIÓN DE LESIÓN EN PENE SOD | F20: 183100 | G20: NO OFERTA | H20: NO OFERTA | I20: =MIN(F20:H20) -> 183100
A21: 16 | B21: 711301 | C21: 711301 | D21: BIOPSIA EN PERINE | E21: BIOPSIA EN PERINÉ | F21: 183100 | G21: NO OFERTA | H21: NO OFERTA | I21: =MIN(F21:H21) -> 183100
A22: 17 | B22: 712002 | C22: 712002 | D22: INCISION Y DRENAJE DE LA GLANDULA DE BARTHOLIN | E22: INCISIÓN Y DRENAJE DE LA GLÁNDULA DE BARTHOLIN | F22: 183100 | G22: NO OFERTA | H22: =VLOOKUP(C22,'D NIÑO'!$A$2:$E$741,5,0) -> 385900 | I22: =MIN(F22:H22) -> 183100
A23: 18 | B23: 713501 | C23: 713501 | D23: RESECCION DE GRANULOMA VULVO-PERINEAL | E23: RESECCIÓN DE GRANULOMA VULVO-PERINEAL | F23: 183100 | G23: NO OFERTA | H23: NO OFERTA | I23: =MIN(F23:H23) -> 183100
A24: 19 | B24: 761201 | C24: 761201 | D24: ARTROCENTESIS DIAGNOSTICA DE ARTICULACION TEMPOROMANDIBULAR | E24: ARTROCENTESIS DIAGNÓSTICA DE ARTICULACIÓN TEMPOROMANDIBULAR | F24: 183100 | G24: NO OFERTA | H24: NO OFERTA | I24: =MIN(F24:H24) -> 183100
A25: 20 | B25: 786602 | C25: 786602 | D25: EXTRACCION DE CUERPO EXTRAÑO EN ROTULA. VIA ABIERTA | E25: EXTRACCIÓN DE CUERPO EXTRAÑO EN RÓTULA, VÍA ABIERTA | F25: 183100 | G25: NO OFERTA | H25: NO OFERTA | I25: =MIN(F25:H25) -> 183100
A26: 21 | B26: 790101 | C26: 790101 | D26: REDUCCION CERRADA DE FRACTURA SIN FIJACION INTERNA DE ESCAPULA. CLAVICULA O TORAX (COSTILLAS O ESTERNON) SOD | E26: REDUCCIÓN CERRADA DE FRACTURA SIN FIJACIÓN INTERNA DE ESCÁPULA, CLAVÍCULA O TÓRAX (COSTILLAS O ESTERNÓN) SOD | F26: 183100 | G26: NO OFERTA | H26: NO OFERTA | I26: =MIN(F26:H26) -> 183100
A27: 22 | B27: 863103 | C27: 863103 | D27: RESECCION DE LESIONES CUTANEAS POR CAUTERIZACION. FULGURACION O CRIOTERAPIA EN AREA ESPECIAL. HASTA TRES LESIONES | E27: RESECCIÓN DE LESIONES CUTÁNEAS POR CAUTERIZACIÓN, FULGURACIÓN O CRIOTERAPIA EN ÁREA ESPECIAL, HASTA TRES LESIONES | F27: 183100 | G27: NO OFERTA | H27: =VLOOKUP(C27,'D NIÑO'!$A$2:$E$741,5,0) -> 102700 | I27: =MIN(F27:H27) -> 102700
A28: 23 | B28: 868602 | C28: 868602 | D28: REPOSICION UÑA DE POLIETILENO | E28: REPOSICIÓN UÑA DE POLIETILENO | F28: 183100 | G28: NO OFERTA | H28: NO OFERTA | I28: =MIN(F28:H28) -> 183100
A29: 24 | B29: 180101 | C29: 180101 | D29: DRENAJE DE COLECCION DE PABELLON AURICULAR SOD | E29: DRENAJE DE COLECCIÓN DE PABELLÓN AURÍCULAR SOD | F29: 223100 | G29: NO OFERTA | H29: NO OFERTA | I29: =MIN(F29:H29) -> 223100
A30: 25 | B30: 243102 | C30: 243102 | D30: ESCISION DE LESION BENIGNA ENCAPSULADA EN ENCIA DE MAS DE TRES CENTIMETROS | E30: ESCISIÓN DE LESIÓN BENIGNA ENCAPSULADA EN ENCÍA DE MÁS DE TRES CENTÍMETROS | F30: 237000 | G30: NO OFERTA | H30: NO OFERTA | I30: =MIN(F30:H30) -> 237000
A31: 26 | B31: 345401 | C31: 345401 | D31: BIOPSIA DE PLEURA PERCUTANEA | E31: BIOPSIA DE PLEURA PERCUTÁNEA | F31: 237000 | G31: NO OFERTA | H31: NO OFERTA | I31: =MIN(F31:H31) -> 237000
A32: 27 | B32: 641101 | C32: 641101 | D32: BIOPSIA DE PENE SOD | E32: BIOPSIA DE PENE SOD | F32: 237000 | G32: NO OFERTA | H32: NO OFERTA | I32: =MIN(F32:H32) -> 237000
A33: 28 | B33: 671201 | C33: 671201 | D33: BIOPSIA EN SACABOCADO DE CUELLO UTERINO | E33: BIOPSIA EN SACABOCADO DE CUELLO UTERINO | F33: 237000 | G33: NO OFERTA | H33: NO OFERTA | I33: =MIN(F33:H33) -> 237000
A34: 29 | B34: 671202 | C34: 671202 | D34: BIOPSIA DE CUELLO UTERINO CIRCUNFERENCIAL | E34: BIOPSIA DE CUELLO UTERINO CIRCUNFERENCIAL | F34: 237000 | G34: NO OFERTA | H34: NO OFERTA | I34: =MIN(F34:H34) -> 237000
A35: 30 | B35: 681105 | C35: 681105 | D35: BIOPSIA DE ENDOMETRIO | E35: BIOPSIA DE ENDOMETRIO | F35: 237000 | G35: NO OFERTA | H35: NO OFERTA | I35: =MIN(F35:H35) -> 237000
A36: 31 | B36: 761101 | C36: 761101 | D36: BIOPSIA DE HUESOS MAXILARES | E36: BIOPSIA DE HUESOS MAXILARES | F36: 237000 | G36: NO OFERTA | H36: NO OFERTA | I36: =MIN(F36:H36) -> 237000
A37: 32 | B37: 861201 | C37: 861201 | D37: EXTRACCION DE CUERPO EXTRAÑO EN PIEL O TEJIDO CELULAR SUBCUTANEO DE AREA GENERAL POR INCISION | E37: EXTRACCIÓN DE CUERPO EXTRAÑO EN PIEL O TEJIDO CELULAR SUBCUTÁNEO DE ÁREA GENERAL POR INCISIÓN | F37: 237000 | G37: NO OFERTA | H37: NO OFERTA | I37: =MIN(F37:H37) -> 237000
A38: 33 | B38: 862801 | C38: 862801 | D38: DESBRIDAMIENTO NO ESCISIONAL DE TEJIDO DESVITALIZADO HASTA DEL 5% DE SUPERFICIE CORPORAL | E38: DESBRIDAMIENTO NO ESCISIONAL DE TEJIDO DESVITALIZADO HASTA DEL 5% DE SUPERFICIE CORPORAL | F38: 237000 | G38: NO OFERTA | H38: NO OFERTA | I38: =MIN(F38:H38) -> 237000
A39: 34 | B39: 863104 | C39: 863104 | D39: RESECCION DE LESIONES CUTANEAS POR CAUTERIZACION. FULGURACION O CRIOTERAPIA EN AREA ESPECIAL. ENTRE TRES A DIEZ LESIONES | E39: RESECCIÓN DE LESIONES CUTÁNEAS POR CAUTERIZACIÓN, FULGURACIÓN O CRIOTERAPIA EN ÁREA ESPECIAL, ENTRE TRES A DIEZ LESIONES | F39: 237000 | G39: NO OFERTA | H39: =VLOOKUP(C39,'D NIÑO'!$A$2:$E$741,5,0) -> 185000 | I39: =MIN(F39:H39) -> 185000
A40: 35 | B40: 865101 | C40: 865101 | D40: SUTURA DE HERIDA UNICA. EN AREA GENERAL | E40: SUTURA DE HERIDA ÚNICA, EN ÁREA GENERAL | F40: 237000 | G40: NO OFERTA | H40: =VLOOKUP(C40,'D NIÑO'!$A$2:$E$741,5,0) -> 32700 | I40: =MIN(F40:H40) -> 32700
A41: 36 | B41: 10201 | C41: 10201 | D41: PUNCION (ASPIRACION DE LIQUIDO) VENTRICULAR A TRAVES DE CATETER PREVIAMENTE IMPLANTADO | E41: PUNCIÓN (ASPIRACIÓN DE LÍQUIDO) VENTRICULAR A TRAVÉS DE CATÉTER PREVIAMENTE IMPLANTADO | F41: 260100 | G41: NO OFERTA | H41: NO OFERTA | I41: =MIN(F41:H41) -> 260100
A42: 37 | B42: 10205 | C42: 10205 | D42: PUNCION (ASPIRACION DE LIQUIDO) VENTRICULAR | E42: PUNCIÓN (ASPIRACIÓN DE LÍQUIDO) VENTRICULAR | F42: 260100 | G42: NO OFERTA | H42: NO OFERTA | I42: =MIN(F42:H42) -> 260100
A43: 38 | B43: 41201 | C43: 41201 | D43: BIOPSIA ABIERTA DE NERVIO O GANGLIO PERIFERICO SOD | E43: BIOPSIA ABIERTA DE NERVIO O GANGLIO PERIFÉRICO SOD | F43: 260100 | G43: NO OFERTA | H43: NO OFERTA | I43: =MIN(F43:H43) -> 260100
...

Sheet ESTIMADO
A1: PRESTACIÓN DE SERVICIOS DE SALUD DE BAJA Y MEDIANA COMPLEJIDAD, CON IPS EN EL ÁREA DE: URGENCIAS, HOSPITALIZACIÓN (Y DEMÁS SERVICIOS QUE SE DERIVE DE ELLOS), MEDICINA GENERAL, MEDICINA ESPECIALIZADA, CIRUGÍA AMBULATORIA, INYECTOLOGIA, PARA EL PERSONAL DE USUARIOS RESIDENTES EN EL MUNICIPIO DE BUGA Y SU ÁREA DE INFLUENCIA (YOTOCO, SAN PEDRO, GUACARI, GINEBRA, RESTREPO Y DARIÉN)
A5: ITEM | B5: CODIGO IPS | C5: ALTERNO | D5: DESCRIPCION IPS | E5: DESCRIPCION CUPS | F5: PRECIO SECOP | G5: VALOR HISTORICO PROYECTADO | H5: VALOR MERCADO | I5: VALOR ESTIMADO
A6: 1 | B6: =MERCADO!B6 -> 908856 | C6: =MERCADO!C6 -> 908856 | D6: PCR IDENTIFICACIÓN DE OTRO VIRUS (ESPECÍFICA) POR PRUEBAS MOLECULARES | E6: IDENTIFICACIÓN DE OTRO VIRUS (ESPECÍFICA) POR PRUEBAS MOLECULARES | F6: 141666 | G6: 148890.97 | H6: 155000 | I6: 148890.97
A7: 2 | B7: =MERCADO!B7 -> 903043 | C7: =MERCADO!C7 -> 903043 | D7: PRUEBA DE ALIENTO (13 C UREA) PARA HELICOBACTER PILORY | E7: PRUEBA DE ALIENTO (13 C UREA) PARA HELICOBACTER PILORY | F7: 223100 | G7: 234478.1 | H7: 244000 | I7: 234478.1
A8: 3 | B8: =MERCADO!B8 -> 711110 | C8: =MERCADO!C8 -> 711110 | D8: BIOPSIA DE LABIO MAYOR VULVA | E8: BIOPSIA DE LABIO MAYOR VULVA | F8: 167370 | G8: 175905.87 | H8: 183100 | I8: 175905.87
A9: 4 | B9: =MERCADO!B9 -> 272301 | C9: =MERCADO!C9 -> 272301 | D9: BIOPSIA INCISIONAL DE LABIO | E9: BIOPSIA INCISIONAL DE LABIO | F9: 167370 | G9: 175905.87 | H9: 183100 | I9: 175905.87
A10: 5 | B10: =MERCADO!B10 -> 718101 | C10: =MERCADO!C10 -> 718101 | D10: EXTRACCION DE CUERPO EXTRAÑO DE VULVA O PERINE SIN INCISION | E10: EXTRACCIÓN DE CUERPO EXTRAÑO DE VULVA O PERINÉ SIN INCISIÓN | F10: 167370 | G10: 175905.87 | H10: 183100 | I10: 175905.87
A11: 6 | B11: =MERCADO!B11 -> 136504 | C11: =MERCADO!C11 -> 136504 | D11: CAPSULOTOMIA MANUAL | E11: CAPSULOTOMÍA MANUAL | F11: 167370 | G11: 175905.87 | H11: 183100 | I11: 175905.87
A12: 7 | B12: =MERCADO!B12 -> 243101 | C12: =MERCADO!C12 -> 243101 | D12: ESCISION DE LESION BENIGNA ENCAPSULADA EN ENCIA HASTA DE TRES CENTIMETROS | E12: ESCISIÓN DE LESIÓN BENIGNA ENCAPSULADA EN ENCÍA HASTA DE TRES CENTÍMETROS | F12: 167370 | G12: 175905.87 | H12: 183100 | I12: 175905.87
A13: 8 | B13: =MERCADO!B13 -> 255006 | C13: =MERCADO!C13 -> 255006 | D13: PLASTIA DE FRENILLO LINGUAL | E13: PLASTIA DE FRENILLO LINGUAL | F13: 167370 | G13: 175905.87 | H13: 183100 | I13: 175905.87
A14: 9 | B14: =MERCADO!B14 -> 272401 | C14: =MERCADO!C14 -> 272401 | D14: BIOPSIA POR ASPIRACION CON AGUJA FINA EN CAVIDAD ORAL [BACAF] | E14: BIOPSIA POR ASPIRACIÓN CON AGUJA FINA EN CAVIDAD ORAL [BACAF] | F14: 167370 | G14: 175905.87 | H14: 183100 | I14: 175905.87
A15: 10 | B15: =MERCADO!B15 -> 274901 | C15: =MERCADO!C15 -> 274901 | D15: REMOCION DE CUERPO EXTRAÑO EN TEJIDOS BLANDOS DE LA BOCA | E15: REMOCIÓN DE CUERPO EXTRAÑO EN TEJIDOS BLANDOS DE LA BOCA | F15: 167370 | G15: 175905.87 | H15: 52300 | I15: 52300
A16: 11 | B16: =MERCADO!B16 -> 275201 | C16: =MERCADO!C16 -> 275201 | D16: ESTOMATORRAFIA (SUTURA DE HERIDA EN MUCOSA ORAL) DE MENOS DE CINCO CENTIMETROS | E16: ESTOMATORRAFIA (SUTURA DE HERIDA EN MUCOSA ORAL) DE MENOS DE CINCO CENTÍMETROS | F16: 167370 | G16: 175905.87 | H16: 183100 | I16: 175905.87
A17: 12 | B17: =MERCADO!B17 -> 275202 | C17: =MERCADO!C17 -> 275202 | D17: ESTOMATORRAFIA (SUTURA DE HERIDA EN MUCOSA ORAL) DE MAS DE CINCO CENTIMETROS | E17: ESTOMATORRAFIA (SUTURA DE HERIDA EN MUCOSA ORAL) DE MÁS DE CINCO CENTÍMETROS | F17: 167370 | G17: 175905.87 | H17: 183100 | I17: 175905.87
... A1031: 1026 | B1031: =MERCADO!B1031 -> 849002 | C1031: =MERCADO!C1031 -> 849002 | D1031: CORRECCION DE MALFORMACION CONGENITA DE PIE CON LIBERACION DE PARTES BLANDAS POSTERIORES Y MEDIALES | E1031: CORRECCIÓN DE MALFORMACIÓN CONGÉNITA DE PIE CON LIBERACIÓN DE PARTES BLANDAS POSTERIORES Y MEDIALES | F1031: 1460180 | G1031: 1534649.2 | H1031: 1597300 | I1031: 1534649.2
A1032: 1027 | B1032: =MERCADO!B1032 -> 53620102 | C1032: =MERCADO!C1032 -> 536201 | D1032: HERNIORRAFIA BILATERAL FEMORAL O CRURAL REPRODUCIDA SOD | E1032: HERNIORRAFIA ISQUIÁTICA VÍA ABIERTA | F1032: NO OFERTA | G1032: NO OFERTA | H1032: 1597300 | I1032: 1597300
A1033: 1028 | B1033: =MERCADO!B1033 -> 836201 | C1033: =MERCADO!C1033 -> 836201 | D1033: TENORRAFIA DE FLEXORES DE ANTEBRAZO (UNO O MAS) | E1033: TENORRAFIA DE FLEXORES DE ANTEBRAZO (UNO O MÁS) | F1033: 1484673 | G1033: 1560391.3 | H1033: 1624100 | I1033: 1560391.3
A1034: 1029 | B1034: =MERCADO!B1034 -> 457101 | C1034: =MERCADO!C1034 -> 457101 | D1034: COLECTOMIA PARCIAL CON COLOSTOMIA O ILEOSTOMIA Y FISTULA MUCOSA VIA ABIERTA | E1034: COLECTOMÍA PARCIAL CON COLOSTOMÍA O ILEOSTOMÍA Y FÍSTULA MUCOSA VÍA ABIERTA | F1034: 1509167 | G1034: 1586134.5 | H1034: 1650800 | I1034: 1586134.5
A1035: 1030 | B1035: =MERCADO!B1035 -> 457301 | C1035: =MERCADO!C1035 -> 457301 | D1035: HEMICOLECTOMIA DERECHA VIA ABIERTA | E1035: HEMICOLECTOMÍA DERECHA VÍA ABIERTA | F1035: 1509167 | G1035: 1586134.5 | H1035: 1650800 | I1035: 1586134.5
A1036: 1031 | B1036: =MERCADO!B1036 -> 457501 | C1036: =MERCADO!C1036 -> 457501 | D1036: HEMICOLECTOMIA IZQUIERDA VIA ABIERTA | E1036: HEMICOLECTOMIA IZQUIERDA VÍA ABIERTA | F1036: 1509167 | G1036: 1586134.5 | H1036: 1650800 | I1036: 1586134.5
A1037: 1032 | B1037: =MERCADO!B1037 -> 457601 | C1037: =MERCADO!C1037 -> 457601 | D1037: SIGMOIDECTOMIA VIA ABIERTA | E1037: SIGMOIDECTOMIA VÍA ABIERTA | F1037: 1509167 | G1037: 1586134.5 | H1037: 1650800 | I1037: 1586134.5
A1038: 1033 | B1038: =MERCADO!B1038 -> 767903 | C1038: =MERCADO!C1038 -> 767903 | D1038: REDUCCION ABIERTA DE FRACTURA DE DOS O MAS PAREDES ORBITARIAS CON INJERTO | E1038: REDUCCIÓN ABIERTA DE FRACTURA DE DOS O MÁS PAREDES ORBITARIAS CON INJERTO | F1038: 1509167 | G1038: 1586134.5 | H1038: 1650800 | I1038: 1586134.5
A1039: 1034 | B1039: =MERCADO!B1039 -> 780932 | C1039: =MERCADO!C1039 -> 780932 | D1039: INJERTO OSEO EN COLUMNA VERTEBRAL VIA POSTERIOR | E1039: INJERTO ÓSEO EN COLUMNA VERTEBRAL VÍA POSTERIOR | F1039: 1509167 | G1039: 1586134.5 | H1039: 1650800 | I1039: 1586134.5
A1040: 1035 | B1040: =MERCADO!B1040 -> 867104 | C1040: =MERCADO!C1040 -> 867104 | D1040: COLGAJO COMPUESTO A DISTANCIA. EN VARIOS TIEMPOS | E1040: COLGAJO COMPUESTO A DISTANCIA, EN VARIOS TIEMPOS | F1040: 1509167 | G1040: 1586134.5 | H1040: 1650800 | I1040: 1586134.5
A1041: 1036 | B1041: =MERCADO!B1041 -> 404003 | C1041: =MERCADO!C1041 -> 404003 | D1041: VACIAMIENTO LINFATICO RADICAL O RADICAL MODIFICADO DE CUELLO BILATERAL VIA ABIERTA | E1041: VACIAMIENTO LINFÁTICO RADICAL O RADICAL MODIFICADO DE CUELLO BILATERAL VÍA ABIERTA | F1041: 1324396 | G1041: 1391940.2 | H1041: 1448700 | I1041: 1391940.2
A1042: 1037 | B1042: =MERCADO!B1042 -> 67001 | C1042: =MERCADO!C1042 -> 67001 | D1042: RESECCION DE QUISTE O CONDUCTO TIROGLOSO VIA ABIERTA | E1042: RESECCIÓN DE QUISTE O CONDUCTO TIROGLOSO VÍA ABIERTA | F1042: 1348890 | G1042: 1417683.4 | H1042: 1475500 | I1042: 1417683.4
A1043: 1038 | B1043: =MERCADO!B1043 -> 392602 | C1043: =MERCADO!C1043 -> 392602 | D1043: DERIVACION O PUENTE AXILO-FEMORAL UNILATERAL | E1043: DERIVACIÓN O PUENTE AXILO-FEMORAL UNILATERAL | F1043: 1348890 | G1043: 1417683.4 | H1043: 1475500 | I1043: 1417683.4
A1044: 1039 | B1044: =MERCADO!B1044 -> 456101 | C1044: =MERCADO!C1044 -> 456101 | D1044: RESECCION SEGMENTARIA MULTIPLE DE INTESTINO DELGADO VIA ABIERTA | E1044: RESECCIÓN SEGMENTARIA MÚLTIPLE DE INTESTINO DELGADO VÍA ABIERTA | F1044: 1348890 | G1044: 1417683.4 | H1044: 1475500 | I1044: 1417683.4
... A1310: 1305 | B1310: =MERCADO!B1310 -> 87350101 | C1310: =MERCADO!C1310 -> 873501 | D1310: PORTATILES SIN FLUOROSCOPIA E INTENSIFICADOR DE IMAGENES | E1310: FLUOROSCOPIA COMO GUÍA PARA PROCEDIMIENTOS | F1310: 29525 | G1310: 31030.775 | H1310: 32300 | I1310: 31030.775
A1311: 1306 | B1311: =MERCADO!B1311 -> 87350102 | C1311: =MERCADO!C1311 -> 873501 | D1311: PORTATILES CON FLUOROSCOPIA Y/O INTENSIFICADOR DE IMAGENES | E1311: FLUOROSCOPIA COMO GUÍA PARA PROCEDIMIENTOS | F1311: NO OFERTA | G1311: NO OFERTA | H1311: 95800 | I1311: 95800
A1312: 1307 | B1312: =MERCADO!B1312 -> 971201 | C1312: =MERCADO!C1312 -> 971201 | D1312: SUSTITUCION DE ESCAYOLA O FERULA EN MIEMBRO INFERIOR SOD | E1312: SUSTITUCIÓN DE ESCAYOLA O FÉRULA EN MIEMBRO INFERIOR SOD | F1312: 29998 | G1312: 31527.898 | H1312: 32800 | I1312: 31527.898
A1313: 1308 | B1313: =MERCADO!B1313 -> 971101 | C1313: =MERCADO!C1313 -> 971101 | D1313: SUSTITUCION DE ESCAYOLA O FERULA EN MIEMBRO SUPERIOR SOD | E1313: SUSTITUCIÓN DE ESCAYOLA O FÉRULA EN MIEMBRO SUPERIOR SOD | F1313: 29998 | G1313: 31527.898 | H1313: 32800 | I1313: 31527.898
A1314: 1309 | B1314: =MERCADO!B1314 -> 935305 | C1314: =MERCADO!C1314 -> 935305 | D1314: APLICACION O CAMBIO DE YESO EN PIE | E1314: APLICACIÓN O CAMBIO DE YESO EN PIE | F1314: 30073 | G1314: 31606.723 | H1314: 32900 | I1314: 31606.723
A1315: 1310 | B1315: =MERCADO!B1315 -> 935302 | C1315: =MERCADO!C1315 -> 935302 | D1315: APLICACION O CAMBIO DE YESO PARA INMOVILIZACION EN MANO | E1315: APLICACIÓN O CAMBIO DE YESO PARA INMOVILIZACIÓN EN MANO | F1315: 30073 | G1315: 31606.723 | H1315: 32900 | I1315: 31606.723
A1316: 1311 | B1316: =MERCADO!B1316 -> 904921 | C1316: =MERCADO!C1316 -> 904921 | D1316: TIROXINA LIBRE -T4L- | E1316: TIROXINA LIBRE | F1316: 30073 | G1316: 31606.723 | H1316: 32900 | I1316: 31606.723
A1317: 1312 | B1317: =MERCADO!B1317 -> 903428 | C1317: =MERCADO!C1317 -> 903428 | D1317: HEMOSIDERINA EN ORINA | E1317: HEMOSIDERINA EN ORINA | F1317: 30262 | G1317: 31805.362 | H1317: 33100 | I1317: 31805.362
A1318: 1313 | B1318: =MERCADO!B1318 -> 906304 | C1318: =MERCADO!C1318 -> 906304 | D1318: ANTIGENOS FEBRILES MANUAL O SEMIAUTOMATIZADO - SEROAGLUTINACION PARA FEBRILES | E1318: ANTÍGENOS FEBRILES MANUAL O SEMIAUTOMATIZADO | F1318: 30452 | G1318: 32005.052 | H1318: 33300 | I1318: 32005.052
A1319: 1314 | B1319: =MERCADO!B1319 -> 903016 | C1319: =MERCADO!C1319 -> 903016 | D1319: FERRITINA | E1319: FERRITINA | F1319: 30452 | G1319: 32005.052 | H1319: 33300 | I1319: 32005.052
A1320: 1315 | B1320: =MERCADO!B1320 -> 903850 | C1320: =MERCADO!C1320 -> 903850 | D1320: CITOQUIMICO DE LIQUIDO CEFALORRAQUIDEO | E1320: LÍQUIDO CEFALORRAQUÍDEO (LCR EXAMEN FÍSICO Y CITOQUÍMICO CON GLUCOSA PROTEÍNAS MORFOLOGÍA DE ERITROCITOS Y DIFERENCIAL DE LEUCOCITOS) | F1320: 30830 | G1320: 32402.33 | H1320: 33700 | I1320: 32402.33
A1321: 1316 | B1321: =MERCADO!B1321 -> 904922 | C1321: =MERCADO!C1321 -> 904922 | D1321: TIROXINA TOTAL -T4 TOTAL- | E1321: TIROXINA TOTAL | F1321: 30830 | G1321: 32402.33 | H1321: 33700 | I1321: 32402.33
...

Sheet TECNICO
A1: PRESTACIÓN DE SERVICIOS DE SALUD DE BAJA Y MEDIANA COMPLEJIDAD, CON IPS EN EL ÁREA DE: URGENCIAS, HOSPITALIZACIÓN (Y DEMÁS SERVICIOS QUE SE DERIVE DE ELLOS), MEDICINA GENERAL, MEDICINA ESPECIALIZADA, CIRUGÍA AMBULATORIA, INYECTOLOGIA, PARA EL PERSONAL DE USUARIOS RESIDENTES EN EL MUNICIPIO DE BUGA Y SU ÁREA DE INFLUENCIA (YOTOCO, SAN PEDRO, GUACARI, GINEBRA, RESTREPO Y DARIÉN)
A5: ITEM | B5: CODIGO IPS | C5: ALTERNO | D5: DESCRIPCION IPS | E5: DESCRIPCION CUPS | F5: OFRECE | G5: NO OFRECE
A6: 1 | B6: 908856 | C6: 908856 | D6: PCR IDENTIFICACIÓN DE OTRO VIRUS (ESPECÍFICA) POR PRUEBAS MOLECULARES | E6: IDENTIFICACIÓN DE OTRO VIRUS (ESPECÍFICA) POR PRUEBAS MOLECULARES
A7: 2 | B7: 903043 | C7: 903043 | D7: PRUEBA DE ALIENTO (13 C UREA) PARA HELICOBACTER PILORY | E7: PRUEBA DE ALIENTO (13 C UREA) PARA HELICOBACTER PILORY
A8: 3 | B8: 711110 | C8: 711110 | D8: BIOPSIA DE LABIO MAYOR VULVA | E8: BIOPSIA DE LABIO MAYOR VULVA
A9: 4 | B9: 272301 | C9: 272301 | D9: BIOPSIA INCISIONAL DE LABIO | E9: BIOPSIA INCISIONAL DE LABIO
A10: 5 | B10: 718101 | C10: 718101 | D10: EXTRACCION DE CUERPO EXTRAÑO DE VULVA O PERINE SIN INCISION | E10: EXTRACCIÓN DE CUERPO EXTRAÑO DE VULVA O PERINÉ SIN INCISIÓN
A11: 6 | B11: 136504 | C11: 136504 | D11: CAPSULOTOMIA MANUAL | E11: CAPSULOTOMÍA MANUAL
A12: 7 | B12: 243101 | C12: 243101 | D12: ESCISION DE LESION BENIGNA ENCAPSULADA EN ENCIA HASTA DE TRES CENTIMETROS | E12: ESCISIÓN DE LESIÓN BENIGNA ENCAPSULADA EN ENCÍA HASTA DE TRES CENTÍMETROS
A13: 8 | B13: 255006 | C13: 255006 | D13: PLASTIA DE FRENILLO LINGUAL | E13: PLASTIA DE FRENILLO LINGUAL
A14: 9 | B14: 272401 | C14: 272401 | D14: BIOPSIA POR ASPIRACION CON AGUJA FINA EN CAVIDAD ORAL [BACAF] | E14: BIOPSIA POR ASPIRACIÓN CON AGUJA FINA EN CAVIDAD ORAL [BACAF]
A15: 10 | B15: 274901 | C15: 274901 | D15: REMOCION DE CUERPO EXTRAÑO EN TEJIDOS BLANDOS DE LA BOCA | E15: REMOCIÓN DE CUERPO EXTRAÑO EN TEJIDOS BLANDOS DE LA BOCA
A16: 11 | B16: 275201 | C16: 275201 | D16: ESTOMATORRAFIA (SUTURA DE HERIDA EN MUCOSA ORAL) DE MENOS DE CINCO CENTIMETROS | E16: ESTOMATORRAFIA (SUTURA DE HERIDA EN MUCOSA ORAL) DE MENOS DE CINCO CENTÍMETROS
A17: 12 | B17: 275202 | C17: 275202 | D17: ESTOMATORRAFIA (SUTURA DE HERIDA EN MUCOSA ORAL) DE MAS DE CINCO CENTIMETROS | E17: ESTOMATORRAFIA (SUTURA DE HERIDA EN MUCOSA ORAL) DE MÁS DE CINCO CENTÍMETROS
... A1681: 1676 | B1681: 937001 | C1681: 937001 | D1681: TERAPIA FONOAUDIOLOGICA INTEGRAL SOD | E1681: TERAPIA FONOAUDIOLÓGICA INTEGRAL SOD
A1682: 1677 | B1682: S22101 | C1682: 5DS002 | D1682: SALA DE CURACIONES | E1682: DERECHOS DE SALA DE CURACIONES O PROCEDIMIENTOS
A1683: 1678 | B1683: 965201 | C1683: 965201 | D1683: LAVADO E IRRIGACION DE OIDOS | E1683: LAVADO E IRRIGACIÓN DE OÍDOS
A1684: 1679 | B1684: 931001 | C1684: 931001 | D1684: TERAPIA FISICA INTEGRAL | E1684: TERAPIA FÍSICA INTEGRAL
A1685: 1680 | B1685: 939403 | C1685: 939403 | D1685: TERAPIA RESPIRATORIA INTEGRAL | E1685: TERAPIA RESPIRATORIA INTEGRAL
A1686: 1681 | B1686: 53109 | C1686: 53109 | D1686: BLOQUEO DE NERVIOS PUDENDOS | E1686: BLOQUEO DE NERVIOS PUDENDOS
A1687: 1682 | B1687: 893808 | C1687: 893808 | D1687: ESPIROMETRIA O CURVA DE FLUJO VOLUMEN SIMPLE | E1687: ESPIROMETRÍA O CURVA DE FLUJO VOLUMEN SIMPLE
A1688: 1683 | B1688: 964901 | C1688: 964901 | D1688: INSTILACION GENITOURINARIA SOD | E1688: INSTILACIÓN GENITOURINARIA SOD
A1689: 1684 | B1689: 110002 | C1689: 110002 | D1689: EXTRACCION DE CUERPO EXTRAÑO PROFUNDO EN CORNEA | E1689: EXTRACCIÓN DE CUERPO EXTRAÑO PROFUNDO EN CÓRNEA
A1690: 1685 | B1690: 951103 | C1690: 951103 | D1690: FOTOGRAFIA A COLOR DE SEGMENTO POSTERIOR DEL OJO | E1690: FOTOGRAFÍA A COLOR DE SEGMENTO POSTERIOR DEL OJO
A1691: 1686 | B1691: 951102 | C1691: 951102 | D1691: FOTOGRAFIA A COLOR DE SEGMENTO ANTERIOR DEL OJO | E1691: FOTOGRAFÍA A COLOR DE SEGMENTO ANTERIOR DEL OJO
A1692: 1687 | B1692: 881313 | C1692: 881313 | D1692: ECOGRAFIA DE ABDOMEN (PILORO) | E1692: ECOGRAFÍA DE ABDOMEN (PÍLORO)
A1693: 1688 | B1693: 881211 | C1693: 881211 | D1693: ECOGRAFIA DE TORAX (PERICARDIO O PLEURA) | E1693: ECOGRAFÍA DE TÓRAX (PERICARDIO O PLEURA)
A1694: 1689 | B1694: 881130 | C1694: 881130 | D1694: ECOGRAFÍA DE TEJIDOS BLANDOS DE CARA | E1694: ECOGRAFÍA DE TEJIDOS BLANDOS DE CARA
... A2085: 2080 | B2085: 91100302 | C2085: 911003 | D2085: COOMBS INDIRECTO. PRUEBA CUALITATIVA | E2085: COOMBS INDIRECTO. PRUEBA CUALITATIVA
A2086: 2081 | B2086: S12103 | C2086: 110A01 | D2086: INTERNACIÓN EN UNIDAD DE CUIDADO INTENSIVO ADULTOS | E2086: INTERNACIÓN EN UNIDAD DE CUIDADO INTENSIVO ADULTOS
A2087: 2082 | B2087: S12101 | C2087: 108A01 | D2087: INTERNACIÓN EN UNIDAD DE CUIDADO INTENSIVO NEONATAL | E2087: INTERNACIÓN EN UNIDAD DE CUIDADO INTENSIVO NEONATAL
A2088: 2083 | B2088: S12400 | C2088: 120B01 | D2088: INTERNACIÓN EN UNIDAD DE CUIDADO BÁSICO NEONATAL (CUNA O INCUBADORA) | E2088: INTERNACIÓN EN UNIDAD DE CUIDADO BÁSICO NEONATAL (CUNA O INCUBADORA)
A2089: 2084 | B2089: S12203 | C2089: 107M01 | D2089: INTERNACIÓN EN UNIDAD DE CUIDADO INTERMEDIO ADULTO | E2089: INTERNACIÓN EN UNIDAD DE CUIDADO INTERMEDIO ADULTO
A2090: 2085 | B2090: S12201 | C2090: 105M01 | D2090: INTERNACIÓN EN UNIDAD DE CUIDADO INTERMEDIO NEONATAL | E2090: INTERNACIÓN EN UNIDAD DE CUIDADO INTERMEDIO NEONATAL
A2091: 2086 | B2091: S11301 | C2091: 129A01 | D2091: INTERNACIÓN COMPLEJIDAD ALTA HABITACION UNIPERSONAL (INCLUYE AISLAMIENTO) | E2091: INTERNACIÓN COMPLEJIDAD ALTA HABITACION UNIPERSONAL (INCLUYE AISLAMIENTO)
A2092: 2087 | B2092: S11302 | C2092: 129A02 | D2092: INTERNACIÓN COMPLEJIDAD ALTA HABITACION BIPERSONAL | E2092: INTERNACIÓN COMPLEJIDAD ALTA HABITACION BIPERSONAL
A2093: 2088 | B2093: s11303 | C2093: 129A02 | D2093: INTERNACIÓN COMPLEJIDAD ALTA TRES O MÁS CAMAS | E2093: INTERNACIÓN COMPLEJIDAD ALTA TRES O MÁS CAMAS
A2094: 2089 | B2094: S11304 | C2094: 129A02 | D2094: INTERNACIÓN COMPLEJIDAD ALTA CUATRO O MÁS CAMAS | E2094: INTERNACIÓN COMPLEJIDAD ALTA CUATRO O MÁS CAMAS
A2095: 2090 | B2095: S20200 | C2095: 5DSA01 | D2095: SALA DE OBSERVACION (URGENCIAS) DE COMPLEJIDAD ALTA SOD | E2095: SALA DE OBSERVACION (URGENCIAS) DE COMPLEJIDAD ALTA SOD
A2096: 2091 | B2096: S22101 | C2096: 5DS002 | D2096: SALA DE CURACIONES | E2096: SALA DE CURACIONES
...

Sheet D NIÑO
A1: CUPS | B1: HOMOLOGO SOAT | C1: DESCRIPCION CUPS | D1: TIPO DE SERVICIO | E1: SOAT 2026 | F1: TARIFA
A2: 863103 | B2: 37405 | C2: RESECCION DE LESIONES CUTANEAS POR CAUTERIZACION, FULGURACION O CRIOTERAPIA EN AREA ESPECIAL, HASTA TRES LESIONES | D2: ABLACION DE LESIONES CUTANEAS POR CAUTERIZACION, FULGURACION O CRIOTERAPIA | E2: 102700 | F2: SOAT PLENO
A3: 863104 | B3: 37406 | C3: RESECCION DE LESIONES CUTANEAS POR CAUTERIZACION, FULGURACION O CRIOTERAPIA EN AREA ESPECIAL, ENTRE TRES A DIEZ LESIONES | D3: ABLACION DE LESIONES CUTANEAS POR CAUTERIZACION, FULGURACION O CRIOTERAPIA | E3: 185000 | F3: SOAT PLENO
A4: 994301 | B4: 40114 | C4: ADMINISTRACIÓN DE ANTITOXINA DIFTÉRICA SOD | D4: ADMINISTRACION ANTITOXINA DIFTERICA | E4: 10500 | F4: SOAT PLENO
A5: 994101 | B5: 40114 | C5: ADMINISTRACIÓN DE ANTITOXINA TETÁNICA SOD | D5: ADMINISTRACION ANTITOXINA TETANICA | E5: 10500 | F5: SOAT PLENO
A6: 992101 | B6: 37203 | C6: INFILTRACIÓN, IRRIGACIÓN O INSTILACIÓN DE MEDICAMENTOS EN SUBESCARA | D6: ADMINISTRACION O INFUSION DE ANTIBIOTICO | E6: 37900 | F6: SOAT PLENO
A7: 248201 | B7: 36301 | C7: AJUSTAMIENTO OCLUSAL SOD | D7: AJUSTE OCLUSAL | E7: 132100 | F7: SOAT PLENO
A8: 240301 | B8: 36307 | C8: ALISADO RADICULAR - CAMPO CERRADO SOD | D8: ALISADO RADICULAR | E8: 162900 | F8: SOAT PLENO
A9: 935601 | C9: APLICACION DE VENDAJE DE PRESION | D9: APLICACION DE VENDAJES DE PRESION | E9: 22500 | F9: PROPIA
A10: 935101 | B10: 37208 | C10: APLICACIÓN DE VENDAJE ENYESADO SOD | D10: APLICACION VENDAJE ENYESADO | E10: 163400 | F10: SOAT PLENO
A11: 702203 | C11: COLPOSCOPIA | D11: COLPOSCOPIAS | E11: 233800 | F11: PROPIA
A12: 758001 | B12: 37109 | C12: TAPONAMIENTO OBSTÉTRICO DE ÚTERO | D12: COMPRESION HEMOSTATICA | E12: 144200 | F12: SOAT PLENO
A13: 758002 | B13: 37109 | C13: TAPONAMIENTO OBSTÉTRICO DE VAGINA | D13: COMPRESION HEMOSTATICA | E13: 144200 | F13: SOAT PLENO
A14: 890350 | B14: 39143 | C14: CONSULTA DE CONTROL O DE SEGUIMIENTO POR ESPECIALISTA EN GINECOLOGÍA Y OBSTETRICIA | D14: CONSULTA DE CONTROL O DE SEGUIMIENTO | E14: 101000 | F14: SOAT PLENO
A15: 890366 | B15: 39143 | C15: CONSULTA DE CONTROL O DE SEGUIMIENTO POR ESPECIALISTA EN MEDICINA INTERNA | D15: CONSULTA DE CONTROL O DE SEGUIMIENTO | E15: 101000 | F15: SOAT PLENO
A16: 890383 | B16: 39143 | C16: CONSULTA DE CONTROL O DE SEGUIMIENTO POR ESPECIALISTA EN PEDIATRÍA | D16: CONSULTA DE CONTROL O DE SEGUIMIENTO | E16: 101000 | F16: SOAT PLENO
A17: 890384 | B17: 39143 | C17: CONSULTA DE CONTROL O DE SEGUIMIENTO POR ESPECIALISTA EN PSIQUIATRÍA | D17: CONSULTA DE CONTROL O DE SEGUIMIENTO | E17: 101000 | F17: SOAT PLENO
A18: 890301 | B18: 39141 | C18: CONSULTA DE CONTROL O DE SEGUIMIENTO POR MEDICINA GENERAL | D18: CONSULTA DE CONTROL O DE SEGUIMIENTO | E18: 70000 | F18: SOAT PLENO
A19: 890306 | B19: 37601 | C19: CONSULTA DE CONTROL O DE SEGUIMIENTO POR NUTRICIÓN Y DIETÉTICA | D19: CONSULTA DE CONTROL O DE SEGUIMIENTO | E19: 50800 | F19: SOAT PLENO
A20: 890303 | B20: 36101 | C20: CONSULTA DE CONTROL O DE SEGUIMIENTO POR ODONTOLOGÍA GENERAL | D20: CONSULTA DE CONTROL O DE SEGUIMIENTO | E20: 47900 | F20: SOAT PLENO
A21: 890310 | B21: 29114 | C21: CONSULTA DE CONTROL O DE SEGUIMIENTO POR FONOAUDIOLOGÍA | D21: CONSULTA DE CONTROL O DE SEGUIMIENTO | E21: 44900 | F21: SOAT PLENO
A22: 890311 | B22: 29112 | C22: CONSULTA DE CONTROL O DE SEGUIMIENTO POR FISIOTERAPIA | D22: CONSULTA DE CONTROL O DE SEGUIMIENTO | E22: 44900 | F22: SOAT PLENO
A23: 890308 | B23: 35104 | C23: CONSULTA DE CONTROL O DE SEGUIMIENTO POR PSICOLOGÍA | D23: CONSULTA DE CONTROL O DE SEGUIMIENTO | E23: 43200 | F23: SOAT PLENO
... A44: 890235 | B44: 39143 | C44: CONSULTA DE PRIMERA VEZ POR ESPECIALISTA EN CIRUGIA GENERAL | D44: CONSULTAS DE PRIMERA VEZ | E44: 101000 | F44: SOAT PLENO
A45: 890105 | B45: No aplica | C45: ATENCIÓN (VISITA) DOMICILIARIA, POR ENFERMERÍA | D45: CONSULTAS DOMICILIARIAS | E45: 45200 | F45: PROPIA
A46: 890108 | C46: ATENCION ( VISITA ) DOMICILIARIA - POR PSICOLOGIA | D46: CONSULTAS DOMICILIARIAS | E46: 55571.25 | F46: PROPIA
A47: 890116 | C47: ATENCION ( VISITA ) DOMICILIARIA POR OTRO PROFESIONAL DE LA SALUD | D47: CONSULTAS DOMICILIARIAS | E47: 81211.2 | F47: PROPIA
A48: 890101 | B48: 40100 | C48: ATENCION ( VISITA ) DOMICILIARIA - POR MEDICINA GENERAL | D48: CONSULTAS DOMICILIARIAS | E48: 1884600 | F48: SOAT PLENO
A49: 890109 | B49: 37702 | C49: ATENCION ( VISITA ) DOMICILIARIA - POR TRABAJO SOCIAL | D49: CONSULTAS DOMICILIARIAS | E49: 40300 | F49: SOAT PLENO
A50: 890106 | C50: ATENCION ( VISITA ) DOMICILIARIA - POR NUTRICION Y DIETETICA | D50: CONSULTAS DOMICILIARIAS | E50: 44247 | F50: PROPIA
A51: 890112 | C51: ATENCION ( VISITA ) DOMICILIARIA - POR TERAPIA RESPIRATORIA | D51: CONSULTAS DOMICILIARIAS | E51: 64213.8 | F51: PROPIA
A52: 890114 | C52: ATENCION ( VISITA ) DOMICILIARIA - POR PROMOTOR DE LA SALUD | D52: CONSULTAS DOMICILIARIAS | E52: 10300 | F52: PROPIA
A53: 890103 | C53: ATENCION ( VISITA ) DOMICILIARIA - POR ODONTOLOGIA GENERAL | D53: CONSULTAS DOMICILIARIAS | E53: 55600 | F53: PROPIA
A54: 890111 | C54: ATENCION ( VISITA ) DOMICILIARIA - POR FISIOTERAPIA | D54: CONSULTAS DOMICILIARIAS | E54: 67381.65 | F54: PROPIA
A55: 890115 | C55: ATENCION ( VISITA ) DOMICILIARIA - POR EQUIPO INTERDISCIPLINARIO | D55: CONSULTAS DOMICILIARIAS | E55: 185010 | F55: PROPIA
A56: 210101 | C56: CONTROL DE EPISTAXIS - POR TAPONAMIENTO ANTERIOR VIA TRANSNASAL | D56: CONTROL DE EPISTAXIS, POR TAPONAMIENTO NASAL ANTERIOR | E56: 86200 | F56: PROPIA
A57: 210201 | B57: 27122 | C57: CONTROL DE EPISTAXIS, POR TAPONAMIENTO POSTERIOR VÍA TRANSNASAL | D57: CONTROL DE EPISTAXIS, POR TAPONAMIENTO NASAL POSTERIOR Y ANTERIOR | E57: 296500 | F57: SOAT PLENO
A58: 210203 | B58: 27122 | C58: CONTROL DE EPISTAXIS, POR TAPONAMIENTO ANTERIOR Y POSTERIOR | D58: CONTROL DE EPISTAXIS, POR TAPONAMIENTO NASAL POSTERIOR Y ANTERIOR | E58: 296500 | F58: SOAT PLENO
A59: 249101 | B59: 36613 | C59: CONTROL DE HEMORRAGIA DENTAL POS QUIRÚRGICA SOD | D59: CONTROL DE HEMORRAGIA DE ORIGEN DENTAL POSQUIRURGICA | E59: 127800 | F59: SOAT PLENO
A60: 890601 | B60: 39131 | C60: CUIDADO ( MANEJO ) INTRAHOSPITALARIO POR MEDICINA GENERAL | D60: CUIDADO (MANEJO) Y ASISTENCIA INTRAHOSPITALARIA | E60: 68700 | F60: SOAT PLENO
...
