Workbook

Sheet TRDM 
A1: EVALUACIÓN CONDICIONES COMPLEMENTARIAS Y DEDUCIBLES
A2: GRUPO I
A3: DEPARTAMENTO DEL ATLÁNTICO
A4: TODO RIESGO DAÑOS MATERIALES
A5: Condiciones Complementarias | D5: 6 Puntos | E5: OTORGA
E7: SI | F7: NO | G7: PUNTAJE
A8: Bienes bajo cuidado, tenencia y control: Se califica el límite adicional al básico BÁSICO: Sublímite $500.000.000 | D8: 1
A9: Amparo para bienes de propiedad del asegurado en predios o bajo la responsabilidad de terceros. Se califica el limite adicional al básico. BASICO: Sublímite $500.000.000 | D9: 1
D10: =SUM(D8:D9) -> 2 | G10: =SUM(G8:G9) -> 0
A12: CRITERIOS DE CALIFICACIÓN DE DEDUCIBLES
A13: Tablas de calificación
A14: Deducibles TERREMOTO 1% SOBRE EL VALOR ASEGURADO MINIMO 2 SMMLV AMIT Y HMACCOP: 3% DEL VALOR DE LA PÉRDIDA MÍNIMO 2 SMMLV HURTO SIMPLE: SIN DEDUCIBLE HURTO CALIFICADO: SIN DEDUCIBLE EQUIPO ELÉCTRICO Y ELECTRÓNICO: SIN DEDUCIBLE OTROS EVENTOS: SIN DEDUCIBLE
A15: a) TERREMOTO…………………………………………………..…………………….…….……………. 2Puntos
A16: Evaluación de Porcentaje: ……………………………………...…………... (1 Punto)
A17: RANGO DE DEDUCIBLE | C17: Puntaje sobre valor asegurado | F17: OFRECIMIENTO | G17: PUNTAJE
A18: Sin deducible | C18: 1 punto
A19: Superior a 0% y menor a 1% | C19: 0,5 punto
A20: Evaluación de mínimo: ……………………………………...…………... (1 Punto)
A21: RANGO DE DEDUCIBLE | C21: Puntaje sobre valor asegurado | F21: OFRECIMIENTO | G21: PUNTAJE
A22: Sin deducible | C22: 1 punto
A23: Superior a 0 SMMLV y menor a 2 SMMLV | C23: 0,5 punto
A24: b) AMIT Y HMACCOP……………………………………………..…………………….…….……………. 2 Puntos
A25: Evaluación de Porcentaje: ……………………………………...…………... (1 Punto)
A26: RANGO DE DEDUCIBLE | C26: Puntaje sobre valor de la pérdida | F26: OFRECIMIENTO | G26: PUNTAJE
A27: Sin deducible | C27: 1 punto
A28: Superior a 0% y menor a 3% | C28: 0,5 punto
A29: Evaluación de mínimo: ……………………………………...…………... (1 Punto)
A30: RANGO DE DEDUCIBLE | C30: Puntaje sobre valor de la pérdida | F30: OFRECIMIENTO | G30: PUNTAJE
A31: Sin deducible | C31: 1 punto
A32: Superior a 0 SMMLV y menor a 2 SMMLV | C32: 0,5 punto

Sheet MANEJO
A1: ='TRDM '!A1:G1 -> EVALUACIÓN CONDICIONES COMPLEMENTARIAS Y DEDUCIBLES
A2: ='TRDM '!A2:G2 -> GRUPO I
A3: ='TRDM '!A3:G3 -> DEPARTAMENTO DEL ATLÁNTICO
A4: MANEJO GLOBAL
A5: Condiciones Complementarias | C5: 5 puntos | D5: OTORGA | F5: PUNTAJE
D7: SI | E7: NO
A8: Ofrecimiento de límite adicional al básico. Se califica el límite adicional sin cobro de prima de acuerdo con lo siguiente: | C8: 3
A9: Valor Asegurado $400.000.000
A10: No ofrecimiento de límite adicional | B10: 0
A11: 30000000 | B11: 1 Punto
A12: 50000000 | B12: 2 puntos
A13: 70000000 | B13: 3 puntos
A14: Faltantes de inventario. Se calificará el límite adicional al básico. BASICO: 35% del límite total Asegurado | C14: 1
A15: Pérdidas causadas por empleados o servidores no identificados. Se califica el porcentaje adicional al basico. BASICO: Hasta el 50% del valor asegurado contratado. | C15: 1
A16: Total Puntos - Condiciones Complementarias | F16: =+SUM(F8+#REF!+F14) -> #REF!
A19: CRITERIO DE EVALUACIÓN DEDUCIBLES
A20: Teniendo en cuenta que este seguro establece como cobertura básica el amparo de no aplicación de deducible, la oferta que contemple deducible para este ramo será rechazada

Sheet RCSP
A1: ='TRDM '!A1:G1 -> EVALUACIÓN CONDICIONES COMPLEMENTARIAS Y DEDUCIBLES
A2: ='TRDM '!A2:G2 -> GRUPO I
A3: ='TRDM '!A3:G3 -> DEPARTAMENTO DEL ATLÁNTICO
A4: RESPONSABILIDAD CIVIL SERVIDORES PÚBLICOS
A6: Condiciones Complementarias | C6: 5 PUNTOS | D6: OTORGA | F6: PUNTAJE
D7: SI | E7: NO
A8: Ofrecimiento de límite adicional al básico. Se califica el límite adicional sin cobro de prima de acuerdo con lo siguiente:
A9: Valor Asegurado $2.700.000.000
A10: No ofrecimiento de límite adicional | B10: 0 | C10: 2
A11: 300000 | B11: 1 Punto
A12: 500000 | B12: 2 Puntos
A13: RETROACTIVIDAD: Otorgamiento de retroactividad otorgue retroactividad a partir del 1 de enero de 2021 | C13: 2
A14: SUBLÍMITE PARA GASTOS DE DEFENSA: Se calificará el límite adicional al básico. A quien ofrezca el mayor valor adicional se le otorgará el máximo puntaje y a los demás de manera proporcional. Básico: $1.500.000.000 en el agregado vigencia | C14: 1
A15: Total Puntos - Condiciones Complementarias | F15: =+SUM(F8:F13) -> 0
A17: CRITERIO DE EVALUACIÓN DEDUCIBLES
A18: Teniendo en cuenta que este seguro establece como cobertura básica el amparo de no aplicación de deducible, la oferta que contemple deducible para este ramo será rechazada

Sheet IRF
A1: ='TRDM '!A1:G1 -> EVALUACIÓN CONDICIONES COMPLEMENTARIAS Y DEDUCIBLES
A2: ='TRDM '!A2:G2 -> GRUPO I
A3: ='TRDM '!A3:G3 -> DEPARTAMENTO DEL ATLÁNTICO
A4: INFIDELIDAD Y RIESGOS FINANCIEROS
A6: Condiciones Complementarias | C6: 5 puntos | D6: OTORGA | F6: PUNTAJE
D7: SI | E7: NO
A8: Ofrecimiento de límite adicional al básico. Se califica el límite adicional sin cobro de prima de acuerdo con lo siguiente: | C8: 2
A9: Valor Asegurado $1.600.000.000
A10: No ofrecimiento de límite adicional | B10: 0
A11: 200000000 | B11: 1 punto
A12: 400000000 | B12: 2 puntos
A13: RETROACTIVIDAD: Otorguamiento de retroactividad a partir del 1 de enero de 2021 | C13: 1
A14: Total Puntos - Condiciones Complementarias | C14: =SUM(C8:C13) -> 3 | F14: =+SUM(F8:F13) -> 0
A16: CRITERIOS DE EVALUACIÓN DE DEDUCIBLES
A17: DEDUCIBLES: INFIDELIDAD: 50.000.000 TODA Y CADA PÉRDIDA DEMAS COBERTURAS: 30.000.000 TODA Y CADA PÉRDIDA
A18: EVALUACIÓN DE DEDUCIBLES 20 PUNTOS
A19: INFIDELIDAD…………………………………………………………………………………..…(1 punto)
A21: RANGO DE DEDUCIBLE | B21: Puntaje | C21: Puntaje sobre el valor de la pérdida | F21: OFRECIMIENTO | G21: PUNTAJE
A22: Sin deducible | B22: 1 punto
A23: Inferior a $50.000.000 | B23: 0,5 punto
A24: DEMÁS COBERTURAS……………………………………………………………………………..…(1 punto)
A25: RANGO DE DEDUCIBLE | B25: Puntaje | C25: Puntaje sobre el valor de la pérdida | F25: OFRECIMIENTO | G25: PUNTAJE
A26: Sin deducible | B26: 1 punto
A27: Inferior a $30.000.000 | B27: 0,5 puntos
A29: TOTAL PUNTAJE DEDUCIBLES | G29: =+#REF!+#REF! -> #REF!

Sheet CASCO
A1: ='TRDM '!A1:G1 -> EVALUACIÓN CONDICIONES COMPLEMENTARIAS Y DEDUCIBLES
A2: ='TRDM '!A2:G2 -> GRUPO I
A3: ='TRDM '!A3:G3 -> DEPARTAMENTO DEL ATLÁNTICO
A4: CASCO BARCO
A6: Condiciones Complementarias | D6: 5 Puntos | E6: OTORGA | G6: PUNTAJE
E7: SI | F7: NO
A8: Accidentes personales a tripulación: Se califica el adicional al básico Básico: Límite de $5.000.000 | D8: 0.5
A9: Accidentes personales a pasajeros: Se califica el adicional al básico. Básico: Límite de $5.000.000 | D9: 0.5
A10: Total Puntos - Condiciones Complementarias | D10: =SUM(D8:D9) -> 1 | G10: 0
A12: CRITERIOS DE EVALUACIÓN DE DEDUCIBLES CASCO 20 PUNTOS
A13: EL DEPARTAMENTO DEL ATLÁNTICO está interesado en recibir propuestas de deducibles que le permitan obtener la mayor indemnización posible. Para información de los proponentes, a continuación se presentan los deducibles que se están aplicando en la póliza actualmente contratada. DEDUCIBLES: A) PROTECCIÓN & INDEMNIZACIÓN PANDI 3% SOBRE EL VALOR DE LA PÉRDIDA MINIMO 3 SMMLV B) DEMÁS COBERTURAS: 3% SOBRE EL VALOR DE LA PÉRDIDA MINIMO 3 SMMLV
B14: Tablas de calificación
A15: a) Protección & Indemnizacion - PANDI…………………………………………………………………2 puntos
A16: Evaluación de Porcentaje: ………………………………………………………... (1 Punto)
A17: RANGO DE DEDUCIBLE | C17: Puntaje sobre valor de la pérdida | E17: OFRECIMIENTO | F17: PUNTAJE
A18: Sin deducible | C18: 1 punto
A19: Superior a 0% y menor a 3% | C19: 0,5 Puntos
A20: Evaluación de Mínimo: En SMMLV……………………………………………. (1 Punto)
A21: RANGO DE DEDUCIBLE | C21: Puntaje | E21: OFRECIMIENTO | F21: PUNTAJE
A22: Sin deducible | C22: 1 punto
A23: Superior a 0 SMMLV y menor a 3 SMMLV | C23: 0,5 puntos
A25: b) Demás Coberturas……………………………………………………………………………………(2 puntos)
A26: Evaluación de Porcentaje: ……………………………………………………….(1 Punto)
A27: RANGO DE DEDUCIBLE | C27: Puntaje sobre valor de la pérdida | E27: OFRECIMIENTO | F27: PUNTAJE
A28: Sin deducible | C28: 1 punto
A29: Superior a 0% y menor a 3,0% | C29: 0,5 puntos
A30: Evaluación de Mínimo: En SMMLV………………………………………... (1 Punto)
A31: RANGO DE DEDUCIBLE | C31: Puntaje | E31: OFRECIMIENTO | F31: PUNTAJE
A32: Sin deducible | C32: 5 Puntos
A33: Superior a 0 SMMLV y menor a 3 SMMLV | C33: 0.5
A35: TOTAL PUNTAJE DEDUCIBLES | F35: =+#REF!+#REF!+#REF! -> #REF!

Sheet EyM
A1: ='TRDM '!A1:G1 -> EVALUACIÓN CONDICIONES COMPLEMENTARIAS Y DEDUCIBLES
A2: ='TRDM '!A2:G2 -> GRUPO I
A3: ='TRDM '!A3:G3 -> DEPARTAMENTO DEL ATLÁNTICO
A4: EQUIPO Y MAQUINARIA
A6: Condiciones Complementarias | D6: 4 | E6: OTORGA | G6: PUNTAJE
E7: SI | F7: NO
A8: Responsabilidad Civil Extracontractual: Se califica el adicional al básico Básico: Sublímite de 50% | D8: 1.5
A9: Amparo automatico para nuevos equipos: Se califica el adicional al básico. Básico: Límite de $900.000.000 y término de ciento veinte (130) dias | D9: 1.5
A10: Total Puntos - Condiciones Complementarias | D10: =SUM(D8:D9) -> 3 | G10: =+SUM(G8:G9) -> 0
A12: DEDUCIBLES
A13: La asignación de la calificación para este aspecto se realizará aplicando los criterios aquí indicados y los puntajes señalados en las tablas que se presentan a continuación
A14: DEDUCIBLES: TERREMOTO: 3% SOBRE EL VALOR ASEGURADO MINIMO 2 SMMLV. HURTO Y HURTO CALIFICADO: 3% SOBRE EL VALOR DE LA PÉRDIDA MINIMO 2 SMMLV OTROS EVENTOS: 2% SOBRE EL VALOR DE LA PÉRDIDA MINIMO 1 SMMLV
A15: EVALUACION DE DEDUCIBLES 20 PUNTOS
A16: Tablas de calificación
A17: a) TERREMOTO…………………………………………………………………………..………….……………1Puntos
A18: Evaluación de Porcentaje: …………………………………………………...…………………... (0,5 Puntos)
A19: RANGO DE DEDUCIBLE | C19: Puntaje sobre valor asegurado | F19: OFRECIMIENTO | G19: PUNTAJE
A20: Sin deducible | C20: 1

Sheet RCE
A1: ='TRDM '!A1:G1 -> EVALUACIÓN CONDICIONES COMPLEMENTARIAS Y DEDUCIBLES
A2: GRUPO I
A3: ='TRDM '!A3:G3 -> DEPARTAMENTO DEL ATLÁNTICO
A4: RESPONSABILIDAD CIVIL EXTRACONTRACTUAL
A6: Condiciones Complementarias | C6: 4 Puntos | D6: OTORGA | F6: PUNTAJE
D7: SI | E7: NO
A8: Ofrecimiento de límite adicional al básico. Se califica el límite adicional sin cobro de prima de acuerdo con lo siguiente: | C8: 3
A9: Valor Asegurado $2.505.000.000
A10: 100000000 | B10: 1 punto
A11: 200000000 | B11: 2
A12: 400000000 | B12: 3 puntos
A13: Perjuicios Extrapatrimoniales Se califica el porcentaje adicional al básico. Básico: sublímite 30% | C13: 1
A14: Total Puntos - Condiciones Complementarias | C14: =SUM(C8:C13) -> 4 | F14: =+SUM(F8:F13) -> 0
A17: CRITERIO DE EVALUACIÓN DEDUCIBLES
A18: Teniendo en cuenta que este seguro establece como cobertura básica el amparo de no aplicación de deducible, la oferta que contemple deducible para este ramo será rechazada

Sheet AUTOS
A1: ='[1]TRDM '!A1:G1 -> EVALUACIÓN CONDICIONES COMPLEMENTARIAS Y DEDUCIBLES
A2: =EyM!A2 -> GRUPO I
A3: AUTOMÓVILES
A5: Condiciones Complementarias | D5: 6 PUNTOS | E5: OTORGA | G5: PUNTAJE
E6: SI | F6: NO
A7: Cobertura de Responsabilidad Civil Extracontractual, para daños a terceros. Se califica el límite adicional al básico, mínimo ($100.000.000) adicional. Básico $2.500.000.000 | D7: 1
A8: Cobertura de Responsabilidad Civil Extracontractual, para muerte o lesiones a una persona. Se califica el límite adicional al básico, mínimo ($100.000.000) adicional. Básico $2.500.000.000 | D8: 2
A9: Cobertura de Responsabilidad Civil Extracontractual, para muerte o lesiones a dos o más personas. Se califica el límite adicional al básico, mínimo ($100.000.000) adicional. Básico $5.000.000.000 | D9: 2
A10: Amparo automático de vehículos nuevos o usados. Se califica el límite adicional al básico Básico: Límite de $505.000.000 y término de ciento veinte (120) días para aviso | D10: 1
A11: Total Puntos - Condiciones Complementarias | D11: =SUM(D7:D10) -> 6 | G11: =+SUM(G7:G10) -> 0
A13: CRITERIO DE EVALUACIÓN DEDUCIBLES
A14: Teniendo en cuenta que este seguro establece como cobertura básica el amparo de no aplicación de deducible, la oferta que contemple deducible para este ramo será rechazada
