Workbook
Name contratación: 'IDENTIFICACION Y ANALISIS'!$B$34:$B$37
Name ejecución: 'IDENTIFICACION Y ANALISIS'!$B$39:$B$50
Name OPCIONES: 'ASIGNACION Y TRATAMIENTO'!$B$61:$B$63
Name planeación: 'IDENTIFICACION Y ANALISIS'!$B$19:$B$25
Name selección: 'IDENTIFICACION Y ANALISIS'!$B$27:$B$32

Sheet CONTEXTO
C2: MATRIZ DE RIESGOS EN CONTRATACIÓN | F2: Código: GCO-GCI-F164 Versión: 02 Vigencia: 01 de diciembre de 2022 Caso HOLA: 280117
B6: ESTABLECER EL CONTEXTO
B7: El punto inicial es identificar el contexto en el cual interactúa la Entidad Estatal para conocer el ambiente social, económico y político, e identificar (i) sus propios Riesgos; (ii) los Riesgos comunes a sus Procesos de Contratación; y (iii) los Riesgos del Proceso de Contratación en particular. (Aplica igual para contratos interadministrativos) En este paso la Entidad Estatal debe identificar los aspectos que se mencionan a continuación y los posibles efectos adversos que estos pueden generar.
B8: Objeto del Proceso de Contratación: CONTRATAR EL SERVICIO DE MANTENIMIENTO DEL SISTEMA DE GRABACIÓN, AUDIO Y VÍDEO DE LA JUNTA DE ADMINISTRADORA LOCAL, DE PROPIEDAD DEL FONDO DE DESARROLLO LOCAL DE CHAPINERO.
B9: Partícipes del Proceso de Contratación: Agentes externos (Organismos de control, veedurías ciudadanas), agentes internos (supervisores, funcionarios y demás usuarios).
B10: Ciudadanía que se beneficia del Proceso de Contratación: Agentes internos (funcionarios, pasantes) y externos (contratistas, visitantes y usuarios externos en general)
B11: Capacidad de la Entidad Estatal entendida como la disponibilidad de recursos y conocimientos para el Proceso de Contratación: La disponibilidad de la Entidad de sus recursos y el conocimiento de su equipo humano se refleja en los diferentes funcionarios que participarán en las diversas etapas del proceso de selección: participan las áreas que requieren los procesos de contratación (Etapa de Planeación), Dirección de Contratación, Comité Evaluador (Etapa de selección), Dirección de Contratación (Etapa de contratación) y la supervisión y apoyos a la misma (Estapa de Ejecución).
B12: Suficiencia del presupuesto oficial del Proceso de Contratación: De acuerdo al Plan Anual de Adquisiciones se deben estimar los recursos necesarios para el desarrollo del proceso de la contratación, el cual tendrá el soporte presupuestal suficiente para su desarrollo.
B13: Condiciones geográficas y de acceso del lugar en el cual se debe cumplir el objeto del Proceso de Contratación: PRESTACION DEL SERVICIO DE MANTENIMIENTO DEL SISTEMA DE GRABACIÓN, AUDIO Y VÍDEO DE LA JUNTA DE ADMINISTRADORA LOCAL, DE PROPIEDAD DEL FONDO DE DESARROLLO LOCAL DE CHAPINERO..
B14: Entorno socio ambiental: No aplica
B15: Condiciones políticas: No aplica
B16: Factores ambientales: El proceso de contratación incorpora los aspectos relacionados al programa de Compras Públicas sostenibles del Plan Institucional de Gestión Ambiental adoptando las Fichas de Contratación Sostenible.
B17: Sector del objeto del Proceso de Contratación y su mercado: Sector terciario o de servicios.
... B20: Experiencia propia y de otras Entidades Estatales en Procesos de Contratación del mismo tipo: La Alcaldía Local de Chapinero ha ejecutado procesos de contratación relacionados con el presente proceso contratual, asi mismo, otras entidades que tienen sus actividades en la ciudada Bogotá han contratado la adquisición e instalación de equipos y elementos para salas de conferencias. Por lo tanto, el Fondo y las referencias tomadas de otras entidades aseguran el adelantamiento de este tipo de procesos.

Sheet IDENTIFICACION Y ANALISIS
C2: MATRIZ DE RIESGOS DE CONTRATACIÓN | F2: Código: GCO-GCI-F164 Versión: 02 Vigencia: 01 de diciembre de 2022 Caso HOLA: 280117
B6: DEFINICIONES
B7: RIESGO: Evento que puede generar efectos adversos y de distinta magnitud en el logro de los objetivos del Proceso de Contratación o en la ejecución de un contrato RIESGOS PREVISIBLES: Son los posibles hechos o circunstancias que por la naturaleza del contrato y de la actividad a ejecutar es factible su ocurrencia. ETAPA DE PLANEACIÓN: Está comprendida desde el momento en que se identifican las necesidades que debe satisfacer la Secretaría Distrital de Gobierno y los Fondos de Desarrollo Local, a través del abastecimiento de bienes, obras o servicios, la elaboración del Plan Anual de Adquisiciones y la estructuración de los documentos y estudios previos. ETAPA DE SELECCIÓN: Está comprendida entre el acto de Apertura del Proceso de Contratación y la Adjudicación o la declaración de desierto del Proceso de Contratación ETAPA DE CONTRATACIÓN: Una vez adjudicado el contrato objeto del Proceso de Contratación, inicia la etapa para la celebración del contrato y el cumplimiento de los requisitos para de perfeccionamiento y ejecución. ETAPA DE EJECUCIÓN: Inicia una vez cumplidos los requisitos previstos para iniciar la ejecución del contrato respectivo y termina con el vencimiento del plazo del contrato o la fecha de liquidación si hay lugar a ella. RIESGO GENERAL: Es un riesgo de todos los procesos de contratación adelantados por la Entidad Estatal, por lo cual está presente en toda su actividad contractual. RIEGO ESPECIFICO: Es un riesgo propio del proceso de contratación objeto de análisis. RIESGOS ECONÓMICOS: Son los derivados del comportamiento del mercado, tales como la fluctuación de los precios de los insumos, desabastecimiento y especulación de los mismos, entre otros. RIESGOS SOCIALES O POLÍTICOS: son los derivados de los cambios de las políticas gubernamentales y de cambios en las condiciones sociales que tengan impacto en la ejecución del contrato. RIESGOS OPERACIONALES: Son los asociados a la operatividad del contrato, tales como la suficiencia del presupuesto oficial, del plazo o los derivados de procesos, procedimientos, parámetros, sistemas de información y tecnológicos, equipos humanos o técnicos inadecuados o insuficientes. RIESGOS FINANCIEROS: Son (i) el riesgo de consecución de financiación o riesgo de liquidez para obtener recursos para cumplir con el objeto del contrato, y (ii) el riesgo de las condiciones financieras establecidas para la obtención de los recursos, tales como plazos, tasas, garantías, contragarantías, y refinanciaciones, entre otros. RIESGOS REGULATORIOS: Derivados de cambios regulatorios o reglamentarios que afecten la ecuación económica del contrato. RIESGOS DE LA NATURALEZA: Son los eventos naturales previsibles en los cuales no hay intervención humana que puedan tener impacto en la ejecución del contrato, por ejemplo los temblores, inundaciones, lluvias, sequías, entre otros. RIESGOS AMBIENTALES: Son los derivados de las obligaciones legales o reglamentarias de carácter ambiental, así como de las licencias, planes de manejo o de permisos y autorizaciones ambientales, incluyendo tasas retributivas y compensatorias, obligaciones de mitigación, tareas de monitoreo y control, entre otras. RIESGOS TECNOLÓGICOS: Son los derivados de fallas en los sistemas de comunicación de voz y de datos, suspensión de servicios públicos, nuevos desarrollos tecnológicos o estándares que deben ser tenidos en cuenta para la ejecución del contrato, obsolescencia tecnológica.
B15: INSTRUCCIONES PARA LA IDENTIFICACIÓN, ANALISIS, EVALUACIÓN , ASIGNACIÓN Y TRATAMIENTO DE RIESGOS EN LA CONTRATACIÓN
B16: 1) Identifique los riesgos previsibles que le apliquen al objeto contractual que se adelante. Los relacionados a continuación se establecen de manera general y como proforma. No obstante, si del objeto contractual se identifican otros riesgos diferentes a los aquí determinados, por favor reemplace el texto de la casilla teniendo en cuenta la etapa del proceso. Así mismo, seleccione la clase, fuente y el tipo (Operacional, Económico, Sociales o Políticos, Regulatorios, Financieros, Tecnológicos, De la naturaleza, Ambientales) 2) Continúe en la hoja de "EVALUACIÓN" (SI EXISTEN DUDAS CONCEPTUALES PARA LA ELABORACIÓN DE LA MATRIZ DE RIESGO CONSULTE EL MANUAL PARA LA IDENTIFICACIÓN Y COBERTURA DEL RIESGO EN LOS PROCESOS DE CONTRATACIÓN EXPEDIDO POR COLOMBIA COMPRA EFICIENTE Y LA GUÍA DE RIESGOS PREVISIBLES CONTRACTUALES, EXPEDIDA POR LA VEEDURÍA DISTRITAL)
C17: ETAPAS | D17: CLASE | E17: FUENTE | F17: TIPO
C18: PLANEACIÓN
B19: Requisitos habilitantes inapropiados para el proceso de selección | D19: Especifico | E19: Interno | F19: Operacionales
B20: Inadecuado análisis económico estimativo del valor del contrato | D20: Especifico | E20: Interno | F20: Economicos
B21: Inadecuada descripción del bien o servicio requerido | D21: Especifico | E21: Interno | F21: Operacionales
B22: Requisitos habilitantes que impidan la selección objetiva | D22: Especifico | E22: Interno | F22: Operacionales
B23: Falta de profundidad en el estudio de sector no identificandose claramente aspectos de oferta y demanda | D23: Especifico | E23: Interno | F23: Economicos
B24: Inadecuada identificación de las condiciones contractuales | D24: Especifico | E24: Interno | F24: Operacionales
B25: Apertura de procesos sin disponibilidad presupuestal | D25: Especifico | E25: Interno | F25: Operacionales
C26: SELECCIÓN
B27: Inadecuada evaluación de las ofertas y/o verificación de requisitos habilitantes | D27: Especifico | E27: Interno | F27: Operacionales
B28: Falta de claridad en la elaboración de los actos administrativos | D28: Especifico | E28: Interno | F28: Operacionales
B29: Contestación inoportuna a todas las observaciones formuladas a los documentos de la contratación | D29: Especifico | E29: Interno | F29: Operacionales
B30: No publicación de la documentación del proceso de selección en el SECOP | D30: Especifico | E30: Interno | F30: Operacionales
B31: Confabulacion de los proponentes (Colusión) | D31: Especifico | E31: Externo | F31: Operacionales
B32: Selección de ofertas con precios artificialmente bajos. | D32: Especifico | E32: Interno | F32: Operacionales
C33: CONTRATACIÓN
B34: Riesgo de que no se firme el contrato. | D34: Especifico | E34: Interno | F34: Operacionales
B35: Falta de constitución o constitución tardía de la garantía única. Aceptación de garantías que no se ajustan a lo contemplado en el contrato | D35: Especifico | E35: Externo | F35: Operacionales
B36: Falta de solicitud o solicitud tardía del registro presupuestal | D36: Especifico | E36: Interno | F36: Operacionales
B37: No publicación de la documentación del proceso de selección en el SECOP | D37: Especifico | E37: Interno | F37: Operacionales
C38: EJECUCIÓN
B39: Fluctuaciones del valor de la moneda | D39: Estatal | E39: Externo | F39: Economicos
B40: Variación de los precios del mercado | D40: Estatal | E40: Externo | F40: Economicos
B41: Factores políticos o macroeconómicos. | D41: Estatal | E41: Externo | F41: Sociales o Políticos
B42: Variación en la disponibilidad o en el costo de los insumos necesarios para prestar los servicios. | D42: Estatal | E42: Externo | F42: Economicos
B43: Incumplimiento de compromisos adquiridos por el contratista seleccionado con sus subcontratistas, suministradores de bienes y servicios. | D43: Especifico | E43: Externo | F43: Economicos
B44: Incumplimiento de la administración en los pagos. | D44: Especifico | E44: Externo | F44: Economicos
B45: Defecto en la instalación de equipos | D45: Especifico | E45: Interno | F45: Operacionales
B46: Defectos en los equipos. | D46: Especifico | E46: Interno | F46: Operacionales
B47: Daños a los equipos objeto de mantenimiento y/o otros bienes | D47: Especifico | E47: Interno | F47: Operacionales
B48: Imposición de nuevos tributos | D48: Estatal | E48: Externo | F48: Regulatorios
B49: Imposición de nuevos trámites o permisos | D49: Estatal | E49: Externo | F49: Regulatorios
B50: Variación de tasas o tarifas | D50: Estatal | E50: Externo | F50: Financieros
B55: General
...

Sheet EVALUACION
C2: MATRIZ DE RIESGOS DE CONTRATACIÓN | K2: Código: GCO-GCI-F164 Versión: 02 Vigencia: 01 de diciembre de 2022 Caso HOLA: 280117
B6: Objeto Contractual: CONTRATAR EL SERVICIO DE MANTENIMIENTO, MEJORAMIENTO Y RENOVACIÓN DEL SISTEMA DE GRABACIÓN, AUDIO Y VÍDEO DE LA JUNTA ADMINISTRADORA LOCAL, DE PROPIEDAD DEL FONDO DE DESARROLLO LOCAL DE CHAPINERO
B7: INSTRUCCIONES PARA LA IDENTIFICACIÓN, ANALISIS, EVALUACIÓN , ASIGNACIÓN Y TRATAMIENTO DE RIESGOS EN LA CONTRATACIÓN
B8: 1) Diligencie el objeto contractual y seleccione la(s) etapas y los riesgos que aplican al objeto contractual, de acuerdo a lo definido en la hoja de "IDENTIFICACIÓN Y ANÁLISIS"
B9: 2) Describa las consecuencias de la ocurrencia del Riesgo/evento.
B10: 3) Asigne la probabilidad de ocurrencia del riesgo, de conformidad con la tabla de probabilidad y la valoración del riesgo (Cualitativa o Monetaria)
B11: 4) Asigne el impacto que generaría la materialización del riesgo, de conformidad con la tabla de impacto y la valoración del riesgo (Cualitativa o Monetaria)
B12: 5) Al realizar las anteriores actividades se obtendrá la calificación total y la valoración del riesgo (prioridad).
B13: 6) Continúe en la hoja de "EVALUACIÓN DE CONTROLES"
B15: CALIFICACIÓN | H15: Cualitativa
B16: ETAPA | C16: Descripción (Que puede pasar y, cómo puede ocurrir) | H16: Consecuencias de la ocurrencia del evento | I16: Probabilidad de Ocurrencia | J16: Impacto | K16: Calificación Total | L16: Prioridad
B17: PLANEACIÓN | C17: ='IDENTIFICACION Y ANALISIS'!B19 -> Requisitos habilitantes inapropiados para el proceso de selección | H17: Selección de oferentes que no cumplan con las capacidades necesarias para el desarrollo del contrato. | I17: 1 | J17: 4 | K17: =I17+J17 -> 5 | L17: =IF(K17<=4,"BAJO",IF(K17=5,"MEDIO",IF(K17=6,"ALTO",IF(K17=7,"ALTO","EXTREMO")))) -> MEDIO
B18: PLANEACIÓN | C18: ='IDENTIFICACION Y ANALISIS'!B20 -> Inadecuado análisis económico estimativo del valor del contrato | H18: Definición de precios por encima o por debajo del mercado ocasionando una estimación superior o defícit del presupuesto. | I18: 2 | J18: 4 | K18: =+I18+J18 -> 6 | L18: =IF(K18<=4,"BAJO",IF(K18=5,"MEDIO",IF(K18=6,"ALTO",IF(K18=7,"ALTO","EXTREMO")))) -> ALTO
B19: PLANEACIÓN | C19: ='IDENTIFICACION Y ANALISIS'!B21 -> Inadecuada descripción del bien o servicio requerido | H19: Deficiencias en la ejecución de las actividades del contrato | I19: 1 | J19: 4 | K19: =+I19+J19 -> 5 | L19: =IF(K19<=4,"BAJO",IF(K19=5,"MEDIO",IF(K19=6,"ALTO",IF(K19=7,"ALTO","EXTREMO")))) -> MEDIO
B20: PLANEACIÓN | C20: ='IDENTIFICACION Y ANALISIS'!B22 -> Requisitos habilitantes que impidan la selección objetiva | H20: Declaración del proceso de contratación como "desierto" | I20: 1 | J20: 5 | K20: =+I20+J20 -> 6 | L20: =IF(K20<=4,"BAJO",IF(K20=5,"MEDIO",IF(K20=6,"ALTO",IF(K20=7,"ALTO","EXTREMO")))) -> ALTO
B21: PLANEACIÓN | C21: ='IDENTIFICACION Y ANALISIS'!B23 -> Falta de profundidad en el estudio de sector no identificandose claramente aspectos de oferta y demanda | H21: Declaración del proceso de contratación como "desierto". | I21: 1 | J21: 5 | K21: =+I21+J21 -> 6 | L21: =IF(K21<=4,"BAJO",IF(K21=5,"MEDIO",IF(K21=6,"ALTO",IF(K21=7,"ALTO","EXTREMO")))) -> ALTO
B22: PLANEACIÓN | C22: ='IDENTIFICACION Y ANALISIS'!B24 -> Inadecuada identificación de las condiciones contractuales | H22: Selección de oferentes que no cumplan con las capacidades necesarias para el desarrollo del contrato o Selección de oferentes que no cumplan con las capacidades necesarias para el desarrollo del contrato. | I22: 1 | J22: 3 | K22: =+I22+J22 -> 4 | L22: =IF(K22<=4,"BAJO",IF(K22=5,"MEDIO",IF(K22=6,"ALTO",IF(K22=7,"ALTO","EXTREMO")))) -> BAJO
B23: PLANEACIÓN | C23: ='IDENTIFICACION Y ANALISIS'!B25 -> Apertura de procesos sin disponibilidad presupuestal | H23: No suscripción del proceso contractual y no dar cumplimiento a las metas del PDL | I23: 1 | J23: 5 | K23: =+I23+J23 -> 6 | L23: =IF(K23<=4,"BAJO",IF(K23=5,"MEDIO",IF(K23=6,"ALTO",IF(K23=7,"ALTO","EXTREMO")))) -> ALTO
B24: SELECCIÓN | C24: ='IDENTIFICACION Y ANALISIS'!B27 -> Inadecuada evaluación de las ofertas y/o verificación de requisitos habilitantes | H24: Selección de oferentes que no cumplan con las capacidades necesarias para el desarrollo del contrato. | I24: 2 | J24: 3 | K24: =+I24+J24 -> 5 | L24: =IF(K24<=4,"BAJO",IF(K24=5,"MEDIO",IF(K24=6,"ALTO",IF(K24=7,"ALTO","EXTREMO")))) -> MEDIO
B25: SELECCIÓN | C25: ='IDENTIFICACION Y ANALISIS'!B28 -> Falta de claridad en la elaboración de los actos administrativos | H25: Retrasos en la adjudicación del proceso contractual y/o suscripción del contractual. | I25: 2 | J25: 2 | K25: =+I25+J25 -> 4 | L25: =IF(K25<=4,"BAJO",IF(K25=5,"MEDIO",IF(K25=6,"ALTO",IF(K25=7,"ALTO","EXTREMO")))) -> BAJO
B26: SELECCIÓN | C26: ='IDENTIFICACION Y ANALISIS'!B29 -> Contestación inoportuna a todas las observaciones formuladas a los documentos de la contratación | H26: Retrasos en la adjudicación del proceso contractual y/o suscripción del contractual. | I26: 2 | J26: 2 | K26: =+I26+J26 -> 4 | L26: =IF(K26<=4,"BAJO",IF(K26=5,"MEDIO",IF(K26=6,"ALTO",IF(K26=7,"ALTO","EXTREMO")))) -> BAJO
B27: SELECCIÓN | C27: ='IDENTIFICACION Y ANALISIS'!B30 -> No publicación de la documentación del proceso de selección en el SECOP | H27: Retrasos en la adjudicación del proceso contractual y/o suscripción del contractual. | I27: 1 | J27: 2 | K27: =+I27+J27 -> 3 | L27: =IF(K27<=4,"BAJO",IF(K27=5,"MEDIO",IF(K27=6,"ALTO",IF(K27=7,"ALTO","EXTREMO")))) -> BAJO
B28: SELECCIÓN | C28: ='IDENTIFICACION Y ANALISIS'!B31 -> Confabulacion de los proponentes (Colusión) | H28: Selección de oferente que no cumplan con las capacidades necesarias para el desarrollo del contrato. | I28: 3 | J28: 3 | K28: =+I28+J28 -> 6 | L28: =IF(K28<=4,"BAJO",IF(K28=5,"MEDIO",IF(K28=6,"ALTO",IF(K28=7,"ALTO","EXTREMO")))) -> ALTO
B29: SELECCIÓN | C29: ='IDENTIFICACION Y ANALISIS'!B32 -> Selección de ofertas con precios artificialmente bajos. | H29: Deficit en la ejecución del contrato ya que los valores no corresponden al mercado | I29: 2 | J29: 3 | K29: =+I29+J29 -> 5 | L29: =IF(K29<=4,"BAJO",IF(K29=5,"MEDIO",IF(K29=6,"ALTO",IF(K29=7,"ALTO","EXTREMO")))) -> MEDIO
B30: CONTRATACIÓN | C30: ='IDENTIFICACION Y ANALISIS'!B34 -> Riesgo de que no se firme el contrato. | H30: No cumplimiento de las metas del PDL | I30: 1 | J30: 5 | K30: =+I30+J30 -> 6 | L30: =IF(K30<=4,"BAJO",IF(K30=5,"MEDIO",IF(K30=6,"ALTO",IF(K30=7,"ALTO","EXTREMO")))) -> ALTO
B31: CONTRATACIÓN | C31: ='IDENTIFICACION Y ANALISIS'!B35 -> Falta de constitución o constitución tardía de la garantía única. Aceptación de garantías que no se ajustan a lo contemplado en el contrato | H31: Retrasos en la ejecución del contrato. | I31: 3 | J31: 2 | K31: =+I31+J31 -> 5 | L31: =IF(K31<=4,"BAJO",IF(K31=5,"MEDIO",IF(K31=6,"ALTO",IF(K31=7,"ALTO","EXTREMO")))) -> MEDIO
B32: CONTRATACIÓN | C32: ='IDENTIFICACION Y ANALISIS'!B36 -> Falta de solicitud o solicitud tardía del registro presupuestal | H32: Retrasos en la ejecución del contrato. | I32: 1 | J32: 2 | K32: =+I32+J32 -> 3 | L32: =IF(K32<=4,"BAJO",IF(K32=5,"MEDIO",IF(K32=6,"ALTO",IF(K32=7,"ALTO","EXTREMO")))) -> BAJO
B33: CONTRATACIÓN | C33: ='IDENTIFICACION Y ANALISIS'!B37 -> No publicación de la documentación del proceso de selección en el SECOP | H33: Inposibildiad de seguimiento por cuenta de ciudadanía y entes de control | I33: 1 | J33: 1 | K33: =+I33+J33 -> 2 | L33: =IF(K33<=4,"BAJO",IF(K33=5,"MEDIO",IF(K33=6,"ALTO",IF(K33=7,"ALTO","EXTREMO")))) -> BAJO
B34: EJECUCIÓN | C34: ='IDENTIFICACION Y ANALISIS'!B39 -> Fluctuaciones del valor de la moneda | H34: Defícit presupuestal del contrato | I34: 1 | J34: 3 | K34: =+I34+J34 -> 4 | L34: =IF(K34<=4,"BAJO",IF(K34=5,"MEDIO",IF(K34=6,"ALTO",IF(K34=7,"ALTO","EXTREMO")))) -> BAJO
B35: EJECUCIÓN | C35: ='IDENTIFICACION Y ANALISIS'!B40 -> Variación de los precios del mercado | H35: Defícit presupuestal del contrato | I35: 1 | J35: 3 | K35: =+I35+J35 -> 4 | L35: =IF(K35<=4,"BAJO",IF(K35=5,"MEDIO",IF(K35=6,"ALTO",IF(K35=7,"ALTO","EXTREMO")))) -> BAJO
B36: EJECUCIÓN | C36: ='IDENTIFICACION Y ANALISIS'!B41 -> Factores políticos o macroeconómicos. | H36: Afectaciones en la ejecución del contrato. | I36: 1 | J36: 2 | K36: =+I36+J36 -> 3 | L36: =IF(K36<=4,"BAJO",IF(K36=5,"MEDIO",IF(K36=6,"ALTO",IF(K36=7,"ALTO","EXTREMO")))) -> BAJO
B37: EJECUCIÓN | C37: ='IDENTIFICACION Y ANALISIS'!B42 -> Variación en la disponibilidad o en el costo de los insumos necesarios para prestar los servicios. | H37: Defícit presupuestal del contrato | I37: 1 | J37: 3 | K37: =+I37+J37 -> 4 | L37: =IF(K37<=4,"BAJO",IF(K37=5,"MEDIO",IF(K37=6,"ALTO",IF(K37=7,"ALTO","EXTREMO")))) -> BAJO
B38: EJECUCIÓN | C38: ='IDENTIFICACION Y ANALISIS'!B43 -> Incumplimiento de compromisos adquiridos por el contratista seleccionado con sus subcontratistas, suministradores de bienes y servicios. | H38: Incumplimiento del contrato | I38: 2 | J38: 4 | K38: =+I38+J38 -> 6 | L38: =IF(K38<=4,"BAJO",IF(K38=5,"MEDIO",IF(K38=6,"ALTO",IF(K38=7,"ALTO","EXTREMO")))) -> ALTO
B39: EJECUCIÓN | C39: ='IDENTIFICACION Y ANALISIS'!B44 -> Incumplimiento de la administración en los pagos. | H39: Retrasos en la ejecución del contrato. | I39: 3 | J39: 2 | K39: =+I39+J39 -> 5 | L39: =IF(K39<=4,"BAJO",IF(K39=5,"MEDIO",IF(K39=6,"ALTO",IF(K39=7,"ALTO","EXTREMO")))) -> MEDIO
B40: EJECUCIÓN | C40: ='IDENTIFICACION Y ANALISIS'!B45 -> Defecto en la instalación de equipos | H40: Afectaciones de las instalaciones y de los demás bienes e insumos objeto del contrato. | I40: 3 | J40: 3 | K40: =+I40+J40 -> 6 | L40: =IF(K40<=4,"BAJO",IF(K40=5,"MEDIO",IF(K40=6,"ALTO",IF(K40=7,"ALTO","EXTREMO")))) -> ALTO
B41: EJECUCIÓN | C41: ='IDENTIFICACION Y ANALISIS'!B46 -> Defectos en los equipos. | H41: Afectaciones a las instalaciones y de los demás bienes e insumos objeto del contrato. | I41: 3 | J41: 3 | K41: =+I41+J41 -> 6 | L41: =IF(K41<=4,"BAJO",IF(K41=5,"MEDIO",IF(K41=6,"ALTO",IF(K41=7,"ALTO","EXTREMO")))) -> ALTO
B42: EJECUCIÓN | C42: ='IDENTIFICACION Y ANALISIS'!B47 -> Daños a los equipos objeto de mantenimiento y/o otros bienes | H42: Afectaciones a las instalaciones y de los demás bienes e insumos objeto del contrato. | I42: 3 | J42: 3 | K42: =+I42+J42 -> 6 | L42: =IF(K42<=4,"BAJO",IF(K42=5,"MEDIO",IF(K42=6,"ALTO",IF(K42=7,"ALTO","EXTREMO")))) -> ALTO
B43: EJECUCIÓN | C43: ='IDENTIFICACION Y ANALISIS'!B48 -> Imposición de nuevos tributos | H43: Cambio de condiciones del contrato al afectar la ecuación económica en contra del ejecutor. | I43: 1 | J43: 1 | K43: =+I43+J43 -> 2 | L43: =IF(K43<=4,"BAJO",IF(K43=5,"MEDIO",IF(K43=6,"ALTO",IF(K43=7,"ALTO","EXTREMO")))) -> BAJO
B44: EJECUCIÓN | C44: ='IDENTIFICACION Y ANALISIS'!B49 -> Imposición de nuevos trámites o permisos | H44: Retrasos en la ejecución del contrato. | I44: 1 | J44: 2 | K44: =+I44+J44 -> 3 | L44: =IF(K44<=4,"BAJO",IF(K44=5,"MEDIO",IF(K44=6,"ALTO",IF(K44=7,"ALTO","EXTREMO")))) -> BAJO
B45: EJECUCIÓN | C45: ='IDENTIFICACION Y ANALISIS'!B50 -> Variación de tasas o tarifas | H45: Cambio de condiciones del contrato al afectar la ecuación económica en contra del ejecutor. | I45: 1 | J45: 1 | K45: =+I45+J45 -> 2 | L45: =IF(K45<=4,"BAJO",IF(K45=5,"MEDIO",IF(K45=6,"ALTO",IF(K45=7,"ALTO","EXTREMO")))) -> BAJO
...

Sheet EVALUACION CON CONTROLES
C2: MATRIZ DE RIESGOS DE CONTRATACIÓN | Q2: Código: GCO-GCI-F164 Versión: 02 Vigencia: 01 de diciembre de 2022 Caso HOLA: 280117
B6: =+EVALUACION!B6 -> Objeto Contractual: CONTRATAR EL SERVICIO DE MANTENIMIENTO, MEJORAMIENTO Y RENOVACIÓN DEL SISTEMA DE GRABACIÓN, AUDIO Y VÍDEO DE LA JUNTA ADMINISTRADORA LOCAL, DE PROPIEDAD DEL FONDO DE DESARROLLO LOCAL DE CHAPINERO
B7: INSTRUCCIONES PARA LA IDENTIFICACIÓN, ANALISIS, EVALUACIÓN , ASIGNACIÓN Y TRATAMIENTO DE RIESGOS EN LA CONTRATACIÓN
B8: 1) Describa el tratamiento/controles a ser implementados
B9: 2) Diligencie la información de las siguientes columnas, de acuerdo con el análisis realizado a cada riesgo: Afecta el equilibrio económico, persona responsable de implementar el tratamiento, fecha estimada de inicio del tratamiento, fecha estimada en la que se completa el tratamiento, cómo se realiza el monitoreo y la periodicidad.
B10: 3) Continúe en la hoja de "ASIGNACIÓN Y TRATAMIENTO" y diligencie las siguientes casillas: A quien se le asigna y el porcentaje que asume cada una de las partes en caso de que sea compartido.
B15: ETAPA | C15: Descripción (Que puede pasar y, cómo puede ocurrir) | G15: Tratamiento/Controles a ser implementados | I15: Probabilidad de Ocurrencia | J15: Impacto | K15: Calificación Total | L15: Prioridad | M15: ¿Afecta el equilibrio económico del contrato? | N15: Persona responsable por implementar el tratamiento | O15: Fecha estimada en que se inicia el tratamiento | P15: Fecha estimada en que se completa el tratamiento | Q15: ¿Cómo se realiza el monitoreo? | R15: Periodicidad ¿Cuándo?
B16: =EVALUACION!B17 -> PLANEACIÓN | C16: =EVALUACION!C17 -> Requisitos habilitantes inapropiados para el proceso de selección | G16: Revisión de documentación | I16: =+EVALUACION!I17 -> 1 | J16: =+EVALUACION!J17 -> 4 | K16: =+I16+J16 -> 5 | L16: =IF(K16<=4,"BAJO",IF(K16=5,"MEDIO",IF(K16=6,"ALTO",IF(K16=7,"ALTO","EXTREMO")))) -> MEDIO | M16: NO | N16: Lídees de equipos de planeación y contratación | O16: Durante la formulación | P16: Hasta la publicación de documentos. | Q16: Revisión de documentación de proceso estructurado | R16: Una única vez
B17: =EVALUACION!B18 -> PLANEACIÓN | C17: =EVALUACION!C18 -> Inadecuado análisis económico estimativo del valor del contrato | G17: Revisiones de documentación | I17: =+EVALUACION!I18 -> 2 | J17: =+EVALUACION!J18 -> 4 | K17: =+I17+J17 -> 6 | L17: =IF(K17<=4,"BAJO",IF(K17=5,"MEDIO",IF(K17=6,"ALTO",IF(K17=7,"ALTO","EXTREMO")))) -> ALTO | M17: NO | N17: Lídees de equipos de planeación y contratación | O17: Durante la formulación | P17: Hasta la publicación de documentos. | Q17: Revisión de documentación de proceso estructurado | R17: Una única vez
B18: =EVALUACION!B19 -> PLANEACIÓN | C18: =EVALUACION!C19 -> Inadecuada descripción del bien o servicio requerido | G18: Revisiones de documentación | I18: =+EVALUACION!I19 -> 1 | J18: =+EVALUACION!J19 -> 4 | K18: =+I18+J18 -> 5 | L18: =IF(K18<=4,"BAJO",IF(K18=5,"MEDIO",IF(K18=6,"ALTO",IF(K18=7,"ALTO","EXTREMO")))) -> MEDIO | M18: NO | N18: Líder de equipo ambiental y de Oficina de Planeación | O18: Durante la formulación | P18: Hasta la publicación de documentos. | Q18: Revisión de documentación de proceso estructurado | R18: Una única vez
B19: =EVALUACION!B20 -> PLANEACIÓN | C19: =EVALUACION!C20 -> Requisitos habilitantes que impidan la selección objetiva | G19: Revisiones de documentación | I19: =+EVALUACION!I20 -> 1 | J19: =+EVALUACION!J20 -> 5 | K19: =+I19+J19 -> 6 | L19: =IF(K19<=4,"BAJO",IF(K19=5,"MEDIO",IF(K19=6,"ALTO",IF(K19=7,"ALTO","EXTREMO")))) -> ALTO | M19: NO | N19: Líder de equipo ambiental y de Oficina de Planeación | O19: Durante la formulación | P19: Hasta la publicación de documentos. | Q19: Revisión de documentación de proceso estructurado | R19: Una única vez
B20: =EVALUACION!B21 -> PLANEACIÓN | C20: =EVALUACION!C21 -> Falta de profundidad en el estudio de sector no identificandose claramente aspectos de oferta y demanda | G20: Revisiones de documentación | I20: =+EVALUACION!I21 -> 1 | J20: =+EVALUACION!J21 -> 5 | K20: =+I20+J20 -> 6 | L20: =IF(K20<=4,"BAJO",IF(K20=5,"MEDIO",IF(K20=6,"ALTO",IF(K20=7,"ALTO","EXTREMO")))) -> ALTO | M20: SI | N20: Líder de equipo ambiental y de Oficina de Planeación | O20: Durante la formulación | P20: Hasta la publicación de documentos. | Q20: Revisión de documentación de proceso estructurado | R20: Una única vez
B21: =EVALUACION!B22 -> PLANEACIÓN | C21: =EVALUACION!C22 -> Inadecuada identificación de las condiciones contractuales | G21: Revisiones de documentación | I21: =+EVALUACION!I22 -> 1 | J21: =+EVALUACION!J22 -> 3 | K21: =+I21+J21 -> 4 | L21: =IF(K21<=4,"BAJO",IF(K21=5,"MEDIO",IF(K21=6,"ALTO",IF(K21=7,"ALTO","EXTREMO")))) -> BAJO | M21: NO | N21: Líder de equipo ambiental y de Oficina de Planeación | O21: Durante la formulación | P21: Hasta la publicación de documentos. | Q21: Revisión de documentación de proceso estructurado | R21: Una única vez
B22: =EVALUACION!B23 -> PLANEACIÓN | C22: =EVALUACION!C23 -> Apertura de procesos sin disponibilidad presupuestal | G22: Revisión de disponibilidad presupuestal | I22: =+EVALUACION!I23 -> 1 | J22: =+EVALUACION!J23 -> 5 | K22: =+I22+J22 -> 6 | L22: =IF(K22<=4,"BAJO",IF(K22=5,"MEDIO",IF(K22=6,"ALTO",IF(K22=7,"ALTO","EXTREMO")))) -> ALTO | M22: NO | N22: Responsible de presupuestos | O22: Durante la formulación | P22: Hasta la publicación de documentos. | Q22: Revisión de sistema bogadata | R22: Una única vez
B23: =EVALUACION!B24 -> SELECCIÓN | C23: =EVALUACION!C24 -> Inadecuada evaluación de las ofertas y/o verificación de requisitos habilitantes | G23: Revisión de líder de planeación y oficina de contratación | I23: =+EVALUACION!I24 -> 2 | J23: =+EVALUACION!J24 -> 3 | K23: =+I23+J23 -> 5 | L23: =IF(K23<=4,"BAJO",IF(K23=5,"MEDIO",IF(K23=6,"ALTO",IF(K23=7,"ALTO","EXTREMO")))) -> MEDIO | M23: NO | N23: Líder de equipo ambiental y de Oficina de Planeación | O23: Durante la etapada de selección | P23: Hasta la finalización de la etapa de selección | Q23: Revisión de documentación presentada por oferentes | R23: Una única vez
B24: =EVALUACION!B25 -> SELECCIÓN | C24: =EVALUACION!C25 -> Falta de claridad en la elaboración de los actos administrativos | G24: Revisión de documentación a publicar | I24: =+EVALUACION!I25 -> 2 | J24: =+EVALUACION!J25 -> 2 | K24: =+I24+J24 -> 4 | L24: =IF(K24<=4,"BAJO",IF(K24=5,"MEDIO",IF(K24=6,"ALTO",IF(K24=7,"ALTO","EXTREMO")))) -> BAJO | M24: NO | N24: Líder de oficna de contratación | O24: Durante la etapada de selección | P24: Hasta la finalización de la etapa de selección | Q24: Revisión de documentación presentada por oferentes | R24: Una única vez
B25: =EVALUACION!B26 -> SELECCIÓN | C25: =EVALUACION!C26 -> Contestación inoportuna a todas las observaciones formuladas a los documentos de la contratación | G25: Revisión constante de la plataforma SECOP II en busca de solicitudes u observaciones. | I25: =+EVALUACION!I26 -> 2 | J25: =+EVALUACION!J26 -> 2 | K25: =+I25+J25 -> 4 | L25: =IF(K25<=4,"BAJO",IF(K25=5,"MEDIO",IF(K25=6,"ALTO",IF(K25=7,"ALTO","EXTREMO")))) -> BAJO | M25: NO | N25: Equipo evaluador | O25: Durante la etapada de selección | P25: Hasta la finalización de la etapa de selección | Q25: Revisión de documentación presentada por oferentes | R25: Cuando se requiera
B26: =EVALUACION!B27 -> SELECCIÓN | C26: =EVALUACION!C27 -> No publicación de la documentación del proceso de selección en el SECOP | G26: Publicación de documentación una vez sean generados. | I26: =+EVALUACION!I27 -> 1 | J26: =+EVALUACION!J27 -> 2 | K26: =+I26+J26 -> 3 | L26: =IF(K26<=4,"BAJO",IF(K26=5,"MEDIO",IF(K26=6,"ALTO",IF(K26=7,"ALTO","EXTREMO")))) -> BAJO | M26: NO | N26: Responsible del equipo de contratación del proceso. | O26: Durante la etapada de selección | P26: Hasta la finalización de la etapa de selección | Q26: Revisión de platadorma SECOP II | R26: Cuando se requiera
B27: =EVALUACION!B28 -> SELECCIÓN | C27: =EVALUACION!C28 -> Confabulacion de los proponentes (Colusión) | G27: Revisión de documentación presentada a la Alcaldía Local y curso de etapa de observaciones por parte de la entidad | I27: =+EVALUACION!I28 -> 3 | J27: =+EVALUACION!J28 -> 3 | K27: =+I27+J27 -> 6 | L27: =IF(K27<=4,"BAJO",IF(K27=5,"MEDIO",IF(K27=6,"ALTO",IF(K27=7,"ALTO","EXTREMO")))) -> ALTO | M27: NO | N27: Equipo evaluador | O27: Durante la etapada de selección | P27: Hasta la finalización de la etapa de selección | Q27: Documentación entregada por oferentes | R27: Una única vez
... B44: =EVALUACION!B45 -> EJECUCIÓN | C44: =EVALUACION!C45 -> Variación de tasas o tarifas | G44: Seguimiento a condiciones económicas del país. | I44: =+EVALUACION!I45 -> 1 | J44: =+EVALUACION!J45 -> 1 | K44: =+I44+J44 -> 2 | L44: =IF(K44<=4,"BAJO",IF(K44=5,"MEDIO",IF(K44=6,"ALTO",IF(K44=7,"ALTO","EXTREMO")))) -> BAJO | M44: SI | N44: Apoyo a la supervisión | O44: Desde la fecha de la designación de apoyo a la supervisión | P44: Hasta la liquidación del contrato | Q44: Información compartida por contratista y comunicaciones remitidas asociadas en la materia | R44: Cuando se requiera
C46: Categoria del Riesgo | H46: Impacto del Riesgo
B47: Probabilidad | C47: Catagoria | F47: Valoración | H47: Categoria | J47: Valoración | N47: Categoria del Riesgo
C48: Raro (puede ocurrir excepcionalmente) | F48: 1 | H48: Insignificante | J48: 1 | N48: Valoración del Riesgo | P48: Categoría
C49: Improbable (puede ocurrir ocasionalmente) | F49: 2 | H49: Menor | J49: 2 | N49: 8, 9 y 10 | P49: Riesgo extremo
C50: Posible (puede ocurrir en cualquier momento futuro) | F50: 3 | H50: Moderado | J50: 3 | N50: 6 y 7 | P50: Riesgo alto
C51: Probable (probablemente va a ocurrir) | F51: 4 | H51: Mayor | J51: 4 | N51: 5 | P51: Riesgo medio
C52: Casi cierto (ocurre en la mayoria de circunstancias) | F52: 5 | H52: Catastrófico | J52: 5 | N52: 2, 3 y 4 | P52: Riesgo bajo
C54: Valoración del Riesgo
C55: Calificación Cualitativa | G55: Obstruye la ejecución del contrato de manera intrascendente. | I55: Dificulta la ejecución del contrato de manera baja, aplicando medidas mínimas se pueden lograr el objeto contractual | L55: Afecta la ejecución del contrato sin alterar el beneficio para las partes | N55: Obstruye la ejecución del contrato sustancialmente pero aun así permite la consecución del objeto contractual | P55: Perturba la ejecución del contrato de manera grave imposibilitando la consecución del objeto contractual.
C56: Calificación Monetaria | G56: Los sobrecostos no representan más del uno por ciento (1%) del valor del contrato. | I56: Los sobrecostos no representan más del cinco por ciento (5%) del valor del contrato. | L56: Genera un impacto sobre el valor del contrato entre el cinco (5%) y el quince por ciento (15%). | N56: Incrementa el valor del contrato entre el quince (15%) y el treinta por ciento (30%). | P56: Impacto sobre el valor del contrato en más del treinta por ciento (30%).
C57: Catagoria | F57: Valoración | G57: Insignificante | I57: Menor | L57: Moderado | N57: Mayor | P57: Catastrófico
G58: 1 | I58: 2 | L58: 3 | N58: 4 | P58: 5
C59: Raro (puede ocurrir excepcionalmente) | F59: 1 | G59: 2 | I59: 3 | L59: 4 | N59: 5 | P59: 6
C60: Improbable (puede ocurrir ocasionalmente) | F60: 2 | G60: 3 | I60: 4 | L60: 5 | N60: 6 | P60: 7
C61: Posible (puede ocurrir en cualquier momento futuro) | F61: 3 | G61: 4 | I61: 5 | L61: 6 | N61: 7 | P61: 8
C62: Probable (probablemente va a ocurrir) | F62: 4 | G62: 5 | I62: 6 | L62: 7 | N62: 8 | P62: 9
C63: Casi cierto (ocurre en la mayoria de circunstancias) | F63: 5 | G63: 6 | I63: 7 | L63: 8 | N63: 9 | P63: 10

Sheet ASIGNACION Y TRATAMIENTO
C2: MATRIZ DE RIESGOS DE CONTRATACIÓN | W2: Código: GCO-GCI-F164 Versión: 02 Vigencia: 01 de diciembre de 2022 Caso HOLA: 280117
B6: =+EVALUACION!B6 -> Objeto Contractual: CONTRATAR EL SERVICIO DE MANTENIMIENTO, MEJORAMIENTO Y RENOVACIÓN DEL SISTEMA DE GRABACIÓN, AUDIO Y VÍDEO DE LA JUNTA ADMINISTRADORA LOCAL, DE PROPIEDAD DEL FONDO DE DESARROLLO LOCAL DE CHAPINERO
B7: Esta matriz es un documento anexo del Estudio Previo
B10: No | C10: Descripción (Que puede pasar y, cómo puede ocurrir) | D10: Etapa | E10: Clase | F10: Fuente | G10: Consecuencias de la ocurrencia del evento | H10: Probabilidad | I10: Impacto | J10: Calificación total | K10: Prioridad | L10: ¿A quien se le asigna? | M10: % | N10: Tratamiento/Controles a ser implementados | O10: Probabilidad | P10: Impacto | Q10: Calificación total | R10: Prioridad | S10: ¿Afecta el equilibrio económico del contrato? | T10: Persona responsable por implementar el tratamiento | U10: Fecha estimada en que se inicia el tratamiento | V10: Fecha estimada en que se completa el tratamiento | W10: ¿Cómo se realiza el monitoreo | X10: Periodicidad ¿Cuándo?
B11: 1 | C11: =+'EVALUACION CON CONTROLES'!C16:F16 -> Requisitos habilitantes inapropiados para el proceso de selección | D11: =+'EVALUACION CON CONTROLES'!B16 -> PLANEACIÓN | E11: =VLOOKUP(C11,'IDENTIFICACION Y ANALISIS'!$B$19:$F$50,3,FALSE) -> Especifico | F11: =VLOOKUP(C11,'IDENTIFICACION Y ANALISIS'!$B$19:$F$50,4,FALSE) -> Interno | G11: =+EVALUACION!H17 -> Selección de oferentes que no cumplan con las capacidades necesarias para el desarrollo del contrato. | H11: =+EVALUACION!I17 -> 1 | I11: =+EVALUACION!J17 -> 4 | J11: =+EVALUACION!K17 -> 5 | K11: =+EVALUACION!L17 -> MEDIO | L11: SDG | M11: 100 | N11: =+'EVALUACION CON CONTROLES'!G16 -> Revisión de documentación | O11: =+'EVALUACION CON CONTROLES'!I16 -> 1 | P11: =+'EVALUACION CON CONTROLES'!J16 -> 4 | Q11: =+'EVALUACION CON CONTROLES'!K16 -> 5 | R11: =+'EVALUACION CON CONTROLES'!L16 -> MEDIO | S11: =+'EVALUACION CON CONTROLES'!M16 -> NO | T11: =+'EVALUACION CON CONTROLES'!N16 -> Lídees de equipos de planeación y contratación | U11: =+'EVALUACION CON CONTROLES'!O16 -> Durante la formulación | V11: =+'EVALUACION CON CONTROLES'!P16 -> Hasta la publicación de documentos. | ... X11: =+'EVALUACION CON CONTROLES'!R16 -> Una única vez
B12: 2 | C12: =+'EVALUACION CON CONTROLES'!C17:F17 -> Inadecuado análisis económico estimativo del valor del contrato | D12: =+'EVALUACION CON CONTROLES'!B17 -> PLANEACIÓN | E12: =VLOOKUP(C12,'IDENTIFICACION Y ANALISIS'!$B$19:$F$50,3,FALSE) -> Especifico | F12: =VLOOKUP(C12,'IDENTIFICACION Y ANALISIS'!$B$19:$F$50,4,FALSE) -> Interno | G12: =+EVALUACION!H18 -> Definición de precios por encima o por debajo del mercado ocasionando una estimación superior o defícit del presupuesto. | H12: =+EVALUACION!I18 -> 2 | I12: =+EVALUACION!J18 -> 4 | J12: =+EVALUACION!K18 -> 6 | K12: =+EVALUACION!L18 -> ALTO | L12: SDG | M12: 100 | N12: =+'EVALUACION CON CONTROLES'!G17 -> Revisiones de documentación | O12: =+'EVALUACION CON CONTROLES'!I17 -> 2 | P12: =+'EVALUACION CON CONTROLES'!J17 -> 4 | Q12: =+'EVALUACION CON CONTROLES'!K17 -> 6 | R12: =+'EVALUACION CON CONTROLES'!L17 -> ALTO | S12: =+'EVALUACION CON CONTROLES'!M17 -> NO | T12: =+'EVALUACION CON CONTROLES'!N17 -> Lídees de equipos de planeación y contratación | U12: =+'EVALUACION CON CONTROLES'!O17 -> Durante la formulación | V12: =+'EVALUACION CON CONTROLES'!P17 -> Hasta la publicación de documentos. | ... X12: =+'EVALUACION CON CONTROLES'!R17 -> Una única vez
B13: 3 | C13: =+'EVALUACION CON CONTROLES'!C18:F18 -> Inadecuada descripción del bien o servicio requerido | D13: =+'EVALUACION CON CONTROLES'!B18 -> PLANEACIÓN | E13: =VLOOKUP(C13,'IDENTIFICACION Y ANALISIS'!$B$19:$F$50,3,FALSE) -> Especifico | F13: =VLOOKUP(C13,'IDENTIFICACION Y ANALISIS'!$B$19:$F$50,4,FALSE) -> Interno | G13: =+EVALUACION!H19 -> Deficiencias en la ejecución de las actividades del contrato | H13: =+EVALUACION!I19 -> 1 | I13: =+EVALUACION!J19 -> 4 | J13: =+EVALUACION!K19 -> 5 | K13: =+EVALUACION!L19 -> MEDIO | L13: SDG | M13: 100 | N13: =+'EVALUACION CON CONTROLES'!G18 -> Revisiones de documentación | O13: =+'EVALUACION CON CONTROLES'!I18 -> 1 | P13: =+'EVALUACION CON CONTROLES'!J18 -> 4 | Q13: =+'EVALUACION CON CONTROLES'!K18 -> 5 | R13: =+'EVALUACION CON CONTROLES'!L18 -> MEDIO | S13: =+'EVALUACION CON CONTROLES'!M18 -> NO | T13: =+'EVALUACION CON CONTROLES'!N18 -> Líder de equipo ambiental y de Oficina de Planeación | U13: =+'EVALUACION CON CONTROLES'!O18 -> Durante la formulación | V13: =+'EVALUACION CON CONTROLES'!P18 -> Hasta la publicación de documentos. | ... X13: =+'EVALUACION CON CONTROLES'!R18 -> Una única vez
B14: 4 | C14: =+'EVALUACION CON CONTROLES'!C19:F19 -> Requisitos habilitantes que impidan la selección objetiva | D14: =+'EVALUACION CON CONTROLES'!B19 -> PLANEACIÓN | E14: =VLOOKUP(C14,'IDENTIFICACION Y ANALISIS'!$B$19:$F$50,3,FALSE) -> Especifico | F14: =VLOOKUP(C14,'IDENTIFICACION Y ANALISIS'!$B$19:$F$50,4,FALSE) -> Interno | G14: =+EVALUACION!H20 -> Declaración del proceso de contratación como "desierto" | H14: =+EVALUACION!I20 -> 1 | I14: =+EVALUACION!J20 -> 5 | J14: =+EVALUACION!K20 -> 6 | K14: =+EVALUACION!L20 -> ALTO | L14: SDG | M14: 100 | N14: =+'EVALUACION CON CONTROLES'!G19 -> Revisiones de documentación | O14: =+'EVALUACION CON CONTROLES'!I19 -> 1 | P14: =+'EVALUACION CON CONTROLES'!J19 -> 5 | Q14: =+'EVALUACION CON CONTROLES'!K19 -> 6 | R14: =+'EVALUACION CON CONTROLES'!L19 -> ALTO | S14: =+'EVALUACION CON CONTROLES'!M19 -> NO | T14: =+'EVALUACION CON CONTROLES'!N19 -> Líder de equipo ambiental y de Oficina de Planeación | U14: =+'EVALUACION CON CONTROLES'!O19 -> Durante la formulación | V14: =+'EVALUACION CON CONTROLES'!P19 -> Hasta la publicación de documentos. | ... X14: =+'EVALUACION CON CONTROLES'!R19 -> Una única vez
B15: 5 | C15: =+'EVALUACION CON CONTROLES'!C20:F20 -> Falta de profundidad en el estudio de sector no identificandose claramente aspectos de oferta y demanda | D15: =+'EVALUACION CON CONTROLES'!B20 -> PLANEACIÓN | E15: =VLOOKUP(C15,'IDENTIFICACION Y ANALISIS'!$B$19:$F$50,3,FALSE) -> Especifico | F15: =VLOOKUP(C15,'IDENTIFICACION Y ANALISIS'!$B$19:$F$50,4,FALSE) -> Interno | G15: =+EVALUACION!H21 -> Declaración del proceso de contratación como "desierto". | H15: =+EVALUACION!I21 -> 1 | I15: =+EVALUACION!J21 -> 5 | J15: =+EVALUACION!K21 -> 6 | K15: =+EVALUACION!L21 -> ALTO | L15: SDG | M15: 100 | N15: =+'EVALUACION CON CONTROLES'!G20 -> Revisiones de documentación | O15: =+'EVALUACION CON CONTROLES'!I20 -> 1 | P15: =+'EVALUACION CON CONTROLES'!J20 -> 5 | Q15: =+'EVALUACION CON CONTROLES'!K20 -> 6 | R15: =+'EVALUACION CON CONTROLES'!L20 -> ALTO | S15: =+'EVALUACION CON CONTROLES'!M20 -> SI | T15: =+'EVALUACION CON CONTROLES'!N20 -> Líder de equipo ambiental y de Oficina de Planeación | U15: =+'EVALUACION CON CONTROLES'!O20 -> Durante la formulación | V15: =+'EVALUACION CON CONTROLES'!P20 -> Hasta la publicación de documentos. | ... X15: =+'EVALUACION CON CONTROLES'!R20 -> Una única vez
B16: 6 | C16: =+'EVALUACION CON CONTROLES'!C21:F21 -> Inadecuada identificación de las condiciones contractuales | D16: =+'EVALUACION CON CONTROLES'!B21 -> PLANEACIÓN | E16: =VLOOKUP(C16,'IDENTIFICACION Y ANALISIS'!$B$19:$F$50,3,FALSE) -> Especifico | F16: =VLOOKUP(C16,'IDENTIFICACION Y ANALISIS'!$B$19:$F$50,4,FALSE) -> Interno | G16: =+EVALUACION!H22 -> Selección de oferentes que no cumplan con las capacidades necesarias para el desarrollo del contrato o Selección de oferentes que no cumplan con las capacidades necesarias para el desarrollo del contrato. | H16: =+EVALUACION!I22 -> 1 | I16: =+EVALUACION!J22 -> 3 | J16: =+EVALUACION!K22 -> 4 | K16: =+EVALUACION!L22 -> BAJO | L16: SDG | M16: 100 | N16: =+'EVALUACION CON CONTROLES'!G21 -> Revisiones de documentación | O16: =+'EVALUACION CON CONTROLES'!I21 -> 1 | P16: =+'EVALUACION CON CONTROLES'!J21 -> 3 | Q16: =+'EVALUACION CON CONTROLES'!K21 -> 4 | R16: =+'EVALUACION CON CONTROLES'!L21 -> BAJO | S16: =+'EVALUACION CON CONTROLES'!M21 -> NO | T16: =+'EVALUACION CON CONTROLES'!N21 -> Líder de equipo ambiental y de Oficina de Planeación | U16: =+'EVALUACION CON CONTROLES'!O21 -> Durante la formulación | V16: =+'EVALUACION CON CONTROLES'!P21 -> Hasta la publicación de documentos. | ... X16: =+'EVALUACION CON CONTROLES'!R21 -> Una única vez
B17: 7 | C17: =+'EVALUACION CON CONTROLES'!C22:F22 -> Apertura de procesos sin disponibilidad presupuestal | D17: =+'EVALUACION CON CONTROLES'!B22 -> PLANEACIÓN | E17: =VLOOKUP(C17,'IDENTIFICACION Y ANALISIS'!$B$19:$F$50,3,FALSE) -> Especifico | F17: =VLOOKUP(C17,'IDENTIFICACION Y ANALISIS'!$B$19:$F$50,4,FALSE) -> Interno | G17: =+EVALUACION!H23 -> No suscripción del proceso contractual y no dar cumplimiento a las metas del PDL | H17: =+EVALUACION!I23 -> 1 | I17: =+EVALUACION!J23 -> 5 | J17: =+EVALUACION!K23 -> 6 | K17: =+EVALUACION!L23 -> ALTO | L17: SDG | M17: 100 | N17: =+'EVALUACION CON CONTROLES'!G22 -> Revisión de disponibilidad presupuestal | O17: =+'EVALUACION CON CONTROLES'!I22 -> 1 | P17: =+'EVALUACION CON CONTROLES'!J22 -> 5 | Q17: =+'EVALUACION CON CONTROLES'!K22 -> 6 | R17: =+'EVALUACION CON CONTROLES'!L22 -> ALTO | S17: =+'EVALUACION CON CONTROLES'!M22 -> NO | T17: =+'EVALUACION CON CONTROLES'!N22 -> Responsible de presupuestos | U17: =+'EVALUACION CON CONTROLES'!O22 -> Durante la formulación | V17: =+'EVALUACION CON CONTROLES'!P22 -> Hasta la publicación de documentos. | ... X17: =+'EVALUACION CON CONTROLES'!R22 -> Una única vez
B18: 8 | C18: =+'EVALUACION CON CONTROLES'!C23:F23 -> Inadecuada evaluación de las ofertas y/o verificación de requisitos habilitantes | D18: =+'EVALUACION CON CONTROLES'!B23 -> SELECCIÓN | E18: =VLOOKUP(C18,'IDENTIFICACION Y ANALISIS'!$B$19:$F$50,3,FALSE) -> Especifico | F18: =VLOOKUP(C18,'IDENTIFICACION Y ANALISIS'!$B$19:$F$50,4,FALSE) -> Interno | G18: =+EVALUACION!H24 -> Selección de oferentes que no cumplan con las capacidades necesarias para el desarrollo del contrato. | H18: =+EVALUACION!I24 -> 2 | I18: =+EVALUACION!J24 -> 3 | J18: =+EVALUACION!K24 -> 5 | K18: =+EVALUACION!L24 -> MEDIO | L18: SDG | M18: 100 | N18: =+'EVALUACION CON CONTROLES'!G23 -> Revisión de líder de planeación y oficina de contratación | O18: =+'EVALUACION CON CONTROLES'!I23 -> 2 | P18: =+'EVALUACION CON CONTROLES'!J23 -> 3 | Q18: =+'EVALUACION CON CONTROLES'!K23 -> 5 | R18: =+'EVALUACION CON CONTROLES'!L23 -> MEDIO | S18: =+'EVALUACION CON CONTROLES'!M23 -> NO | T18: =+'EVALUACION CON CONTROLES'!N23 -> Líder de equipo ambiental y de Oficina de Planeación | U18: =+'EVALUACION CON CONTROLES'!O23 -> Durante la etapada de selección | V18: =+'EVALUACION CON CONTROLES'!P23 -> Hasta la finalización de la etapa de selección | ... X18: =+'EVALUACION CON CONTROLES'!R23 -> Una única vez
B19: 9 | C19: =+'EVALUACION CON CONTROLES'!C24:F24 -> Falta de claridad en la elaboración de los actos administrativos | D19: =+'EVALUACION CON CONTROLES'!B24 -> SELECCIÓN | E19: =VLOOKUP(C19,'IDENTIFICACION Y ANALISIS'!$B$19:$F$50,3,FALSE) -> Especifico | F19: =VLOOKUP(C19,'IDENTIFICACION Y ANALISIS'!$B$19:$F$50,4,FALSE) -> Interno | G19: =+EVALUACION!H25 -> Retrasos en la adjudicación del proceso contractual y/o suscripción del contractual. | H19: =+EVALUACION!I25 -> 2 | I19: =+EVALUACION!J25 -> 2 | J19: =+EVALUACION!K25 -> 4 | K19: =+EVALUACION!L25 -> BAJO | L19: SDG | M19: 100 | N19: =+'EVALUACION CON CONTROLES'!G24 -> Revisión de documentación a publicar | O19: =+'EVALUACION CON CONTROLES'!I24 -> 2 | P19: =+'EVALUACION CON CONTROLES'!J24 -> 2 | Q19: =+'EVALUACION CON CONTROLES'!K24 -> 4 | R19: =+'EVALUACION CON CONTROLES'!L24 -> BAJO | S19: =+'EVALUACION CON CONTROLES'!M24 -> NO | T19: =+'EVALUACION CON CONTROLES'!N24 -> Líder de oficna de contratación | U19: =+'EVALUACION CON CONTROLES'!O24 -> Durante la etapada de selección | V19: =+'EVALUACION CON CONTROLES'!P24 -> Hasta la finalización de la etapa de selección | ... X19: =+'EVALUACION CON CONTROLES'!R24 -> Una única vez
B20: 10 | C20: =+'EVALUACION CON CONTROLES'!C25:F25 -> Contestación inoportuna a todas las observaciones formuladas a los documentos de la contratación | D20: =+'EVALUACION CON CONTROLES'!B25 -> SELECCIÓN | E20: =VLOOKUP(C20,'IDENTIFICACION Y ANALISIS'!$B$19:$F$50,3,FALSE) -> Especifico | F20: =VLOOKUP(C20,'IDENTIFICACION Y ANALISIS'!$B$19:$F$50,4,FALSE) -> Interno | G20: =+EVALUACION!H26 -> Retrasos en la adjudicación del proceso contractual y/o suscripción del contractual. | H20: =+EVALUACION!I26 -> 2 | I20: =+EVALUACION!J26 -> 2 | J20: =+EVALUACION!K26 -> 4 | K20: =+EVALUACION!L26 -> BAJO | L20: SDG | M20: 100 | N20: =+'EVALUACION CON CONTROLES'!G25 -> Revisión constante de la plataforma SECOP II en busca de solicitudes u observaciones. | O20: =+'EVALUACION CON CONTROLES'!I25 -> 2 | P20: =+'EVALUACION CON CONTROLES'!J25 -> 2 | Q20: =+'EVALUACION CON CONTROLES'!K25 -> 4 | R20: =+'EVALUACION CON CONTROLES'!L25 -> BAJO | S20: =+'EVALUACION CON CONTROLES'!M25 -> NO | T20: =+'EVALUACION CON CONTROLES'!N25 -> Equipo evaluador | U20: =+'EVALUACION CON CONTROLES'!O25 -> Durante la etapada de selección | V20: =+'EVALUACION CON CONTROLES'!P25 -> Hasta la finalización de la etapa de selección | ... X20: =+'EVALUACION CON CONTROLES'!R25 -> Cuando se requiera
B21: 11 | C21: =+'EVALUACION CON CONTROLES'!C26:F26 -> No publicación de la documentación del proceso de selección en el SECOP | D21: =+'EVALUACION CON CONTROLES'!B26 -> SELECCIÓN | E21: =VLOOKUP(C21,'IDENTIFICACION Y ANALISIS'!$B$19:$F$50,3,FALSE) -> Especifico | F21: =VLOOKUP(C21,'IDENTIFICACION Y ANALISIS'!$B$19:$F$50,4,FALSE) -> Interno | G21: =+EVALUACION!H27 -> Retrasos en la adjudicación del proceso contractual y/o suscripción del contractual. | H21: =+EVALUACION!I27 -> 1 | I21: =+EVALUACION!J27 -> 2 | J21: =+EVALUACION!K27 -> 3 | K21: =+EVALUACION!L27 -> BAJO | L21: SDG | M21: 100 | N21: =+'EVALUACION CON CONTROLES'!G26 -> Publicación de documentación una vez sean generados. | O21: =+'EVALUACION CON CONTROLES'!I26 -> 1 | P21: =+'EVALUACION CON CONTROLES'!J26 -> 2 | Q21: =+'EVALUACION CON CONTROLES'!K26 -> 3 | R21: =+'EVALUACION CON CONTROLES'!L26 -> BAJO | S21: =+'EVALUACION CON CONTROLES'!M26 -> NO | T21: =+'EVALUACION CON CONTROLES'!N26 -> Responsible del equipo de contratación del proceso. | U21: =+'EVALUACION CON CONTROLES'!O26 -> Durante la etapada de selección | V21: =+'EVALUACION CON CONTROLES'!P26 -> Hasta la finalización de la etapa de selección | ... X21: =+'EVALUACION CON CONTROLES'!R26 -> Cuando se requiera
B22: 12 | C22: =+'EVALUACION CON CONTROLES'!C27:F27 -> Confabulacion de los proponentes (Colusión) | D22: =+'EVALUACION CON CONTROLES'!B27 -> SELECCIÓN | E22: =VLOOKUP(C22,'IDENTIFICACION Y ANALISIS'!$B$19:$F$50,3,FALSE) -> Especifico | F22: =VLOOKUP(C22,'IDENTIFICACION Y ANALISIS'!$B$19:$F$50,4,FALSE) -> Externo | G22: =+EVALUACION!H28 -> Selección de oferente que no cumplan con las capacidades necesarias para el desarrollo del contrato. | H22: =+EVALUACION!I28 -> 3 | I22: =+EVALUACION!J28 -> 3 | J22: =+EVALUACION!K28 -> 6 | K22: =+EVALUACION!L28 -> ALTO | L22: SDG | M22: 100 | N22: =+'EVALUACION CON CONTROLES'!G27 -> Revisión de documentación presentada a la Alcaldía Local y curso de etapa de observaciones por parte de la entidad | O22: =+'EVALUACION CON CONTROLES'!I27 -> 3 | P22: =+'EVALUACION CON CONTROLES'!J27 -> 3 | Q22: =+'EVALUACION CON CONTROLES'!K27 -> 6 | R22: =+'EVALUACION CON CONTROLES'!L27 -> ALTO | S22: =+'EVALUACION CON CONTROLES'!M27 -> NO | T22: =+'EVALUACION CON CONTROLES'!N27 -> Equipo evaluador | U22: =+'EVALUACION CON CONTROLES'!O27 -> Durante la etapada de selección | V22: =+'EVALUACION CON CONTROLES'!P27 -> Hasta la finalización de la etapa de selección | ... X22: =+'EVALUACION CON CONTROLES'!R27 -> Una única vez
B23: 13 | C23: =+'EVALUACION CON CONTROLES'!C28:F28 -> Selección de ofertas con precios artificialmente bajos. | D23: =+'EVALUACION CON CONTROLES'!B28 -> SELECCIÓN | E23: =VLOOKUP(C23,'IDENTIFICACION Y ANALISIS'!$B$19:$F$50,3,FALSE) -> Especifico | F23: =VLOOKUP(C23,'IDENTIFICACION Y ANALISIS'!$B$19:$F$50,4,FALSE) -> Interno | G23: =+EVALUACION!H29 -> Deficit en la ejecución del contrato ya que los valores no corresponden al mercado | H23: =+EVALUACION!I29 -> 2 | I23: =+EVALUACION!J29 -> 3 | J23: =+EVALUACION!K29 -> 5 | K23: =+EVALUACION!L29 -> MEDIO | L23: SDG | M23: 100 | N23: =+'EVALUACION CON CONTROLES'!G28 -> Revisión de valores proporcionados por oferentes(s) y aplicación de Guía de Colombia Compra en caso de presentarse flucutaciones representativas. | O23: =+'EVALUACION CON CONTROLES'!I28 -> 2 | P23: =+'EVALUACION CON CONTROLES'!J28 -> 3 | Q23: =+'EVALUACION CON CONTROLES'!K28 -> 5 | R23: =+'EVALUACION CON CONTROLES'!L28 -> MEDIO | S23: =+'EVALUACION CON CONTROLES'!M28 -> SI | T23: =+'EVALUACION CON CONTROLES'!N28 -> Equipo evaluador | U23: =+'EVALUACION CON CONTROLES'!O28 -> Durante la etapada de selección | V23: =+'EVALUACION CON CONTROLES'!P28 -> Hasta la finalización de la etapa de selección | ... X23: =+'EVALUACION CON CONTROLES'!R28 -> Cuando se requiera
B24: 14 | C24: =+'EVALUACION CON CONTROLES'!C29:F29 -> Riesgo de que no se firme el contrato. | D24: =+'EVALUACION CON CONTROLES'!B29 -> CONTRATACIÓN | E24: =VLOOKUP(C24,'IDENTIFICACION Y ANALISIS'!$B$19:$F$50,3,FALSE) -> Especifico | F24: =VLOOKUP(C24,'IDENTIFICACION Y ANALISIS'!$B$19:$F$50,4,FALSE) -> Interno | G24: =+EVALUACION!H30 -> No cumplimiento de las metas del PDL | H24: =+EVALUACION!I30 -> 1 | I24: =+EVALUACION!J30 -> 5 | J24: =+EVALUACION!K30 -> 6 | K24: =+EVALUACION!L30 -> ALTO | L24: CONTRATISTA Y SDG | M24: 50-50 | N24: =+'EVALUACION CON CONTROLES'!G29 -> Seguimiento por parte de oficinas de planeación y contratación. | O24: =+'EVALUACION CON CONTROLES'!I29 -> 1 | P24: =+'EVALUACION CON CONTROLES'!J29 -> 5 | Q24: =+'EVALUACION CON CONTROLES'!K29 -> 6 | R24: =+'EVALUACION CON CONTROLES'!L29 -> ALTO | S24: =+'EVALUACION CON CONTROLES'!M29 -> NO | T24: =+'EVALUACION CON CONTROLES'!N29 -> Apoyo a la supervisión | U24: =+'EVALUACION CON CONTROLES'!O29 -> Desde la fecha de suscripción del contrato | V24: =+'EVALUACION CON CONTROLES'!P29 -> Hasta la firma del contrato | ... X24: =+'EVALUACION CON CONTROLES'!R29 -> Cuando se requiera
B25: 15 | C25: =+'EVALUACION CON CONTROLES'!C30:F30 -> Falta de constitución o constitución tardía de la garantía única. Aceptación de garantías que no se ajustan a lo contemplado en el contrato | D25: =+'EVALUACION CON CONTROLES'!B30 -> CONTRATACIÓN | E25: =VLOOKUP(C25,'IDENTIFICACION Y ANALISIS'!$B$19:$F$50,3,FALSE) -> Especifico | F25: =VLOOKUP(C25,'IDENTIFICACION Y ANALISIS'!$B$19:$F$50,4,FALSE) -> Externo | G25: =+EVALUACION!H31 -> Retrasos en la ejecución del contrato. | H25: =+EVALUACION!I31 -> 3 | I25: =+EVALUACION!J31 -> 2 | J25: =+EVALUACION!K31 -> 5 | K25: =+EVALUACION!L31 -> MEDIO | L25: CONTRATISTA Y SDG | M25: 50-50 | N25: =+'EVALUACION CON CONTROLES'!G30 -> Gestión constante por parte de apoyo a la supervisión para la generación y aprobación. | O25: =+'EVALUACION CON CONTROLES'!I30 -> 3 | P25: =+'EVALUACION CON CONTROLES'!J30 -> 2 | Q25: =+'EVALUACION CON CONTROLES'!K30 -> 5 | R25: =+'EVALUACION CON CONTROLES'!L30 -> MEDIO | S25: =+'EVALUACION CON CONTROLES'!M30 -> NO | T25: =+'EVALUACION CON CONTROLES'!N30 -> Apoyo a la supervisión | U25: =+'EVALUACION CON CONTROLES'!O30 -> Desde la fecha de suscripción del contrato | V25: =+'EVALUACION CON CONTROLES'!P30 -> Hasta la firma del acta de inicio | ... X25: =+'EVALUACION CON CONTROLES'!R30 -> Cuando se requiera
B26: 16 | C26: =+'EVALUACION CON CONTROLES'!C31:F31 -> Falta de solicitud o solicitud tardía del registro presupuestal | D26: =+'EVALUACION CON CONTROLES'!B31 -> CONTRATACIÓN | E26: =VLOOKUP(C26,'IDENTIFICACION Y ANALISIS'!$B$19:$F$50,3,FALSE) -> Especifico | F26: =VLOOKUP(C26,'IDENTIFICACION Y ANALISIS'!$B$19:$F$50,4,FALSE) -> Interno | G26: =+EVALUACION!H32 -> Retrasos en la ejecución del contrato. | H26: =+EVALUACION!I32 -> 1 | I26: =+EVALUACION!J32 -> 2 | J26: =+EVALUACION!K32 -> 3 | K26: =+EVALUACION!L32 -> BAJO | L26: CONTRATISTA | M26: 100 | N26: =+'EVALUACION CON CONTROLES'!G31 -> Gestión constante por parte de apoyo a la supervisión para la generación y aprobación. | O26: =+'EVALUACION CON CONTROLES'!I31 -> 1 | P26: =+'EVALUACION CON CONTROLES'!J31 -> 2 | Q26: =+'EVALUACION CON CONTROLES'!K31 -> 3 | R26: =+'EVALUACION CON CONTROLES'!L31 -> BAJO | S26: =+'EVALUACION CON CONTROLES'!M31 -> NO | T26: =+'EVALUACION CON CONTROLES'!N31 -> Apoyo a la supervisión | U26: =+'EVALUACION CON CONTROLES'!O31 -> Desde la fecha de suscripción del contrato | V26: =+'EVALUACION CON CONTROLES'!P31 -> Hasta la generación del registro presupuestal | ... X26: =+'EVALUACION CON CONTROLES'!R31 -> Cuando se requiera
B27: 17 | C27: =+'EVALUACION CON CONTROLES'!C32:F32 -> No publicación de la documentación del proceso de selección en el SECOP | D27: =+'EVALUACION CON CONTROLES'!B32 -> CONTRATACIÓN | E27: =VLOOKUP(C27,'IDENTIFICACION Y ANALISIS'!$B$19:$F$50,3,FALSE) -> Especifico | F27: =VLOOKUP(C27,'IDENTIFICACION Y ANALISIS'!$B$19:$F$50,4,FALSE) -> Interno | G27: =+EVALUACION!H33 -> Inposibildiad de seguimiento por cuenta de ciudadanía y entes de control | H27: =+EVALUACION!I33 -> 1 | I27: =+EVALUACION!J33 -> 1 | J27: =+EVALUACION!K33 -> 2 | K27: =+EVALUACION!L33 -> BAJO | L27: CONTRATISTA | M27: 100 | N27: =+'EVALUACION CON CONTROLES'!G32 -> Gestión constante por parte de apoyo a la supervisión para la generación y aprobación. | O27: =+'EVALUACION CON CONTROLES'!I32 -> 1 | P27: =+'EVALUACION CON CONTROLES'!J32 -> 1 | Q27: =+'EVALUACION CON CONTROLES'!K32 -> 2 | R27: =+'EVALUACION CON CONTROLES'!L32 -> BAJO | S27: =+'EVALUACION CON CONTROLES'!M32 -> NO | T27: =+'EVALUACION CON CONTROLES'!N32 -> Responsible de la oficina de contratación | U27: =+'EVALUACION CON CONTROLES'!O32 -> Desde la suscripción del contrato | V27: =+'EVALUACION CON CONTROLES'!P32 -> Hasta la generación del acta de inicio | ... X27: =+'EVALUACION CON CONTROLES'!R32 -> Constatemente
B28: 18 | C28: =+'EVALUACION CON CONTROLES'!C33:F33 -> Fluctuaciones del valor de la moneda | D28: =+'EVALUACION CON CONTROLES'!B33 -> EJECUCIÓN | E28: =VLOOKUP(C28,'IDENTIFICACION Y ANALISIS'!$B$19:$F$50,3,FALSE) -> Estatal | F28: =VLOOKUP(C28,'IDENTIFICACION Y ANALISIS'!$B$19:$F$50,4,FALSE) -> Externo | G28: =+EVALUACION!H34 -> Defícit presupuestal del contrato | H28: =+EVALUACION!I34 -> 1 | I28: =+EVALUACION!J34 -> 3 | J28: =+EVALUACION!K34 -> 4 | K28: =+EVALUACION!L34 -> BAJO | L28: CONTRATISTA Y SDG | M28: 50-50 | N28: =+'EVALUACION CON CONTROLES'!G33 -> Seguimiento a tasa representativa del mercado. | O28: =+'EVALUACION CON CONTROLES'!I33 -> 1 | P28: =+'EVALUACION CON CONTROLES'!J33 -> 3 | Q28: =+'EVALUACION CON CONTROLES'!K33 -> 4 | R28: =+'EVALUACION CON CONTROLES'!L33 -> BAJO | S28: =+'EVALUACION CON CONTROLES'!M33 -> SI | T28: =+'EVALUACION CON CONTROLES'!N33 -> Apoyo a la supervisión | U28: =+'EVALUACION CON CONTROLES'!O33 -> Desde la fecha de la designación de apoyo a la supervisión | V28: =+'EVALUACION CON CONTROLES'!P33 -> Hasta la liquidación del contrato | ... X28: =+'EVALUACION CON CONTROLES'!R33 -> Cuando se requiera
B29: 19 | C29: =+'EVALUACION CON CONTROLES'!C34:F34 -> Variación de los precios del mercado | D29: =+'EVALUACION CON CONTROLES'!B34 -> EJECUCIÓN | E29: =VLOOKUP(C29,'IDENTIFICACION Y ANALISIS'!$B$19:$F$50,3,FALSE) -> Estatal | F29: =VLOOKUP(C29,'IDENTIFICACION Y ANALISIS'!$B$19:$F$50,4,FALSE) -> Externo | G29: =+EVALUACION!H35 -> Defícit presupuestal del contrato | H29: =+EVALUACION!I35 -> 1 | I29: =+EVALUACION!J35 -> 3 | J29: =+EVALUACION!K35 -> 4 | K29: =+EVALUACION!L35 -> BAJO | L29: CONTRATISTA Y SDG | M29: 50-50 | N29: =+'EVALUACION CON CONTROLES'!G34 -> Seguimiento a los precios del mercado. | O29: =+'EVALUACION CON CONTROLES'!I34 -> 1 | P29: =+'EVALUACION CON CONTROLES'!J34 -> 3 | Q29: =+'EVALUACION CON CONTROLES'!K34 -> 4 | R29: =+'EVALUACION CON CONTROLES'!L34 -> BAJO | S29: =+'EVALUACION CON CONTROLES'!M34 -> SI | T29: =+'EVALUACION CON CONTROLES'!N34 -> Apoyo a la supervisión | U29: =+'EVALUACION CON CONTROLES'!O34 -> Desde la fecha de la designación de apoyo a la supervisión | V29: =+'EVALUACION CON CONTROLES'!P34 -> Hasta la liquidación del contrato | ... X29: =+'EVALUACION CON CONTROLES'!R34 -> Cuando se requiera
