Workbook
Name contratación: 'IDENTIFICACION Y ANALISIS'!$B$39:$B$43
Name ejecución: 'IDENTIFICACION Y ANALISIS'!$B$45:$B$68
Name OPCIONES: #REF!
Name planeación: 'IDENTIFICACION Y ANALISIS'!$B$19:$B$29
Name selección: 'IDENTIFICACION Y ANALISIS'!$B$31:$B$37

Sheet CONTEXTO
C1: MATRIZ DE RIESGOS EN CONTRATACIÓN | F1: Código: GCO-GCI-F164 Versión: 02 Vigencia: 01 de diciembre de 2022 Caso HOLA: 280117
B5: ESTABLECER EL CONTEXTO
B6: El punto inicial es identificar el contexto en el cual interactúa la Entidad Estatal para conocer el ambiente social, económico y político, e identificar (i) sus propios Riesgos; (ii) los Riesgos comunes a sus Procesos de Contratación; y (iii) los Riesgos del Proceso de Contratación en particular. (Aplica igual para contratos interadministrativos) En este paso la Entidad Estatal debe identificar los aspectos que se mencionan a continuación y los posibles efectos adversos que estos pueden generar.
B7: Objeto del Proceso de Contratación: PRESTAR LOS SERVICIOS PARA EL DISEÑO, DESARROLLO E IMPLEMENTACIÓN DE UN PROCESO INTEGRAL DE FORMACIÓN MEDIANTE DIPLOMADOS DIRIGIDOS A LA CIUDADANÍA DE LA LOCALIDAD DE PUENTE ARANDA, QUE CONTRIBUYA AL FORTALECIMIENTO DE CAPACIDADES INDIVIDUALES EN EL MARCO DE LA EJECUCIÓN DEL PLAN DE DESARROLLO LOCAL.
B8: Partícipes del Proceso de Contratación: Agentes externos (Organismos de control, veedurías ciudadanas), agentes internos (supervisores, funcionarios y demás usuarios).
B9: Ciudadanía que se beneficia del Proceso de Contratación: Funcionarios, visitantes y agentes externos.
B10: Capacidad de la Entidad Estatal entendida como la disponibilidad de recursos y conocimientos para el Proceso de Contratación: La disponibilidad de la Entidad de sus recursos y el conocimiento de su equipo humano se refleja en los diferentes funcionarios que participarán en las diversas etapas del proceso de selección: participan las áreas que requieren los procesos de contratación (Etapa de Estudios previos), el área de contratación del Fondo de Desarrollo Local, los evaluadores designados, idóneos y con experiencia en el tema.
B11: Suficiencia del presupuesto oficial del Proceso de Contratación: De acuerdo al Plan Anual de Adquisiciones y el Certificado de Disponibilidad Presupuestal del presente proceso, se soporta la suficiencia del presupuesto.
B12: Condiciones geográficas y de acceso del lugar en el cual se debe cumplir el objeto del Proceso de Contratación: Los bienes adquiridos deberán ser entregados en la sede de la Entidad.
B13: Entorno socio ambiental: N/A
B14: Condiciones políticas: N/A
B15: Factores ambientales: El contratista debe dar cumplimiento a las condiciones ambientales requeridas en el estudio previo.
B16: Sector del objeto del Proceso de Contratación y su mercado: Sector terciario o sector comercial de la economía en el que participan entidades privadas, Estatales y Gubernamentales, alrededor en todo el Territorio Nacional Colombiano y el exterior.
... B18: Experiencia propia y de otras Entidades Estatales en Procesos de Contratación del mismo tipo: La Entidad realiza anualmente procesos de contratación para fortelecer, capacitar y vincular a las diferentes organizaciones sociales y de mujeres de la localidad de Suba, por lo que se cuenta con la experiencia detallada de anteriores procesos realziados por la Alcaldía Local.

Sheet IDENTIFICACION Y ANALISIS
C2: MATRIZ DE RIESGOS DE CONTRATACIÓN | F2: Código: GCO-GCI-F164 Versión: 02 Vigencia: 01 de diciembre de 2022 Caso HOLA: 280117
B6: DEFINICIONES
B7: RIESGO: evento que puede generar efectos adversos y de distinta magnitud en el logro de los objetivos del Proceso de Contratación o en la ejecución de un contrato
B8: RIESGOS PREVISIBLES: Son los posibles hechos o circunstancias que por la naturaleza del contrato y de la actividad a ejecutar es factible su ocurrencia.
B9: ETAPA DE PLANEACIÓN: Está comprendida entre la elaboración del Plan Anual de Adquisiciones y la fecha en la cual decide continuar o no con el Proceso de Contratación
B10: ETAPA DE SELECCIÓN: Está comprendida entre el acto de Apertura del Proceso de Contratación y la Adjudicación o la declaración de desierto del Proceso de Contratación
B11: ETAPA DE CONTRATACIÓN: Una vez adjudicado el contrato objeto del Proceso de Contratación, inicia la etapa de contratación en la cual se debe cumplir con el cronograma previsto para la celebración del contrato, el registro presupuestal, la publicación en el SECOP y el cumplimiento de los requisitos para el perfeccionamiento, ejecución y pago.
B12: ETAPA DE EJECUCIÓN: Inicia una vez cumplidos los requisitos previstos para iniciar la ejecución del contrato respectivo y termina con el vencimiento del plazo del contrato o la fecha de liquidación si hay lugar a ella.
B13: RIESGO GENERAL: Es un riesgo de todos los procesos de contratación adelantados por la Entidad Estatal, por lo cual está presente en toda su actividad contractual.
B14: RIEGO ESPECIFICO: Es un riesgo propio del proceso de contratación objeto de análisis.
B15: INSTRUCCIONES PARA LA IDENTIFICACIÓN, ANALISIS, EVALUACIÓN , ASIGNACIÓN Y TRATAMIENTO DE RIESGOS EN LA CONTRATACIÓN
B16: 1) Identifique los riesgos previsibles que le apliquen al objeto contractual que se adelante; En caso de identificar otro riesgo inclúyalo en la proforma e informe al Área de Contratos de la Secretaría General para que sea actualizada en el SIG.
C17: ETAPAS | D17: CLASE | E17: FUENTE | F17: TIPO
C18: PLANEACIÓN
B19: Inadecuada escogencia de la modalidad de contratación | D19: General | E19: Interno | F19: Operacionales
B20: Requisitos habilitantes inapropiados para el proceso de selección | D20: General | E20: Interno | F20: Operacionales
B21: Inadecuado análisis económico estimativo del valor del contrato | D21: General | E21: Interno | F21: Economicos
B22: Inadecuada descripción del bien o servicio requerido | D22: General | E22: Interno | F22: Operacionales
B23: Inadecuada elaboración de estudios y diseños | D23: General | E23: Interno | F23: Operacionales
B24: Requisitos habilitantes que impidan la selección objetiva | D24: General | E24: Interno | F24: Operacionales
B25: Falta de profundidad en el estudio de sector no identificandose claramente aspectos de oferta y demanda | D25: General | E25: Interno | F25: Economicos
B26: Ausencia de fundamentación de la justificación y conveniencia de la contratación | D26: General | E26: Interno | F26: Operacionales
B27: Inadecuada identificación de las condiciones contractuales | D27: General | E27: Interno | F27: Operacionales
B28: No aprobación o demoras en la expedición vigencias futuras | D28: General | E28: Interno | F28: Operacionales
B29: Apertura de procesos sin disponibilidad presupuestal | D29: General | E29: Interno | F29: Operacionales
C30: SELECCIÓN
B31: Inadecuada evaluación de las ofertas y/o verificación de requisitos habilitantes | D31: Especifico | E31: Interno | F31: Operacionales
B32: Inadecuado manejo administrativo del proceso contractual | D32: Especifico | E32: Interno | F32: Operacionales
B33: Falta de claridad en la elaboración de los actos administrativos | D33: General | E33: Interno | F33: Operacionales
B34: Contestación inoportuna a todas las observaciones formuladas a los documentos de la contratación | D34: Estatal | E34: Interno | F34: Operacionales
B35: No publicación de la documentación del proceso de selección en el SECOP | D35: Estatal | E35: Interno | F35: Operacionales
B36: Confabulacion de los proponentes (Colusión) | D36: Especifico | E36: Externo | F36: Operacionales
B37: Selección de ofertas con precios artificialmente bajos. | D37: Especifico | E37: Externo | F37: Operacionales
C38: CONTRATACIÓN
B39: Riesgo de que no se firme el contrato. | D39: General | E39: Interno | F39: Operacionales
B40: Falta de constitución o constitución tardía de la garantía única. Aceptación de garantías que no se ajustan a lo contemplado en el contrato | D40: Especifico | E40: Interno | F40: Operacionales
B41: Falta de solicitud o solicitud tardía del registro presupuestal | D41: General | E41: Interno | F41: Operacionales
B42: No publicación de la documentación del proceso de selección en el SECOP | D42: General | E42: Interno | F42: Operacionales
B43: Presentación de reclamos de terceros sobre la selección del oferente que retrasen el perfeccionamiento del contrato. | D43: Especifico | E43: Externo | F43: Operacionales
C44: EJECUCIÓN
...

Sheet EVALUACIÓN
D1: MATRIZ DE RIESGOS DE CONTRATACIÓN | K1: Código: GCO-GCI-F164 Versión: 02 Vigencia: 01 de diciembre de 2022 Caso HOLA: 280117
B5: Objeto Contractual: PRESTAR LOS SERVICIOS PARA EL DISEÑO, DESARROLLO E IMPLEMENTACIÓN DE UN PROCESO INTEGRAL DE FORMACIÓN MEDIANTE DIPLOMADOS DIRIGIDOS A LA CIUDADANÍA DE LA LOCALIDAD DE PUENTE ARANDA, QUE CONTRIBUYA AL FORTALECIMIENTO DE CAPACIDADES INDIVIDUALES EN EL MARCO DE LA EJECUCIÓN DEL PLAN DE DESARROLLO LOCAL.
B6: INSTRUCCIONES PARA LA IDENTIFICACIÓN, ANALISIS, EVALUACIÓN , ASIGNACIÓN Y TRATAMIENTO DE RIESGOS EN LA CONTRATACIÓN
B7: 1) Seleccione el tipo de calificación (Cualitativa ó Monetaria)
B8: 2) Seleccione la(s) etapas y los riesgos que aplican al objeto contractual
B9: 3) Asigne la probabilidad de ocurrencia del riesgo, de conformidad con la tabla de probabilidad
B10: 4) Asigne el impacto que generaría la materialización del riesgo, de conformidad con la tabla de impacto
B11: 5) Al realizar las anteriores actividades se obtendrá la calificación total y la valoración del riesgo (prioridad) , traslde al formato evaluación con controles, los que tengan un nivel de criticidad diferente a bajo.
B12: 6) Continúe en la hoja de evaluación de controles
B14: CALIFICACIÓN | H14: Cualitativa
B15: ETAPA | C15: Descripción (Que puede pasar y, cómo puede ocurrir) | H15: Consecuencias de la ocurrencia del evento | I15: Probabilidad de Ocurrencia | J15: Impacto | K15: Calificación Total | L15: Prioridad
B16: PLANEACIÓN | C16: Inconvenientes al establecer el proceso de contratación que se pretende efectuar con fundamento en la normativa vigente. | H16: Inconveniente para promover y adelantar la selección del contratista | I16: 3 | J16: 2 | K16: =+I16+J16 -> 5 | L16: =IF(K16<=4,"BAJO",IF(K16=5,"MEDIO",IF(K16=6,"ALTO",IF(K16=7,"ALTO","EXTREMO")))) -> MEDIO
B17: PLANEACIÓN | C17: Inadecuada descripción del bien o servicio requerido | H17: No satisfación de la necesidad planteada por la entidad. | I17: 2 | J17: 2 | K17: =+I17+J17 -> 4 | L17: =IF(K17<=4,"BAJO",IF(K17=5,"MEDIO",IF(K17=6,"ALTO",IF(K17=7,"ALTO","EXTREMO")))) -> BAJO
B18: CONTRATACIÓN | C18: Riesgo de que no se firme el contrato. | H18: Retraso en el inicio de la ejecución del contrato o no ejecución del mismo | I18: 2 | J18: 4 | K18: =+I18+J18 -> 6 | L18: =IF(K18<=4,"BAJO",IF(K18=5,"MEDIO",IF(K18=6,"ALTO",IF(K18=7,"ALTO","EXTREMO")))) -> ALTO
B19: EJECUCIÓN | C19: Cambio de precios en factores de producción. | H19: Aumento en los precios de los servicios dados por el contratista | I19: 2 | J19: 2 | K19: =+I19+J19 -> 4 | L19: =IF(K19<=4,"BAJO",IF(K19=5,"MEDIO",IF(K19=6,"ALTO",IF(K19=7,"ALTO","EXTREMO")))) -> BAJO
B20: EJECUCIÓN | C20: Terminación anticipada del Contrato | H20: Incumplimiento, suspensión o finalización anticipada | I20: 2 | J20: 4 | K20: =+I20+J20 -> 6 | L20: =IF(K20<=4,"BAJO",IF(K20=5,"MEDIO",IF(K20=6,"ALTO",IF(K20=7,"ALTO","EXTREMO")))) -> ALTO
B21: EJECUCIÓN | C21: Demora en la radicación oportuna por parte del contratista de las facturas | H21: Retrasos en la gestión de giros realizados por la entidad | I21: 2 | J21: 3 | K21: =+I21+J21 -> 5 | L21: =IF(K21<=4,"BAJO",IF(K21=5,"MEDIO",IF(K21=6,"ALTO",IF(K21=7,"ALTO","EXTREMO")))) -> MEDIO
B22: EJECUCIÓN | C22: No pago de la Factura presentanda por el Contratista por la no progrmacion en el PAC, retrasos en la correcta ejecución del contrato | H22: Demoras en la ejecución de las fases del contrato | I22: 1 | J22: 1 | K22: =+I22+J22 -> 2 | L22: =IF(K22<=4,"BAJO",IF(K22=5,"MEDIO",IF(K22=6,"ALTO",IF(K22=7,"ALTO","EXTREMO")))) -> BAJO
B23: EJECUCIÓN | C23: Retrasos o incumplimientos en la entrega de los informes / productos entregables a cargo del contratista | H23: Posible incumplimiento en las obligaciones especificas del contratista. | I23: 2 | J23: 3 | K23: =+I23+J23 -> 5 | L23: =IF(K23<=4,"BAJO",IF(K23=5,"MEDIO",IF(K23=6,"ALTO",IF(K23=7,"ALTO","EXTREMO")))) -> MEDIO
B24: EJECUCIÓN | C24: Medidas de confinamiento, limitación de movilización de la comunidad y aislamientos preventivos obligatorios resultado de las medidas implementadas en cualquier PANDEMIA | H24: Retrasos en la ejeución del contrato. | I24: 3 | J24: 2 | K24: =+I24+J24 -> 5 | L24: =IF(K24<=4,"BAJO",IF(K24=5,"MEDIO",IF(K24=6,"ALTO",IF(K24=7,"ALTO","EXTREMO")))) -> MEDIO
B25: EJECUCIÓN | C25: No ejecutar cada una de las fases del contrato conforme lo establecido en el anexo técnico. | H25: Retrasos en la ejeución del contrato y posible incumplimiento. | I25: 4 | J25: 4 | K25: =+I25+J25 -> 8 | L25: =IF(K25<=4,"BAJO",IF(K25=5,"MEDIO",IF(K25=6,"ALTO",IF(K25=7,"ALTO","EXTREMO")))) -> EXTREMO
B26: EJECUCIÓN | C26: No contar con la disponibilidad de los espacios por parte del contratista para las fases del contrato establecidas en el anexo técnico. | H26: Retrasos en la ejeución del contrato y posible incumplimiento. | I26: 3 | J26: 4 | K26: =+I26+J26 -> 7 | L26: =IF(K26<=4,"BAJO",IF(K26=5,"MEDIO",IF(K26=6,"ALTO",IF(K26=7,"ALTO","EXTREMO")))) -> ALTO
B27: EJECUCIÓN | C27: Mala o baja calidad en la ejecución del programa de formación, con ineficiencia en el material y metodología de enseñanza ofrecido. | H27: Retrasos en la ejeución del contrato y posible incumplimiento. | I27: 3 | J27: 5 | K27: =+I27+J27 -> 8 | L27: =IF(K27<=4,"BAJO",IF(K27=5,"MEDIO",IF(K27=6,"ALTO",IF(K27=7,"ALTO","EXTREMO")))) -> EXTREMO
B28: EJECUCIÓN | C28: Afectar la integridad, disponibilidad y /o confiabilidad de la informacion de los beneficiarios | H28: Divulgación de información sensible de los beneficiarios | I28: 3 | J28: 2 | K28: =+I28+J28 -> 5 | L28: =IF(K28<=4,"BAJO",IF(K28=5,"MEDIO",IF(K28=6,"ALTO",IF(K28=7,"ALTO","EXTREMO")))) -> MEDIO
K29: =+I29+J29 -> 0 | L29: =IF(K29<=4,"BAJO",IF(K29=5,"MEDIO",IF(K29=6,"ALTO",IF(K29=7,"ALTO","EXTREMO")))) -> BAJO
B32: Probabilidad | C32: Catagoria | E32: Valoración | G32: Impacto | H32: Categoria | I32: Valoración
C33: Raro (puede ocurrir excepcionalmente) | E33: 1 | H33: Insignificante | I33: 1
C34: Improbable (puede ocurrir ocasionalmente) | E34: 2 | H34: Menor | I34: 2
C35: Posible (puede ocurrir en cualquier momento futuro) | E35: 3 | H35: Moderado | I35: 3
C36: Probable (probablemente va a ocurrir) | E36: 4 | H36: Mayor | I36: 4
C37: Casi cierto (ocurre en la mayoria de circunstancias) | E37: 5 | H37: Catastrófico | I37: 5
C39: Valoración del Riesgo
C40: Calificación Cualitativa | F40: Obstruye la ejecución del contrato de manera intrascendente. | G40: Dificulta la ejecución del contrato de manera baja, aplicando medidas mínimas se pueden lograr el objeto contractual | H40: Afecta la ejecución del contrato sin alterar el beneficio para las partes | I40: Obstruye la ejecución del contrato sustancialmente pero aun así permite la consecución del objeto contractual | K40: Perturba la ejecución del contrato de manera grave imposibilitando la consecución del objeto contractual.
C41: Calificación Monetaria | F41: Los sobrecostos no representan más del uno por ciento (1%) del valor del contrato. | G41: Los sobrecostos no representan más del cinco por ciento (5%) del valor del contrato. | H41: Genera un impacto sobre el valor del contrato entre el cinco (5%) y el quince por ciento (15%). | I41: Incrementa el valor del contrato entre el quince (15%) y el treinta por ciento (30%). | K41: Impacto sobre el valor del contrato en más del treinta por ciento (30%).
C42: Categoría | E42: Valoración | F42: Insignificante | G42: Menor | H42: Moderado | I42: Mayor | K42: Catastrófico
F43: 1 | G43: 2 | H43: 3 | I43: 4 | K43: 5
C44: Raro (puede ocurrir excepcionalmente) | E44: 1 | F44: 2 | G44: 3 | H44: 4 | I44: 5 | K44: 6
C45: Improbable (puede ocurrir ocasionalmente) | E45: 2 | F45: 3 | G45: 4 | H45: 5 | I45: 6 | K45: 7
C46: Posible (puede ocurrir en cualquier momento futuro) | E46: 3 | F46: 4 | G46: 5 | H46: 6 | I46: 7 | K46: 8
C47: Probable (probablemente va a ocurrir) | E47: 4 | F47: 5 | G47: 6 | H47: 7 | I47: 8 | K47: 9
...

Sheet EVALUACIÓN CON CONTROLES
D2: MATRIZ DE RIESGOS DE CONTRATACIÓN | P2: Código: GCO-GCI-F164 Versión: 02 Vigencia: 01 de diciembre de 2022 Caso HOLA: 280117
A6: =+EVALUACIÓN!B5 -> Objeto Contractual: PRESTAR LOS SERVICIOS PARA EL DISEÑO, DESARROLLO E IMPLEMENTACIÓN DE UN PROCESO INTEGRAL DE FORMACIÓN MEDIANTE DIPLOMADOS DIRIGIDOS A LA CIUDADANÍA DE LA LOCALIDAD DE PUENTE ARANDA, QUE CONTRIBUYA AL FORTALECIMIENTO DE CAPACIDADES INDIVIDUALES EN EL MARCO DE LA EJECUCIÓN DEL PLAN DE DESARROLLO LOCAL.
A7: INSTRUCCIONES PARA LA IDENTIFICACIÓN, ANALISIS, EVALUACIÓN , ASIGNACIÓN Y TRATAMIENTO DE RIESGOS EN LA CONTRATACIÓN
A8: 1) Describa el tratamiento/controles a ser implementados
A9: 2) Teniendo en cuenta el tratamiento descrito, asigne la probabilidad de ocurrencia del riesgo, de conformidad con la tabla de probabilidad
A10: 3) Teniendo en cuenta el tratamiento descrito, asigne el impacto que generaría la materialización del riesgo, de conformidad con la tabla de impacto
A11: 4) Al realizar las anteriores actividades se obtendrá la calificación total y la valoración del riesgo (prioridad)
A12: 5) Diligencie la información de las démas columnas
A13: 7) Continúe en la hoja de asignación y tratamiento
A15: ETAPA | B15: Descripción (Que puede pasar y, cómo puede ocurrir) | F15: Tratamiento/Controles a ser implementados | H15: Probabilidad de Ocurrencia | I15: Impacto | J15: Calificación Total | K15: Prioridad | L15: ¿Afecta el equilibrio económico del contrato? | M15: Persona responsable por implementar el tratamiento | N15: Fecha estimada en que se inicia el tratamiento | O15: Fecha estimada en que se completa el tratamiento | P15: ¿Cómo se realiza el monitoreo? | Q15: Periodicidad ¿Cuándo?
A16: =+[1]EVALUACION!B17 -> PLANEACIÓN | B16: =+EVALUACIÓN!C16 -> Inconvenientes al establecer el proceso de contratación que se pretende efectuar con fundamento en la normativa vigente. | F16: Elaborar estudio de mercado con las actividades contempladas en el programa, que incluya la propuesta del posible proveedor | H16: =+EVALUACIÓN!I16 -> 3 | I16: =+EVALUACIÓN!J16 -> 2 | J16: =+EVALUACIÓN!K16 -> 5 | K16: =IF(J16<=4,"BAJO",IF(J16=5,"MEDIO",IF(J16=6,"ALTO",IF(J16=7,"ALTO","EXTREMO")))) -> MEDIO | L16: no | M16: Formulador y área de contratación | N16: desde el inicio de la planeación del proceso | O16: En la adjudicación del contrato | P16: normatividad colombiana y normatividad regulatoria de las entidades | Q16: previa adjudicación del contrato
A17: =+[1]EVALUACION!B18 -> PLANEACIÓN | B17: =+EVALUACIÓN!C17 -> Inadecuada descripción del bien o servicio requerido | F17: Validar si el objeto y alcance del contrato son coherentes con los objetivos que se pretenden alcanzar con la contratación | H17: =+EVALUACIÓN!I17 -> 2 | I17: =+EVALUACIÓN!J17 -> 2 | J17: =+EVALUACIÓN!K17 -> 4 | K17: =IF(J17<=4,"BAJO",IF(J17=5,"MEDIO",IF(J17=6,"ALTO",IF(J17=7,"ALTO","EXTREMO")))) -> BAJO | L17: no | M17: Formulador y área de contratación | N17: desde el inicio de la planeación del proceso | O17: Liquidación y entrega a satisfacción del contrato | P17: se apoyará con los informes de seguimiento, actas de reunión y actas de entrega, junto con los resultados esperados | Q17: mensual
A18: =+[1]EVALUACION!B19 -> CONTRATACIÓN | B18: =+EVALUACIÓN!C18 -> Riesgo de que no se firme el contrato. | F18: Elaboración eficiente, oportuna y eficaz de los documentos precontractuales del proceso, los cuales deben ser revisados por el contratista a cabalidad y aceptados por el mismo | H18: =+EVALUACIÓN!I18 -> 2 | I18: =+EVALUACIÓN!J18 -> 4 | J18: =+EVALUACIÓN!K18 -> 6 | K18: =IF(J18<=4,"BAJO",IF(J18=5,"MEDIO",IF(J18=6,"ALTO",IF(J18=7,"ALTO","EXTREMO")))) -> ALTO | L18: no | M18: Formulador y área de contratación | N18: desde el inicio de la planeación del proceso | O18: En la adjudicación del contrato | P18: normatividad colombiana y normatividad regulatoria de las entidades | Q18: adjudicación del contrato
A19: =+[1]EVALUACION!B21 -> EJECUCIÓN | B19: =+EVALUACIÓN!C19 -> Cambio de precios en factores de producción. | F19: Estimación de posble desequilibrio económico. | H19: =+EVALUACIÓN!I19 -> 2 | I19: =+EVALUACIÓN!J19 -> 2 | J19: =+EVALUACIÓN!K19 -> 4 | K19: =IF(J19<=4,"BAJO",IF(J19=5,"MEDIO",IF(J19=6,"ALTO",IF(J19=7,"ALTO","EXTREMO")))) -> BAJO | L19: si | M19: Formulador y área de contratación | N19: desde el inicio de la planeación del proceso | O19: Liquidación y entrega a satisfacción del contrato | P19: A través de un adecuado estudio de mercado | Q19: Al inicio del contrato
A20: =+[1]EVALUACION!B22 -> EJECUCIÓN | B20: =+EVALUACIÓN!C20 -> Terminación anticipada del Contrato | F20: Designar la supervisión del contrato quién realizará el seguimiento al cumplimeinto de las activiades | H20: =+EVALUACIÓN!I20 -> 2 | I20: =+EVALUACIÓN!J20 -> 4 | J20: =+EVALUACIÓN!K20 -> 6 | K20: =IF(J20<=4,"BAJO",IF(J20=5,"MEDIO",IF(J20=6,"ALTO",IF(J20=7,"ALTO","EXTREMO")))) -> ALTO | L20: no | M20: supervisor del contrato | N20: desde el inicio del contrato | O20: Liquidación y entrega a satisfacción del contrato | P20: A través de requerimientos e informes | Q20: mensual
A21: =+[1]EVALUACION!B23 -> EJECUCIÓN | B21: =+EVALUACIÓN!C21 -> Demora en la radicación oportuna por parte del contratista de las facturas | F21: El contratista conocerá el cronograma de radicaciones y se le requerirá realizarlas oportunamente | H21: =+EVALUACIÓN!I21 -> 2 | I21: =+EVALUACIÓN!J21 -> 3 | J21: =+EVALUACIÓN!K21 -> 5 | K21: =IF(J21<=4,"BAJO",IF(J21=5,"MEDIO",IF(J21=6,"ALTO",IF(J21=7,"ALTO","EXTREMO")))) -> MEDIO | L21: no | M21: contratista y supervisor del contrato | N21: desde el inicio del contrato | O21: Liquidación y entrega a satisfacción del contrato | P21: Con el cumplimiento del cronograma y la radicación oportuna de documentos | Q21: mensual
A22: =+[1]EVALUACION!B24 -> EJECUCIÓN | B22: =+EVALUACIÓN!C22 -> No pago de la Factura presentanda por el Contratista por la no progrmacion en el PAC, retrasos en la correcta ejecución del contrato | F22: Constante revisión de la programación del PAC, ejecución contractual y comunicación fluida con el contratista | H22: =+EVALUACIÓN!I22 -> 1 | I22: =+EVALUACIÓN!J22 -> 1 | J22: =+EVALUACIÓN!K22 -> 2 | K22: =IF(J22<=4,"BAJO",IF(J22=5,"MEDIO",IF(J22=6,"ALTO",IF(J22=7,"ALTO","EXTREMO")))) -> BAJO | L22: no | M22: A traves del Supervisor designado por la entidad quien tiene la responsabilidad de solicitar la asignacion en el PAC | N22: desde el inicio del contrato | O22: Liquidación y entrega a satisfacción del contrato | P22: A través de la revisión conste del PAC y su adecuada planificación | Q22: Permanente
A23: =+[1]EVALUACION!B25 -> EJECUCIÓN | B23: =+EVALUACIÓN!C23 -> Retrasos o incumplimientos en la entrega de los informes / productos entregables a cargo del contratista | F23: Revisión, aprobación oportuna de los entregables de acuerdo a cada fase y requerimientos constantes al contratista | H23: =+EVALUACIÓN!I23 -> 2 | I23: =+EVALUACIÓN!J23 -> 3 | J23: =+EVALUACIÓN!K23 -> 5 | K23: =IF(J23<=4,"BAJO",IF(J23=5,"MEDIO",IF(J23=6,"ALTO",IF(J23=7,"ALTO","EXTREMO")))) -> MEDIO | L23: no | M23: supervisor del contrato | N23: desde el inicio del contrato | O23: Liquidación y entrega a satisfacción del contrato | P23: Se apoyará con los informes de seguimiento y cumplimiento y actas de entrega | Q23: mensual
A24: =+[1]EVALUACION!B26 -> EJECUCIÓN | B24: =+EVALUACIÓN!C24 -> Medidas de confinamiento, limitación de movilización de la comunidad y aislamientos preventivos obligatorios resultado de las medidas implementadas en cualquier PANDEMIA | F24: Modificacion de cronogramas de acuerdo con las medidas que lleguen a implentarse | H24: =+EVALUACIÓN!I24 -> 3 | I24: =+EVALUACIÓN!J24 -> 2 | J24: =+EVALUACIÓN!K24 -> 5 | K24: =IF(J24<=4,"BAJO",IF(J24=5,"MEDIO",IF(J24=6,"ALTO",IF(J24=7,"ALTO","EXTREMO")))) -> MEDIO | L24: no | M24: supervisor del contrato y contratista | N24: desde el inicio del contrato | O24: Liquidación y entrega a satisfacción del contrato | P24: Seguimiento continuo por parte del Supervisor designado | Q24: Permanente
A25: =+[1]EVALUACION!B27 -> EJECUCIÓN | B25: =+EVALUACIÓN!C25 -> No ejecutar cada una de las fases del contrato conforme lo establecido en el anexo técnico. | F25: Seguimiento continuo por tematica definida, registro de actas de asistencia y supervisión constante por la entidad | H25: =+EVALUACIÓN!I25 -> 4 | I25: =+EVALUACIÓN!J25 -> 4 | J25: =+EVALUACIÓN!K25 -> 8 | K25: =IF(J25<=4,"BAJO",IF(J25=5,"MEDIO",IF(J25=6,"ALTO",IF(J25=7,"ALTO","EXTREMO")))) -> EXTREMO | L25: no | M25: supervisor del contrato y contratista | N25: desde el inicio del contrato | O25: Liquidación y entrega a satisfacción del contrato | P25: Seguimiento continuo por parte del Supervisor designado y continuos informes por parte del contratista | Q25: Permanente
A26: =+[1]EVALUACION!B30 -> EJECUCIÓN | B26: =+EVALUACIÓN!C26 -> No contar con la disponibilidad de los espacios por parte del contratista para las fases del contrato establecidas en el anexo técnico. | F26: Seguimiento continuo por parte del Supervisor designado | H26: =+EVALUACIÓN!I26 -> 3 | I26: =+EVALUACIÓN!J26 -> 4 | J26: =+EVALUACIÓN!K26 -> 7 | K26: =IF(J26<=4,"BAJO",IF(J26=5,"MEDIO",IF(J26=6,"ALTO",IF(J26=7,"ALTO","EXTREMO")))) -> ALTO | L26: no | M26: supervisor del contrato | N26: desde el inicio del contrato | O26: Liquidación y entrega a satisfacción del contrato | P26: Seguimiento continuo por parte del Supervisor designado | Q26: Permanente
A27: =+[1]EVALUACION!B31 -> EJECUCIÓN | B27: =+EVALUACIÓN!C27 -> Mala o baja calidad en la ejecución del programa de formación, con ineficiencia en el material y metodología de enseñanza ofrecido. | F27: Seguimiento continuo por parte del Supervisor designado | H27: =+EVALUACIÓN!I27 -> 3 | I27: =+EVALUACIÓN!J27 -> 5 | J27: =+EVALUACIÓN!K27 -> 8 | K27: =IF(J27<=4,"BAJO",IF(J27=5,"MEDIO",IF(J27=6,"ALTO",IF(J27=7,"ALTO","EXTREMO")))) -> EXTREMO | L27: no | M27: supervisor del contrato | N27: desde el inicio del contrato | O27: Liquidación y entrega a satisfacción del contrato | P27: Seguimiento continuo por parte del Supervisor designado | Q27: Permanente
A28: =+[1]EVALUACION!B33 -> EJECUCIÓN | B28: =+EVALUACIÓN!C28 -> Afectar la integridad, disponibilidad y /o confiabilidad de la informacion de los beneficiarios | F28: Implementación previa de manejo de información sensible de acuerdo con la Ley de Habeas Data | H28: =+EVALUACIÓN!I28 -> 3 | I28: =+EVALUACIÓN!J28 -> 2 | J28: =+EVALUACIÓN!K28 -> 5 | K28: =IF(J28<=4,"BAJO",IF(J28=5,"MEDIO",IF(J28=6,"ALTO",IF(J28=7,"ALTO","EXTREMO")))) -> MEDIO | L28: no | M28: supervisor del contrato | N28: desde el inicio del contrato | O28: Liquidación y entrega a satisfacción del contrato | P28: Seguimiento continuo por parte del Supervisor designado | Q28: mensual
A29: =+[1]EVALUACION!B34 -> 0 | B29: =+[1]EVALUACION!C34 -> 0 | H29: =+[1]EVALUACION!I34 -> 0 | I29: =+[1]EVALUACION!J34 -> 0 | J29: =+H29+I29 -> 0 | K29: =IF(J29<=4,"BAJO",IF(J29=5,"MEDIO",IF(J29=6,"ALTO",IF(J29=7,"ALTO","EXTREMO")))) -> BAJO
B31: Categoria del Riesgo | G31: Impacto del Riesgo
A32: Probabilidad | B32: Catagoria | E32: Valoración | G32: Categoria | I32: Valoración | M32: Categoria del Riesgo
B33: Raro (puede ocurrir excepcionalmente) | E33: 1 | G33: Insignificante | I33: 1 | M33: Valoración del Riesgo | O33: Categoría
B34: Improbable (puede ocurrir ocasionalmente) | E34: 2 | G34: Menor | I34: 2 | M34: 8, 9 y 10 | O34: Riesgo extremo
B35: Posible (puede ocurrir en cualquier momento futuro) | E35: 3 | G35: Moderado | I35: 3 | M35: 6 y 7 | O35: Riesgo alto
B36: Probable (probablemente va a ocurrir) | E36: 4 | G36: Mayor | I36: 4 | M36: 5 | O36: Riesgo medio
B37: Casi cierto (ocurre en la mayoria de circunstancias) | E37: 5 | G37: Catastrófico | I37: 5 | M37: 2, 3 y 4 | O37: Riesgo bajo
B39: Valoración del Riesgo
B40: Calificación Cualitativa | F40: Obstruye la ejecución del contrato de manera intrascendente. | H40: Dificulta la ejecución del contrato de manera baja, aplicando medidas mínimas se pueden lograr el objeto contractual | K40: Afecta la ejecución del contrato sin alterar el beneficio para las partes | M40: Obstruye la ejecución del contrato sustancialmente pero aun así permite la consecución del objeto contractual | O40: Perturba la ejecución del contrato de manera grave imposibilitando la consecución del objeto contractual.
B41: Calificación Monetaria | F41: Los sobrecostos no representan más del uno por ciento (1%) del valor del contrato. | H41: Los sobrecostos no representan más del cinco por ciento (5%) del valor del contrato. | K41: Genera un impacto sobre el valor del contrato entre el cinco (5%) y el quince por ciento (15%). | M41: Incrementa el valor del contrato entre el quince (15%) y el treinta por ciento (30%). | O41: Impacto sobre el valor del contrato en más del treinta por ciento (30%).
B42: Catagoria | E42: Valoración | F42: Insignificante | H42: Menor | K42: Moderado | M42: Mayor | O42: Catastrófico
F43: 1 | H43: 2 | K43: 3 | M43: 4 | O43: 5
B44: Raro (puede ocurrir excepcionalmente) | E44: 1 | F44: 2 | H44: 3 | K44: 4 | M44: 5 | O44: 6
B45: Improbable (puede ocurrir ocasionalmente) | E45: 2 | F45: 3 | H45: 4 | K45: 5 | M45: 6 | O45: 7
B46: Posible (puede ocurrir en cualquier momento futuro) | E46: 3 | F46: 4 | H46: 5 | K46: 6 | M46: 7 | O46: 8
B47: Probable (probablemente va a ocurrir) | E47: 4 | F47: 5 | H47: 6 | K47: 7 | M47: 8 | O47: 9
...

Sheet ASIGNACIÓN Y TRATAMIENTO
D2: MATRIZ DE RIESGOS DE CONTRATACIÓN | W2: Código: GCO-GCI-F164 Versión: 02 Vigencia: 01 de diciembre de 2022 Caso HOLA: 280117
B6: =+EVALUACIÓN!B5 -> Objeto Contractual: PRESTAR LOS SERVICIOS PARA EL DISEÑO, DESARROLLO E IMPLEMENTACIÓN DE UN PROCESO INTEGRAL DE FORMACIÓN MEDIANTE DIPLOMADOS DIRIGIDOS A LA CIUDADANÍA DE LA LOCALIDAD DE PUENTE ARANDA, QUE CONTRIBUYA AL FORTALECIMIENTO DE CAPACIDADES INDIVIDUALES EN EL MARCO DE LA EJECUCIÓN DEL PLAN DE DESARROLLO LOCAL.
B7: IDENTIFICACIÓN, ANALISIS, EVALUACIÓN , ASIGNACIÓN Y TRATAMIENTO DE RIESGOS EN LA CONTRATACIÓN
B8: Esta matriz es un documento anexo del Estudio Previo
B10: No | C10: Descripción (Que puede pasar y, cómo puede ocurrir) | D10: Etapa | E10: Clase | F10: Fuente | G10: Consecuencias de la ocurrencia del evento | H10: Probabilidad | I10: Impacto | J10: Calificación total | K10: Prioridad | L10: ¿A quien se le asigna? | M10: % | N10: Tratamiento/Controles a ser implementados | O10: Probabilidad | P10: Impacto | Q10: Calificación total | R10: Prioridad | S10: ¿Afecta el equilibrio económico del contrato? | T10: Persona responsable por implementar el tratamiento | U10: Fecha estimada en que se inicia el tratamiento | V10: Fecha estimada en que se completa el tratamiento | W10: ¿Cómo se realiza el monitoreo | X10: Periodicidad ¿Cuándo?
B11: 1 | C11: =+EVALUACIÓN!C16 -> Inconvenientes al establecer el proceso de contratación que se pretende efectuar con fundamento en la normativa vigente. | D11: =+'[1]EVALUACION CON CONTROLES'!A17 -> PLANEACIÓN | E11: =VLOOKUP(C11,'[1]IDENTIFICACION Y ANALISIS'!$B$19:$F$67,3,FALSE) -> General | F11: =VLOOKUP(C11,'[1]IDENTIFICACION Y ANALISIS'!$B$19:$F$67,4,FALSE) -> Interno | G11: =+EVALUACIÓN!H16 -> Inconveniente para promover y adelantar la selección del contratista | H11: =+[1]EVALUACION!I17 -> 3 | I11: =+[1]EVALUACION!J17 -> 2 | J11: =+[1]EVALUACION!K17 -> 5 | K11: =+[1]EVALUACION!L17 -> MEDIO | L11: CONTRATISTA Y FDL | M11: 50% y 50% | N11: =+'[1]EVALUACION CON CONTROLES'!F17 -> Elaborar estudio de mercado con las actividades contempladas en el programa, que incluya la propuesta del posible proveedor y estudio de regulatorio de ambas entidades | O11: =+'[1]EVALUACION CON CONTROLES'!H17 -> 3 | P11: =+'[1]EVALUACION CON CONTROLES'!I17 -> 2 | Q11: =+'[1]EVALUACION CON CONTROLES'!J17 -> 5 | R11: =+'[1]EVALUACION CON CONTROLES'!K17 -> MEDIO | S11: =+'[1]EVALUACION CON CONTROLES'!L17 -> no | T11: =+'[1]EVALUACION CON CONTROLES'!M17 -> Formulador, área de contratación de ambas entidades y representantes legales de ambas entidades | U11: =+'[1]EVALUACION CON CONTROLES'!N17 -> desde el inicio de la planeación del proceso | V11: =+'[1]EVALUACION CON CONTROLES'!O17 -> En la adjudicación del contrato | ... X11: =+'[1]EVALUACION CON CONTROLES'!Q17 -> previa adjudicación del contrato
B12: 2 | C12: =+EVALUACIÓN!C17 -> Inadecuada descripción del bien o servicio requerido | D12: =+'[1]EVALUACION CON CONTROLES'!A18 -> PLANEACIÓN | E12: =VLOOKUP(C12,'[1]IDENTIFICACION Y ANALISIS'!$B$19:$F$67,3,FALSE) -> General | F12: =VLOOKUP(C12,'[1]IDENTIFICACION Y ANALISIS'!$B$19:$F$67,4,FALSE) -> Interno | G12: =+EVALUACIÓN!H17 -> No satisfación de la necesidad planteada por la entidad. | H12: =+[1]EVALUACION!I18 -> 2 | I12: =+[1]EVALUACION!J18 -> 2 | J12: =+[1]EVALUACION!K18 -> 4 | K12: =+[1]EVALUACION!L18 -> BAJO | L12: CONTRATISTA Y FDL | M12: 50% y 50% | N12: =+'[1]EVALUACION CON CONTROLES'!F18 -> Validar si el objeto y alcance del contrato son coherentes con los objetivos que se pretenden alcanzar con la contratación | O12: =+'[1]EVALUACION CON CONTROLES'!H18 -> 2 | P12: =+'[1]EVALUACION CON CONTROLES'!I18 -> 2 | Q12: =+'[1]EVALUACION CON CONTROLES'!J18 -> 4 | R12: =+'[1]EVALUACION CON CONTROLES'!K18 -> BAJO | S12: =+'[1]EVALUACION CON CONTROLES'!L18 -> no | T12: =+'[1]EVALUACION CON CONTROLES'!M18 -> Formulador, área de contratación de ambas entidades y representantes legales de ambas entidades | U12: =+'[1]EVALUACION CON CONTROLES'!N18 -> desde el inicio de la planeación del proceso | V12: =+'[1]EVALUACION CON CONTROLES'!O18 -> Liquidación y entrega a satisfacción del contrato | ... X12: =+'[1]EVALUACION CON CONTROLES'!Q18 -> mensual
B13: 3 | C13: =+EVALUACIÓN!C18 -> Riesgo de que no se firme el contrato. | D13: =+'[1]EVALUACION CON CONTROLES'!A19 -> CONTRATACIÓN | E13: =VLOOKUP(C13,'[1]IDENTIFICACION Y ANALISIS'!$B$19:$F$67,3,FALSE) -> General | F13: =VLOOKUP(C13,'[1]IDENTIFICACION Y ANALISIS'!$B$19:$F$67,4,FALSE) -> Externo | G13: =+EVALUACIÓN!H18 -> Retraso en el inicio de la ejecución del contrato o no ejecución del mismo | H13: =+[1]EVALUACION!I19 -> 2 | I13: =+[1]EVALUACION!J19 -> 4 | J13: =+[1]EVALUACION!K19 -> 6 | K13: =+[1]EVALUACION!L19 -> ALTO | L13: CONTRATISTA Y FDL | M13: 50% y 50% | N13: =+'[1]EVALUACION CON CONTROLES'!F19 -> Elaboración eficiente, oportuna y eficaz de los documentos precontractuales del proceso, los cuales deben ser revisados por el contratista a cabalidad y aceptados por el mismo | O13: =+'[1]EVALUACION CON CONTROLES'!H19 -> 2 | P13: =+'[1]EVALUACION CON CONTROLES'!I19 -> 4 | Q13: =+'[1]EVALUACION CON CONTROLES'!J19 -> 6 | R13: =+'[1]EVALUACION CON CONTROLES'!K19 -> ALTO | S13: =+'[1]EVALUACION CON CONTROLES'!L19 -> no | T13: =+'[1]EVALUACION CON CONTROLES'!M19 -> Formulador, área de contratación de ambas entidades y representantes legales de ambas entidades | U13: =+'[1]EVALUACION CON CONTROLES'!N19 -> desde el inicio de la planeación del proceso | V13: =+'[1]EVALUACION CON CONTROLES'!O19 -> En la adjudicación del contrato | ... X13: =+'[1]EVALUACION CON CONTROLES'!Q19 -> adjudicación del contrato
B14: 4 | C14: =+EVALUACIÓN!C19 -> Cambio de precios en factores de producción. | D14: =+'[1]EVALUACION CON CONTROLES'!A21 -> EJECUCIÓN | E14: =VLOOKUP(C14,'[1]IDENTIFICACION Y ANALISIS'!$B$19:$F$67,3,FALSE) -> General | F14: =VLOOKUP(C14,'[1]IDENTIFICACION Y ANALISIS'!$B$19:$F$67,4,FALSE) -> Externo | G14: =+EVALUACIÓN!H19 -> Aumento en los precios de los servicios dados por el contratista | H14: =+[1]EVALUACION!I21 -> 2 | I14: =+[1]EVALUACION!J21 -> 2 | J14: =+[1]EVALUACION!K21 -> 4 | K14: =+[1]EVALUACION!L21 -> BAJO | L14: CONTRATISTA | M14: 1 | N14: =+'[1]EVALUACION CON CONTROLES'!F21 -> Proceso contractual surtido en el menor tiempo posbile. Disminuyendo la posibilidad de teber variociones en los precios definidos por el estudio de mercado | O14: =+'[1]EVALUACION CON CONTROLES'!H21 -> 2 | P14: =+'[1]EVALUACION CON CONTROLES'!I21 -> 2 | Q14: =+'[1]EVALUACION CON CONTROLES'!J21 -> 4 | R14: =+'[1]EVALUACION CON CONTROLES'!K21 -> BAJO | S14: =+'[1]EVALUACION CON CONTROLES'!L21 -> si | T14: =+'[1]EVALUACION CON CONTROLES'!M21 -> Formulador, área de contratación de ambas entidades y representantes legales de ambas entidades | U14: =+'[1]EVALUACION CON CONTROLES'!N21 -> desde el inicio de la planeación del proceso | V14: =+'[1]EVALUACION CON CONTROLES'!O21 -> Liquidación y entrega a satisfacción del contrato | ... X14: =+'[1]EVALUACION CON CONTROLES'!Q21 -> Al inicio del contrato
B15: 5 | C15: =+EVALUACIÓN!C20 -> Terminación anticipada del Contrato | D15: =+'[1]EVALUACION CON CONTROLES'!A22 -> EJECUCIÓN | E15: =VLOOKUP(C15,'[1]IDENTIFICACION Y ANALISIS'!$B$19:$F$67,3,FALSE) -> General | F15: =VLOOKUP(C15,'[1]IDENTIFICACION Y ANALISIS'!$B$19:$F$67,4,FALSE) -> Interno | G15: =+EVALUACIÓN!H20 -> Incumplimiento, suspensión o finalización anticipada | H15: =+[1]EVALUACION!I22 -> 2 | I15: =+[1]EVALUACION!J22 -> 4 | J15: =+[1]EVALUACION!K22 -> 6 | K15: =+[1]EVALUACION!L22 -> ALTO | L15: FDL | M15: 1 | N15: =+'[1]EVALUACION CON CONTROLES'!F22 -> Designar la supervisión del convenio quién realizará el seguimiento al cumplimeinto de las activiades | O15: =+'[1]EVALUACION CON CONTROLES'!H22 -> 2 | P15: =+'[1]EVALUACION CON CONTROLES'!I22 -> 4 | Q15: =+'[1]EVALUACION CON CONTROLES'!J22 -> 6 | R15: =+'[1]EVALUACION CON CONTROLES'!K22 -> ALTO | S15: =+'[1]EVALUACION CON CONTROLES'!L22 -> no | T15: =+'[1]EVALUACION CON CONTROLES'!M22 -> supervisor del contrato | U15: =+'[1]EVALUACION CON CONTROLES'!N22 -> desde el inicio del contrato | V15: =+'[1]EVALUACION CON CONTROLES'!O22 -> Liquidación y entrega a satisfacción del contrato | ... X15: =+'[1]EVALUACION CON CONTROLES'!Q22 -> mensual
B16: 6 | C16: =+EVALUACIÓN!C21 -> Demora en la radicación oportuna por parte del contratista de las facturas | D16: =+'[1]EVALUACION CON CONTROLES'!A23 -> EJECUCIÓN | E16: =VLOOKUP(C16,'[1]IDENTIFICACION Y ANALISIS'!$B$19:$F$67,3,FALSE) -> General | F16: =VLOOKUP(C16,'[1]IDENTIFICACION Y ANALISIS'!$B$19:$F$67,4,FALSE) -> Externo | G16: =+EVALUACIÓN!H21 -> Retrasos en la gestión de giros realizados por la entidad | H16: =+[1]EVALUACION!I23 -> 2 | I16: =+[1]EVALUACION!J23 -> 3 | J16: =+[1]EVALUACION!K23 -> 5 | K16: =+[1]EVALUACION!L23 -> MEDIO | L16: CONTRATISTA | M16: 1 | N16: =+'[1]EVALUACION CON CONTROLES'!F23 -> El contratista conocerá el cronograma de radicaciones y se le requerirá realizarlas oportunamente | O16: =+'[1]EVALUACION CON CONTROLES'!H23 -> 2 | P16: =+'[1]EVALUACION CON CONTROLES'!I23 -> 3 | Q16: =+'[1]EVALUACION CON CONTROLES'!J23 -> 5 | R16: =+'[1]EVALUACION CON CONTROLES'!K23 -> MEDIO | S16: =+'[1]EVALUACION CON CONTROLES'!L23 -> no | T16: =+'[1]EVALUACION CON CONTROLES'!M23 -> contratista y supervisor del contrato | U16: =+'[1]EVALUACION CON CONTROLES'!N23 -> desde el inicio del contrato | V16: =+'[1]EVALUACION CON CONTROLES'!O23 -> Liquidación y entrega a satisfacción del contrato | ... X16: =+'[1]EVALUACION CON CONTROLES'!Q23 -> mensual
B17: 7 | C17: =+EVALUACIÓN!C22 -> No pago de la Factura presentanda por el Contratista por la no progrmacion en el PAC, retrasos en la correcta ejecución del contrato | D17: =+'[1]EVALUACION CON CONTROLES'!A24 -> EJECUCIÓN | E17: =VLOOKUP(C17,'[1]IDENTIFICACION Y ANALISIS'!$B$19:$F$67,3,FALSE) -> General | F17: =VLOOKUP(C17,'[1]IDENTIFICACION Y ANALISIS'!$B$19:$F$67,4,FALSE) -> Interno | G17: =+EVALUACIÓN!H22 -> Demoras en la ejecución de las fases del contrato | H17: =+[1]EVALUACION!I24 -> 1 | I17: =+[1]EVALUACION!J24 -> 1 | J17: =+[1]EVALUACION!K24 -> 2 | K17: =+[1]EVALUACION!L24 -> BAJO | L17: FDL | M17: 1 | N17: =+'[1]EVALUACION CON CONTROLES'!F24 -> Constante revisión de la programación del PAC, ejecución contractual y comunicación fluida con el contratista | O17: =+'[1]EVALUACION CON CONTROLES'!H24 -> 1 | P17: =+'[1]EVALUACION CON CONTROLES'!I24 -> 1 | Q17: =+'[1]EVALUACION CON CONTROLES'!J24 -> 2 | R17: =+'[1]EVALUACION CON CONTROLES'!K24 -> BAJO | S17: =+'[1]EVALUACION CON CONTROLES'!L24 -> no | T17: =+'[1]EVALUACION CON CONTROLES'!M24 -> A traves del Supervisor designado por la entidad quien tiene la responsabilidad de solicitar la asignacion en el PAC | U17: =+'[1]EVALUACION CON CONTROLES'!N24 -> desde el inicio del contrato | V17: =+'[1]EVALUACION CON CONTROLES'!O24 -> Liquidación y entrega a satisfacción del contrato | ... X17: =+'[1]EVALUACION CON CONTROLES'!Q24 -> Permanente
B18: 8 | C18: =+EVALUACIÓN!C23 -> Retrasos o incumplimientos en la entrega de los informes / productos entregables a cargo del contratista | D18: =+'[1]EVALUACION CON CONTROLES'!A25 -> EJECUCIÓN | E18: =VLOOKUP(C18,'[1]IDENTIFICACION Y ANALISIS'!$B$19:$F$67,3,FALSE) -> General | F18: =VLOOKUP(C18,'[1]IDENTIFICACION Y ANALISIS'!$B$19:$F$67,4,FALSE) -> Externo | G18: =+EVALUACIÓN!H23 -> Posible incumplimiento en las obligaciones especificas del contratista. | H18: =+[1]EVALUACION!I25 -> 2 | I18: =+[1]EVALUACION!J25 -> 3 | J18: =+[1]EVALUACION!K25 -> 5 | K18: =+[1]EVALUACION!L25 -> MEDIO | L18: CONTRATISTA | M18: 1 | N18: =+'[1]EVALUACION CON CONTROLES'!F25 -> Revisión, aprobación oportuna de los entregables de acuerdo a cada fase y requerimientos constantes al contratista | O18: =+'[1]EVALUACION CON CONTROLES'!H25 -> 2 | P18: =+'[1]EVALUACION CON CONTROLES'!I25 -> 3 | Q18: =+'[1]EVALUACION CON CONTROLES'!J25 -> 5 | R18: =+'[1]EVALUACION CON CONTROLES'!K25 -> MEDIO | S18: =+'[1]EVALUACION CON CONTROLES'!L25 -> no | T18: =+'[1]EVALUACION CON CONTROLES'!M25 -> supervisor del contrato | U18: =+'[1]EVALUACION CON CONTROLES'!N25 -> desde el inicio del contrato | V18: =+'[1]EVALUACION CON CONTROLES'!O25 -> Liquidación y entrega a satisfacción del contrato | ... X18: =+'[1]EVALUACION CON CONTROLES'!Q25 -> mensual
B19: 9 | C19: =+EVALUACIÓN!C24 -> Medidas de confinamiento, limitación de movilización de la comunidad y aislamientos preventivos obligatorios resultado de las medidas implementadas en cualquier PANDEMIA | D19: =+'[1]EVALUACION CON CONTROLES'!A26 -> EJECUCIÓN | E19: =VLOOKUP(C19,'[1]IDENTIFICACION Y ANALISIS'!$B$19:$F$67,3,FALSE) -> General | F19: =VLOOKUP(C19,'[1]IDENTIFICACION Y ANALISIS'!$B$19:$F$67,4,FALSE) -> Externo | G19: =+EVALUACIÓN!H24 -> Retrasos en la ejeución del contrato. | H19: =+[1]EVALUACION!I26 -> 3 | I19: =+[1]EVALUACION!J26 -> 2 | J19: =+[1]EVALUACION!K26 -> 5 | K19: =+[1]EVALUACION!L26 -> MEDIO | L19: CONTRATISTA Y FDL | M19: 50% y 50% | N19: =+'[1]EVALUACION CON CONTROLES'!F26 -> Modificacion de cronogramas de acuerdo con las medidas que lleguen a implentarse | O19: =+'[1]EVALUACION CON CONTROLES'!H26 -> 3 | P19: =+'[1]EVALUACION CON CONTROLES'!I26 -> 2 | Q19: =+'[1]EVALUACION CON CONTROLES'!J26 -> 5 | R19: =+'[1]EVALUACION CON CONTROLES'!K26 -> MEDIO | S19: =+'[1]EVALUACION CON CONTROLES'!L26 -> no | T19: =+'[1]EVALUACION CON CONTROLES'!M26 -> supervisor del contrato y contratista | U19: =+'[1]EVALUACION CON CONTROLES'!N26 -> desde el inicio del contrato | V19: =+'[1]EVALUACION CON CONTROLES'!O26 -> Liquidación y entrega a satisfacción del contrato | ... X19: =+'[1]EVALUACION CON CONTROLES'!Q26 -> Permanente
B20: 10 | C20: =+EVALUACIÓN!C25 -> No ejecutar cada una de las fases del contrato conforme lo establecido en el anexo técnico. | D20: =+'[1]EVALUACION CON CONTROLES'!A27 -> EJECUCIÓN | E20: General | F20: Interno | G20: =+EVALUACIÓN!H25 -> Retrasos en la ejeución del contrato y posible incumplimiento. | H20: =+[1]EVALUACION!I27 -> 4 | I20: =+[1]EVALUACION!J27 -> 4 | J20: =+[1]EVALUACION!K27 -> 8 | K20: =+[1]EVALUACION!L27 -> EXTREMO | L20: CONTRATISTA | M20: 1 | N20: =+'[1]EVALUACION CON CONTROLES'!F27 -> Seguimiento continuo por tematica definida, registro de actas de asistencia y supervisión constante por la entidad | O20: =+'[1]EVALUACION CON CONTROLES'!H27 -> 4 | P20: =+'[1]EVALUACION CON CONTROLES'!I27 -> 4 | Q20: =+'[1]EVALUACION CON CONTROLES'!J27 -> 8 | R20: =+'[1]EVALUACION CON CONTROLES'!K27 -> EXTREMO | S20: =+'[1]EVALUACION CON CONTROLES'!L27 -> no | T20: =+'[1]EVALUACION CON CONTROLES'!M27 -> supervisor del contrato y contratista | U20: =+'[1]EVALUACION CON CONTROLES'!N27 -> desde el inicio del contrato | V20: =+'[1]EVALUACION CON CONTROLES'!O27 -> Liquidación y entrega a satisfacción del contrato | ... X20: =+'[1]EVALUACION CON CONTROLES'!Q27 -> Permanente
B21: 11 | C21: =+EVALUACIÓN!C26 -> No contar con la disponibilidad de los espacios por parte del contratista para las fases del contrato establecidas en el anexo técnico. | D21: =+'[1]EVALUACION CON CONTROLES'!A30 -> EJECUCIÓN | E21: General | F21: Interno | G21: =+EVALUACIÓN!H26 -> Retrasos en la ejeución del contrato y posible incumplimiento. | H21: =+[1]EVALUACION!I30 -> 3 | I21: =+[1]EVALUACION!J30 -> 4 | J21: =+[1]EVALUACION!K30 -> 7 | K21: =+[1]EVALUACION!L30 -> ALTO | L21: CONTRATISTA | M21: 1 | N21: =+'[1]EVALUACION CON CONTROLES'!F30 -> Seguimiento continuo por parte del Supervisor designado | O21: =+'[1]EVALUACION CON CONTROLES'!H30 -> 3 | P21: =+'[1]EVALUACION CON CONTROLES'!I30 -> 4 | Q21: =+'[1]EVALUACION CON CONTROLES'!J30 -> 7 | R21: =+'[1]EVALUACION CON CONTROLES'!K30 -> ALTO | S21: =+'[1]EVALUACION CON CONTROLES'!L30 -> no | T21: =+'[1]EVALUACION CON CONTROLES'!M30 -> supervisor del contrato | U21: =+'[1]EVALUACION CON CONTROLES'!N30 -> desde el inicio del contrato | V21: =+'[1]EVALUACION CON CONTROLES'!O30 -> Liquidación y entrega a satisfacción del contrato | ... X21: =+'[1]EVALUACION CON CONTROLES'!Q30 -> Permanente
B22: 12 | C22: =+EVALUACIÓN!C27 -> Mala o baja calidad en la ejecución del programa de formación, con ineficiencia en el material y metodología de enseñanza ofrecido. | D22: =+'[1]EVALUACION CON CONTROLES'!A31 -> EJECUCIÓN | E22: =VLOOKUP(C22,'[1]IDENTIFICACION Y ANALISIS'!$B$19:$F$67,3,FALSE) -> Especifico | F22: =VLOOKUP(C22,'[1]IDENTIFICACION Y ANALISIS'!$B$19:$F$67,4,FALSE) -> Externo | G22: =+EVALUACIÓN!H27 -> Retrasos en la ejeución del contrato y posible incumplimiento. | H22: =+[1]EVALUACION!I31 -> 3 | I22: =+[1]EVALUACION!J31 -> 5 | J22: =+[1]EVALUACION!K31 -> 8 | K22: =+[1]EVALUACION!L31 -> EXTREMO | L22: CONTRATISTA | M22: 1 | N22: =+'[1]EVALUACION CON CONTROLES'!F31 -> Seguimiento continuo por parte del Supervisor designado | O22: =+'[1]EVALUACION CON CONTROLES'!H31 -> 3 | P22: =+'[1]EVALUACION CON CONTROLES'!I31 -> 5 | Q22: =+'[1]EVALUACION CON CONTROLES'!J31 -> 8 | R22: =+'[1]EVALUACION CON CONTROLES'!K31 -> EXTREMO | S22: =+'[1]EVALUACION CON CONTROLES'!L31 -> no | T22: =+'[1]EVALUACION CON CONTROLES'!M31 -> supervisor del contrato | U22: =+'[1]EVALUACION CON CONTROLES'!N31 -> desde el inicio del contrato | V22: =+'[1]EVALUACION CON CONTROLES'!O31 -> Liquidación y entrega a satisfacción del contrato | ... X22: =+'[1]EVALUACION CON CONTROLES'!Q31 -> Permanente
B23: 13 | C23: =+EVALUACIÓN!C28 -> Afectar la integridad, disponibilidad y /o confiabilidad de la informacion de los beneficiarios | D23: =+'[1]EVALUACION CON CONTROLES'!A33 -> EJECUCIÓN | E23: =VLOOKUP(C23,'[1]IDENTIFICACION Y ANALISIS'!$B$19:$F$67,3,FALSE) -> Especifico | F23: =VLOOKUP(C23,'[1]IDENTIFICACION Y ANALISIS'!$B$19:$F$67,4,FALSE) -> Externo | G23: =+EVALUACIÓN!H28 -> Divulgación de información sensible de los beneficiarios | H23: =+[1]EVALUACION!I33 -> 3 | I23: =+[1]EVALUACION!J33 -> 2 | J23: =+[1]EVALUACION!K33 -> 5 | K23: =+[1]EVALUACION!L33 -> MEDIO | L23: CONTRATISTA | M23: 1 | N23: =+'[1]EVALUACION CON CONTROLES'!F33 -> De conformidad con lo establecido en las obligaciones generales del contratista, éste se compromete a guardar total reserva de la información de acuerdo a la Ley de Habeas Data | O23: =+'[1]EVALUACION CON CONTROLES'!H33 -> 3 | P23: =+'[1]EVALUACION CON CONTROLES'!I33 -> 2 | Q23: =+'[1]EVALUACION CON CONTROLES'!J33 -> 5 | R23: =+'[1]EVALUACION CON CONTROLES'!K33 -> MEDIO | S23: =+'[1]EVALUACION CON CONTROLES'!L33 -> no | T23: =+'[1]EVALUACION CON CONTROLES'!M33 -> supervisor del contrato | U23: =+'[1]EVALUACION CON CONTROLES'!N33 -> desde el inicio del contrato | V23: =+'[1]EVALUACION CON CONTROLES'!O33 -> Liquidación y entrega a satisfacción del contrato | ... X23: =+'[1]EVALUACION CON CONTROLES'!Q33 -> mensual
B24: 20 | C24: =+[1]EVALUACION!C34 -> 0 | D24: =+'[1]EVALUACION CON CONTROLES'!A34 -> 0 | E24: =VLOOKUP(C24,'[1]IDENTIFICACION Y ANALISIS'!$B$19:$F$67,3,FALSE) -> #N/A | F24: =VLOOKUP(C24,'[1]IDENTIFICACION Y ANALISIS'!$B$19:$F$67,4,FALSE) -> #N/A | G24: =+[1]EVALUACION!H34 -> 0 | H24: =+[1]EVALUACION!I34 -> 0 | I24: =+[1]EVALUACION!J34 -> 0 | J24: =+[1]EVALUACION!K34 -> 0 | K24: =+[1]EVALUACION!L34 -> BAJO | N24: =+'[1]EVALUACION CON CONTROLES'!F34 -> 0 | O24: =+'[1]EVALUACION CON CONTROLES'!H34 -> 0 | P24: =+'[1]EVALUACION CON CONTROLES'!I34 -> 0 | Q24: =+'[1]EVALUACION CON CONTROLES'!J34 -> 0 | R24: =+'[1]EVALUACION CON CONTROLES'!K34 -> BAJO | S24: =+'[1]EVALUACION CON CONTROLES'!L34 -> 0 | T24: =+'[1]EVALUACION CON CONTROLES'!M34 -> 0 | U24: =+'[1]EVALUACION CON CONTROLES'!N34 -> 0 | V24: =+'[1]EVALUACION CON CONTROLES'!O34 -> 0 | ... X24: =+'[1]EVALUACION CON CONTROLES'!Q34 -> 0
F26: Categoria | J26: Impacto del Riesgo
E27: Probabilidad | F27: Catagoria | G27: Valoración | J27: Categoria | L27: Valoración
F28: Raro (puede ocurrir excepcionalmente) | G28: 1 | J28: Insignificante | L28: 1
F29: Improbable (puede ocurrir ocasionalmente) | G29: 2 | J29: Menor | L29: 2
F30: Posible (puede ocurrir en cualquier momento futuro) | G30: 3 | J30: Moderado | L30: 3
F31: Probable (probablemente va a ocurrir) | G31: 4 | J31: Mayor | L31: 4
F32: Casi cierto (ocurre en la mayoria de circunstancias) | G32: 5 | J32: Catastrófico | L32: 5
D34: Valoración del Riesgo
D35: Catagoria | E35: Valoración | F35: Insignificante | H35: Menor | J35: Moderado | K35: Mayor | L35: Catastrófico | P35: Categoria del Riesgo
F36: 1 | H36: 2 | J36: 3 | K36: 4 | L36: 5 | P36: Valoración del Riesgo | S36: Categoría
D37: Raro (puede ocurrir excepcionalmente) | E37: 1 | F37: 2 | H37: 3 | J37: 4 | K37: 5 | L37: 6 | P37: 8, 9 y 10 | S37: Riesgo extremo
D38: Improbable (puede ocurrir ocasionalmente) | E38: 2 | F38: 3 | H38: 4 | J38: 5 | K38: 6 | L38: 7 | P38: 6 y 7 | S38: Riesgo alto
D39: Posible (puede ocurrir en cualquier momento futuro) | E39: 3 | F39: 4 | H39: 5 | J39: 6 | K39: 7 | L39: 8 | P39: 5 | S39: Riesgo medio
D40: Probable (probablemente va a ocurrir) | E40: 4 | F40: 5 | H40: 6 | J40: 7 | K40: 8 | L40: 9 | P40: 2, 3 y 4 | S40: Riesgo bajo
D41: Casi cierto (ocurre en la mayoria de circunstancias) | E41: 5 | F41: 6 | H41: 7 | J41: 8 | K41: 9 | L41: 10
B46: CONTRATISTA
B47: FDL
B48: CONTRATISTA Y FDL
