Workbook
Name contratación: 'IDENTIFICACION Y ANALISIS'!$B$42:$B$46
Name ejecución: 'IDENTIFICACION Y ANALISIS'!$B$57:$B$80
Name OPCIONES: 'ASIGNACION Y TRATAMIENTO'!$B$47:$B$49
Name planeación: 'IDENTIFICACION Y ANALISIS'!$B$19:$B$29
Name selección: 'IDENTIFICACION Y ANALISIS'!$B$33:$B$40

Sheet CONTEXTO
C2: MATRIZ DE RIESGOS EN CONTRATACIÓN | F2: Código: GCO-GCI-F164 Versión: 02 Vigencia: 01 de diciembre de 2022 Caso HOLA: 280117
B6: ESTABLECER EL CONTEXTO
B7: El punto inicial es identificar el contexto en el cual interactúa la Entidad Estatal para conocer el ambiente social, económico y político, e identificar (i) sus propios Riesgos; (ii) los Riesgos comunes a sus Procesos de Contratación; y (iii) los Riesgos del Proceso de Contratación en particular. (Aplica igual para contratos interadministrativos) En este paso la Entidad Estatal debe identificar los aspectos que se mencionan a continuación y los posibles efectos adversos que estos pueden generar.
B8: Objeto del Proceso de Contratación: “CONTRATAR EL SUMINISTRO A MONTO AGOTABLE DE COMBUSTIBLE (GASOLINA CORRIENTE Y DIÉSEL/ACPM) PARA LOS VEHÍCULOS QUE CONFORMAN EL PARQUE AUTOMOTOR DE PROPIEDAD Y AL SERVICIO DEL FONDO DE DESARROLLO LOCAL DE CHAPINERO”.
B9: Partícipes del Proceso de Contratación: Agentes externos (Organismos de control, veedurías ciudadanas, estaciones de servicio habilitadas), agentes internos (supervisor del contrato, funcionarios y conductores autorizados del parque automotor).
B10: Ciudadanía que se beneficia del Proceso de Contratación: Agentes internos (funcionarios y contratistas que requieren el uso del parque automotor para el cumplimiento de las funciones misionales) y externos (ciudadanía que recibe los servicios y programas que se apoyan en el desplazamiento del parque automotor del FDLCH)
B11: Capacidad de la Entidad Estatal entendida como la disponibilidad de recursos y conocimientos para el Proceso de Contratación: La disponibilidad de la Entidad de sus recursos y el conocimiento de su equipo humano se refleja en los diferentes funcionarios que participarán en las diversas etapas del proceso de selección: participan las áreas que requieren los procesos de contratación (Etapa de Planeación), Dirección de Contratación, Comité Evaluador (Etapa de selección), Dirección de Contratación (Etapa de contratación) y la supervisión y apoyos a la misma (Etapa de Ejecución).
B12: Suficiencia del presupuesto oficial del Proceso de Contratación: De acuerdo al Plan Anual de Adquisiciones se deben estimar los recursos necesarios para el desarrollo del proceso de la contratación, el cual tendrá el soporte presupuestal suficiente para su desarrollo. El contrato se estructura bajo la modalidad de monto agotable, por lo que las cantidades de combustible estimadas son referenciales y su suministro real dependerá de las necesidades efectivas del parque automotor del FDLCH durante la vigencia del contrato.
B13: Condiciones geográficas y de acceso del lugar en el cual se debe cumplir el objeto del Proceso de Contratación: El suministro de combustible se prestará en las estaciones de servicio habilitadas por el contratista dentro de Bogotá D.C., con cobertura que permita el fácil acceso de los vehículos del parque automotor del FDLCH, o mediante el mecanismo de suministro que se establezca en los estudios previos del proceso (tarjetas, vales o similares).
B14: Entorno socio ambiental: Entorno institucional, administrativo y territorial de la Alcaldía Local de Chapinero
B15: Condiciones políticas: No se identifican condiciones políticas particulares que afecten el desarrollo del objeto contractual.
B16: Factores ambientales: La Entidad desarrolla los lineamientos sectoriales contenidos en el Plan Institucional de Gestión Ambiental-PIGA, que se concreta a través de los programas de gestión de agua, energía, residuos, prácticas ambientales y consumo sostenible. Adicionalmente, por tratarse del suministro de combustibles fósiles, el contratista deberá dar cumplimiento a la normatividad ambiental vigente sobre almacenamiento, manejo y expendio de combustibles líquidos, así como a los protocolos de prevención de derrames y contaminación ambiental exigidos por la autoridad competente.
B17: Sector del objeto del Proceso de Contratación y su mercado: Empresas distribuidoras y comercializadoras de combustibles líquidos derivados del petróleo (gasolina corriente y diésel/ACPM), propietarias u operadoras de estaciones de servicio habilitadas por el Ministerio de Minas y Energía, con capacidad de atender el suministro a entidades públicas bajo la modalidad de monto agotable.
... B19: Experiencia propia y de otras Entidades Estatales en Procesos de Contratación del mismo tipo. Procesos contractuales adelantados por entidades estatales cuyo objeto haya estado relacionado con el suministro de combustibles (gasolina corriente y diésel/ACPM) para el parque automotor institucional, bajo la modalidad de monto agotable, información que fue verificada a través del Estudio del Sector y el registro histórico de procesos similares adelantados en el SECOP II.

Sheet IDENTIFICACION Y ANALISIS
C2: MATRIZ DE RIESGOS DE CONTRATACIÓN | F2: Código: GCO-GCI-F164 Versión: 02 Vigencia: 01 de diciembre de 2022 Caso HOLA: 280117
B6: DEFINICIONES
B7: RIESGO: Evento que puede generar efectos adversos y de distinta magnitud en el logro de los objetivos del Proceso de Contratación o en la ejecución de un contrato RIESGOS PREVISIBLES: Son los posibles hechos o circunstancias que por la naturaleza del contrato y de la actividad a ejecutar es factible su ocurrencia. ETAPA DE PLANEACIÓN: Está comprendida desde el momento en que se identifican las necesidades que debe satisfacer la Secretaría Distrital de Gobierno y los Fondos de Desarrollo Local, a través del abastecimiento de bienes, obras o servicios, la elaboración del Plan Anual de Adquisiciones y la estructuración de los documentos y estudios previos. ETAPA DE SELECCIÓN: Está comprendida entre el acto de Apertura del Proceso de Contratación y la Adjudicación o la declaración de desierto del Proceso de Contratación ETAPA DE CONTRATACIÓN: Una vez adjudicado el contrato objeto del Proceso de Contratación, inicia la etapa para la celebración del contrato y el cumplimiento de los requisitos para de perfeccionamiento y ejecución. ETAPA DE EJECUCIÓN: Inicia una vez cumplidos los requisitos previstos para iniciar la ejecución del contrato respectivo y termina con el vencimiento del plazo del contrato o la fecha de liquidación si hay lugar a ella. RIESGO GENERAL: Es un riesgo de todos los procesos de contratación adelantados por la Entidad Estatal, por lo cual está presente en toda su actividad contractual. RIEGO ESPECIFICO: Es un riesgo propio del proceso de contratación objeto de análisis. RIESGOS ECONÓMICOS: Son los derivados del comportamiento del mercado, tales como la fluctuación de los precios de los insumos, desabastecimiento y especulación de los mismos, entre otros. RIESGOS SOCIALES O POLÍTICOS: son los derivados de los cambios de las políticas gubernamentales y de cambios en las condiciones sociales que tengan impacto en la ejecución del contrato. RIESGOS OPERACIONALES: Son los asociados a la operatividad del contrato, tales como la suficiencia del presupuesto oficial, del plazo o los derivados de procesos, procedimientos, parámetros, sistemas de información y tecnológicos, equipos humanos o técnicos inadecuados o insuficientes. RIESGOS FINANCIEROS: Son (i) el riesgo de consecución de financiación o riesgo de liquidez para obtener recursos para cumplir con el objeto del contrato, y (ii) el riesgo de las condiciones financieras establecidas para la obtención de los recursos, tales como plazos, tasas, garantías, contragarantías, y refinanciaciones, entre otros. RIESGOS REGULATORIOS: Derivados de cambios regulatorios o reglamentarios que afecten la ecuación económica del contrato. RIESGOS DE LA NATURALEZA: Son los eventos naturales previsibles en los cuales no hay intervención humana que puedan tener impacto en la ejecución del contrato, por ejemplo los temblores, inundaciones, lluvias, sequías, entre otros. RIESGOS AMBIENTALES: Son los derivados de las obligaciones legales o reglamentarias de carácter ambiental, así como de las licencias, planes de manejo o de permisos y autorizaciones ambientales, incluyendo tasas retributivas y compensatorias, obligaciones de mitigación, tareas de monitoreo y control, entre otras. RIESGOS TECNOLÓGICOS: Son los derivados de fallas en los sistemas de comunicación de voz y de datos, suspensión de servicios públicos, nuevos desarrollos tecnológicos o estándares que deben ser tenidos en cuenta para la ejecución del contrato, obsolescencia tecnológica.
B15: INSTRUCCIONES PARA LA IDENTIFICACIÓN, ANALISIS, EVALUACIÓN , ASIGNACIÓN Y TRATAMIENTO DE RIESGOS EN LA CONTRATACIÓN
B16: 1) Identifique los riesgos previsibles que le apliquen al objeto contractual que se adelante. Los relacionados a continuación se establecen de manera general y como proforma. No obstante, si del objeto contractual se identifican otros riesgos diferentes a los aquí determinados, por favor reemplace el texto de la casilla teniendo en cuenta la etapa del proceso. Así mismo, seleccione la clase, fuente y el tipo (Operacional, Económico, Sociales o Políticos, Regulatorios, Financieros, Tecnológicos, De la naturaleza, Ambientales) 2) Continúe en la hoja de "EVALUACIÓN" (SI EXISTEN DUDAS CONCEPTUALES PARA LA ELABORACIÓN DE LA MATRIZ DE RIESGO CONSULTE EL MANUAL PARA LA IDENTIFICACIÓN Y COBERTURA DEL RIESGO EN LOS PROCESOS DE CONTRATACIÓN EXPEDIDO POR COLOMBIA COMPRA EFICIENTE Y LA GUÍA DE RIESGOS PREVISIBLES CONTRACTUALES, EXPEDIDA POR LA VEEDURÍA DISTRITAL)
C17: ETAPAS | D17: CLASE | E17: FUENTE | F17: TIPO
C18: PLANEACIÓN
B19: Inadecuada escogencia de la modalidad de contratación | F19: Operacionales
B20: Requisitos habilitantes inapropiados para el proceso de selección | F20: Operacionales
B21: Inadecuado análisis económico estimativo del valor del contrato | F21: Económicos
B22: Inadecuada descripción del bien o servicio requerido | F22: Operacionales
B23: Inadecuada elaboración de estudios y diseños | F23: Operacionales
B24: Requisitos habilitantes que impidan la selección objetiva | F24: Operacionales
B25: Falta de profundidad en el estudio de sector no identificándose claramente aspectos de oferta y demanda | F25: Económicos
B26: Ausencia de fundamentación de la justificación y conveniencia de la contratación | F26: Operacionales
B27: Inadecuada identificación de las condiciones contractuales | F27: Operacionales
B28: No aprobación o demoras en la expedición vigencias futuras | F28: Operacionales
B29: Apertura de procesos sin disponibilidad presupuestal | F29: Operacionales
B30: Errores en la formulación o los documentos del proceso por equivocación, falta de exactitud o imprecisión de la información | D30: General | E30: Interno | F30: Operacionales
B31: Apertura de procesos de contratación sin la correspondiente disponibilidad presupuestal impidiendo el cumplimiento de los compromisos adquiridos, generando problemas financieros y legales, asegurando que exista un presupuesto adecuado antes de iniciar cualquier proceso de contratación. | D31: General | E31: Interno | F31: Operacionales
C32: SELECCIÓN
B33: Inadecuada evaluación de las ofertas y/o verificación de requisitos habilitantes | F33: Operacionales
B34: Inadecuado manejo administrativo del proceso contractual | F34: Operacionales
B35: Falta de claridad en la elaboración de los actos administrativos | F35: Operacionales
B36: Contestación inoportuna a todas las observaciones formuladas a los documentos de la contratación | F36: Operacionales
B37: No publicación de la documentación del proceso de selección en el SECOP | F37: Operacionales
B38: Confabulación de los proponentes (Colusión) | D38: General | E38: Externo | F38: Operacionales
B39: Selección de ofertas con precios artificialmente bajos. | D39: General | E39: Externo | F39: Operacionales
B40: Declaratoria Desierta del Proceso de Contratación, por que los oferentes no cumplen la totalidad de Requisitos Habilitantes o por encontrarse incursos en alguna inhabilidad o incompatibilidad | D40: General | E40: Externo | F40: Operacionales
B41: Adjudicar el contrato a un proponente que no cuente con la capacidad de infraestructura (estaciones de servicio habilitadas) suficiente para garantizar el suministro de combustible requerido por el parque automotor del FDLCH. | C41: CONTRATACIÓN | D41: Especifico | E41: Interno | F41: Operacionales
B42: Riesgo de que no se firme el contrato. | D42: General | E42: Externo | F42: Operacionales
B43: Falta de constitución o constitución tardía de la garantía única. Aceptación de garantías que no se ajustan a lo contemplado en el contrato | D43: General | E43: Interno | F43: Operacionales
B44: Falta de solicitud o solicitud tardía del registro presupuestal | D44: General | E44: Interno | F44: Operacionales
B45: No publicación de la documentación del proceso de selección en el SECOP | D45: General | E45: Externo | F45: Operacionales
B46: Presentación de reclamos de terceros sobre la selección del oferente que retrasen el perfeccionamiento del contrato. | D46: General | E46: Externo | F46: Operacionales
C47: EJECUCIÓN
B48: El equipo humano seleccionado no cumple con las capacidades requeridas para el cumplimiento del contrato | D48: General | E48: Interno | F48: Operacionales
B49: Incremento de los precios, debido a la fluctuación del dólar (TRM). | D49: General | E49: Externo | F49: Económicos
B50: Afectación del flujo de caja del contratista como consecuencia de no radicar de forma oportuna, completa y con aval de supervisión, los informes o presentarlos sin atender las fechas de programación del Plan Anual Mensualizado de Caja PAC, que señale la entidad contratante. | D50: General | E50: Externo | F50: Económicos
B51: Ejecución en tiempos distintos a los inicialmente programados por circunstancias no imputables a las partes. | D51: Especifico | E51: Interno | F51: Operacionales
...

Sheet EVALUACION
C2: MATRIZ DE RIESGOS DE CONTRATACIÓN | K2: Código: GCO-GCI-F164 Versión: 02 Vigencia: 01 de diciembre de 2022 Caso HOLA: 280117
B6: =CONTEXTO!B8 -> Objeto del Proceso de Contratación: “CONTRATAR EL SUMINISTRO A MONTO AGOTABLE DE COMBUSTIBLE (GASOLINA CORRIENTE Y DIÉSEL/ACPM) PARA LOS VEHÍCULOS QUE CONFORMAN EL PARQUE AUTOMOTOR DE PROPIEDAD Y AL SERVICIO DEL FONDO DE DESARROLLO LOCAL DE CHAPINERO”.
B7: INSTRUCCIONES PARA LA IDENTIFICACIÓN, ANALISIS, EVALUACIÓN , ASIGNACIÓN Y TRATAMIENTO DE RIESGOS EN LA CONTRATACIÓN
B8: 1) Diligencie el objeto contractual y seleccione la(s) etapas y los riesgos que aplican al objeto contractual, de acuerdo a lo definido en la hoja de "IDENTIFICACIÓN Y ANÁLISIS"
B9: 2) Describa las consecuencias de la ocurrencia del Riesgo/evento.
B10: 3) Asigne la probabilidad de ocurrencia del riesgo, de conformidad con la tabla de probabilidad y la valoración del riesgo (Cualitativa o Monetaria)
B11: 4) Asigne el impacto que generaría la materialización del riesgo, de conformidad con la tabla de impacto y la valoración del riesgo (Cualitativa o Monetaria)
B12: 5) Al realizar las anteriores actividades se obtendrá la calificación total y la valoración del riesgo (prioridad).
B13: 6) Continúe en la hoja de "EVALUACIÓN DE CONTROLES"
B15: CALIFICACIÓN | H15: Cualitativa
B16: ETAPA | C16: Descripción (Que puede pasar y, cómo puede ocurrir) | H16: Consecuencias de la ocurrencia del evento | I16: Probabilidad de Ocurrencia | J16: Impacto | K16: Calificación Total | L16: Prioridad
B17: PLANEACIÓN | C17: Errores en la formulación o los documentos del proceso por equivocación, falta de exactitud o imprecisión de la información | H17: incumplimiento del contrato, necesidades de modificación en sus alcances, actividades, presupuesto, etc. | I17: 2 | J17: 2 | K17: =I17+J17 -> 4 | L17: =IF(K17<=4,"BAJO",IF(K17=5,"MEDIO",IF(K17=6,"ALTO",IF(K17=7,"ALTO","EXTREMO")))) -> BAJO
B18: PLANEACIÓN | C18: Apertura de procesos de contratación sin la correspondiente disponibilidad presupuestal impidiendo el cumplimiento de los compromisos adquiridos, generando problemas financieros y legales, asegurando que exista un presupuesto adecuado antes de iniciar cualquier proceso de contratación. | H18: a) Pérdida de Tiempo b) Necesidad de iniciar un nuevo proceso contractual c) No se puede satisfacer la necesidad de la entidad | I18: 2 | J18: 3 | K18: =+I18+J18 -> 5 | L18: =IF(K18<=4,"BAJO",IF(K18=5,"MEDIO",IF(K18=6,"ALTO",IF(K18=7,"ALTO","EXTREMO")))) -> MEDIO
B19: SELECCIÓN | C19: Confabulación de los proponentes (Colusión) | H19: Investigaciones disciplinarias, penales y fiscales, restricción a la libre concurrencia de oferentes y posible declaratoria de nulidad del proceso de selección. | I19: 2 | J19: 4 | K19: =+I19+J19 -> 6 | L19: =IF(K19<=4,"BAJO",IF(K19=5,"MEDIO",IF(K19=6,"ALTO",IF(K19=7,"ALTO","EXTREMO")))) -> ALTO
B20: SELECCIÓN | C20: Selección de ofertas con precios artificialmente bajos. | H20: a) No se puede satisfacer la necesidad de la Entidad, b) Se adjudica el proceso a un contratista que ofreció precios artíficamente bajos poniendo en riesgo la ejecución contractual. | I20: 2 | J20: 4 | K20: =+I20+J20 -> 6 | L20: =IF(K20<=4,"BAJO",IF(K20=5,"MEDIO",IF(K20=6,"ALTO",IF(K20=7,"ALTO","EXTREMO")))) -> ALTO
B21: CONTRATACIÓN | C21: Riesgo de que no se firme el contrato. | H21: Incumplimiento en la atención de la necesidad que da origen al proceso contractual y a la meta a atender. | I21: 1 | J21: 3 | K21: =+I21+J21 -> 4 | L21: =IF(K21<=4,"BAJO",IF(K21=5,"MEDIO",IF(K21=6,"ALTO",IF(K21=7,"ALTO","EXTREMO")))) -> BAJO
B22: CONTRATACIÓN | C22: Falta de constitución o constitución tardía de la garantía única. Aceptación de garantías que no se ajustan a lo contemplado en el contrato | H22: Incumplimiento en la atención de la necesidad que da origen al proceso contractual y a la meta a atender o el detrimento patrimonial del FDLCH. | I22: 2 | J22: 3 | K22: =+I22+J22 -> 5 | L22: =IF(K22<=4,"BAJO",IF(K22=5,"MEDIO",IF(K22=6,"ALTO",IF(K22=7,"ALTO","EXTREMO")))) -> MEDIO
B23: CONTRATACIÓN | C23: Falta de solicitud o solicitud tardía del registro presupuestal | H23: Pérdida de tiempo por la necesidad de generar el registro presupuestal, sin que sea atendida la necesidad de la entidad. Cancelación del proceso contractual. | I23: 2 | J23: 3 | K23: =+I23+J23 -> 5 | L23: =IF(K23<=4,"BAJO",IF(K23=5,"MEDIO",IF(K23=6,"ALTO",IF(K23=7,"ALTO","EXTREMO")))) -> MEDIO
B24: CONTRATACIÓN | C24: Adjudicar el contrato a un proponente que no cuente con la capacidad de infraestructura (estaciones de servicio habilitadas) suficiente para garantizar el suministro de combustible requerido por el parque automotor del FDLCH. | H24: No se satisface la necesidad de suministro de combustible del parque automotor, afectando la operación misional de la Entidad. | I24: 2 | J24: 3 | K24: =+I24+J24 -> 5 | L24: =IF(K24<=4,"BAJO",IF(K24=5,"MEDIO",IF(K24=6,"ALTO",IF(K24=7,"ALTO","EXTREMO")))) -> MEDIO
B25: CONTRATACIÓN | C25: Presentación de reclamos de terceros sobre la selección del oferente que retrasen el perfeccionamiento del contrato. | H25: Demora en la ejecución contractual. Riesgo de suspensión de proceso contractual. | I25: 2 | J25: 3 | K25: =+I25+J25 -> 5 | L25: =IF(K25<=4,"BAJO",IF(K25=5,"MEDIO",IF(K25=6,"ALTO",IF(K25=7,"ALTO","EXTREMO")))) -> MEDIO
B26: EJECUCIÓN | C26: El contratista no realiza el suministro de combustible en las condiciones técnicas y de calidad establecidas | H26: Afecta la ejecución y el cumplimiento del suministro de combustible, no ejecución contractual, y posible afectación de los vehículos del parque automotor. | I26: 3 | J26: 5 | K26: =+I26+J26 -> 8 | L26: =IF(K26<=4,"BAJO",IF(K26=5,"MEDIO",IF(K26=6,"ALTO",IF(K26=7,"ALTO","EXTREMO")))) -> EXTREMO
B27: EJECUCIÓN | C27: Cambio en la regulación normativa para el suministro y precio de los combustibles | H27: Costos adicionales por cambios en las regulaciones para el suministro de combustible que afecten la estructura de costos del contrato. | I27: 1 | J27: 4 | K27: =+I27+J27 -> 5 | L27: =IF(K27<=4,"BAJO",IF(K27=5,"MEDIO",IF(K27=6,"ALTO",IF(K27=7,"ALTO","EXTREMO")))) -> MEDIO
B28: EJECUCIÓN | C28: Interrupción de la ejecución del contrato debido a desastres naturales que afecten el suministro de combustible | H28: Demoras o retardos en la ejecución del contrato, o interrupción del suministro de combustible al parque automotor. | I28: 1 | J28: 4 | K28: =+I28+J28 -> 5 | L28: =IF(K28<=4,"BAJO",IF(K28=5,"MEDIO",IF(K28=6,"ALTO",IF(K28=7,"ALTO","EXTREMO")))) -> MEDIO
B29: EJECUCIÓN | C29: Interrupción del suministro de combustible debido a huelgas, paros o alteraciones del orden público que afecten las estaciones de servicio | H29: Cierre o bloqueo de las estaciones de servicio, impidiendo el suministro oportuno de combustible al parque automotor de la Entidad. | I29: 2 | J29: 4 | K29: =+I29+J29 -> 6 | L29: =IF(K29<=4,"BAJO",IF(K29=5,"MEDIO",IF(K29=6,"ALTO",IF(K29=7,"ALTO","EXTREMO")))) -> ALTO
... B32: EJECUCIÓN | C32: Desabastecimiento de combustible en el mercado que afecte la capacidad del contratista de cumplir con el suministro | H32: Imposibilidad temporal de atender las necesidades de combustible del parque automotor por escasez generalizada en el mercado. | I32: 1 | J32: 3 | K32: =+I32+J32 -> 4 | L32: =IF(K32<=4,"BAJO",IF(K32=5,"MEDIO",IF(K32=6,"ALTO",IF(K32=7,"ALTO","EXTREMO")))) -> BAJO
B35: Probabilidad | C35: Categoría | E35: Valoración | G35: Impacto | H35: Categoría | I35: Valoración
C36: Raro (puede ocurrir excepcionalmente) | E36: 1 | H36: Insignificante | I36: 1
C37: Improbable (puede ocurrir ocasionalmente) | E37: 2 | H37: Menor | I37: 2
C38: Posible (puede ocurrir en cualquier momento futuro) | E38: 3 | H38: Moderado | I38: 3
C39: Probable (probablemente va a ocurrir) | E39: 4 | H39: Mayor | I39: 4
C40: Casi cierto (ocurre en la mayoría de circunstancias) | E40: 5 | H40: Catastrófico | I40: 5
C42: Valoración del Riesgo
C43: Calificación Cualitativa | F43: Obstruye la ejecución del contrato de manera intrascendente. | G43: Dificulta la ejecución del contrato de manera baja, aplicando medidas mínimas se pueden lograr el objeto contractual | H43: Afecta la ejecución del contrato sin alterar el beneficio para las partes | I43: Obstruye la ejecución del contrato sustancialmente pero aun así permite la consecución del objeto contractual | K43: Perturba la ejecución del contrato de manera grave imposibilitando la consecución del objeto contractual.
C44: Calificación Monetaria | F44: Los sobrecostos no representan más del uno por ciento (1%) del valor del contrato. | G44: Los sobrecostos no representan más del cinco por ciento (5%) del valor del contrato. | H44: Genera un impacto sobre el valor del contrato entre el cinco (5%) y el quince por ciento (15%). | I44: Incrementa el valor del contrato entre el quince (15%) y el treinta por ciento (30%). | K44: Impacto sobre el valor del contrato en más del treinta por ciento (30%).
C45: Categoría | E45: Valoración | F45: Insignificante | G45: Menor | H45: Moderado | I45: Mayor | K45: Catastrófico
F46: 1 | G46: 2 | H46: 3 | I46: 4 | K46: 5
C47: Raro (puede ocurrir excepcionalmente) | E47: 1 | F47: 2 | G47: 3 | H47: 4 | I47: 5 | K47: 6
C48: Improbable (puede ocurrir ocasionalmente) | E48: 2 | F48: 3 | G48: 4 | H48: 5 | I48: 6 | K48: 7
C49: Posible (puede ocurrir en cualquier momento futuro) | E49: 3 | F49: 4 | G49: 5 | H49: 6 | I49: 7 | K49: 8
C50: Probable (probablemente va a ocurrir) | E50: 4 | F50: 5 | G50: 6 | H50: 7 | I50: 8 | K50: 9
...

Sheet EVALUACION CON CONTROLES
C2: MATRIZ DE RIESGOS DE CONTRATACIÓN | Q2: Código: GCO-GCI-F164 Versión: 02 Vigencia: 01 de diciembre de 2022 Caso HOLA: 280117
B6: =+EVALUACION!B6 -> Objeto del Proceso de Contratación: “CONTRATAR EL SUMINISTRO A MONTO AGOTABLE DE COMBUSTIBLE (GASOLINA CORRIENTE Y DIÉSEL/ACPM) PARA LOS VEHÍCULOS QUE CONFORMAN EL PARQUE AUTOMOTOR DE PROPIEDAD Y AL SERVICIO DEL FONDO DE DESARROLLO LOCAL DE CHAPINERO”.
B7: INSTRUCCIONES PARA LA IDENTIFICACIÓN, ANALISIS, EVALUACIÓN , ASIGNACIÓN Y TRATAMIENTO DE RIESGOS EN LA CONTRATACIÓN
B8: 1) Describa el tratamiento/controles a ser implementados
B9: 2) Diligencie la información de las siguientes columnas, de acuerdo con el análisis realizado a cada riesgo: Afecta el equilibrio económico, persona responsable de implementar el tratamiento, fecha estimada de inicio del tratamiento, fecha estimada en la que se completa el tratamiento, cómo se realiza el monitoreo y la periodicidad.
B10: 3) Continúe en la hoja de "ASIGNACIÓN Y TRATAMIENTO" y diligencie las siguientes casillas: A quien se le asigna y el porcentaje que asume cada una de las partes en caso de que sea compartido.
B15: ETAPA | C15: Descripción (Que puede pasar y, cómo puede ocurrir) | G15: Tratamiento/Controles a ser implementados | I15: Probabilidad de Ocurrencia | J15: Impacto | K15: Calificación Total | L15: Prioridad | M15: ¿Afecta el equilibrio económico del contrato? | N15: Persona responsable por implementar el tratamiento | O15: Fecha estimada en que se inicia el tratamiento | P15: Fecha estimada en que se completa el tratamiento | Q15: ¿Cómo se realiza el monitoreo? | R15: Periodicidad ¿Cuándo?
B16: PLANEACIÓN | C16: =+EVALUACION!C17 -> Errores en la formulación o los documentos del proceso por equivocación, falta de exactitud o imprecisión de la información | G16: Verificación de los documentos del proceso en cada uno de sus componentes por parte de los profesionales y técnicos involucrados, con revisión previa por parte del líder del área solicitante antes de dar inicio al proceso. | I16: 1 | J16: 1 | K16: =+I16+J16 -> 2 | L16: =IF(K16<=4,"BAJO",IF(K16=5,"MEDIO",IF(K16=6,"ALTO",IF(K16=7,"ALTO","EXTREMO")))) -> BAJO | M16: SI | N16: FDLCH | O16: Posterior al proceso de planeación. | P16: Previo al proceso de contratación. | Q16: Generación de VoBo de área de contratación del FDLCH | R16: Inicio de tapa de contratación
B17: PLANEACIÓN | C17: =+EVALUACION!C18 -> Apertura de procesos de contratación sin la correspondiente disponibilidad presupuestal impidiendo el cumplimiento de los compromisos adquiridos, generando problemas financieros y legales, asegurando que exista un presupuesto adecuado antes de iniciar cualquier proceso de contratación. | G17: Verificación previa de la disponibilidad presupuestal por parte del área financiera del FDLCH, como requisito para la apertura del proceso de contratación. | I17: 1 | J17: 2 | K17: 3 | L17: =IF(K17<=4,"BAJO",IF(K17=5,"MEDIO",IF(K17=6,"ALTO",IF(K17=7,"ALTO","EXTREMO")))) -> BAJO | M17: SI | N17: FDLCH | O17: Posterior al proceso de planeación. | P17: Previo al proceso de contratación. | Q17: Mediante una revisión técnica, jurídica, económica financiera minuciosa de los documentos del proceso contractual espacio de presentación y retroalimentación de la propuesta con promotores de iniciativas y espacios de control social. | R17: Inicio de tapa de contratación
B18: SELECCIÓN | C18: =+EVALUACION!C19 -> Confabulación de los proponentes (Colusión) | G18: Revisión exhaustiva de la conformación de los proponentes y las propuestas presentadas para identificar prácticas colusorias; suscripción del compromiso anticorrupción por parte de los oferentes; y remisión a la Superintendencia de Industria y Comercio del material probatorio o indiciario que se recaude. | I18: 1 | J18: 3 | K18: =+I18+J18 -> 4 | L18: =IF(K18<=4,"BAJO",IF(K18=5,"MEDIO",IF(K18=6,"ALTO",IF(K18=7,"ALTO","EXTREMO")))) -> BAJO | M18: SI | N18: FDLCH | O18: Dentro del mismo tiempo de la afectación. | P18: Fecha en la que finaliza la etapa precontractual. | Q18: Generación de VoBo de área de Planeación del FDLCH | R18: SEMANAL
B19: CONTRATACIÓN | C19: =+EVALUACION!C20 -> Selección de ofertas con precios artificialmente bajos. | G19: Ante la evidencia de un precio artificialmente bajo, se requerirá al proponente su justificación y sustentación; de no acreditarse la coherencia del valor ofertado con las condiciones del mercado de combustibles, se procederá al rechazo de la oferta. | I19: 1 | J19: 2 | K19: =+I19+J19 -> 3 | L19: =IF(K19<=4,"BAJO",IF(K19=5,"MEDIO",IF(K19=6,"ALTO",IF(K19=7,"ALTO","EXTREMO")))) -> BAJO | M19: NO | N19: FDLCH | O19: Dentro del mismo tiempo de la afectación. | P19: Fecha en la que finaliza la etapa precontractual. | Q19: Generación de VoBo de área de Contratación del FDLCH | R19: SEMANAL
B20: CONTRATACIÓN | C20: =+EVALUACION!C21 -> Riesgo de que no se firme el contrato. | G20: Seguimiento por parte del área de contratación al cronograma de firma y legalización, con comunicación oportuna al adjudicatario de los plazos y requisitos para la suscripción del contrato. | I20: 1 | J20: 1 | K20: =+I20+J20 -> 2 | L20: =IF(K20<=4,"BAJO",IF(K20=5,"MEDIO",IF(K20=6,"ALTO",IF(K20=7,"ALTO","EXTREMO")))) -> BAJO | M20: SI | N20: FDLCH | O20: Posterior al proceso de selección. | P20: Previo al proceso de contratación. | Q20: Mediante una revisión técnica, jurídica, económica financiera minuciosa de los documentos del proceso contractual. | R20: Previo al acta de inicio
B21: CONTRATACIÓN | C21: =+EVALUACION!C22 -> Falta de constitución o constitución tardía de la garantía única. Aceptación de garantías que no se ajustan a lo contemplado en el contrato | G21: Verificación por parte del supervisor de la constitución y aprobación de las garantías dentro de los plazos y con los amparos exigidos en el contrato, antes del inicio de la ejecución. | I21: 1 | J21: 2 | K21: =+I21+J21 -> 3 | L21: =IF(K21<=4,"BAJO",IF(K21=5,"MEDIO",IF(K21=6,"ALTO",IF(K21=7,"ALTO","EXTREMO")))) -> BAJO | M21: SI | N21: FDLCH | O21: Posterior al proceso de contratación | P21: Previo al proceso de acta de inicio del contrato | Q21: Mediante una revisión jurídica, minuciosa de las garantías cargadas a SECOP II. | R21: Previo al inicio de tapa de contratación
B22: CONTRATACIÓN | C22: =+EVALUACION!C23 -> Falta de solicitud o solicitud tardía del registro presupuestal | G22: Firma del acta de inicio condicionada a la generación previa del registro presupuestal por parte del área financiera del FDLCH. | I22: 1 | J22: 1 | K22: =+I22+J22 -> 2 | L22: =IF(K22<=4,"BAJO",IF(K22=5,"MEDIO",IF(K22=6,"ALTO",IF(K22=7,"ALTO","EXTREMO")))) -> BAJO | M22: SI | N22: FDLCH | O22: Previo a la etapa de contratación. | P22: Previo al proceso de firma del contrato | Q22: Confirmación de existencia del registro presupuestal por parte del área contable del FDLCH. | R22: Previo al inicio de tapa de contratación
B23: CONTRATACIÓN | C23: =+EVALUACION!C24 -> Adjudicar el contrato a un proponente que no cuente con la capacidad de infraestructura (estaciones de servicio habilitadas) suficiente para garantizar el suministro de combustible requerido por el parque automotor del FDLCH. | G23: Verificación previa, dentro de los requisitos habilitantes, de la existencia y habilitación de estaciones de servicio del proponente con cobertura suficiente para atender el parque automotor del FDLCH, como condición para la evaluación de la oferta. | I23: 1 | J23: 2 | K23: =+I23+J23 -> 3 | L23: =IF(K23<=4,"BAJO",IF(K23=5,"MEDIO",IF(K23=6,"ALTO",IF(K23=7,"ALTO","EXTREMO")))) -> BAJO | M23: NO | N23: FDLCH | O23: Inicio del contrato | P23: Durante la ejecución del contrato. | Q23: Muestreos aleatorios de calidad. | R23: MENSUAL
B24: EJECUCIÓN | C24: =+EVALUACION!C25 -> Presentación de reclamos de terceros sobre la selección del oferente que retrasen el perfeccionamiento del contrato. | G24: Revisión de reclamos con base en las condiciones precontractuales, mediante la definición de requisitos habilitantes claros y objetivos, la publicación oportuna del proceso y la respuesta motivada a las observaciones dentro de los términos de ley. | I24: 1 | J24: 2 | K24: =+I24+J24 -> 3 | L24: =IF(K24<=4,"BAJO",IF(K24=5,"MEDIO",IF(K24=6,"ALTO",IF(K24=7,"ALTO","EXTREMO")))) -> BAJO | M24: NO | N24: FDLCH | O24: Etapa de contratación. | P24: Previo al proceso de firma del contrato | Q24: Mediante una revisión técnica, jurídica, económica financiera minuciosa de los documentos del proceso contractual. | R24: Etapa precontractual
B25: EJECUCIÓN | C25: =+EVALUACION!C26 -> El contratista no realiza el suministro de combustible en las condiciones técnicas y de calidad establecidas | G25: El supervisor del contrato verificará de forma constante la calidad del combustible suministrado y el cumplimiento de las condiciones técnicas pactadas; previo al pago se verificará el cumplimiento de las obligaciones del contratista; ante incumplimiento se adelantarán los requerimientos y el respectivo procedimiento sancionatorio ante la oficina de contratos. | I25: 1 | J25: 4 | K25: =+I25+J25 -> 5 | L25: =IF(K25<=4,"BAJO",IF(K25=5,"MEDIO",IF(K25=6,"ALTO",IF(K25=7,"ALTO","EXTREMO")))) -> MEDIO | M25: NO | N25: CONTRATISTA | O25: 2026 | P25: Fecha en que finaliza el contrato. | Q25: seguimiento equipo de trabajo conforme hojas de vida | R25: durante toda la ejecución
B26: EJECUCIÓN | C26: =+EVALUACION!C27 -> Cambio en la regulación normativa para el suministro y precio de los combustibles | G26: Se evaluará el impacto de las nuevas regulaciones para determinar el efecto económico en la estructura de costos del contrato; los documentos del proceso contemplan que el contratista debe tener en cuenta los posibles incrementos regulatorios al momento de presentar su oferta. | I26: 1 | J26: 2 | K26: =+I26+J26 -> 3 | L26: =IF(K26<=4,"BAJO",IF(K26=5,"MEDIO",IF(K26=6,"ALTO",IF(K26=7,"ALTO","EXTREMO")))) -> BAJO | M26: SI | N26: FDLCH Y CONTRATISTA | O26: 2026 | P26: Fecha en que finaliza el contrato. | Q26: Revisión de los precios del mercado antes del proceso de selección del proveedor de las ayudas técnicas. | R26: Mensual
B27: EJECUCIÓN | C27: =+EVALUACION!C28 -> Interrupción de la ejecución del contrato debido a desastres naturales que afecten el suministro de combustible | G27: Se evaluará el impacto del evento de fuerza mayor para determinar si da lugar a la suspensión temporal del contrato; el contratista deberá activar los mecanismos necesarios para continuar la prestación del servicio en las condiciones pactadas, siempre que las circunstancias lo permitan. | I27: 1 | J27: 2 | K27: =+I27+J27 -> 3 | L27: =IF(K27<=4,"BAJO",IF(K27=5,"MEDIO",IF(K27=6,"ALTO",IF(K27=7,"ALTO","EXTREMO")))) -> BAJO | M27: NO | N27: FDLCH Y CONTRATISTA | O27: Durante la etapa precontractual y ejecución del contrato. | P27: Fecha en que finaliza el contrato. | Q27: Evaluación semanal | R27: Permanente durante la ejecución del contrato
B28: EJECUCIÓN | C28: =+EVALUACION!C29 -> Interrupción del suministro de combustible debido a huelgas, paros o alteraciones del orden público que afecten las estaciones de servicio | G28: Ante la advertencia de un posible cierre o bloqueo de las estaciones de servicio, el riesgo será asumido por el contratista, quien deberá adoptar medidas inmediatas (estaciones de servicio alternas) para garantizar el suministro sin interrupciones, so pena de la aplicación de las cláusulas penales o multas a que haya lugar. | I28: 1 | J28: 3 | K28: =+I28+J28 -> 4 | L28: =IF(K28<=4,"BAJO",IF(K28=5,"MEDIO",IF(K28=6,"ALTO",IF(K28=7,"ALTO","EXTREMO")))) -> BAJO | M28: NO | N28: CONTRATISTA | O28: Desde la formalización del contrato. | P28: Fecha en que finaliza el contrato. | Q28: Evaluación semanal del cumplimiento de las entregas, | R28: Durante la planeación. Durante la ejecución. Permanente.
B29: EJECUCIÓN | C29: =+EVALUACION!C30 -> Posibilidad de agotamiento anticipado del presupuesto oficial o de variaciones en el consumo de combustible del parque automotor, debido a que el contrato se ejecuta bajo la modalidad de monto agotable | G29: El supervisor del contrato realizará seguimiento mensual al consumo de combustible frente al presupuesto disponible y al saldo del monto agotable, con el fin de anticipar ajustes en la programación del parque automotor o gestionar oportunamente las adiciones presupuestales a que haya lugar. | I29: 1 | J29: 2 | K29: =+I29+J29 -> 3 | L29: =IF(K29<=4,"BAJO",IF(K29=5,"MEDIO",IF(K29=6,"ALTO",IF(K29=7,"ALTO","EXTREMO")))) -> BAJO | M29: SI | N29: FDLCH | O29: Desde la formalización del contrato. | P29: Fecha de liquidación del contrato. | Q29: Una adecuada supervisión del contrato | R29: Durante la planeación. Durante la ejecución. Permanente.
B30: EJECUCIÓN | C30: =+EVALUACION!C31 -> Suministro de combustible con especificaciones de calidad diferentes a las exigidas por la normatividad técnica vigente, que afecte el funcionamiento de los vehículos del parque automotor | G30: Exigencia al contratista de certificados de calidad del combustible suministrado conforme a la normatividad técnica vigente (NTC), con verificación periódica por parte del supervisor y toma de muestras cuando se evidencien anomalías en el funcionamiento de los vehículos. | I30: 1 | J30: 3 | K30: =+I30+J30 -> 4 | L30: =IF(K30<=4,"BAJO",IF(K30=5,"MEDIO",IF(K30=6,"ALTO",IF(K30=7,"ALTO","EXTREMO")))) -> BAJO | M30: SI | N30: CONTRATISTA | O30: Desde el periodo de ejecución | P30: Fecha de liquidación del contrato. | Q30: Una supervisión adecuada de los plazos establecidos por el contratista. | R30: MENSUAL
B31: =+EVALUACION!B32 -> EJECUCIÓN | C31: =+EVALUACION!C32 -> Desabastecimiento de combustible en el mercado que afecte la capacidad del contratista de cumplir con el suministro | G31: El contratista deberá contar con proveedores alternos o fuentes de abastecimiento de respaldo que garanticen la continuidad del suministro ante situaciones de desabastecimiento generalizado en el mercado. | I31: 1 | J31: 1 | K31: =+I31+J31 -> 2 | L31: =IF(K31<=4,"BAJO",IF(K31=5,"MEDIO",IF(K31=6,"ALTO",IF(K31=7,"ALTO","EXTREMO")))) -> BAJO | M31: NO | N31: CONTRATISTA | O31: Desde el periodo de ejecución | P31: Fecha en la que se finaliza la afectación. | Q31: Una supervisión adecuada del cumplimiento junto a la verificación del método para la aprobación de insumos que se pretendan adquirir | R31: Permanente durante la ejecución del contrato
C33: Categoría del Riesgo | H33: Impacto del Riesgo
B35: Probabilidad | C35: Categoría | F35: Valoración | H35: Categoría | J35: Valoración | N35: Categoría del Riesgo
C36: Raro (puede ocurrir excepcionalmente) | F36: 1 | H36: Insignificante | J36: 1 | N36: Valoración del Riesgo | P36: Categoría
C37: Improbable (puede ocurrir ocasionalmente) | F37: 2 | H37: Menor | J37: 2 | N37: 8, 9 y 10 | P37: Riesgo extremo
C38: Posible (puede ocurrir en cualquier momento futuro) | F38: 3 | H38: Moderado | J38: 3 | N38: 6 y 7 | P38: Riesgo alto
C39: Probable (probablemente va a ocurrir) | F39: 4 | H39: Mayor | J39: 4 | N39: 5 | P39: Riesgo medio
C40: Casi cierto (ocurre en la mayoría de circunstancias) | F40: 5 | H40: Catastrófico | J40: 5 | N40: 2, 3 y 4 | P40: Riesgo bajo
C42: Valoración del Riesgo
C43: Calificación Cualitativa | G43: Obstruye la ejecución del contrato de manera intrascendente. | I43: Dificulta la ejecución del contrato de manera baja, aplicando medidas mínimas se pueden lograr el objeto contractual | L43: Afecta la ejecución del contrato sin alterar el beneficio para las partes | N43: Obstruye la ejecución del contrato sustancialmente pero aun así permite la consecución del objeto contractual | P43: Perturba la ejecución del contrato de manera grave imposibilitando la consecución del objeto contractual.
C44: Calificación Monetaria | G44: Los sobrecostos no representan más del uno por ciento (1%) del valor del contrato. | I44: Los sobrecostos no representan más del cinco por ciento (5%) del valor del contrato. | L44: Genera un impacto sobre el valor del contrato entre el cinco (5%) y el quince por ciento (15%). | N44: Incrementa el valor del contrato entre el quince (15%) y el treinta por ciento (30%). | P44: Impacto sobre el valor del contrato en más del treinta por ciento (30%).
C45: Categoría | F45: Valoración | G45: Insignificante | I45: Menor | L45: Moderado | N45: Mayor | P45: Catastrófico
G46: 1 | I46: 2 | L46: 3 | N46: 4 | P46: 5
C47: Raro (puede ocurrir excepcionalmente) | F47: 1 | G47: 2 | I47: 3 | L47: 4 | N47: 5 | P47: 6
C48: Improbable (puede ocurrir ocasionalmente) | F48: 2 | G48: 3 | I48: 4 | L48: 5 | N48: 6 | P48: 7
C49: Posible (puede ocurrir en cualquier momento futuro) | F49: 3 | G49: 4 | I49: 5 | L49: 6 | N49: 7 | P49: 8
C50: Probable (probablemente va a ocurrir) | F50: 4 | G50: 5 | I50: 6 | L50: 7 | N50: 8 | P50: 9
C51: Casi cierto (ocurre en la mayoría de circunstancias) | F51: 5 | G51: 6 | I51: 7 | L51: 8 | N51: 9 | P51: 10

Sheet ASIGNACION Y TRATAMIENTO
C2: MATRIZ DE RIESGOS DE CONTRATACIÓN | W2: Código: GCO-GCI-F164 Versión: 02 Vigencia: 01 de diciembre de 2022 Caso HOLA: 280117
B6: OBJETO: CONTRATAR EL SUMINISTRO DE COMBUSTIBLE (GASOLINA CORRIENTE Y ACPM) PARA EL PARQUE AUTOMOTOR DE LA ALCALDÍA LOCAL DE CHAPINERO
B7: Esta matriz es un documento anexo del Estudio Previo
B10: No | C10: Descripción (Que puede pasar y, cómo puede ocurrir) | D10: Etapa | E10: Clase | F10: Fuente | G10: Consecuencias de la ocurrencia del evento | H10: Probabilidad | I10: Impacto | J10: Calificación total | K10: Prioridad | L10: ¿A quien se le asigna? | M10: % | N10: Tratamiento/Controles a ser implementados | O10: Probabilidad | P10: Impacto | Q10: Calificación total | R10: Prioridad | S10: ¿Afecta el equilibrio económico del contrato? | T10: Persona responsable por implementar el tratamiento | U10: Fecha estimada en que se inicia el tratamiento | V10: Fecha estimada en que se completa el tratamiento | W10: ¿Cómo se realiza el monitoreo | X10: Periodicidad ¿Cuándo?
B11: 1 | C11: =+'EVALUACION CON CONTROLES'!C16:F16 -> Errores en la formulación o los documentos del proceso por equivocación, falta de exactitud o imprecisión de la información | D11: =+'EVALUACION CON CONTROLES'!B16 -> PLANEACIÓN | E11: =IFERROR(VLOOKUP(C11,'IDENTIFICACION Y ANALISIS'!$B$19:$F$80,3,FALSE()),"") -> General | F11: =IFERROR(VLOOKUP(C11,'IDENTIFICACION Y ANALISIS'!$B$19:$F$80,4,FALSE()),"") -> Interno | G11: =+EVALUACION!H17 -> incumplimiento del contrato, necesidades de modificación en sus alcances, actividades, presupuesto, etc. | H11: =+EVALUACION!I17 -> 2 | I11: =+EVALUACION!J17 -> 2 | J11: =+EVALUACION!K17 -> 4 | K11: =+EVALUACION!L17 -> BAJO | L11: FDLCH | M11: 100 | N11: =+'EVALUACION CON CONTROLES'!G16 -> Verificación de los documentos del proceso en cada uno de sus componentes por parte de los profesionales y técnicos involucrados, con revisión previa por parte del líder del área solicitante antes de dar inicio al proceso. | O11: =+'EVALUACION CON CONTROLES'!I16 -> 1 | P11: =+'EVALUACION CON CONTROLES'!J16 -> 1 | Q11: =+'EVALUACION CON CONTROLES'!K16 -> 2 | R11: =+'EVALUACION CON CONTROLES'!L16 -> BAJO | S11: =+'EVALUACION CON CONTROLES'!M16 -> SI | T11: =+'EVALUACION CON CONTROLES'!N16 -> FDLCH | U11: =+'EVALUACION CON CONTROLES'!O16 -> Posterior al proceso de planeación. | V11: =+'EVALUACION CON CONTROLES'!P16 -> Previo al proceso de contratación. | ... X11: =+'EVALUACION CON CONTROLES'!R16 -> Inicio de tapa de contratación
B12: 2 | C12: =+'EVALUACION CON CONTROLES'!C17:F17 -> Apertura de procesos de contratación sin la correspondiente disponibilidad presupuestal impidiendo el cumplimiento de los compromisos adquiridos, generando problemas financieros y legales, asegurando que exista un presupuesto adecuado antes de iniciar cualquier proceso de contratación. | D12: =+'EVALUACION CON CONTROLES'!B17 -> PLANEACIÓN | E12: =IFERROR(VLOOKUP(C12,'IDENTIFICACION Y ANALISIS'!$B$19:$F$80,3,FALSE()),"") | F12: =IFERROR(VLOOKUP(C12,'IDENTIFICACION Y ANALISIS'!$B$19:$F$80,4,FALSE()),"") | G12: =+EVALUACION!H18 -> a) Pérdida de Tiempo b) Necesidad de iniciar un nuevo proceso contractual c) No se puede satisfacer la necesidad de la entidad | H12: =+EVALUACION!I18 -> 2 | I12: =+EVALUACION!J18 -> 3 | J12: =+EVALUACION!K18 -> 5 | K12: =+EVALUACION!L18 -> MEDIO | L12: FDLCH | M12: 100 | N12: =+'EVALUACION CON CONTROLES'!G17 -> Verificación previa de la disponibilidad presupuestal por parte del área financiera del FDLCH, como requisito para la apertura del proceso de contratación. | O12: =+'EVALUACION CON CONTROLES'!I17 -> 1 | P12: =+'EVALUACION CON CONTROLES'!J17 -> 2 | Q12: =+'EVALUACION CON CONTROLES'!K17 -> 3 | R12: =+'EVALUACION CON CONTROLES'!L17 -> BAJO | S12: =+'EVALUACION CON CONTROLES'!M17 -> SI | T12: =+'EVALUACION CON CONTROLES'!N17 -> FDLCH | U12: =+'EVALUACION CON CONTROLES'!O17 -> Posterior al proceso de planeación. | V12: =+'EVALUACION CON CONTROLES'!P17 -> Previo al proceso de contratación. | ... X12: =+'EVALUACION CON CONTROLES'!R17 -> Inicio de tapa de contratación
B13: 3 | C13: =+'EVALUACION CON CONTROLES'!C18:F18 -> Confabulación de los proponentes (Colusión) | D13: =+'EVALUACION CON CONTROLES'!B18 -> SELECCIÓN | E13: =IFERROR(VLOOKUP(C13,'IDENTIFICACION Y ANALISIS'!$B$19:$F$80,3,FALSE()),"") -> General | F13: =IFERROR(VLOOKUP(C13,'IDENTIFICACION Y ANALISIS'!$B$19:$F$80,4,FALSE()),"") -> Externo | G13: =+EVALUACION!H19 -> Investigaciones disciplinarias, penales y fiscales, restricción a la libre concurrencia de oferentes y posible declaratoria de nulidad del proceso de selección. | H13: =+EVALUACION!I19 -> 2 | I13: =+EVALUACION!J19 -> 4 | J13: =+EVALUACION!K19 -> 6 | K13: =+EVALUACION!L19 -> ALTO | L13: CONTRATISTA | M13: 100 | N13: =+'EVALUACION CON CONTROLES'!G18 -> Revisión exhaustiva de la conformación de los proponentes y las propuestas presentadas para identificar prácticas colusorias; suscripción del compromiso anticorrupción por parte de los oferentes; y remisión a la Superintendencia de Industria y Comercio del material probatorio o indiciario que se recaude. | O13: =+'EVALUACION CON CONTROLES'!I18 -> 1 | P13: =+'EVALUACION CON CONTROLES'!J18 -> 3 | Q13: =+'EVALUACION CON CONTROLES'!K18 -> 4 | R13: =+'EVALUACION CON CONTROLES'!L18 -> BAJO | S13: =+'EVALUACION CON CONTROLES'!M18 -> SI | T13: =+'EVALUACION CON CONTROLES'!N18 -> FDLCH | U13: =+'EVALUACION CON CONTROLES'!O18 -> Dentro del mismo tiempo de la afectación. | V13: =+'EVALUACION CON CONTROLES'!P18 -> Fecha en la que finaliza la etapa precontractual. | ... X13: =+'EVALUACION CON CONTROLES'!R18 -> SEMANAL
B14: 4 | C14: =+'EVALUACION CON CONTROLES'!C19:F19 -> Selección de ofertas con precios artificialmente bajos. | D14: =+'EVALUACION CON CONTROLES'!B19 -> CONTRATACIÓN | E14: =IFERROR(VLOOKUP(C14,'IDENTIFICACION Y ANALISIS'!$B$19:$F$80,3,FALSE()),"") -> General | F14: =IFERROR(VLOOKUP(C14,'IDENTIFICACION Y ANALISIS'!$B$19:$F$80,4,FALSE()),"") -> Externo | G14: =+EVALUACION!H20 -> a) No se puede satisfacer la necesidad de la Entidad, b) Se adjudica el proceso a un contratista que ofreció precios artíficamente bajos poniendo en riesgo la ejecución contractual. | H14: =+EVALUACION!I20 -> 2 | I14: =+EVALUACION!J20 -> 4 | J14: =+EVALUACION!K20 -> 6 | K14: =+EVALUACION!L20 -> ALTO | L14: FDLCH / CONTRATISTA | M14: 50 | N14: =+'EVALUACION CON CONTROLES'!G19 -> Ante la evidencia de un precio artificialmente bajo, se requerirá al proponente su justificación y sustentación; de no acreditarse la coherencia del valor ofertado con las condiciones del mercado de combustibles, se procederá al rechazo de la oferta. | O14: =+'EVALUACION CON CONTROLES'!I19 -> 1 | P14: =+'EVALUACION CON CONTROLES'!J19 -> 2 | Q14: =+'EVALUACION CON CONTROLES'!K19 -> 3 | R14: =+'EVALUACION CON CONTROLES'!L19 -> BAJO | S14: =+'EVALUACION CON CONTROLES'!M19 -> NO | T14: =+'EVALUACION CON CONTROLES'!N19 -> FDLCH | U14: =+'EVALUACION CON CONTROLES'!O19 -> Dentro del mismo tiempo de la afectación. | V14: =+'EVALUACION CON CONTROLES'!P19 -> Fecha en la que finaliza la etapa precontractual. | ... X14: =+'EVALUACION CON CONTROLES'!R19 -> SEMANAL
B15: 5 | C15: =+'EVALUACION CON CONTROLES'!C20:F20 -> Riesgo de que no se firme el contrato. | D15: =+'EVALUACION CON CONTROLES'!B20 -> CONTRATACIÓN | E15: =IFERROR(VLOOKUP(C15,'IDENTIFICACION Y ANALISIS'!$B$19:$F$80,3,FALSE()),"") -> General | F15: =IFERROR(VLOOKUP(C15,'IDENTIFICACION Y ANALISIS'!$B$19:$F$80,4,FALSE()),"") -> Externo | G15: =+EVALUACION!H21 -> Incumplimiento en la atención de la necesidad que da origen al proceso contractual y a la meta a atender. | H15: =+EVALUACION!I21 -> 1 | I15: =+EVALUACION!J21 -> 3 | J15: =+EVALUACION!K21 -> 4 | K15: =+EVALUACION!L21 -> BAJO | L15: FDLCH / CONTRATISTA | M15: 50 | N15: =+'EVALUACION CON CONTROLES'!G20 -> Seguimiento por parte del área de contratación al cronograma de firma y legalización, con comunicación oportuna al adjudicatario de los plazos y requisitos para la suscripción del contrato. | O15: =+'EVALUACION CON CONTROLES'!I20 -> 1 | P15: =+'EVALUACION CON CONTROLES'!J20 -> 1 | Q15: =+'EVALUACION CON CONTROLES'!K20 -> 2 | R15: =+'EVALUACION CON CONTROLES'!L20 -> BAJO | S15: =+'EVALUACION CON CONTROLES'!M20 -> SI | T15: =+'EVALUACION CON CONTROLES'!N20 -> FDLCH | U15: =+'EVALUACION CON CONTROLES'!O20 -> Posterior al proceso de selección. | V15: =+'EVALUACION CON CONTROLES'!P20 -> Previo al proceso de contratación. | ... X15: =+'EVALUACION CON CONTROLES'!R20 -> Previo al acta de inicio
B16: 6 | C16: =+'EVALUACION CON CONTROLES'!C21:F21 -> Falta de constitución o constitución tardía de la garantía única. Aceptación de garantías que no se ajustan a lo contemplado en el contrato | D16: =+'EVALUACION CON CONTROLES'!B21 -> CONTRATACIÓN | E16: =IFERROR(VLOOKUP(C16,'IDENTIFICACION Y ANALISIS'!$B$19:$F$80,3,FALSE()),"") -> General | F16: =IFERROR(VLOOKUP(C16,'IDENTIFICACION Y ANALISIS'!$B$19:$F$80,4,FALSE()),"") -> Interno | G16: =+EVALUACION!H22 -> Incumplimiento en la atención de la necesidad que da origen al proceso contractual y a la meta a atender o el detrimento patrimonial del FDLCH. | H16: =+EVALUACION!I22 -> 2 | I16: =+EVALUACION!J22 -> 3 | J16: =+EVALUACION!K22 -> 5 | K16: =+EVALUACION!L22 -> MEDIO | L16: FDLCH / CONTRATISTA | M16: 50 | N16: =+'EVALUACION CON CONTROLES'!G21 -> Verificación por parte del supervisor de la constitución y aprobación de las garantías dentro de los plazos y con los amparos exigidos en el contrato, antes del inicio de la ejecución. | O16: =+'EVALUACION CON CONTROLES'!I21 -> 1 | P16: =+'EVALUACION CON CONTROLES'!J21 -> 2 | Q16: =+'EVALUACION CON CONTROLES'!K21 -> 3 | R16: =+'EVALUACION CON CONTROLES'!L21 -> BAJO | S16: =+'EVALUACION CON CONTROLES'!M21 -> SI | T16: =+'EVALUACION CON CONTROLES'!N21 -> FDLCH | U16: =+'EVALUACION CON CONTROLES'!O21 -> Posterior al proceso de contratación | V16: =+'EVALUACION CON CONTROLES'!P21 -> Previo al proceso de acta de inicio del contrato | ... X16: =+'EVALUACION CON CONTROLES'!R21 -> Previo al inicio de tapa de contratación
B17: 7 | C17: =+'EVALUACION CON CONTROLES'!C22:F22 -> Falta de solicitud o solicitud tardía del registro presupuestal | D17: =+'EVALUACION CON CONTROLES'!B22 -> CONTRATACIÓN | E17: =IFERROR(VLOOKUP(C17,'IDENTIFICACION Y ANALISIS'!$B$19:$F$80,3,FALSE()),"") -> General | F17: =IFERROR(VLOOKUP(C17,'IDENTIFICACION Y ANALISIS'!$B$19:$F$80,4,FALSE()),"") -> Interno | G17: =+EVALUACION!H23 -> Pérdida de tiempo por la necesidad de generar el registro presupuestal, sin que sea atendida la necesidad de la entidad. Cancelación del proceso contractual. | H17: =+EVALUACION!I23 -> 2 | I17: =+EVALUACION!J23 -> 3 | J17: =+EVALUACION!K23 -> 5 | K17: =+EVALUACION!L23 -> MEDIO | L17: FDLCH / CONTRATISTA | M17: 50 | N17: =+'EVALUACION CON CONTROLES'!G22 -> Firma del acta de inicio condicionada a la generación previa del registro presupuestal por parte del área financiera del FDLCH. | O17: =+'EVALUACION CON CONTROLES'!I22 -> 1 | P17: =+'EVALUACION CON CONTROLES'!J22 -> 1 | Q17: =+'EVALUACION CON CONTROLES'!K22 -> 2 | R17: =+'EVALUACION CON CONTROLES'!L22 -> BAJO | S17: =+'EVALUACION CON CONTROLES'!M22 -> SI | T17: =+'EVALUACION CON CONTROLES'!N22 -> FDLCH | U17: =+'EVALUACION CON CONTROLES'!O22 -> Previo a la etapa de contratación. | V17: =+'EVALUACION CON CONTROLES'!P22 -> Previo al proceso de firma del contrato | ... X17: =+'EVALUACION CON CONTROLES'!R22 -> Previo al inicio de tapa de contratación
B18: 8 | C18: =+'EVALUACION CON CONTROLES'!C23:F23 -> Adjudicar el contrato a un proponente que no cuente con la capacidad de infraestructura (estaciones de servicio habilitadas) suficiente para garantizar el suministro de combustible requerido por el parque automotor del FDLCH. | D18: =+'EVALUACION CON CONTROLES'!B23 -> CONTRATACIÓN | E18: =IFERROR(VLOOKUP(C18,'IDENTIFICACION Y ANALISIS'!$B$19:$F$80,3,FALSE()),"") -> Especifico | F18: =IFERROR(VLOOKUP(C18,'IDENTIFICACION Y ANALISIS'!$B$19:$F$80,4,FALSE()),"") -> Interno | G18: =+EVALUACION!H24 -> No se satisface la necesidad de suministro de combustible del parque automotor, afectando la operación misional de la Entidad. | H18: =+EVALUACION!I24 -> 2 | I18: =+EVALUACION!J24 -> 3 | J18: =+EVALUACION!K24 -> 5 | K18: =+EVALUACION!L24 -> MEDIO | L18: FDLCH | M18: 100 | N18: =+'EVALUACION CON CONTROLES'!G23 -> Verificación previa, dentro de los requisitos habilitantes, de la existencia y habilitación de estaciones de servicio del proponente con cobertura suficiente para atender el parque automotor del FDLCH, como condición para la evaluación de la oferta. | O18: =+'EVALUACION CON CONTROLES'!I23 -> 1 | P18: =+'EVALUACION CON CONTROLES'!J23 -> 2 | Q18: =+'EVALUACION CON CONTROLES'!K23 -> 3 | R18: =+'EVALUACION CON CONTROLES'!L23 -> BAJO | S18: =+'EVALUACION CON CONTROLES'!M23 -> NO | T18: =+'EVALUACION CON CONTROLES'!N23 -> FDLCH | U18: =+'EVALUACION CON CONTROLES'!O23 -> Inicio del contrato | V18: =+'EVALUACION CON CONTROLES'!P23 -> Durante la ejecución del contrato. | ... X18: =+'EVALUACION CON CONTROLES'!R23 -> MENSUAL
B19: 9 | C19: =+'EVALUACION CON CONTROLES'!C24:F24 -> Presentación de reclamos de terceros sobre la selección del oferente que retrasen el perfeccionamiento del contrato. | D19: CONTRATACIÓN | E19: =IFERROR(VLOOKUP(C19,'IDENTIFICACION Y ANALISIS'!$B$19:$F$80,3,FALSE()),"") -> General | F19: =IFERROR(VLOOKUP(C19,'IDENTIFICACION Y ANALISIS'!$B$19:$F$80,4,FALSE()),"") -> Externo | G19: =+EVALUACION!H25 -> Demora en la ejecución contractual. Riesgo de suspensión de proceso contractual. | H19: =+EVALUACION!I25 -> 2 | I19: =+EVALUACION!J25 -> 3 | J19: =+EVALUACION!K25 -> 5 | K19: =+EVALUACION!L25 -> MEDIO | L19: CONTRATISTA | M19: 100 | N19: =+'EVALUACION CON CONTROLES'!G24 -> Revisión de reclamos con base en las condiciones precontractuales, mediante la definición de requisitos habilitantes claros y objetivos, la publicación oportuna del proceso y la respuesta motivada a las observaciones dentro de los términos de ley. | O19: =+'EVALUACION CON CONTROLES'!I24 -> 1 | P19: =+'EVALUACION CON CONTROLES'!J24 -> 2 | Q19: =+'EVALUACION CON CONTROLES'!K24 -> 3 | R19: =+'EVALUACION CON CONTROLES'!L24 -> BAJO | S19: =+'EVALUACION CON CONTROLES'!M24 -> NO | T19: =+'EVALUACION CON CONTROLES'!N24 -> FDLCH | U19: =+'EVALUACION CON CONTROLES'!O24 -> Etapa de contratación. | V19: =+'EVALUACION CON CONTROLES'!P24 -> Previo al proceso de firma del contrato | ... X19: =+'EVALUACION CON CONTROLES'!R24 -> Etapa precontractual
B20: 10 | C20: =+'EVALUACION CON CONTROLES'!C25:F25 -> El contratista no realiza el suministro de combustible en las condiciones técnicas y de calidad establecidas | D20: =+'EVALUACION CON CONTROLES'!B25 -> EJECUCIÓN | E20: =IFERROR(VLOOKUP(C20,'IDENTIFICACION Y ANALISIS'!$B$19:$F$80,3,FALSE()),"") -> Especifico | F20: =IFERROR(VLOOKUP(C20,'IDENTIFICACION Y ANALISIS'!$B$19:$F$80,4,FALSE()),"") -> Externo | G20: =+EVALUACION!H26 -> Afecta la ejecución y el cumplimiento del suministro de combustible, no ejecución contractual, y posible afectación de los vehículos del parque automotor. | H20: =+EVALUACION!I26 -> 3 | I20: =+EVALUACION!J26 -> 5 | J20: =+EVALUACION!K26 -> 8 | K20: =+EVALUACION!L26 -> EXTREMO | L20: CONTRATISTA | M20: 100 | N20: =+'EVALUACION CON CONTROLES'!G25 -> El supervisor del contrato verificará de forma constante la calidad del combustible suministrado y el cumplimiento de las condiciones técnicas pactadas; previo al pago se verificará el cumplimiento de las obligaciones del contratista; ante incumplimiento se adelantarán los requerimientos y el respectivo procedimiento sancionatorio ante la oficina de contratos. | O20: =+'EVALUACION CON CONTROLES'!I25 -> 1 | P20: =+'EVALUACION CON CONTROLES'!J25 -> 4 | Q20: =+'EVALUACION CON CONTROLES'!K25 -> 5 | R20: =+'EVALUACION CON CONTROLES'!L25 -> MEDIO | S20: =+'EVALUACION CON CONTROLES'!M25 -> NO | T20: =+'EVALUACION CON CONTROLES'!N25 -> CONTRATISTA | U20: =+'EVALUACION CON CONTROLES'!O25 -> 2026 | V20: =+'EVALUACION CON CONTROLES'!P25 -> Fecha en que finaliza el contrato. | ... X20: =+'EVALUACION CON CONTROLES'!R25 -> durante toda la ejecución
B21: 11 | C21: =+'EVALUACION CON CONTROLES'!C26:F26 -> Cambio en la regulación normativa para el suministro y precio de los combustibles | D21: =+'EVALUACION CON CONTROLES'!B26 -> EJECUCIÓN | E21: =IFERROR(VLOOKUP(C21,'IDENTIFICACION Y ANALISIS'!$B$19:$F$80,3,FALSE()),"") -> General | F21: =IFERROR(VLOOKUP(C21,'IDENTIFICACION Y ANALISIS'!$B$19:$F$80,4,FALSE()),"") -> Externo | G21: =+EVALUACION!H27 -> Costos adicionales por cambios en las regulaciones para el suministro de combustible que afecten la estructura de costos del contrato. | H21: =+EVALUACION!I27 -> 1 | I21: =+EVALUACION!J27 -> 4 | J21: =+EVALUACION!K27 -> 5 | K21: =+EVALUACION!L27 -> MEDIO | L21: FDLCH Y CONTRATISTA | M21: 50/50 | N21: =+'EVALUACION CON CONTROLES'!G26 -> Se evaluará el impacto de las nuevas regulaciones para determinar el efecto económico en la estructura de costos del contrato; los documentos del proceso contemplan que el contratista debe tener en cuenta los posibles incrementos regulatorios al momento de presentar su oferta. | O21: =+'EVALUACION CON CONTROLES'!I26 -> 1 | P21: =+'EVALUACION CON CONTROLES'!J26 -> 2 | Q21: =+'EVALUACION CON CONTROLES'!K26 -> 3 | R21: =+'EVALUACION CON CONTROLES'!L26 -> BAJO | S21: =+'EVALUACION CON CONTROLES'!M26 -> SI | T21: =+'EVALUACION CON CONTROLES'!N26 -> FDLCH Y CONTRATISTA | U21: =+'EVALUACION CON CONTROLES'!O26 -> 2026 | V21: =+'EVALUACION CON CONTROLES'!P26 -> Fecha en que finaliza el contrato. | ... X21: =+'EVALUACION CON CONTROLES'!R26 -> Mensual
B22: 12 | C22: =+'EVALUACION CON CONTROLES'!C27:F27 -> Interrupción de la ejecución del contrato debido a desastres naturales que afecten el suministro de combustible | D22: =+'EVALUACION CON CONTROLES'!B27 -> EJECUCIÓN | E22: =IFERROR(VLOOKUP(C22,'IDENTIFICACION Y ANALISIS'!$B$19:$F$80,3,FALSE()),"") -> General | F22: =IFERROR(VLOOKUP(C22,'IDENTIFICACION Y ANALISIS'!$B$19:$F$80,4,FALSE()),"") -> Externo | G22: =+EVALUACION!H28 -> Demoras o retardos en la ejecución del contrato, o interrupción del suministro de combustible al parque automotor. | H22: =+EVALUACION!I28 -> 1 | I22: =+EVALUACION!J28 -> 4 | J22: =+EVALUACION!K28 -> 5 | K22: =+EVALUACION!L28 -> MEDIO | L22: FDLCH Y CONTRATISTA | M22: 50/50 | N22: =+'EVALUACION CON CONTROLES'!G27 -> Se evaluará el impacto del evento de fuerza mayor para determinar si da lugar a la suspensión temporal del contrato; el contratista deberá activar los mecanismos necesarios para continuar la prestación del servicio en las condiciones pactadas, siempre que las circunstancias lo permitan. | O22: =+'EVALUACION CON CONTROLES'!I27 -> 1 | P22: =+'EVALUACION CON CONTROLES'!J27 -> 2 | Q22: =+'EVALUACION CON CONTROLES'!K27 -> 3 | R22: =+'EVALUACION CON CONTROLES'!L27 -> BAJO | S22: =+'EVALUACION CON CONTROLES'!M27 -> NO | T22: =+'EVALUACION CON CONTROLES'!N27 -> FDLCH Y CONTRATISTA | U22: =+'EVALUACION CON CONTROLES'!O27 -> Durante la etapa precontractual y ejecución del contrato. | V22: =+'EVALUACION CON CONTROLES'!P27 -> Fecha en que finaliza el contrato. | ... X22: =+'EVALUACION CON CONTROLES'!R27 -> Permanente durante la ejecución del contrato
