Workbook

Sheet METODOLOGÍA DE EVALUACIÓN
B2: FISCALÍA GENERAL DE LA NACIÓN
B4: ANEXO No. 16 - FORMATO DE EVALUACIÓN DE LAS CONDICIONES TÉCNICAS ADICIONALES
B5: METODOLOGÍA DE EVALUACIÓN - APLICABLE A TODAS LAS PÓLIZAS
B6: El Asegurado precisa que las condiciones, coberturas, cláusulas, límites y/o plazo indicados a continuación no son de obligatorio ofrecimiento y las aseguradoras participantes tienen la postedad de decidir su ofrecimiento. Para su evaluación se considerarán los siguientes criterios que corresponden a los generales aplicables, por lo tanto en el caso que se estipulen criterios particulares dentro del contenido de las condiciones, estos primarán sobre los generales: Las aseguradoras deben tener en cuenta que el ofrecimiento de condiciones que presten beneficio a la Entidad adicionales a las relacionadas en cada póliza pero que son en exceso a las mismas; no serán objeto de asignación de puntaje adicional a esos exceso y solo evaluables con base en los criterios que esten definidos en cada condición, no obstante la presentación de éstas obliga a la Aseguradora a su otorgamiento en caso de que el contrato le sea adjudicado y el oferente con la firma de la propuesta acepta esta condición.
B7: CONDICIONES ADICIONALES QUE CONTIENEN SOLO TEXTO: | D7: Se otorgará el máximo puntaje asignado a las propuestas que las ofrezcan con el mismo texto y bajo las mismas condiciones o en condiciones superiores en beneficio de la Entidad. Las propuestas que modifiquen el texto, sin que ello conlleve a la pérdida de la aplicabilidad y/u operatividad de la condición, se le asignará el 50% del puntaje y las propuestas que no las ofrezcan se calificarán con cero (0) puntos.
B8: CONDICIONES ADICIONALES QUE APLIQUEN PARA OFERTAS DE LÍMITES Y/O VALORES FIJOS QUE SE REGISTREN EN TABLAS Y/O CONTENGAN RANGOS Y/O VALORES CON BASE EN LOS CUALES SE DEBE EFECTUAR EL OFRECIMIENTO. | D8: Las aseguradoras deben tener en cuenta: 1. Para acceder a calificación, el oferente deberá registrar en forma expresa y de manera clara, el valor y/o límite que ofrece. En aquellos casos que se exprese valores en COL$ o en SMMLV para realizar una evaluación equitativa, se podrá homologar el ofrecimiento a alguna de las dos constantes COL$ o SMMLV. 2. Se otorga el máximo puntaje a la propuesta que dentro del rango o tabla se aproxime al máximo sublímite o plazo requerido y las demas ofertas se calificaran en forma proporcional a la propuesta calificada con el máximo puntaje. 3. En el caso de presentar propuesta por un valor y/o límite diferente al establecido en los rangos de la tabla, se tomará para la asignación de puntaje, el monto y/o límite del rango inmediatamente anterior al del valor ofrecido y el oferente acepta esta condición con la firma de la oferta y, de ser adjudicada la propuesta, expedirá la póliza con el valor indicado en la propuesta.
B9: CONDICIONES ADICIONALES | D9: NOTA: Las aseguradoras deben señalar expresamente en su propuesta las Condiciones Adicionales que ofrece especificando los límites, periodos y demás información necesaria para su evaluación de acuerdo con las condiciones de cada una de ellas, en caso que manifieste "SE OTORGA" ó "SI" u otra expresión que implica que si esta otorgando la condición, pero no está especificado, se entenderá que las mismas fueron ofrecidas al máximo límite, sublímite o periodos o plazos y por lo tanto se asignará el mayor puntaje de esta condición, al límite, sublímite o períodos o plazos requerido y de ser adjudicada la propuesta, la aseguradora expedirá la póliza con las condiciones máximas exigidas de ese criterio en particular.
B10: By: Tiger | G10: VERSIÓN: SEP 2026

Sheet G1. COND ADIC. TRDMC
B2: =+'METODOLOGÍA DE EVALUACIÓN'!B2:G2 -> FISCALÍA GENERAL DE LA NACIÓN
B4: ANEXO No. 16 - FORMATO DE EVALUACIÓN DE LAS CONDICIONES TÉCNICAS ADICIONALES
B5: GRUPO No. 1
B6: PÓLIZA DE SEGURO DE TODO RIESGO DAÑOS MATERIALES COMBINADOS
B7: OBJETO DEL SEGURO
B8: Amparar los daños o pérdidas que sufran los bienes inmuebles y muebles de propiedad o por los que sean legalmente responsables la Fiscalía General de la Nación y el Fondo Especial para la Administración de Bienes, ubicados en territorio nacional o internacional, a consecuencia de cualquier riesgo.
B9: INFORMACIÓN GENERAL:
B10: TOMADOR: | C10: =+B2 -> FISCALÍA GENERAL DE LA NACIÓN | G10: NIT | H10: 800.152.783-2
B11: ASEGURADO: | C11: FISCALIA GENERAL DE LA NACIÓN Y/O FONDO ESPECIAL PARA LA ADMINISTRACIÓN DE BIENES FEAB | G11: NIT. | H11: 800.152.783-2 / 901.148.337-1
B12: BENEFICIARIO: | C12: FISCALIA GENERAL DE LA NACIÓN Y/O FONDO ESPECIAL PARA LA ADMINISTRACIÓN DE BIENES FEAB | G12: NIT. | H12: 800.152.783-2 / 901.148.337-1
B13: NOTA: | C13: CADA SUBLÍMITE O GASTOS OFRECIDOS EN FORMA ADICIONAL QUEDA CONTEMPLADO DENTRO DEL LÍMITE ASEGURADO.
B14: CRITERIOS DE EVALUACIÓN:
B15: CONDICIÓN REQUERIDA PARA EVALUACIÓN | E15: CRITERIO DE EVALUACIÓN | F15: PUNTAJE ESTABLECIDO | G15: OFRECIMIENTO DEL PROPONENTE | H15: PUNTAJE OBTENIDO POR EL PROPONENTE
B16: ACTOS MAL INTENCIONADOS DE TERCEROS ASONADA, MOTÍN, CONMOCIÓN CIVIL O POPULAR Y HUELGA (INCLUIDO TERRORISMO Y SABOTAJE). Sublímite de $39.000.000.000 evento / $72.000.000.000 (vigencia 1.4.4. ANEXO 1). NOTA 1: Solo se acepta propuesta en los límites señados en los siguientes rangos. Ofrecimientos de otros valores diferentes serán evaluados con cero (0) puntos), excepto que sea superior al último rango. NOTA 2: Se otorga el máximo puntaje a la propuesta que dentro del rango se aproxime al máximo sublímite requerido y las demas ofertas se calificaran en forma proporcional a la propuesta calificada con el máximo puntaje. | E16: Se califica el aumento adicional del sublímite Hasta un monto total de $14.000.000.000 incluido el básico
B17: Rangos para el sublímite por evento | D17: PUNTOS AL MAYOR VALOR DENTRO DEL RANGO | E17: Se califica el aumento adicional del sublímite evento. | F17: =+D20 -> 2
B18: Límite adicional al básico mayor a $1.000.000.000 y hasta $2.000.000.000 | D18: 0.4
B19: Límite adicional al básico mayor a $2.000.000.000 y hasta $5.000.000.000 | D19: 1
B20: Límite adicional al básico mayor a $5.000.000.000 y hasta $10.000.000.000 | D20: 2
B21: Rangos para el sublímite por (vigencia 1.4.4.) ANEXO 1. | D21: PUNTOS AL MAYOR VALOR DENTRO DEL RANGO | E21: Se califica el aumento adicional del sublímite (vigencia 1.4.2.) ANEXO 1. | F21: =+D24 -> 2
B22: Límite adicional al básico mayor a $1.000.000.000 y hasta $2.000.000.000 | D22: 0.4
B23: Límite adicional al básico mayor a $2.000.000.000 y hasta $5.000.000.000 | D23: 1
B24: Límite adicional al básico mayor a $5.000.000.000 y hasta $10.000.000.000 | D24: 2
B25: HURTO Y HURTO CALIFICADO Sublímite de $5.500.000.000 (vigencia 1.4.4.) combinado para todos los bienes. NOTA 1: Solo se acepta propuesta en los límites señados en los siguientes rangos. Ofrecimientos de otros valores diferentes serán evaluados con cero (0) puntos), excepto que sea superior al último rango. NOTA 2: Se otorga el máximo puntaje a la propuesta que dentro del rango se aproxime al máximo sublímite requerido y las demas ofertas se calificaran en forma proporcional a la propuesta calificada con el máximo puntaje. | D25: PUNTOS AL MAYOR VALOR DENTRO DEL RANGO | E25: Se califica el aumento adicional del sublímite Hasta un monto total de $10.000.000.000 incluido el básico | F25: =+D28 -> 2
B26: Límite adicional al básico mayor a $2.500.000.000 y hasta $3.000.000.000: | D26: 1.33
B27: Límite adicional al básico mayor a $3.000.000.000 y hasta $4.000.000.000: | D27: 1.77
B28: Límite adicional al básico mayor a $4.000.000.000 y hasta $4.500.000.000: | D28: 2
B29: GASTOS ADICIONALES. Sublímite por la suma de $24.000.000.000, incluido en el valor asegurado,sin aplicación de deducible y combinado para los gastos relacionados en en Anexo No. 1. NOTA 1: Solo se acepta propuesta en los límites señados en los siguientes rangos. Ofrecimientos de otros valores diferentes serán evaluados con cero (0) puntos), excepto que sea superior al último rango. NOTA 2: Se otorga el máximo puntaje a la propuesta que dentro del rango se aproxime al máximo sublímite requerido y las demas ofertas se calificaran en forma proporcional a la propuesta calificada con el máximo puntaje. | D29: PUNTOS AL MAYOR VALOR DENTRO DEL RANGO | E29: Se califica el aumento adicional del sublímite Hasta un monto total de $30.000.000.000 incluido el básico | F29: =+D32 -> 2
B30: Límite adicional al básico mayor a $1.000.000.000 y hasta $2.000.000.000: | D30: 0.66
B31: Límite adicional al básico mayor a $2.000.000.000 y hasta $4.000.000.000: | D31: 1.66
B32: Límite adicional al básico mayor a $4.000.000.000 y hasta $6.000.000.000: | D32: 2
B33: GASTOS EXTRAORDINARIOS. Sublímite por la suma de $30.000.000.000, incluido en el valor asegurado,sin aplicación de deducible y combinado para los gastos relacionados en en Anexo No. 1. NOTA 1: Solo se acepta propuesta en los límites señados en los siguientes rangos. Ofrecimientos de otros valores diferentes serán evaluados con cero (0) puntos), excepto que sea superior al último rango. NOTA 2: Se otorga el máximo puntaje a la propuesta que dentro del rango se aproxime al máximo sublímite requerido y las demas ofertas se calificaran en forma proporcional a la propuesta calificada con el máximo puntaje. | D33: PUNTOS AL MAYOR VALOR DENTRO DEL RANGO | E33: Se califica el aumento adicional del sublímite Hasta un monto total de $36.000.000.000 incluido el básico | F33: =+D36 -> 2
B34: Límite adicional al básico mayor a $1.000.000.000 y hasta $2.000.000.000: | D34: 0.66
B35: Límite adicional al básico mayor a $2.000.000.000 y hasta $4.000.000.000: | D35: 1.33
B36: Límite adicional al básico mayor a $4.000.000.000 y hasta $6.000.000.000: | D36: 2
B37: COBERTURA PARA BIENES DEL PROCESO PENAL. SUBLIMITE DE $56.000.000.000 SIN APLICACIÓN DE DEDUCIBLES. - LÍMITE POR EVENTO: $150.000.000 - LÍMITE POR CADA ELEMENTO DAÑADO O PÉRDIDO : $30.000.000 NOTA 1: Solo se acepta propuesta en los límites señados en los siguientes rangos. Ofrecimientos de otros valores diferentes serán evaluados con cero (0) puntos), excepto que sea superior al último rango. NOTA 2: Se otorga el máximo puntaje a la propuesta que dentro del rango se aproxime al máximo sublímite requerido y las demas ofertas se calificaran en forma proporcional a la propuesta calificada con el máximo puntaje. | D37: PUNTOS AL MAYOR VALOR DENTRO DEL RANGO | E37: Se califica el aumento adicional del LÍMITE POR EVENTO Hasta un monto total de $650.000.000 incluido el básico | F37: =+D40 -> 1
B38: Límite adicional al básico mayor a $50.000.000 y hasta $100.000.000: | D38: 0.4
B39: Límite adicional al básico mayor a $100.000.000 y hasta $150.000.000: | D39: 0.6
B40: Límite adicional al básico mayor a $150.000.000 y hasta $500.000.000: | D40: 1
B41: LÍMITE POR CADA ELEMENTO DAÑADO O PÉRDIDO : $30.000.000 | D41: PUNTOS AL MAYOR VALOR DENTRO DEL RANGO | E41: Se califica el aumento adicional del LÍMITE POR CADA ELEMENTO DAÑADO O PÉRDIDO Hasta un monto total de $80.000.000 incluido el básico | F41: =+D44 -> 1
B42: Límite adicional al básico mayor a $10.000.000 y hasta $20.000.000: | D42: 0.4
...

Sheet G1. COND ADIC. MANEJO GLOBAL
B2: =+'G1. COND ADIC. TRDMC'!B2:H2 -> FISCALÍA GENERAL DE LA NACIÓN
B4: ANEXO No. 16 - FORMATO DE EVALUACIÓN DE LAS CONDICIONES TÉCNICAS ADICIONALES
B5: GRUPO No. 1
B6: PÓLIZA DE SEGURO GLOBAL DE MANEJO PARA ENTIDADES OFICIALES
B7: OBJETO DEL SEGURO
B8: Amparar el menoscabo que sufran los fondos y bienes de la Fiscalía General de la Nación y del Fondo Especial para la Administración de Bienes ocasionados por los empleados en ejercicio de sus cargos, o sus reemplazos, por actos que se tipifiquen como delitos contra la administración pública o fallos con responsabilidad fiscal.
B9: INFORMACIÓN GENERAL:
B10: TOMADOR: | C10: =+B2 -> FISCALÍA GENERAL DE LA NACIÓN | G10: NIT. | H10: =+'G1. COND ADIC. TRDMC'!H10 -> 800.152.783-2
B11: ASEGURADO: | C11: FISCALIA GENERAL DE LA NACIÓN Y/O FONDO ESPECIAL PARA LA ADMINISTRACIÓN DE BIENES FEAB | G11: NIT. | H11: 800.152.783-2 / 901.148.337-1
B12: BENEFICIARIO: | C12: FISCALIA GENERAL DE LA NACIÓN Y/O FONDO ESPECIAL PARA LA ADMINISTRACIÓN DE BIENES FEAB | G12: NIT. | H12: 800.152.783-2 / 901.148.337-1
B13: NOTA: | C13: CADA SUBLÍMITE O GASTOS OFRECIDOS EN FORMA ADICIONAL QUEDA CONTEMPLADO DENTRO DEL LÍMITE ASEGURADO.
B14: CRITERIOS DE EVALUACIÓN:
B15: CONDICIÓN REQUERIDA PARA EVALUACIÓN | E15: CRITERIO DE EVALUACIÓN | F15: PUNTAJE ESTABLECIDO | G15: OFRECIMIENTO DEL OFERENTE | H15: PUNTAJE OBTENIDO POR EL OFERENTE
B16: INCREMENTO DEL LÍMITE BÁSICO PARA LA COBERTURA DE MANEJO GLOBAL. LÍMITE $1.400.000.000 EVENTO / (vigencia 2.3.2.) ANEXO 1. NOTA 1: Solo se acepta propuesta en los límites señados en los siguientes rangos. Ofrecimientos de otros valores diferentes serán evaluados con cero (0) puntos), excepto que sea superior al último rango. NOTA 2: Se otorga el máximo puntaje a la propuesta que dentro del rango se aproxime al máximo sublímite requerido y las demas ofertas se calificaran en forma proporcional a la propuesta calificada con el máximo puntaje. | D16: PUNTOS AL MAYOR VALOR DENTRO DEL RANGO | E16: Se califica el aumento adicional del límite asegurado. Hasta un monto total de $2.000.000.000 incluido el básico SIN COBRO DE PRIMA | F16: =+D20 -> 18
B17: Límite adicional al básico mayor a $100.000.000 y hasta $150.000.000 | D17: 4.5
B18: Límite adicional al básico mayor a $150.000.000 y hasta $200.000.000 | D18: 6
B19: Límite adicional al básico mayor a $200.000.000 y hasta $400.000.000 | D19: 12
B20: Límite adicional al básico mayor a $400.000.000 y hasta $600.000.000. | D20: 18
B21: GASTOS ADICIONALES: $50,000,000 (vigencia 2.3.2.) NOTA 1: Solo se acepta propuesta en los límites señados en los siguientes rangos. Ofrecimientos de otros valores diferentes serán evaluados con cero (0) puntos), excepto que sea superior al último rango. NOTA 2: Se otorga el máximo puntaje a la propuesta que dentro del rango se aproxime al máximo porcentaje requerido y las demas ofertas se calificaran en forma proporcional a la propuesta calificada con el máximo puntaje. | D21: PUNTOS AL MAYOR VALOR DENTRO DEL RANGO | E21: Se califica el aumento adicional del porcentaje ofrecido. Bajo la definición del texto de la condición obligatoria | F21: =+D25 -> 4
B22: Límite adicional al básico mayor a $10.000.000 y hasta $20.000.000 | D22: 1.6
B23: Límite adicional al básico mayor a $20.000.000 y hasta $30.000.000 | D23: 2.4
B24: Límite adicional al básico mayor a $30.000.000 y hasta $40.000.000 | D24: 3.2
B25: Límite adicional al básico mayor a $40.000.000 y hasta $50.000.000. | D25: 4
B26: GASTOS ADICIONALES PARA PAGO DE AUDITORES, REVISORES, CONTADORES Y ABOGADOS COMO CONSECUENCIA DIRECTA DE UN SINIESTRO RECLAMADOO BAJO ESTE SEGURO. Sublímite $60.000.000 (vigencia 2.3.2.) NOTA 1: Solo se acepta propuesta en los límites señados en los siguientes rangos. Ofrecimientos de otros valores diferentes serán evaluados con cero (0) puntos), excepto que sea superior al último rango. NOTA 2: Se otorga el máximo puntaje a la propuesta que dentro del rango se aproxime al máximo porcentaje requerido y las demas ofertas se calificaran en forma proporcional a la propuesta calificada con el máximo puntaje. | D26: PUNTOS AL MAYOR VALOR DENTRO DEL RANGO | E26: Se califica el aumento adicional del porcentaje ofrecido. Bajo la definición del texto de la condición obligatoria | F26: =+D30 -> 3
B27: Límite adicional al básico mayor a $10.000.000 y hasta $20.000.000 | D27: 1.2
B28: Límite adicional al básico mayor a $20.000.000 y hasta $30.000.000 | D28: 1.8
B29: Límite adicional al básico mayor a $30.000.000 y hasta $40.000.000 | D29: 2.4
B30: Límite adicional al básico mayor a $40.000.000 y hasta $50.000.000. | D30: 3
B31: COSTAS EN JUICIO, HONORARIOS PROFESIONALES Y SELECCIÓN DE PROFESIONALES PARA LA DEFENSA.: 20% del límite asegurado. NOTA 1: Solo se acepta propuesta en los límites señados en los siguientes rangos. Ofrecimientos de otros valores diferentes serán evaluados con cero (0) puntos), excepto que sea superior al último rango. NOTA 2: Se otorga el máximo puntaje a la propuesta que dentro del rango se aproxime al máximo porcentaje requerido y las demas ofertas se calificaran en forma proporcional a la propuesta calificada con el máximo puntaje. | D31: PUNTOS AL MAYOR VALOR DENTRO DEL RANGO | E31: Se califica el aumento adicional del porcentaje ofrecido. Bajo la definición del texto de la condición obligatoria | F31: =+D34 -> 3
B32: Límite adicional al básico mayor al 25% y hasta el 30%. | D32: 1.125
B33: Límite adicional al básico mayor al 30% y hasta el 50%. | D33: 1.875
B34: Límite adicional al básico mayor al 60% y hasta el 80%. | D34: 3
B35: ANTICIPO DE INDEMNIZACIÓN DEL 75%. NOTA: Si el aumento adicional del porcentaje de anticipo es condicionado a la demostración de la ocurrencia y cuantía, se califica con cero (0) puntos este factor. | D35: PUNTOS AL MAYOR VALOR DENTRO DEL RANGO | E35: Se califica el aumento adicional del porcentaje ofrecido. Bajo la definición del texto de la condición obligatoria y sin estar condicionada a la demostración de ocurrencia y cuantía. | F35: 2
B36: MÁXIMO CALIFICACIÓN | F36: =SUM(F16:F35) -> 30 | G36: CALIFICACIÓN DEL OFERENTE | H36: =SUM(H16:H35) -> 0
B37: By: Tiger | H37: =+'METODOLOGÍA DE EVALUACIÓN'!G10 -> VERSIÓN: SEP 2026

Sheet G1. COND ADIC. RCE
B2: =+'METODOLOGÍA DE EVALUACIÓN'!B2:G2 -> FISCALÍA GENERAL DE LA NACIÓN
B4: ANEXO No. 16 - FORMATO DE EVALUACIÓN DE LAS CONDICIONES TÉCNICAS ADICIONALES
B5: GRUPO No. 1
B6: PÓLIZA DE SEGURO DE RESPONSABILIDAD CIVIL EXTRACONTRACTUAL
B7: OBJETO DEL SEGURO
B8: Amparar los perjuicios patrimoniales (daños materiales incluyendo daño emergente y lucro cesante) y extrapatrimoniales (incluidos el daño moral, daño fisiológico y daño a la vida de relación y a la salud) a la Fiscalía General de la Nación y al Fondo Especial para la Administración de Bienes como consecuencia de la responsabilidad civil extracontractual originada dentro o fuera de sus instalaciones, en el desarrollo de sus actividades o en lo relacionado con ellas, lo mismo que los actos de sus empleados dentro y fuera del territorio nacional. Nota: Se entenderán como terceros todas y cada una de las personas que circulen, ingresen, accedan o se encuentren en los predios de asegurado o por los cuales es responsable en su aseguramiento, independientemente que el asegurado le esté prestando un servicio objeto de su razón social.
B9: INFORMACIÓN GENERAL:
B10: TOMADOR: | C10: =+B2 -> FISCALÍA GENERAL DE LA NACIÓN | G10: NIT. | H10: =+'G1. COND ADIC. TRDMC'!H10 -> 800.152.783-2
B11: ASEGURADO: | C11: FISCALIA GENERAL DE LA NACIÓN Y/O FONDO ESPECIAL PARA LA ADMINISTRACIÓN DE BIENES FEAB | G11: NIT. | H11: 800.152.783-2 / 901.148.337-1
B12: BENEFICIARIOS: | C12: TERCEROS AFECTADOS
B13: NOTA: | C13: CADA SUBLÍMITE O GASTOS OFRECIDOS EN FORMA ADICIONAL QUEDA CONTEMPLADO DENTRO DEL LÍMITE ASEGURADO.
B14: CRITERIOS DE EVALUACIÓN:
B15: CONDICIÓN REQUERIDA PARA EVALUACIÓN | E15: CRITERIO DE EVALUACIÓN | F15: PUNTAJE ESTABLECIDO | G15: OFRECIMIENTO DEL OFERENTE | H15: PUNTAJE OBTENIDO POR EL OFERENTE
B16: INCREMENTO DEL LÍMITE BÁSICO PARA LA COBERTURA DE RESPONSABILIDAD CIVIL EXTRACONTRACTUAL $10.000.000.000 - EVENTO / (vigencia 3.4.1) ANEXO 1. NOTA 1: Solo se acepta propuesta en los límites señados en los siguientes rangos. Ofrecimientos de otros valores diferentes serán evaluados con cero (0) puntos), excepto que sea superior al último rango. NOTA 2: Se otorga el máximo puntaje a la propuesta que dentro del rango se aproxime al máximo sublímite requerido y las demas ofertas se calificaran en forma proporcional a la propuesta calificada con el máximo puntaje. | E16: Se califica el aumento adicional del límite asegurado. SIN COBRO DE PRIMA | F16: =+D20 -> 10
B17: Rangos para el aumento del límite | D17: PUNTOS AL MAYOR VALOR DENTRO DEL RANGO
B18: Límite adicional al básico mayor a $1.000.000.000 y hasta $2.000.000.000 | D18: 6.66
B19: Límite adicional al básico mayor a $2.000.000.000 y hasta $2.500.000.000 | D19: 8.33
B20: Límite adicional al básico mayor a $2.500.000.000 y hasta $3.000.000.000 | D20: 10
B21: GASTOS MÉDICOS (sin aplicación de deducibles). Sublímite $200.000.000 evento / $500.000.000 (vigencia 3.4.1.) ANEXO 1. NOTA 1: Solo se acepta propuesta en los límites señados en los siguientes rangos. Ofrecimientos de otros valores diferentes serán evaluados con cero (0) puntos), excepto que sea superior al último rango. NOTA 2: Se otorga el máximo puntaje a la propuesta que dentro del rango se aproxime al máximo sublímite requerido y las demas ofertas se calificaran en forma proporcional a la propuesta calificada con el máximo puntaje. | E21: Se califica el aumento adicional del límite asegurado. SIN COBRO DE PRIMA, así:
B22: Rangos para el sublímite por evento | D22: PUNTOS AL MAYOR VALOR DENTRO DEL RANGO | E22: Se califica el aumento adicional del sublímite evento. | F22: =+D25 -> 2
B23: Límite adicional al básico mayor a $30.000.000 y hasta $50.000.000 | D23: 0.83
B24: Límite adicional al básico mayor a $70.000.000 y hasta $90.000.000 | D24: 1.5
B25: Límite adicional al básico mayor a $100.000.000 y hasta $120.000.000 | D25: 2
B26: Rangos para el sublímite por (vigencia 3.41.) ANEXO 1. | D26: PUNTOS AL MAYOR VALOR DENTRO DEL RANGO | E26: Se califica el aumento adicional del sublímite (vigencia 3.4.1.) ANEXO 1. | F26: =+D29 -> 2
B27: Límite adicional al básico mayor a $100.000.000 y hasta $200.000.000 | D27: 0.8
B28: Límite adicional al básico mayor a $200.000.000 y hasta $300.000.000 | D28: 1.2
B29: Límite adicional al básico mayor a $300.000.000 y hasta $500.000.000 | D29: 2
B30: RESPONSABILIDAD CIVIL PATRONAL Sublímite $1.500.000.000 evento / $2.000.000.000 (vigencia 3.4.1.) ANEXO 1. NOTA 1: Solo se acepta propuesta en los límites señados en los siguientes rangos. Ofrecimientos de otros valores diferentes serán evaluados con cero (0) puntos), excepto que sea superior al último rango. NOTA 2: Se otorga el máximo puntaje a la propuesta que dentro del rango se aproxime al máximo sublímite requerido y las demas ofertas se calificaran en forma proporcional a la propuesta calificada con el máximo puntaje. | E30: Se califica el aumento adicional del porcentaje del sublímite
B31: Rangos para el sublímite por evento | D31: PUNTOS AL MAYOR VALOR DENTRO DEL RANGO | E31: Se califica el aumento adicional del sublímite evento. | F31: =+D34 -> 2
B32: Límite adicional al básico mayor a $250.000.000 y hasta $500.000.000 | D32: 1
B33: Límite adicional al básico mayor a $500.000.000 y hasta $750.000.000 | D33: 1.5
B34: Límite adicional al básico mayor a $750.000.000 y hasta $1.000.000.000 | D34: 2
B35: Rangos para el sublímite por (vigencia 3.41.) ANEXO 1. | D35: PUNTOS AL MAYOR VALOR DENTRO DEL RANGO | E35: Se califica el aumento adicional del sublímite (vigencia 3.4.1.) ANEXO 1. | F35: =+D38 -> 2
B36: Límite adicional al básico mayor a $500.000.000 y hasta $1.000.000.000 | D36: 1
B37: Límite adicional al básico mayor a $1.000.000.000 y hasta $1.500.000.000 | D37: 1.5
B38: Límite adicional al básico mayor a $1.500.000.000 y hasta $2.000.000.000 | D38: 2
B39: AMPARO TRANSITORIO DE RESPONSABILIDAD CIVIL PARA MOVILIZACIÓN DE VEHÍCULOS INCAUTADOS. Sublímite de $80.000.000 vehículo / $160.000.000 Agregado anual. Sublímite $80.000.000 evento / $160.000.000 (vigencia 3.4.1.) ANEXO 1. NOTA 1: Solo se acepta propuesta en los límites señados en los siguientes rangos. Ofrecimientos de otros valores diferentes serán evaluados con cero (0) puntos), excepto que sea superior al último rango. NOTA 2: Se otorga el máximo puntaje a la propuesta que dentro del rango se aproxime al máximo sublímite requerido y las demas ofertas se calificaran en forma proporcional a la propuesta calificada con el máximo puntaje. | E39: Se califica el aumento adicional del porcentaje del sublímite
B40: Rangos para el sublímite por evento | D40: PUNTOS AL MAYOR VALOR DENTRO DEL RANGO | E40: Se califica el aumento adicional del sublímite evento. | F40: =+D43 -> 2
B41: Límite adicional al básico mayor a $10.000.000 y hasta $20.000.000 | D41: 0.4
B42: Límite adicional al básico mayor a $20.000.000 y hasta $50.000.000 | D42: 1
...

Sheet G1. COND ADIC. TRANSP VALORES
B2: =+'METODOLOGÍA DE EVALUACIÓN'!B2:G2 -> FISCALÍA GENERAL DE LA NACIÓN
B4: ANEXO No. 16 - FORMATO DE EVALUACIÓN DE LAS CONDICIONES TÉCNICAS ADICIONALES
B5: GRUPO No. 1
B6: PÓLIZA DE TRANSPORTE DE VALORES
B7: OBJETO DEL SEGURO
B8: Amparar automáticamente los daños o pérdidas que sufran los dineros en efectivo, divisas, títulos valores y demás documentos representativos de dinero o convertibles fácilmente en dinero y lingotes de oro de propiedad o por los que sean legalmente responsables la Fiscalía General de la Nación y el Fondo Especial para la Administración de Bienes con ocasión de su movilización por cualquier medio de transporte.
B9: INFORMACIÓN GENERAL:
B10: TOMADOR: | C10: =+B2 -> FISCALÍA GENERAL DE LA NACIÓN | G10: NIT. | H10: =+'G1. COND ADIC. TRDMC'!H10 -> 800.152.783-2
B11: ASEGURADO: | C11: FISCALIA GENERAL DE LA NACIÓN Y/O FONDO ESPECIAL PARA LA ADMINISTRACIÓN DE BIENES FEAB | G11: NIT. | H11: 800.152.783-2 / 901.148.337-1
B12: BENEFICIARIO: | C12: FISCALIA GENERAL DE LA NACIÓN Y/O FONDO ESPECIAL PARA LA ADMINISTRACIÓN DE BIENES FEAB | G12: NIT. | H12: 800.152.783-2 / 901.148.337-1
B13: NOTA: | C13: CADA SUBLÍMITE O GASTOS OFRECIDOS EN FORMA ADICIONAL QUEDA CONTEMPLADO DENTRO DEL LÍMITE ASEGURADO.
B14: CRITERIOS DE EVALUACIÓN:
B15: CONDICIÓN REQUERIDA PARA EVALUACIÓN | D15: PUNTOS | E15: CRITERIO DE EVALUACIÓN | F15: PUNTAJE ESTABLECIDO | G15: OFRECIMIENTO DEL OFERENTE | H15: PUNTAJE OBTENIDO POR EL OFERENTE
B16: INCREMENTO DEL LÍMITE BÁSICO POE DESPACHO DE $300.000.000 NOTA 1: Solo se acepta propuesta en los límites señados en los siguientes rangos. Ofrecimientos de otros valores diferentes serán evaluados con cero (0) puntos), excepto que sea superior al último rango. NOTA 2: Se otorga el máximo puntaje a la propuesta que dentro del rango se aproxime al máximo sublímite requerido y las demas ofertas se calificaran en forma proporcional a la propuesta calificada con el máximo puntaje. | E16: Se califica el aumento adicional del límite asegurado. SIN COBRO DE PRIMA | F16: 20
B17: Rangos para el aumento del límite | D17: PUNTOS AL MAYOR VALOR DENTRO DEL RANGO
B18: Límite adicional al básico mayor a $100.000.000 y hasta $250.000.000 | D18: 7.14
B19: Límite adicional al básico mayor a $250.000.000 y hasta $500.000.000 | D19: 14.28
B20: Límite adicional al básico mayor a $500.000.000 y hasta $700.000.000 | D20: 20
B21: ANTICIPO DE INDEMNIZACIÓN DEL 50%. NOTA: Si el aumento adicional del porcentaje de anticipo es condicionado a la demostración de la ocurrencia y cuantía, se califica con cero (0) puntos este factor. | E21: Se califica el aumento adicional del porcentaje ofrecido. Bajo la definición del texto de la condición obligatoria y sin estar condicionada a la demostración de ocurrencia y cuantía. | F21: 10
B22: MÁXIMO CALIFICACIÓN | F22: =SUM(F16:F21) -> 30 | G22: CALIFICACIÓN DEL OFERENTE | H22: =SUM(H21:H21) -> 0
B23: By: Tiger | H23: =+'METODOLOGÍA DE EVALUACIÓN'!G10 -> VERSIÓN: SEP 2026

Sheet G1. COND ADIC. TRANSP MCÍAS
B2: =+'METODOLOGÍA DE EVALUACIÓN'!B2:G2 -> FISCALÍA GENERAL DE LA NACIÓN
B4: ANEXO No. 16 - FORMATO DE EVALUACIÓN DE LAS CONDICIONES TÉCNICAS ADICIONALES
B5: GRUPO No. 1
B6: PÓLIZA DE TRANSPORTE DE MERCANCÍAS
B7: OBJETO DEL SEGURO
B8: Amparar automáticamente los daños o pérdidas que sufran los bienes de propiedad o por las que sean legalmente responsables la Fiscalía General de la Nación y el Fondo Especial para la Administración de Bienes con ocasión de su movilización por cualquier medio de transporte.
B9: INFORMACIÓN GENERAL:
B10: TOMADOR: | C10: =+B2 -> FISCALÍA GENERAL DE LA NACIÓN | G10: NIT. | H10: =+'G1. COND ADIC. TRDMC'!H10 -> 800.152.783-2
B11: ASEGURADO: | C11: FISCALIA GENERAL DE LA NACIÓN Y/O FONDO ESPECIAL PARA LA ADMINISTRACIÓN DE BIENES FEAB | G11: NIT. | H11: 800.152.783-2 / 901.148.337-1
B12: BENEFICIARIO: | C12: FISCALIA GENERAL DE LA NACIÓN Y/O FONDO ESPECIAL PARA LA ADMINISTRACIÓN DE BIENES FEAB | G12: NIT. | H12: 800.152.783-2 / 901.148.337-1
B13: NOTA: | C13: CADA SUBLÍMITE O GASTOS OFRECIDOS EN FORMA ADICIONAL QUEDA CONTEMPLADO DENTRO DEL LÍMITE ASEGURADO.
B14: CRITERIOS DE EVALUACIÓN:
B15: CONDICIÓN REQUERIDA PARA EVALUACIÓN | D15: PUNTOS | E15: CRITERIO DE EVALUACIÓN | F15: PUNTAJE ESTABLECIDO | G15: OFRECIMIENTO DEL OFERENTE | H15: PUNTAJE OBTENIDO POR EL OFERENTE
B16: INCREMENTO DEL LÍMITE BÁSICO POE DESPACHO DE $300.000.000 NOTA 1: Solo se acepta propuesta en los límites señados en los siguientes rangos. Ofrecimientos de otros valores diferentes serán evaluados con cero (0) puntos), excepto que sea superior al último rango. NOTA 2: Se otorga el máximo puntaje a la propuesta que dentro del rango se aproxime al máximo sublímite requerido y las demas ofertas se calificaran en forma proporcional a la propuesta calificada con el máximo puntaje. | E16: Se califica el aumento adicional del límite asegurado. SIN COBRO DE PRIMA | F16: 20
B17: Rangos para el aumento del límite | D17: PUNTOS AL MAYOR VALOR DENTRO DEL RANGO
B18: Límite adicional al básico mayor a $100.000.000 y hasta $250.000.000 | D18: 7.14
B19: Límite adicional al básico mayor a $250.000.000 y hasta $500.000.000 | D19: 14.28
B20: Límite adicional al básico mayor a $500.000.000 y hasta $700.000.000 | D20: 20
B21: ANTICIPO DE INDEMNIZACIÓN DEL 50%. NOTA: Si el aumento adicional del porcentaje de anticipo es condicionado a la demostración de la ocurrencia y cuantía, se califica con cero (0) puntos este factor. | E21: Se califica el aumento adicional del porcentaje ofrecido. Bajo la definición del texto de la condición obligatoria y sin estar condicionada a la demostración de ocurrencia y cuantía. | F21: 10
B22: MÁXIMO CALIFICACIÓN | F22: =SUM(F16:F21) -> 30 | G22: CALIFICACIÓN DEL OFERENTE | H22: =SUM(#REF!) -> #REF!
B23: By: Tiger | H23: =+'G1 COND ADIC. AUTOMÓVILES'!H25 -> VERSIÓN: SEP 2026

Sheet G1 COND ADIC. AUTOMÓVILES
B4: =+'METODOLOGÍA DE EVALUACIÓN'!B2:G2 -> FISCALÍA GENERAL DE LA NACIÓN
B6: ANEXO No. 16 - FORMATO DE EVALUACIÓN DE LAS CONDICIONES TÉCNICAS ADICIONALES
B7: GRUPO No. 1
B8: PÓLIZA DE AUTOMÓVILES
B9: OBJETO DEL SEGURO
B10: Amparar los daños o pérdidas que sufran los vehículos de propiedad o por los que sean legalmente responsables la Fiscalía General de la Nación y el Fondo Especial para la Administración de Bienes, así como los daños ocasionados a bienes de terceros y muerte o lesiones ocasionadas a terceros como consecuencia de un accidente de tránsito en donde el asegurado resulte responsable.
B11: INFORMACIÓN GENERAL:
B12: TOMADOR: | C12: =+B4 -> FISCALÍA GENERAL DE LA NACIÓN | G12: NIT. | H12: =+'G1. COND ADIC. TRDMC'!H10 -> 800.152.783-2
B13: ASEGURADO: | C13: FISCALÍA GENERAL DE LA NACIÓN Y/O FONDO ESPECIAL PARA LA ADMINSTRACIÓN DE BIENES FEAB | G13: NIT. | H13: {=+'G4. COND ADIC. AVIACIÓN'!G11:H11} -> 800152783-2 / 901.148.337-1 | I13: 0
B14: BENEFICIARIOS: | C14: FISCALÍA GENERAL DE LA NACIÓN Y/O FONDO ESPECIAL PARA LA ADMINSTRACIÓN DE BIENES FEAB / RCE LOS TERCEROS AFECTADOS | G14: NIT. | H14: =+H13 -> 800152783-2 / 901.148.337-1
B15: NOTA: | C15: CADA SUBLÍMITE O GASTOS OFRECIDOS EN FORMA ADICIONAL QUEDA CONTEMPLADO DENTRO DEL LÍMITE ASEGURADO.
B16: CRITERIOS DE EVALUACIÓN:
B17: CONDICIÓN REQUERIDA PARA EVALUACIÓN | E17: CRITERIO DE EVALUACIÓN | F17: PUNTAJE ESTABLECIDO | G17: OFRECIMIENTO DEL OFERENTE | H17: PUNTAJE OBTENIDO POR EL OFERENTE
B18: INCREMENTO DEL LÍMITE BÁSICO PARA LA COBERTURA DE RESPONSABILIDAD CIVIL EXTRACONTRACTUAL (VIGENCIA 6.4 ANEXO No.1 ) Límite Único Combinado de: $6.800.000.000 Se califica a partir del otorgamiento de un sublímite adicional de $200.000.000 | E18: Se califica el aumento adicional del límite asegurado. SIN COBRO DE PRIMA | F18: 8
B19: GASTOS DE GRUA PARA VEHICULOS INCAUTADOS. 200 SERVICIOS POR ANUALIDAD. Se califica a partir del otorgamiento de un sublímite adicional de 10 SERVICIOS NOTA: En el evento de prórrogas se realizarán proporcionalmente al tiempo prorrogado. | E19: Se califica el aumento adicional del número de servicios. | F19: 10
B20: GASTOS POR CONCEPTO DE PARQUEADERO POR INMOVILIZACION DEL VEHICULO (BODEGAJE) Limite de 2 SMMLV Se califica a partir del otorgamiento de un sublímite adicional de 1 SMMLV | E20: Se califica el aumento adicional del monto de los gastos de bodegaje. | F20: 4
B21: ANTICIPO DE INDEMNIZACIÓN DEL 80%. Se califica a partir del otorgamiento de un porcentaje mínimo adicional del 10% | E21: Se califica el aumento adicional del porcentaje ofrecido. Bajo la definición del texto de la condición obligatoria y sin estar condicionada a la demostración de ocurrencia y cuantía. | F21: 4
B22: AMPARO AUTOMÁTICO DE VEHÍCULOS NUEVOS Y USADOS. Sublímite de $600.000.000 por vehículo y término de 120 días de aviso. Se califica a partir del otorgamiento de un sublímite adicional de $50.000.000 | E22: Se califica el aumento adicional del monto del sublímite para este amparo. | F22: 2
B23: AMPARO AUTOMÁTICO DE EQUIPOS Y ACCESORIOS Sublímite de $125.000.000 por vehículo y término de 120 días de aviso. Se califica a partir del otorgamiento de un sublímite adicional de $25.000.000 | E23: Se califica el aumento adicional del monto del sublímite para este amparo. | F23: 2
B24: MÁXIMO CALIFICACIÓN | F24: =SUM(F18:F23) -> 30 | G24: CALIFICACIÓN DEL OFERENTE | H24: =SUM(H18:H23) -> 0
B25: By: Tiger | H25: =+'G1. COND ADIC. RCE'!H58 -> VERSIÓN: SEP 2026

Sheet G3. CASCO AV DRONES
B2: FISCALÍA GENERAL DE LA NACIÓN
B4: ANEXO No. 16 - FORMATO DE EVALUACIÓN DE LAS CONDICIONES TÉCNICAS ADICIONALES
B5: GRUPO No. 3
B6: PÓLIZA DE SEGURO AVIACIÓN (DRONES)
B7: OBJETO DEL SEGURO
B8: Bajo esta póliza se otorga amparo en la modalidad de todo riesgo por las pérdidas y/o daños materiales (incluida la desaparición) de las aeronaves no tripuladas-Drones (en operación o reposo) de su propiedad o de aquellas que esten bajo su responsabilidad, tenencia y/o control, y en general los recibidos a cualquier titulo y/o por los que tenga algún interés asegurable, al igual que la responsabilidad civil causada frente a terceros, dentro del territorio nacional o en el exterior. Acorde con las disposiciones legales que se encuentran en la Resolución que rige la aeronavegabilidad de los Drones en Colombia es la RAC 100, que fue adoptado mediante Resolución número 01983 del 27 de septiembre 2023 y publicada en el Diario Oficial No. 52.531 del 27 de septiembre de 2023, y se incorpora a los Reglamentos Aeronáuticos de Colombia – RAC
B9: INFORMACIÓN GENERAL:
B10: TOMADOR: | C10: FISCALIA GENERAL DE LA NACIÓN | G10: NIT. | H10: 800152783-2
B11: ASEGURADO: | C11: FISCALIA GENERAL DE LA NACIÓN Y/O FONDO ESPECIAL PARA LA ADMINISTRACION DE BIENES FEAB | G11: NIT. | H11: 800152783-2 / 901.148.337-1
B12: BENEFICIARIO: | C12: FISCALIA GENERAL DE LA NACIÓN Y/O FONDO ESPECIAL PARA LA ADMINISTRACION DE BIENES FEAB | G12: NIT. | H12: =+H11 -> 800152783-2 / 901.148.337-1
B13: NOTA: | C13: CADA SUBLÍMITE OFRECIDO EN FORMA ADICIONAL QUEDA CONTEMPLADO DENTRO DEL LÍMITE ASEGURADO.
B14: CRITERIOS DE EVALUACIÓN:
B15: CONDICIÓN REQUERIDA PARA EVALUACIÓN | E15: CRITERIO DE EVALUACIÓN | F15: PUNTAJE ESTABLECIDO | G15: OFRECIMIENTO DEL OFERENTE | H15: PUNTAJE OBTENIDO POR EL OFERENTE
A16: 1 | B16: RESPONSABILIDAD CIVIL RESPECTO A TERCEROS. (Artículo 1827 y 1835 del Código de Comercio). Que corresponde a Treinta y tres mil trescientos treinta y tres(33.333) gramos de oro puro. | E16: Se califica el aumento adicional del límite en gramos oro puro. SIN COBRO DE PRIMA | F16: 10
A17: 2 | B17: ANTICIPO DE INDEMNIZACIÓN DEL 50% Se califica a partir del otorgamiento de un porcentaje mínimo adicional del 10% | E17: Se califica el aumento adicional del porcentaje ofrecido. Bajo la definición del texto de la condición obligatoria y sin estar condicionada a la demostración de ocurrencia y cuantía. | F17: 10
A18: 4 | B18: BONO POR NO RECLAMACIÓN DIEZ (10%) POR CIENTO Está entendido y acordado que se otorga un descuento 10% de bono por no reclamación, pagadero a la expiración como devolución de prima bruta. Queda expresamente convenido y aceptado que la aseguradora efectuará el pago de la devolución del monto a que tenga derecho la entidad asegurada, por concepto de la Cláusula de Bono por no Reclamación, sin sujetar el mismo a la renovación y/o prórroga de la póliza, con la misma aseguradora y/o reaseguradores siempre y cuando la vigencia sea mínimo de un año. De igual forma se acuerdo que la aseguradora presentará a la entidad asegurada la liquidación de la devolución correspondiente, dentro de los treinta (30) días siguientes a la fecha de vencimiento de cada período anual de la vigencia de la póliza previa certificación expedida por el asegurado a la expiración de la póliza de no conocimiento de hechos o circunstancias que puedan afectar la póliza. “Lo anterior sujeto a carta de liberación de responsabilidad por parte del asegurado”. | E18: Se califica el otorgamiento del bono por no reclamación en las mismas condiciones indicadas en el texto | F18: 10
B19: MÁXIMA CALIFICACIÓN | F19: =SUM(F16:F18) -> 30 | G19: CALIFICACIÓN DEL OFERENTE | H19: =SUM(H17:H17) -> 0

Sheet G4. COND ADIC. AVIACIÓN
B2: FISCALÍA GENERAL DE LA NACIÓN
B4: ANEXO No. 16 - FORMATO DE EVALUACIÓN DE LAS CONDICIONES TÉCNICAS ADICIONALES
B5: GRUPO No. 4
B6: CASCO AVIACIÓN - JET
B7: OBJETO DEL SEGURO
B8: Amparar los daños o pérdidas que sufran las aeronaves de la Fiscalía General de la Nación, incluidos los componentes de navegación y comunicación, mientras estén en vuelo, tierra o carreteo, así como la responsabilidad civil derivada de su uso o tenencia. NOTA: La FISCALÍA GENERAL DE LA NACIÓN Y/O FONDO ESPECIAL PARA LA ADMINSTRACIÓN DE BIENES FEAB, está interesada en obtener propuestas que ofrezcan la mayor cobertura, de tal forma que le permita lograr la mayor indemnización posible en los casos de pérdidas y/o daños.
B9: INFORMACIÓN GENERAL:
B10: TOMADOR: | C10: =+B2 -> FISCALÍA GENERAL DE LA NACIÓN | F10: NIT. | G10: 800.152.783-2
B11: ASEGURADO: | C11: FISCALIA GENERAL DE LA NACIÓN Y/O FONDO ESPECIAL PARA LA ADMINISTRACIÓN DE BIENES FEAB | F11: NIT. | G11: 800152783-2 / 901.148.337-1
B12: BENEFICIARIO: | C12: =+C11 -> FISCALIA GENERAL DE LA NACIÓN Y/O FONDO ESPECIAL PARA LA ADMINISTRACIÓN DE BIENES FEAB | F12: NIT. | G12: =+G11 -> 800152783-2 / 901.148.337-1
B13: NOTA: | C13: CADA SUBLÍMITE OFRECIDO EN FORMA ADICIONAL QUEDA CONTEMPLADO DENTRO DEL LÍMITE ASEGURADO.
B14: CRITERIOS DE EVALUACIÓN:
B15: CONDICIÓN REQUERIDA PARA EVALUACIÓN | D15: CRITERIO DE EVALUACIÓN | E15: PUNTAJE ESTABLECIDO | F15: OFRECIMIENTO DEL OFERENTE | H15: PUNTAJE OBTENIDO POR EL OFERENTE
B16: ANTICIPO DE INDEMNIZACIÓN DEL 50% Se califica a partir del otorgamiento de un porcentaje mínimo adicional del 10% | D16: Se califica el aumento adicional del porcentaje ofrecido. | E16: 10
A17: 4 | B17: BONO POR NO RECLAMACIÓN DIEZ (10%) POR CIENTO Está entendido y acordado que se otorga un descuento 10% de bono por no reclamación, pagadero a la expiración como devolución de prima bruta. Queda expresamente convenido y aceptado que la aseguradora efectuará el pago de la devolución del monto a que tenga derecho la entidad asegurada, por concepto de la Cláusula de Bono por no Reclamación, sin sujetar el mismo a la renovación y/o prórroga de la póliza, con la misma aseguradora y/o reaseguradores siempre y cuando la vigencia sea mínimo de un año. De igual forma se acuerdo que la aseguradora presentará a la entidad asegurada la liquidación de la devolución correspondiente, dentro de los treinta (30) días siguientes a la fecha de vencimiento de cada período anual de la vigencia de la póliza previa certificación expedida por el asegurado a la expiración de la póliza de no conocimiento de hechos o circunstancias que puedan afectar la póliza. “Lo anterior sujeto a carta de liberación de responsabilidad por parte del asegurado”. | D17: Se califica el otorgamiento del bono por no reclamación en las mismas condiciones indicadas en el texto | E17: 10
B18: CLAUSULA DE INACTIVIDADES En el evento en que una aeronave asegurada bajo la presente póliza quede inactiva en tierra, la cobertura de vuelo y carreteo bajo todas las secciones de la póliza quedara suspendida durante el periodo de inactividad y al vencimiento anual del presente seguro se hará el cálculo para ajustar la prima correspondiente al final de la vigencia por la no utilización, con sujeción a las siguientes condiciones: El asegurado debe dar aviso a la compañía antes y al finalizar la inactividad. No se retornará prima por: Respecto al periodo de inactividad resultante de la renovación anual del certificado de aeronavegabilidad, incluyéndose cualquier trabajo que hubiese tenido necesidad de efectuarse para tal efecto por reparaciones. A menos que el periodo de la inactividad dure por lo menos 7 días consecutivos; sin embargo, sin el periodo definido en a) ocurre durante una inactividad, el asegurado tendrá derecho a adicionar los días de inactividad antes de y posterior al periodo definido a) al calcular un periodo de 7 días o más para el cual se haga la devolución. Si existe un siniestro respecto a una aeronave de este seguro. Sujeto siempre a las condiciones señaladas anteriormente, la devolución se hará a prorrata considerando tasa en tierra del 15% de la tasa de riesgo en vuelo, con devolución al 100% de la diferencia entre la prima anual de riesgo en vuelo y la prima anual de riesgo en tierra, por el periodo real de la inactividad según lo definido anteriormente. En el evento de que una aeronave estando en tierra por un periodo de 7 días consecutivos o más, una parte corresponda a otra vigencia anterior o posterior y parte a la vigencia actual, este seguro retornara la prima por la proporción que le corresponda. Limité máximo 60 días | D18: Se califica el otorgamiento de la condición en los mismos términos señalados en el texto | E18: 10
B19: MÁXIMA CALIFICACIÓN | E19: =SUM(E16:E18) -> 30 | F19: CALIFICACIÓN DEL OFERENTE | H19: =SUM(H16:H17) -> 0

Sheet G5. COND VIDA LEY 16
B2: FISCALÍA GENERAL DE LA NACIÓN
B4: ANEXO No. 16 - FORMATO DE EVALUACIÓN DE LAS CONDICIONES TÉCNICAS ADICIONALES
B5: GRUPO No. 5
B6: PÓLIZA DE VIDA GRUPO LEY 16 DE 1988
B7: OBJETO DEL SEGURO
B8: Amparar a los funcionarios de la FISCALÍA GENERAL DE LA NACIÓN y a las personas que transitoriamente desempeñen funciones jurisdiccionales que por causa o con ocasión del ejercicio de sus funciones pierden la vida en hechos violentos, en cumplimiento a lo previsto en la Ley 16 de 1988.
B9: INFORMACIÓN GENERAL:
B10: TOMADOR: | C10: FISCALIA GENERAL DE LA NACIÓN | G10: NIT. | H10: 800152783-2
B11: ASEGURADO: | C11: EMPLEADOS Y/O FUNCIONARIOS Y/O SERVIDORES PÚBLICOS DE LA FISCALÍA GENERAL DE LA NACIÓN Y/O FONDO ESPECIAL PARA LA ADMINISTRACIÓN DE BIENES - FEAB | G11: NIT. | H11: 800152783-2 / 901.148.337-1
B12: BENEFICIARIO: | C12: BENEFICIARIOS DESIGNADOS O LOS DE LEY | G12: NIT.
B13: NOTA: | C13: CADA SUBLÍMITE OFRECIDO EN FORMA ADICIONAL QUEDA CONTEMPLADO DENTRO DEL LÍMITE ASEGURADO.
B14: CRITERIOS DE EVALUACIÓN:
B15: CONDICIÓN REQUERIDA PARA EVALUACIÓN | E15: CRITERIO DE EVALUACIÓN | F15: PUNTAJE ESTABLECIDO | G15: OFRECIMIENTO DEL OFERENTE | H15: PUNTAJE OBTENIDO POR EL OFERENTE
B16: Incremento del valor asegurado para el amparo de VIDA: En Salarios Mínimos mensuales Legales Vigentes: | D16: PUNTOS | E16: Se califica el aumento adicional del límite asegurado. SIN COBRO DE PRIMA | F16: 2.5
B17: Superior 5 SMMLV y hasta 10 SMMLV | D17: 1
B18: Superior a 10 SMMLV y hasta 15 SMMLV | D18: 1.5
B19: Superior a 15 SMMLV y hasta 20 SMMLV | D19: 2
B20: Superior a 20 SMMLV | D20: 2.5
B21: Incremento del valor asegurado para el amparo de INCAPACIDAD PERMANENTE PARCIAL: En Salarios Mínimos mensuales Legales Vigentes: | D21: PUNTOS | E21: Se califica el aumento adicional del límite asegurado. SIN COBRO DE PRIMA | F21: 2.5
B22: Superior 5 SMMLV y hasta 10 SMMLV | D22: 1
B23: Superior a 10 SMMLV y hasta 15 SMMLV | D23: 1.5
B24: Superior a 15 SMMLV y hasta 20 SMMLV | D24: 2
B25: Superior a 20 SMMLV | D25: 2.5
B26: Incremento del valor asegurado para el amparo de INCAPACIDAD PERMANENTE TOTAL: En Salarios Mínimos mensuales Legales Vigentes: | D26: PUNTOS | E26: Se califica el aumento adicional del límite asegurado. SIN COBRO DE PRIMA | F26: 2.5
B27: Superior 5 SMMLV y hasta 10 SMMLV | D27: 1
B28: Superior a 10 SMMLV y hasta 15 SMMLV | D28: 1.5
B29: Superior a 15 SMMLV y hasta 20 SMMLV | D29: 2
B30: Superior a 20 SMMLV | D30: 2.5
B31: Incremento del valor asegurado para el amparo de GRAN INVALIDEZ: En Salarios Mínimos mensuales Legales Vigentes: | D31: PUNTOS | E31: Se califica el aumento adicional del límite asegurado. SIN COBRO DE PRIMA | F31: 2.5
B32: Superior 5 SMMLV y hasta 10 SMMLV | D32: 1
B33: Superior a 10 SMMLV y hasta 15 SMMLV | D33: 1.5
B34: Superior a 15 SMMLV y hasta 20 SMMLV | D34: 2
B35: Superior a 20 SMMLV | D35: 2.5
B36: Incremento del valor asegurado para el amparo de AUXILIO FUNERARIO: En Salarios Mínimos mensuales Legales Vigentes: | D36: PUNTOS | E36: Se califica el aumento adicional del límite asegurado. SIN COBRO DE PRIMA | F36: 2.5
B37: Superior a 1,5 SMMLV y hasta 2 SMMLV | D37: 1
B38: Superior a 2 SMMLV y hasta 5 SMMLV | D38: 1.5
B39: Superior 5 SMMLV y hasta 10 SMMLV | D39: 2
B40: Superior a 10 SMMLV | D40: 2.5
B41: Incremento del valor asegurado para el amparo de GASTOS FUNERARIOS: En Salarios Mínimos mensuales Legales Vigentes: | D41: PUNTOS | E41: Se califica el aumento adicional del límite asegurado. SIN COBRO DE PRIMA | F41: 2.5
B42: Superior a 1,5 SMMLV y hasta 2 SMMLV | D42: 1
...

Sheet G6 . COND ADIC. RCSP
B3: =+'METODOLOGÍA DE EVALUACIÓN'!B2:G2 -> FISCALÍA GENERAL DE LA NACIÓN
B5: ANEXO No. 16 - FORMATO DE EVALUACIÓN DE LAS CONDICIONES TÉCNICAS ADICIONALES
B6: GRUPO No. 6
B7: PÓLIZA DE RESPONSABILIDAD CIVIL SERVIDORES PÚBLICOS
B8: OBJETO DEL SEGURO
B9: Amparar los perjuicios patrimoniales causados a terceros y/o a la Fiscalía General de la Nación y/o al Fondo Especial para la Administración de Bienes provenientes de la responsabilidad civil de los servidores públicos y/o funcionarios con regímenes de responsabilidad similares a los de los servidores públicos, en el desempeño de las funciones de los cargos asegurados, por toda acción u omisión, correcta o incorrecta, culposa, real o presunta, así como los perjuicios que les sean imputable y los ocasionados por juicios de responsabilidad fiscal.
B10: Amparar los gastos de defensa (tales como, pero sin limitarse a: honorarios profesionales de abogados defensores, gastos y costas procesales y cauciones judiciales) según los límites por etapas procesales establecidos en este documento, en todo tipo de procesos, incluidos, pero sin limitarse a: procesos fiscales, procesos disciplinarios, procesos penales siempre que se trate de delitos no dolosos, procesos civiles, procesos administrativos (incluidos los de reparación directa); indagaciones, investigaciones preliminares, procesos internos y cualquier otro en los que se discuta la responsabilidad correspondiente a los cargos asegurados y en general los incurridos para defenderse en cualquier tipo de investigación o proceso adelantados por organismos oficial de vigilancia y control o entes de investigación según los límites por: tipos de procesos y etapas procesales establecidos en este documento.
B11: INFORMACIÓN GENERAL:
B12: TOMADOR: | C12: =+B3 -> FISCALÍA GENERAL DE LA NACIÓN | G12: NIT. | H12: =+'G1. COND ADIC. TRDMC'!H10 -> 800.152.783-2
B13: ASEGURADO: | C13: FISCALÍA GENERAL DE LA NACIÓN Y/O CARGOS ASEGURADOS | G13: NIT. | H13: =+H12 -> 800.152.783-2
B14: BENEFICIARIO: | C14: FISCALÍA GENERAL DE LA NACIÓN Y/O CARGOS ASEGURADOS Y/O TERCEROS AFECTADOS | G14: NIT. | H14: =+H12 -> 800.152.783-2
B15: NOTA: | C15: CADA SUBLÍMITE O GASTOS OFRECIDOS EN FORMA ADICIONAL QUEDA CONTEMPLADO DENTRO DEL LÍMITE ASEGURADO.
B16: CRITERIOS DE EVALUACIÓN:
B17: CONDICIÓN REQUERIDA PARA EVALUACIÓN | E17: CRITERIO DE EVALUACIÓN | F17: PUNTAJE ESTABLECIDO | G17: OFRECIMIENTO DEL OFERENTE | H17: PUNTAJE OBTENIDO POR EL OFERENTE
B18: INCREMENTO DEL LÍMITE BÁSICO PARA LA COBERTURA DE PERJUICIOS O DETRIMENTO PATRIMONIAL. | E18: Se califica el aumento adicional del límite asegurado, únicamente relacionados en la tabla de rangos en la condición requerida para la evaluación. SIN COBRO DE PRIMA | F18: =+D23 -> 3
B19: Límite de $6.500.000.000 (vigencia 12.4. Anexo No. 1) Incluido los Gastos de Defensa. NOTA: Solo se acepta propuesta en los límites señados en los siguientes rangos. Ofrecimientos de otros valores diferentes serán evaluados con cero (0) puntos), excepto que sea superior al último rango. | D19: PUNTOS
B20: Ofrecimiento adicional superior a $400.000.000 y hasta $600.000.000 | D20: 0.36
B21: Ofrecimiento adicional superior a $700.000.000 y hasta $1.000.000.000 | D21: 0.6
B22: Ofrecimiento adicional superior a $1.5000.000.000 y hasta $2.000.000.000 | D22: 1.2
B23: Ofrecimiento adicional superior a $3.000.000.000 y hasta $5.000.000.000 | D23: 3
B24: INCREMENTO DEL LÍMITE BÁSICO PARA LA COBERTURA DE GASTOS DE DEFENSA. Incluidos en el límite de Perjuicios o Detrimento Patrimonial sin cobro de prima. NOTA: Solo se acepta propuesta en los límites señados en los siguientes rangos. Ofrecimientos de otros valores diferentes serán evaluados con cero (0) puntos), excepto que sea superior al último rango. | E24: Se califica el aumento adicional del límite asegurado, únicamente relacionados en la tabla de rangos en la condición requerida para la evaluación. SIN COBRO DE PRIMA | F24: =+D30 -> 9
B25: Límite de $3.250.000.000 (vigencia 12.4. Anexo No. 1) Incluidos en el límite de Perjuicios o Detrimento Patrimonial sin cobro de prima. | D25: PUNTOS
B26: Ofrecimiento adicional de $100.000.000 al límite básico. | D26: 0.9
B27: Ofrecimiento adicional de $300.000.000 al límite básico. | D27: 2.7
B28: Ofrecimiento adicional de $500.000.000 al límite básico. | D28: 4.5
B29: Ofrecimiento adicional de $800.000.000 al límite básico. | D29: 7.2
B30: Ofrecimiento adicional de $1.000.000.000 al límite básico. | D30: 9
B31: INCREMENTO DEL SUBLÍMITE DE GASTOS DE DEFENSA EN LOS PROCESOS DE INDAGACIÓN O INVESTIGACIONES PRELIMINARES o INDAGACIONES PREVIAS Y EN LA VINCULACIÓN PROCESAL HASTA FALLO QUE HAGA TRANSITO A COSA JUZGADA Incluidos en el límite de Perjuicios o Detrimento Patrimonial sin cobro de prima. | E31: Se califica el aumento adicional del límite asegurado conforme los valores indicados en los rangos. Salvo que sea superior al último rango para lo cual se calificara con el mayor puntaje del rango y los demás por regla de tres SIN COBRO DE PRIMA | F31: 10
B32: SUBLÍMITE POR CADA UNO DE LOS CARGO ASEGURADOS (ANEXO No. 1 numerales 12.7.1.1. y 12.7.1.2).
B33: El sublímite ofertado debe ser una cifra única aplicable para cada uno de los cargos asegurados | D33: PUNTOS
B34: Límite adicional al básico: $10.000.000 evento /vigencia | D34: 2
B35: Límite adicional al básico: $20.000.000 evento /vigencia | D35: 4
B36: Límite adicional al básico: $50.000.000 evento /vigencia | D36: 10
B37: ANTICIPO DE INDEMNIZACIÓN PARA EL PAGO DE HONORARIOS DEL 50%. NOTA: Si el aumento adicional del porcentaje de anticipo es condicionado a la demostración de la ocurrencia y cuantía, se califica con cero (0) puntos este factor. Se califica a partir del otorgamiento de un porcentaje mínimo adicional del 10% | E37: Se califica el aumento adicional del porcentaje ofrecido. Bajo la definición del texto de la condición obligatoria y sin estar condicionada a la demostración de ocurrencia y cuantía. | F37: 2
B38: EXTENSIÓN DE COBERTURA PARA PAGO DE MULTAS Y SANCIONES ADMINISTRATIVAS O TRIBUTARIAS (incluido en el límite de detrimento patrimonial) Se amparan los pagos de multas y sanciones de carácter administrativo o tributarias o indemnizaciones impuestas por cualquier organismo de control, siempre que la acción que da origen a la multa o sanción administrativa, tributaria o indemnización, que se derive de un acto incorrecto (error, omisión o negligencia) cometido sin dolo. Se extiende esta condición a los gastos en los que se discuta la imposición de multas y sanciones de carácter administrativo y tributario contra algún funcionario asegurado. | E38: Se califica el otorgamiento de esta condición | F38: 2
B39: Ofrecimiento de un sublímite de $50.000.000 evento /a gregado anual | D39: 0.5
B40: Ofrecimiento de un sublímite de $75.000.000 evento /a gregado anual | D40: 0.75
B41: Ofrecimiento de un sublímite de $100.000.000 evento /a gregado anual | D41: 1
B42: Ofrecimiento de un sublímite de $150.000.000 evento /a gregado anual | D42: 1.5
B43: Ofrecimiento de un sublímite de $200.000.000 evento /a gregado anual | D43: 2
...

Sheet G7. COND ADIC. IRF
B3: =+'G4. COND ADIC. AVIACIÓN'!B2 -> FISCALÍA GENERAL DE LA NACIÓN
B5: ANEXO No. 16 - FORMATO DE EVALUACIÓN DE LAS CONDICIONES TÉCNICAS ADICIONALES
B6: GRUPO No. 7
B7: PÓLIZA DE INFIDELIDAD Y RIESGOS FINANCIEROS
B8: OBJETO DEL SEGURO
B9: Amparar al asegurado las pérdidas, gastos y daños como consecuencia de actos deshonestos o fraudulentos cometidos por empleados del asegurado, solos o en concurso con otros, o con terceros, con la intención manifiesta de hacer que el asegurado sufra dicha pérdida. Se extienen el objeto del seguro a amparar el patrimonio del asegurado por la pérdida o daños de bienes propios y no propios por los cuales el Asegurado sea responsable tales como dineros efectivo y dinero en todas sus formas y representaciones, títulos valores y cualquier documento y forma material o inmaterial de representación de dinero, como consecuencia de los riesgos a que está expuesto el Asegurado en el giro normal de su actividad social.
B10: INFORMACIÓN GENERAL:
B11: TOMADOR: | C11: FISCALÍA GENERAL DE LA NACIÓN Y/O FONDO ESPECIAL PARA LA ADMINSTRACIÓN DE BIENES FEAB | G11: NIT. | H11: 800.152.783-2 / 901.148.337-1
B12: ASEGURADO: | C12: =+C11 -> FISCALÍA GENERAL DE LA NACIÓN Y/O FONDO ESPECIAL PARA LA ADMINSTRACIÓN DE BIENES FEAB | G12: NIT. | H12: =+H11 -> 800.152.783-2 / 901.148.337-1
B13: BENEFICIARIO: | C13: =+C11 -> FISCALÍA GENERAL DE LA NACIÓN Y/O FONDO ESPECIAL PARA LA ADMINSTRACIÓN DE BIENES FEAB | G13: NIT. | H13: =+H11 -> 800.152.783-2 / 901.148.337-1
B14: NOTA: | C14: CADA SUBLÍMITE O GASTOS OFRECIDOS EN FORMA ADICIONAL QUEDA CONTEMPLADO DENTRO DEL LÍMITE ASEGURADO.
B15: CRITERIOS DE EVALUACIÓN:
B16: CONDICIÓN REQUERIDA PARA EVALUACIÓN | E16: CRITERIO DE EVALUACIÓN | F16: PUNTAJE ESTABLECIDO | G16: OFRECIMIENTO DEL OFERENTE | H16: PUNTAJE OBTENIDO POR EL OFERENTE
B17: INCREMENTO DEL LÍMITE ASEGURADO $3.000.000.000 (vigencia 13.4 ANEXO 1). Se califica a partir del otorgamiento de un sublímite adicional de $200.000.000 | E17: Se califica el aumento adicional del LÍMITE ASEGURADO SIN COBRO DE PRIMA ADICIONAL | F17: 20
B18: ANTICIPO DE INDEMNIZACIÓN DEL 50% Se califica a partir del otorgamiento de un porcentaje mínimo adicional del 10% | E18: Se califica el aumento adicional del porcentaje ofrecido. Bajo la definición del texto de la condición obligatoria y sin estar condicionada a la demostración de ocurrencia y cuantía. | F18: 5
B19: BONO POR NO RECLAMACIÓN DIEZ (10%) POR CIENTO Está entendido y acordado que se otorga un descuento 10% de bono por no reclamación, pagadero a la expiración como devolución de prima bruta. Queda expresamente convenido y aceptado que la aseguradora efectuará el pago de la devolución del monto a que tenga derecho la entidad asegurada, por concepto de la Cláusula de Bono por no Reclamación, sin sujetar el mismo a la renovación y/o prórroga de la póliza, con la misma aseguradora y/o reaseguradores siempre y cuando la vigencia sea mínimo de un año. De igual forma se acuerdo que la aseguradora presentará a la entidad asegurada la liquidación de la devolución correspondiente, dentro de los treinta (30) días siguientes a la fecha de vencimiento de cada período anual de la vigencia de la póliza previa certificación expedida por el asegurado a la expiración de la póliza de no conocimiento de hechos o circunstancias que puedan afectar la póliza. “Lo anterior sujeto a carta de liberación de responsabilidad por parte del asegurado”. | E19: Se califica el otorgamiento de Bono por No reclamación | F19: 5
B20: MÁXIMO CALIFICACIÓN | F20: =SUM(F17:F19) -> 30 | G20: CALIFICACIÓN DEL OFERENTE | H20: =SUM(H18:H19) -> 0
B21: By: Tiger | H21: =+'METODOLOGÍA DE EVALUACIÓN'!G10 -> VERSIÓN: SEP 2026

Sheet G8. CON ADIC. SEMOVIENTES
B2: FISCALIA GENERAL DE LA NACIÓN
B3: ANEXO No. 16 - FORMATO DE EVALUACIÓN DE LAS CONDICIONES TÉCNICAS ADICIONALES
B4: GRUPO No. 8
B5: PÓLIZA DE SEGURO DE SEMOVIENTES
B6: OBJETO DEL SEGURO
B7: Amparar las pérdidas, lesiones y muerte natural o accidental que sufran los semovientes de propiedad o por los que sean legalmente responsables la Fiscalía General de la Nación y el Fondo Especial para la Administración de Bienes. NOTA: Se permite la presentación de oferta de esta cobertura, bajo póliza(s) o anexo(s) de cualquier ramo o ramos que tenga aprobado(s) el proponente, siempre y cuando cumpla con las condiciones exigidas en el presente Pliego de Condiciones.
B8: INFORMACIÓN GENERAL:
B9: TOMADOR: | C9: FISCALIA GENERAL DE LA NACIÓN | G9: NIT. | H9: 800152783-2
B10: ASEGURADO: | C10: FISCALIA GENERAL DE LA NACIÓN Y/O FONDO ESPECIAL PARA LA ADMINISTRACION DE BIENES FEAB | G10: NIT. | H10: 800152783-2 / 901.148.337-1
B11: BENEFICIARIO: | C11: FISCALIA GENERAL DE LA NACIÓN Y/O FONDO ESPECIAL PARA LA ADMINISTRACION DE BIENES FEAB | G11: NIT. | H11: =+H10 -> 800152783-2 / 901.148.337-1
B12: NOTA: | C12: CADA SUBLÍMITE OFRECIDO EN FORMA ADICIONAL QUEDA CONTEMPLADO DENTRO DEL LÍMITE ASEGURADO.
B13: CRITERIOS DE EVALUACIÓN:
B14: CONDICIÓN REQUERIDA PARA EVALUACIÓN | D14: PUNTOS | E14: CRITERIO DE EVALUACIÓN | F14: PUNTAJE ESTABLECIDO | G14: OFRECIMIENTO DEL PROPONENTE | H14: PUNTAJE OBTENIDO POR EL PROPONENTE
B15: ANEXO DE CIRUGIA. Sublímite de $5.000.000 evento / $20.000.000 (vigencia 14.5. Anexo No. 1) Queda convenido y acordado que la aseguradora reconocera hasta el monto estipulado los costos que se generen por las cirugias que requieran los semovientes. | D15: 5 | E15: Se califica el aumento adicional del sublímite evento. Hasta un monto total de $10.000.000 | F15: 5
A16: 1 | D16: 5 | E16: Se califica el aumento adicional del sublímite agregado anual. Hasta un monto total de $50.000.000 | F16: 5
B17: GASTOS MÉDICOS VETERINARIOS EN CASO DE ACCIDENTE O ENFERMEDAD (INCLUYENDO EXAMENES DE DIAGNOSTICO, HOSPITALIZACIÓN, MEDICAMENTOS Y DEMÁS ELEMENTOS NECESARIOS PARA EL TRATAMIENTO MÉDICO VETERINARIO) (operan por reembolso) Sublímite de $20.000.000 evento / $100.000.000 (vigencia 14.5. Anexo No. 1) Queda convenido y acordado que la aseguradora reconocera hasta el monto estipulado los costos que se generen por Gastos Médicos Veterinarios en caso de Accidente o enfermedad. | D17: 5 | E17: Se califica el aumento adicional del sublímite evento. Hasta un monto total de $40.000.000 | F17: 5
A18: 2 | D18: 5 | E18: Se califica el aumento adicional del sublímite agregado anual. Hasta un monto total de $200.000.000 | F18: 5
A19: 3 | B19: PROTOCOLO PROFILÁCTICO Sublímite de $1.000.000 evento / $15.000.000 (vigencia 14.5. Anexo No. 1) Queda convenido y acordado que la aseguradora reconocera el Protocolo Profiláctico determinado por la Entidad y aprobados por los médicos veterinarios de estas instituciones hasta el sublimite establecido para manejo preventivo y paraclínicos para todos los semovientes de la Entidad. | D19: 3.5 | E19: Se califica el aumento adicional del sublímite evento. Hasta un monto total de $5.000.000 | F19: 3.5
D20: 3.5 | E20: Se califica el aumento adicional del sublímite agregado anual. Hasta un monto total de $30.000.000 | F20: 3.5
