Workbook
Name Prueba2: 'INFO BASE'!$B$64:$E$83

Sheet Calculo ASEO
A2: ='[1]INFO BASE'!A2:S2 -> ASEO PLUS PEREIRA S.A. E.S.P.
A3: PROYECCIÓN DE SUSCRIPTORES, CONSUMOS, SUBSIDIOS Y CONTRIBUCIONES AÑO 2021
A4: SERVICIO DE ASEO
M5: P 2/2
A8: PROYECCIÓN DE SUSCRIPTORES (MERCADO NO AFORADO)
A10: TIPO | B10: 44197 | C10: 44228 | D10: 44256 | E10: 44287 | F10: 44317 | G10: 44348 | H10: 44378 | I10: 44409 | J10: 44440 | K10: 44470 | L10: 44501 | M10: 44531
A11: RE1 | B11: 2954 | C11: 2954 | D11: 2954 | E11: 2954 | F11: 2954 | G11: 2954 | H11: 2954 | I11: 2954 | J11: 2954 | K11: 2954 | L11: 2954 | M11: 2954
A12: RE2 | B12: 2465 | C12: 2465 | D12: 2465 | E12: 2465 | F12: 2465 | G12: 2465 | H12: 2465 | I12: 2465 | J12: 2465 | K12: 2465 | L12: 2465 | M12: 2465
A13: RE3 | B13: 3100 | C13: 3100 | D13: 3100 | E13: 3100 | F13: 3100 | G13: 3100 | H13: 3100 | I13: 3100 | J13: 3100 | K13: 3100 | L13: 3100 | M13: 3100
A14: RE4 | B14: 3240 | C14: 3241 | D14: 3242 | E14: 3242 | F14: 3427 | G14: 3411 | H14: 3540 | I14: 3533 | J14: 3541 | K14: 3541 | L14: 3541 | M14: 3842
A15: RE5 | B15: 2200 | C15: 2200 | D15: 2200 | E15: 2200 | F15: 2200 | G15: 2200 | H15: 2200 | I15: 2200 | J15: 2200 | K15: 2200 | L15: 2200 | M15: 2200
A16: RE6 | B16: 2315 | C16: 2315 | D16: 2315 | E16: 2315 | F16: 2315 | G16: 2315 | H16: 2315 | I16: 2315 | J16: 2315 | K16: 2315 | L16: 2315 | M16: 2315
A17: PP COM | B17: 680 | C17: 680 | D17: 680 | E17: 680 | F17: 680 | G17: 680 | H17: 680 | I17: 680 | J17: 680 | K17: 680 | L17: 680 | M17: 680
A18: PP IND | B18: 1 | C18: 2 | D18: 2 | E18: 2 | F18: 2 | G18: 2 | H18: 2 | I18: 2 | J18: 2 | K18: 2 | L18: 2 | M18: 2
A19: PP OFI | B19: 22 | C19: 22 | D19: 22 | E19: 22 | F19: 22 | G19: 22 | H19: 22 | I19: 22 | J19: 22 | K19: 22 | L19: 22 | M19: 22
A20: GP COM | B20: 7 | C20: 7 | D20: 7 | E20: 7 | F20: 7 | G20: 7 | H20: 7 | I20: 7 | J20: 7 | K20: 7 | L20: 7 | M20: 7
A21: GP IND | B21: 2 | C21: 2 | D21: 2 | E21: 2 | F21: 2 | G21: 2 | H21: 2 | I21: 2 | J21: 2 | K21: 2 | L21: 2 | M21: 2
A22: GP OFI | B22: 8 | C22: 8 | D22: 8 | E22: 8 | F22: 8 | G22: 8 | H22: 8 | I22: 8 | J22: 8 | K22: 8 | L22: 8 | M22: 8
A23: TOTAL | B23: =SUM(B11:B22) -> 16994 | C23: =SUM(C11:C22) -> 16996 | D23: =SUM(D11:D22) -> 16997 | E23: =SUM(E11:E22) -> 16997 | F23: =SUM(F11:F22) -> 17182 | G23: =SUM(G11:G22) -> 17166 | H23: =SUM(H11:H22) -> 17295 | I23: =SUM(I11:I22) -> 17288 | ... M23: =SUM(M11:M22) -> 17597
A26: PROYECCIÓN TONELADAS NO APROVECHABLES
A28: TIPO | B28: 44197 | C28: 44228 | D28: 44256 | E28: 44287 | F28: 44317 | G28: 44348 | H28: 44378 | I28: 44409 | J28: 44440 | K28: 44470 | L28: 44501 | M28: 44531
A29: RE1 | B29: =B11*PRONOSTICOS!H24 -> 91.574 | C29: =C11*PRONOSTICOS!I24 -> 101.0268 | D29: =D11*PRONOSTICOS!J24 -> 101.0268 | E29: =E11*PRONOSTICOS!K24 -> 100.7314 | F29: =F11*PRONOSTICOS!L24 -> 100.7314 | G29: =G11*PRONOSTICOS!M24 -> 100.7314 | H29: =H11*PRONOSTICOS!N24 -> 100.7314 | I29: =I11*PRONOSTICOS!O24 -> 96.3004 | ... M29: =M11*PRONOSTICOS!S24 -> 96.5958
A30: RE2 | B30: =B12*PRONOSTICOS!H25 -> 80.359 | C30: =C12*PRONOSTICOS!I25 -> 89.726 | D30: =D12*PRONOSTICOS!J25 -> 89.726 | E30: =E12*PRONOSTICOS!K25 -> 89.4795 | F30: =F12*PRONOSTICOS!L25 -> 89.4795 | G30: =G12*PRONOSTICOS!M25 -> 89.4795 | H30: =H12*PRONOSTICOS!N25 -> 89.4795 | I30: =I12*PRONOSTICOS!O25 -> 85.289 | ... M30: =M12*PRONOSTICOS!S25 -> 85.289
A31: RE3 | B31: =B13*PRONOSTICOS!H26 -> 104.47 | C31: =C13*PRONOSTICOS!I26 -> 116.56 | D31: =D13*PRONOSTICOS!J26 -> 116.56 | E31: =E13*PRONOSTICOS!K26 -> 116.25 | F31: =F13*PRONOSTICOS!L26 -> 116.25 | G31: =G13*PRONOSTICOS!M26 -> 116.25 | H31: =H13*PRONOSTICOS!N26 -> 116.25 | I31: =I13*PRONOSTICOS!O26 -> 110.67 | ... M31: =M13*PRONOSTICOS!S26 -> 110.98
A32: RE4 | B32: =B14*PRONOSTICOS!H27 -> 117.612 | C32: =C14*PRONOSTICOS!I27 -> 131.5846 | D32: =D14*PRONOSTICOS!J27 -> 131.6252 | E32: =E14*PRONOSTICOS!K27 -> 131.6252 | F32: =F14*PRONOSTICOS!L27 -> 139.1362 | G32: =G14*PRONOSTICOS!M27 -> 138.4866 | H32: =H14*PRONOSTICOS!N27 -> 143.724 | I32: =I14*PRONOSTICOS!O27 -> 136.3738 | ... M32: =M14*PRONOSTICOS!S27 -> 148.3012
A33: RE5 | B33: =B15*PRONOSTICOS!H28 -> 79.86 | C33: =C15*PRONOSTICOS!I28 -> 89.32 | D33: =D15*PRONOSTICOS!J28 -> 89.32 | E33: =E15*PRONOSTICOS!K28 -> 89.32 | F33: =F15*PRONOSTICOS!L28 -> 89.32 | G33: =G15*PRONOSTICOS!M28 -> 89.32 | H33: =H15*PRONOSTICOS!N28 -> 89.32 | I33: =I15*PRONOSTICOS!O28 -> 84.92 | ... M33: =M15*PRONOSTICOS!S28 -> 84.92
A34: RE6 | B34: =B16*PRONOSTICOS!H29 -> 114.361 | C34: =C16*PRONOSTICOS!I29 -> 129.177 | D34: =D16*PRONOSTICOS!J29 -> 129.177 | E34: =E16*PRONOSTICOS!K29 -> 128.9455 | F34: =F16*PRONOSTICOS!L29 -> 128.9455 | G34: =G16*PRONOSTICOS!M29 -> 128.9455 | H34: =H16*PRONOSTICOS!N29 -> 128.9455 | I34: =I16*PRONOSTICOS!O29 -> 122.4635 | ... M34: =M16*PRONOSTICOS!S29 -> 122.4635
A35: PP COM | B35: =B17*PRONOSTICOS!H30 -> 50.32 | C35: =C17*PRONOSTICOS!I30 -> 57.324 | D35: =D17*PRONOSTICOS!J30 -> 57.324 | E35: =E17*PRONOSTICOS!K30 -> 57.324 | F35: =F17*PRONOSTICOS!L30 -> 57.324 | G35: =G17*PRONOSTICOS!M30 -> 57.324 | H35: =H17*PRONOSTICOS!N30 -> 57.324 | I35: =I17*PRONOSTICOS!O30 -> 54.196 | ... M35: =M17*PRONOSTICOS!S30 -> 54.196
A36: PP IND | B36: =B18*PRONOSTICOS!H31 -> 0.074 | C36: =C18*PRONOSTICOS!I31 -> 0.1686 | D36: =D18*PRONOSTICOS!J31 -> 0.1686 | E36: =E18*PRONOSTICOS!K31 -> 0.1686 | F36: =F18*PRONOSTICOS!L31 -> 0.1686 | G36: =G18*PRONOSTICOS!M31 -> 0.1686 | H36: =H18*PRONOSTICOS!N31 -> 0.1686 | I36: =I18*PRONOSTICOS!O31 -> 0.1594 | ... M36: =M18*PRONOSTICOS!S31 -> 0.1594
A37: PP OFI | B37: =B19*PRONOSTICOS!H32 -> 1.628 | C37: =C19*PRONOSTICOS!I32 -> 1.8546 | D37: =D19*PRONOSTICOS!J32 -> 1.8546 | E37: =E19*PRONOSTICOS!K32 -> 1.8546 | F37: =F19*PRONOSTICOS!L32 -> 1.8546 | G37: =G19*PRONOSTICOS!M32 -> 1.8546 | H37: =H19*PRONOSTICOS!N32 -> 1.8546 | I37: =I19*PRONOSTICOS!O32 -> 1.7534 | ... M37: =M19*PRONOSTICOS!S32 -> 1.7534
A38: GP COM | B38: =PRONOSTICOS!H33 -> 5.24 | C38: =PRONOSTICOS!I33 -> 5.24 | D38: =PRONOSTICOS!J33 -> 5.24 | E38: =PRONOSTICOS!K33 -> 5.24 | F38: =PRONOSTICOS!L33 -> 5.24 | G38: =PRONOSTICOS!M33 -> 5.8 | H38: =PRONOSTICOS!N33 -> 5.8 | I38: =PRONOSTICOS!O33 -> 5.8 | ... M38: =PRONOSTICOS!S33 -> 5.8
A39: GP IND | B39: =PRONOSTICOS!H34 -> 1.62 | C39: =PRONOSTICOS!I34 -> 1.62 | D39: =PRONOSTICOS!J34 -> 1.62 | E39: =PRONOSTICOS!K34 -> 1.9 | F39: =PRONOSTICOS!L34 -> 1.9 | G39: =PRONOSTICOS!M34 -> 1.9 | H39: =PRONOSTICOS!N34 -> 1.9 | I39: =PRONOSTICOS!O34 -> 1.9 | ... M39: =PRONOSTICOS!S34 -> 1.9
A40: GP OFI | B40: =PRONOSTICOS!H35 -> 29 | C40: =PRONOSTICOS!I35 -> 29 | D40: =PRONOSTICOS!J35 -> 29 | E40: =PRONOSTICOS!K35 -> 29 | F40: =PRONOSTICOS!L35 -> 31 | G40: =PRONOSTICOS!M35 -> 31 | H40: =PRONOSTICOS!N35 -> 31 | I40: =PRONOSTICOS!O35 -> 31 | ... M40: =PRONOSTICOS!S35 -> 31
A41: TOTAL | B41: =SUM(B29:B40) -> 676.118 | C41: =SUM(C29:C40) -> 752.6016 | D41: =SUM(D29:D40) -> 752.6422 | E41: =SUM(E29:E40) -> 751.8388 | F41: =SUM(F29:F40) -> 761.3498 | G41: =SUM(G29:G40) -> 761.2602 | H41: =SUM(H29:H40) -> 766.4976 | I41: =SUM(I29:I40) -> 730.8255 | ... M41: =SUM(M29:M40) -> 743.3583
A44: PROYECCIÓN TONELADAS APROVECHABLES
A46: TIPO | B46: 44197 | C46: 44228 | D46: 44256 | E46: 44287 | F46: 44317 | G46: 44348 | H46: 44378 | I46: 44409 | J46: 44440 | K46: 44470 | L46: 44501 | M46: 44531
A47: RE1 | B47: =B11*PRONOSTICOS!H41 -> 1.7724 | C47: =C11*PRONOSTICOS!I41 -> 1.7724 | D47: =D11*PRONOSTICOS!J41 -> 1.7724 | E47: =E11*PRONOSTICOS!K41 -> 1.7724 | F47: =F11*PRONOSTICOS!L41 -> 1.7724 | G47: =G11*PRONOSTICOS!M41 -> 1.7724 | H47: =H11*PRONOSTICOS!N41 -> 2.0678 | I47: =I11*PRONOSTICOS!O41 -> 2.0678 | ... M47: =M11*PRONOSTICOS!S41 -> 2.0678
A48: RE2 | B48: =B12*PRONOSTICOS!H42 -> 1.479 | C48: =C12*PRONOSTICOS!I42 -> 1.479 | D48: =D12*PRONOSTICOS!J42 -> 1.479 | E48: =E12*PRONOSTICOS!K42 -> 1.479 | F48: =F12*PRONOSTICOS!L42 -> 1.479 | G48: =G12*PRONOSTICOS!M42 -> 1.479 | H48: =H12*PRONOSTICOS!N42 -> 1.7255 | I48: =I12*PRONOSTICOS!O42 -> 1.7255 | ... M48: =M12*PRONOSTICOS!S42 -> 1.7255
A49: RE3 | B49: =B13*PRONOSTICOS!H43 -> 1.86 | C49: =C13*PRONOSTICOS!I43 -> 1.86 | D49: =D13*PRONOSTICOS!J43 -> 1.86 | E49: =E13*PRONOSTICOS!K43 -> 1.86 | F49: =F13*PRONOSTICOS!L43 -> 1.86 | G49: =G13*PRONOSTICOS!M43 -> 1.86 | H49: =H13*PRONOSTICOS!N43 -> 2.17 | I49: =I13*PRONOSTICOS!O43 -> 2.17 | ... M49: =M13*PRONOSTICOS!S43 -> 2.17
A50: RE4 | B50: =B14*PRONOSTICOS!H44 -> 1.944 | C50: =C14*PRONOSTICOS!I44 -> 1.9446 | D50: =D14*PRONOSTICOS!J44 -> 1.9452 | E50: =E14*PRONOSTICOS!K44 -> 1.9452 | F50: =F14*PRONOSTICOS!L44 -> 2.0562 | G50: =G14*PRONOSTICOS!M44 -> 2.0466 | H50: =H14*PRONOSTICOS!N44 -> 2.478 | I50: =I14*PRONOSTICOS!O44 -> 2.4731 | ... M50: =M14*PRONOSTICOS!S44 -> 2.6894
...

Sheet INFO BASE
A2: ='[1]INFO BASE'!A2:S2 -> ASEO PLUS PEREIRA S.A. E.S.P.
A3: PROYECCIÓN DE SUSCRIPTORES, CONSUMOS, SUBSIDIOS Y CONTRIBUCIONES AÑO 2021
A4: SERVICIO DE ASEO
A7: SUSCRIPTORES ASEO
A9: TIPO | B9: 43101 | C9: 43132 | D9: 43160 | E9: 43191 | F9: 43221 | G9: 43252 | H9: 43282 | I9: 43313 | J9: 43344 | K9: 43374 | L9: 43405 | M9: 43435 | N9: 43466 | O9: 43497 | P9: 43525 | Q9: 43556 | R9: 43586 | S9: 43617 | T9: 43647 | U9: 43678 | V9: 43709 | W9: 43739 | X9: 43770 | Y9: 43800 | Z9: 43831 | AA9: 43862 | AB9: 43891 | AC9: 43922 | AD9: 43952
A10: RE1 | B10: 1185 | C10: 1186 | D10: 1186 | E10: 1185 | F10: 1185 | G10: 1185 | H10: 1185 | I10: 1185 | J10: 1185 | K10: 1185 | L10: 1185 | M10: 1185 | N10: 1185 | O10: 1185 | P10: 1185 | Q10: 1185 | R10: 1185 | S10: 1185 | T10: 1185 | U10: 1185 | V10: 1187 | W10: 1187 | X10: 2558 | Y10: 2558 | Z10: 2558 | AA10: 2871 | AB10: 2871
A11: RE2 | B11: 2106 | C11: 2155 | D11: 2320 | E11: 2320 | F11: 2703 | G11: 2702 | H11: 2695 | I11: 2695 | J11: 2705 | K11: 2705 | L11: 2692 | M11: 2928 | N11: 2930 | O11: 2930 | P11: 2930 | Q11: 3131 | R11: 3094 | S11: 3091 | T11: 3051 | U11: 3051 | V11: 3089 | W11: 3089 | X11: 2236 | Y11: 2236 | Z11: 2234 | AA11: 2355 | AB11: 2361
A12: RE3 | B12: 2571 | C12: 2638 | D12: 2638 | E12: 2639 | F12: 2640 | G12: 2640 | H12: 2639 | I12: 2639 | J12: 2630 | K12: 2630 | L12: 2630 | M12: 2628 | N12: 2630 | O12: 2632 | P12: 2707 | Q12: 2707 | R12: 2707 | S12: 2706 | T12: 2759 | U12: 2759 | V12: 2763 | W12: 2414 | X12: 2718 | Y12: 2715 | Z12: 2496 | AA12: 2590 | AB12: 2495
A13: RE4 | B13: 1847 | C13: 1856 | D13: 1856 | E13: 1856 | F13: 1971 | G13: 1968 | H13: 1973 | I13: 1968 | J13: 1945 | K13: 1943 | L13: 1943 | M13: 1944 | N13: 1943 | O13: 1945 | P13: 2054 | Q13: 2040 | R13: 2198 | S13: 2190 | T13: 2199 | U13: 2200 | V13: 2200 | W13: 2572 | X13: 2571 | Y13: 2572 | Z13: 2574 | AA13: 2574 | AB13: 2779
A14: RE5 | B14: 1286 | C14: 1582 | D14: 1582 | E14: 1582 | F14: 1582 | G14: 1582 | H14: 1593 | I14: 1593 | J14: 1487 | K14: 1487 | L14: 1487 | M14: 1487 | N14: 1487 | O14: 1487 | P14: 1487 | Q14: 1487 | R14: 1487 | S14: 1487 | T14: 1486 | U14: 1697 | V14: 1697 | W14: 1692 | X14: 1770 | Y14: 1775 | Z14: 1830 | AA14: 1830 | AB14: 2021
A15: RE6 | B15: 1811 | C15: 1817 | D15: 1817 | E15: 1817 | F15: 1817 | G15: 1817 | H15: 1817 | I15: 1817 | J15: 1789 | K15: 1789 | L15: 1789 | M15: 1787 | N15: 1789 | O15: 1789 | P15: 1917 | Q15: 2080 | R15: 2105 | S15: 2104 | T15: 2104 | U15: 2116 | V15: 2116 | W15: 2120 | X15: 2153 | Y15: 2154 | Z15: 2153 | AA15: 2153 | AB15: 2153
A16: PP COM | B16: 246 | C16: 241 | D16: 245 | E16: 247 | F16: 247 | G16: 247 | H16: 245 | I16: 248 | J16: 405 | K16: 388 | L16: 389 | M16: 457 | N16: 404 | O16: 400 | P16: 404 | Q16: 474 | R16: 449 | S16: 447 | T16: 446 | U16: 450 | V16: 451 | W16: 459 | X16: 461 | Y16: 462 | Z16: 458 | AA16: 459 | AB16: 601
A17: PP IND | B17: 0 | C17: 0 | D17: 0 | E17: 0 | F17: 0 | G17: 0 | H17: 0 | I17: 0 | J17: 0 | K17: 0 | L17: 0 | M17: 0 | N17: 0 | O17: 0 | P17: 0 | Q17: 0 | R17: 0 | S17: 0 | T17: 0 | U17: 0 | V17: 0 | W17: 1 | X17: 3 | Y17: 1 | Z17: 1 | AA17: 2 | AB17: 1
A18: PP OFI | B18: 3 | C18: 2 | D18: 3 | E18: 3 | F18: 3 | G18: 6 | H18: 1 | I18: 4 | J18: 4 | K18: 23 | L18: 23 | M18: 23 | N18: 23 | O18: 23 | P18: 23 | Q18: 22 | R18: 23 | S18: 22 | T18: 22 | U18: 22 | V18: 22 | W18: 0 | X18: 0 | Y18: 0 | Z18: 0 | AA18: 0 | AB18: 22
A19: GP COM | B19: 8 | C19: 9 | D19: 8 | E19: 7 | F19: 7 | G19: 8 | H19: 8 | I19: 7 | J19: 7 | K19: 7 | L19: 7 | M19: 7 | N19: 7 | O19: 9 | P19: 7 | Q19: 7 | R19: 8 | S19: 8 | T19: 8 | U19: 8 | V19: 7 | W19: 7 | X19: 8 | Y19: 8 | Z19: 8 | AA19: 8 | AB19: 7
A20: GP IND | B20: 0 | C20: 0 | D20: 0 | E20: 0 | F20: 0 | G20: 0 | H20: 0 | I20: 0 | J20: 0 | K20: 0 | L20: 0 | M20: 0 | N20: 0 | O20: 0 | P20: 0 | Q20: 0 | R20: 0 | S20: 0 | T20: 0 | U20: 0 | V20: 0 | W20: 0 | X20: 0 | Y20: 2 | Z20: 2 | AA20: 2 | AB20: 2
A21: GP OFI | B21: 7 | C21: 7 | D21: 7 | E21: 7 | F21: 7 | G21: 6 | H21: 8 | I21: 8 | J21: 8 | K21: 8 | L21: 8 | M21: 8 | N21: 8 | O21: 8 | P21: 8 | Q21: 8 | R21: 8 | S21: 8 | T21: 8 | U21: 8 | V21: 8 | W21: 8 | X21: 8 | Y21: 8 | Z21: 8 | AA21: 8 | AB21: 8
A22: TOTAL | B22: =SUM(B10:B21) -> 11070 | C22: =SUM(C10:C21) -> 11493 | D22: =SUM(D10:D21) -> 11662 | E22: =SUM(E10:E21) -> 11663 | F22: =SUM(F10:F21) -> 12162 | G22: =SUM(G10:G21) -> 12161 | H22: =SUM(H10:H21) -> 12164 | I22: =SUM(I10:I21) -> 12164 | ... AD22: =SUM(AD10:AD21) -> 0
A24: CONSUMOS FACTURABLES ASEO (NO APROVEHABLES)
A26: TIPO | B26: 43101 | C26: 43132 | D26: 43160 | E26: 43191 | F26: 43221 | G26: 43252 | H26: 43282 | I26: 43313 | J26: 43344 | K26: 43374 | L26: 43405 | M26: 43435 | N26: 43466 | O26: 43497 | P26: 43525 | Q26: 43556 | R26: 43586 | S26: 43617 | T26: 43647 | U26: 43678 | V26: 43709 | W26: 43739 | X26: 43770 | Y26: 43800 | Z26: 43831 | AA26: 43862 | AB26: 43891 | AC26: 43922 | AD26: 43952
A27: RE1 | B27: 0.033779687 | C27: 0.033779687 | D27: 0.033779687 | E27: 0.033779687 | F27: 0.033779687 | G27: 0.033779687 | H27: 0.03173137 | I27: 0.03173137 | J27: 0.03173137 | K27: 0.03173137 | L27: 0.03173137 | M27: 0.03173137 | N27: 0.037740279 | O27: 0.037740279 | P27: 0.037740279 | Q27: 0.037740279 | R27: 0.037740279 | S27: 0.037740279 | T27: 0.033707373 | U27: 0.033715803 | V27: 0.033715803 | W27: 0.033767394 | X27: 0.033767394 | Y27: 0.033767394 | Z27: 0.02858237 | AA27: 0.028601 | AB27: 0.028661 | AC27: 0.028661 | AD27: 0.028661
A28: RE2 | B28: 0.035880358 | C28: 0.035880358 | D28: 0.035880358 | E28: 0.035880358 | F28: 0.035880358 | G28: 0.035880358 | H28: 0.033629934 | I28: 0.033629934 | J28: 0.033629934 | K28: 0.033629934 | L28: 0.033629934 | M28: 0.033629934 | N28: 0.040178551 | O28: 0.040178551 | P28: 0.040178551 | Q28: 0.040178551 | R28: 0.040178551 | S28: 0.040178551 | T28: 0.035802907 | U28: 0.035811338 | V28: 0.035811338 | W28: 0.035871305 | X28: 0.035871305 | Y28: 0.035871305 | Z28: 0.029909459 | AA28: 0.029928 | AB28: 0.029988 | AC28: 0.029988 | AD28: 0.029988
A29: RE3 | B29: 0.037080741 | C29: 0.037080741 | D29: 0.037080741 | E29: 0.037080741 | F29: 0.037080741 | G29: 0.037080741 | H29: 0.034714828 | I29: 0.034714828 | J29: 0.034714828 | K29: 0.034714828 | L29: 0.034714828 | M29: 0.034714828 | N29: 0.04157185 | O29: 0.04157185 | P29: 0.04157185 | Q29: 0.04157185 | R29: 0.04157185 | S29: 0.04157185 | T29: 0.037000355 | U29: 0.037008786 | V29: 0.037008786 | W29: 0.037073539 | X29: 0.037073539 | Y29: 0.037073539 | Z29: 0.030839225 | AA29: 0.030858 | AB29: 0.030918 | AC29: 0.030918 | AD29: 0.030918
A30: RE4 | B30: 0.040081699 | C30: 0.040081699 | D30: 0.040081699 | E30: 0.040081699 | F30: 0.040081699 | G30: 0.040081699 | H30: 0.037427062 | I30: 0.037427062 | J30: 0.037427062 | K30: 0.037427062 | L30: 0.037427062 | M30: 0.037427062 | N30: 0.045055095 | O30: 0.045055095 | P30: 0.045055095 | Q30: 0.045055095 | R30: 0.045055095 | S30: 0.045055095 | T30: 0.039993976 | U30: 0.040002406 | V30: 0.040002406 | W30: 0.040079126 | X30: 0.040079126 | Y30: 0.040079126 | Z30: 0.033163638 | AA30: 0.033182 | AB30: 0.033242 | AC30: 0.033242 | AD30: 0.033242
A31: RE5 | B31: 0.046683807 | C31: 0.046683807 | D31: 0.046683807 | E31: 0.046683807 | F31: 0.046683807 | G31: 0.046683807 | H31: 0.043393978 | I31: 0.043393978 | J31: 0.043393978 | K31: 0.043393978 | L31: 0.043393978 | M31: 0.043393978 | N31: 0.052718236 | O31: 0.052718236 | P31: 0.052718236 | Q31: 0.052718236 | R31: 0.052718236 | S31: 0.052718236 | T31: 0.046579941 | U31: 0.046588371 | V31: 0.046588371 | W31: 0.046691416 | X31: 0.046691416 | Y31: 0.046691416 | Z31: 0.038277348 | AA31: 0.038296 | AB31: 0.038356 | AC31: 0.038356 | AD31: 0.038356
A32: RE6 | B32: 0.05508649 | C32: 0.05508649 | D32: 0.05508649 | E32: 0.05508649 | F32: 0.05508649 | G32: 0.05508649 | H32: 0.050988234 | I32: 0.050988234 | J32: 0.050988234 | K32: 0.050988234 | L32: 0.050988234 | M32: 0.050988234 | N32: 0.062471324 | O32: 0.062471324 | P32: 0.062471324 | Q32: 0.062471324 | R32: 0.062471324 | S32: 0.062471324 | T32: 0.054962078 | U32: 0.054970508 | V32: 0.054970508 | W32: 0.055107059 | X32: 0.055107059 | Y32: 0.055107059 | Z32: 0.044785706 | AA32: 0.044804 | AB32: 0.044864 | AC32: 0.044864 | AD32: 0.044864
A33: PP COM | B33: 0.083295495 | C33: 0.083295495 | D33: 0.083295495 | E33: 0.083295495 | F33: 0.083295495 | G33: 0.083295495 | H33: 0.076483236 | I33: 0.076483236 | J33: 0.076483236 | K33: 0.076483236 | L33: 0.076483236 | M33: 0.076483236 | N33: 0.095213833 | O33: 0.095213833 | P33: 0.095213833 | Q33: 0.095213833 | R33: 0.095213833 | S33: 0.095213833 | T33: 0.08310211 | U33: 0.08311054 | V33: 0.08311054 | W33: 0.083359573 | X33: 0.083359573 | Y33: 0.083359573 | Z33: 0.066635194 | AA33: 0.066654 | AB33: 0.066714 | AC33: 0.066714 | AD33: 0.066714
A34: PP IND | B34: 0.083295495 | C34: 0.083295495 | D34: 0.083295495 | E34: 0.083295495 | F34: 0.083295495 | G34: 0.083295495 | H34: 0.076483236 | I34: 0.076483236 | J34: 0.076483236 | K34: 0.076483236 | L34: 0.076483236 | M34: 0.076483236 | N34: 0.095213833 | O34: 0.095213833 | P34: 0.095213833 | Q34: 0.095213833 | R34: 0.095213833 | S34: 0.095213833 | T34: 0.08310211 | U34: 0.08311054 | V34: 0.08311054 | W34: 0.083359573 | X34: 0.083359573 | Y34: 0.083359573 | Z34: 0.066635194 | AA34: 0.066654 | AB34: 0.066714 | AC34: 0.066714 | AD34: 0.066714
A35: PP OFI | B35: 0.083295495 | C35: 0.083295495 | D35: 0.083295495 | E35: 0.083295495 | F35: 0.083295495 | G35: 0.083295495 | H35: 0.076483236 | I35: 0.076483236 | J35: 0.076483236 | K35: 0.076483236 | L35: 0.076483236 | M35: 0.076483236 | N35: 0.095213833 | O35: 0.095213833 | P35: 0.095213833 | Q35: 0.095213833 | R35: 0.095213833 | S35: 0.095213833 | T35: 0.08310211 | U35: 0.08311054 | V35: 0.08311054 | W35: 0.083359573 | X35: 0.083359573 | Y35: 0.083359573 | Z35: 0.066635194 | AA35: 0.066654 | AB35: 0.066714 | AC35: 0.066714 | AD35: 0.066714
A36: GP COM | B36: 5.6 | C36: 5.6 | D36: 5.6 | E36: 5.6 | F36: 5.6 | G36: 5.6 | H36: 5.6 | I36: 5.6 | J36: 5.6 | K36: 5.6 | L36: 5.6 | M36: 5.6 | N36: 5.6 | O36: 5.6 | P36: 5.6 | Q36: 5.6 | R36: 5.6 | S36: 5.6 | T36: 5.694633 | U36: 5.694633 | V36: 5.694633 | W36: 5.694633 | X36: 5.694633 | Y36: 5.694633 | Z36: 5.2434861 | AA36: 5.2434861 | AB36: 5.2434861 | AC36: 5.2434861 | AD36: 5.2434861
A37: GP IND | B37: 0 | C37: 0 | D37: 0 | E37: 0 | F37: 0 | G37: 0 | H37: 0 | I37: 0 | J37: 0 | K37: 0 | L37: 0 | M37: 0 | N37: 0 | O37: 0 | P37: 0 | Q37: 0 | R37: 0 | S37: 0 | T37: 0 | U37: 0 | V37: 0 | W37: 0 | X37: 0 | Y37: 0 | Z37: 1.6203465 | AA37: 1.6203465 | AB37: 1.6203465 | AC37: 1.6203465 | AD37: 1.6203465
A38: GP OFI | B38: 11 | C38: 11 | D38: 11 | E38: 11 | F38: 11 | G38: 11 | H38: 11 | I38: 11 | J38: 11 | K38: 11 | L38: 11 | M38: 11 | N38: 11 | O38: 11 | P38: 11 | Q38: 11 | R38: 11 | S38: 11 | T38: 28.943938 | U38: 28.943938 | V38: 28.943938 | W38: 28.943938 | X38: 28.943938 | Y38: 28.943938 | Z38: 28.945486 | AA38: 28.945486 | AB38: 28.945486 | AC38: 28.945486 | AD38: 28.945486
A39: TOTAL | B39: =SUM(B27:B38) -> 17.098479 | C39: =SUM(C27:C38) -> 17.098479 | D39: =SUM(D27:D38) -> 17.098479 | E39: =SUM(E27:E38) -> 17.098479 | F39: =SUM(F27:F38) -> 17.098479 | G39: =SUM(G27:G38) -> 17.098479 | H39: =SUM(H27:H38) -> 17.061335 | I39: =SUM(I27:I38) -> 17.061335 | ... AD39: =SUM(AD27:AD38) -> 36.21549
A41: CONSUMOS FACTURABLES ASEO (APROVEHABLES)
A43: TIPO | B43: 43101 | C43: 43132 | D43: 43160 | E43: 43191 | F43: 43221 | G43: 43252 | H43: 43282 | I43: 43313 | J43: 43344 | K43: 43374 | L43: 43405 | M43: 43435 | N43: 43466 | O43: 43497 | P43: 43525 | Q43: 43556 | R43: 43586 | S43: 43617 | T43: 43647 | U43: 43678 | V43: 43709 | W43: 43739 | X43: 43770 | Y43: 43800 | Z43: 43831 | AA43: 43862 | AB43: 43891 | AC43: 43922 | AD43: 43952
A44: RE1 | B44: 0 | C44: 0 | D44: 0 | E44: 0 | F44: 0 | G44: 0 | H44: 0.00026757155 | I44: 0.00026757155 | J44: 0.00026757155 | K44: 0.00026757155 | L44: 0.00026757155 | M44: 0.00026757155 | N44: 0.000316861 | O44: 0.000316861 | P44: 0.000316861 | Q44: 0.000316861 | R44: 0.000316861 | S44: 0.000316861 | T44: 0.0005 | U44: 0.0005 | V44: 0.0005 | W44: 0.0005 | X44: 0.0005 | Y44: 0.0005 | Z44: 0.0004 | AA44: 0.0004 | AB44: 0.0004 | AC44: 0.0004 | AD44: 0.0004
A45: RE2 | B45: 0 | C45: 0 | D45: 0 | E45: 0 | F45: 0 | G45: 0 | H45: 0.00026757155 | I45: 0.00026757155 | J45: 0.00026757155 | K45: 0.00026757155 | L45: 0.00026757155 | M45: 0.00026757155 | N45: 0.000316861 | O45: 0.000316861 | P45: 0.000316861 | Q45: 0.000316861 | R45: 0.000316861 | S45: 0.000316861 | T45: 0.0005 | U45: 0.0005 | V45: 0.0005 | W45: 0.0005 | X45: 0.0005 | Y45: 0.0005 | Z45: 0.0004 | AA45: 0.0004 | AB45: 0.0004 | AC45: 0.0004 | AD45: 0.0004
A46: RE3 | B46: 0 | C46: 0 | D46: 0 | E46: 0 | F46: 0 | G46: 0 | H46: 0.00026757155 | I46: 0.00026757155 | J46: 0.00026757155 | K46: 0.00026757155 | L46: 0.00026757155 | M46: 0.00026757155 | N46: 0.000316861 | O46: 0.000316861 | P46: 0.000316861 | Q46: 0.000316861 | R46: 0.000316861 | S46: 0.000316861 | T46: 0.0005 | U46: 0.0005 | V46: 0.0005 | W46: 0.0005 | X46: 0.0005 | Y46: 0.0005 | Z46: 0.0004 | AA46: 0.0004 | AB46: 0.0004 | AC46: 0.0004 | AD46: 0.0004
A47: RE4 | B47: 0 | C47: 0 | D47: 0 | E47: 0 | F47: 0 | G47: 0 | H47: 0.00026757155 | I47: 0.00026757155 | J47: 0.00026757155 | K47: 0.00026757155 | L47: 0.00026757155 | M47: 0.00026757155 | N47: 0.000316861 | O47: 0.000316861 | P47: 0.000316861 | Q47: 0.000316861 | R47: 0.000316861 | S47: 0.000316861 | T47: 0.0005 | U47: 0.0005 | V47: 0.0005 | W47: 0.0005 | X47: 0.0005 | Y47: 0.0005 | Z47: 0.0004 | AA47: 0.0004 | AB47: 0.0004 | AC47: 0.0004 | AD47: 0.0004
A48: RE5 | B48: 0 | C48: 0 | D48: 0 | E48: 0 | F48: 0 | G48: 0 | H48: 0.00026757155 | I48: 0.00026757155 | J48: 0.00026757155 | K48: 0.00026757155 | L48: 0.00026757155 | M48: 0.00026757155 | N48: 0.000316861 | O48: 0.000316861 | P48: 0.000316861 | Q48: 0.000316861 | R48: 0.000316861 | S48: 0.000316861 | T48: 0.0005 | U48: 0.0005 | V48: 0.0005 | W48: 0.0005 | X48: 0.0005 | Y48: 0.0005 | Z48: 0.0004 | AA48: 0.0004 | AB48: 0.0004 | AC48: 0.0004 | AD48: 0.0004
...

Sheet PRONOSTICOS
A2: SUSCRIPTORES ASEO
A4: TIPO | B4: 43983 | C4: 44013 | D4: 44044 | E4: 44075 | F4: 44105 | G4: 44136 | H4: 44166 | I4: 44197 | J4: 44228 | K4: 44256 | L4: 44287 | M4: 44317 | N4: 44348 | O4: 44378 | P4: 44409 | Q4: 44440 | R4: 44470 | S4: 44501 | T4: 44531
A5: RE1 | B5: 2871 | C5: 2871 | D5: 2871 | E5: 2871 | F5: 2871 | G5: 2871 | H5: 2871 | I5: 2954 | J5: 2954 | K5: 2954 | L5: 2954 | M5: 2954 | N5: 2954 | O5: 2954 | P5: 2954 | Q5: 2954 | R5: 2954 | S5: 2954 | T5: 2954
A6: RE2 | B6: 2361 | C6: 2361 | D6: 2361 | E6: 2361 | F6: 2361 | G6: 2361 | H6: 2361 | I6: 2495 | J6: 2495 | K6: 2495 | L6: 2495 | M6: 2495 | N6: 2495 | O6: 2495 | P6: 2495 | Q6: 2495 | R6: 2495 | S6: 2495 | T6: 2495
A7: RE3 | B7: 2544 | C7: 2536 | D7: 2538 | E7: 2512 | F7: 2512 | G7: 2510 | H7: 2679 | I7: 2532 | J7: 2533 | K7: 2639 | L7: 2594 | M7: 2640 | N7: 2615 | O7: 2620 | P7: 2619 | Q7: 2631 | R7: 2631 | S7: 2632 | T7: 2551
A8: RE4 | B8: 2761 | C8: 2904 | D8: 2897 | E8: 2905 | F8: 2906 | G8: 2906 | H8: 3241 | I8: 3240 | J8: 3241 | K8: 3242 | L8: 3242 | M8: 3427 | N8: 3411 | O8: 3540 | P8: 3533 | Q8: 3541 | R8: 3541 | S8: 3541 | T8: 3842
A9: RE5 | B9: 2021 | C9: 2021 | D9: 2021 | E9: 2021 | F9: 2021 | G9: 2021 | H9: 2021 | I9: 2095 | J9: 2095 | K9: 2095 | L9: 2095 | M9: 2095 | N9: 2095 | O9: 2095 | P9: 2095 | Q9: 2095 | R9: 2095 | S9: 2095 | T9: 2095
A10: RE6 | B10: 2165 | C10: 2165 | D10: 2165 | E10: 2165 | F10: 2165 | G10: 2165 | H10: 2165 | I10: 2165 | J10: 2165 | K10: 2165 | L10: 2165 | M10: 2165 | N10: 2166 | O10: 2166 | P10: 2166 | Q10: 2166 | R10: 2166 | S10: 2166 | T10: 2166
A11: PP COM | B11: 568 | C11: 568 | D11: 568 | E11: 568 | F11: 568 | G11: 572 | H11: 572 | I11: 572 | J11: 572 | K11: 572 | L11: 572 | M11: 572 | N11: 572 | O11: 573 | P11: 573 | Q11: 573 | R11: 573 | S11: 573 | T11: 573
A12: PP IND | B12: 1 | C12: 1 | D12: 1 | E12: 1 | F12: 1 | G12: 1 | H12: 1 | I12: 1 | J12: 2 | K12: 2 | L12: 2 | M12: 2 | N12: 2 | O12: 2 | P12: 2 | Q12: 2 | R12: 2 | S12: 2 | T12: 2
A13: PP OFI | B13: 22 | C13: 22 | D13: 22 | E13: 22 | F13: 22 | G13: 22 | H13: 22 | I13: 22 | J13: 22 | K13: 22 | L13: 22 | M13: 22 | N13: 22 | O13: 22 | P13: 22 | Q13: 22 | R13: 22 | S13: 22 | T13: 22
A14: GP COM | B14: 7 | C14: 7 | D14: 7 | E14: 7 | F14: 7 | G14: 7 | H14: 7 | I14: 7 | J14: 7 | K14: 7 | L14: 7 | M14: 7 | N14: 7 | O14: 7 | P14: 7 | Q14: 7 | R14: 7 | S14: 7 | T14: 7
A15: GP IND | B15: 2 | C15: 2 | D15: 2 | E15: 2 | F15: 2 | G15: 2 | H15: 2 | I15: 2 | J15: 2 | K15: 2 | L15: 2 | M15: 2 | N15: 2 | O15: 2 | P15: 2 | Q15: 2 | R15: 2 | S15: 2 | T15: 2
A16: GP OFI | B16: 8 | C16: 8 | D16: 8 | E16: 8 | F16: 8 | G16: 8 | H16: 8 | I16: 8 | J16: 8 | K16: 8 | L16: 8 | M16: 8 | N16: 8 | O16: 8 | P16: 8 | Q16: 8 | R16: 8 | S16: 8 | T16: 8
A17: TOTAL
A20: CONSUMOS FACTURABLES ASEO (NO APROVEHABLES)
A23: TIPO | B23: 44013 | C23: 44044 | D23: 44075 | E23: 44105 | F23: 44136 | G23: 44166 | H23: 44197 | I23: 44228 | J23: 44256 | K23: 44287 | L23: 44317 | M23: 44348 | N23: 44378 | O23: 44409 | P23: 44440 | Q23: 44470 | R23: 44501 | S23: 44531
A24: RE1 | B24: 0.0286 | C24: 0.0311 | D24: 0.0311 | E24: 0.0311 | F24: 0.0310 | G24: 0.0310 | H24: 0.031 | I24: 0.0342 | J24: 0.0342 | K24: 0.0341 | L24: 0.0341 | M24: 0.0341 | N24: 0.0341 | O24: 0.0326 | P24: 0.0326 | Q24: 0.0326 | R24: 0.0327 | S24: 0.0327
A25: RE2 | B25: 0.0299 | C25: 0.0327 | D25: 0.0327 | E25: 0.0327 | F25: 0.0326 | G25: 0.0326 | H25: 0.0326 | I25: 0.0364 | J25: 0.0364 | K25: 0.0363 | L25: 0.0363 | M25: 0.0363 | N25: 0.0363 | O25: 0.0346 | P25: 0.0346 | Q25: 0.0346 | R25: 0.0346 | S25: 0.0346
A26: RE3 | B26: 0.0309 | C26: 0.0337 | D26: 0.0337 | E26: 0.0337 | F26: 0.0337 | G26: 0.0337 | H26: 0.0337 | I26: 0.0376 | J26: 0.0376 | K26: 0.0375 | L26: 0.0375 | M26: 0.0375 | N26: 0.0375 | O26: 0.0357 | P26: 0.0357 | Q26: 0.0357 | R26: 0.0358 | S26: 0.0358
A27: RE4 | B27: 0.0332 | C27: 0.0364 | D27: 0.0363 | E27: 0.0363 | F27: 0.0363 | G27: 0.0363 | H27: 0.0363 | I27: 0.0406 | J27: 0.0406 | K27: 0.0406 | L27: 0.0406 | M27: 0.0406 | N27: 0.0406 | O27: 0.0386 | P27: 0.0386 | Q27: 0.0386 | R27: 0.0386 | S27: 0.0386
A28: RE5 | B28: 0.0332 | C28: 0.0364 | D28: 0.0363 | E28: 0.0363 | F28: 0.0363 | G28: 0.0363 | H28: 0.0363 | I28: 0.0406 | J28: 0.0406 | K28: 0.0406 | L28: 0.0406 | M28: 0.0406 | N28: 0.0406 | O28: 0.0386 | P28: 0.0386 | Q28: 0.0386 | R28: 0.0386 | S28: 0.0386
A29: RE6 | B29: 0.0448 | C29: 0.0495 | D29: 0.0495 | E29: 0.0495 | F29: 0.0494 | G29: 0.0494 | H29: 0.0494 | I29: 0.0558 | J29: 0.0558 | K29: 0.0557 | L29: 0.0557 | M29: 0.0557 | N29: 0.0557 | O29: 0.0529 | P29: 0.0529 | Q29: 0.0529 | R29: 0.0529 | S29: 0.0529
A30: PP COM | B30: 0.0667 | C30: 0.0741 | D30: 0.0741 | E30: 0.0741 | F30: 0.0740 | G30: 0.0740 | H30: 0.074 | I30: 0.0843 | J30: 0.0843 | K30: 0.0843 | L30: 0.0843 | M30: 0.0843 | N30: 0.0843 | O30: 0.0797 | P30: 0.0797 | Q30: 0.0797 | R30: 0.0797 | S30: 0.0797
A31: PP IND | B31: 0.0667 | C31: 0.0741 | D31: 0.0741 | E31: 0.0741 | F31: 0.0740 | G31: 0.0740 | H31: 0.074 | I31: 0.0843 | J31: 0.0843 | K31: 0.0843 | L31: 0.0843 | M31: 0.0843 | N31: 0.0843 | O31: 0.0797 | P31: 0.0797 | Q31: 0.0797 | R31: 0.0797 | S31: 0.0797
A32: PP OFI | B32: 0.0667 | C32: 0.0741 | D32: 0.0741 | E32: 0.0741 | F32: 0.0740 | G32: 0.0740 | H32: 0.074 | I32: 0.0843 | J32: 0.0843 | K32: 0.0843 | L32: 0.0843 | M32: 0.0843 | N32: 0.0843 | O32: 0.0797 | P32: 0.0797 | Q32: 0.0797 | R32: 0.0797 | S32: 0.0797
A33: GP COM | B33: 5.24 | C33: 5.24 | D33: 5.24 | E33: 5.24 | F33: 5.24 | G33: 5.24 | H33: 5.24 | I33: 5.24 | J33: 5.24 | K33: 5.24 | L33: 5.24 | M33: 5.8 | N33: 5.8 | O33: 5.8 | P33: 5.8 | Q33: 5.8 | R33: 5.8 | S33: 5.8
A34: GP IND | B34: 1.62 | C34: 1.62 | D34: 1.62 | E34: 1.62 | F34: 1.62 | G34: 1.62 | H34: 1.62 | I34: 1.62 | J34: 1.62 | K34: 1.9 | L34: 1.9 | M34: 1.9 | N34: 1.9 | O34: 1.9 | P34: 1.9 | Q34: 1.9 | R34: 1.9 | S34: 1.9
A35: GP OFI | B35: 29 | C35: 29 | D35: 29 | E35: 29 | F35: 29 | G35: 29 | H35: 29 | I35: 29 | J35: 29 | K35: 29 | L35: 31 | M35: 31 | N35: 31 | O35: 31 | P35: 31 | Q35: 31 | R35: 31 | S35: 31
A38: CONSUMOS FACTURABLES ASEO (APROVEHABLES)
A40: TIPO | B40: 44013 | C40: 44044 | D40: 44075 | E40: 44105 | F40: 44136 | G40: 44166 | H40: 44197 | I40: 44228 | J40: 44256 | K40: 44287 | L40: 44317 | M40: 44348 | N40: 44378 | O40: 44409 | P40: 44440 | Q40: 44470 | R40: 44501 | S40: 44531
A41: RE1 | B41: 0.0006 | C41: 0.0006 | D41: 0.0006 | E41: 0.0006 | F41: 0.0006 | G41: 0.0006 | H41: 0.0006 | I41: 0.0006 | J41: 0.0006 | K41: 0.0006 | L41: 0.0006 | M41: 0.0006 | N41: 0.0007 | O41: 0.0007 | P41: 0.0007 | Q41: 0.0007 | R41: 0.0007 | S41: 0.0007
A42: RE2 | B42: 0.0006 | C42: 0.0006 | D42: 0.0006 | E42: 0.0006 | F42: 0.0006 | G42: 0.0006 | H42: 0.0006 | I42: 0.0006 | J42: 0.0006 | K42: 0.0006 | L42: 0.0006 | M42: 0.0006 | N42: 0.0007 | O42: 0.0007 | P42: 0.0007 | Q42: 0.0007 | R42: 0.0007 | S42: 0.0007
A43: RE3 | B43: 0.0006 | C43: 0.0006 | D43: 0.0006 | E43: 0.0006 | F43: 0.0006 | G43: 0.0006 | H43: 0.0006 | I43: 0.0006 | J43: 0.0006 | K43: 0.0006 | L43: 0.0006 | M43: 0.0006 | N43: 0.0007 | O43: 0.0007 | P43: 0.0007 | Q43: 0.0007 | R43: 0.0007 | S43: 0.0007
A44: RE4 | B44: 0.0006 | C44: 0.0006 | D44: 0.0006 | E44: 0.0006 | F44: 0.0006 | G44: 0.0006 | H44: 0.0006 | I44: 0.0006 | J44: 0.0006 | K44: 0.0006 | L44: 0.0006 | M44: 0.0006 | N44: 0.0007 | O44: 0.0007 | P44: 0.0007 | Q44: 0.0007 | R44: 0.0007 | S44: 0.0007
A45: RE5 | B45: 0.0006 | C45: 0.0006 | D45: 0.0006 | E45: 0.0006 | F45: 0.0006 | G45: 0.0006 | H45: 0.0006 | I45: 0.0006 | J45: 0.0006 | K45: 0.0006 | L45: 0.0006 | M45: 0.0006 | N45: 0.0007 | O45: 0.0007 | P45: 0.0007 | Q45: 0.0007 | R45: 0.0007 | S45: 0.0007
A46: RE6 | B46: 0.0006 | C46: 0.0006 | D46: 0.0006 | E46: 0.0006 | F46: 0.0006 | G46: 0.0006 | H46: 0.0006 | I46: 0.0006 | J46: 0.0006 | K46: 0.0006 | L46: 0.0006 | M46: 0.0006 | N46: 0.0007 | O46: 0.0007 | P46: 0.0007 | Q46: 0.0007 | R46: 0.0007 | S46: 0.0007
A47: PP COM | B47: 0.0006 | C47: 0.0006 | D47: 0.0006 | E47: 0.0006 | F47: 0.0006 | G47: 0.0006 | H47: 0.0006 | I47: 0.0006 | J47: 0.0006 | K47: 0.0006 | L47: 0.0006 | M47: 0.0006 | N47: 0.0007 | O47: 0.0007 | P47: 0.0007 | Q47: 0.0007 | R47: 0.0007 | S47: 0.0007
A48: PP IND | B48: 0.0006 | C48: 0.0006 | D48: 0.0006 | E48: 0.0006 | F48: 0.0006 | G48: 0.0006 | H48: 0.0006 | I48: 0.0006 | J48: 0.0006 | K48: 0.0006 | L48: 0.0006 | M48: 0.0006 | N48: 0.0007 | O48: 0.0007 | P48: 0.0007 | Q48: 0.0007 | R48: 0.0007 | S48: 0.0007
A49: PP OFI | B49: 0.0006 | C49: 0.0006 | D49: 0.0006 | E49: 0.0006 | F49: 0.0006 | G49: 0.0006 | H49: 0.0006 | I49: 0.0006 | J49: 0.0006 | K49: 0.0006 | L49: 0.0006 | M49: 0.0006 | N49: 0.0007 | O49: 0.0007 | P49: 0.0007 | Q49: 0.0007 | R49: 0.0007 | S49: 0.0007
...
