Workbook
Name Prueba2: 'INFO BASE'!$B$64:$E$83

Sheet Calculo ASEO
A2: ='[1]INFO BASE'!A2:S2 -> ASEO PLUS PEREIRA S.A. E.S.P.
A3: PROYECCIÓN DE SUSCRIPTORES, CONSUMOS, SUBSIDIOS Y CONTRIBUCIONES AÑO 2021
A4: SERVICIO DE ASEO
M5: P 2/2
A8: PROYECCIÓN DE SUSCRIPTORES (MERCADO NO AFORADO)
A10: TIPO | B10: 44197 | C10: 44228 | D10: 44256 | E10: 44287 | F10: 44317 | G10: 44348 | H10: 44378 | I10: 44409 | J10: 44440 | K10: 44470 | L10: 44501 | M10: 44531
A11: RE1 | B11: 2954 | C11: 2954 | D11: 2954 | E11: 2954 | F11: 2954 | G11: 2954 | H11: 2954 | I11: 2954 | J11: 2954 | K11: 2954 | L11: 2954 | M11: 2954
A12: RE2 | B12: 2465 | C12: 2465 | D12: 2465 | E12: 2465 | F12: 2465 | G12: 2465 | H12: 2465 | I12: 2465 | J12: 2465 | K12: 2465 | L12: 2465 | M12: 2465
A13: RE3 | B13: 3100 | C13: 3100 | D13: 3100 | E13: 3100 | F13: 3100 | G13: 3100 | H13: 3100 | I13: 3100 | J13: 3100 | K13: 3100 | L13: 3100 | M13: 3100
A14: RE4 | B14: 3240 | C14: 3241 | D14: 3242 | E14: 3242 | F14: 3427 | G14: 3411 | H14: 3540 | I14: 3533 | J14: 3541 | K14: 3541 | L14: 3541 | M14: 3842
A15: RE5 | B15: 2200 | C15: 2200 | D15: 2200 | E15: 2200 | F15: 2200 | G15: 2200 | H15: 2200 | I15: 2200 | J15: 2200 | K15: 2200 | L15: 2200 | M15: 2200
A16: RE6 | B16: 2315 | C16: 2315 | D16: 2315 | E16: 2315 | F16: 2315 | G16: 2315 | H16: 2315 | I16: 2315 | J16: 2315 | K16: 2315 | L16: 2315 | M16: 2315
A17: PP COM | B17: 680 | C17: 680 | D17: 680 | E17: 680 | F17: 680 | G17: 680 | H17: 680 | I17: 680 | J17: 680 | K17: 680 | L17: 680 | M17: 680
A18: PP IND | B18: 1 | C18: 2 | D18: 2 | E18: 2 | F18: 2 | G18: 2 | H18: 2 | I18: 2 | J18: 2 | K18: 2 | L18: 2 | M18: 2
A19: PP OFI | B19: 22 | C19: 22 | D19: 22 | E19: 22 | F19: 22 | G19: 22 | H19: 22 | I19: 22 | J19: 22 | K19: 22 | L19: 22 | M19: 22
A20: GP COM | B20: 7 | C20: 7 | D20: 7 | E20: 7 | F20: 7 | G20: 7 | H20: 7 | I20: 7 | J20: 7 | K20: 7 | L20: 7 | M20: 7
A21: GP IND | B21: 2 | C21: 2 | D21: 2 | E21: 2 | F21: 2 | G21: 2 | H21: 2 | I21: 2 | J21: 2 | K21: 2 | L21: 2 | M21: 2
A22: GP OFI | B22: 8 | C22: 8 | D22: 8 | E22: 8 | F22: 8 | G22: 8 | H22: 8 | I22: 8 | J22: 8 | K22: 8 | L22: 8 | M22: 8
A23: TOTAL | B23: =SUM(B11:B22) -> 16994 | C23: =SUM(C11:C22) -> 16996 | D23: =SUM(D11:D22) -> 16997 | E23: =SUM(E11:E22) -> 16997 | F23: =SUM(F11:F22) -> 17182 | G23: =SUM(G11:G22) -> 17166 | H23: =SUM(H11:H22) -> 17295 | I23: =SUM(I11:I22) -> 17288 | ... M23: =SUM(M11:M22) -> 17597
A26: PROYECCIÓN TONELADAS NO APROVECHABLES
A28: TIPO | B28: 44197 | C28: 44228 | D28: 44256 | E28: 44287 | F28: 44317 | G28: 44348 | H28: 44378 | I28: 44409 | J28: 44440 | K28: 44470 | L28: 44501 | M28: 44531
A29: RE1 | B29: =B11*PRONOSTICOS!H24 -> 91.574 | C29: =C11*PRONOSTICOS!I24 -> 101.0268 | D29: =D11*PRONOSTICOS!J24 -> 101.0268 | E29: =E11*PRONOSTICOS!K24 -> 100.7314 | F29: =F11*PRONOSTICOS!L24 -> 100.7314 | G29: =G11*PRONOSTICOS!M24 -> 100.7314 | H29: =H11*PRONOSTICOS!N24 -> 100.7314 | I29: =I11*PRONOSTICOS!O24 -> 96.3004 | ... M29: =M11*PRONOSTICOS!S24 -> 96.5958
A30: RE2 | B30: =B12*PRONOSTICOS!H25 -> 80.359 | C30: =C12*PRONOSTICOS!I25 -> 89.726 | D30: =D12*PRONOSTICOS!J25 -> 89.726 | E30: =E12*PRONOSTICOS!K25 -> 89.4795 | F30: =F12*PRONOSTICOS!L25 -> 89.4795 | G30: =G12*PRONOSTICOS!M25 -> 89.4795 | H30: =H12*PRONOSTICOS!N25 -> 89.4795 | I30: =I12*PRONOSTICOS!O25 -> 85.289 | ... M30: =M12*PRONOSTICOS!S25 -> 85.289
A31: RE3 | B31: =B13*PRONOSTICOS!H26 -> 104.47 | C31: =C13*PRONOSTICOS!I26 -> 116.56 | D31: =D13*PRONOSTICOS!J26 -> 116.56 | E31: =E13*PRONOSTICOS!K26 -> 116.25 | F31: =F13*PRONOSTICOS!L26 -> 116.25 | G31: =G13*PRONOSTICOS!M26 -> 116.25 | H31: =H13*PRONOSTICOS!N26 -> 116.25 | I31: =I13*PRONOSTICOS!O26 -> 110.67 | ... M31: =M13*PRONOSTICOS!S26 -> 110.98
A32: RE4 | B32: =B14*PRONOSTICOS!H27 -> 117.612 | C32: =C14*PRONOSTICOS!I27 -> 131.5846 | D32: =D14*PRONOSTICOS!J27 -> 131.6252 | E32: =E14*PRONOSTICOS!K27 -> 131.6252 | F32: =F14*PRONOSTICOS!L27 -> 139.1362 | G32: =G14*PRONOSTICOS!M27 -> 138.4866 | H32: =H14*PRONOSTICOS!N27 -> 143.724 | I32: =I14*PRONOSTICOS!O27 -> 136.3738 | ... M32: =M14*PRONOSTICOS!S27 -> 148.3012
A33: RE5 | B33: =B15*PRONOSTICOS!H28 -> 79.86 | C33: =C15*PRONOSTICOS!I28 -> 89.32 | D33: =D15*PRONOSTICOS!J28 -> 89.32 | E33: =E15*PRONOSTICOS!K28 -> 89.32 | F33: =F15*PRONOSTICOS!L28 -> 89.32 | G33: =G15*PRONOSTICOS!M28 -> 89.32 | H33: =H15*PRONOSTICOS!N28 -> 89.32 | I33: =I15*PRONOSTICOS!O28 -> 84.92 | ... M33: =M15*PRONOSTICOS!S28 -> 84.92
A34: RE6 | B34: =B16*PRONOSTICOS!H29 -> 114.361 | C34: =C16*PRONOSTICOS!I29 -> 129.177 | D34: =D16*PRONOSTICOS!J29 -> 129.177 | E34: =E16*PRONOSTICOS!K29 -> 128.9455 | F34: =F16*PRONOSTICOS!L29 -> 128.9455 | G34: =G16*PRONOSTICOS!M29 -> 128.9455 | H34: =H16*PRONOSTICOS!N29 -> 128.9455 | I34: =I16*PRONOSTICOS!O29 -> 122.4635 | ... M34: =M16*PRONOSTICOS!S29 -> 122.4635
A35: PP COM | B35: =B17*PRONOSTICOS!H30 -> 50.32 | C35: =C17*PRONOSTICOS!I30 -> 57.324 | D35: =D17*PRONOSTICOS!J30 -> 57.324 | E35: =E17*PRONOSTICOS!K30 -> 57.324 | F35: =F17*PRONOSTICOS!L30 -> 57.324 | G35: =G17*PRONOSTICOS!M30 -> 57.324 | H35: =H17*PRONOSTICOS!N30 -> 57.324 | I35: =I17*PRONOSTICOS!O30 -> 54.196 | ... M35: =M17*PRONOSTICOS!S30 -> 54.196
A36: PP IND | B36: =B18*PRONOSTICOS!H31 -> 0.074 | C36: =C18*PRONOSTICOS!I31 -> 0.1686 | D36: =D18*PRONOSTICOS!J31 -> 0.1686 | E36: =E18*PRONOSTICOS!K31 -> 0.1686 | F36: =F18*PRONOSTICOS!L31 -> 0.1686 | G36: =G18*PRONOSTICOS!M31 -> 0.1686 | H36: =H18*PRONOSTICOS!N31 -> 0.1686 | I36: =I18*PRONOSTICOS!O31 -> 0.1594 | ... M36: =M18*PRONOSTICOS!S31 -> 0.1594
A37: PP OFI | B37: =B19*PRONOSTICOS!H32 -> 1.628 | C37: =C19*PRONOSTICOS!I32 -> 1.8546 | D37: =D19*PRONOSTICOS!J32 -> 1.8546 | E37: =E19*PRONOSTICOS!K32 -> 1.8546 | F37: =F19*PRONOSTICOS!L32 -> 1.8546 | G37: =G19*PRONOSTICOS!M32 -> 1.8546 | H37: =H19*PRONOSTICOS!N32 -> 1.8546 | I37: =I19*PRONOSTICOS!O32 -> 1.7534 | ... M37: =M19*PRONOSTICOS!S32 -> 1.7534
A38: GP COM | B38: =PRONOSTICOS!H33 -> 5.24 | C38: =PRONOSTICOS!I33 -> 5.24 | D38: =PRONOSTICOS!J33 -> 5.24 | E38: =PRONOSTICOS!K33 -> 5.24 | F38: =PRONOSTICOS!L33 -> 5.24 | G38: =PRONOSTICOS!M33 -> 5.8 | H38: =PRONOSTICOS!N33 -> 5.8 | I38: =PRONOSTICOS!O33 -> 5.8 | ... M38: =PRONOSTICOS!S33 -> 5.8
A39: GP IND | B39: =PRONOSTICOS!H34 -> 1.62 | C39: =PRONOSTICOS!I34 -> 1.62 | D39: =PRONOSTICOS!J34 -> 1.62 | E39: =PRONOSTICOS!K34 -> 1.9 | F39: =PRONOSTICOS!L34 -> 1.9 | G39: =PRONOSTICOS!M34 -> 1.9 | H39: =PRONOSTICOS!N34 -> 1.9 | I39: =PRONOSTICOS!O34 -> 1.9 | ... M39: =PRONOSTICOS!S34 -> 1.9
A40: GP OFI | B40: =PRONOSTICOS!H35 -> 29 | C40: =PRONOSTICOS!I35 -> 29 | D40: =PRONOSTICOS!J35 -> 29 | E40: =PRONOSTICOS!K35 -> 29 | F40: =PRONOSTICOS!L35 -> 31 | G40: =PRONOSTICOS!M35 -> 31 | H40: =PRONOSTICOS!N35 -> 31 | I40: =PRONOSTICOS!O35 -> 31 | ... M40: =PRONOSTICOS!S35 -> 31
A41: TOTAL | B41: =SUM(B29:B40) -> 676.118 | C41: =SUM(C29:C40) -> 752.6016 | D41: =SUM(D29:D40) -> 752.6422 | E41: =SUM(E29:E40) -> 751.8388 | F41: =SUM(F29:F40) -> 761.3498 | G41: =SUM(G29:G40) -> 761.2602 | H41: =SUM(H29:H40) -> 766.4976 | I41: =SUM(I29:I40) -> 730.8255 | ... M41: =SUM(M29:M40) -> 743.3583
A44: PROYECCIÓN TONELADAS APROVECHABLES
A46: TIPO | B46: 44197 | C46: 44228 | D46: 44256 | E46: 44287 | F46: 44317 | G46: 44348 | H46: 44378 | I46: 44409 | J46: 44440 | K46: 44470 | L46: 44501 | M46: 44531
A47: RE1 | B47: =B11*PRONOSTICOS!H41 -> 1.7724 | C47: =C11*PRONOSTICOS!I41 -> 1.7724 | D47: =D11*PRONOSTICOS!J41 -> 1.7724 | E47: =E11*PRONOSTICOS!K41 -> 1.7724 | F47: =F11*PRONOSTICOS!L41 -> 1.7724 | G47: =G11*PRONOSTICOS!M41 -> 1.7724 | H47: =H11*PRONOSTICOS!N41 -> 2.0678 | I47: =I11*PRONOSTICOS!O41 -> 2.0678 | ... M47: =M11*PRONOSTICOS!S41 -> 2.0678
A48: RE2 | B48: =B12*PRONOSTICOS!H42 -> 1.479 | C48: =C12*PRONOSTICOS!I42 -> 1.479 | D48: =D12*PRONOSTICOS!J42 -> 1.479 | E48: =E12*PRONOSTICOS!K42 -> 1.479 | F48: =F12*PRONOSTICOS!L42 -> 1.479 | G48: =G12*PRONOSTICOS!M42 -> 1.479 | H48: =H12*PRONOSTICOS!N42 -> 1.7255 | I48: =I12*PRONOSTICOS!O42 -> 1.7255 | ... M48: =M12*PRONOSTICOS!S42 -> 1.7255
A49: RE3 | B49: =B13*PRONOSTICOS!H43 -> 1.86 | C49: =C13*PRONOSTICOS!I43 -> 1.86 | D49: =D13*PRONOSTICOS!J43 -> 1.86 | E49: =E13*PRONOSTICOS!K43 -> 1.86 | F49: =F13*PRONOSTICOS!L43 -> 1.86 | G49: =G13*PRONOSTICOS!M43 -> 1.86 | H49: =H13*PRONOSTICOS!N43 -> 2.17 | I49: =I13*PRONOSTICOS!O43 -> 2.17 | ... M49: =M13*PRONOSTICOS!S43 -> 2.17
A50: RE4 | B50: =B14*PRONOSTICOS!H44 -> 1.944 | C50: =C14*PRONOSTICOS!I44 -> 1.9446 | D50: =D14*PRONOSTICOS!J44 -> 1.9452 | E50: =E14*PRONOSTICOS!K44 -> 1.9452 | F50: =F14*PRONOSTICOS!L44 -> 2.0562 | G50: =G14*PRONOSTICOS!M44 -> 2.0466 | H50: =H14*PRONOSTICOS!N44 -> 2.478 | I50: =I14*PRONOSTICOS!O44 -> 2.4731 | ... M50: =M14*PRONOSTICOS!S44 -> 2.6894
A51: RE5 | B51: =B15*PRONOSTICOS!H45 -> 1.32 | C51: =C15*PRONOSTICOS!I45 -> 1.32 | D51: =D15*PRONOSTICOS!J45 -> 1.32 | E51: =E15*PRONOSTICOS!K45 -> 1.32 | F51: =F15*PRONOSTICOS!L45 -> 1.32 | G51: =G15*PRONOSTICOS!M45 -> 1.32 | H51: =H15*PRONOSTICOS!N45 -> 1.54 | I51: =I15*PRONOSTICOS!O45 -> 1.54 | ... M51: =M15*PRONOSTICOS!S45 -> 1.54
A52: RE6 | B52: =B16*PRONOSTICOS!H46 -> 1.389 | C52: =C16*PRONOSTICOS!I46 -> 1.389 | D52: =D16*PRONOSTICOS!J46 -> 1.389 | E52: =E16*PRONOSTICOS!K46 -> 1.389 | F52: =F16*PRONOSTICOS!L46 -> 1.389 | G52: =G16*PRONOSTICOS!M46 -> 1.389 | H52: =H16*PRONOSTICOS!N46 -> 1.6205 | I52: =I16*PRONOSTICOS!O46 -> 1.6205 | ... M52: =M16*PRONOSTICOS!S46 -> 1.6205
A53: PP COM | B53: =B17*PRONOSTICOS!H47 -> 0.408 | C53: =C17*PRONOSTICOS!I47 -> 0.408 | D53: =D17*PRONOSTICOS!J47 -> 0.408 | E53: =E17*PRONOSTICOS!K47 -> 0.408 | F53: =F17*PRONOSTICOS!L47 -> 0.408 | G53: =G17*PRONOSTICOS!M47 -> 0.408 | H53: =H17*PRONOSTICOS!N47 -> 0.476 | I53: =I17*PRONOSTICOS!O47 -> 0.476 | ... M53: =M17*PRONOSTICOS!S47 -> 0.476
A54: PP IND | B54: =B18*PRONOSTICOS!H48 -> 0.0006 | C54: =C18*PRONOSTICOS!I48 -> 0.0012 | D54: =D18*PRONOSTICOS!J48 -> 0.0012 | E54: =E18*PRONOSTICOS!K48 -> 0.0012 | F54: =F18*PRONOSTICOS!L48 -> 0.0012 | G54: =G18*PRONOSTICOS!M48 -> 0.0012 | H54: =H18*PRONOSTICOS!N48 -> 0.0014 | I54: =I18*PRONOSTICOS!O48 -> 0.0014 | ... M54: =M18*PRONOSTICOS!S48 -> 0.0014
A55: PP OFI | B55: =B19*PRONOSTICOS!H49 -> 0.0132 | C55: =C19*PRONOSTICOS!I49 -> 0.0132 | D55: =D19*PRONOSTICOS!J49 -> 0.0132 | E55: =E19*PRONOSTICOS!K49 -> 0.0132 | F55: =F19*PRONOSTICOS!L49 -> 0.0132 | G55: =G19*PRONOSTICOS!M49 -> 0.0132 | H55: =H19*PRONOSTICOS!N49 -> 0.0154 | I55: =I19*PRONOSTICOS!O49 -> 0.0154 | ... M55: =M19*PRONOSTICOS!S49 -> 0.0154
A56: GP COM | B56: =B20*PRONOSTICOS!H50 -> 0.0042 | C56: =C20*PRONOSTICOS!I50 -> 0.0042 | D56: =D20*PRONOSTICOS!J50 -> 0.0042 | E56: =E20*PRONOSTICOS!K50 -> 0.0042 | F56: =F20*PRONOSTICOS!L50 -> 0.0042 | G56: =G20*PRONOSTICOS!M50 -> 0.0042 | H56: =H20*PRONOSTICOS!N50 -> 0.0049 | I56: =I20*PRONOSTICOS!O50 -> 0.0049 | ... M56: =M20*PRONOSTICOS!S50 -> 0.0049
A57: GP IND | B57: =B21*PRONOSTICOS!H51 -> 0.0012 | C57: =C21*PRONOSTICOS!I51 -> 0.0012 | D57: =D21*PRONOSTICOS!J51 -> 0.0012 | E57: =E21*PRONOSTICOS!K51 -> 0.0012 | F57: =F21*PRONOSTICOS!L51 -> 0.0012 | G57: =G21*PRONOSTICOS!M51 -> 0.0012 | H57: =H21*PRONOSTICOS!N51 -> 0.0014 | I57: =I21*PRONOSTICOS!O51 -> 0.0014 | ... M57: =M21*PRONOSTICOS!S51 -> 0.0014
A58: GP OFI | B58: =B22*PRONOSTICOS!H52 -> 0.0048 | C58: =C22*PRONOSTICOS!I52 -> 0.0048 | D58: =D22*PRONOSTICOS!J52 -> 0.0048 | E58: =E22*PRONOSTICOS!K52 -> 0.0048 | F58: =F22*PRONOSTICOS!L52 -> 0.0048 | G58: =G22*PRONOSTICOS!M52 -> 0.0048 | H58: =H22*PRONOSTICOS!N52 -> 0.0056 | I58: =I22*PRONOSTICOS!O52 -> 0.0056 | ... M58: =M22*PRONOSTICOS!S52 -> 0.0056
A59: TOTAL | B59: =SUM(B47:B58) -> 10.1964 | C59: =SUM(C47:C58) -> 10.1976 | D59: =SUM(D47:D58) -> 10.1982 | E59: =SUM(E47:E58) -> 10.1982 | F59: =SUM(F47:F58) -> 10.3092 | G59: =SUM(G47:G58) -> 10.2996 | H59: =SUM(H47:H58) -> 12.1065 | I59: =SUM(I47:I58) -> 12.1016 | ... M59: =SUM(M47:M58) -> 12.3179
A62: PROYECCIÓN EN COSTOS DE REFERENCIA
A64: COSTOS DE REFERENCIA | B64: 43831 | C64: 43862 | D64: 43891 | E64: 43922 | F64: 43952 | G64: 43983 | H64: 44013 | I64: 44044 | J64: 44075 | K64: 44105 | L64: 44136 | M64: 44166
A65: Costo de Comercialización | B65: 2045.2279 | C65: 2045.2279 | D65: 2045.2279 | E65: 2045.2279 | F65: 2045.2279 | G65: 2045.2279 | H65: 2045.2279 | I65: 2045.2279 | J65: 2045.2279 | K65: 2045.2279 | L65: 2045.2279 | M65: 2045.2279
A66: Costo de Limpieza Urbana | B66: 2658.951 | C66: 2658.951 | D66: 2658.951 | E66: 2658.951 | F66: 2658.951 | G66: 2658.951 | H66: 2658.951 | I66: 2658.951 | J66: 2658.951 | K66: 2658.951 | L66: 2658.951 | M66: 2658.951
A67: Costo de Barrido y Limpieza | B67: 12594.018 | C67: 12594.018 | D67: 12594.018 | E67: 12594.018 | F67: 12594.018 | G67: 12594.018 | H67: 12594.018 | I67: 12594.018 | J67: 12594.018 | K67: 12594.018 | L67: 12594.018 | M67: 12594.018
A68: Costo de Recolección y Transporte | B68: 113254.12 | C68: 113255.12 | D68: 113256.12 | E68: 113257.12 | F68: 113258.12 | G68: 113259.12 | H68: 116889.58 | I68: 116889.58 | J68: 116889.58 | K68: 116889.58 | L68: 116889.58 | M68: 116889.58
A69: Costo de Disposición Final | B69: 36794.525 | C69: 36794.525 | D69: 36794.525 | E69: 36794.525 | F69: 36794.525 | G69: 36794.525 | H69: 36794.525 | I69: 36794.525 | J69: 36794.525 | K69: 36794.525 | L69: 36794.525 | M69: 36794.525
A70: Costo de Tratamiento de Lixiviados | B70: 8059.0222 | C70: 8059.0222 | D70: 8059.0222 | E70: 8059.0222 | F70: 8059.0222 | G70: 8059.0222 | H70: 8059.0222 | I70: 8059.0222 | J70: 8059.0222 | K70: 8059.0222 | L70: 8059.0222 | M70: 8059.0222
A71: COSTO FIJO | B71: =B65+B66+B67 -> 17298.197 | C71: =C65+C66+C67 -> 17298.197 | D71: =D65+D66+D67 -> 17298.197 | E71: =E65+E66+E67 -> 17298.197 | F71: =F65+F66+F67 -> 17298.197 | G71: =G65+G66+G67 -> 17298.197 | H71: =H65+H66+H67 -> 17298.197 | I71: =I65+I66+I67 -> 17298.197 | ... M71: =M65+M66+M67 -> 17298.197
A72: COSTO VARIABLE N.A. | B72: =B68+B69+B70 -> 158107.67 | C72: =C68+C69+C70 -> 158108.67 | D72: =D68+D69+D70 -> 158109.67 | E72: =E68+E69+E70 -> 158110.67 | F72: =F68+F69+F70 -> 158111.67 | G72: =G68+G69+G70 -> 158112.67 | H72: =H68+H69+H70 -> 161743.12 | I72: =I68+I69+I70 -> 161743.12 | ... M72: =M68+M69+M70 -> 161743.12
A73: VALOR BASE APROVECHAM. | B73: 257865.26 | C73: 257865.26 | D73: 257865.26 | E73: 257865.26 | F73: 257865.26 | G73: 257865.26 | H73: 257865.26 | I73: 257865.26 | J73: 257865.26 | K73: 257865.26 | L73: 257865.26 | M73: 257865.26
A76: SUBSIDIOS Y CONTRIBUCIONES AL COSTO FIJO TOTAL
A78: TIPO | B78: 43831 | C78: 43862 | D78: 43891 | E78: 43922 | F78: 43952 | G78: 43983 | H78: 44013 | I78: 44044 | J78: 44075 | K78: 44105 | L78: 44136 | M78: 44166
A79: Estrato 1 | B79: =B$71*$B142*B11 -> -35360421 | C79: =C$71*$B142*C11 -> -35360421 | D79: =D$71*$B142*D11 -> -35360421 | E79: =E$71*$B142*E11 -> -35360421 | F79: =F$71*$B142*F11 -> -35360421 | G79: =G$71*$B142*G11 -> -35360421 | H79: =H$71*$B142*H11 -> -35360421 | I79: =I$71*$B142*I11 -> -35360421 | ... M79: =M$71*$B142*M11 -> -35360421
A80: Estrato 2 | B80: =B$71*$B143*B12 -> -16373781 | C80: =C$71*$B143*C12 -> -16373781 | D80: =D$71*$B143*D12 -> -16373781 | E80: =E$71*$B143*E12 -> -16373781 | F80: =F$71*$B143*F12 -> -16373781 | G80: =G$71*$B143*G12 -> -16373781 | H80: =H$71*$B143*H12 -> -16373781 | I80: =I$71*$B143*I12 -> -16373781 | ... M80: =M$71*$B143*M12 -> -16373781
A81: Estrato 3 | B81: =B$71*$B144*B13 -> -6810300.1 | C81: =C$71*$B144*C13 -> -6810300.1 | D81: =D$71*$B144*D13 -> -6810300.1 | E81: =E$71*$B144*E13 -> -6810300.1 | F81: =F$71*$B144*F13 -> -6810300.1 | G81: =G$71*$B144*G13 -> -6810300.1 | H81: =H$71*$B144*H13 -> -6810300.1 | I81: =I$71*$B144*I13 -> -6810300.1 | ... M81: =M$71*$B144*M13 -> -6810300.1
A82: Estrato 4 | B82: =B$71*$B145*B14 -> 0 | C82: =C$71*$B145*C14 -> 0 | D82: =D$71*$B145*D14 -> 0 | E82: =E$71*$B145*E14 -> 0 | F82: =F$71*$B145*F14 -> 0 | G82: =G$71*$B145*G14 -> 0 | H82: =H$71*$B145*H14 -> 0 | I82: =I$71*$B145*I14 -> 0 | ... M82: =M$71*$B145*M14 -> 0
A83: Estrato 5 | B83: =B$71*$B146*B15 -> 22338892 | C83: =C$71*$B146*C15 -> 22338892 | D83: =D$71*$B146*D15 -> 22338892 | E83: =E$71*$B146*E15 -> 22338892 | F83: =F$71*$B146*F15 -> 22338892 | G83: =G$71*$B146*G15 -> 22338892 | H83: =H$71*$B146*H15 -> 22338892 | I83: =I$71*$B146*I15 -> 22338892 | ... M83: =M$71*$B146*M15 -> 22338892
A84: Estrato 6 | B84: =B$71*$B147*B16 -> 27751411 | C84: =C$71*$B147*C16 -> 27751411 | D84: =D$71*$B147*D16 -> 27751411 | E84: =E$71*$B147*E16 -> 27751411 | F84: =F$71*$B147*F16 -> 27751411 | G84: =G$71*$B147*G16 -> 27751411 | H84: =H$71*$B147*H16 -> 27751411 | I84: =I$71*$B147*I16 -> 27751411 | ... M84: =M$71*$B147*M16 -> 27751411
A85: PP Comercial | B85: =B$71*$B148*B17 -> 6904748.3 | C85: =C$71*$B148*C17 -> 6904748.3 | D85: =D$71*$B148*D17 -> 6904748.3 | E85: =E$71*$B148*E17 -> 6904748.3 | F85: =F$71*$B148*F17 -> 6904748.3 | G85: =G$71*$B148*G17 -> 6904748.3 | H85: =H$71*$B148*H17 -> 6904748.3 | I85: =I$71*$B148*I17 -> 6904748.3 | ... M85: =M$71*$B148*M17 -> 6904748.3
A86: PP Industrial | B86: =B$71*$B149*B18 -> 5535.423 | C86: =C$71*$B149*C18 -> 11070.846 | D86: =D$71*$B149*D18 -> 11070.846 | E86: =E$71*$B149*E18 -> 11070.846 | F86: =F$71*$B149*F18 -> 11070.846 | G86: =G$71*$B149*G18 -> 11070.846 | H86: =H$71*$B149*H18 -> 11070.846 | I86: =I$71*$B149*I18 -> 11070.846 | ... M86: =M$71*$B149*M18 -> 11070.846
A87: PP Oficial | B87: =B$71*$B150*B19 -> 0 | C87: =C$71*$B150*C19 -> 0 | D87: =D$71*$B150*D19 -> 0 | E87: =E$71*$B150*E19 -> 0 | F87: =F$71*$B150*F19 -> 0 | G87: =G$71*$B150*G19 -> 0 | H87: =H$71*$B150*H19 -> 0 | I87: =I$71*$B150*I19 -> 0 | ... M87: =M$71*$B150*M19 -> 0
A88: GP Comercial | B88: =B$71*$B148*B20 -> 71078.291 | C88: =C$71*$B148*C20 -> 71078.291 | D88: =D$71*$B148*D20 -> 71078.291 | E88: =E$71*$B148*E20 -> 71078.291 | F88: =F$71*$B148*F20 -> 71078.291 | G88: =G$71*$B148*G20 -> 71078.291 | H88: =H$71*$B148*H20 -> 71078.291 | I88: =I$71*$B148*I20 -> 71078.291 | ... M88: =M$71*$B148*M20 -> 71078.291
A89: GP Industrial | B89: =B$71*$B149*B21 -> 11070.846 | C89: =C$71*$B149*C21 -> 11070.846 | D89: =D$71*$B149*D21 -> 11070.846 | E89: =E$71*$B149*E21 -> 11070.846 | F89: =F$71*$B149*F21 -> 11070.846 | G89: =G$71*$B149*G21 -> 11070.846 | H89: =H$71*$B149*H21 -> 11070.846 | I89: =I$71*$B149*I21 -> 11070.846 | ... M89: =M$71*$B149*M21 -> 11070.846
A90: GP Oficial | B90: =B$71*$B150*B22 -> 0 | C90: =C$71*$B150*C22 -> 0 | D90: =D$71*$B150*D22 -> 0 | E90: =E$71*$B150*E22 -> 0 | F90: =F$71*$B150*F22 -> 0 | G90: =G$71*$B150*G22 -> 0 | H90: =H$71*$B150*H22 -> 0 | I90: =I$71*$B150*I22 -> 0 | ... M90: =M$71*$B150*M22 -> 0
A91: TOTAL | B91: =SUM(B79:B90) -> -1461766.8 | C91: =SUM(C79:C90) -> -1456231.4 | D91: =SUM(D79:D90) -> -1456231.4 | E91: =SUM(E79:E90) -> -1456231.4 | F91: =SUM(F79:F90) -> -1456231.4 | G91: =SUM(G79:G90) -> -1456231.4 | H91: =SUM(H79:H90) -> -1456231.4 | I91: =SUM(I79:I90) -> -1456231.4 | ... M91: =SUM(M79:M90) -> -1456231.4
A94: SUBSIDIOS Y CONTRIBUCIONES AL COSTO VARIABLE DE NO APROVECHABLES
A96: TIPO | B96: 43831 | C96: 43862 | D96: 43891 | E96: 43922 | F96: 43952 | G96: 43983 | H96: 44013 | I96: 44044 | J96: 44075 | K96: 44105 | L96: 44136 | M96: 44166
A97: Estrato 1 | B97: =B$72*$B142*B29 -> -10019158 | C97: =C$72*$B142*C29 -> -11053463 | D97: =D$72*$B142*D29 -> -11053533 | E97: =E$72*$B142*E29 -> -11021283 | F97: =F$72*$B142*F29 -> -11021352 | G97: =G$72*$B142*G29 -> -11021422 | H97: =H$72*$B142*H29 -> -11274487 | I97: =I$72*$B142*I29 -> -10778542 | ... M97: =M$72*$B142*M29 -> -10811605
A98: Estrato 2 | B98: =B$72*$B143*B30 -> -4878863.6 | C98: =C$72*$B143*C30 -> -5447600 | D98: =D$72*$B143*D30 -> -5447634.4 | E98: =E$72*$B143*E30 -> -5432702.8 | F98: =F$72*$B143*F30 -> -5432737.1 | G98: =G$72*$B143*G30 -> -5432771.5 | H98: =H$72*$B143*H30 -> -5557514.5 | I98: =I$72*$B143*I30 -> -5297245.2 | ... M98: =M$72*$B143*M30 -> -5297245.2
A99: Estrato 3 | B99: =B$72*$B144*B31 -> -2097723.5 | C99: =C$72*$B144*C31 -> -2340501.6 | D99: =D$72*$B144*D31 -> -2340516.4 | E99: =E$72*$B144*E31 -> -2334306.4 | F99: =F$72*$B144*F31 -> -2334321.1 | G99: =G$72*$B144*G31 -> -2334335.9 | H99: =H$72*$B144*H31 -> -2387935.1 | I99: =I$72*$B144*I31 -> -2273314.2 | ... M99: =M$72*$B144*M31 -> -2279682
A100: Estrato 4 | B100: =B$72*$B145*B32 -> 0 | C100: =C$72*$B145*C32 -> 0 | D100: =D$72*$B145*D32 -> 0 | E100: =E$72*$B145*E32 -> 0 | F100: =F$72*$B145*F32 -> 0 | G100: =G$72*$B145*G32 -> 0 | H100: =H$72*$B145*H32 -> 0 | I100: =I$72*$B145*I32 -> 0 | ... M100: =M$72*$B145*M32 -> 0
A101: Estrato 5 | B101: =B$72*$B146*B33 -> 7411742.8 | C101: =C$72*$B146*C33 -> 8289770.2 | D101: =D$72*$B146*D33 -> 8289822.7 | E101: =E$72*$B146*E33 -> 8289875.1 | F101: =F$72*$B146*F33 -> 8289927.5 | G101: =G$72*$B146*G33 -> 8289980 | H101: =H$72*$B146*H33 -> 8480327.9 | I101: =I$72*$B146*I33 -> 8062577.7 | ... M101: =M$72*$B146*M33 -> 8062577.7
A102: Estrato 6 | B102: =B$72*$B147*B34 -> 12530376 | C102: =C$72*$B147*C34 -> 14153834 | D102: =D$72*$B147*D34 -> 14153924 | E102: =E$72*$B147*E34 -> 14128648 | F102: =F$72*$B147*F34 -> 14128737 | G102: =G$72*$B147*G34 -> 14128826 | H102: =H$72*$B147*H34 -> 14453241 | I102: =I$72*$B147*I34 -> 13726687 | ... M102: =M$72*$B147*M34 -> 13726687
A103: PP Comercial | B103: =B$72*$B148*B35 -> 4670159 | C103: =C$72*$B148*C35 -> 5320228.3 | D103: =D$72*$B148*D35 -> 5320261.9 | E103: =E$72*$B148*E35 -> 5320295.6 | F103: =F$72*$B148*F35 -> 5320329.2 | G103: =G$72*$B148*G35 -> 5320362.9 | H103: =H$72*$B148*H35 -> 5442524.8 | I103: =I$72*$B148*I35 -> 5145542.4 | ... M103: =M$72*$B148*M35 -> 5145542.4
A104: PP Industrial | B104: =B$72*$B149*B36 -> 3743.9896 | C104: =C$72*$B149*C36 -> 8530.2788 | D104: =D$72*$B149*D36 -> 8530.3328 | E104: =E$72*$B149*E36 -> 8530.3867 | F104: =F$72*$B149*F36 -> 8530.4407 | G104: =G$72*$B149*G36 -> 8530.4946 | H104: =H$72*$B149*H36 -> 8726.3651 | I104: =I$72*$B149*I36 -> 8250.1933 | ... M104: =M$72*$B149*M36 -> 8250.1933
A105: PP Oficial | B105: =B$72*$B150*B37 -> 0 | C105: =C$72*$B150*C37 -> 0 | D105: =D$72*$B150*D37 -> 0 | E105: =E$72*$B150*E37 -> 0 | F105: =F$72*$B150*F37 -> 0 | G105: =G$72*$B150*G37 -> 0 | H105: =H$72*$B150*H37 -> 0 | I105: =I$72*$B150*I37 -> 0 | ... M105: =M$72*$B150*M37 -> 0
A106: GP Comercial | B106: =B$72*$B148*B38 -> 486320.21 | C106: =C$72*$B148*C38 -> 486323.29 | D106: =D$72*$B148*D38 -> 486326.36 | E106: =E$72*$B148*E38 -> 486329.44 | F106: =F$72*$B148*F38 -> 486332.52 | G106: =G$72*$B148*G38 -> 538310.39 | H106: =H$72*$B148*H38 -> 550670.64 | I106: =I$72*$B148*I38 -> 550670.64 | ... M106: =M$72*$B148*M38 -> 550670.64
A107: GP Industrial | B107: =B$72*$B149*B39 -> 81963.015 | C107: =C$72*$B149*C39 -> 81963.533 | D107: =D$72*$B149*D39 -> 81964.052 | E107: =E$72*$B149*E39 -> 96131.286 | F107: =F$72*$B149*F39 -> 96131.894 | G107: =G$72*$B149*G39 -> 96132.502 | H107: =H$72*$B149*H39 -> 98339.82 | I107: =I$72*$B149*I39 -> 98339.82 | ... M107: =M$72*$B149*M39 -> 98339.82
A108: GP Oficial | B108: =B$72*$B150*B40 -> 0 | C108: =C$72*$B150*C40 -> 0 | D108: =D$72*$B150*D40 -> 0 | E108: =E$72*$B150*E40 -> 0 | F108: =F$72*$B150*F40 -> 0 | G108: =G$72*$B150*G40 -> 0 | H108: =H$72*$B150*H40 -> 0 | I108: =I$72*$B150*I40 -> 0 | ... M108: =M$72*$B150*M40 -> 0
A109: TOTAL | B109: =SUM(B97:B108) -> 8188560.4 | C109: =SUM(C97:C108) -> 9499085.2 | D109: =SUM(D97:D108) -> 9499145.2 | E109: =SUM(E97:E108) -> 9541517.8 | F109: =SUM(F97:F108) -> 9541578.2 | G109: =SUM(G97:G108) -> 9593613.3 | H109: =SUM(H97:H108) -> 9813894.2 | I109: =SUM(I97:I108) -> 9242966.6 | ... M109: =SUM(M97:M108) -> 9203535.7
A112: SUBSIDIOS Y CONTRIBUCIONES AL COSTO VARIABLE DE APROVECHABLES (VBA)
A114: TIPO | B114: 43831 | C114: 43862 | D114: 43891 | E114: 43922 | F114: 43952 | G114: 43983 | H114: 44013 | I114: 44044 | J114: 44075 | K114: 44105 | L114: 44136 | M114: 44166
A115: Estrato 1 | B115: =B$73*$B142*B47 -> -316271.94 | C115: =C$73*$B142*C47 -> -316271.94 | D115: =D$73*$B142*D47 -> -316271.94 | E115: =E$73*$B142*E47 -> -316271.94 | F115: =F$73*$B142*F47 -> -316271.94 | G115: =G$73*$B142*G47 -> -316271.94 | H115: =H$73*$B142*H47 -> -368983.93 | I115: =I$73*$B142*I47 -> -368983.93 | ... M115: =M$73*$B142*M47 -> -368983.93
A116: Estrato 2 | B116: =B$73*$B143*B48 -> -146450.96 | C116: =C$73*$B143*C48 -> -146450.96 | D116: =D$73*$B143*D48 -> -146450.96 | E116: =E$73*$B143*E48 -> -146450.96 | F116: =F$73*$B143*F48 -> -146450.96 | G116: =G$73*$B143*G48 -> -146450.96 | H116: =H$73*$B143*H48 -> -170859.46 | I116: =I$73*$B143*I48 -> -170859.46 | ... M116: =M$73*$B143*M48 -> -170859.46
A117: Estrato 3 | B117: =B$73*$B144*B49 -> -60912.931 | C117: =C$73*$B144*C49 -> -60912.931 | D117: =D$73*$B144*D49 -> -60912.931 | E117: =E$73*$B144*E49 -> -60912.931 | F117: =F$73*$B144*F49 -> -60912.931 | G117: =G$73*$B144*G49 -> -60912.931 | H117: =H$73*$B144*H49 -> -71065.086 | I117: =I$73*$B144*I49 -> -71065.086 | ... M117: =M$73*$B144*M49 -> -71065.086
A118: Estrato 4 | B118: =B$73*$B145*B50 -> 0 | C118: =C$73*$B145*C50 -> 0 | D118: =D$73*$B145*D50 -> 0 | E118: =E$73*$B145*E50 -> 0 | F118: =F$73*$B145*F50 -> 0 | G118: =G$73*$B145*G50 -> 0 | H118: =H$73*$B145*H50 -> 0 | I118: =I$73*$B145*I50 -> 0 | ... M118: =M$73*$B145*M50 -> 0
A119: Estrato 5 | B119: =B$73*$B146*B51 -> 199804.31 | C119: =C$73*$B146*C51 -> 199804.31 | D119: =D$73*$B146*D51 -> 199804.31 | E119: =E$73*$B146*E51 -> 199804.31 | F119: =F$73*$B146*F51 -> 199804.31 | G119: =G$73*$B146*G51 -> 199804.31 | H119: =H$73*$B146*H51 -> 233105.03 | I119: =I$73*$B146*I51 -> 233105.03 | ... M119: =M$73*$B146*M51 -> 233105.03
A120: Estrato 6 | B120: =B$73*$B147*B52 -> 248215.16 | C120: =C$73*$B147*C52 -> 248215.16 | D120: =D$73*$B147*D52 -> 248215.16 | E120: =E$73*$B147*E52 -> 248215.16 | F120: =F$73*$B147*F52 -> 248215.16 | G120: =G$73*$B147*G52 -> 248215.16 | H120: =H$73*$B147*H52 -> 289584.36 | I120: =I$73*$B147*I52 -> 289584.36 | ... M120: =M$73*$B147*M52 -> 289584.36
A121: PP Comercial | B121: =B$73*$B148*B53 -> 61757.697 | C121: =C$73*$B148*C53 -> 61757.697 | D121: =D$73*$B148*D53 -> 61757.697 | E121: =E$73*$B148*E53 -> 61757.697 | F121: =F$73*$B148*F53 -> 61757.697 | G121: =G$73*$B148*G53 -> 61757.697 | H121: =H$73*$B148*H53 -> 72050.647 | I121: =I$73*$B148*I53 -> 72050.647 | ... M121: =M$73*$B148*M53 -> 72050.647
A122: PP Industrial | B122: =B$73*$B149*B54 -> 49.510129 | C122: =C$73*$B149*C54 -> 99.020258 | D122: =D$73*$B149*D54 -> 99.020258 | E122: =E$73*$B149*E54 -> 99.020258 | F122: =F$73*$B149*F54 -> 99.020258 | G122: =G$73*$B149*G54 -> 99.020258 | H122: =H$73*$B149*H54 -> 115.52363 | I122: =I$73*$B149*I54 -> 115.52363 | ... M122: =M$73*$B149*M54 -> 115.52363
...

Sheet INFO BASE
A2: ='[1]INFO BASE'!A2:S2 -> ASEO PLUS PEREIRA S.A. E.S.P.
A3: PROYECCIÓN DE SUSCRIPTORES, CONSUMOS, SUBSIDIOS Y CONTRIBUCIONES AÑO 2021
A4: SERVICIO DE ASEO
A7: SUSCRIPTORES ASEO
A9: TIPO | B9: 43101 | C9: 43132 | D9: 43160 | E9: 43191 | F9: 43221 | G9: 43252 | H9: 43282 | I9: 43313 | J9: 43344 | K9: 43374 | L9: 43405 | M9: 43435 | N9: 43466 | O9: 43497 | P9: 43525 | Q9: 43556 | R9: 43586 | S9: 43617 | T9: 43647 | U9: 43678 | V9: 43709 | W9: 43739 | X9: 43770 | Y9: 43800 | Z9: 43831 | AA9: 43862 | AB9: 43891 | AC9: 43922 | AD9: 43952
A10: RE1 | B10: 1185 | C10: 1186 | D10: 1186 | E10: 1185 | F10: 1185 | G10: 1185 | H10: 1185 | I10: 1185 | J10: 1185 | K10: 1185 | L10: 1185 | M10: 1185 | N10: 1185 | O10: 1185 | P10: 1185 | Q10: 1185 | R10: 1185 | S10: 1185 | T10: 1185 | U10: 1185 | V10: 1187 | W10: 1187 | X10: 2558 | Y10: 2558 | Z10: 2558 | AA10: 2871 | AB10: 2871
A11: RE2 | B11: 2106 | C11: 2155 | D11: 2320 | E11: 2320 | F11: 2703 | G11: 2702 | H11: 2695 | I11: 2695 | J11: 2705 | K11: 2705 | L11: 2692 | M11: 2928 | N11: 2930 | O11: 2930 | P11: 2930 | Q11: 3131 | R11: 3094 | S11: 3091 | T11: 3051 | U11: 3051 | V11: 3089 | W11: 3089 | X11: 2236 | Y11: 2236 | Z11: 2234 | AA11: 2355 | AB11: 2361
A12: RE3 | B12: 2571 | C12: 2638 | D12: 2638 | E12: 2639 | F12: 2640 | G12: 2640 | H12: 2639 | I12: 2639 | J12: 2630 | K12: 2630 | L12: 2630 | M12: 2628 | N12: 2630 | O12: 2632 | P12: 2707 | Q12: 2707 | R12: 2707 | S12: 2706 | T12: 2759 | U12: 2759 | V12: 2763 | W12: 2414 | X12: 2718 | Y12: 2715 | Z12: 2496 | AA12: 2590 | AB12: 2495
A13: RE4 | B13: 1847 | C13: 1856 | D13: 1856 | E13: 1856 | F13: 1971 | G13: 1968 | H13: 1973 | I13: 1968 | J13: 1945 | K13: 1943 | L13: 1943 | M13: 1944 | N13: 1943 | O13: 1945 | P13: 2054 | Q13: 2040 | R13: 2198 | S13: 2190 | T13: 2199 | U13: 2200 | V13: 2200 | W13: 2572 | X13: 2571 | Y13: 2572 | Z13: 2574 | AA13: 2574 | AB13: 2779
A14: RE5 | B14: 1286 | C14: 1582 | D14: 1582 | E14: 1582 | F14: 1582 | G14: 1582 | H14: 1593 | I14: 1593 | J14: 1487 | K14: 1487 | L14: 1487 | M14: 1487 | N14: 1487 | O14: 1487 | P14: 1487 | Q14: 1487 | R14: 1487 | S14: 1487 | T14: 1486 | U14: 1697 | V14: 1697 | W14: 1692 | X14: 1770 | Y14: 1775 | Z14: 1830 | AA14: 1830 | AB14: 2021
A15: RE6 | B15: 1811 | C15: 1817 | D15: 1817 | E15: 1817 | F15: 1817 | G15: 1817 | H15: 1817 | I15: 1817 | J15: 1789 | K15: 1789 | L15: 1789 | M15: 1787 | N15: 1789 | O15: 1789 | P15: 1917 | Q15: 2080 | R15: 2105 | S15: 2104 | T15: 2104 | U15: 2116 | V15: 2116 | W15: 2120 | X15: 2153 | Y15: 2154 | Z15: 2153 | AA15: 2153 | AB15: 2153
A16: PP COM | B16: 246 | C16: 241 | D16: 245 | E16: 247 | F16: 247 | G16: 247 | H16: 245 | I16: 248 | J16: 405 | K16: 388 | L16: 389 | M16: 457 | N16: 404 | O16: 400 | P16: 404 | Q16: 474 | R16: 449 | S16: 447 | T16: 446 | U16: 450 | V16: 451 | W16: 459 | X16: 461 | Y16: 462 | Z16: 458 | AA16: 459 | AB16: 601
A17: PP IND | B17: 0 | C17: 0 | D17: 0 | E17: 0 | F17: 0 | G17: 0 | H17: 0 | I17: 0 | J17: 0 | K17: 0 | L17: 0 | M17: 0 | N17: 0 | O17: 0 | P17: 0 | Q17: 0 | R17: 0 | S17: 0 | T17: 0 | U17: 0 | V17: 0 | W17: 1 | X17: 3 | Y17: 1 | Z17: 1 | AA17: 2 | AB17: 1
A18: PP OFI | B18: 3 | C18: 2 | D18: 3 | E18: 3 | F18: 3 | G18: 6 | H18: 1 | I18: 4 | J18: 4 | K18: 23 | L18: 23 | M18: 23 | N18: 23 | O18: 23 | P18: 23 | Q18: 22 | R18: 23 | S18: 22 | T18: 22 | U18: 22 | V18: 22 | W18: 0 | X18: 0 | Y18: 0 | Z18: 0 | AA18: 0 | AB18: 22
A19: GP COM | B19: 8 | C19: 9 | D19: 8 | E19: 7 | F19: 7 | G19: 8 | H19: 8 | I19: 7 | J19: 7 | K19: 7 | L19: 7 | M19: 7 | N19: 7 | O19: 9 | P19: 7 | Q19: 7 | R19: 8 | S19: 8 | T19: 8 | U19: 8 | V19: 7 | W19: 7 | X19: 8 | Y19: 8 | Z19: 8 | AA19: 8 | AB19: 7
A20: GP IND | B20: 0 | C20: 0 | D20: 0 | E20: 0 | F20: 0 | G20: 0 | H20: 0 | I20: 0 | J20: 0 | K20: 0 | L20: 0 | M20: 0 | N20: 0 | O20: 0 | P20: 0 | Q20: 0 | R20: 0 | S20: 0 | T20: 0 | U20: 0 | V20: 0 | W20: 0 | X20: 0 | Y20: 2 | Z20: 2 | AA20: 2 | AB20: 2
A21: GP OFI | B21: 7 | C21: 7 | D21: 7 | E21: 7 | F21: 7 | G21: 6 | H21: 8 | I21: 8 | J21: 8 | K21: 8 | L21: 8 | M21: 8 | N21: 8 | O21: 8 | P21: 8 | Q21: 8 | R21: 8 | S21: 8 | T21: 8 | U21: 8 | V21: 8 | W21: 8 | X21: 8 | Y21: 8 | Z21: 8 | AA21: 8 | AB21: 8
A22: TOTAL | B22: =SUM(B10:B21) -> 11070 | C22: =SUM(C10:C21) -> 11493 | D22: =SUM(D10:D21) -> 11662 | E22: =SUM(E10:E21) -> 11663 | F22: =SUM(F10:F21) -> 12162 | G22: =SUM(G10:G21) -> 12161 | H22: =SUM(H10:H21) -> 12164 | I22: =SUM(I10:I21) -> 12164 | ... AD22: =SUM(AD10:AD21) -> 0
A24: CONSUMOS FACTURABLES ASEO (NO APROVEHABLES)
A26: TIPO | B26: 43101 | C26: 43132 | D26: 43160 | E26: 43191 | F26: 43221 | G26: 43252 | H26: 43282 | I26: 43313 | J26: 43344 | K26: 43374 | L26: 43405 | M26: 43435 | N26: 43466 | O26: 43497 | P26: 43525 | Q26: 43556 | R26: 43586 | S26: 43617 | T26: 43647 | U26: 43678 | V26: 43709 | W26: 43739 | X26: 43770 | Y26: 43800 | Z26: 43831 | AA26: 43862 | AB26: 43891 | AC26: 43922 | AD26: 43952
A27: RE1 | B27: 0.033779687 | C27: 0.033779687 | D27: 0.033779687 | E27: 0.033779687 | F27: 0.033779687 | G27: 0.033779687 | H27: 0.03173137 | I27: 0.03173137 | J27: 0.03173137 | K27: 0.03173137 | L27: 0.03173137 | M27: 0.03173137 | N27: 0.037740279 | O27: 0.037740279 | P27: 0.037740279 | Q27: 0.037740279 | R27: 0.037740279 | S27: 0.037740279 | T27: 0.033707373 | U27: 0.033715803 | V27: 0.033715803 | W27: 0.033767394 | X27: 0.033767394 | Y27: 0.033767394 | Z27: 0.02858237 | AA27: 0.028601 | AB27: 0.028661 | AC27: 0.028661 | AD27: 0.028661
A28: RE2 | B28: 0.035880358 | C28: 0.035880358 | D28: 0.035880358 | E28: 0.035880358 | F28: 0.035880358 | G28: 0.035880358 | H28: 0.033629934 | I28: 0.033629934 | J28: 0.033629934 | K28: 0.033629934 | L28: 0.033629934 | M28: 0.033629934 | N28: 0.040178551 | O28: 0.040178551 | P28: 0.040178551 | Q28: 0.040178551 | R28: 0.040178551 | S28: 0.040178551 | T28: 0.035802907 | U28: 0.035811338 | V28: 0.035811338 | W28: 0.035871305 | X28: 0.035871305 | Y28: 0.035871305 | Z28: 0.029909459 | AA28: 0.029928 | AB28: 0.029988 | AC28: 0.029988 | AD28: 0.029988
A29: RE3 | B29: 0.037080741 | C29: 0.037080741 | D29: 0.037080741 | E29: 0.037080741 | F29: 0.037080741 | G29: 0.037080741 | H29: 0.034714828 | I29: 0.034714828 | J29: 0.034714828 | K29: 0.034714828 | L29: 0.034714828 | M29: 0.034714828 | N29: 0.04157185 | O29: 0.04157185 | P29: 0.04157185 | Q29: 0.04157185 | R29: 0.04157185 | S29: 0.04157185 | T29: 0.037000355 | U29: 0.037008786 | V29: 0.037008786 | W29: 0.037073539 | X29: 0.037073539 | Y29: 0.037073539 | Z29: 0.030839225 | AA29: 0.030858 | AB29: 0.030918 | AC29: 0.030918 | AD29: 0.030918
A30: RE4 | B30: 0.040081699 | C30: 0.040081699 | D30: 0.040081699 | E30: 0.040081699 | F30: 0.040081699 | G30: 0.040081699 | H30: 0.037427062 | I30: 0.037427062 | J30: 0.037427062 | K30: 0.037427062 | L30: 0.037427062 | M30: 0.037427062 | N30: 0.045055095 | O30: 0.045055095 | P30: 0.045055095 | Q30: 0.045055095 | R30: 0.045055095 | S30: 0.045055095 | T30: 0.039993976 | U30: 0.040002406 | V30: 0.040002406 | W30: 0.040079126 | X30: 0.040079126 | Y30: 0.040079126 | Z30: 0.033163638 | AA30: 0.033182 | AB30: 0.033242 | AC30: 0.033242 | AD30: 0.033242
A31: RE5 | B31: 0.046683807 | C31: 0.046683807 | D31: 0.046683807 | E31: 0.046683807 | F31: 0.046683807 | G31: 0.046683807 | H31: 0.043393978 | I31: 0.043393978 | J31: 0.043393978 | K31: 0.043393978 | L31: 0.043393978 | M31: 0.043393978 | N31: 0.052718236 | O31: 0.052718236 | P31: 0.052718236 | Q31: 0.052718236 | R31: 0.052718236 | S31: 0.052718236 | T31: 0.046579941 | U31: 0.046588371 | V31: 0.046588371 | W31: 0.046691416 | X31: 0.046691416 | Y31: 0.046691416 | Z31: 0.038277348 | AA31: 0.038296 | AB31: 0.038356 | AC31: 0.038356 | AD31: 0.038356
A32: RE6 | B32: 0.05508649 | C32: 0.05508649 | D32: 0.05508649 | E32: 0.05508649 | F32: 0.05508649 | G32: 0.05508649 | H32: 0.050988234 | I32: 0.050988234 | J32: 0.050988234 | K32: 0.050988234 | L32: 0.050988234 | M32: 0.050988234 | N32: 0.062471324 | O32: 0.062471324 | P32: 0.062471324 | Q32: 0.062471324 | R32: 0.062471324 | S32: 0.062471324 | T32: 0.054962078 | U32: 0.054970508 | V32: 0.054970508 | W32: 0.055107059 | X32: 0.055107059 | Y32: 0.055107059 | Z32: 0.044785706 | AA32: 0.044804 | AB32: 0.044864 | AC32: 0.044864 | AD32: 0.044864
A33: PP COM | B33: 0.083295495 | C33: 0.083295495 | D33: 0.083295495 | E33: 0.083295495 | F33: 0.083295495 | G33: 0.083295495 | H33: 0.076483236 | I33: 0.076483236 | J33: 0.076483236 | K33: 0.076483236 | L33: 0.076483236 | M33: 0.076483236 | N33: 0.095213833 | O33: 0.095213833 | P33: 0.095213833 | Q33: 0.095213833 | R33: 0.095213833 | S33: 0.095213833 | T33: 0.08310211 | U33: 0.08311054 | V33: 0.08311054 | W33: 0.083359573 | X33: 0.083359573 | Y33: 0.083359573 | Z33: 0.066635194 | AA33: 0.066654 | AB33: 0.066714 | AC33: 0.066714 | AD33: 0.066714
A34: PP IND | B34: 0.083295495 | C34: 0.083295495 | D34: 0.083295495 | E34: 0.083295495 | F34: 0.083295495 | G34: 0.083295495 | H34: 0.076483236 | I34: 0.076483236 | J34: 0.076483236 | K34: 0.076483236 | L34: 0.076483236 | M34: 0.076483236 | N34: 0.095213833 | O34: 0.095213833 | P34: 0.095213833 | Q34: 0.095213833 | R34: 0.095213833 | S34: 0.095213833 | T34: 0.08310211 | U34: 0.08311054 | V34: 0.08311054 | W34: 0.083359573 | X34: 0.083359573 | Y34: 0.083359573 | Z34: 0.066635194 | AA34: 0.066654 | AB34: 0.066714 | AC34: 0.066714 | AD34: 0.066714
A35: PP OFI | B35: 0.083295495 | C35: 0.083295495 | D35: 0.083295495 | E35: 0.083295495 | F35: 0.083295495 | G35: 0.083295495 | H35: 0.076483236 | I35: 0.076483236 | J35: 0.076483236 | K35: 0.076483236 | L35: 0.076483236 | M35: 0.076483236 | N35: 0.095213833 | O35: 0.095213833 | P35: 0.095213833 | Q35: 0.095213833 | R35: 0.095213833 | S35: 0.095213833 | T35: 0.08310211 | U35: 0.08311054 | V35: 0.08311054 | W35: 0.083359573 | X35: 0.083359573 | Y35: 0.083359573 | Z35: 0.066635194 | AA35: 0.066654 | AB35: 0.066714 | AC35: 0.066714 | AD35: 0.066714
A36: GP COM | B36: 5.6 | C36: 5.6 | D36: 5.6 | E36: 5.6 | F36: 5.6 | G36: 5.6 | H36: 5.6 | I36: 5.6 | J36: 5.6 | K36: 5.6 | L36: 5.6 | M36: 5.6 | N36: 5.6 | O36: 5.6 | P36: 5.6 | Q36: 5.6 | R36: 5.6 | S36: 5.6 | T36: 5.694633 | U36: 5.694633 | V36: 5.694633 | W36: 5.694633 | X36: 5.694633 | Y36: 5.694633 | Z36: 5.2434861 | AA36: 5.2434861 | AB36: 5.2434861 | AC36: 5.2434861 | AD36: 5.2434861
A37: GP IND | B37: 0 | C37: 0 | D37: 0 | E37: 0 | F37: 0 | G37: 0 | H37: 0 | I37: 0 | J37: 0 | K37: 0 | L37: 0 | M37: 0 | N37: 0 | O37: 0 | P37: 0 | Q37: 0 | R37: 0 | S37: 0 | T37: 0 | U37: 0 | V37: 0 | W37: 0 | X37: 0 | Y37: 0 | Z37: 1.6203465 | AA37: 1.6203465 | AB37: 1.6203465 | AC37: 1.6203465 | AD37: 1.6203465
A38: GP OFI | B38: 11 | C38: 11 | D38: 11 | E38: 11 | F38: 11 | G38: 11 | H38: 11 | I38: 11 | J38: 11 | K38: 11 | L38: 11 | M38: 11 | N38: 11 | O38: 11 | P38: 11 | Q38: 11 | R38: 11 | S38: 11 | T38: 28.943938 | U38: 28.943938 | V38: 28.943938 | W38: 28.943938 | X38: 28.943938 | Y38: 28.943938 | Z38: 28.945486 | AA38: 28.945486 | AB38: 28.945486 | AC38: 28.945486 | AD38: 28.945486
A39: TOTAL | B39: =SUM(B27:B38) -> 17.098479 | C39: =SUM(C27:C38) -> 17.098479 | D39: =SUM(D27:D38) -> 17.098479 | E39: =SUM(E27:E38) -> 17.098479 | F39: =SUM(F27:F38) -> 17.098479 | G39: =SUM(G27:G38) -> 17.098479 | H39: =SUM(H27:H38) -> 17.061335 | I39: =SUM(I27:I38) -> 17.061335 | ... AD39: =SUM(AD27:AD38) -> 36.21549
A41: CONSUMOS FACTURABLES ASEO (APROVEHABLES)
A43: TIPO | B43: 43101 | C43: 43132 | D43: 43160 | E43: 43191 | F43: 43221 | G43: 43252 | H43: 43282 | I43: 43313 | J43: 43344 | K43: 43374 | L43: 43405 | M43: 43435 | N43: 43466 | O43: 43497 | P43: 43525 | Q43: 43556 | R43: 43586 | S43: 43617 | T43: 43647 | U43: 43678 | V43: 43709 | W43: 43739 | X43: 43770 | Y43: 43800 | Z43: 43831 | AA43: 43862 | AB43: 43891 | AC43: 43922 | AD43: 43952
A44: RE1 | B44: 0 | C44: 0 | D44: 0 | E44: 0 | F44: 0 | G44: 0 | H44: 0.00026757155 | I44: 0.00026757155 | J44: 0.00026757155 | K44: 0.00026757155 | L44: 0.00026757155 | M44: 0.00026757155 | N44: 0.000316861 | O44: 0.000316861 | P44: 0.000316861 | Q44: 0.000316861 | R44: 0.000316861 | S44: 0.000316861 | T44: 0.0005 | U44: 0.0005 | V44: 0.0005 | W44: 0.0005 | X44: 0.0005 | Y44: 0.0005 | Z44: 0.0004 | AA44: 0.0004 | AB44: 0.0004 | AC44: 0.0004 | AD44: 0.0004
A45: RE2 | B45: 0 | C45: 0 | D45: 0 | E45: 0 | F45: 0 | G45: 0 | H45: 0.00026757155 | I45: 0.00026757155 | J45: 0.00026757155 | K45: 0.00026757155 | L45: 0.00026757155 | M45: 0.00026757155 | N45: 0.000316861 | O45: 0.000316861 | P45: 0.000316861 | Q45: 0.000316861 | R45: 0.000316861 | S45: 0.000316861 | T45: 0.0005 | U45: 0.0005 | V45: 0.0005 | W45: 0.0005 | X45: 0.0005 | Y45: 0.0005 | Z45: 0.0004 | AA45: 0.0004 | AB45: 0.0004 | AC45: 0.0004 | AD45: 0.0004
A46: RE3 | B46: 0 | C46: 0 | D46: 0 | E46: 0 | F46: 0 | G46: 0 | H46: 0.00026757155 | I46: 0.00026757155 | J46: 0.00026757155 | K46: 0.00026757155 | L46: 0.00026757155 | M46: 0.00026757155 | N46: 0.000316861 | O46: 0.000316861 | P46: 0.000316861 | Q46: 0.000316861 | R46: 0.000316861 | S46: 0.000316861 | T46: 0.0005 | U46: 0.0005 | V46: 0.0005 | W46: 0.0005 | X46: 0.0005 | Y46: 0.0005 | Z46: 0.0004 | AA46: 0.0004 | AB46: 0.0004 | AC46: 0.0004 | AD46: 0.0004
A47: RE4 | B47: 0 | C47: 0 | D47: 0 | E47: 0 | F47: 0 | G47: 0 | H47: 0.00026757155 | I47: 0.00026757155 | J47: 0.00026757155 | K47: 0.00026757155 | L47: 0.00026757155 | M47: 0.00026757155 | N47: 0.000316861 | O47: 0.000316861 | P47: 0.000316861 | Q47: 0.000316861 | R47: 0.000316861 | S47: 0.000316861 | T47: 0.0005 | U47: 0.0005 | V47: 0.0005 | W47: 0.0005 | X47: 0.0005 | Y47: 0.0005 | Z47: 0.0004 | AA47: 0.0004 | AB47: 0.0004 | AC47: 0.0004 | AD47: 0.0004
A48: RE5 | B48: 0 | C48: 0 | D48: 0 | E48: 0 | F48: 0 | G48: 0 | H48: 0.00026757155 | I48: 0.00026757155 | J48: 0.00026757155 | K48: 0.00026757155 | L48: 0.00026757155 | M48: 0.00026757155 | N48: 0.000316861 | O48: 0.000316861 | P48: 0.000316861 | Q48: 0.000316861 | R48: 0.000316861 | S48: 0.000316861 | T48: 0.0005 | U48: 0.0005 | V48: 0.0005 | W48: 0.0005 | X48: 0.0005 | Y48: 0.0005 | Z48: 0.0004 | AA48: 0.0004 | AB48: 0.0004 | AC48: 0.0004 | AD48: 0.0004
A49: RE6 | B49: 0 | C49: 0 | D49: 0 | E49: 0 | F49: 0 | G49: 0 | H49: 0.00026757155 | I49: 0.00026757155 | J49: 0.00026757155 | K49: 0.00026757155 | L49: 0.00026757155 | M49: 0.00026757155 | N49: 0.000316861 | O49: 0.000316861 | P49: 0.000316861 | Q49: 0.000316861 | R49: 0.000316861 | S49: 0.000316861 | T49: 0.0005 | U49: 0.0005 | V49: 0.0005 | W49: 0.0005 | X49: 0.0005 | Y49: 0.0005 | Z49: 0.0004 | AA49: 0.0004 | AB49: 0.0004 | AC49: 0.0004 | AD49: 0.0004
A50: PP COM | B50: 0 | C50: 0 | D50: 0 | E50: 0 | F50: 0 | G50: 0 | H50: 0.00026757155 | I50: 0.00026757155 | J50: 0.00026757155 | K50: 0.00026757155 | L50: 0.00026757155 | M50: 0.00026757155 | N50: 0.000316861 | O50: 0.000316861 | P50: 0.000316861 | Q50: 0.000316861 | R50: 0.000316861 | S50: 0.000316861 | T50: 0.0005 | U50: 0.0005 | V50: 0.0005 | W50: 0.0005 | X50: 0.0005 | Y50: 0.0005 | Z50: 0.0004 | AA50: 0.0004 | AB50: 0.0004 | AC50: 0.0004 | AD50: 0.0004
A51: PP IND | B51: 0 | C51: 0 | D51: 0 | E51: 0 | F51: 0 | G51: 0 | H51: 0.00026757155 | I51: 0.00026757155 | J51: 0.00026757155 | K51: 0.00026757155 | L51: 0.00026757155 | M51: 0.00026757155 | N51: 0.000316861 | O51: 0.000316861 | P51: 0.000316861 | Q51: 0.000316861 | R51: 0.000316861 | S51: 0.000316861 | T51: 0.0005 | U51: 0.0005 | V51: 0.0005 | W51: 0.0005 | X51: 0.0005 | Y51: 0.0005 | Z51: 0.0004 | AA51: 0.0004 | AB51: 0.0004 | AC51: 0.0004 | AD51: 0.0004
A52: PP OFI | B52: 0 | C52: 0 | D52: 0 | E52: 0 | F52: 0 | G52: 0 | H52: 0.00026757155 | I52: 0.00026757155 | J52: 0.00026757155 | K52: 0.00026757155 | L52: 0.00026757155 | M52: 0.00026757155 | N52: 0.000316861 | O52: 0.000316861 | P52: 0.000316861 | Q52: 0.000316861 | R52: 0.000316861 | S52: 0.000316861 | T52: 0.0005 | U52: 0.0005 | V52: 0.0005 | W52: 0.0005 | X52: 0.0005 | Y52: 0.0005 | Z52: 0.0004 | AA52: 0.0004 | AB52: 0.0004 | AC52: 0.0004 | AD52: 0.0004
A53: GP COM | B53: 0 | C53: 0 | D53: 0 | E53: 0 | F53: 0 | G53: 0 | H53: 0.00026757155 | I53: 0.00026757155 | J53: 0.00026757155 | K53: 0.00026757155 | L53: 0.00026757155 | M53: 0.00026757155 | N53: 0.000316861 | O53: 0.000316861 | P53: 0.000316861 | Q53: 0.000316861 | R53: 0.000316861 | S53: 0.000316861 | T53: 0.0005 | U53: 0.0005 | V53: 0.0005 | W53: 0.0005 | X53: 0.0005 | Y53: 0.0005 | Z53: 0.0004 | AA53: 0.0004 | AB53: 0.0004 | AC53: 0.0004 | AD53: 0.0004
A54: GP IND | B54: 0 | C54: 0 | D54: 0 | E54: 0 | F54: 0 | G54: 0 | H54: 0.00026757155 | I54: 0.00026757155 | J54: 0.00026757155 | K54: 0.00026757155 | L54: 0.00026757155 | M54: 0.00026757155 | N54: 0.000316861 | O54: 0.000316861 | P54: 0.000316861 | Q54: 0.000316861 | R54: 0.000316861 | S54: 0.000316861 | T54: 0.0005 | U54: 0.0005 | V54: 0.0005 | W54: 0.0005 | X54: 0.0005 | Y54: 0.0005 | Z54: 0.0004 | AA54: 0.0004 | AB54: 0.0004 | AC54: 0.0004 | AD54: 0.0004
A55: GP OFI | B55: 0 | C55: 0 | D55: 0 | E55: 0 | F55: 0 | G55: 0 | H55: 0.00026757155 | I55: 0.00026757155 | J55: 0.00026757155 | K55: 0.00026757155 | L55: 0.00026757155 | M55: 0.00026757155 | N55: 0.000316861 | O55: 0.000316861 | P55: 0.000316861 | Q55: 0.000316861 | R55: 0.000316861 | S55: 0.000316861 | T55: 0.0005 | U55: 0.0005 | V55: 0.0005 | W55: 0.0005 | X55: 0.0005 | Y55: 0.0005 | Z55: 0.0004 | AA55: 0.0004 | AB55: 0.0004 | AC55: 0.0004 | AD55: 0.0004
A56: TOTAL | B56: =SUM(B44:B55) -> 0 | C56: =SUM(C44:C55) -> 0 | D56: =SUM(D44:D55) -> 0 | E56: =SUM(E44:E55) -> 0 | F56: =SUM(F44:F55) -> 0 | G56: =SUM(G44:G55) -> 0 | H56: =SUM(H44:H55) -> 0.0032108586 | I56: =SUM(I44:I55) -> 0.0032108586 | ... AD56: =SUM(AD44:AD55) -> 0.0048
A59: INFORMACIÓN HISTÓRICA PARA LA PROYECCIÓN DE SUBSIDIOS DE LA VIGENCIA 2020
A60: P 3/6

Sheet PRONOSTICOS
A2: SUSCRIPTORES ASEO
A4: TIPO | B4: 43983 | C4: 44013 | D4: 44044 | E4: 44075 | F4: 44105 | G4: 44136 | H4: 44166 | I4: 44197 | J4: 44228 | K4: 44256 | L4: 44287 | M4: 44317 | N4: 44348 | O4: 44378 | P4: 44409 | Q4: 44440 | R4: 44470 | S4: 44501 | T4: 44531
A5: RE1 | B5: 2871 | C5: 2871 | D5: 2871 | E5: 2871 | F5: 2871 | G5: 2871 | H5: 2871 | I5: 2954 | J5: 2954 | K5: 2954 | L5: 2954 | M5: 2954 | N5: 2954 | O5: 2954 | P5: 2954 | Q5: 2954 | R5: 2954 | S5: 2954 | T5: 2954
A6: RE2 | B6: 2361 | C6: 2361 | D6: 2361 | E6: 2361 | F6: 2361 | G6: 2361 | H6: 2361 | I6: 2495 | J6: 2495 | K6: 2495 | L6: 2495 | M6: 2495 | N6: 2495 | O6: 2495 | P6: 2495 | Q6: 2495 | R6: 2495 | S6: 2495 | T6: 2495
A7: RE3 | B7: 2544 | C7: 2536 | D7: 2538 | E7: 2512 | F7: 2512 | G7: 2510 | H7: 2679 | I7: 2532 | J7: 2533 | K7: 2639 | L7: 2594 | M7: 2640 | N7: 2615 | O7: 2620 | P7: 2619 | Q7: 2631 | R7: 2631 | S7: 2632 | T7: 2551
A8: RE4 | B8: 2761 | C8: 2904 | D8: 2897 | E8: 2905 | F8: 2906 | G8: 2906 | H8: 3241 | I8: 3240 | J8: 3241 | K8: 3242 | L8: 3242 | M8: 3427 | N8: 3411 | O8: 3540 | P8: 3533 | Q8: 3541 | R8: 3541 | S8: 3541 | T8: 3842
A9: RE5 | B9: 2021 | C9: 2021 | D9: 2021 | E9: 2021 | F9: 2021 | G9: 2021 | H9: 2021 | I9: 2095 | J9: 2095 | K9: 2095 | L9: 2095 | M9: 2095 | N9: 2095 | O9: 2095 | P9: 2095 | Q9: 2095 | R9: 2095 | S9: 2095 | T9: 2095
A10: RE6 | B10: 2165 | C10: 2165 | D10: 2165 | E10: 2165 | F10: 2165 | G10: 2165 | H10: 2165 | I10: 2165 | J10: 2165 | K10: 2165 | L10: 2165 | M10: 2165 | N10: 2166 | O10: 2166 | P10: 2166 | Q10: 2166 | R10: 2166 | S10: 2166 | T10: 2166
A11: PP COM | B11: 568 | C11: 568 | D11: 568 | E11: 568 | F11: 568 | G11: 572 | H11: 572 | I11: 572 | J11: 572 | K11: 572 | L11: 572 | M11: 572 | N11: 572 | O11: 573 | P11: 573 | Q11: 573 | R11: 573 | S11: 573 | T11: 573
A12: PP IND | B12: 1 | C12: 1 | D12: 1 | E12: 1 | F12: 1 | G12: 1 | H12: 1 | I12: 1 | J12: 2 | K12: 2 | L12: 2 | M12: 2 | N12: 2 | O12: 2 | P12: 2 | Q12: 2 | R12: 2 | S12: 2 | T12: 2
A13: PP OFI | B13: 22 | C13: 22 | D13: 22 | E13: 22 | F13: 22 | G13: 22 | H13: 22 | I13: 22 | J13: 22 | K13: 22 | L13: 22 | M13: 22 | N13: 22 | O13: 22 | P13: 22 | Q13: 22 | R13: 22 | S13: 22 | T13: 22
A14: GP COM | B14: 7 | C14: 7 | D14: 7 | E14: 7 | F14: 7 | G14: 7 | H14: 7 | I14: 7 | J14: 7 | K14: 7 | L14: 7 | M14: 7 | N14: 7 | O14: 7 | P14: 7 | Q14: 7 | R14: 7 | S14: 7 | T14: 7
A15: GP IND | B15: 2 | C15: 2 | D15: 2 | E15: 2 | F15: 2 | G15: 2 | H15: 2 | I15: 2 | J15: 2 | K15: 2 | L15: 2 | M15: 2 | N15: 2 | O15: 2 | P15: 2 | Q15: 2 | R15: 2 | S15: 2 | T15: 2
A16: GP OFI | B16: 8 | C16: 8 | D16: 8 | E16: 8 | F16: 8 | G16: 8 | H16: 8 | I16: 8 | J16: 8 | K16: 8 | L16: 8 | M16: 8 | N16: 8 | O16: 8 | P16: 8 | Q16: 8 | R16: 8 | S16: 8 | T16: 8
A17: TOTAL
A20: CONSUMOS FACTURABLES ASEO (NO APROVEHABLES)
A23: TIPO | B23: 44013 | C23: 44044 | D23: 44075 | E23: 44105 | F23: 44136 | G23: 44166 | H23: 44197 | I23: 44228 | J23: 44256 | K23: 44287 | L23: 44317 | M23: 44348 | N23: 44378 | O23: 44409 | P23: 44440 | Q23: 44470 | R23: 44501 | S23: 44531
A24: RE1 | B24: 0.0286 | C24: 0.0311 | D24: 0.0311 | E24: 0.0311 | F24: 0.0310 | G24: 0.0310 | H24: 0.031 | I24: 0.0342 | J24: 0.0342 | K24: 0.0341 | L24: 0.0341 | M24: 0.0341 | N24: 0.0341 | O24: 0.0326 | P24: 0.0326 | Q24: 0.0326 | R24: 0.0327 | S24: 0.0327
A25: RE2 | B25: 0.0299 | C25: 0.0327 | D25: 0.0327 | E25: 0.0327 | F25: 0.0326 | G25: 0.0326 | H25: 0.0326 | I25: 0.0364 | J25: 0.0364 | K25: 0.0363 | L25: 0.0363 | M25: 0.0363 | N25: 0.0363 | O25: 0.0346 | P25: 0.0346 | Q25: 0.0346 | R25: 0.0346 | S25: 0.0346
A26: RE3 | B26: 0.0309 | C26: 0.0337 | D26: 0.0337 | E26: 0.0337 | F26: 0.0337 | G26: 0.0337 | H26: 0.0337 | I26: 0.0376 | J26: 0.0376 | K26: 0.0375 | L26: 0.0375 | M26: 0.0375 | N26: 0.0375 | O26: 0.0357 | P26: 0.0357 | Q26: 0.0357 | R26: 0.0358 | S26: 0.0358
A27: RE4 | B27: 0.0332 | C27: 0.0364 | D27: 0.0363 | E27: 0.0363 | F27: 0.0363 | G27: 0.0363 | H27: 0.0363 | I27: 0.0406 | J27: 0.0406 | K27: 0.0406 | L27: 0.0406 | M27: 0.0406 | N27: 0.0406 | O27: 0.0386 | P27: 0.0386 | Q27: 0.0386 | R27: 0.0386 | S27: 0.0386
A28: RE5 | B28: 0.0332 | C28: 0.0364 | D28: 0.0363 | E28: 0.0363 | F28: 0.0363 | G28: 0.0363 | H28: 0.0363 | I28: 0.0406 | J28: 0.0406 | K28: 0.0406 | L28: 0.0406 | M28: 0.0406 | N28: 0.0406 | O28: 0.0386 | P28: 0.0386 | Q28: 0.0386 | R28: 0.0386 | S28: 0.0386
A29: RE6 | B29: 0.0448 | C29: 0.0495 | D29: 0.0495 | E29: 0.0495 | F29: 0.0494 | G29: 0.0494 | H29: 0.0494 | I29: 0.0558 | J29: 0.0558 | K29: 0.0557 | L29: 0.0557 | M29: 0.0557 | N29: 0.0557 | O29: 0.0529 | P29: 0.0529 | Q29: 0.0529 | R29: 0.0529 | S29: 0.0529
A30: PP COM | B30: 0.0667 | C30: 0.0741 | D30: 0.0741 | E30: 0.0741 | F30: 0.0740 | G30: 0.0740 | H30: 0.074 | I30: 0.0843 | J30: 0.0843 | K30: 0.0843 | L30: 0.0843 | M30: 0.0843 | N30: 0.0843 | O30: 0.0797 | P30: 0.0797 | Q30: 0.0797 | R30: 0.0797 | S30: 0.0797
A31: PP IND | B31: 0.0667 | C31: 0.0741 | D31: 0.0741 | E31: 0.0741 | F31: 0.0740 | G31: 0.0740 | H31: 0.074 | I31: 0.0843 | J31: 0.0843 | K31: 0.0843 | L31: 0.0843 | M31: 0.0843 | N31: 0.0843 | O31: 0.0797 | P31: 0.0797 | Q31: 0.0797 | R31: 0.0797 | S31: 0.0797
A32: PP OFI | B32: 0.0667 | C32: 0.0741 | D32: 0.0741 | E32: 0.0741 | F32: 0.0740 | G32: 0.0740 | H32: 0.074 | I32: 0.0843 | J32: 0.0843 | K32: 0.0843 | L32: 0.0843 | M32: 0.0843 | N32: 0.0843 | O32: 0.0797 | P32: 0.0797 | Q32: 0.0797 | R32: 0.0797 | S32: 0.0797
A33: GP COM | B33: 5.24 | C33: 5.24 | D33: 5.24 | E33: 5.24 | F33: 5.24 | G33: 5.24 | H33: 5.24 | I33: 5.24 | J33: 5.24 | K33: 5.24 | L33: 5.24 | M33: 5.8 | N33: 5.8 | O33: 5.8 | P33: 5.8 | Q33: 5.8 | R33: 5.8 | S33: 5.8
A34: GP IND | B34: 1.62 | C34: 1.62 | D34: 1.62 | E34: 1.62 | F34: 1.62 | G34: 1.62 | H34: 1.62 | I34: 1.62 | J34: 1.62 | K34: 1.9 | L34: 1.9 | M34: 1.9 | N34: 1.9 | O34: 1.9 | P34: 1.9 | Q34: 1.9 | R34: 1.9 | S34: 1.9
A35: GP OFI | B35: 29 | C35: 29 | D35: 29 | E35: 29 | F35: 29 | G35: 29 | H35: 29 | I35: 29 | J35: 29 | K35: 29 | L35: 31 | M35: 31 | N35: 31 | O35: 31 | P35: 31 | Q35: 31 | R35: 31 | S35: 31
A38: CONSUMOS FACTURABLES ASEO (APROVEHABLES)
A40: TIPO | B40: 44013 | C40: 44044 | D40: 44075 | E40: 44105 | F40: 44136 | G40: 44166 | H40: 44197 | I40: 44228 | J40: 44256 | K40: 44287 | L40: 44317 | M40: 44348 | N40: 44378 | O40: 44409 | P40: 44440 | Q40: 44470 | R40: 44501 | S40: 44531
A41: RE1 | B41: 0.0006 | C41: 0.0006 | D41: 0.0006 | E41: 0.0006 | F41: 0.0006 | G41: 0.0006 | H41: 0.0006 | I41: 0.0006 | J41: 0.0006 | K41: 0.0006 | L41: 0.0006 | M41: 0.0006 | N41: 0.0007 | O41: 0.0007 | P41: 0.0007 | Q41: 0.0007 | R41: 0.0007 | S41: 0.0007
A42: RE2 | B42: 0.0006 | C42: 0.0006 | D42: 0.0006 | E42: 0.0006 | F42: 0.0006 | G42: 0.0006 | H42: 0.0006 | I42: 0.0006 | J42: 0.0006 | K42: 0.0006 | L42: 0.0006 | M42: 0.0006 | N42: 0.0007 | O42: 0.0007 | P42: 0.0007 | Q42: 0.0007 | R42: 0.0007 | S42: 0.0007
A43: RE3 | B43: 0.0006 | C43: 0.0006 | D43: 0.0006 | E43: 0.0006 | F43: 0.0006 | G43: 0.0006 | H43: 0.0006 | I43: 0.0006 | J43: 0.0006 | K43: 0.0006 | L43: 0.0006 | M43: 0.0006 | N43: 0.0007 | O43: 0.0007 | P43: 0.0007 | Q43: 0.0007 | R43: 0.0007 | S43: 0.0007
A44: RE4 | B44: 0.0006 | C44: 0.0006 | D44: 0.0006 | E44: 0.0006 | F44: 0.0006 | G44: 0.0006 | H44: 0.0006 | I44: 0.0006 | J44: 0.0006 | K44: 0.0006 | L44: 0.0006 | M44: 0.0006 | N44: 0.0007 | O44: 0.0007 | P44: 0.0007 | Q44: 0.0007 | R44: 0.0007 | S44: 0.0007
A45: RE5 | B45: 0.0006 | C45: 0.0006 | D45: 0.0006 | E45: 0.0006 | F45: 0.0006 | G45: 0.0006 | H45: 0.0006 | I45: 0.0006 | J45: 0.0006 | K45: 0.0006 | L45: 0.0006 | M45: 0.0006 | N45: 0.0007 | O45: 0.0007 | P45: 0.0007 | Q45: 0.0007 | R45: 0.0007 | S45: 0.0007
A46: RE6 | B46: 0.0006 | C46: 0.0006 | D46: 0.0006 | E46: 0.0006 | F46: 0.0006 | G46: 0.0006 | H46: 0.0006 | I46: 0.0006 | J46: 0.0006 | K46: 0.0006 | L46: 0.0006 | M46: 0.0006 | N46: 0.0007 | O46: 0.0007 | P46: 0.0007 | Q46: 0.0007 | R46: 0.0007 | S46: 0.0007
A47: PP COM | B47: 0.0006 | C47: 0.0006 | D47: 0.0006 | E47: 0.0006 | F47: 0.0006 | G47: 0.0006 | H47: 0.0006 | I47: 0.0006 | J47: 0.0006 | K47: 0.0006 | L47: 0.0006 | M47: 0.0006 | N47: 0.0007 | O47: 0.0007 | P47: 0.0007 | Q47: 0.0007 | R47: 0.0007 | S47: 0.0007
A48: PP IND | B48: 0.0006 | C48: 0.0006 | D48: 0.0006 | E48: 0.0006 | F48: 0.0006 | G48: 0.0006 | H48: 0.0006 | I48: 0.0006 | J48: 0.0006 | K48: 0.0006 | L48: 0.0006 | M48: 0.0006 | N48: 0.0007 | O48: 0.0007 | P48: 0.0007 | Q48: 0.0007 | R48: 0.0007 | S48: 0.0007
A49: PP OFI | B49: 0.0006 | C49: 0.0006 | D49: 0.0006 | E49: 0.0006 | F49: 0.0006 | G49: 0.0006 | H49: 0.0006 | I49: 0.0006 | J49: 0.0006 | K49: 0.0006 | L49: 0.0006 | M49: 0.0006 | N49: 0.0007 | O49: 0.0007 | P49: 0.0007 | Q49: 0.0007 | R49: 0.0007 | S49: 0.0007
A50: GP COM | B50: 0.0006 | C50: 0.0006 | D50: 0.0006 | E50: 0.0006 | F50: 0.0006 | G50: 0.0006 | H50: 0.0006 | I50: 0.0006 | J50: 0.0006 | K50: 0.0006 | L50: 0.0006 | M50: 0.0006 | N50: 0.0007 | O50: 0.0007 | P50: 0.0007 | Q50: 0.0007 | R50: 0.0007 | S50: 0.0007
A51: GP IND | B51: 0.0006 | C51: 0.0006 | D51: 0.0006 | E51: 0.0006 | F51: 0.0006 | G51: 0.0006 | H51: 0.0006 | I51: 0.0006 | J51: 0.0006 | K51: 0.0006 | L51: 0.0006 | M51: 0.0006 | N51: 0.0007 | O51: 0.0007 | P51: 0.0007 | Q51: 0.0007 | R51: 0.0007 | S51: 0.0007
A52: GP OFI | B52: 0.0006 | C52: 0.0006 | D52: 0.0006 | E52: 0.0006 | F52: 0.0006 | G52: 0.0006 | H52: 0.0006 | I52: 0.0006 | J52: 0.0006 | K52: 0.0006 | L52: 0.0006 | M52: 0.0006 | N52: 0.0007 | O52: 0.0007 | P52: 0.0007 | Q52: 0.0007 | R52: 0.0007 | S52: 0.0007
N56: COSTOS DE REFERENCIA ACTUALES SERVICIO DE ASEO
R57: Enero | S57: Julio
L58: ipc | N58: CCS | O58: 1981.81 | P58: 0.032 | Q58: ag-19 | R58: =O58*(1+$P$58) -> 2045.2279 | S58: 2045.2279
L59: slmmv | N59: CLUS | O59: 2527.52 | P59: 0.052 | R59: =O59*(1+P59) -> 2658.951 | S59: 2658.951
L60: slmmv | N60: CBLS | O60: 11971.5 | P60: 0.052 | R60: =O60*(1+P60) -> 12594.018 | S60: 12594.018
L61: ipcc | N61: CRT | O61: 113254.12 | P61: 0.0321 | Q61: 43831 | R61: 113254.12 | S61: =R61*(1+P61) -> 116889.58
L62: ioexp | N62: CDF | O62: 35722.84 | P62: 0.03 | Q62: NO | R62: =O62*(1+P62) -> 36794.525 | S62: 36794.525
L63: ipc | N63: CTL | O63: 7809.13 | P63: 0.032 | Q63: ag-19 | R63: =O63*(1+P63) -> 8059.0222 | S63: 8059.0222
N64: VBA | O64: 249869.43 | R64: =O64*(1+$P$58) -> 257865.26 | S64: 257865.26
N65: CFT | O65: 16480.83
N66: CVNA | O66: 156786.09
N67: VBA | O67: 127013.19
