Workbook
Name \0: #REF!
Name \00: #REF!
Name \a: #REF!
Name \AA: [1]LIQUIDACION!#REF!
Name \b: [2]STRSUMM0!#REF!
Name \bb: [2]STRSUMM0!#REF!
Name \E: #REF!
Name \EE: #REF!
Name \eliminar: [3]RESUM96!#REF!
Name \eliminar1: [3]RESUM96!#REF!
Name \G: #REF!
Name \k: '[4]7422CW00'!#REF!
Name \l: [5]STRSUMM0!#REF!
Name \M: #REF!
Name \ñ: '[6]7422CW00'!#REF!
Name \P: #REF!
Name \q: #REF!
Name \R: #REF!
Name \s: #REF!
Name \V: #REF!
Name \X: 'MC 1'!ERR
Name \X: 'MC 2-3-4'!ERR
Name \X: 'MC 5'!ERR
Name \X: [0]!ERR
Name \Z: 'MC 1'!ERR
Name \Z: 'MC 2-3-4'!ERR
Name \Z: 'MC 5'!ERR
Name \Z: [0]!ERR
Name _______________________________________f: #REF!
Name ______________________________________f: #REF!
Name _____________________________________f: #REF!
Name ____________________________________f: #REF!
Name ____________________________________PJ50: #REF!
Name ___________________________________f: #REF!
Name __________________________________f: #REF!
Name _________________________________f: #REF!
Name ________________________________f: #REF!
Name _______________________________f: #REF!
Name ______________________________f: #REF!
Name ______________________________IPC2002: #REF!
Name _____________________________f: #REF!
Name ____________________________f: #REF!
Name ___________________________f: #REF!
Name __________________________f: #REF!
Name _________________________f: #REF!
Name ________________________f: #REF!
Name _______________________f: #REF!
Name ______________________f: #REF!
Name _____________________f: #REF!
Name ____________________f: #REF!
Name ___________________f: #REF!
Name __________________f: #REF!
Name __________________MAT38: #REF!
Name __________________MAT39: #REF!
Name __________________MAT40: #REF!
Name __________________MV4: #REF!
Name __________________POR1: #REF!
Name __________________POR2: #REF!
Name __________________POR3: #REF!
Name __________________POR4: #REF!

Sheet MC 5
C5: =+[42]DATOS!C$7 -> MEJORAMIENTO DE VIVIENDA CON ENFOQUE DIFERENCIAL PARA POBLACIÓN VULNERABLE EN EL MUNICIPIO DE CUBARÁ, BOYACÁ (2026).
C7: Formato Memoria de Cantidades de Obra
C8: Entidad Proponente: | E8: Alcaldía de Cubara
C9: Entidad Ejecutora: | E9: SECRETARÍA DE PLANEACIÓN Y OBRAS PUBLICAS
C10: Fecha: | E10: =+[42]DATOS!F$5 -> 46143 | K10: Departamento: | M10: BOYACÁ
C11: Etapa: | E11: Año Calendario: | G11: =+[42]DATOS!E$5 -> 2026 | H11: Año del Proyectó: | I11: =+[42]DATOS!E$5 -> 2026 | K11: Municipio: | M11: CUBARA
C13: MEMORIAS DE CANTIDADES DE OBRA
C15: Ítem | D15: Actividad | F15: Und. | I15: Localización de los Elementos | J15: Formula de Cálculo | L15: Dimensiones | R15: Cantidades
C16: =+'PRESUPUESTO OFICIAL '!C61 -> 5.01 | D16: =+VLOOKUP(C16,'PRESUPUESTO OFICIAL '!$C$11:$H$103,2) -> SUMINISTRO E INSTALACIÓN DE ALIMENTADOR PARCIAL MONOFÁSICO EN CABLE DE COBRE No.12 AWG ( F,N,T). (INCLUYE TUBO PVC DE 1/2") | F16: =+VLOOKUP(C16,'PRESUPUESTO OFICIAL '!$C$11:$H$103,3) -> M | L16: A (m2) Area | M16: P(m) Perímetro | N16: a (m) Ancho | O16: L (m) Largo | P16: h (m) Alto - Espesor | Q16: V (m3) Volumen | R16: C (Und) Cant. De elementos | S16: Cant. Parcial | U16: =+C16 -> 5.01 | V16: =+S64 -> 341.62
A18: 1 | I18: BANEFICIARIO 1 | J18: =+VLOOKUP(K18,$AH$22:$AJ$58,2,) -> M=(Largo) x Cant | K18: =+F16 -> M | O18: =+S18 -> 0 | S18: =+HLOOKUP(A18,[238]Hoja1!$2:$78,48,FALSE) -> 0 | X18: =+N18*O18 -> 0
A19: 2 | I19: BANEFICIARIO 2 | J19: =+VLOOKUP(K19,$AH$22:$AJ$58,2,) -> M=(Largo) x Cant | K19: =+K18 -> M | O19: =+S19 -> 7 | R19: 1 | S19: =+HLOOKUP(A19,[238]Hoja1!$2:$78,48,FALSE) -> 7 | X19: =+N19*O19 -> 0 | Y19: =+X19 -L19 -> 0
A20: 3 | I20: BANEFICIARIO 3 | J20: =+VLOOKUP(K20,$AH$22:$AJ$58,2,) -> M=(Largo) x Cant | K20: =+K19 -> M | O20: =+S20 -> 7 | R20: 1 | S20: =+HLOOKUP(A20,[238]Hoja1!$2:$78,48,FALSE) -> 7 | X20: =+N20*O20 -> 0 | Y20: =+X20 -L20 -> 0
A21: 4 | I21: BANEFICIARIO 4 | J21: =+VLOOKUP(K21,$AH$22:$AJ$58,2,) -> M=(Largo) x Cant | K21: =+K20 -> M | O21: =+S21 -> 7 | R21: 1 | S21: =+HLOOKUP(A21,[238]Hoja1!$2:$78,48,FALSE) -> 7 | X21: =+N21*O21 -> 0 | Y21: =+X21 -L21 -> 0 | AK21: M2 | AL21: A=(Ancho x Largo)* Cant
A22: 5 | I22: BANEFICIARIO 5 | J22: =+VLOOKUP(K22,$AH$22:$AJ$58,2,) -> M=(Largo) x Cant | K22: =+K21 -> M | O22: =+S22 -> 7 | R22: 1 | S22: =+HLOOKUP(A22,[238]Hoja1!$2:$78,48,FALSE) -> 7 | X22: =+N22*O22 -> 0 | Y22: =+X22 -L22 -> 0 | AH22: M2 | AI22: A=(Ancho x Largo)* Cant | AK22: M3 | AL22: V=(Ancho x Largo x Alto)* Cant
A23: 6 | I23: BANEFICIARIO 6 | J23: =+VLOOKUP(K23,$AH$22:$AJ$58,2,) -> M=(Largo) x Cant | K23: =+K22 -> M | O23: =+S23 -> 12.2 | R23: 1 | S23: =+HLOOKUP(A23,[238]Hoja1!$2:$78,48,FALSE) -> 12.2 | X23: =+N23*O23 -> 0 | Y23: =+X23 -L23 -> 0 | AH23: M3 | AI23: V=(Ancho x Largo x Alto)* Cant | AK23: M | AL23: M=(Largo) x Cant
A24: 7 | I24: BANEFICIARIO 7 | J24: =+VLOOKUP(K24,$AH$22:$AJ$58,2,) -> M=(Largo) x Cant | K24: =+K18 -> M | O24: =+S24 -> 0 | S24: =+HLOOKUP(A24,[238]Hoja1!$2:$78,48,FALSE) -> 0 | X24: =+N24*O24 -> 0 | Y24: =+X24 -L24 -> 0 | AH24: M | AI24: M=(Largo) x Cant | AK24: UND | AL24: UND= Cant de elementos
A25: 8 | I25: BANEFICIARIO 8 | J25: =+VLOOKUP(K25,$AH$22:$AJ$58,2,) -> M=(Largo) x Cant | K25: =+K24 -> M | O25: =+S25 -> 12 | R25: 1 | S25: =+HLOOKUP(A25,[238]Hoja1!$2:$78,48,FALSE) -> 12 | X25: =+N25*O25 -> 0 | Y25: =+X25 -L25 -> 0 | AH25: UND | AI25: UND= Cant de elementos
A26: 9 | I26: BANEFICIARIO 9 | J26: =+VLOOKUP(K26,$AH$22:$AJ$58,2,) -> M=(Largo) x Cant | K26: =+K25 -> M | O26: =+S26 -> 7 | R26: 1 | S26: =+HLOOKUP(A26,[238]Hoja1!$2:$78,48,FALSE) -> 7 | X26: =+N26*O26 -> 0 | Y26: =+X26 -L26 -> 0 | AH26: KG | AI26: Kilogramos x Cant. Elementos
A27: 10 | I27: BANEFICIARIO 10 | J27: =+VLOOKUP(K27,$AH$22:$AJ$58,2,) -> M=(Largo) x Cant | K27: =+K26 -> M | O27: =+S27 -> 0 | S27: =+HLOOKUP(A27,[238]Hoja1!$2:$78,48,FALSE) -> 0 | X27: =+N27*O27 -> 0 | Y27: =+X27 -L27 -> 0
A28: 11 | I28: BANEFICIARIO 11 | J28: =+VLOOKUP(K28,$AH$22:$AJ$58,2,) -> M=(Largo) x Cant | K28: =+K27 -> M | O28: =+S28 -> 127.82 | R28: 1 | S28: =+HLOOKUP(A28,[238]Hoja1!$2:$78,48,FALSE) -> 127.82 | X28: =+N28*O28 -> 0 | Y28: =+X28 -L28 -> 0
A29: 12 | I29: BANEFICIARIO 12 | J29: =+VLOOKUP(K29,$AH$22:$AJ$58,2,) -> M=(Largo) x Cant | K29: =+K23 -> M | O29: =+S29 -> 0 | S29: =+HLOOKUP(A29,[238]Hoja1!$2:$78,48,FALSE) -> 0 | X29: =+N29*O29 -> 0 | Y29: =+X29 -L29 -> 0 | AH29: M | AI29: M=(Largo) x Cant | AK29: UND | AL29: UND= Cant de elementos
A30: 13 | I30: BANEFICIARIO 13 | J30: =+VLOOKUP(K30,$AH$22:$AJ$58,2,) -> M=(Largo) x Cant | K30: =+K25 -> M | O30: =+S30 -> 0 | S30: =+HLOOKUP(A30,[238]Hoja1!$2:$78,48,FALSE) -> 0 | X30: =+N30*O30 -> 0 | Y30: =+X30 -L30 -> 0 | AH30: UND | AI30: UND= Cant de elementos
A31: 14 | I31: BANEFICIARIO 14 | J31: =+VLOOKUP(K31,$AH$22:$AJ$58,2,) -> M=(Largo) x Cant | K31: =+K30 -> M | O31: =+S31 -> 7 | R31: 1 | S31: =+HLOOKUP(A31,[238]Hoja1!$2:$78,48,FALSE) -> 7 | X31: =+N31*O31 -> 0 | Y31: =+X31 -L31 -> 0
A32: 15 | I32: BANEFICIARIO 15 | J32: =+VLOOKUP(K32,$AH$22:$AJ$58,2,) -> M=(Largo) x Cant | K32: =+K31 -> M | O32: =+S32 -> 0 | S32: =+HLOOKUP(A32,[238]Hoja1!$2:$78,48,FALSE) -> 0 | X32: =+N32*O32 -> 0 | Y32: =+X32 -L32 -> 0
A33: 16 | I33: BANEFICIARIO 16 | J33: =+VLOOKUP(K33,$AH$22:$AJ$58,2,) -> M=(Largo) x Cant | K33: =+K32 -> M | O33: =+S33 -> 11 | R33: 1 | S33: =+HLOOKUP(A33,[238]Hoja1!$2:$78,48,FALSE) -> 11 | X33: =+N33*O33 -> 0 | Y33: =+X33 -L33 -> 0
A34: 17 | I34: BANEFICIARIO 17 | J34: =+VLOOKUP(K34,$AH$22:$AJ$58,2,) -> M=(Largo) x Cant | K34: =+K33 -> M | O34: =+S34 -> 0 | S34: =+HLOOKUP(A34,[238]Hoja1!$2:$78,48,FALSE) -> 0 | X34: =+N34*O34 -> 0 | Y34: =+X34 -L34 -> 0
A35: 18 | I35: BANEFICIARIO 18 | J35: =+VLOOKUP(K35,$AH$22:$AJ$58,2,) -> M=(Largo) x Cant | K35: =+K34 -> M | O35: =+S35 -> 12.2 | R35: 1 | S35: =+HLOOKUP(A35,[238]Hoja1!$2:$78,48,FALSE) -> 12.2 | X35: =+N35*O35 -> 0 | Y35: =+X35 -L35 -> 0
A36: 19 | I36: BANEFICIARIO 19 | J36: =+VLOOKUP(K36,$AH$22:$AJ$58,2,) -> M=(Largo) x Cant | K36: =+K35 -> M | O36: =+S36 -> 7 | R36: 1 | S36: =+HLOOKUP(A36,[238]Hoja1!$2:$78,48,FALSE) -> 7 | X36: =+N36*O36 -> 0 | Y36: =+X36 -L36 -> 0
A37: 20 | I37: BANEFICIARIO 20 | J37: =+VLOOKUP(K37,$AH$22:$AJ$58,2,) -> M=(Largo) x Cant | K37: =+K36 -> M | O37: =+S37 -> 12 | R37: 1 | S37: =+HLOOKUP(A37,[238]Hoja1!$2:$78,48,FALSE) -> 12 | X37: =+N37*O37 -> 0 | Y37: =+X37 -L37 -> 0
A38: 21 | I38: BANEFICIARIO 21 | J38: =+VLOOKUP(K38,$AH$22:$AJ$58,2,) -> M=(Largo) x Cant | K38: =+K37 -> M | O38: =+S38 -> 0 | S38: =+HLOOKUP(A38,[238]Hoja1!$2:$78,48,FALSE) -> 0 | X38: =+N38*O38 -> 0 | Y38: =+X38 -L38 -> 0
A39: 22 | I39: BANEFICIARIO 22 | J39: =+VLOOKUP(K39,$AH$22:$AJ$58,2,) -> M=(Largo) x Cant | K39: =+K38 -> M | O39: =+S39 -> 7 | R39: 1 | S39: =+HLOOKUP(A39,[238]Hoja1!$2:$78,48,FALSE) -> 7 | X39: =+N39*O39 -> 0 | Y39: =+X39 -L39 -> 0
A40: 23 | I40: BANEFICIARIO 23 | J40: =+VLOOKUP(K40,$AH$22:$AJ$58,2,) -> M=(Largo) x Cant | K40: =+K39 -> M | O40: =+S40 -> 0 | S40: =+HLOOKUP(A40,[238]Hoja1!$2:$78,48,FALSE) -> 0 | X40: =+N40*O40 -> 0 | Y40: =+X40 -L40 -> 0
A41: 24 | I41: BANEFICIARIO 24 | J41: =+VLOOKUP(K41,$AH$22:$AJ$58,2,) -> M=(Largo) x Cant | K41: =+K40 -> M | O41: =+S41 -> 6 | R41: 1 | S41: =+HLOOKUP(A41,[238]Hoja1!$2:$78,48,FALSE) -> 6 | X41: =+N41*O41 -> 0 | Y41: =+X41 -L41 -> 0 | AH41: UND | AI41: UND= Cant de elementos
A42: 25 | I42: BANEFICIARIO 25 | J42: =+VLOOKUP(K42,$AH$22:$AJ$58,2,) -> M=(Largo) x Cant | K42: =+K41 -> M | O42: =+S42 -> 10 | R42: 1 | S42: =+HLOOKUP(A42,[238]Hoja1!$2:$78,48,FALSE) -> 10 | X42: =+N42*O42 -> 0 | Y42: =+X42 -L42 -> 0
A43: 26 | I43: BANEFICIARIO 26 | J43: =+VLOOKUP(K43,$AH$22:$AJ$58,2,) -> M=(Largo) x Cant | K43: =+K32 -> M | O43: =+S43 -> 0 | S43: =+HLOOKUP(A43,[238]Hoja1!$2:$78,48,FALSE) -> 0 | X43: =+N43*O43 -> 0 | Y43: =+X43 -L43 -> 0
A44: 27 | I44: BANEFICIARIO 27 | J44: =+VLOOKUP(K44,$AH$22:$AJ$58,2,) -> M=(Largo) x Cant | K44: =+K43 -> M | O44: =+S44 -> 7 | R44: 1 | S44: =+HLOOKUP(A44,[238]Hoja1!$2:$78,48,FALSE) -> 7 | X44: =+N44*O44 -> 0 | Y44: =+X44 -L44 -> 0
A45: 28 | I45: BANEFICIARIO 28 | J45: =+VLOOKUP(K45,$AH$22:$AJ$58,2,) -> M=(Largo) x Cant | K45: =+K44 -> M | O45: =+S45 -> 0 | S45: =+HLOOKUP(A45,[238]Hoja1!$2:$78,48,FALSE) -> 0 | X45: =+N45*O45 -> 0 | Y45: =+X45 -L45 -> 0
A46: 29 | I46: BANEFICIARIO 29 | J46: =+VLOOKUP(K46,$AH$22:$AJ$58,2,) -> M=(Largo) x Cant | K46: =+K45 -> M | O46: =+S46 -> 0 | S46: =+HLOOKUP(A46,[238]Hoja1!$2:$78,48,FALSE) -> 0 | X46: =+N46*O46 -> 0 | Y46: =+X46 -L46 -> 0
A47: 30 | I47: BANEFICIARIO 30 | J47: =+VLOOKUP(K47,$AH$22:$AJ$58,2,) -> M=(Largo) x Cant | K47: =+K46 -> M | O47: =+S47 -> 12 | R47: 1 | S47: =+HLOOKUP(A47,[238]Hoja1!$2:$78,48,FALSE) -> 12 | X47: =+N47*O47 -> 0 | Y47: =+X47 -L47 -> 0
A48: 31 | I48: BANEFICIARIO 31 | J48: =+VLOOKUP(K48,$AH$22:$AJ$58,2,) -> M=(Largo) x Cant | K48: =+K47 -> M | O48: =+S48 -> 0 | S48: =+HLOOKUP(A48,[238]Hoja1!$2:$78,48,FALSE) -> 0 | X48: =+N48*O48 -> 0 | Y48: =+X48 -L48 -> 0 | AH48: UND | AI48: UND= Cant de elementos
...

Sheet MC 2-3-4
D5: =+[42]DATOS!C$7 -> MEJORAMIENTO DE VIVIENDA CON ENFOQUE DIFERENCIAL PARA POBLACIÓN VULNERABLE EN EL MUNICIPIO DE CUBARÁ, BOYACÁ (2026).
D7: Formato Memoria de Cantidades de Obra
D8: Entidad Proponente: | F8: Alcaldía de Cubara
D9: Entidad Ejecutora: | F9: SECRETARÍA DE PLANEACIÓN Y OBRAS PUBLICAS
D10: Fecha: | F10: =+[42]DATOS!F$5 -> 46143 | L10: Departamento: | N10: BOYACÁ
D11: Etapa: | F11: Año Calendario: | H11: =+[42]DATOS!E$5 -> 2026 | I11: Año del Proyectó: | J11: =+[42]DATOS!E$5 -> 2026 | L11: Municipio: | N11: CUBARA
D13: MEMORIAS DE CANTIDADES DE OBRA
D15: Ítem | E15: Actividad | G15: Und. | J15: Localización de los Elementos | K15: Formula de Cálculo | M15: Dimensiones | S15: Cantidades
D16: =+'PRESUPUESTO OFICIAL '!C30 -> 2.01 | E16: =+VLOOKUP(D16,'PRESUPUESTO OFICIAL '!$C$11:$H$103,2) -> SOLADO CONCRETO f'c = 2000 psi (14 MPa), ESPESOR 0.05 M | G16: =+VLOOKUP(D16,'PRESUPUESTO OFICIAL '!$C$11:$H$103,3) -> M2 | M16: A (m2) Area | N16: P(m) Perímetro | O16: a (m) Ancho | P16: L (m) Largo | Q16: h (m) Alto - Espesor | R16: V (m3) Volumen | S16: C (Und) Cant. De elementos | T16: Cant. Parcial | V16: =+D16 -> 2.01 | W16: =+T64 -> 17.4
A18: =+D16 -> 2.01 | B18: 1 | J18: BANEFICIARIO 1 | K18: =+VLOOKUP(L18,$AH$22:$AJ$58,2,) -> A=(Ancho x Largo)* Cant | L18: =+G16 -> M2 | M18: =+HLOOKUP(B18,[238]Hoja1!$2:$78,23,FALSE) -> 1 | O18: 0.5 | P18: =0.5*4 -> 2 | S18: =IF(M18=0," ",1) -> 1 | T18: =+S18*M18 -> 1 | Y18: =+O18*P18 -> 1
A19: =+A18 -> 2.01 | B19: 2 | J19: BANEFICIARIO 2 | K19: =+VLOOKUP(L19,$AH$22:$AJ$58,2,) -> A=(Ancho x Largo)* Cant | L19: =+L18 -> M2 | M19: =+HLOOKUP(B19,[238]Hoja1!$2:$78,23,FALSE) -> 0 | T19: =+S19*M19 -> 0 | Y19: =+O19*P19 -> 0 | Z19: =+Y19 -M19 -> 0
A20: =+A19 -> 2.01 | B20: 3 | J20: BANEFICIARIO 3 | K20: =+VLOOKUP(L20,$AH$22:$AJ$58,2,) -> A=(Ancho x Largo)* Cant | L20: =+L19 -> M2 | M20: =+HLOOKUP(B20,[238]Hoja1!$2:$78,23,FALSE) -> 0 | T20: =+S20*M20 -> 0 | Y20: =+O20*P20 -> 0 | Z20: =+Y20 -M20 -> 0
A21: =+A20 -> 2.01 | B21: 4 | J21: BANEFICIARIO 4 | K21: =+VLOOKUP(L21,$AH$22:$AJ$58,2,) -> A=(Ancho x Largo)* Cant | L21: =+L20 -> M2 | M21: =+HLOOKUP(B21,[238]Hoja1!$2:$78,23,FALSE) -> 0 | T21: =+S21*M21 -> 0 | Y21: =+O21*P21 -> 0 | Z21: =+Y21 -M21 -> 0 | AK21: M2 | AL21: A=(Ancho x Largo)* Cant
A22: =+A21 -> 2.01 | B22: 5 | J22: BANEFICIARIO 5 | K22: =+VLOOKUP(L22,$AH$22:$AJ$58,2,) -> A=(Ancho x Largo)* Cant | L22: =+L21 -> M2 | M22: =+HLOOKUP(B22,[238]Hoja1!$2:$78,23,FALSE) -> 0 | T22: =+S22*M22 -> 0 | Y22: =+O22*P22 -> 0 | Z22: =+Y22 -M22 -> 0 | AH22: M2 | AI22: A=(Ancho x Largo)* Cant | AK22: M3 | AL22: V=(Ancho x Largo x Alto)* Cant
A23: =+A22 -> 2.01 | B23: 6 | J23: BANEFICIARIO 6 | K23: =+VLOOKUP(L23,$AH$22:$AJ$58,2,) -> A=(Ancho x Largo)* Cant | L23: =+L22 -> M2 | M23: =+HLOOKUP(B23,[238]Hoja1!$2:$78,23,FALSE) -> 0 | T23: =+S23*M23 -> 0 | Y23: =+O23*P23 -> 0 | Z23: =+Y23 -M23 -> 0 | AH23: M3 | AI23: V=(Ancho x Largo x Alto)* Cant | AK23: M | AL23: M=(Largo) x Cant
A24: =+A23 -> 2.01 | B24: 7 | J24: BANEFICIARIO 7 | K24: =+VLOOKUP(L24,$AH$22:$AJ$58,2,) -> A=(Ancho x Largo)* Cant | L24: =+L18 -> M2 | M24: =+HLOOKUP(B24,[238]Hoja1!$2:$78,23,FALSE) -> 0 | T24: =+S24*M24 -> 0 | Y24: =+O24*P24 -> 0 | Z24: =+Y24 -M24 -> 0 | AH24: M | AI24: M=(Largo) x Cant | AK24: UND | AL24: UND= Cant de elementos
A25: =+A24 -> 2.01 | B25: 8 | J25: BANEFICIARIO 8 | K25: =+VLOOKUP(L25,$AH$22:$AJ$58,2,) -> A=(Ancho x Largo)* Cant | L25: =+L24 -> M2 | M25: =+HLOOKUP(B25,[238]Hoja1!$2:$78,23,FALSE) -> 3.66 | O25: =+M25/0.3 -> 12.2 | P25: 0.3 | S25: =IF(M25=0,"0",1) -> 1 | T25: =+S25*M25 -> 3.66 | Y25: =+O25*P25 -> 3.66 | Z25: =+Y25 -M25 -> 0 | AH25: UND | AI25: UND= Cant de elementos
A26: =+A25 -> 2.01 | B26: 9 | J26: BANEFICIARIO 9 | K26: =+VLOOKUP(L26,$AH$22:$AJ$58,2,) -> A=(Ancho x Largo)* Cant | L26: =+L25 -> M2 | M26: =+HLOOKUP(B26,[238]Hoja1!$2:$78,23,FALSE) -> 0 | T26: =+S26*M26 -> 0 | Y26: =+O26*P26 -> 0 | Z26: =+Y26 -M26 -> 0 | AH26: KG | AI26: Kilogramos x Cant. Elementos
A27: =+A26 -> 2.01 | B27: 10 | J27: BANEFICIARIO 10 | K27: =+VLOOKUP(L27,$AH$22:$AJ$58,2,) -> A=(Ancho x Largo)* Cant | L27: =+L26 -> M2 | M27: =+HLOOKUP(B27,[238]Hoja1!$2:$78,23,FALSE) -> 0 | T27: =+S27*M27 -> 0 | Y27: =+O27*P27 -> 0 | Z27: =+Y27 -M27 -> 0
A28: =+A27 -> 2.01 | B28: 11 | J28: BANEFICIARIO 11 | K28: =+VLOOKUP(L28,$AH$22:$AJ$58,2,) -> A=(Ancho x Largo)* Cant | L28: =+L27 -> M2 | M28: =+HLOOKUP(B28,[238]Hoja1!$2:$78,23,FALSE) -> 0 | T28: =+S28*M28 -> 0 | Y28: =+O28*P28 -> 0 | Z28: =+Y28 -M28 -> 0
A29: =+A28 -> 2.01 | B29: 12 | J29: BANEFICIARIO 12 | K29: =+VLOOKUP(L29,$AH$22:$AJ$58,2,) -> A=(Ancho x Largo)* Cant | L29: =+L23 -> M2 | M29: =+HLOOKUP(B29,[238]Hoja1!$2:$78,23,FALSE) -> 0 | T29: =+S29*M29 -> 0 | Y29: =+O29*P29 -> 0 | Z29: =+Y29 -M29 -> 0 | AH29: M | AI29: M=(Largo) x Cant | AK29: UND | AL29: UND= Cant de elementos
A30: =+A29 -> 2.01 | B30: 13 | J30: BANEFICIARIO 13 | K30: =+VLOOKUP(L30,$AH$22:$AJ$58,2,) -> A=(Ancho x Largo)* Cant | L30: =+L25 -> M2 | M30: =+HLOOKUP(B30,[238]Hoja1!$2:$78,23,FALSE) -> 0 | T30: =+S30*M30 -> 0 | Y30: =+O30*P30 -> 0 | Z30: =+Y30 -M30 -> 0 | AH30: UND | AI30: UND= Cant de elementos
A31: =+A30 -> 2.01 | B31: 14 | J31: BANEFICIARIO 14 | K31: =+VLOOKUP(L31,$AH$22:$AJ$58,2,) -> A=(Ancho x Largo)* Cant | L31: =+L30 -> M2 | M31: =+HLOOKUP(B31,[238]Hoja1!$2:$78,23,FALSE) -> 0 | T31: =+S31*M31 -> 0 | Y31: =+O31*P31 -> 0 | Z31: =+Y31 -M31 -> 0
A32: =+A31 -> 2.01 | B32: 15 | J32: BANEFICIARIO 15 | K32: =+VLOOKUP(L32,$AH$22:$AJ$58,2,) -> A=(Ancho x Largo)* Cant | L32: =+L31 -> M2 | M32: =+HLOOKUP(B32,[238]Hoja1!$2:$78,23,FALSE) -> 1.5 | O32: 0.5 | P32: =0.5*6 -> 3 | S32: =IF(M32=0,"0",1) -> 1 | T32: =+S32*M32 -> 1.5 | Y32: =+O32*P32 -> 1.5 | Z32: =+Y32 -M32 -> 0
A33: =+A32 -> 2.01 | B33: 16 | J33: BANEFICIARIO 16 | K33: =+VLOOKUP(L33,$AH$22:$AJ$58,2,) -> A=(Ancho x Largo)* Cant | L33: =+L32 -> M2 | M33: =+HLOOKUP(B33,[238]Hoja1!$2:$78,23,FALSE) -> 4.968 | O33: 0.3 | P33: 16.56 | S33: =IF(M33=0,"0",1) -> 1 | T33: =+S33*M33 -> 4.968 | Y33: =+O33*P33 -> 4.968 | Z33: =+Y33 -M33 -> 0
A34: =+A33 -> 2.01 | B34: 17 | J34: BANEFICIARIO 17 | K34: =+VLOOKUP(L34,$AH$22:$AJ$58,2,) -> A=(Ancho x Largo)* Cant | L34: =+L33 -> M2 | M34: =+HLOOKUP(B34,[238]Hoja1!$2:$78,23,FALSE) -> 0 | T34: =+S34*M34 -> 0 | Y34: =+O34*P34 -> 0 | Z34: =+Y34 -M34 -> 0
A35: =+A34 -> 2.01 | B35: 18 | J35: BANEFICIARIO 18 | K35: =+VLOOKUP(L35,$AH$22:$AJ$58,2,) -> A=(Ancho x Largo)* Cant | L35: =+L34 -> M2 | M35: =+HLOOKUP(B35,[238]Hoja1!$2:$78,23,FALSE) -> 0 | T35: =+S35*M35 -> 0 | Y35: =+O35*P35 -> 0 | Z35: =+Y35 -M35 -> 0
A36: =+A35 -> 2.01 | B36: 19 | J36: BANEFICIARIO 19 | K36: =+VLOOKUP(L36,$AH$22:$AJ$58,2,) -> A=(Ancho x Largo)* Cant | L36: =+L35 -> M2 | M36: =+HLOOKUP(B36,[238]Hoja1!$2:$78,23,FALSE) -> 0 | T36: =+S36*M36 -> 0 | Y36: =+O36*P36 -> 0 | Z36: =+Y36 -M36 -> 0
A37: =+A36 -> 2.01 | B37: 20 | J37: BANEFICIARIO 20 | K37: =+VLOOKUP(L37,$AH$22:$AJ$58,2,) -> A=(Ancho x Largo)* Cant | L37: =+L36 -> M2 | M37: =+HLOOKUP(B37,[238]Hoja1!$2:$78,23,FALSE) -> 0 | T37: =+S37*M37 -> 0 | Y37: =+O37*P37 -> 0 | Z37: =+Y37 -M37 -> 0
A38: =+A37 -> 2.01 | B38: 21 | J38: BANEFICIARIO 21 | K38: =+VLOOKUP(L38,$AH$22:$AJ$58,2,) -> A=(Ancho x Largo)* Cant | L38: =+L37 -> M2 | M38: =+HLOOKUP(B38,[238]Hoja1!$2:$78,23,FALSE) -> 2.1925 | S38: =IF(M38=0,"0",1) -> 1 | T38: =+S38*M38 -> 2.1925 | Y38: =+O38*P38 -> 0 | Z38: =+Y38 -M38 -> -2.1925
A39: =+A38 -> 2.01 | B39: 22 | J39: BANEFICIARIO 22 | K39: =+VLOOKUP(L39,$AH$22:$AJ$58,2,) -> A=(Ancho x Largo)* Cant | L39: =+L38 -> M2 | M39: =+HLOOKUP(B39,[238]Hoja1!$2:$78,23,FALSE) -> 0 | T39: =+S39*M39 -> 0 | Y39: =+O39*P39 -> 0 | Z39: =+Y39 -M39 -> 0
A40: =+A39 -> 2.01 | B40: 23 | J40: BANEFICIARIO 23 | K40: =+VLOOKUP(L40,$AH$22:$AJ$58,2,) -> A=(Ancho x Largo)* Cant | L40: =+L39 -> M2 | M40: =+HLOOKUP(B40,[238]Hoja1!$2:$78,23,FALSE) -> 0 | T40: =+S40*M40 -> 0 | Y40: =+O40*P40 -> 0 | Z40: =+Y40 -M40 -> 0
A41: =+A40 -> 2.01 | B41: 24 | J41: BANEFICIARIO 24 | K41: =+VLOOKUP(L41,$AH$22:$AJ$58,2,) -> A=(Ancho x Largo)* Cant | L41: =+L40 -> M2 | M41: =+HLOOKUP(B41,[238]Hoja1!$2:$78,23,FALSE) -> 0 | T41: =+S41*M41 -> 0 | Y41: =+O41*P41 -> 0 | Z41: =+Y41 -M41 -> 0 | AH41: UND | AI41: UND= Cant de elementos
A42: =+A41 -> 2.01 | B42: 25 | J42: BANEFICIARIO 25 | K42: =+VLOOKUP(L42,$AH$22:$AJ$58,2,) -> A=(Ancho x Largo)* Cant | L42: =+L41 -> M2 | M42: =+HLOOKUP(B42,[238]Hoja1!$2:$78,23,FALSE) -> 3.33 | O42: 0.3 | P42: =+M42/0.3 -> 11.1 | S42: =IF(M42=0,"0",1) -> 1 | T42: =+S42*M42 -> 3.33 | Y42: =+O42*P42 -> 3.33 | Z42: =+Y42 -M42 -> 0
A43: =+A42 -> 2.01 | B43: 26 | J43: BANEFICIARIO 26 | K43: =+VLOOKUP(L43,$AH$22:$AJ$58,2,) -> A=(Ancho x Largo)* Cant | L43: =+L32 -> M2 | M43: =+HLOOKUP(B43,[238]Hoja1!$2:$78,23,FALSE) -> 0 | T43: =+S43*M43 -> 0 | Y43: =+O43*P43 -> 0 | Z43: =+Y43 -M43 -> 0
A44: =+A43 -> 2.01 | B44: 27 | J44: BANEFICIARIO 27 | K44: =+VLOOKUP(L44,$AH$22:$AJ$58,2,) -> A=(Ancho x Largo)* Cant | L44: =+L43 -> M2 | M44: =+HLOOKUP(B44,[238]Hoja1!$2:$78,23,FALSE) -> 0 | T44: =+S44*M44 -> 0 | Y44: =+O44*P44 -> 0 | Z44: =+Y44 -M44 -> 0
A45: =+A44 -> 2.01 | B45: 28 | J45: BANEFICIARIO 28 | K45: =+VLOOKUP(L45,$AH$22:$AJ$58,2,) -> A=(Ancho x Largo)* Cant | L45: =+L44 -> M2 | M45: =+HLOOKUP(B45,[238]Hoja1!$2:$78,23,FALSE) -> 0 | T45: =+S45*M45 -> 0 | Y45: =+O45*P45 -> 0 | Z45: =+Y45 -M45 -> 0
A46: =+A45 -> 2.01 | B46: 29 | J46: BANEFICIARIO 29 | K46: =+VLOOKUP(L46,$AH$22:$AJ$58,2,) -> A=(Ancho x Largo)* Cant | L46: =+L45 -> M2 | M46: =+HLOOKUP(B46,[238]Hoja1!$2:$78,23,FALSE) -> 0 | T46: =+S46*M46 -> 0 | Y46: =+O46*P46 -> 0 | Z46: =+Y46 -M46 -> 0
A47: =+A46 -> 2.01 | B47: 30 | J47: BANEFICIARIO 30 | K47: =+VLOOKUP(L47,$AH$22:$AJ$58,2,) -> A=(Ancho x Largo)* Cant | L47: =+L46 -> M2 | M47: =+HLOOKUP(B47,[238]Hoja1!$2:$78,23,FALSE) -> 0 | T47: =+S47*M47 -> 0 | Y47: =+O47*P47 -> 0 | Z47: =+Y47 -M47 -> 0
A48: =+A47 -> 2.01 | B48: 31 | J48: BANEFICIARIO 31 | K48: =+VLOOKUP(L48,$AH$22:$AJ$58,2,) -> A=(Ancho x Largo)* Cant | L48: =+L47 -> M2 | M48: =+HLOOKUP(B48,[238]Hoja1!$2:$78,23,FALSE) -> 0.75 | O48: 0.5 | P48: =0.5*3 -> 1.5 | S48: =IF(M48=0,"0",1) -> 1 | T48: =+S48*M48 -> 0.75 | Y48: =+O48*P48 -> 0.75 | Z48: =+Y48 -M48 -> 0 | AH48: UND | AI48: UND= Cant de elementos
...

Sheet MC 1
D5: =+[42]DATOS!C$7 -> MEJORAMIENTO DE VIVIENDA CON ENFOQUE DIFERENCIAL PARA POBLACIÓN VULNERABLE EN EL MUNICIPIO DE CUBARÁ, BOYACÁ (2026).
D7: Formato Memoria de Cantidades de Obra
D8: Entidad Proponente: | F8: Alcaldía de Cubara
D9: Entidad Ejecutora: | F9: SECRETARÍA DE PLANEACIÓN Y OBRAS PUBLICAS
D10: Fecha: | F10: =+[42]DATOS!F$5 -> 46143 | L10: Departamento: | N10: BOYACÁ
D11: Etapa: | F11: Año Calendario: | H11: =+[42]DATOS!E$5 -> 2026 | I11: Año del Proyectó: | J11: =+[42]DATOS!E$5 -> 2026 | L11: Municipio: | N11: CUBARA
D13: MEMORIAS DE CANTIDADES DE OBRA
D15: Ítem | E15: Actividad | G15: Und. | J15: Localización de los Elementos | K15: Formula de Cálculo | M15: Dimensiones | S15: Cantidades
A16: ITEM | B16: NUMERO | D16: =+'PRESUPUESTO OFICIAL '!C12 -> 1.01 | E16: =+VLOOKUP(D16,'PRESUPUESTO OFICIAL '!$C$11:$H$103,2) -> LOCALIZACIÓN Y REPLANTEO DE OBRA ARQUITECTÓNICA (NO INCLUYE COMISIÓN TOPOGRÁFICA) | G16: =+VLOOKUP(D16,'PRESUPUESTO OFICIAL '!$C$11:$H$103,3) -> M2 | M16: A (m2) Area | N16: P(m) Perímetro | O16: a (m) Ancho | P16: L (m) Largo | Q16: h (m) Alto - Espesor | R16: V (m3) Volumen | S16: C (Und) Cant. De elementos | T16: Cant. Parcial | V16: =+D16 -> 1.01 | W16: =+T64 -> 1318.48
AS17: NUMERO
A18: 1.01 | B18: 1 | J18: BANEFICIARIO 1 | K18: =+VLOOKUP(L18,$AH$22:$AJ$58,2,) -> A=(Ancho x Largo)* Cant | L18: =+G16 -> M2 | M18: =+HLOOKUP(B18,[238]Hoja1!$2:$78,5,FALSE) -> 43.2 | O18: 6.8 | P18: =+M18/6.8 -> 6.3529412 | S18: =IF(M18=0,"0",1) -> 1 | T18: =+S18*M18 -> 43.2 | U18: 1 | Y18: =+O18*P18 -> 43.2 | AS18: 1 | AT18: 2 | AU18: 3 | AV18: 4 | AW18: 5
A19: =+A18 -> 1.01 | B19: 2 | J19: BANEFICIARIO 2 | K19: =+VLOOKUP(L19,$AH$22:$AJ$58,2,) -> A=(Ancho x Largo)* Cant | L19: =+L18 -> M2 | M19: =+HLOOKUP(B19,[238]Hoja1!$2:$78,5,FALSE) -> 6.12 | O19: =+M19/2.65 -> 2.309434 | P19: 2.65 | S19: =IF(M19=0,"0",1) -> 1 | T19: =+S19*M19 -> 6.12 | Y19: =+O19*P19 -> 6.12 | Z19: =+Y19 -M19 -> 0 | AP19: ITEM | AQ19: 1.01 | AS19: =+$A:$A=AQ19 -> TRUE | AT19: =IFERROR(INDEX('MC 1'!$T:$T,MATCH(1,('MC 1'!$A:$A=$C19)*('MC 1'!$B:$B=$F$5),0)),"")
A20: =+A19 -> 1.01 | B20: 3 | J20: BANEFICIARIO 3 | K20: =+VLOOKUP(L20,$AH$22:$AJ$58,2,) -> A=(Ancho x Largo)* Cant | L20: =+L19 -> M2 | M20: =+HLOOKUP(B20,[238]Hoja1!$2:$78,5,FALSE) -> 6.12 | O20: =+M20/2.65 -> 2.309434 | P20: 2.65 | S20: =IF(M20=0,"0",1) -> 1 | T20: =+S20*M20 -> 6.12 | Y20: =+O20*P20 -> 6.12 | Z20: =+Y20 -M20 -> 0 | AQ20: 1.02 | AS20: =+$A:$A=AQ20 -> FALSE | AT20: =IFERROR(INDEX('MC 1'!$T:$T,MATCH(1,('MC 1'!$A:$A=$C20)*('MC 1'!$B:$B=$E$5),0)),"")
A21: =+A20 -> 1.01 | B21: 4 | J21: BANEFICIARIO 4 | K21: =+VLOOKUP(L21,$AH$22:$AJ$58,2,) -> A=(Ancho x Largo)* Cant | L21: =+L20 -> M2 | M21: =+HLOOKUP(B21,[238]Hoja1!$2:$78,5,FALSE) -> 6.12 | O21: =+M21/2.65 -> 2.309434 | P21: 2.65 | S21: =IF(M21=0,"0",1) -> 1 | T21: =+S21*M21 -> 6.12 | Y21: =+O21*P21 -> 6.12 | Z21: =+Y21 -M21 -> 0 | AK21: M2 | AL21: A=(Ancho x Largo)* Cant | AQ21: 1.03 | AS21: =+$A:$A=AQ21 -> FALSE | AT21: =IFERROR(INDEX('MC 1'!$T:$T,MATCH(1,('MC 1'!$A:$A=$C21)*('MC 1'!$B:$B=$E$5),0)),"")
A22: =+A21 -> 1.01 | B22: 5 | J22: BANEFICIARIO 5 | K22: =+VLOOKUP(L22,$AH$22:$AJ$58,2,) -> A=(Ancho x Largo)* Cant | L22: =+L21 -> M2 | M22: =+HLOOKUP(B22,[238]Hoja1!$2:$78,5,FALSE) -> 6.12 | O22: =+M22/2.65 -> 2.309434 | P22: 2.65 | S22: =IF(M22=0,"0",1) -> 1 | T22: =+S22*M22 -> 6.12 | Y22: =+O22*P22 -> 6.12 | Z22: =+Y22 -M22 -> 0 | AH22: M2 | AI22: A=(Ancho x Largo)* Cant | AK22: M3 | AL22: V=(Ancho x Largo x Alto)* Cant | AQ22: 1.04 | AS22: =+$A:$A=AQ22 -> FALSE | AT22: =IFERROR(INDEX('MC 1'!$T:$T,MATCH(1,('MC 1'!$A:$A=$C22)*('MC 1'!$B:$B=$E$5),0)),"")
A23: =+A22 -> 1.01 | B23: 6 | J23: BANEFICIARIO 6 | K23: =+VLOOKUP(L23,$AH$22:$AJ$58,2,) -> A=(Ancho x Largo)* Cant | L23: =+L22 -> M2 | M23: =+HLOOKUP(B23,[238]Hoja1!$2:$78,5,FALSE) -> 7.08 | O23: 2.4 | P23: 2.95 | S23: =IF(M23=0,"0",1) -> 1 | T23: =+S23*M23 -> 7.08 | Y23: =+O23*P23 -> 7.08 | Z23: =+Y23 -M23 -> 0 | AE23: NUMERO | AH23: M3 | AI23: V=(Ancho x Largo x Alto)* Cant | AK23: M | AL23: M=(Largo) x Cant | AQ23: 1.05 | AS23: =+$A:$A=AQ23 -> FALSE | AT23: =IFERROR(INDEX('MC 1'!$T:$T,MATCH(1,('MC 1'!$A:$A=$C23)*('MC 1'!$B:$B=$E$5),0)),"")
A24: =+A23 -> 1.01 | B24: 7 | J24: BANEFICIARIO 7 | K24: =+VLOOKUP(L24,$AH$22:$AJ$58,2,) -> A=(Ancho x Largo)* Cant | L24: =+L18 -> M2 | M24: =+HLOOKUP(B24,[238]Hoja1!$2:$78,5,FALSE) -> 50.76 | O24: =+M24/5.4 -> 9.4 | P24: 5.4 | S24: =IF(M24=0,"0",1) -> 1 | T24: =+S24*M24 -> 50.76 | Y24: =+O24*P24 -> 50.76 | Z24: =+Y24 -M24 -> 0 | AE24: 2 | AH24: M | AI24: M=(Largo) x Cant | AK24: UND | AL24: UND= Cant de elementos | AQ24: 1.06 | AS24: =+$A:$A=AQ24 -> FALSE | AT24: =IFERROR(INDEX('MC 1'!$T:$T,MATCH(1,('MC 1'!$A:$A=$C24)*('MC 1'!$B:$B=$E$5),0)),"")
A25: =+A24 -> 1.01 | B25: 8 | J25: BANEFICIARIO 8 | K25: =+VLOOKUP(L25,$AH$22:$AJ$58,2,) -> A=(Ancho x Largo)* Cant | L25: =+L24 -> M2 | M25: =+HLOOKUP(B25,[238]Hoja1!$2:$78,5,FALSE) -> 9.3 | O25: =+M25/3.15 -> 2.952381 | P25: 3.15 | S25: =IF(M25=0,"0",1) -> 1 | T25: =+S25*M25 -> 9.3 | Y25: =+O25*P25 -> 9.3 | Z25: =+Y25 -M25 -> 0 | AB25: ITEM | AC25: 1.02 | AE25: =IFERROR(INDEX('MC 1'!$T:$T,MATCH(1,('MC 1'!$A:$A=$AC25)*('MC 1'!$B:$B=$AE$24),0)),"") | AH25: UND | AI25: UND= Cant de elementos | AQ25: 1.07 | AS25: =IFERROR(INDEX('MC 1'!$T:$T,MATCH(1,('MC 1'!$A:$A=$C25)*('MC 1'!$B:$B=$E$5),0)),"") | AT25: =IFERROR(INDEX('MC 1'!$T:$T,MATCH(1,('MC 1'!$A:$A=$C25)*('MC 1'!$B:$B=$E$5),0)),"")
A26: =+A25 -> 1.01 | B26: 9 | J26: BANEFICIARIO 9 | K26: =+VLOOKUP(L26,$AH$22:$AJ$58,2,) -> A=(Ancho x Largo)* Cant | L26: =+L25 -> M2 | M26: =+HLOOKUP(B26,[238]Hoja1!$2:$78,5,FALSE) -> 6.12 | O26: =+M26/2.65 -> 2.309434 | P26: 2.65 | S26: =IF(M26=0,"0",1) -> 1 | T26: =+S26*M26 -> 6.12 | Y26: =+O26*P26 -> 6.12 | Z26: =+Y26 -M26 -> 0 | AQ26: 1.08 | AS26: =IFERROR(INDEX('MC 1'!$T:$T,MATCH(1,('MC 1'!$A:$A=$C26)*('MC 1'!$B:$B=$E$5),0)),"") | AT26: =IFERROR(INDEX('MC 1'!$T:$T,MATCH(1,('MC 1'!$A:$A=$C26)*('MC 1'!$B:$B=$E$5),0)),"")
A27: =+A26 -> 1.01 | B27: 10 | J27: BANEFICIARIO 10 | K27: =+VLOOKUP(L27,$AH$22:$AJ$58,2,) -> A=(Ancho x Largo)* Cant | L27: =+L26 -> M2 | M27: =+HLOOKUP(B27,[238]Hoja1!$2:$78,5,FALSE) -> 44.02 | O27: =+M27/7.1 -> 6.2 | P27: 7.1 | S27: =IF(M27=0,"0",1) -> 1 | T27: =+S27*M27 -> 44.02 | Y27: =+O27*P27 -> 44.02 | Z27: =+Y27 -M27 -> 0 | AQ27: 1.09 | AS27: =IFERROR(INDEX('MC 1'!$T:$T,MATCH(1,('MC 1'!$A:$A=$C27)*('MC 1'!$B:$B=$E$5),0)),"") | AT27: =IFERROR(INDEX('MC 1'!$T:$T,MATCH(1,('MC 1'!$A:$A=$C27)*('MC 1'!$B:$B=$E$5),0)),"")
A28: =+A27 -> 1.01 | B28: 11 | J28: BANEFICIARIO 11 | K28: =+VLOOKUP(L28,$AH$22:$AJ$58,2,) -> A=(Ancho x Largo)* Cant | L28: =+L27 -> M2 | M28: =+HLOOKUP(B28,[238]Hoja1!$2:$78,5,FALSE) -> 0 | T28: =+S28*M28 -> 0 | Y28: =+O28*P28 -> 0 | Z28: =+Y28 -M28 -> 0 | AQ28: 1.1 | AS28: =IFERROR(INDEX('MC 1'!$T:$T,MATCH(1,('MC 1'!$A:$A=$C28)*('MC 1'!$B:$B=$E$5),0)),"") | AT28: =IFERROR(INDEX('MC 1'!$T:$T,MATCH(1,('MC 1'!$A:$A=$C28)*('MC 1'!$B:$B=$E$5),0)),"")
A29: =+A28 -> 1.01 | B29: 12 | J29: BANEFICIARIO 12 | K29: =+VLOOKUP(L29,$AH$22:$AJ$58,2,) -> A=(Ancho x Largo)* Cant | L29: =+L23 -> M2 | M29: =+HLOOKUP(B29,[238]Hoja1!$2:$78,5,FALSE) -> 63.51 | O29: =+M29/8.7 -> 7.3 | P29: 8.7 | S29: =IF(M29=0,"0",1) -> 1 | T29: =+S29*M29 -> 63.51 | Y29: =+O29*P29 -> 63.51 | Z29: =+Y29 -M29 -> 0 | AH29: M | AI29: M=(Largo) x Cant | AK29: UND | AL29: UND= Cant de elementos | AQ29: 1.11 | AS29: =IFERROR(INDEX('MC 1'!$T:$T,MATCH(1,('MC 1'!$A:$A=$C29)*('MC 1'!$B:$B=$E$5),0)),"") | AT29: =IFERROR(INDEX('MC 1'!$T:$T,MATCH(1,('MC 1'!$A:$A=$C29)*('MC 1'!$B:$B=$E$5),0)),"")
A30: =+A29 -> 1.01 | B30: 13 | J30: BANEFICIARIO 13 | K30: =+VLOOKUP(L30,$AH$22:$AJ$58,2,) -> A=(Ancho x Largo)* Cant | L30: =+L25 -> M2 | M30: =+HLOOKUP(B30,[238]Hoja1!$2:$78,5,FALSE) -> 36.08 | O30: =+M30/8.8 -> 4.1 | P30: 8.8 | S30: =IF(M30=0,"0",1) -> 1 | T30: =+S30*M30 -> 36.08 | Y30: =+O30*P30 -> 36.08 | Z30: =+Y30 -M30 -> 0 | AH30: UND | AI30: UND= Cant de elementos | AQ30: 1.12 | AS30: =IFERROR(INDEX('MC 1'!$T:$T,MATCH(1,('MC 1'!$A:$A=$C30)*('MC 1'!$B:$B=$E$5),0)),"") | AT30: =IFERROR(INDEX('MC 1'!$T:$T,MATCH(1,('MC 1'!$A:$A=$C30)*('MC 1'!$B:$B=$E$5),0)),"")
A31: =+A30 -> 1.01 | B31: 14 | J31: BANEFICIARIO 14 | K31: =+VLOOKUP(L31,$AH$22:$AJ$58,2,) -> A=(Ancho x Largo)* Cant | L31: =+L30 -> M2 | M31: =+HLOOKUP(B31,[238]Hoja1!$2:$78,5,FALSE) -> 6.12 | O31: =+M31/2.65 -> 2.309434 | P31: 2.65 | S31: =IF(M31=0,"0",1) -> 1 | T31: =+S31*M31 -> 6.12 | Y31: =+O31*P31 -> 6.12 | Z31: =+Y31 -M31 -> 0 | AQ31: 1.13 | AS31: =IFERROR(INDEX('MC 1'!$T:$T,MATCH(1,('MC 1'!$A:$A=$C31)*('MC 1'!$B:$B=$E$5),0)),"") | AT31: =IFERROR(INDEX('MC 1'!$T:$T,MATCH(1,('MC 1'!$A:$A=$C31)*('MC 1'!$B:$B=$E$5),0)),"")
A32: =+A31 -> 1.01 | B32: 15 | J32: BANEFICIARIO 15 | K32: =+VLOOKUP(L32,$AH$22:$AJ$58,2,) -> A=(Ancho x Largo)* Cant | L32: =+L31 -> M2 | M32: =+HLOOKUP(B32,[238]Hoja1!$2:$78,5,FALSE) -> 43.27 | O32: =+M32/8.5 -> 5.0905882 | P32: 8.5 | S32: =IF(M32=0,"0",1) -> 1 | T32: =+S32*M32 -> 43.27 | Y32: =+O32*P32 -> 43.27 | Z32: =+Y32 -M32 -> 0 | AQ32: 1.14 | AS32: =IFERROR(INDEX('MC 1'!$T:$T,MATCH(1,('MC 1'!$A:$A=$C32)*('MC 1'!$B:$B=$E$5),0)),"") | AT32: =IFERROR(INDEX('MC 1'!$T:$T,MATCH(1,('MC 1'!$A:$A=$C32)*('MC 1'!$B:$B=$E$5),0)),"")
A33: =+A32 -> 1.01 | B33: 16 | J33: BANEFICIARIO 16 | K33: =+VLOOKUP(L33,$AH$22:$AJ$58,2,) -> A=(Ancho x Largo)* Cant | L33: =+L32 -> M2 | M33: =+HLOOKUP(B33,[238]Hoja1!$2:$78,5,FALSE) -> 15.6 | O33: =+M33/5.1 -> 3.0588235 | P33: 5.1 | S33: =IF(M33=0,"0",1) -> 1 | T33: =+S33*M33 -> 15.6 | Y33: =+O33*P33 -> 15.6 | Z33: =+Y33 -M33 -> 0 | AQ33: 1.15 | AS33: =IFERROR(INDEX('MC 1'!$T:$T,MATCH(1,('MC 1'!$A:$A=$C33)*('MC 1'!$B:$B=$E$5),0)),"") | AT33: =IFERROR(INDEX('MC 1'!$T:$T,MATCH(1,('MC 1'!$A:$A=$C33)*('MC 1'!$B:$B=$E$5),0)),"")
A34: =+A33 -> 1.01 | B34: 17 | J34: BANEFICIARIO 17 | K34: =+VLOOKUP(L34,$AH$22:$AJ$58,2,) -> A=(Ancho x Largo)* Cant | L34: =+L33 -> M2 | M34: =+HLOOKUP(B34,[238]Hoja1!$2:$78,5,FALSE) -> 72.09 | O34: 8.1 | P34: 8.9 | S34: =IF(M34=0,"0",1) -> 1 | T34: =+S34*M34 -> 72.09 | Y34: =+O34*P34 -> 72.09 | Z34: =+Y34 -M34 -> 0 | AQ34: 2.01 | AS34: =IFERROR(INDEX('MC 1'!$T:$T,MATCH(1,('MC 1'!$A:$A=$C34)*('MC 1'!$B:$B=$E$5),0)),"") | AT34: =IFERROR(INDEX('MC 1'!$T:$T,MATCH(1,('MC 1'!$A:$A=$C34)*('MC 1'!$B:$B=$E$5),0)),"")
A35: =+A34 -> 1.01 | B35: 18 | J35: BANEFICIARIO 18 | K35: =+VLOOKUP(L35,$AH$22:$AJ$58,2,) -> A=(Ancho x Largo)* Cant | L35: =+L34 -> M2 | M35: =+HLOOKUP(B35,[238]Hoja1!$2:$78,5,FALSE) -> 7.08 | O35: 2.4 | P35: 2.95 | S35: =IF(M35=0,"0",1) -> 1 | T35: =+S35*M35 -> 7.08 | Y35: =+O35*P35 -> 7.08 | Z35: =+Y35 -M35 -> 0 | AQ35: 2.02 | AS35: =IFERROR(INDEX('MC 1'!$T:$T,MATCH(1,('MC 1'!$A:$A=$C35)*('MC 1'!$B:$B=$E$5),0)),"") | AT35: =IFERROR(INDEX('MC 1'!$T:$T,MATCH(1,('MC 1'!$A:$A=$C35)*('MC 1'!$B:$B=$E$5),0)),"")
A36: =+A35 -> 1.01 | B36: 19 | J36: BANEFICIARIO 19 | K36: =+VLOOKUP(L36,$AH$22:$AJ$58,2,) -> A=(Ancho x Largo)* Cant | L36: =+L35 -> M2 | M36: =+HLOOKUP(B36,[238]Hoja1!$2:$78,5,FALSE) -> 6.12 | O36: =+M36/2.65 -> 2.309434 | P36: 2.65 | S36: =IF(M36=0,"0",1) -> 1 | T36: =+S36*M36 -> 6.12 | Y36: =+O36*P36 -> 6.12 | Z36: =+Y36 -M36 -> 0 | AQ36: 2.03 | AS36: =IFERROR(INDEX('MC 1'!$T:$T,MATCH(1,('MC 1'!$A:$A=$C36)*('MC 1'!$B:$B=$E$5),0)),"") | AT36: =IFERROR(INDEX('MC 1'!$T:$T,MATCH(1,('MC 1'!$A:$A=$C36)*('MC 1'!$B:$B=$E$5),0)),"")
A37: =+A36 -> 1.01 | B37: 20 | J37: BANEFICIARIO 20 | K37: =+VLOOKUP(L37,$AH$22:$AJ$58,2,) -> A=(Ancho x Largo)* Cant | L37: =+L36 -> M2 | M37: =+HLOOKUP(B37,[238]Hoja1!$2:$78,5,FALSE) -> 9.3 | O37: =+M37/3.15 -> 2.952381 | P37: 3.15 | S37: =IF(M37=0,"0",1) -> 1 | T37: =+S37*M37 -> 9.3 | Y37: =+O37*P37 -> 9.3 | Z37: =+Y37 -M37 -> 0 | AQ37: 2.04
A38: =+A37 -> 1.01 | B38: 21 | J38: BANEFICIARIO 21 | K38: =+VLOOKUP(L38,$AH$22:$AJ$58,2,) -> A=(Ancho x Largo)* Cant | L38: =+L37 -> M2 | M38: =+HLOOKUP(B38,[238]Hoja1!$2:$78,5,FALSE) -> 69.01 | O38: 10.3 | P38: 6.7 | S38: =IF(M38=0,"0",1) -> 1 | T38: =+S38*M38 -> 69.01 | Y38: =+O38*P38 -> 69.01 | Z38: =+Y38 -M38 -> 0 | AQ38: 2.05
A39: =+A38 -> 1.01 | B39: 22 | J39: BANEFICIARIO 22 | K39: =+VLOOKUP(L39,$AH$22:$AJ$58,2,) -> A=(Ancho x Largo)* Cant | L39: =+L38 -> M2 | M39: =+HLOOKUP(B39,[238]Hoja1!$2:$78,5,FALSE) -> 6.12 | O39: =+M39/2.65 -> 2.309434 | P39: 2.65 | S39: =IF(M39=0,"0",1) -> 1 | T39: =+S39*M39 -> 6.12 | Y39: =+O39*P39 -> 6.12 | Z39: =+Y39 -M39 -> 0 | AQ39: 3.01
A40: =+A39 -> 1.01 | B40: 23 | J40: BANEFICIARIO 23 | K40: =+VLOOKUP(L40,$AH$22:$AJ$58,2,) -> A=(Ancho x Largo)* Cant | L40: =+L39 -> M2 | M40: =+HLOOKUP(B40,[238]Hoja1!$2:$78,5,FALSE) -> 127.2 | O40: =+M40/12 -> 10.6 | P40: 12 | S40: =IF(M40=0,"0",1) -> 1 | T40: =+S40*M40 -> 127.2 | Y40: =+O40*P40 -> 127.2 | Z40: =+Y40 -M40 -> 0 | AQ40: 3.02
A41: =+A40 -> 1.01 | B41: 24 | J41: BANEFICIARIO 24 | K41: =+VLOOKUP(L41,$AH$22:$AJ$58,2,) -> A=(Ancho x Largo)* Cant | L41: =+L40 -> M2 | M41: =+HLOOKUP(B41,[238]Hoja1!$2:$78,5,FALSE) -> 6.18 | O41: =+M41/2.5 -> 2.472 | P41: 2.5 | S41: =IF(M41=0,"0",1) -> 1 | T41: =+S41*M41 -> 6.18 | Y41: =+O41*P41 -> 6.18 | Z41: =+Y41 -M41 -> 0 | AH41: UND | AI41: UND= Cant de elementos | AQ41: 3.03
A42: =+A41 -> 1.01 | B42: 25 | J42: BANEFICIARIO 25 | K42: =+VLOOKUP(L42,$AH$22:$AJ$58,2,) -> A=(Ancho x Largo)* Cant | L42: =+L41 -> M2 | M42: =+HLOOKUP(B42,[238]Hoja1!$2:$78,5,FALSE) -> 7.425 | O42: =+M42/3.3 -> 2.25 | P42: 3.3 | S42: =IF(M42=0,"0",1) -> 1 | T42: =+S42*M42 -> 7.425 | Y42: =+O42*P42 -> 7.425 | Z42: =+Y42 -M42 -> 0 | AQ42: 3.04
A43: =+A42 -> 1.01 | B43: 26 | J43: BANEFICIARIO 26 | K43: =+VLOOKUP(L43,$AH$22:$AJ$58,2,) -> A=(Ancho x Largo)* Cant | L43: =+L32 -> M2 | M43: =+HLOOKUP(B43,[238]Hoja1!$2:$78,5,FALSE) -> 124.6 | O43: =+M43/7 -> 17.8 | P43: 7 | S43: =IF(M43=0,"0",1) -> 1 | T43: =+S43*M43 -> 124.6 | Y43: =+O43*P43 -> 124.6 | Z43: =+Y43 -M43 -> 0 | AQ43: 3.05
A44: =+A43 -> 1.01 | B44: 27 | J44: BANEFICIARIO 27 | K44: =+VLOOKUP(L44,$AH$22:$AJ$58,2,) -> A=(Ancho x Largo)* Cant | L44: =+L43 -> M2 | M44: =+HLOOKUP(B44,[238]Hoja1!$2:$78,5,FALSE) -> 6.12 | O44: =+M44/2.65 -> 2.309434 | P44: 2.65 | S44: =IF(M44=0,"0",1) -> 1 | T44: =+S44*M44 -> 6.12 | Y44: =+O44*P44 -> 6.12 | Z44: =+Y44 -M44 -> 0 | AQ44: 3.06
A45: =+A44 -> 1.01 | B45: 28 | J45: BANEFICIARIO 28 | K45: =+VLOOKUP(L45,$AH$22:$AJ$58,2,) -> A=(Ancho x Largo)* Cant | L45: =+L44 -> M2 | M45: =+HLOOKUP(B45,[238]Hoja1!$2:$78,5,FALSE) -> 43.6 | O45: =+M45/5.35 -> 8.1495327 | P45: 5.35 | S45: =IF(M45=0,"0",1) -> 1 | T45: =+S45*M45 -> 43.6 | Y45: =+O45*P45 -> 43.6 | Z45: =+Y45 -M45 -> 0 | AQ45: 3.07
A46: =+A45 -> 1.01 | B46: 29 | J46: BANEFICIARIO 29 | K46: =+VLOOKUP(L46,$AH$22:$AJ$58,2,) -> A=(Ancho x Largo)* Cant | L46: =+L45 -> M2 | M46: =+HLOOKUP(B46,[238]Hoja1!$2:$78,5,FALSE) -> 0 | T46: =+S46*M46 -> 0 | Y46: =+O46*P46 -> 0 | Z46: =+Y46 -M46 -> 0
A47: =+A46 -> 1.01 | B47: 30 | J47: BANEFICIARIO 30 | K47: =+VLOOKUP(L47,$AH$22:$AJ$58,2,) -> A=(Ancho x Largo)* Cant | L47: =+L46 -> M2 | M47: =+HLOOKUP(B47,[238]Hoja1!$2:$78,5,FALSE) -> 9.3 | O47: =+M47/3.15 -> 2.952381 | P47: 3.15 | S47: =IF(M47=0,"0",1) -> 1 | T47: =+S47*M47 -> 9.3 | Y47: =+O47*P47 -> 9.3 | Z47: =+Y47 -M47 -> 0
...

Sheet Hoja3
E4: NUMERO
E5: =+'MC 1'!B18 -> 1 | F5: 2 | G5: 3 | H5: 4 | I5: 5
A6: 1.01 | B6: ITEM | C6: 1.01 | E6: ='MC 1'!$A:$A=$C6 -> FALSE | F6: =IFERROR(INDEX('MC 1'!$T:$T,MATCH(1,('MC 1'!$A:$A=$C6)*('MC 1'!$B:$B=$F$5),0)),"")
A7: 1.02 | C7: 1.02 | E7: =+$A:$A=$C7 -> TRUE | F7: =IFERROR(INDEX('MC 1'!$T:$T,MATCH(1,('MC 1'!$A:$A=$C7)*('MC 1'!$B:$B=$E$5),0)),"")
A8: 1.01 | C8: 1.03 | E8: =+$A:$A=$C8 -> FALSE | F8: =IFERROR(INDEX('MC 1'!$T:$T,MATCH(1,('MC 1'!$A:$A=$C8)*('MC 1'!$B:$B=$E$5),0)),"")
A9: 1.01 | C9: 1.04 | E9: =+$A:$A=$C9 -> FALSE | F9: =IFERROR(INDEX('MC 1'!$T:$T,MATCH(1,('MC 1'!$A:$A=$C9)*('MC 1'!$B:$B=$E$5),0)),"")
A10: 1.01 | C10: 1.05 | E10: =+$A:$A=$C10 -> FALSE | F10: =IFERROR(INDEX('MC 1'!$T:$T,MATCH(1,('MC 1'!$A:$A=$C10)*('MC 1'!$B:$B=$E$5),0)),"")
A11: 1.01 | C11: 1.06 | E11: =+$A:$A=$C11 -> FALSE | F11: =IFERROR(INDEX('MC 1'!$T:$T,MATCH(1,('MC 1'!$A:$A=$C11)*('MC 1'!$B:$B=$E$5),0)),"")
A12: 1.01 | C12: 1.07 | E12: =+$A:$A=$C12 -> FALSE | F12: =IFERROR(INDEX('MC 1'!$T:$T,MATCH(1,('MC 1'!$A:$A=$C12)*('MC 1'!$B:$B=$E$5),0)),"")
A13: 1.01 | C13: 1.08 | E13: =IFERROR(INDEX('MC 1'!$T:$T,MATCH(1,('MC 1'!$A:$A=$C13)*('MC 1'!$B:$B=$E$5),0)),"") | F13: =IFERROR(INDEX('MC 1'!$T:$T,MATCH(1,('MC 1'!$A:$A=$C13)*('MC 1'!$B:$B=$E$5),0)),"")
A14: 1.01 | C14: 1.09 | E14: =IFERROR(INDEX('MC 1'!$T:$T,MATCH(1,('MC 1'!$A:$A=$C14)*('MC 1'!$B:$B=$E$5),0)),"") | F14: =IFERROR(INDEX('MC 1'!$T:$T,MATCH(1,('MC 1'!$A:$A=$C14)*('MC 1'!$B:$B=$E$5),0)),"")
A15: 1.01 | C15: 1.1 | E15: =IFERROR(INDEX('MC 1'!$T:$T,MATCH(1,('MC 1'!$A:$A=$C15)*('MC 1'!$B:$B=$E$5),0)),"") | F15: =IFERROR(INDEX('MC 1'!$T:$T,MATCH(1,('MC 1'!$A:$A=$C15)*('MC 1'!$B:$B=$E$5),0)),"")
A16: 1.01 | C16: 1.11 | E16: =IFERROR(INDEX('MC 1'!$T:$T,MATCH(1,('MC 1'!$A:$A=$C16)*('MC 1'!$B:$B=$E$5),0)),"") | F16: =IFERROR(INDEX('MC 1'!$T:$T,MATCH(1,('MC 1'!$A:$A=$C16)*('MC 1'!$B:$B=$E$5),0)),"")
A17: 1.01 | C17: 1.12 | E17: =IFERROR(INDEX('MC 1'!$T:$T,MATCH(1,('MC 1'!$A:$A=$C17)*('MC 1'!$B:$B=$E$5),0)),"") | F17: =IFERROR(INDEX('MC 1'!$T:$T,MATCH(1,('MC 1'!$A:$A=$C17)*('MC 1'!$B:$B=$E$5),0)),"")
A18: 1.01 | C18: 1.13 | E18: =IFERROR(INDEX('MC 1'!$T:$T,MATCH(1,('MC 1'!$A:$A=$C18)*('MC 1'!$B:$B=$E$5),0)),"") | F18: =IFERROR(INDEX('MC 1'!$T:$T,MATCH(1,('MC 1'!$A:$A=$C18)*('MC 1'!$B:$B=$E$5),0)),"")
A19: 1.01 | C19: 1.14 | E19: =IFERROR(INDEX('MC 1'!$T:$T,MATCH(1,('MC 1'!$A:$A=$C19)*('MC 1'!$B:$B=$E$5),0)),"") | F19: =IFERROR(INDEX('MC 1'!$T:$T,MATCH(1,('MC 1'!$A:$A=$C19)*('MC 1'!$B:$B=$E$5),0)),"")
A20: 1.01 | C20: 1.15 | E20: =IFERROR(INDEX('MC 1'!$T:$T,MATCH(1,('MC 1'!$A:$A=$C20)*('MC 1'!$B:$B=$E$5),0)),"") | F20: =IFERROR(INDEX('MC 1'!$T:$T,MATCH(1,('MC 1'!$A:$A=$C20)*('MC 1'!$B:$B=$E$5),0)),"")
A21: 1.01 | C21: 2.01 | E21: =IFERROR(INDEX('MC 1'!$T:$T,MATCH(1,('MC 1'!$A:$A=$C21)*('MC 1'!$B:$B=$E$5),0)),"") | F21: =IFERROR(INDEX('MC 1'!$T:$T,MATCH(1,('MC 1'!$A:$A=$C21)*('MC 1'!$B:$B=$E$5),0)),"")
A22: 1.01 | C22: 2.02 | E22: =IFERROR(INDEX('MC 1'!$T:$T,MATCH(1,('MC 1'!$A:$A=$C22)*('MC 1'!$B:$B=$E$5),0)),"") | F22: =IFERROR(INDEX('MC 1'!$T:$T,MATCH(1,('MC 1'!$A:$A=$C22)*('MC 1'!$B:$B=$E$5),0)),"")
A23: 1.01 | C23: 2.03 | E23: =IFERROR(INDEX('MC 1'!$T:$T,MATCH(1,('MC 1'!$A:$A=$C23)*('MC 1'!$B:$B=$E$5),0)),"") | F23: =IFERROR(INDEX('MC 1'!$T:$T,MATCH(1,('MC 1'!$A:$A=$C23)*('MC 1'!$B:$B=$E$5),0)),"")
A24: 1.01 | C24: 2.04
A25: 1.01 | C25: 2.05
A26: 1.01 | C26: 3.01
A27: 1.01 | C27: 3.02
A28: 1.01 | C28: 3.03
A29: 1.01 | C29: 3.04
A30: 1.01 | C30: 3.05
A31: 1.01 | C31: 3.06
A32: 1.01 | C32: 3.07
A33: 1.01 | C33: 3.08
A34: 1.01
A35: 1.01
A36: 1.01
A37: 1.01
A38: 1.01
A39: 1.01
A40: 1.01
A41: 1.01
A42: 1.01
A43: 1.01
...

Sheet PRESUPUESTO OFICIAL 
C5: FORMULARIO 1
C6: PRESUPUESTO OFICIAL | L6: 0.05 | M6: =+#REF! -> #REF! | Q6: 13 | R6: 13 | S6: 15 | T6: =15*85% -> 12.75 | Z6: =+X7*0.091 -> 2.368631e+08
C7: MEJORAMIENTO DE VIVIENDA CON ENFOQUE DIFERENCIAL PARA POBLACIÓN VULNERABLE EN EL MUNICIPIO DE CUBARÁ, BOYACÁ (2026). | L7: 1 | M7: =+L7*M6/L6 -> #REF! | P7: =+H103 -> 6727301 | Q7: =+P7/P8 -> 3.842185 | W7: 2.368631e+08 | X7: =3383758586.35/1.3 -> 2.6028912e+09 | Z7: =+X7*0.07 -> 1.8220239e+08
C8: Nº | D8: DESCRIPCIÓN | E8: UND. | F8: CANTIDAD | G8: VALOR UNITARIO | H8: VALOR TOTAL | P8: 1750905
U9: =87%*15 -> 13.05
C11: 1 | D11: OBRAS PRELIMINARES | Q11: =427000*4 -> 1708000 | W11: =+W7-X7 -> -2.3660281e+09 | X11: =+W11/X7 -> -0.909
C12: 1.01 | D12: LOCALIZACIÓN Y REPLANTEO DE OBRA ARQUITECTÓNICA (NO INCLUYE COMISIÓN TOPOGRÁFICA) | E12: M2 | F12: =+VLOOKUP(C12,'MC 1'!V:W,2,FALSE) -> 1318.48 | G12: =+VLOOKUP(C12,'CAP 1,00'!D:R,15,FALSE) -> 5949 | H12: =ROUND(G12*F12,2) -> 7843637.5 | K12: 1 | L12: 5949 | M12: =+G12-L12 -> 0 | P12: =+G12/1.33 -> 4472.9323
C13: 1.02 | D13: DESMONTE DE CUBIERTA DE ZINC + ENTRAMADO. (INCLUYE RETIRO Y ACARREO LIBRE HASTA 5 KM.) | E13: M2 | F13: =+VLOOKUP(C13,'MC 1'!V:W,2,FALSE) -> 572.49 | G13: =+VLOOKUP(C13,'CAP 1,00'!D:R,15,FALSE) -> 33698 | H13: =ROUND(G13*F13,2) -> 19291768 | K13: 2 | L13: 30639 | M13: =+G13-L13 -> 3059
C14: 1.03 | D14: DESMONTE DE DIVISIÓN - PISO A TECHO. (INCLUYE RETIRO Y ACARREO LIBRE HASTA 5 KM.) | E14: M2 | F14: =+VLOOKUP(C14,'MC 1'!V:W,2,FALSE) -> 13.75 | G14: =+VLOOKUP(C14,'CAP 1,00'!D:R,15,FALSE) -> 25602 | H14: =ROUND(G14*F14,2) -> 352027.5 | K14: 3 | L14: 25602 | M14: =+G14-L14 -> 0
C15: 1.04 | D15: DEMOLICIÓN DE MUROS EN MAMPOSTERÍA DE LADRILLO E = 0.15 M. (INCLUYE RETIRO Y ACARREO LIBRE HASTA 5 KM.) | E15: M2 | F15: =+VLOOKUP(C15,'MC 1'!V:W,2,FALSE) -> 46.6 | G15: =+VLOOKUP(C15,'CAP 1,00'!D:R,15,FALSE) -> 31112 | H15: =ROUND(G15*F15,2) -> 1449819.2 | K15: 4 | L15: 31112 | M15: =+G15-L15 -> 0
C16: 1.05 | D16: DEMOLICIÓN DE PLACA DE PISO EN CONCRETO DE E = 10 CM. (INCLUYE RETIRO Y ACARREO LIBRE HASTA 5 KM.) | E16: M2 | F16: =+VLOOKUP(C16,'MC 1'!V:W,2,FALSE) -> 48.54 | G16: =+VLOOKUP(C16,'CAP 1,00'!D:R,15,FALSE) -> 92781 | H16: =ROUND(G16*F16,2) -> 4503589.7 | K16: 5 | L16: 63675 | M16: =+G16-L16 -> 29106
C17: 1.06 | D17: DEMOLICIÓN DE PISO EN CERÁMICA + MORTERO. (INCLUYE RETIRO Y ACARREO LIBRE HASTA 5 KM.) | E17: M2 | F17: =+VLOOKUP(C17,'MC 1'!V:W,2,FALSE) -> 12.66 | G17: =+VLOOKUP(C17,'CAP 1,00'!D:R,15,FALSE) -> 20684 | H17: =ROUND(G17*F17,2) -> 261859.44 | K17: 6 | L17: 20684 | M17: =+G17-L17 -> 0
C18: 1.07 | D18: DEMOLICIÓN DE ESTRUCTURAS DE CONCRETO CICLOPEO, (INCLUYE RETIRO Y ACARREO LIBRE HASTA 5 KM.) | E18: M3 | F18: =+VLOOKUP(C18,'MC 1'!V:W,2,FALSE) -> 1.67 | G18: =+VLOOKUP(C18,'CAP 1,00'!D:R,15,FALSE) -> 536147 | H18: =ROUND(G18*F18,2) -> 895365.49 | K18: 7 | L18: 536147 | M18: =+G18-L18 -> 0
C19: 1.08 | D19: DEMOLICIÓN OBRAS EN CONCRETO REFORZADO, INCLUYE CARGUE Y RETIRO DE SOBRANTES CON ACARREO LIBRE HASTA 5 KM.). | E19: M3 | F19: =+VLOOKUP(C19,'MC 1'!V:W,2,FALSE) -> 1.75 | G19: =+VLOOKUP(C19,'CAP 1,00'!D:R,15,FALSE) -> 512427 | H19: =ROUND(G19*F19,2) -> 896747.25 | K19: 8 | L19: 512427 | M19: =+G19-L19 -> 0
C20: 1.09 | D20: DESMONTE DE MARCOS, PUERTAS Y VENTANAS. | E20: M2 | F20: =+VLOOKUP(C20,'MC 1'!V:W,2,FALSE) -> 4.61 | G20: =+VLOOKUP(C20,'CAP 1,00'!D:R,15,FALSE) -> 60447 | H20: =ROUND(G20*F20,2) -> 278660.67 | K20: 9 | L20: 60447 | M20: =+G20-L20 -> 0
C21: 1.1 | D21: RELLENO CON MATERIAL DE EXCAVACION COMPACTADO MANUALMENTE CON PISON | E21: M3 | F21: =+VLOOKUP(C21,'MC 1'!V:W,2,FALSE) -> 22.99 | G21: =+VLOOKUP(C21,'CAP 1,00'!D:R,15,FALSE) -> 68288 | H21: =ROUND(G21*F21,2) -> 1569941.1 | K21: 10 | L21: 68288 | M21: =+G21-L21 -> 0
C22: 1.11 | D22: DESCAPOTE MANUAL HASTA 20 CM (INCLUYE RETIRO Y ACARREO LIBRE HASTA 5 KM) | E22: M2 | F22: =+VLOOKUP(C22,'MC 1'!V:W,2,FALSE) -> 24.54 | G22: =+VLOOKUP(C22,'CAP 1,00'!D:R,15,FALSE) -> 18897 | H22: =ROUND(G22*F22,2) -> 463732.38 | K22: 11 | L22: 18897 | M22: =+G22-L22 -> 0
C23: 1.12 | D23: EXCAVACIÓN MANUAL EN MATERIAL COMÚN | E23: M3 | F23: =+VLOOKUP(C23,'MC 1'!V:W,2,FALSE) -> 45.16 | G23: =+VLOOKUP(C23,'CAP 1,00'!D:R,15,FALSE) -> 116450 | H23: =ROUND(G23*F23,2) -> 5258882 | K23: 12 | L23: 116450 | M23: =+G23-L23 -> 0
C24: 1.13 | D24: EXCAVACIÓN MANUAL EN MATERIAL CONGLOMERADO | E24: M3 | F24: =+VLOOKUP(C24,'MC 1'!V:W,2,FALSE) -> 2.45 | G24: =+VLOOKUP(C24,'CAP 1,00'!D:R,15,FALSE) -> 163030 | H24: =ROUND(G24*F24,2) -> 399423.5 | K24: 13 | L24: 163030 | M24: =+G24-L24 -> 0
... C26: 1.15 | D26: DESMONTE DE CUBIERTA EN LÁMINA | E26: M2 | F26: =+VLOOKUP(C26,'MC 1'!V:W,2,FALSE) -> 121.33 | G26: =+VLOOKUP(C26,'CAP 1,00'!D:R,15,FALSE) -> 15306 | H26: =ROUND(G26*F26,2) -> 1857077 | K26: 15 | L26: 15306 | M26: =+G26-L26 -> 0
C27: Subtotal | H27: =+SUM(H12:H26) -> 53067269 | M27: =+G27-L27 -> 0 | N27: =+H27 -> 53067269 | O27: 51773774 | P27: =+N27-O27 -> 1293494.8
M28: =+G28-L28 -> 0 | N28: =+H35 -> 48296820 | O28: 48282178 | P28: =+N28-O28 -> 14642.373
C29: 2 | D29: CIMENTACIONES | M29: =+G29-L29 -> 0 | N29: =+H47 -> 1.7435222e+08 | O29: 1.7428897e+08 | P29: =+N29-O29 -> 63246.572
C30: 2.01 | D30: SOLADO CONCRETO f'c = 2000 psi (14 MPa), ESPESOR 0.05 M | E30: M2 | F30: =+VLOOKUP(C30,'MC 2-3-4'!V:W,2,FALSE) -> 17.4 | G30: =+VLOOKUP(C30,'CAP 2-3-4'!D:R,15,FALSE) -> 65698 | H30: =ROUND(G30*F30,2) -> 1143145.2 | K30: 16 | L30: 65698 | M30: =+G30-L30 -> 0 | N30: =+H58 -> 20034899 | O30: 20034899 | P30: =+N30-O30 -> 0
C31: 2.02 | D31: ZAPATA CUADRADA EN CONCRETO f'c = 3000 PSI (21MPa). | E31: M3 | F31: =+VLOOKUP(C31,'MC 2-3-4'!V:W,2,FALSE) -> 1.09 | G31: =+VLOOKUP(C31,'CAP 2-3-4'!D:R,15,FALSE) -> 1763453 | H31: =ROUND(G31*F31,2) -> 1922163.8 | K31: 17 | L31: 1763453 | M31: =+G31-L31 -> 0 | N31: =+H66 -> 22200604 | O31: 21969472 | P31: =+N31-O31 -> 231132
C32: 2.03 | D32: PEDESTAL EN CONCRETO f'c = 3000 PSI (21MPa). | E32: M3 | F32: =+VLOOKUP(C32,'MC 2-3-4'!V:W,2,FALSE) -> 0.48 | G32: =+VLOOKUP(C32,'CAP 2-3-4'!D:R,15,FALSE) -> 1930936 | H32: =ROUND(G32*F32,2) -> 926849.28 | K32: 18 | L32: 1852166 | M32: =+G32-L32 -> 78770 | N32: =+H77 -> 2.4017425e+08 | O32: 2.3974686e+08 | P32: =+N32-O32 -> 427389.42
C33: 2.04 | D33: VIGA DE CIMENTACIÓN EN CONCRETO f'c = 3000 PSI (21MPa), Sección 0,20x0,30 m | E33: M3 | F33: =+VLOOKUP(C33,'MC 2-3-4'!V:W,2,FALSE) -> 18.68 | G33: =+VLOOKUP(C33,'CAP 2-3-4'!D:R,15,FALSE) -> 1810313 | H33: =ROUND(G33*F33,2) -> 33816647 | K33: 19 | L33: 1810313 | M33: =+G33-L33 -> 0 | N33: =+H85 -> 2.3118449e+08 | O33: 2.413017e+08 | P33: =+N33-O33 -> -10117211
C34: 2.05 | D34: SUMINISTRO E INSTALACIÓN DE CONCRETO CICLÓPEO 21 MPA (60C/40P) PARA BASES. | E34: M3 | F34: =+VLOOKUP(C34,'MC 2-3-4'!V:W,2,FALSE) -> 9.26 | G34: =+VLOOKUP(C34,'CAP 2-3-4'!D:R,15,FALSE) -> 1132615 | H34: =ROUND(G34*F34,2) -> 10488015 | K34: 20 | L34: 1132615 | M34: =+G34-L34 -> 0 | N34: =+H93 -> 13590909 | O34: 13590909 | P34: =+N34-O34 -> 0
C35: Subtotal | H35: =+SUM(H30:H34) -> 48296820 | M35: =+G35-L35 -> 0 | N35: =+H99 -> 31101268 | O35: 24940944 | P35: =+N35-O35 -> 6160324.7
M37: =+G37-L37 -> 0 | N37: =+H103 -> 6727301 | O37: 4805215 | P37: =+N37-O37 -> 1922086
C38: 3 | D38: ESTRUCTURAS EN CONCRETO REFORZADO | M38: =+G38-L38 -> 0 | N38: =SUM(N27:N37) -> 8.4073003e+08 | O38: =SUM(O27:O37) -> 8.4073493e+08 | P38: =+N38-O38 -> -4894.7956
C39: 3.01 | D39: COLUMNA EN CONCRETO f'c = 3000 PSI (21MPa), Dimensiones 0,12x0,20 m | E39: M3 | F39: =+VLOOKUP(C39,'MC 2-3-4'!V:W,2,FALSE) -> 5.48 | G39: =+VLOOKUP(C39,'CAP 2-3-4'!D:R,15,FALSE) -> 2184805 | H39: =ROUND(G39*F39,2) -> 11972731 | K39: 21 | L39: 2184805 | M39: =+G39-L39 -> 0
C40: 3.02 | D40: COLUMNA EN CONCRETO f'c = 3000 PSI (21MPa), Dimensiones 0,15x0,20 m | E40: M3 | F40: =+VLOOKUP(C40,'MC 2-3-4'!V:W,2,FALSE) -> 2.56 | G40: =+VLOOKUP(C40,'CAP 2-3-4'!D:R,15,FALSE) -> 2111861 | H40: =ROUND(G40*F40,2) -> 5406364.2 | K40: 22 | L40: 2111861 | M40: =+G40-L40 -> 0
C41: 3.03 | D41: VIGA DE AMARRE SOBRE MURO EN CONCRETO f'c = 3000 PSI (21MPa). | E41: M3 | F41: =+VLOOKUP(C41,'MC 2-3-4'!V:W,2,FALSE) -> 6.81 | G41: =+VLOOKUP(C41,'CAP 2-3-4'!D:R,15,FALSE) -> 2159835 | H41: =ROUND(G41*F41,2) -> 14708476 | K41: 23 | L41: 2159835 | M41: =+G41-L41 -> 0
C42: 3.04 | D42: COLUMNA EN TUBO ESTRUCTURAL HR50, Dimensiones 0,10 X 0,10 M | E42: M | F42: =+VLOOKUP(C42,'MC 2-3-4'!V:W,2,FALSE) -> 37.65 | G42: =+VLOOKUP(C42,'CAP 2-3-4'!D:R,15,FALSE) -> 183325 | H42: =ROUND(G42*F42,2) -> 6902186.2 | K42: 24 | L42: 183956 | M42: =+G42-L42 -> -631
C43: 3.05 | D43: PLACA BASE E= 8 CM EN CONCRETO f'c = 2500 PSI (17.5 Mpa), Incluye malla electrosoldada | E43: M2 | F43: =+VLOOKUP(C43,'MC 2-3-4'!V:W,2,FALSE) -> 235.59 | G43: =+VLOOKUP(C43,'CAP 2-3-4'!D:R,15,FALSE) -> 167995 | H43: =ROUND(G43*F43,2) -> 39577942 | K43: 25 | L43: 167995 | M43: =+G43-L43 -> 0
C44: 3.06 | D44: PLACA BASE E= 5 CM EN CONCRETO f'c = 2500 PSI (17.5 Mpa) | E44: M2 | F44: =+VLOOKUP(C44,'MC 2-3-4'!V:W,2,FALSE) -> 10.36 | G44: =+VLOOKUP(C44,'CAP 2-3-4'!D:R,15,FALSE) -> 116881 | H44: =ROUND(G44*F44,2) -> 1210887.2 | K44: 26 | L44: 116881 | M44: =+G44-L44 -> 0
C45: 3.07 | D45: MESONES EN CONCRETO A = 0.60 M. 17.5 MPa - (2500 PSI) INCLUYE REFUERZO, E = 0.05 M. | E45: M2 | F45: =+VLOOKUP(C45,'MC 2-3-4'!V:W,2,FALSE) -> 22.69 | G45: =+VLOOKUP(C45,'CAP 2-3-4'!D:R,15,FALSE) -> 318473 | H45: =ROUND(G45*F45,2) -> 7226152.4 | K45: 27 | L45: 318473 | M45: =+G45-L45 -> 0
C46: 3.08 | D46: SUMINISTRO, FIGURADA Y AMARRE DE ACERO 60,000 PSI (420 Mpa) | E46: KG | F46: =+VLOOKUP(C46,'MC 2-3-4'!V:W,2,FALSE) -> 6290.78 | G46: =+VLOOKUP(C46,'CAP 2-3-4'!D:R,15,FALSE) -> 13885 | H46: =ROUND(G46*F46,2) -> 87347480 | K46: 28 | L46: 13885 | M46: =+G46-L46 -> 0
C47: Subtotal | H47: =+SUM(H39:H46) -> 1.7435222e+08 | M47: =+G47-L47 -> 0
...

Sheet CAP 8-9
D3: =+[239]INICIO!$C$8 -> Análisis de Precios Unitarios- Secretaria de Planeación y Obras Publicas de Cubará, Boyacá.
D4: Código | E4: =+[239]INICIO!$C$7 -> CCE-EICP-FM-14 | G4: =+[239]INICIO!$B$6 -> VERSIÓN | H4: =+[239]INICIO!$C$6 -> 1
E8: MUNICIPIO DE CUBARÁ
M10: VERSIÓN | O10: =+[239]INICIO!$C$6 -> 1
M13: PAGINA | N13: =+VLOOKUP(D24,'PRESUPUESTO OFICIAL '!C:Q,9,FALSE) -> 55 | O13: DE | P13: =+'PRESUPUESTO OFICIAL '!$M$122 -> 62
E14: ANÁLISIS DE PRECIOS UNITARIOS
M16: FECHA | N16: DD | O16: MM | P16: AA
N17: =+Hoja2!B$5 -> 5 | O17: =+Hoja2!C$5 -> 8 | P17: =+Hoja2!D$5 -> 2026
D21: DATOS ESPECÍFICOS
A23: APU-ID | B23: INS-ID | D23: ÍTEM | E23: DESCRIPCIÓN | N23: UNIDAD | P23: CANTIDAD
D24: =+'PRESUPUESTO OFICIAL '!C89 -> 8.01 | E24: =+VLOOKUP(D24,'PRESUPUESTO OFICIAL '!C:H,2,FALSE) -> SUMINISTRO E INSTALACIÓN DE SANITARIO SENCILLO BLANCO | N24: =+VLOOKUP(D24,'PRESUPUESTO OFICIAL '!C:H,3,FALSE) -> UND | P24: =+VLOOKUP(D24,'PRESUPUESTO OFICIAL '!C:H,4,FALSE) -> 11 | R24: =+P76 -> 626441
D25: I. EQUIPO
D26: DESCRIPCIÓN | I26: MARCA | K26: TIPO | M26: TARIFA | N26: RENDIMIENTO | P26: Vr. UNITARIO
A27: =[239]INDICE!#REF! -> #REF! | B27: EQ00001 | D27: =IFERROR(INDEX([239]EQUIPOS!B:B,MATCH(B27,[239]EQUIPOS!A:A,0)),"") -> HERRAMIENTA MENOR (% M.O) | K27: =IFERROR(INDEX([239]EQUIPOS!C:C,MATCH(B27,[239]EQUIPOS!A:A,0)),"") -> % | M27: =IFERROR(IF(D27="HERRAMIENTA MENOR (% M.O)",P66,INDEX([239]EQUIPOS!D:D,MATCH(B27,[239]EQUIPOS!A:A,0))),"") -> 101986.82 | N27: 10 | P27: =IFERROR(ROUND(IF(D27="HERRAMIENTA MENOR (% M.O)",N27%*M27,M27/N27),2)," ") -> 10198.68
A28: =+$A$1691 -> 0 | B28: EQ00019 | D28: =IFERROR(INDEX([239]EQUIPOS!B:B,MATCH(B28,[239]EQUIPOS!A:A,0)),"") -> TALADRO | K28: =IFERROR(INDEX([239]EQUIPOS!C:C,MATCH(B28,[239]EQUIPOS!A:A,0)),"") -> DIA | M28: =IFERROR(IF(D28="HERRAMIENTA MENOR (% M.O)",P67,INDEX([239]EQUIPOS!D:D,MATCH(B28,[239]EQUIPOS!A:A,0))),"") -> 36968 | N28: 3.2 | P28: =IFERROR(ROUND(IF(D28="HERRAMIENTA MENOR (% M.O)",N28%*M28,M28/N28),2)," ") -> 11552.5
A29: =+A28 -> 0 | D29: =IFERROR(INDEX([239]EQUIPOS!B:B,MATCH(B29,[239]EQUIPOS!A:A,0)),"") | K29: =IFERROR(INDEX([239]EQUIPOS!C:C,MATCH(B29,[239]EQUIPOS!A:A,0)),"") | M29: =IFERROR(IF(D29="HERRAMIENTA MENOR (% M.O)",P68,INDEX([239]EQUIPOS!D:D,MATCH(B29,[239]EQUIPOS!A:A,0))),"") | P29: =IFERROR(ROUND(IF(D29="HERRAMIENTA MENOR (% M.O)",N29%*M29,M29/N29),2)," ")
A30: =+A29 -> 0 | D30: =IFERROR(INDEX([239]EQUIPOS!B:B,MATCH(B30,[239]EQUIPOS!A:A,0)),"") | K30: =IFERROR(INDEX([239]EQUIPOS!C:C,MATCH(B30,[239]EQUIPOS!A:A,0)),"") | M30: =IFERROR(IF(D30="HERRAMIENTA MENOR (% M.O)",P69,INDEX([239]EQUIPOS!D:D,MATCH(B30,[239]EQUIPOS!A:A,0))),"") | P30: =IFERROR(ROUND(IF(D30="HERRAMIENTA MENOR (% M.O)",N30%*M30,M30/N30),2)," ")
A31: =+A30 -> 0 | D31: =IFERROR(INDEX([239]EQUIPOS!B:B,MATCH(B31,[239]EQUIPOS!A:A,0)),"") | K31: =IFERROR(INDEX([239]EQUIPOS!C:C,MATCH(B31,[239]EQUIPOS!A:A,0)),"") | M31: =IFERROR(IF(D31="HERRAMIENTA MENOR (% M.O)",P70,INDEX([239]EQUIPOS!D:D,MATCH(B31,[239]EQUIPOS!A:A,0))),"") | P31: =IFERROR(ROUND(IF(D31="HERRAMIENTA MENOR (% M.O)",N31%*M31,M31/N31),2)," ")
A32: =+A31 -> 0 | D32: =IFERROR(INDEX([239]EQUIPOS!B:B,MATCH(B32,[239]EQUIPOS!A:A,0)),"") | K32: =IFERROR(INDEX([239]EQUIPOS!C:C,MATCH(B32,[239]EQUIPOS!A:A,0)),"") | M32: =IFERROR(IF(D32="HERRAMIENTA MENOR (% M.O)",P71,INDEX([239]EQUIPOS!D:D,MATCH(B32,[239]EQUIPOS!A:A,0))),"") | P32: =IFERROR(ROUND(IF(D32="HERRAMIENTA MENOR (% M.O)",N32%*M32,M32/N32),2)," ")
A33: =+A32 -> 0 | D33: SUBTOTAL | P33: =SUM(P27:P32) -> 21751.18
A34: =+A33 -> 0 | D34: II. MATERIALES
A35: =+A34 -> 0 | D35: DESCRIPCIÓN | L35: UNIDAD | M35: CANTIDAD | N35: PRECIO UNITARIO | P35: Vr. UNITARIO
A36: =+A35 -> 0 | B36: MA00128 | D36: =IFERROR(INDEX([239]MATERIALES!C:C,MATCH(B36,[239]MATERIALES!B:B,0)),"") -> SANITARIO SENCILLO BLANCO (INCLUYE ACCESORIOS DE CONEXIÓN) | L36: =IFERROR(INDEX([239]MATERIALES!D:D,MATCH(B36,[239]MATERIALES!B:B,0)),"") -> UND | M36: 1 | N36: =IFERROR(INDEX([239]MATERIALES!P:P,MATCH(B36,[239]MATERIALES!B:B,0)),"") -> 268216 | P36: =IFERROR(ROUND(N36*M36,2),"") -> 268216
A37: =+A36 -> 0 | B37: MA00114 | D37: =IFERROR(INDEX([239]MATERIALES!C:C,MATCH(B37,[239]MATERIALES!B:B,0)),"") -> BRIDA FLEXIBLE PARA INSTALACIÓN DE SANITARIO | L37: =IFERROR(INDEX([239]MATERIALES!D:D,MATCH(B37,[239]MATERIALES!B:B,0)),"") -> UND | M37: 1 | N37: =IFERROR(INDEX([239]MATERIALES!P:P,MATCH(B37,[239]MATERIALES!B:B,0)),"") -> 55016 | P37: =IFERROR(ROUND(N37*M37,2),"") -> 55016
A38: =+A37 -> 0 | B38: MA00176 | D38: =IFERROR(INDEX([239]MATERIALES!C:C,MATCH(B38,[239]MATERIALES!B:B,0)),"") -> SELLANTE POLIURETANO TIPO SIKA FLEX PRO 3WF O SIMILAR | L38: =IFERROR(INDEX([239]MATERIALES!D:D,MATCH(B38,[239]MATERIALES!B:B,0)),"") -> UND | M38: 0.2 | N38: =IFERROR(INDEX([239]MATERIALES!P:P,MATCH(B38,[239]MATERIALES!B:B,0)),"") -> 37509.34 | P38: =IFERROR(ROUND(N38*M38,2),"") -> 7501.87
A39: =+A38 -> 0 | D39: =IFERROR(INDEX([239]MATERIALES!C:C,MATCH(B39,[239]MATERIALES!B:B,0)),"") | L39: =IFERROR(INDEX([239]MATERIALES!D:D,MATCH(B39,[239]MATERIALES!B:B,0)),"") | N39: =IFERROR(INDEX([239]MATERIALES!P:P,MATCH(B39,[239]MATERIALES!B:B,0)),"") | P39: =IFERROR(ROUND(N39*M39,2),"")
A40: =+A39 -> 0 | D40: =IFERROR(INDEX([239]MATERIALES!C:C,MATCH(B40,[239]MATERIALES!B:B,0)),"") | L40: =IFERROR(INDEX([239]MATERIALES!D:D,MATCH(B40,[239]MATERIALES!B:B,0)),"") | N40: =IFERROR(INDEX([239]MATERIALES!P:P,MATCH(B40,[239]MATERIALES!B:B,0)),"") | P40: =IFERROR(ROUND(N40*M40,2),"")
A41: =+A40 -> 0 | D41: =IFERROR(INDEX([239]MATERIALES!C:C,MATCH(B41,[239]MATERIALES!B:B,0)),"") | L41: =IFERROR(INDEX([239]MATERIALES!D:D,MATCH(B41,[239]MATERIALES!B:B,0)),"") | N41: =IFERROR(INDEX([239]MATERIALES!P:P,MATCH(B41,[239]MATERIALES!B:B,0)),"") | P41: =IFERROR(ROUND(N41*M41,2),"")
A42: =+A41 -> 0 | D42: =IFERROR(INDEX([239]MATERIALES!C:C,MATCH(B42,[239]MATERIALES!B:B,0)),"") | L42: =IFERROR(INDEX([239]MATERIALES!D:D,MATCH(B42,[239]MATERIALES!B:B,0)),"") | N42: =IFERROR(INDEX([239]MATERIALES!P:P,MATCH(B42,[239]MATERIALES!B:B,0)),"") | P42: =IFERROR(ROUND(N42*M42,2),"")
A43: =+A42 -> 0 | D43: =IFERROR(INDEX([239]MATERIALES!C:C,MATCH(B43,[239]MATERIALES!B:B,0)),"") | L43: =IFERROR(INDEX([239]MATERIALES!D:D,MATCH(B43,[239]MATERIALES!B:B,0)),"") | N43: =IFERROR(INDEX([239]MATERIALES!P:P,MATCH(B43,[239]MATERIALES!B:B,0)),"") | P43: =IFERROR(ROUND(N43*M43,2),"")
A44: =+A43 -> 0 | D44: =IFERROR(INDEX([239]MATERIALES!C:C,MATCH(B44,[239]MATERIALES!B:B,0)),"") | L44: =IFERROR(INDEX([239]MATERIALES!D:D,MATCH(B44,[239]MATERIALES!B:B,0)),"") | N44: =IFERROR(INDEX([239]MATERIALES!P:P,MATCH(B44,[239]MATERIALES!B:B,0)),"") | P44: =IFERROR(ROUND(N44*M44,2),"")
A45: =+A44 -> 0 | D45: =IFERROR(INDEX([239]MATERIALES!C:C,MATCH(B45,[239]MATERIALES!B:B,0)),"") | L45: =IFERROR(INDEX([239]MATERIALES!D:D,MATCH(B45,[239]MATERIALES!B:B,0)),"") | N45: =IFERROR(INDEX([239]MATERIALES!P:P,MATCH(B45,[239]MATERIALES!B:B,0)),"") | P45: =IFERROR(ROUND(N45*M45,2),"")
A46: =+A45 -> 0 | D46: =IFERROR(INDEX([239]MATERIALES!C:C,MATCH(B46,[239]MATERIALES!B:B,0)),"") | L46: =IFERROR(INDEX([239]MATERIALES!D:D,MATCH(B46,[239]MATERIALES!B:B,0)),"") | N46: =IFERROR(INDEX([239]MATERIALES!P:P,MATCH(B46,[239]MATERIALES!B:B,0)),"") | P46: =IFERROR(ROUND(N46*M46,2),"")
A47: =+A46 -> 0 | D47: =IFERROR(INDEX([239]MATERIALES!C:C,MATCH(B47,[239]MATERIALES!B:B,0)),"") | L47: =IFERROR(INDEX([239]MATERIALES!D:D,MATCH(B47,[239]MATERIALES!B:B,0)),"") | N47: =IFERROR(INDEX([239]MATERIALES!P:P,MATCH(B47,[239]MATERIALES!B:B,0)),"") | P47: =IFERROR(ROUND(N47*M47,2),"")
A48: =+A47 -> 0 | D48: =IFERROR(INDEX([239]MATERIALES!C:C,MATCH(B48,[239]MATERIALES!B:B,0)),"") | L48: =IFERROR(INDEX([239]MATERIALES!D:D,MATCH(B48,[239]MATERIALES!B:B,0)),"") | N48: =IFERROR(INDEX([239]MATERIALES!P:P,MATCH(B48,[239]MATERIALES!B:B,0)),"") | P48: =IFERROR(ROUND(N48*M48,2),"")
A49: =+A48 -> 0 | D49: =IFERROR(INDEX([239]MATERIALES!C:C,MATCH(B49,[239]MATERIALES!B:B,0)),"") | L49: =IFERROR(INDEX([239]MATERIALES!D:D,MATCH(B49,[239]MATERIALES!B:B,0)),"") | N49: =IFERROR(INDEX([239]MATERIALES!P:P,MATCH(B49,[239]MATERIALES!B:B,0)),"") | P49: =IFERROR(ROUND(N49*M49,2),"")
A50: =+A49 -> 0 | D50: DESPERDICIO | L50: % | M50: 0.05 | N50: =SUM(P36:P49) -> 330733.87 | P50: =ROUND(N50*M50,2) -> 16536.69
A51: =+A50 -> 0 | D51: SUBTOTAL | P51: =SUM(P36:P50) -> 347270.56
A52: =+A51 -> 0 | D52: III. TRANSPORTES
A53: =+A52 -> 0 | D53: MATERIAL | K53: VOL. o PESO | L53: DISTANCIA | M53: M3 o Ton/Km | N53: TARIFA | P53: Vr. UNITARIO
...

Sheet CAP 1,00
D3: =+[239]INICIO!$C$8 -> Análisis de Precios Unitarios- Secretaria de Planeación y Obras Publicas de Cubará, Boyacá.
D4: Código | E4: =+[239]INICIO!$C$7 -> CCE-EICP-FM-14 | G4: =+[239]INICIO!$B$6 -> VERSIÓN | H4: =+[239]INICIO!$C$6 -> 1
E8: MUNICIPIO DE CUBARÁ
M10: VERSIÓN | O10: =+[239]INICIO!$C$6 -> 1
M13: PAGINA | N13: =+VLOOKUP(D24,'PRESUPUESTO OFICIAL '!C:Q,9,FALSE) -> 1 | O13: DE | P13: =+'PRESUPUESTO OFICIAL '!$M$122 -> 62
E14: ANÁLISIS DE PRECIOS UNITARIOS
M16: FECHA | N16: DD | O16: MM | P16: AA
N17: =+Hoja2!B$5 -> 5 | O17: =+Hoja2!C$5 -> 8 | P17: =+Hoja2!D$5 -> 2026
D21: DATOS ESPECÍFICOS
A23: APU-ID | B23: INS-ID | D23: ÍTEM | E23: DESCRIPCIÓN | N23: UNIDAD | P23: CANTIDAD
D24: =+'PRESUPUESTO OFICIAL '!C12 -> 1.01 | E24: =+VLOOKUP(D24,'PRESUPUESTO OFICIAL '!C:H,2,FALSE) -> LOCALIZACIÓN Y REPLANTEO DE OBRA ARQUITECTÓNICA (NO INCLUYE COMISIÓN TOPOGRÁFICA) | N24: =+VLOOKUP(D24,'PRESUPUESTO OFICIAL '!C:H,3,FALSE) -> M2 | P24: =+VLOOKUP(D24,'PRESUPUESTO OFICIAL '!C:H,4,FALSE) -> 1318.48 | R24: =+P76 -> 5949
D25: I. EQUIPO
D26: DESCRIPCIÓN | I26: MARCA | K26: TIPO | M26: TARIFA | N26: RENDIMIENTO | P26: Vr. UNITARIO
A27: =[239]INDICE!#REF! -> #REF! | B27: EQ00001 | D27: =IFERROR(INDEX([239]EQUIPOS!B:B,MATCH(B27,[239]EQUIPOS!A:A,0)),"") -> HERRAMIENTA MENOR (% M.O) | K27: =IFERROR(INDEX([239]EQUIPOS!C:C,MATCH(B27,[239]EQUIPOS!A:A,0)),"") -> % | M27: =IFERROR(IF(D27="HERRAMIENTA MENOR (% M.O)",P66,INDEX([239]EQUIPOS!D:D,MATCH(B27,[239]EQUIPOS!A:A,0))),"") -> 2855.78 | N27: 10 | P27: =IFERROR(ROUND(IF(D27="HERRAMIENTA MENOR (% M.O)",N27%*M27,M27/N27),2)," ") -> 285.58
A28: =+$A$2341 -> 0 | D28: =IFERROR(INDEX([239]EQUIPOS!B:B,MATCH(B28,[239]EQUIPOS!A:A,0)),"") | K28: =IFERROR(INDEX([239]EQUIPOS!C:C,MATCH(B28,[239]EQUIPOS!A:A,0)),"") | M28: =IFERROR(IF(D28="HERRAMIENTA MENOR (% M.O)",P67,INDEX([239]EQUIPOS!D:D,MATCH(B28,[239]EQUIPOS!A:A,0))),"") | P28: =IFERROR(ROUND(IF(D28="HERRAMIENTA MENOR (% M.O)",N28%*M28,M28/N28),2)," ")
