Workbook
Name CLASE: #REF!

Sheet ESTUDIO DE MERCADO
B1: ESTUDIO DE MERCADO
B2: ALCALDÍA MUNICIPAL DE COPACABANA ANTIOQUIA
B3: OBJETO: CONTRATAR EL PROGRAMA DE SEGUROS | D3: 46310 | E3: 23:59 horas
B4: PRESUPUESTO DISPONIBLE | D4: =D3+F4 -> 46675 | E4: 23:59 horas | F4: =L5 -> 365 | G4: DIAS
L5: 365
B6: DETALLE | C6: VALOR ASEGURADO | D6: PROMEDIO | E6: VALOR INDICE VARIABLE 5% | F6: VALOR TOTAL ASEGURADO | G6: PRIMA NETA VALOR ASEGURADO | H6: PRIMA NETA INDICE VARIABLE | I6: TOTAL PRIMA NETA | J6: IVA | K6: PRIMA 365 dias | L6: PRIMA 365 DÍAS
B7: TODO RIESGO DAÑO MATERIAL | C7: ='RELACIÓN TRDM'!C15 -> 8.5834188e+10 | D7: ='TASAS PROMEDIO'!G8 -> 1.2894 | E7: ='RELACIÓN TRDM'!D15 -> 4.5335941e+08 | F7: =+C7+E7 -> 8.6287547e+10 | G7: =+C7*D7/1000 -> 1.106746e+08 | H7: =E7*D7/1000 -> 584561.63 | I7: =+G7+H7 -> 1.1125916e+08 | J7: =+I7*19% -> 21139241 | K7: =+I7+J7 -> 1.323984e+08 | L7: =+K7/365*$L$5 -> 1.323984e+08
B8: MANEJO GLOBAL ENTIDADES OFICIALES | C8: 800000000 | D8: ='TASAS PROMEDIO'!G15 -> 4.0166667 | F8: =+C8+E8 -> 800000000 | G8: =+C8*D8/100 -> 32133333 | I8: =+G8+H8 -> 32133333 | J8: =+I8*19% -> 6105333.3 | K8: =+I8+J8 -> 38238667 | L8: =+K8/365*$L$5 -> 38238667
B9: RESPONSABILIDAD CIVIL EXTRACONTRACTUAL | C9: 5000000000 | D9: ='TASAS PROMEDIO'!G21 -> 1.1996857 | F9: =+C9+E9 -> 5000000000 | G9: =+C9*D9/1000 -> 5998428.6 | I9: =+G9+H9 -> 5998428.6 | J9: =+I9*19% -> 1139701.4 | K9: =+I9+J9 -> 7138130 | L9: =+K9/365*$L$5 -> 7138130
B10: RESPONSABILIDAD CIVIL SERVIDORES PÚBLICOS | C10: 900000000 | D10: ='TASAS PROMEDIO'!G28 -> 5.422 | F10: =+C10+E10 -> 900000000 | G10: =+C10*D10/100 -> 48798000 | I10: =+G10+H10 -> 48798000 | J10: =+I10*19% -> 9271620 | K10: =+I10+J10 -> 58069620 | L10: =+K10/365*$L$5 -> 58069620
B11: VIDA GRUPO ALCALDE CONCEJALES y PERSONERO | C11: ='RELACIÓN VG ALC- PERS'!F36 -> 4558450380 | D11: ='TASAS PROMEDIO'!G33 -> 0.7395 | F11: =+C11+E11 -> 4558450380 | G11: =+C11*D11/100 -> 33709741 | I11: =+G11+H11 -> 33709741 | J11: 0 | K11: =+I11+J11 -> 33709741 | L11: =+K11/365*$L$5 -> 33709741
B12: AUTOMÓVILES - 52 Vehículos | C12: ='RELACIÓN AUTOS'!L58 -> 1893000000 | D12: ='TASAS PROMEDIO'!G40 -> 4.0986 | F12: =C12 -> 1893000000 | G12: =+C12*D12/100 -> 77586498 | I12: =+G12+H12 -> 77586498 | J12: =+I12*19% -> 14741435 | K12: =+I12+J12 -> 92327933 | L12: =+K12/365*$L$5 -> 92327933
B13: SOAT - 53 Vehículos | C13: LOS DE LEY | D13: N/A | F13: LOS DE LEY | G13: 0 | I13: ='RELACIÓN SOAT'!M59 -> 43082822 | J13: 0 | K13: =I13 -> 43082822 | L13: =K13 -> 43082822
B14: TR MAQUINARIA Y EQUIPO | C14: ='TR EQUIPO Y MAQUINARIA'!J10 -> 1144000000 | D14: 1.19 | F14: =C14 -> 1144000000 | G14: =+C14*D14/100 -> 13613600 | I14: =+G14+H14 -> 13613600 | J14: =+I14*19% -> 2586584 | K14: =+I14+J14 -> 16200184 | L14: =+K14/365*$L$5 -> 16200184
B15: VIDA GRUPO DEUDORES | C15: ='RELACIÓN VG DEUDORES'!D11 -> 157156274 | D15: 5.31 | F15: =C15 -> 157156274 | G15: =+C15*D15/1000 -> 834499.81 | I15: =+G15+H15 -> 834499.81 | J15: 0 | K15: =+I15+J15 -> 834499.81 | L15: =+K15/365*$L$5 -> 834499.81
B16: RESERVA FUTURAS INCLUSIONES | C16: N/A | L16: 28000000
B17: TOTAL PROGRAMA | I17: =SUM(I7:I13) -> 3.5256799e+08 | J17: =SUM(J7:J12) -> 52397330 | K17: =SUM(K7:K13) -> 4.0496532e+08 | L17: =SUM(L7:L16) -> 4.5e+08
B19: 1. PARA EL RAMO DE TODO RIESGO DAÑOS MATERIALES (SE ESTIMA UN INDICE VARIABLE DEL 5% VALOR ACTUAL)

Sheet TASAS PROMEDIO
B2: ='ESTUDIO DE MERCADO'!B2:C2 -> ALCALDÍA MUNICIPAL DE COPACABANA ANTIOQUIA
B4: DETERMINACIÓN TASAS PROMEDIO
B6: ENTIDAD | C6: RAMO | D6: TASAS | E6: PROMEDIO TASAS
E7: PROMEDIO TASA MERCADO | F7: TIPO DE TASA % - %o
B8: MUNICIPIO DE COPACABANA | C8: Todo Riesgo Daños Materiales | D8: 1.23 | E8: =AVERAGE(D8:D14)*0.98 -> 1.2894 | F8: %o | G8: =E8 -> 1.2894
B9: MUNICIPIO DE SEGOVIA | D9: 1.15
B10: MUNICIPIO DE MACEO | D10: 1.31
B11: MUNICIPIO SANTA ROSA DE OSOS | D11: 2.07
B12: MUNICIPIO DE TAMESIS | D12: 0.95
B13: MUNICIPIO DE BARBOSA | D13: 0.84
B14: MUNICIPIO DE SOPETRAN | D14: 1.66
B15: MUNICIPIO DE COPACABANA | C15: Manejo Global Entidades Estatales | D15: 5 | E15: =AVERAGE(D15:D20) -> 4.0166667 | F15: % | G15: =E15 -> 4.0166667
B16: MUNICIPIO DE SEGOVIA | D16: 3.99
B17: =B10 -> MUNICIPIO DE MACEO | D17: 4.13
B18: =B11 -> MUNICIPIO SANTA ROSA DE OSOS | D18: 3.95
B19: =B12 -> MUNICIPIO DE TAMESIS | D19: 3.5
B20: =B13 -> MUNICIPIO DE BARBOSA | D20: 3.53
B21: MUNICIPIO DE COPACABANA | C21: Responsabilidad Civil Extracontractual | D21: 1 | E21: =AVERAGE(D21:D27)*1.99 -> 1.1996857 | F21: %o | G21: =E21 -> 1.1996857
B22: MUNICIPIO DE SEGOVIA | D22: 0.3
B23: =B10 -> MUNICIPIO DE MACEO | D23: 0.81
B24: =B11 -> MUNICIPIO SANTA ROSA DE OSOS | D24: 0.59
B25: =B12 -> MUNICIPIO DE TAMESIS | D25: 0.45
B26: =B13 -> MUNICIPIO DE BARBOSA | D26: 0.68
B27: =B14 -> MUNICIPIO DE SOPETRAN | D27: 0.39
B28: MUNICIPIO DE COPACABANA | C28: Responsabilidad Civil Servidores Públicos | D28: 5 | E28: =AVERAGE(D28:D32) -> 5.422 | F28: % | G28: =E28 -> 5.422
B29: MUNICIPIO DE SEGOVIA | D29: 10
B30: =B13 -> MUNICIPIO DE BARBOSA | D30: 3.97
B31: =B12 -> MUNICIPIO DE TAMESIS | D31: 3
B32: =B14 -> MUNICIPIO DE SOPETRAN | D32: 5.14
B33: MUNICIPIO DE COPACABANA | C33: Vida Grupo Alcalde, Concejales y Personero | D33: 0.7 | E33: =AVERAGE(D33:D39)*0.87 -> 0.7395 | F33: % | G33: =E33 -> 0.7395
B34: MUNICIPIO DE SEGOVIA | D34: 1.08
B35: =B10 -> MUNICIPIO DE MACEO | D35: 1.07
B36: =B11 -> MUNICIPIO SANTA ROSA DE OSOS | D36: 1.1
B37: =B12 -> MUNICIPIO DE TAMESIS | D37: 0.28
B38: =B13 -> MUNICIPIO DE BARBOSA | D38: 0.55
B39: =B14 -> MUNICIPIO DE SOPETRAN | D39: 1.17
B40: MUNICIPIO DE COPACABANA | C40: Autos | D40: 3.9 | E40: =AVERAGE(D40:D46)*0.99 -> 4.0986 | F40: % | G40: =E40 -> 4.0986
B41: MUNICIPIO DE SEGOVIA | D41: 3.51
B42: =B10 -> MUNICIPIO DE MACEO | D42: 5.03
B43: =B11 -> MUNICIPIO SANTA ROSA DE OSOS | D43: 5
...

Sheet RELACIÓN TRDM
B2: MUNICIPIO DE COPACABANA
B3: RELACION DE BIENES Y VALORES ASEGURADOS - SEGURO TODO RIESGO DAÑOS MATERIALES
B5: ITEM | C5: VALOR ASEGURADO 2026 | D5: ÍNDICE VARIABLE | E5: VALOR TOTAL ASEGURADO
B6: EDIFICIO | C6: =EDIFICIOS!K116 -> 6.8212557e+10 | E6: =+D6+C6 -> 6.8212557e+10
B7: EQUIPO ELECTRICO Y ELECTRONICO | C7: 5.5480681e+09 | D7: =C7*5% -> 2.7740341e+08 | E7: =C7+D7 -> 5.8254715e+09
B8: EQUIPO MOVIL Y PORTATIL | C8: 2.5832574e+09 | D8: =C8*5% -> 1.2916287e+08 | E8: =C8+D8 -> 2.7124203e+09
B9: INSTRUMENTOS MUSICALES | C9: 3.9390663e+08 | E9: =C9+D9 -> 3.9390663e+08
B10: MAQUINARIA Y EQUIPO | C10: 7.7638025e+08 | E10: =C10+D10 -> 7.7638025e+08
B11: MUEBLES Y ENSERES | C11: 9.3586277e+08 | D11: =C11*5% -> 46793139 | E11: =C11+D11 -> 9.8265591e+08
B12: VEHICULOS EN REPOSO | C12: 562900000 | E12: =C12+D12 -> 562900000
B13: COBERTURA PARA TERRENOS | C13: =C6*5% -> 3.4106278e+09 | E13: =C13+D13 -> 3.4106278e+09
B14: ADECUACIÓN A LAS NORMAS DE SISMORESISTENCIA | C14: =C6*5% -> 3.4106278e+09 | E14: =C14+D14 -> 3.4106278e+09
C15: =SUM(C6:C14) -> 8.5834188e+10 | D15: =SUM(D6:D14) -> 4.5335941e+08 | E15: =+C15+D15 -> 8.6287547e+10

Sheet EDIFICIOS
B2: MUNICIPIO DE COPACABANA
B3: RELACION DE EDIFICIOS
B5: INMUEBLES
B6: CONSECUTIVO | C6: FICHA | D6: MATRICULA | E6: CEDULA | F6: NOMBRE | G6: DIRECCIÓN CATASTRO | H6: TIPO | I6: DESTINO ECONÓMICO | J6: AREA CON | K6: VALOR CONSTRUCCIÓN (Z)
B7: 1 | C7: 8100269 | D7: 012-30568 | E7: 212-1-001-001-0008-00001-00000-00000 | F7: INSTITUCION EDUCATIVA GABRIELA MISTRAL | G7: CR 28 N 43-155 | H7: ESCUELA | I7: EDUCATIVO | J7: 1272.63 | K7: 9.4277209e+08
B8: 2 | C8: 400015219 | D8: 012-88893 | E8: 212-1-001-001-0009-00004-00000-00000 | F8: LOTE DE TERRENO - RESTANTE B (PARQUE FUNDADORES) | G8: CL 48 N 27A 16 LO B | H8: PARQUE | I8: USO PUBLICO | J8: 70.91 | K8: 11551138
B9: 3 | C9: 8100524 | D9: 012-23089 | E9: 212-1-001-002-0004-00033-00000-00000 | F9: CASA (ANTIGUA INSPECCION) | G9: CR 29 N 47-03 Y CL 47 N 29-08 | H9: CASA | I9: HABITACIONAL | J9: 215.81 | K9: 64293171
B10: 4 | C10: 8100768 | D10: 012-60374 | E10: 212-1-001-002-0012-00002-00000-00000 | F10: ANEXA INTEGRADA URBANA COPACABANA (PRESBÍTERO) | G10: CL 50 N 29-223 | H10: ESCUELA | I10: EDUCATIVO | J10: 995.05 | K10: 4.2124913e+08
B11: 5 | C11: 1082678 | D11: 012-77161 | E11: 212-1-001-002-0012-00004-00000-00000 | F11: PRESBITERO - UNIDAD DEPORTIVA DEL NORTE | G11: CL 50 N 34-07 | H11: UNIDAD DEPORTIVA | I11: EDUCATIVO | J11: 984.04 | K11: 6.8035535e+08
B12: 6 | C12: 1082679 | D12: 012-77162 | E12: 212-1-001-002-0012-00005-00000-00000 | F12: BLOQUE EDUCATIVO I.E. PRESBITERO BERNERDO MONTOYA | G12: CL 50 N 31-91 | H12: ESCUELA | I12: EDUCATIVO | J12: 1831.2 | K12: 9.3499864e+08
B13: 7 | C13: 8101936 | D13: 012-32664 | E13: 212-1-001-004-0008-00010-00001-00003 | F13: APARTAMENTO (SEDE COMUNAL MIRADOR AZUL) | G13: CR 43 N 50A-72 APTO 201 | H13: APARTAMENTO | I13: CULTURAL | J13: 202.46 | K13: 34252348
B14: 8 | C14: 8102858 | D14: 012-58625 | E14: 212-1-001-006-0005-00027-00000-00000 | F14: ESCUELA AURELIO TOBON | G14: CL 52 N 47-65 | H14: ESCUELA | I14: EDUCATIVO | J14: 1862.1 | K14: 9.1093737e+08
B15: 9 | C15: 8103059 | D15: 012-27733 | E15: 212-1-001-006-0009-00001-00000-00000 | F15: GRADERIAS Y CAMERINOS ZONA DEPORTIVA | G15: CL 52 N 43-50 | H15: ZONA VERDE | I15: RECREACIONAL | J15: 108.1 | K15: 40591181
B16: 10 | C16: 8103060 | D16: 012-50137 | E16: 212-1-001-006-0009-00002-00000-00000 | F16: ANTIGUO HOSPITAL SANTA MARGARITA | G16: CR 45 N 52-26 | H16: EDIFICIO | I16: SALUBRIDAD | J16: 3416.52 | K16: 1.5882211e+09
B17: 11 | C17: 8103061 | D17: 012-02263 | E17: 212-1-001-006-0009-00003-00000-00000 | F17: PLACA Y CANCHA DE FUTBOL LA PEDRERA | G17: CL 52 N 43-98 | H17: UNIDAD DEPORTIVA | I17: RECREACIONAL | J17: 690.21 | K17: 3.7711354e+08
B18: 12 | C18: 8103542 | D18: ND | E18: 212-1-001-007-0002-00008-00000-00000 | F18: CL 50 N 47-79 CASA DE LA CULTURA | G18: CL 50 N 47-79 CASA DE LA CULTURA | H18: CASA | I18: CULTURAL | J18: 750.79 | K18: 9.7468542e+08
... B115: 109 | C115: 8121561 | D115: 012-52487 | E115: 212-2-001-000-0015-00638-00000-00000 | F115: PLANTA DE TRATAMIENTO | G115: ZARZAL LA LUZ | H115: DEPOSITO | I115: SERVICIOS ESPECIALES | J115: 0 | K115: 899377433
B116: TOTAL | K116: =SUM(K7:K115) -> 6.8212557e+10

Sheet RELACIÓN SOAT
B2: ALCALDÍA DE COPACABANA
B3: RELACION DE VEHICULOS - SEGURO OBLIGATORIO DE ACCIDENTES DE TRANSITO
B5: PLACA | C5: ZONA DE CIRCULACIÓN | D5: CLASE | E5: MARCA | F5: LINEA | G5: MODELO | H5: CILINDRAJE | I5: MOTOR No. | J5: CHASIS No. | K5: FECHA VENCIMIENTO | L5: TARIFA | M5: PRIMA
B6: ZFQ99A | C6: Copacabana | D6: MOTOCICLETA | E6: YAMAHA | F6: XTZ250 | G6: 2010 | H6: 249 | I6: G382E001499 | J6: 9C6KG0312A0001556 | K6: Vencido | L6: 130 | M6: 761400 | N6: SOAT vencido
B7: LVY92C | C7: Copacabana | D7: MOTOCICLETA | E7: YAMAHA | F7: XTZ250 | G7: 2014 | H7: 249 | I7: G391E007605 | J7: 9FKKG0414E2007605 | K7: Vencido | L7: 130 | M7: 761400 | N7: SOAT vencido
B8: LVY94C | C8: Copacabana | D8: MOTOCICLETA | E8: YAMAHA | F8: XTZ250 | G8: 2014 | H8: 249 | I8: G391E007642 | J8: 9FKKG041XE2007642 | K8: 46585 | L8: 130 | M8: 761400
B9: LVY95C | C9: Copacabana | D9: MOTOCICLETA | E9: YAMAHA | F9: XTZ250 | G9: 2014 | H9: 249 | I9: G391E007621 | J9: 9FKKG0412E2007621 | K9: 46470 | L9: 130 | M9: 761400
B10: LVY93C | C10: Copacabana | D10: MOTOCICLETA | E10: YAMAHA | F10: XTZ125 | G10: 2014 | H10: 124 | I10: E3L5E006268 | J10: LBPKE1969E0013770 | K10: 46392 | L10: 120 | M10: 343300
B11: ZFP76A | C11: Copacabana | D11: MOTOCICLETA | E11: SUZUKI | F11: DR 650 | G11: 2008 | H11: 644 | I11: P409-135804 | J11: 9FSSP46A48C104449 | K11: 46324 | L11: 130 | M11: 761400 | N11: Próximo a vencer
B12: ZFQ92A | C12: Copacabana | D12: MOTOCICLETA | E12: YAMAHA | F12: XTZ250 | G12: 2010 | H12: 249 | I12: G382E001575 | J12: 9C6KG0316A0001575 | K12: 46474 | L12: 130 | M12: 761400
B13: ZFQ78A | C13: Copacabana | D13: MOTOCICLETA | E13: YAMAHA | F13: XTZ125E | G13: 2010 | H13: 124 | I13: E3B4E004557 | J13: 9FK3B2118A2004557 | K13: Vencido | L13: 120 | M13: 343300 | N13: SOAT vencido
B14: ZFQ77A | C14: Copacabana | D14: MOTOCICLETA | E14: YAMAHA | F14: XTZ125E | G14: 2010 | H14: 124 | I14: E3B4E004864 | J14: 9FK3B2116A2004864 | K14: 46075 | L14: 120 | M14: 343300 | N14: SOAT vencido
B15: OCD114 | C15: Copacabana | D15: CAMION | E15: CHEVROLET | F15: NQR | G15: 2011 | H15: 4570 | I15: *815412* | J15: 9GDN1R710BB009954 | K15: 21/10/2026 | L15: 320 | M15: 1282800 | N15: Próximo a vencer
B16: OCD115 | C16: Copacabana | D16: CAMIONETA | E16: NISSAN | F16: URVAN | G16: 2015 | H16: 2488 | I16: YD25359064A | J16: JN1KC4E26Z0000831 | K16: 46305 | L16: 310 | M16: 888400 | N16: Próximo a vencer
B17: OCD106 | C17: Copacabana | D17: BUS | E17: AGRALE | F17: MA 9.0 TCE (4800) EL | G17: 2010 | H17: 4800 | I17: D1A035189 | J17: 9CNC04ER5AB003880 | K17: Vencido | L17: 430 | M17: 1510600 | N17: Información tomada de la póliza. No se sabe fecha de vencimiento del SOAT ni cilindraje
B18: OCD107 | C18: Copacabana | D18: CAMPERO | E18: TOYOTA | F18: LAND CRUISER 200 | G18: 2010 | H18: 4461 | I18: 1VD0066967 | J18: JTMHV09J405002157 | K18: Vencido | L18: 232 | M18: 1274000 | N18: SOAT vencido
B19: TL45XG | C19: Copacabana | D19: RETROEXCAVADORA | E19: CATERPILLAR | F19: RETRO 416E | G19: 2010 | H19: N/A | I19: G4D34893 | J19: CAT0416EVCBD06399 | K19: 46321 | L19: 320 | M19: 1282800 | N19: Información parcial tomada de póliza SOAT. No se sabe cilindraje. Próximo a vencer
B20: SMH122 | C20: Copacabana | D20: VOLQUETA | E20: KENWORTH | F20: T370 | G20: 2011 | H20: 8300 | I20: 73119414 | J20: 3BKHHZ8X6BF286657 | K20: 46558 | L20: 320 | M20: 1282800
B21: OKA680 | C21: Copacabana | D21: CAMPERO | E21: MITSUBISHI | F21: MONTERO V43 WAGON | G21: 2003 | H21: 3000 | I21: 6G72PP1035 | J21: 9FJONV43830001640 | K21: Vencido | L21: 232 | M21: 1274000 | N21: Información tomada de la póliza. No se sabe fecha de vencimiento del SOAT ni cilindraje
B22: OCD104 | C22: Copacabana | D22: MAQUINA BOMBEROS | E22: PIERCE ARROW | F22: SIN LÍNEA - BOMBEROS | G22: 1995 | H22: 4500 | I22: NDXXX | J22: 1P9CA01DXJA040454 | K22: 09/12/2026 | L22: 430 | M22: 1728304
B23: OKA652 | C23: Copacabana | D23: MAQUINA BOMBEROS | E23: FORD | F23: F450 SUPER DUTY | G23: 2001 | H23: N/A | I23: 1FDXF47FX1EC22575 | J23: 1FDXF47FX1EC22575 | K23: Vencido | L23: 430 | M23: 1728304 | N23: Información tomada de la póliza. No se sabe fecha de vencimiento del SOAT ni cilindraje
B24: TIT01E | C24: Copacabana | D24: MOTOCICLETA | E24: SUZUKI | F24: DR 650 | G24: 2020 | H24: 644 | I24: P409-184870 | J24: 9FSSP46AXLC115528 | K24: Vencido | L24: 130 | M24: 761400 | N24: SOAT vencido
B25: TIT02E | C25: Copacabana | D25: MOTOCICLETA | E25: SUZUKI | F25: DR 650 | G25: 2020 | H25: 644 | I25: P409-184879 | J25: 9FSSP46A8LC115527 | K25: Vencido | L25: 130 | M25: 761400 | N25: SOAT vencido
B26: TIT03E | C26: Copacabana | D26: MOTOCICLETA | E26: SUZUKI | F26: DR 650 | G26: 2020 | H26: 644 | I26: P409-184876 | J26: 9FSSP46A6LC115526 | K26: Vencido | L26: 130 | M26: 761400 | N26: SOAT vencido
B27: TIT04E | C27: Copacabana | D27: MOTOCICLETA | E27: SUZUKI | F27: DR 650 | G27: 2020 | H27: 644 | I27: P409-184878 | J27: 9FSSP46A4LC115525 | K27: Vencido | L27: 130 | M27: 761400 | N27: SOAT vencido
B28: TIT05E | C28: Copacabana | D28: MOTOCICLETA | E28: SUZUKI | F28: DR 650 | G28: 2020 | H28: 644 | I28: P409-184872 | J28: 9FSSP46A2LC115524 | K28: Vencido | L28: 130 | M28: 761400 | N28: SOAT vencido
B29: TIT06E | C29: Copacabana | D29: MOTOCICLETA | E29: SUZUKI | F29: DR 650 | G29: 2020 | H29: 644 | I29: P409-184873 | J29: 9FSSP46A0LC115523 | K29: 46563 | L29: 130 | M29: 761400
B30: TIT07E | C30: Copacabana | D30: MOTOCICLETA | E30: SUZUKI | F30: DR 650 | G30: 2020 | H30: 644 | I30: P409-184877 | J30: 9FSSP46A9LC115522 | K30: Vencido | L30: 130 | M30: 761400 | N30: SOAT vencido
B31: TIT08E | C31: Copacabana | D31: MOTOCICLETA | E31: SUZUKI | F31: DR 650 | G31: 2020 | H31: 644 | I31: P409-184882 | J31: 9FSSP46A7LC115521 | K31: Vencido | L31: 130 | M31: 761400 | N31: SOAT vencido
B32: TIT09E | C32: Copacabana | D32: MOTOCICLETA | E32: SUZUKI | F32: DR 650 | G32: 2020 | H32: 644 | I32: P409-184880 | J32: 9FSSP46A5LC115520 | K32: Vencido | L32: 130 | M32: 761400 | N32: SOAT vencido
B33: TIT10E | C33: Copacabana | D33: MOTOCICLETA | E33: SUZUKI | F33: DR 650 | G33: 2020 | H33: 644 | I33: P409-184881 | J33: 9FSSP46A9LC115519 | K33: 46563 | L33: 130 | M33: 761400
B34: TIT11E | C34: Copacabana | D34: MOTOCICLETA | E34: SUZUKI | F34: DR 650 | G34: 2020 | H34: 644 | I34: P409-184883 | J34: 9FSSP46A7LC115518 | K34: Vencido | L34: 130 | M34: 761400 | N34: SOAT vencido
B35: PFR25E | C35: Copacabana | D35: MOTOCICLETA | E35: SUZUKI | F35: DR 650 | G35: 2018 | H35: 644 | I35: P409-177845 | J35: 9FSSP46A4JC113593 | K35: Vencido | L35: 130 | M35: 761400 | N35: SOAT vencido
B36: PFR26E | C36: Copacabana | D36: MOTOCICLETA | E36: SUZUKI | F36: DR 650 | G36: 2018 | H36: 644 | I36: P409-177887 | J36: 9FSSP46A6JC113594 | K36: 46300 | L36: 130 | M36: 761400 | N36: Próximo a vencer
B37: PFR27E | C37: Copacabana | D37: MOTOCICLETA | E37: SUZUKI | F37: DR 650 | G37: 2018 | H37: 644 | I37: P409-177884 | J37: 9FSSP46A8JC113595 | K37: 46300 | L37: 130 | M37: 761400 | N37: Próximo a vencer
B38: PFR28E | C38: Copacabana | D38: MOTOCICLETA | E38: SUZUKI | F38: DR 650 | G38: 2018 | H38: 644 | I38: P409-177886 | J38: 9FSSP46AXJC113596 | K38: Vencido | L38: 130 | M38: 761400 | N38: SOAT vencido
B39: OCD116 | C39: Copacabana | D39: CAMIONETA | E39: NISSAN | F39: NP300 FRONTIER | G39: 2018 | H39: 2488 | I39: YD25-673672P | J39: 3N6CD33B7ZK385172 | K39: 46367 | L39: 221 | M39: 946600
B40: YVX14F | C40: Copacabana | D40: MOTOCICLETA | E40: YAMAHA | F40: XTZ150-2 (XTZ150) | G40: 2022 | H40: 149 | I40: G3L1E052222 | J40: 9FKDG3615N2052222 | K40: 46361 | L40: 120 | M40: 343300
B41: YVX15F | C41: Copacabana | D41: MOTOCICLETA | E41: YAMAHA | F41: XTZ150-2 (XTZ150) | G41: 2022 | H41: 149 | I41: G3L1E052223 | J41: 9FKDG3617N2052223 | K41: 46361 | L41: 120 | M41: 343300
B42: YVX16F | C42: Copacabana | D42: MOTOCICLETA | E42: YAMAHA | F42: XTZ150-2 (XTZ150) | G42: 2022 | H42: 149 | I42: G3L1E052373 | J42: 9FKDG3614N2052373 | K42: 46361 | L42: 120 | M42: 343300
...

Sheet RELACIÓN AUTOS
B2: ALCALDÍA DE CAJICÁ
B3: RELACION DE VEHICULOS - SEGURO AUTOMOVILES
B5: PLACA | C5: ZONA DE CIRCULACIÓN | D5: CLASE | E5: MARCA | F5: LINEA | G5: MODELO | H5: CILINDRAJE | I5: CHASIS No. | J5: COLOR | K5: FASECOLDA | L5: VALOR VEHÍCULO SEGÚN GUIA FASECOLDA
B6: ZFQ99A | C6: Copacabana | D6: MOTOCICLETA | E6: YAMAHA | F6: XTZ250 | G6: 2010 | H6: 249 | I6: 9C6KG0312A0001556 | J6: ROJO | K6: 9817137 | L6: 8500000
B7: LVY92C | C7: Copacabana | D7: MOTOCICLETA | E7: YAMAHA | F7: XTZ250 | G7: 2014 | H7: 249 | I7: 9FKKG0414E2007605 | J7: VERDE LIMÓN | K7: 9817137 | L7: 11400000
B8: LVY94C | C8: Copacabana | D8: MOTOCICLETA | E8: YAMAHA | F8: XTZ250 | G8: 2014 | H8: 249 | I8: 9FKKG041XE2007642 | J8: VERDE LIMÓN | K8: 9817137 | L8: 11400000
B9: LVY95C | C9: Copacabana | D9: MOTOCICLETA | E9: YAMAHA | F9: XTZ250 | G9: 2014 | H9: 249 | I9: 9FKKG0412E2007621 | J9: VERDE LIMÓN | K9: 9817137 | L9: 11400000
B10: LVY93C | C10: Copacabana | D10: MOTOCICLETA | E10: YAMAHA | F10: XTZ125 | G10: 2014 | H10: 124 | I10: LBPKE1969E0013770 | J10: NEGRO | K10: 9817110 | L10: 6300000
B11: ZFP76A | C11: Copacabana | D11: MOTOCICLETA | E11: SUZUKI | F11: DR 650 | G11: 2008 | H11: 644 | I11: 9FSSP46A48C104449 | J11: NEGRO | K11: 8817058 | L11: 24700000
B12: ZFQ92A | C12: Copacabana | D12: MOTOCICLETA | E12: YAMAHA | F12: XTZ250 | G12: 2010 | H12: 249 | I12: 9C6KG0316A0001575 | J12: VERDE | K12: 9817137 | L12: 8500000
B13: ZFQ78A | C13: Copacabana | D13: MOTOCICLETA | E13: YAMAHA | F13: XTZ125E | G13: 2010 | H13: 124 | I13: 9FK3B2118A2004557 | J13: ROJO | K13: 9817110 | L13: 4700000
B14: ZFQ77A | C14: Copacabana | D14: MOTOCICLETA | E14: YAMAHA | F14: XTZ125E | G14: 2010 | H14: 124 | I14: 9FK3B2116A2004864 | J14: ROJO | K14: 9817110 | L14: 4700000
B15: OCD114 | C15: Copacabana | D15: CAMION | E15: CHEVROLET | F15: NQR | G15: 2011 | H15: 4570 | I15: 9GDN1R710BB009954 | J15: BLANCO ARCO BICAPA | K15: 1604070 | L15: 101200000
B16: OCD115 | C16: Copacabana | D16: CAMIONETA | E16: NISSAN | F16: URVAN | G16: 2015 | H16: 2488 | I16: JN1KC4E26Z0000831 | J16: BLANCO | K16: 6407009 | L16: 100800000
B17: OCD106 | C17: Copacabana | D17: BUS-BUSETA | E17: AGRALE | G17: 2010 | H17: 4800 | I17: 9CNC04ER5AB003880 | J17: 9CNC04ER5AB003880 | K17: 10403015 | L17: 96100000
B18: OCD107 | C18: Copacabana | D18: CAMPERO | E18: TOYOTA | F18: LAND CRUISER 200 | G18: 2010 | H18: 4461 | I18: JTMHV09J405002157 | J18: PLATA METÁLICO | K18: 9008137 | L18: 204900000
B19: SMH122 | C19: Copacabana | D19: VOLQUETA | E19: KENWORK | F19: T370 | G19: 2011 | H19: 8300 | I19: 3BKHHZ8X6BF286657 | J19: ROJO | K19: 4426004 | L19: 177800000
B20: OKA680 | C20: Copacabana | D20: CAMIONETA | E20: MITSUBISHI | F20: MONTERO V43 WAGON | G20: 2003 | H20: 3000 | I20: 9FJONV43830001640 | J20: PLATA | K20: 6208046 | L20: 50100000
B21: OCD104 | C21: Copacabana | D21: MAQUINA BOMBEROS | E21: PIERCE ARROW | F21: SIN LÍNEA - BOMBEROS | G21: 1995 | H21: 4500 | I21: 1P9CA01DXJA040454 | J21: ROJO | K21: 3611002 | L21: 45700000
B22: OKA652 | C22: Copacabana | D22: CHASIS | E22: FORD | F22: F450 SUPER DUTY | G22: 2001 | H22: N/A | I22: 1FDXF47FX1EC22575 | J22: ROJO | K22: 3011016 | L22: 80300000
B23: TIT01E | C23: Copacabana | D23: MOTOCICLETA | E23: SUZUKI | F23: DR 650 | G23: 2020 | H23: 644 | I23: 9FSSP46AXLC115528 | J23: VERDE | K23: 8817058 | L23: 30800000
B24: TIT02E | C24: Copacabana | D24: MOTOCICLETA | E24: SUZUKI | F24: DR 650 | G24: 2020 | I24: 9FSSP46A8LC115527 | J24: VERDE | K24: 8817058 | L24: 30800000
B25: TIT03E | C25: Copacabana | D25: MOTOCICLETA | E25: SUZUKI | F25: DR 650 | G25: 2020 | H25: 644 | I25: 9FSSP46A6LC115526 | J25: VERDE | K25: 8817058 | L25: 30800000
B26: TIT04E | C26: Copacabana | D26: MOTOCICLETA | E26: SUZUKI | F26: DR 650 | G26: 2020 | H26: 644 | I26: 9FSSP46A4LC115525 | J26: VERDE | K26: 8817058 | L26: 30800000
B27: TIT05E | C27: Copacabana | D27: MOTOCICLETA | E27: SUZUKI | F27: DR 650 | G27: 2020 | H27: 644 | I27: 9FSSP46A2LC115524 | J27: VERDE | K27: 8817058 | L27: 30800000
B28: TIT06E | C28: Copacabana | D28: MOTOCICLETA | E28: SUZUKI | F28: DR 650 | G28: 2020 | H28: 644 | I28: 9FSSP46A0LC115523 | J28: VERDE | K28: 8817058 | L28: 30800000
B29: TIT07E | C29: Copacabana | D29: MOTOCICLETA | E29: SUZUKI | F29: DR 650 | G29: 2020 | H29: 644 | I29: 9FSSP46A9LC115522 | J29: VERDE | K29: 8817058 | L29: 30800000
B30: TIT08E | C30: Copacabana | D30: MOTOCICLETA | E30: SUZUKI | F30: DR 650 | G30: 2020 | H30: 644 | I30: 9FSSP46A7LC115521 | J30: VERDE | K30: 8817058 | L30: 30800000
B31: TIT09E | C31: Copacabana | D31: MOTOCICLETA | E31: SUZUKI | F31: DR 650 | G31: 2020 | H31: 644 | I31: 9FSSP46A5LC115520 | J31: VERDE | K31: 8817058 | L31: 30800000
B32: TIT10E | C32: Copacabana | D32: MOTOCICLETA | E32: SUZUKI | F32: DR 650 | G32: 2020 | H32: 644 | I32: 9FSSP46A9LC115519 | J32: VERDE | K32: 8817058 | L32: 30800000
B33: TIT11E | C33: Copacabana | D33: MOTOCICLETA | E33: SUZUKI | F33: DR 650 | G33: 2020 | H33: 644 | I33: 9FSSP46A7LC115518 | J33: VERDE | K33: 8817058 | L33: 30800000
B34: PFR25E | C34: Copacabana | D34: MOTOCICLETA | E34: SUZUKI | F34: DR 650 | G34: 2018 | H34: 644 | I34: 9FSSP46A4JC113593 | J34: VERDE | K34: 8817058 | L34: 28500000
B35: PFR26E | C35: Copacabana | D35: MOTOCICLETA | E35: SUZUKI | F35: DR 650 | G35: 2018 | H35: 644 | I35: 9FSSP46A6JC113594 | J35: VERDE | K35: 8817058 | L35: 28500000
B36: PFR27E | C36: Copacabana | D36: MOTOCICLETA | E36: SUZUKI | F36: DR 650 | G36: 2018 | H36: 644 | I36: 9FSSP46A8JC113595 | J36: VERDE | K36: 8817058 | L36: 28500000
... B57: YWI24F | C57: Copacabana | D57: MOTOCICLETA | E57: SUZUKI | F57: V-STROM 250 SX | G57: 2025 | H57: 249 | I57: 9FSEL11M5SC101303 | J57: AZUL | K57: 8817188 | L57: 18600000
L58: =SUM(L6:L57) -> 1893000000

Sheet TR EQUIPO Y MAQUINARIA
B1: RELACIÓN TR EQUIPO Y MAQUINARIA
B3: PLACA | C3: CLASE | D3: MARCA | E3: LINEA | F3: MODELO | G3: CILINDRAJE | H3: CHASIS No. | I3: COLOR | J3: VALOR VEHÍCULO
B4: TL45XG | C4: RETROEXCAVADORA | D4: CATERPILLAR | E4: RETRO 416E | F4: 2010 | G4: N/A | H4: CAT0416EVCBD06399 | I4: AMARILLO | J4: 250000000
B5: N/A | C5: EXCAVADORA | D5: CATERPILLAR | E5: HORU 312 | F5: 2012 | H5: JBC01148 | I5: AMARILLO | J5: 311000000
B6: OCD114 | C6: GRÚA | D6: ALTRON | E6: NQR | F6: 2011 | G6: 4570 | H6: 9GDN1R710BB009954 | I6: BLANCO ARCO BICAPA | J6: 28000000
B7: OCD104 | C7: MÁQUINA BOMBEROS | D7: PIERCE - FIRE | E7: MÁQUINA DE BOMBEROS | F7: 1995 | G7: 4500 | H7: 1P9CA01DXJA040454 | I7: ROJO | J7: 360000000
B8: OKA652 | C8: MÁQUINA BOMBEROS | D8: FORD | E8: F450 SUPER DUTY | F8: 2001 | G8: N/A | H8: 1FDXF47FX1EC22575 | I8: ROJO | J8: 180000000
B9: N/A | C9: MINITRACTOR | D9: CUT | E9: MINITRACTOR | I9: ROJO | J9: 15000000
B10: TOTAL E&M | J10: =SUM(J4:J9) -> 1144000000

Sheet VEHÍCULOS EN REPOSO
B1: RELACION DE VEHICULOS EN REPOSO TRDM - MUNICIPIO DE COPACABANA
B3: PLACA | C3: ZONA DE CIRCULACIÓN | D3: CLASE | E3: MARCA | F3: LINEA | G3: MODELO | H3: CILINDRAJE | I3: CHASIS No. | J3: COLOR | K3: FASECOLDA | L3: VALOR VEHÍCULO SEGÚN GUIA FASECOLDA
B4: IPB32B | C4: Copacabana | D4: MOTOCICLETA | E4: YAMAHA XT 225 | G4: 2008 | K4: 9817092 | L4: 8600000
B5: ZFQ65A | C5: Copacabana | D5: MOTOCICLETA | E5: SUZUKI DR 200 | G5: 2009 | K5: 8817082 | L5: 8400000
B6: ZFQ66A | C6: Copacabana | D6: MOTOCICLETA | E6: SUSUKI | F6: DR 650 | G6: 2009 | H6: 644 | I6: 9FSSP46A59C105675 | J6: INDEFINIDO | K6: 8817058 | L6: 24900000
B7: ZFQ89A | C7: Copacabana | D7: MOTOCICLETA | E7: YAMAHA XTZ 250 | G7: 2010 | K7: 9817137 | L7: 8500000
B8: ZFQ98A | C8: Copacabana | D8: MOTOCICLETA | E8: YAMAHA XTZ 250 | G8: 2010 | K8: 9817137 | L8: 8500000
B9: VKA87A | C9: Copacabana | D9: MOTOCICLETA | E9: YAMAHA DT 125 | G9: 2001 | K9: 9817123 | L9: 8300000
B10: LUU34C | C10: Copacabana | D10: MOTOCICLETA | E10: SUSUKI | F10: DR 650 | G10: 2012 | H10: 644 | I10: 9FSSP46A5CC108437 | J10: VERDE | K10: 8817058 | L10: 25400000
B11: LVY90C | C11: Copacabana | D11: MOTOCICLETA | E11: SUSUKI | F11: DR 650 | G11: 2014 | H11: 644 | I11: 9FSSP46A7EC110354 | J11: VERDE | K11: 8817058 | L11: 25800000
B12: LVY91C | C12: Copacabana | D12: MOTOCICLETA | E12: SUSUKI | F12: DR 650 | G12: 2014 | H12: 644 | I12: 9FSSP46A9EC110355 | J12: VERDE | K12: 8817058 | L12: 25800000
B13: LVY96C | C13: Copacabana | D13: MOTOCICLETA | E13: YAMAHA | F13: XTZ250 | G13: 2014 | H13: 249 | I13: 9FKKG041XE2008080 | J13: VERDE LIMÓN | K13: 9817137 | L13: 11400000
B14: VKA83A | C14: Copacabana | D14: MOTOCICLETA | E14: SUZUKI DR 200 | G14: 2003 | K14: 8817082 | L14: 7200000
B15: VKB78A | C15: Copacabana | D15: MOTOCICLETA | E15: YAMAHA XT 225 | G15: 2006 | K15: 9817092 | L15: 8100000
B16: ZFO45A | C16: Copacabana | D16: MOTOCICLETA | E16: YAMAHA XT 225 | G16: 2007 | K16: 9817092 | L16: 8300000
B17: ZFO46A | C17: Copacabana | D17: MOTOCICLETA | E17: YAMAHA XT 225 | G17: 2006 | K17: 9817092 | L17: 8100000
B18: ZFP24A | C18: Copacabana | D18: MOTOCICLETA | E18: YAMAHA XT 225 | G18: 2007 | K18: 9817092 | L18: 8300000
B19: ZFQ93A | C19: Copacabana | D19: MOTOCICLETA | E19: YAMAHA XTZ 250 | G19: 2010 | K19: 9817137 | L19: 8500000
B20: GYQ60 | C20: Copacabana | D20: MOTOCICLETA | E20: YAMAHA DT 175 | G20: 1995 | K20: 9817015 | L20: 5200000
B21: LAX77A | C21: Copacabana | D21: MOTOCICLETA | E21: YAMAHA XTZ 125 | G21: 2000 | K21: 9817123 | L21: 7300000
B22: VKB16A | C22: Copacabana | D22: MOTOCICLETA | E22: YAMAHA DT 125 | G22: 2005 | K22: 9817018 | L22: 12900000
B23: ZFQ76A | C23: Copacabana | D23: MOTOCICLETA | E23: YAMAHA XTZ 125 | G23: 2010 | K23: 9817110 | L23: 4700000
B24: 915 | C24: Copacabana | D24: MOTOCICLETA | E24: YAMAHA | G24: 2003 | K24: 9817123 | L24: 8900000
B25: 916 | C25: Copacabana | D25: MOTOCICLETA | E25: YAMAHA | G25: 2003 | K25: 9817123 | L25: 8900000
B26: 918 | C26: Copacabana | D26: MOTOCICLETA | E26: YAMAHA | G26: 2003 | K26: 9817123 | L26: 8900000
B27: 30914 | C27: Copacabana | D27: MOTOCICLETA | E27: YAMAHA | G27: 2003 | K27: 9817123 | L27: 8900000
B28: AND79A | C28: Copacabana | D28: MOTOCICLETA | E28: SUZUKY TS 185 | G28: 2003 | K28: 8817043 | L28: 4200000
B29: CKH54 | C29: Copacabana | D29: MOTOCICLETA | E29: YAMAHA | G29: 1994 | K29: 9817015 | L29: 4800000
B30: CKH55 | C30: Copacabana | D30: MOTOCICLETA | E30: YAMAHA | G30: 1994 | K30: 9817015 | L30: 4800000
B31: GYQ59 | C31: Copacabana | D31: MOTOCICLETA | E31: YAMAHA | G31: 1997 | K31: 9817015 | L31: 6100000
B32: LOG05 | C32: Copacabana | D32: MOTOCICLETA | E32: YAMAHA | G32: 2003 | K32: 9817054 | L32: 3100000
B33: VKA82A | C33: Copacabana | D33: MOTOCICLETA | E33: YAMAHA | G33: 2003 | K33: 9817092 | L33: 7200000
B34: VKB01A | C34: Copacabana | D34: MOTOCICLETA | E34: SUZUKY DR 200 | G34: 2003 | K34: 8817082 | L34: 7200000
B35: VKA86A | C35: Copacabana | D35: MOTOCICLETA | E35: YAMAHA V 80 | G35: 2000 | K35: 9817054 | L35: 2800000
B36: VKB15A | C36: Copacabana | D36: MOTOCICLETA | E36: DT 175 | G36: 2003 | K36: 9817018 | L36: 11100000
B37: OCD105 | C37: Copacabana | D37: CAMIONETA | E37: CHEVROLET | F37: LUV D MAX | G37: 2009 | H37: 3500 | I37: 8LBETF3G890000270 | J37: INDEFINIDO | K37: 1621083 | L37: 71800000
B38: MMI764 | C38: Copacabana | D38: CAMPERO | E38: CHEVROLET | F38: TROOPER 960 | G38: 1998 | H38: 3200 | I38: JACUBS25GW7100908 | J38: GRIS PLATA | K38: 1608015 | L38: 35000000
B39: OCD103 | C39: Copacabana | D39: BUS | E39: VOLVO | G39: 2001 | K39: 3611002 | L39: 72500000
B40: OP 4612 | C40: Copacabana | D40: CAMION | E40: CHEVROLET | G40: 1984 | K40: NO APLICA | L40: NO APLICA
B41: RETRO 555 | C41: Copacabana | D41: RETROEXCAVADORA | E41: FORD | F41: RETRO 555 | G41: 1988 | J41: AMARILLO | K41: NO APLICA | L41: 25000000
...

Sheet RELACIÓN VG ALC- PERS
B2: ALCALDÍA DE COPACABANA
B3: RELACION DE ASEGURADOS - SEGURO VIDA GRUPO (ALCALDE, PERSONERO Y CONCEJALES)
B5: ASEGURADO | C5: CARGO | D5: CC | E5: F. NACIMIENTO | F5: VALOR ASEGURADO
B6: JOHNATAN ANDRES PINEDA | C6: ALCALDE | D6: 1035432689 | E6: 34682 | F6: =C38*20 -> 268144140
B7: NELSON DAVID CARVAJAL ALCARAZ | C7: PERSONERO | D7: 1214722126 | E7: 33742 | F7: =C38*20 -> 268144140
B8: CARLOS ALBERTO GOMEZ YARCE | C8: CONCEJAL | D8: 1035425982 | E8: 33493 | F8: =C38*20 -> 268144140
B9: OLGA INES SOSA JIMENEZ | C9: CONCEJAL | D9: 1035437521 | E9: 25731 | F9: =C38*20 -> 268144140
B10: DEISY YURANY SUAREZ ACEVEDO | C10: CONCEJAL | D10: 1037629133 | E10: 34129 | F10: =C38*20 -> 268144140
B11: EDWIN ALEXANDER GOMEZ | C11: CONCEJAL | D11: 15516361 | E11: 29743 | F11: =C38*20 -> 268144140
B12: EDWIN RAMIREZ LOPERA | C12: CONCEJAL | D12: 15519017 | E12: 31405 | F12: =C38*20 -> 268144140
B13: JHONATHAN EDUARDO CHAVERRA | C13: CONCEJAL | D13: 1035420271 | E13: 32507 | F13: =C38*20 -> 268144140
B14: JUAN CAMILO RAMIREZ GALLON | C14: CONCEJAL | D14: 71364638 | E14: 30478 | F14: =C38*20 -> 268144140
B15: JUAN SEBASTIAN HERNADEZ | C15: CONCEJAL | D15: 1035429877 | E15: 34106 | F15: =C38*20 -> 268144140
B16: JULIAN ANDRES TOBON MARTINEZ | C16: CONCEJAL | D16: 1035424146 | E16: 33076 | F16: =C38*20 -> 268144140
B17: MARGARITA MARIA MUÑOZ GIRALDO | C17: CONCEJAL | D17: 42687560 | E17: 27295 | F17: =C38*20 -> 268144140
B18: NELSON CAMILO QUICENO HERNANDEZ | C18: CONCEJAL | D18: 1035423006 | E18: 32846 | F18: =C38*20 -> 268144140
B19: ROBINSON HIGINIO GIRALDO | C19: CONCEJAL | D19: 1037581399 | E19: 31896 | F19: =C38*20 -> 268144140
B20: YILBER ANDRES MONTOYA | C20: CONCEJAL | D20: 1037631016 | E20: 34344 | F20: =C38*20 -> 268144140
B21: JULIAN MARCELO MACHADO CADAVID | C21: CONCEJAL | D21: 15515272 | E21: 29330 | F21: =C38*20 -> 268144140
B22: JUAN DAVID QUINTERO ARANGO | C22: CONCEJAL | D22: 1035431152 | E22: 34321 | F22: =C38*20 -> 268144140
B23: ECHEVERRIA SANCHEZ WILSON | C23: CONCEJAL | D23: 79187877 | E23: 26067
B24: GRACIANO GUARIN CLAUDIA YANET | C24: CONCEJAL | D24: 1070005717 | E24: 31900
B25: GUTIERREZ MARTIN JALVER GEOVANNY | C25: CONCEJAL | D25: 74283115 | E25: 30294
B26: GUTIERREZ SANTOS OSCAR MAURICIO | C26: CONCEJAL | D26: 2969258 | E26: 29040
B27: LESMES AYALA JAIRO ANDRES | C27: CONCEJAL | D27: 3146594 | E27: 29527
B28: MOLINA SUAREZ JOSÉ ISAÍAS | C28: CONCEJAL | D28: 11276805 | E28: 30638
B29: ORDOÑEZ PACHECO CRISTHIAN EDUARDO | C29: CONCEJAL | D29: 79997632 | E29: 29875
B30: RAMIREZ PIRABAN MILTON YAMIT | C30: CONCEJAL | D30: 1070004299 | E30: 31401
B31: SANCHEZ JUAN DAVID | C31: CONCEJAL | D31: 1070005926 | E31: 32029
B32: TORO PARRA ALVARO ANDRES | C32: CONCEJAL | D32: 11203246 | E32: 29462
B33: VALDERRAMA UBAQUE JOSE ALEXANDER | C33: CONCEJAL | D33: 2969409 | E33: 28885
B34: VELANDIA HERRERA JUAN CAMILO | C34: CONCEJAL | D34: 1070004863 | E34: 31508
B35: VENEGAS CORTES SEBASTIAN | C35: CONCEJAL | D35: 1070017652 | E35: 35247
B36: TOTAL VALOR ASEGURADO | F36: =SUM(F6:F35) -> 4558450380
B38: SALARIO ALCALDE 2026 | C38: 13407207

Sheet RELACIÓN VG DEUDORES
B2: ALCALDÍA DE COPACABANA
B3: RELACION DE ASEGURADOS - SEGURO VIDA GRUPO DEUDORES
B5: ASEGURADO | C5: F. NACIMIENTO | D5: VALOR ASEGURADO
B6: GERARDO FRANCISCO MENESES GONZÁLEZ | C6: 24142 | D6: 8251421
B7: JACOBO DE JESÚS RENDÓN ROJAS | C7: 18140 | D7: 60389267
B8: LUIS EDUARDO CHAVERRA GONZÁLEZ | C8: 22896 | D8: 41726768
B9: LUIS ENRIQUE ÁLVAREZ YEPES | C9: 21193 | D9: 45906025
B10: MARÍA ELCIN RÍOS MONA | C10: 18070 | D10: 882793
B11: TOTAL VALOR ASEGURADO | D11: =SUM(D6:D10) -> 157156274
