Workbook

Sheet ESTUDIO DE MERCADO
A1: ALCALDÍA DE VALLEDUPAR
A2: SECRETARÍA GENERAL
A4: FORTALECIMIENTO DEL DESARROLLO INSTITUCIONAL Y SECTORIAL EN EL MARCO DE LO CONTEMPLADO EN PLAN DE ACCIÓN EN SALUD PAS 2026 DE LA SECRETARIA LOCAL DE SALUD - MUNICIPIO DE VALLEDUPAR
A5: ESTUDIO DE MERCADO
A6: ITEMS | B6: DESCRIPCIÓN | C6: UNIDAD | D6: CANT. COTIZADA | E6: CANT. REQUERIDA | F6: FUNDACION VISION INNOVACION SOCIAL | H6: LS EVENTOS Y LOGISTICAS INTEGRAL S.A.S. | J6: FUNDACION DE JOVENES ACCIONAR - FUNDEJAR | L6: MÍNIMO | M6: PROMEDIO | N6: MÁXIMO
F7: NIT 901655394-6 | H7: NIT: 901312159-1 | J7: NIT 824004942-0 | Q7: =J6 -> FUNDACION DE JOVENES ACCIONAR - FUNDEJAR | T7: =L6 -> MÍNIMO | V7: =N6 -> MÁXIMO
F8: VALOR UNITARIO IVA INCLUIDO | G8: VALOR TOTAL IVA INCLUIDO | H8: VALOR UNITARIO IVA INCLUIDO | I8: VALOR TOTAL IVA INCLUIDO | J8: VALOR UNITARIO IVA INCLUIDO | K8: VALOR TOTAL IVA INCLUIDO | P8: =G38 -> 40537730 | Q8: =K38 -> 39125466 | T8: =L38 -> 48044466 | V8: =N38 -> 50418730
A10: 1 | B10: Alquiler de sonido amplificado acorde al lugar del evento, Incluye 2 cabinas de 15 pulgadas, 3 micrófonos inalámbricos, 1 planta de energía de 4.500 watt incluye operario y combustible, eventos con una duración de 4 horas cada sección para máximo 200 personas. | C10: Sonido | D10: 1 | E10: 1 | F10: 1200000 | G10: 1200000 | H10: 1100000 | I10: 1100000 | J10: 1100000 | K10: 1100000 | L10: =MIN(G10,I10,K10) -> 1100000 | M10: =AVERAGE(G10,I10,K10) -> 1133333.3 | N10: =MAX(G10,I10,K10) -> 1200000
A11: 2 | B11: Módulo de Infraestructura y Soporte Operativo para Facilitadores: Alquiler, transporte y ensamble de mobiliario logístico básico de soporte para el equipo de profesionales a cargo del flujo técnico del encuentro. (1 mesa grande rectangular y 5 sillas) | C11: Unidad | D11: 1 | E11: 1 | F11: 155000 | G11: 155000 | H11: 155000 | I11: 155000 | J11: 155000 | K11: 155000 | L11: =MIN(G11,I11,K11) -> 155000 | M11: =AVERAGE(G11,I11,K11) -> 155000 | N11: =MAX(G11,I11,K11) -> 155000
A12: 3 | B12: Alquiler, transporte, cargue, descargue, ensamble y acondicionamiento operativo para reuniones comunitarias no convencionales de estructuras modulares temporales 5 carpas de 4 x 4 mts temporales, 200 sillas plásticas sin brazos y 20 mesas plásticas para el despliegue técnico en entornos comunitarios. | C12: Unidad | D12: 1 | E12: 1 | F12: 2880000 | G12: 2880000 | H12: 2880000 | I12: 2880000 | J12: 2380000 | K12: 2380000 | L12: =MIN(G12,I12,K12) -> 2380000 | M12: =AVERAGE(G12,I12,K12) -> 2713333.3 | N12: =MAX(G12,I12,K12) -> 2880000
A13: 4 | B13: Soporte de Ayudas Audiovisuales y Visualización Técnica: Alquiler de TV de 42" o más grande, con soporte paral de pie, cables HDMI, conexión amplificación de sonido y portátil para la proyección de herramientas pedagógicas e interactivas de las rutas de atención. Incluye: Operador, transporte al sitio urbano y/o rural de Valledupar, montaje y desmontaje. | C13: Unidad | D13: 1 | E13: 1 | F13: 395000 | G13: 395000 | H13: 380000 | I13: 380000 | J13: 380000 | K13: 380000 | L13: =MIN(G13,I13,K13) -> 380000 | M13: =AVERAGE(G13,I13,K13) -> 385000 | N13: =MAX(G13,I13,K13) -> 395000
A14: 5 | B14: Contratación de panelistas profesionales del área social o salud con experiencia certificada entre 13 y 24 meses en adopción de metodología de articulación comunitaria, manejo en temas de violencia, género, resolución de conflictos, problemas de parejas, violencia y problemas parentales. | C14: Intervención Profesional | D14: 1 | E14: 1 | F14: 3300000 | G14: 3300000 | H14: 3300000 | I14: 3300000 | J14: 3000000 | K14: 3000000 | L14: =MIN(G14,I14,K14) -> 3000000 | M14: =AVERAGE(G14,I14,K14) -> 3200000 | N14: =MAX(G14,I14,K14) -> 3300000
A15: 6 | B15: Estrategia Operativa de Convocatoria, Enlace Local y Movilización Social: perifoneo técnico para la difusión de rutas de atención de violencias y despliegue local para garantizar la participación activa de actores clave. | C15: Perifoneo | D15: 1 | E15: 1 | F15: 452000 | G15: 452000 | H15: 452000 | I15: 452000 | J15: 450000 | K15: 450000 | L15: =MIN(G15,I15,K15) -> 450000 | M15: =AVERAGE(G15,I15,K15) -> 451333.33 | N15: =MAX(G15,I15,K15) -> 452000
A16: 7 | B16: Modulo de consulta permanente, diseñado para la transferencia de conocimiento, identificación de factores de riesgo y enrutamiento de casos de violencia en entornos hogar y comunitarios. 21.59 cm x 27.94 cm de 50 páginas | C16: Modulo | D16: 1 | E16: 1 | F16: 28000 | G16: 28000 | H16: 25000 | I16: 25000 | J16: 25000 | K16: 25000 | L16: =MIN(G16,I16,K16) -> 25000 | M16: =AVERAGE(G16,I16,K16) -> 26000 | N16: =MAX(G16,I16,K16) -> 28000
A17: 8 | B17: Guía de ruta para la orientación conceptual y activación de las rutas integrales de atención para la resolución de conflictos de violencia, papel propalcote, full color, tamaño A4. | C17: Guia | D17: 1 | E17: 1 | F17: 4000 | G17: 4000 | H17: 4000 | I17: 4000 | J17: 4000 | K17: 4000 | L17: =MIN(G17,I17,K17) -> 4000 | M17: =AVERAGE(G17,I17,K17) -> 4000 | N17: =MAX(G17,I17,K17) -> 4000
A18: 9 | B18: Módulos Didácticos Visuales y Estructuras Pedagógicas Portátiles: Adquisición de paneles gráficos verticales desarmables para la visualización esquemática de la ruta intersectorial de atención a víctimas de violencia. | C18: Panel | D18: 1 | E18: 1 | F18: 452000 | G18: 452000 | H18: 452000 | I18: 452000 | J18: 450000 | K18: 450000 | L18: =MIN(G18,I18,K18) -> 450000 | M18: =AVERAGE(G18,I18,K18) -> 451333.33 | N18: =MAX(G18,I18,K18) -> 452000
A19: 10 | B19: Soporte para la Consolidación de Memorias Técnicas y Evidencia Territorial: Servicio de diseño, diagramación e impresión de informes asociados a los entregables de esta actividad, impresiones a full color, 120 páginas Aprox, papel propalcote, con tapa cartulina, más cd. (se entregan 1 ejemplar) | C19: Impresión | D19: 1 | E19: 1 | F19: 365000 | G19: 365000 | H19: 350000 | I19: 350000 | J19: 350000 | K19: 350000 | L19: =MIN(G19,I19,K19) -> 350000 | M19: =AVERAGE(G19,I19,K19) -> 355000 | N19: =MAX(G19,I19,K19) -> 365000
A20: 11 | B20: •9 Profesionales de la salud especializado y calificado con más de 10 años de experiencia en el sector salud, con conocimiento en la Gestión de la Salud Pública y su aplicación práctica, competencias pedagógicas avanzadas de facilitación para el fortalecimiento de capacidades de los actores territoriales, y experiencia demostrada en la formulación, implementación y seguimiento de políticas públicas o lineamientos de orden nacional, asistencia técnica y acompañamiento a entidades territoriales, así como en procesos de organización, inspección, vigilancia y control (IVC) de servicios de salud a nivel departamental y municipal. Ampara de manera integral los gastos de transferencia y permanencia de los expertos externos requeridos para las dos (2) jornadas completas del evento, incluyendo tiquetes/transporte, alojamiento itinerante, así como el soporte logístico de ayudas audiovisuales y elementos didácticos necesarios para la ejecución presencial • Equipo de Apoyo Logístico Técnico: Personal operativo encargado de la coordinación del evento, control de entornos seguros y asistencia en el desarrollo de la jornada. • Auditorio por 8 horas horas por dos dias con capacidad para trecientas venite (320) personas, dotado con ayudas audiovisuales, sillas, mesas y conectividad para el desarrollo del evento • Caja de herramientas por participante: Material técnico operativo, guías metodológicas de soporte conceptual para la capacitación, memorias del evento. • Transporte para traslado de personal, materiales e insumos para la realización del congreso. • Elaboración, impresión y entrega de certificado de asistencia o participación a cada uno de los asistentes que cumplan con los requisitos establecidos para su expedición. | C20: Persona capacitada | D20: 1 | E20: 1 | F20: 640000 | G20: 640000 | H20: 650000 | I20: 650000 | J20: 625000 | K20: 625000 | L20: =MIN(G20,I20,K20) -> 625000 | M20: =AVERAGE(G20,I20,K20) -> 638333.33 | N20: =MAX(G20,I20,K20) -> 650000
A21: 12 | B21: Difusión de Rutas de prevención: Guía informativa para la orientación comunitaria en la prevención de riesgos por pirotecnia e intoxicaciones. media carta full color. | C21: Unidad | D21: 1 | E21: 1 | F21: 4000 | G21: =F21*E21 -> 4000 | H21: 4000 | I21: =H21*E21 -> 4000 | J21: 4000 | K21: =J21*E21 -> 4000 | L21: =MIN(G21,I21,K21) -> 4000 | M21: =AVERAGE(G21,I21,K21) -> 4000 | N21: =MAX(G21,I21,K21) -> 4000 | P21: =F6 -> FUNDACION VISION INNOVACION SOCIAL | R21: =H6 -> LS EVENTOS Y LOGISTICAS INTEGRAL S.A.S. | T21: =J6 -> FUNDACION DE JOVENES ACCIONAR - FUNDEJAR
A22: 13 | B22: Despliegue de Acciones Lúdico-Pedagógicas: Producción, montaje e implementación de obras de teatro ( 2 obras - 5 personas), obras artísticas urbanas (2 obras - 8 personas) y 1 actividad cultural (6 personas) para la transferencia de mensajes de prevención de emergencias ocasionadas por polvora y las intoxicaciones por sustancias peligrosas. | C22: Presentación | D22: 1 | E22: 1 | F22: 12300000 | G22: =F22*E22 -> 12300000 | H22: 12300000 | I22: =H22*E22 -> 12300000 | J22: 12095766 | K22: =J22*E22 -> 12095766 | L22: =MIN(G22,I22,K22) -> 12095766 | M22: =AVERAGE(G22,I22,K22) -> 12231922 | N22: =MAX(G22,I22,K22) -> 12300000 | P22: =G38 -> 40537730 | R22: =I38 -> 40359700 | T22: =K38 -> 39125466
A23: 14 | B23: Estructuras Pedagógicas Visuales Portátiles 2x1 mt: Paneles gráficos verticales desarmables para la ilustración esquemática de prevención frente a eventos por intoxicaciones. | C23: Paneles | D23: 1 | E23: 1 | F23: 465000 | G23: =F23*E23 -> 465000 | H23: 450000 | I23: =H23*E23 -> 450000 | J23: 450000 | K23: =J23*E23 -> 450000 | L23: =MIN(G23,I23,K23) -> 450000 | M23: =AVERAGE(G23,I23,K23) -> 455000 | N23: =MAX(G23,I23,K23) -> 465000
A24: 15 | B24: Tableros de Simulación Lúdico-Comportamental para la Prevención de Emergencias de Origen Químico y Pirotécnico: Suministro de plataformas didácticas de mesa portátiles destinadas a la apropiación del conocimiento y cambio conductual en el núcleo familiar. El instrumento utiliza la lúdica aplicada mediante juego secuencial (tipo parqués/escaleras 6 puestos) donde cada estación o casilla evalúa situaciones de riesgo real en el entorno doméstico. Incluye la diagramación técnica de mensajes de preevención de emergencias ocasionadas por polvora y las intoxicaciones por sustancias peligrosas. | C24: Unidad | D24: 1 | E24: 1 | F24: 35000 | G24: =F24*E24 -> 35000 | H24: 35000 | I24: =H24*E24 -> 35000 | J24: 35000 | K24: =J24*E24 -> 35000 | L24: =MIN(G24,I24,K24) -> 35000 | M24: =AVERAGE(G24,I24,K24) -> 35000 | N24: =MAX(G24,I24,K24) -> 35000
A25: 16 | B25: Estrategia Operativa Movilización Social : Servicio de carro valla de perifoneo para Valledupar, por 6 horas al día (incluye: perifoneo y difusión de pieza gráfica informativa de prevención, conductor y mantenimiento del vehículo) por un mes | C25: Unidad | D25: 1 | E25: 1 | F25: 2750000 | G25: =F25*E25 -> 2750000 | H25: 2700000 | I25: =H25*E25 -> 2700000 | J25: 2700000 | K25: =J25*E25 -> 2700000 | L25: =MIN(G25,I25,K25) -> 2700000 | M25: =AVERAGE(G25,I25,K25) -> 2716666.7 | N25: =MAX(G25,I25,K25) -> 2750000 | P25: =L6 -> MÍNIMO | Q25: =M6 -> PROMEDIO | R25: =N6 -> MÁXIMO
A26: 17 | B26: Personal de Apoyo Logístico Territorial: Auxiliares operativos encargados del control de flujos de asistencia, avanzada en campo y soporte organizativo del lanzamiento. Incluye transporte interno. | C26: Persona | D26: 1 | E26: 1 | F26: 160000 | G26: =F26*E26 -> 160000 | H26: 150000 | I26: =H26*E26 -> 150000 | J26: 150000 | K26: =J26*E26 -> 150000 | L26: =MIN(G26,I26,K26) -> 150000 | M26: =AVERAGE(G26,I26,K26) -> 153333.33 | N26: =MAX(G26,I26,K26) -> 160000 | P26: =L38 -> 48044466 | Q26: =M38 -> 49520299 | R26: =N38 -> 50418730
A27: 18 | B27: Jornadas Itinerantes teatrales: Despliegue de encuentros lúdicos interactivos micro-territoriales para desarrollar en zonas estratégicas y semáforos para la transferencia de mensajes de prevención del uso de la pólvora, con zanqueros, mimos, payasos y personajes caracterizados y/o infantiles. (7 personas) | C27: Jornada | D27: 1 | E27: 1 | F27: 2700000 | G27: =F27*E27 -> 2700000 | H27: 2700000 | I27: =H27*E27 -> 2700000 | J27: 2500000 | K27: =J27*E27 -> 2500000 | L27: =MIN(G27,I27,K27) -> 2500000 | M27: =AVERAGE(G27,I27,K27) -> 2633333.3 | N27: =MAX(G27,I27,K27) -> 2700000
A28: 19 | B28: Alquiler de sistemas de sonido portátil con micrófonos inalámbricos y/o solapa indispensables para garantizar la cobertura de las jornadas extramurales. | C28: Jornada | D28: 1 | E28: 1 | F28: 800000 | G28: =F28*E28 -> 800000 | H28: 800000 | I28: =H28*E28 -> 800000 | J28: 800000 | K28: =J28*E28 -> 800000 | L28: =MIN(G28,I28,K28) -> 800000 | M28: =AVERAGE(G28,I28,K28) -> 800000 | N28: =MAX(G28,I28,K28) -> 800000
A29: 20 | B29: Tableros de Simulación Lúdico-Comportamental para la Prevención de Emergencias de Origen Químico y Pirotécnico: Suministro de plataformas didácticas de mesa portátiles destinadas a la apropiación del conocimiento y cambio conductual en el núcleo familiar. El instrumento utiliza la lúdica aplicada mediante juego secuencial (tipo parqués/escaleras 6 puestos) donde cada estación o casilla evalúa situaciones de riesgo real en el entorno doméstico. Incluye la diagramación técnica de mensajes de preevención de emergencias ocasionadas por polvora y las intoxicaciones por sustancias peligrosas. | C29: Unidad | D29: 1 | E29: 1 | F29: 38000 | G29: =F29*E29 -> 38000 | H29: 35000 | I29: =H29*E29 -> 35000 | J29: 35000 | K29: =J29*E29 -> 35000 | L29: =MIN(G29,I29,K29) -> 35000 | M29: =AVERAGE(G29,I29,K29) -> 36000 | N29: =MAX(G29,I29,K29) -> 38000
A30: 21 | B30: Servicio de carro valla y/o publicidad de perifoneo para Valledupar y sus corregimientos 6 horas al día, para el despliegue itinerante de información en audio y soporte visual móvil con mensajes de prevención de emergencias ocasionadas por polvora y las intoxicaciones por sustancias peligrosas. Inclluye conductor y mantenimiento del vehiculo | C30: Perifoneo | D30: 1 | E30: 1 | F30: 2200000 | G30: =F30*E30 -> 2200000 | H30: 2200000 | I30: =H30*E30 -> 2200000 | J30: 2000000 | K30: =J30*E30 -> 2000000 | L30: =MIN(G30,I30,K30) -> 2000000 | M30: =AVERAGE(G30,I30,K30) -> 2133333.3 | N30: =MAX(G30,I30,K30) -> 2200000
A31: 22 | B31: Equipo de apoyo tecnico - logístico: Apoyo logístico para la preparación, organización y convocatoria del evento. Cantidad: 4 auxiliares logístico. | C31: Unidad | D31: 1 | E31: 1 | F31: 150000 | G31: =F31*E31 -> 150000 | H31: 150000 | I31: =H31*E31 -> 150000 | J31: 150000 | K31: =J31*E31 -> 150000 | L31: =MIN(G31,I31,K31) -> 150000 | M31: =AVERAGE(G31,I31,K31) -> 150000 | N31: =MAX(G31,I31,K31) -> 150000
A32: 23 | B32: Módulos Gráficos Horizontales de Orientación: Paneles informativos portatiles de de 6 mts de largo por 1.20 para la difusion de mensajes de prevención de emergencias ocasionadas por polvora y las intoxicaciones por sustancias peligrosas. | C32: Paneles | D32: 1 | E32: 1 | F32: 675000 | G32: =F32*E32 -> 675000 | H32: 675000 | I32: =H32*E32 -> 675000 | J32: 675000 | K32: =J32*E32 -> 675000 | L32: =MIN(G32,I32,K32) -> 675000 | M32: =AVERAGE(G32,I32,K32) -> 675000 | N32: =MAX(G32,I32,K32) -> 675000
A33: 24 | B33: Profesional de la salud especializado o profesional especializado con 5 años de experiencia comprobada en prevención de emergencias ocasionadas por pólvora y las intoxicaciones por sustancias peligrosas. Preparación del material, reuniones previas y evento. Incluye logistica integral | C33: Persona | D33: 1 | E33: 1 | F33: 900000 | G33: =F33*E33 -> 900000 | H33: 800000 | I33: =H33*E33 -> 800000 | J33: 800000 | K33: =J33*E33 -> 800000 | L33: =MIN(G33,I33,K33) -> 800000 | M33: =AVERAGE(G33,I33,K33) -> 833333.33 | N33: =MAX(G33,I33,K33) -> 900000
A34: 25 | B34: Alquiler de un vehículo para Transporte de pasajeros con disponibilidad mensual, en zona urbana de Valledupar. Camioneta DC 4x4. Incluye conductor y mantenimiento. | C34: Mes | D34: 1 | E34: 1 | F34: 7280000 | G34: =F34*E34 -> 7280000 | H34: 7280000 | I34: =H34*E34 -> 7280000 | J34: 7000000 | K34: =J34*E34 -> 7000000 | L34: =MIN(G34,I34,K34) -> 7000000 | M34: =AVERAGE(G34,I34,K34) -> 7186666.7 | N34: =MAX(G34,I34,K34) -> 7280000
A35: 26 | B35: Desarrollo de plan de medios para la difusion de mensajes promocionar las actividades en redes sociales durante un mes. | C35: Plan de medios | D35: 1 | E35: 1 | F35: 3350000 | G35: =F35*E35 -> 3350000 | H35: 3350000 | I35: =H35*E35 -> 3350000 | J35: 3000000 | K35: =J35*E35 -> 3000000 | L35: =MIN(G35,I35,K35) -> 3000000 | M35: =AVERAGE(G35,I35,K35) -> 3233333.3 | N35: =MAX(G35,I35,K35) -> 3350000
A36: 27 | B36: Despliegue de Equipo para abordaje Territorial: Operación en campo de equipo para sensibilización directa en barrios, parques y sitios estratégicos de la ciudad. Se utilizarán 6 personas por un mes a 2 jornadas. | C36: Mes | D36: 1 | E36: 1 | F36: 6730000 | G36: =F36*E36 -> 6730000 | H36: 6730000 | I36: =H36*E36 -> 6730000 | J36: 6730000 | K36: =J36*E36 -> 6730000 | L36: =MIN(G36,I36,K36) -> 6730000 | M36: =AVERAGE(G36,I36,K36) -> 6730000 | N36: =MAX(G36,I36,K36) -> 6730000
A37: 28 | B37: Guías didácticas para la prevención de accidentes e intoxicaciones ocasionadas por polvora. instructivos portátiles con información preventiva de fácil apropiación para el núcleo familiar. Tamaño A4 papel propalcote | C37: Unidad | D37: 1 | E37: 1 | F37: 730 | G37: =F37*E37 -> 730 | H37: 700 | I37: =H37*E37 -> 700 | J37: 700 | K37: =J37*E37 -> 700 | L37: =MIN(G37,I37,K37) -> 700 | M37: =AVERAGE(G37,I37,K37) -> 710 | N37: =MAX(G37,I37,K37) -> 730
A38: TOTAL CON IVA INCLUIDO | F38: =SUM(F21:F37) -> 40537730 | G38: =SUM(G21:G37) -> 40537730 | H38: =SUM(H21:H37) -> 40359700 | I38: =SUM(I21:I37) -> 40359700 | J38: =SUM(J21:J37) -> 39125466 | K38: =SUM(K21:K37) -> 39125466 | L38: =SUM(L10:L37) -> 48044466 | M38: =SUM(M10:M37) -> 49520299 | N38: =SUM(N10:N37) -> 50418730
A39: NOTA 1: LOS PRECIOS OFERTADOS DE LOS ÍTEMS SUMINISTRADOS POR LOS PROVEEDORES DESCRITOS CONTIENEN EL IMPUESTO AL VALOR AGREGADO (IVA) DEL 19%.
A43: GUIDO ANDRÉS CASTILLA GONZÁLEZ
A44: Secretario General
A45: Proyectó:
...

Sheet PRESUPUESTO
A1: ALCALDÍA DE VALLEDUPAR
A2: SECRETARÍA GENERAL
A4: FORTALECIMIENTO DEL DESARROLLO INSTITUCIONAL Y SECTORIAL EN EL MARCO DE LO CONTEMPLADO EN PLAN DE ACCIÓN EN SALUD PAS 2026 DE LA SECRETARIA LOCAL DE SALUD - MUNICIPIO DE VALLEDUPAR
A5: PRESUPUESTO
A6: ACTIVIDAD 1: Realizar veinte (20) encuentros de articulación con actores sociales y comunitarios para el entrenamiento y gestión de las violencias en el municipio de Valledupar
A7: ITEMS | B7: DESCRIPCIÓN | C7: UNIDAD | D7: UNIDAD | E7: CANT. REQUERIDA | F7: MENOR PRECIO COTIZADO | G7: TOTAL
A11: ='ESTUDIO DE MERCADO'!A10 -> 1 | B11: ='ESTUDIO DE MERCADO'!B10 -> Alquiler de sonido amplificado acorde al lugar del evento, Incluye 2 cabinas de 15 pulgadas, 3 micrófonos inalámbricos, 1 planta de energía de 4.500 watt incluye operario y combustible, eventos con una duración de 4 horas cada sección para máximo 200 personas. | C11: ='ESTUDIO DE MERCADO'!C10 -> Sonido | D11: ='ESTUDIO DE MERCADO'!D10 -> 1 | E11: 20 | F11: =MIN('ESTUDIO DE MERCADO'!F10,'ESTUDIO DE MERCADO'!H10,'ESTUDIO DE MERCADO'!J10) -> 1100000 | G11: =F11*E11 -> 22000000
A12: ='ESTUDIO DE MERCADO'!A11 -> 2 | B12: ='ESTUDIO DE MERCADO'!B11 -> Módulo de Infraestructura y Soporte Operativo para Facilitadores: Alquiler, transporte y ensamble de mobiliario logístico básico de soporte para el equipo de profesionales a cargo del flujo técnico del encuentro. (1 mesa grande rectangular y 5 sillas) | C12: ='ESTUDIO DE MERCADO'!C11 -> Unidad | D12: ='ESTUDIO DE MERCADO'!D11 -> 1 | E12: 20 | F12: =MIN('ESTUDIO DE MERCADO'!F11,'ESTUDIO DE MERCADO'!H11,'ESTUDIO DE MERCADO'!J11) -> 155000 | G12: =F12*E12 -> 3100000
A13: ='ESTUDIO DE MERCADO'!A12 -> 3 | B13: ='ESTUDIO DE MERCADO'!B12 -> Alquiler, transporte, cargue, descargue, ensamble y acondicionamiento operativo para reuniones comunitarias no convencionales de estructuras modulares temporales 5 carpas de 4 x 4 mts temporales, 200 sillas plásticas sin brazos y 20 mesas plásticas para el despliegue técnico en entornos comunitarios. | C13: ='ESTUDIO DE MERCADO'!C12 -> Unidad | D13: ='ESTUDIO DE MERCADO'!D12 -> 1 | E13: 20 | F13: =MIN('ESTUDIO DE MERCADO'!F12,'ESTUDIO DE MERCADO'!H12,'ESTUDIO DE MERCADO'!J12) -> 2380000 | G13: =F13*E13 -> 47600000
A14: ='ESTUDIO DE MERCADO'!A13 -> 4 | B14: ='ESTUDIO DE MERCADO'!B13 -> Soporte de Ayudas Audiovisuales y Visualización Técnica: Alquiler de TV de 42" o más grande, con soporte paral de pie, cables HDMI, conexión amplificación de sonido y portátil para la proyección de herramientas pedagógicas e interactivas de las rutas de atención. Incluye: Operador, transporte al sitio urbano y/o rural de Valledupar, montaje y desmontaje. | C14: ='ESTUDIO DE MERCADO'!C13 -> Unidad | D14: ='ESTUDIO DE MERCADO'!D13 -> 1 | E14: 20 | F14: =MIN('ESTUDIO DE MERCADO'!F13,'ESTUDIO DE MERCADO'!H13,'ESTUDIO DE MERCADO'!J13) -> 380000 | G14: =F14*E14 -> 7600000
A15: ='ESTUDIO DE MERCADO'!A14 -> 5 | B15: ='ESTUDIO DE MERCADO'!B14 -> Contratación de panelistas profesionales del área social o salud con experiencia certificada entre 13 y 24 meses en adopción de metodología de articulación comunitaria, manejo en temas de violencia, género, resolución de conflictos, problemas de parejas, violencia y problemas parentales. | C15: ='ESTUDIO DE MERCADO'!C14 -> Intervención Profesional | D15: ='ESTUDIO DE MERCADO'!D14 -> 1 | E15: 20 | F15: =MIN('ESTUDIO DE MERCADO'!F14,'ESTUDIO DE MERCADO'!H14,'ESTUDIO DE MERCADO'!J14) -> 3000000 | G15: =F15*E15 -> 60000000
A16: ='ESTUDIO DE MERCADO'!A15 -> 6 | B16: ='ESTUDIO DE MERCADO'!B15 -> Estrategia Operativa de Convocatoria, Enlace Local y Movilización Social: perifoneo técnico para la difusión de rutas de atención de violencias y despliegue local para garantizar la participación activa de actores clave. | C16: ='ESTUDIO DE MERCADO'!C15 -> Perifoneo | D16: ='ESTUDIO DE MERCADO'!D15 -> 1 | E16: 20 | F16: =MIN('ESTUDIO DE MERCADO'!F15,'ESTUDIO DE MERCADO'!H15,'ESTUDIO DE MERCADO'!J15) -> 450000 | G16: =F16*E16 -> 9000000
A17: ='ESTUDIO DE MERCADO'!A16 -> 7 | B17: ='ESTUDIO DE MERCADO'!B16 -> Modulo de consulta permanente, diseñado para la transferencia de conocimiento, identificación de factores de riesgo y enrutamiento de casos de violencia en entornos hogar y comunitarios. 21.59 cm x 27.94 cm de 50 páginas | C17: ='ESTUDIO DE MERCADO'!C16 -> Modulo | D17: ='ESTUDIO DE MERCADO'!D16 -> 1 | E17: 2000 | F17: =MIN('ESTUDIO DE MERCADO'!F16,'ESTUDIO DE MERCADO'!H16,'ESTUDIO DE MERCADO'!J16) -> 25000 | G17: =F17*E17 -> 50000000
A18: ='ESTUDIO DE MERCADO'!A17 -> 8 | B18: ='ESTUDIO DE MERCADO'!B17 -> Guía de ruta para la orientación conceptual y activación de las rutas integrales de atención para la resolución de conflictos de violencia, papel propalcote, full color, tamaño A4. | C18: ='ESTUDIO DE MERCADO'!C17 -> Guia | D18: ='ESTUDIO DE MERCADO'!D17 -> 1 | E18: 2050 | F18: =MIN('ESTUDIO DE MERCADO'!F17,'ESTUDIO DE MERCADO'!H17,'ESTUDIO DE MERCADO'!J17) -> 4000 | G18: =F18*E18 -> 8200000
A19: ='ESTUDIO DE MERCADO'!A18 -> 9 | B19: ='ESTUDIO DE MERCADO'!B18 -> Módulos Didácticos Visuales y Estructuras Pedagógicas Portátiles: Adquisición de paneles gráficos verticales desarmables para la visualización esquemática de la ruta intersectorial de atención a víctimas de violencia. | C19: ='ESTUDIO DE MERCADO'!C18 -> Panel | D19: ='ESTUDIO DE MERCADO'!D18 -> 1 | E19: 4 | F19: =MIN('ESTUDIO DE MERCADO'!F18,'ESTUDIO DE MERCADO'!H18,'ESTUDIO DE MERCADO'!J18) -> 450000 | G19: =F19*E19 -> 1800000
A20: ='ESTUDIO DE MERCADO'!A19 -> 10 | B20: ='ESTUDIO DE MERCADO'!B19 -> Soporte para la Consolidación de Memorias Técnicas y Evidencia Territorial: Servicio de diseño, diagramación e impresión de informes asociados a los entregables de esta actividad, impresiones a full color, 120 páginas Aprox, papel propalcote, con tapa cartulina, más cd. (se entregan 1 ejemplar) | C20: ='ESTUDIO DE MERCADO'!C19 -> Impresión | D20: ='ESTUDIO DE MERCADO'!D19 -> 1 | E20: 2 | F20: =MIN('ESTUDIO DE MERCADO'!F19,'ESTUDIO DE MERCADO'!H19,'ESTUDIO DE MERCADO'!J19) -> 350000 | G20: =F20*E20 -> 700000
A21: SUBTOTAL | G21: =SUM(G11:G20) -> 210000000
A22: TOTAL | G22: =SUM(G21) -> 210000000
A24: ACTIVIDAD 2: Realizar una (1) desarrollo de capacidades para el fortalecimiento de la gestión de la salud pública
A25: 1. Jornada II: Transformación de la Gestión de la Salud Pública en el municipio de Valledupar
A26: ITEM | B26: DESCRIPCIÓN TÉCNICA | C26: UNIDAD DE MEDIDA | D26: UNIDAD | E26: CANTIDAD DE PERSONAS CAPACITADAS | F26: VALOR INTEGRAL POR PESONA CAPACITADA | G26: TOTAL
A27: ='ESTUDIO DE MERCADO'!A20 -> 11 | B27: ='ESTUDIO DE MERCADO'!B20 -> •9 Profesionales de la salud especializado y calificado con más de 10 años de experiencia en el sector salud, con conocimiento en la Gestión de la Salud Pública y su aplicación práctica, competencias pedagógicas avanzadas de facilitación para el fortalecimiento de capacidades de los actores territoriales, y experiencia demostrada en la formulación, implementación y seguimiento de políticas públicas o lineamientos de orden nacional, asistencia técnica y acompañamiento a entidades territoriales, así como en procesos de organización, inspección, vigilancia y control (IVC) de servicios de salud a nivel departamental y municipal. Ampara de manera integral los gastos de transferencia y permanencia de los expertos externos requeridos para las dos (2) jornadas completas del evento, incluyendo tiquetes/transporte, alojamiento itinerante, así como el soporte logístico de ayudas audiovisuales y elementos didácticos necesarios para la ejecución presencial • Equipo de Apoyo Logístico Técnico: Personal operativo encargado de la coordinación del evento, control de entornos seguros y asistencia en el desarrollo de la jornada. • Auditorio por 8 horas horas por dos dias con capacidad para trecientas venite (320) personas, dotado con ayudas audiovisuales, sillas, mesas y conectividad para el desarrollo del evento • Caja de herramientas por participante: Material técnico operativo, guías metodológicas de soporte conceptual para la capacitación, memorias del evento. • Transporte para traslado de personal, materiales e insumos para la realización del congreso. • Elaboración, impresión y entrega de certificado de asistencia o participación a cada uno de los asistentes que cumplan con los requisitos establecidos para su expedición. | C27: ='ESTUDIO DE MERCADO'!C20 -> Persona capacitada | D27: ='ESTUDIO DE MERCADO'!D20 -> 1 | E27: 320 | F27: =MIN('ESTUDIO DE MERCADO'!F20,'ESTUDIO DE MERCADO'!H20,'ESTUDIO DE MERCADO'!J20) -> 625000 | G27: =F27*E27 -> 200000000
A28: SUBTOTAL | G28: =SUM(G27) -> 200000000
A29: TOTAL | G29: =SUM(G28) -> 200000000
A31: Actividad 3: IMPLEMENTACION DE LAS ACCIONES DE SALUD PUBLICA DEL PLAN DE ACCION EN SALUD PAS 2026 DE LA SECRETARIA LOCAL DE SALUD – MUNICIPIO DE VALLEDUPAR
A32: Realizar una (1) campaña para la prevención de emergencias ocasionadas por polvora y las intoxicaciones por sustancias peligrosas.
A33: ITEM | B33: DESCRIPCIÓN TÉCNICA | C33: UNIDAD DE MEDIDA | D33: UNIDAD | E33: CANTIDAD DE PERSONAS CAPACITADAS | F33: VALOR INTEGRAL POR PESONA CAPACITADA | G33: TOTAL
A34: 1.- Actividad de lanzamiento
A35: ='ESTUDIO DE MERCADO'!A21 -> 12 | B35: ='ESTUDIO DE MERCADO'!B21 -> Difusión de Rutas de prevención: Guía informativa para la orientación comunitaria en la prevención de riesgos por pirotecnia e intoxicaciones. media carta full color. | C35: ='ESTUDIO DE MERCADO'!C21 -> Unidad | D35: ='ESTUDIO DE MERCADO'!D21 -> 1 | E35: 1000 | F35: =MIN('ESTUDIO DE MERCADO'!F21,'ESTUDIO DE MERCADO'!H21,'ESTUDIO DE MERCADO'!J21) -> 4000 | G35: =F35*E35 -> 4000000
A36: ='ESTUDIO DE MERCADO'!A22 -> 13 | B36: ='ESTUDIO DE MERCADO'!B22 -> Despliegue de Acciones Lúdico-Pedagógicas: Producción, montaje e implementación de obras de teatro ( 2 obras - 5 personas), obras artísticas urbanas (2 obras - 8 personas) y 1 actividad cultural (6 personas) para la transferencia de mensajes de prevención de emergencias ocasionadas por polvora y las intoxicaciones por sustancias peligrosas. | C36: ='ESTUDIO DE MERCADO'!C22 -> Presentación | D36: ='ESTUDIO DE MERCADO'!D22 -> 1 | E36: 1 | F36: =MIN('ESTUDIO DE MERCADO'!F22,'ESTUDIO DE MERCADO'!H22,'ESTUDIO DE MERCADO'!J22) -> 12095766 | G36: =F36*E36 -> 12095766
A37: ='ESTUDIO DE MERCADO'!A23 -> 14 | B37: ='ESTUDIO DE MERCADO'!B23 -> Estructuras Pedagógicas Visuales Portátiles 2x1 mt: Paneles gráficos verticales desarmables para la ilustración esquemática de prevención frente a eventos por intoxicaciones. | C37: ='ESTUDIO DE MERCADO'!C23 -> Paneles | D37: ='ESTUDIO DE MERCADO'!D23 -> 1 | E37: 3 | F37: =MIN('ESTUDIO DE MERCADO'!F23,'ESTUDIO DE MERCADO'!H23,'ESTUDIO DE MERCADO'!J23) -> 450000 | G37: =F37*E37 -> 1350000
A38: ='ESTUDIO DE MERCADO'!A24 -> 15 | B38: ='ESTUDIO DE MERCADO'!B24 -> Tableros de Simulación Lúdico-Comportamental para la Prevención de Emergencias de Origen Químico y Pirotécnico: Suministro de plataformas didácticas de mesa portátiles destinadas a la apropiación del conocimiento y cambio conductual en el núcleo familiar. El instrumento utiliza la lúdica aplicada mediante juego secuencial (tipo parqués/escaleras 6 puestos) donde cada estación o casilla evalúa situaciones de riesgo real en el entorno doméstico. Incluye la diagramación técnica de mensajes de preevención de emergencias ocasionadas por polvora y las intoxicaciones por sustancias peligrosas. | C38: ='ESTUDIO DE MERCADO'!C24 -> Unidad | D38: ='ESTUDIO DE MERCADO'!D24 -> 1 | E38: 500 | F38: =MIN('ESTUDIO DE MERCADO'!F24,'ESTUDIO DE MERCADO'!H24,'ESTUDIO DE MERCADO'!J24) -> 35000 | G38: =F38*E38 -> 17500000
A39: ='ESTUDIO DE MERCADO'!A25 -> 16 | B39: ='ESTUDIO DE MERCADO'!B25 -> Estrategia Operativa Movilización Social : Servicio de carro valla de perifoneo para Valledupar, por 6 horas al día (incluye: perifoneo y difusión de pieza gráfica informativa de prevención, conductor y mantenimiento del vehículo) por un mes | C39: ='ESTUDIO DE MERCADO'!C25 -> Unidad | D39: ='ESTUDIO DE MERCADO'!D25 -> 1 | E39: 1 | F39: =MIN('ESTUDIO DE MERCADO'!F25,'ESTUDIO DE MERCADO'!H25,'ESTUDIO DE MERCADO'!J25) -> 2700000 | G39: =F39*E39 -> 2700000
A40: ='ESTUDIO DE MERCADO'!A26 -> 17 | B40: ='ESTUDIO DE MERCADO'!B26 -> Personal de Apoyo Logístico Territorial: Auxiliares operativos encargados del control de flujos de asistencia, avanzada en campo y soporte organizativo del lanzamiento. Incluye transporte interno. | C40: ='ESTUDIO DE MERCADO'!C26 -> Persona | D40: ='ESTUDIO DE MERCADO'!D26 -> 1 | E40: 4 | F40: =MIN('ESTUDIO DE MERCADO'!F26,'ESTUDIO DE MERCADO'!H26,'ESTUDIO DE MERCADO'!J26) -> 150000 | G40: =F40*E40 -> 600000
A41: SUBTOTAL | G41: =SUM(G35:G40) -> 38245766
A42: 2.- Actividades de movilización social
A43: ='ESTUDIO DE MERCADO'!A27 -> 18 | B43: ='ESTUDIO DE MERCADO'!B27 -> Jornadas Itinerantes teatrales: Despliegue de encuentros lúdicos interactivos micro-territoriales para desarrollar en zonas estratégicas y semáforos para la transferencia de mensajes de prevención del uso de la pólvora, con zanqueros, mimos, payasos y personajes caracterizados y/o infantiles. (7 personas) | C43: ='ESTUDIO DE MERCADO'!C27 -> Jornada | D43: ='ESTUDIO DE MERCADO'!D27 -> 1 | E43: 12 | F43: =MIN('ESTUDIO DE MERCADO'!F27,'ESTUDIO DE MERCADO'!H27,'ESTUDIO DE MERCADO'!J27) -> 2500000 | G43: =F43*E43 -> 30000000
A44: ='ESTUDIO DE MERCADO'!A28 -> 19 | B44: ='ESTUDIO DE MERCADO'!B28 -> Alquiler de sistemas de sonido portátil con micrófonos inalámbricos y/o solapa indispensables para garantizar la cobertura de las jornadas extramurales. | C44: ='ESTUDIO DE MERCADO'!C28 -> Jornada | D44: ='ESTUDIO DE MERCADO'!D28 -> 1 | E44: 12 | F44: =MIN('ESTUDIO DE MERCADO'!F28,'ESTUDIO DE MERCADO'!H28,'ESTUDIO DE MERCADO'!J28) -> 800000 | G44: =F44*E44 -> 9600000
A45: ='ESTUDIO DE MERCADO'!A29 -> 20 | B45: ='ESTUDIO DE MERCADO'!B29 -> Tableros de Simulación Lúdico-Comportamental para la Prevención de Emergencias de Origen Químico y Pirotécnico: Suministro de plataformas didácticas de mesa portátiles destinadas a la apropiación del conocimiento y cambio conductual en el núcleo familiar. El instrumento utiliza la lúdica aplicada mediante juego secuencial (tipo parqués/escaleras 6 puestos) donde cada estación o casilla evalúa situaciones de riesgo real en el entorno doméstico. Incluye la diagramación técnica de mensajes de preevención de emergencias ocasionadas por polvora y las intoxicaciones por sustancias peligrosas. | C45: ='ESTUDIO DE MERCADO'!C29 -> Unidad | D45: ='ESTUDIO DE MERCADO'!D29 -> 1 | E45: 1100 | F45: =MIN('ESTUDIO DE MERCADO'!F29,'ESTUDIO DE MERCADO'!H29,'ESTUDIO DE MERCADO'!J29) -> 35000 | G45: =F45*E45 -> 38500000
A46: ='ESTUDIO DE MERCADO'!A30 -> 21 | B46: ='ESTUDIO DE MERCADO'!B30 -> Servicio de carro valla y/o publicidad de perifoneo para Valledupar y sus corregimientos 6 horas al día, para el despliegue itinerante de información en audio y soporte visual móvil con mensajes de prevención de emergencias ocasionadas por polvora y las intoxicaciones por sustancias peligrosas. Inclluye conductor y mantenimiento del vehiculo | C46: ='ESTUDIO DE MERCADO'!C30 -> Perifoneo | D46: ='ESTUDIO DE MERCADO'!D30 -> 1 | E46: 12 | F46: =MIN('ESTUDIO DE MERCADO'!F30,'ESTUDIO DE MERCADO'!H30,'ESTUDIO DE MERCADO'!J30) -> 2000000 | G46: =F46*E46 -> 24000000
...
