Workbook
Name \0: #REF!
Name \00: #REF!
Name \a: #REF!
Name \a: [1]PJ!#REF!
Name \a: #REF!
Name \AA: [2]LIQUIDACION!#REF!
Name \b: [3]STRSUMM0!#REF!
Name \bb: [3]STRSUMM0!#REF!
Name \E: #REF!
Name \EE: #REF!
Name \G: #REF!
Name \k: '[4]7422CW00'!#REF!
Name \L: #REF!
Name \l: [5]STRSUMM0!#REF!
Name \M: #REF!
Name \ñ: '[6]7422CW00'!#REF!
Name \P: #REF!
Name \P: #REF!
Name \R: #REF!
Name \s: #REF!
Name \s: #REF!
Name \V: #REF!
Name \X: 'INDICAR CÓDIGO DEL ITEM DE PAGO'!ERR
Name \X: [0]!ERR
Name \Z: 'INDICAR CÓDIGO DEL ITEM DE PAGO'!ERR
Name \Z: [0]!ERR
Name _________AFC1: [7]INV!$A$25:$D$28
Name _________AFC3: [7]INV!$F$25:$I$28
Name _________AFC5: [7]INV!$K$25:$N$28
Name _________BGC1: [7]INV!$A$5:$D$8
Name _________BGC3: [7]INV!$F$5:$I$8
Name _________BGC5: [7]INV!$K$5:$N$8
Name _________CAC1: [7]INV!$A$19:$D$22
Name _________CAC3: [7]INV!$F$19:$I$22
Name _________CAC5: [7]INV!$K$19:$N$22
Name _________PJ50: #REF!
Name _________PJ50: #REF!
Name _________SBC1: [7]INV!$A$12:$D$15
Name _________SBC3: [7]INV!$F$12:$I$15
Name _________SBC5: [7]INV!$K$12:$N$15
Name ________AFC1: [7]INV!$A$25:$D$28
Name ________AFC3: [7]INV!$F$25:$I$28
Name ________AFC5: [7]INV!$K$25:$N$28
Name ________BGC1: [7]INV!$A$5:$D$8
Name ________BGC3: [7]INV!$F$5:$I$8
Name ________BGC5: [7]INV!$K$5:$N$8
Name ________CAC1: [7]INV!$A$19:$D$22
Name ________CAC3: [7]INV!$F$19:$I$22
Name ________CAC5: [7]INV!$K$19:$N$22
Name ________MA2: #REF!
Name ________MA2: #REF!
Name ________PJ50: #REF!
Name ________PJ50: #REF!
Name ________SBC1: [7]INV!$A$12:$D$15
Name ________SBC3: [7]INV!$F$12:$I$15
Name ________SBC5: [7]INV!$K$12:$N$15
Name _______AFC1: [7]INV!$A$25:$D$28
Name _______AFC3: [7]INV!$F$25:$I$28
Name _______AFC5: [7]INV!$K$25:$N$28
Name _______BGC1: [7]INV!$A$5:$D$8

Sheet PRESUPUESTO OFICIAL (Entidad)
C3: Formulario 1 - Propuesta económica - Documento tipo de selección abreviada de menor cuantía - versión 1
C4: Versión: 1 del 21 de agosto de 2025
C9: FORMULARIO 1
C10: PRESUPUESTO OFICIAL
C11: [La entidad puede utilizar este formulario de detalle del presupuesto oficial para determinar las condiciones bajo las cuales los proponentes analizarán y presentarán su propuesta económica de forma detallada, sin perjuicio que la entidad pueda modificarlo o establecer la presentación de la oferta económica con un formulario distinto al indicado.]
C13: Adicionalmente, cuando el proceso de contratación es estructurado por precios unitarios, la Entidad debe aplicar las notas 1, 2 y 3 del presente formulario y las casillas de "Descripción", "Porcentaje" de la Administración, Imprevisto, Utilidad y total A.I.U. resaltadas en colo amarillo. Tratándose de otras modalidades de precio, la Entidad puede o no configurar los mismos aspectos.
C14: Nº | D14: ITEM DE PAGO | E14: DESCRIPCION | F14: UND. | G14: CANTIDAD | H14: VALOR UNITARIO | I14: VALOR TOTAL
C16: 1 | D16: EXCAVACIONES
D17: 1.01 | E17: Excavaciones a mano en material común para cimentación (Incluye retiro) | F17: M3 | G17: =+'MEMORIA DE CANTIDADES'!J15 -> 77.05 | H17: =+'INDICAR CÓDIGO DEL ITEM DE PAGO'!O66 -> 43497 | I17: =+ROUND(H17*G17,2) -> 3351443.9
C18: Subtotal | I18: =SUM(I17) -> 3351443.9
C19: 2 | D19: CIMENTACIÓN
D20: 2.01 | E20: Concreto de 3000 psi (210 kg/cm²) para Cimentación | F20: M3 | G20: =+'MEMORIA DE CANTIDADES'!J25 -> 5.7 | H20: =+'INDICAR CÓDIGO DEL ITEM DE PAGO'!O147 -> 1110487.7 | I20: =+ROUND(H20*G20,2) -> 6329779.8
D21: 2.02 | E21: Concreto ciclópeo de 0.30x0.20 de 3000 psi. (210kg/cm²) | F21: M3 | G21: =+'MEMORIA DE CANTIDADES'!J37 -> 3.9 | H21: =+'INDICAR CÓDIGO DEL ITEM DE PAGO'!O227 -> 748512.18 | I21: =+ROUND(H21*G21,2) -> 2919197.5
D22: 2.03 | E22: Placa contrapiso de 0.08 m concreto 3000 psi (210kg/cm²) (Incluye refuerzo malla electrosoldada) | F22: M2 | G22: =+'MEMORIA DE CANTIDADES'!J48 -> 22.6 | H22: =+'INDICAR CÓDIGO DEL ITEM DE PAGO'!O308 -> 117439.2 | I22: =+ROUND(H22*G22,2) -> 2654125.9
D23: 2.04 | E23: Relleno con material seleccionado compactado con rana | F23: M3 | G23: =+'MEMORIA DE CANTIDADES'!J59 -> 5.2 | H23: =+'INDICAR CÓDIGO DEL ITEM DE PAGO'!O388 -> 96791.76 | I23: =+ROUND(H23*G23,2) -> 503317.15
D24: 2.05 | E24: Acero de refuerzo 60.000 psi (4200kg/cm²) para cimentación | F24: KG | G24: =+'MEMORIA DE CANTIDADES'!J70 -> 823.8 | H24: =+'INDICAR CÓDIGO DEL ITEM DE PAGO'!O468 -> 13173.71 | I24: =+ROUND(H24*G24,2) -> 10852502
C25: Subtotal | I25: =SUM(I20:I24) -> 23258923
C26: 3 | D26: MAMPOSTERIA
D27: 3.01 | E27: Muro en bloque h-10 o h-9 | F27: M2 | G27: =+'MEMORIA DE CANTIDADES'!J83 -> 125.37 | H27: =+'INDICAR CÓDIGO DEL ITEM DE PAGO'!O546 -> 55989.09 | I27: =+ROUND(H27*G27,2) -> 7019352.2
C28: Subtotal | I28: =SUM(I27) -> 7019352.2
C29: 4 | D29: ESTRUCTURA EN CONCRETO
D30: 4.01 | E30: Viga de amarre superior para caseta (0.12X0.20m); concreto 3000 psi (210kg/cm²), reforzada con 4 varillas de 3/8", estribos de 1/4". | F30: ML | G30: =+'MEMORIA DE CANTIDADES'!J95 -> 71.2 | H30: =+'INDICAR CÓDIGO DEL ITEM DE PAGO'!O633 -> 65091.8 | I30: =+ROUND(H30*G30,2) -> 4634536.2
D31: 4.02 | E31: Concreto de 3000 psi (210kg/cm²) para Columnetas de confinamiento y columna Tanque elevado | F31: M3 | G31: =+'MEMORIA DE CANTIDADES'!J107 -> 3.27 | H31: =+'INDICAR CÓDIGO DEL ITEM DE PAGO'!O714 -> 1110487.7 | I31: =+ROUND(H31*G31,2) -> 3631294.7
D32: 4.03 | E32: Acero de refuerzo 60.000 psi (4200kg/cm²) para estructura | F32: KG | G32: =+'MEMORIA DE CANTIDADES'!J119 -> 598.82 | H32: =+'INDICAR CÓDIGO DEL ITEM DE PAGO'!O794 -> 13173.71 | I32: =+ROUND(H32*G32,2) -> 7888681
D33: 4.04 | E33: Placa maciza de e=0.10m concreto 3000 psi (210kg/cm²). Soporte tanque elevado | F33: M2 | G33: =+'MEMORIA DE CANTIDADES'!J130 -> 6.67 | H33: =+'INDICAR CÓDIGO DEL ITEM DE PAGO'!O875 -> 188150.4 | I33: =+ROUND(H33*G33,2) -> 1254963.2
C34: Subtotal | I34: =SUM(I30:I33) -> 17409475
C35: 5 | D35: CUBIERTA
D36: 5.01 | E36: Cubierta fibrocemento, incluye perfil en C PHR C 100x50x15 (1.2mm), pintura de protección | F36: M2 | G36: =+'MEMORIA DE CANTIDADES'!J141 -> 48 | H36: =+'INDICAR CÓDIGO DEL ITEM DE PAGO'!O959 -> 194878.49 | I36: =+ROUND(H36*G36,2) -> 9354167.5
C37: Subtotal | I37: =SUM(I36) -> 9354167.5
C38: 6 | D38: INSTALACIONES SANITARIAS
D39: 6.01 | E39: Suministro e instalación de combo sanitario, (incluye inodoro, lavamanos jabonera, toallero, ducha) | F39: UND | G39: =+'MEMORIA DE CANTIDADES'!J152 -> 10 | H39: =+'INDICAR CÓDIGO DEL ITEM DE PAGO'!O1039 -> 733313.39 | I39: =+ROUND(H39*G39,2) -> 7333133.9
D40: 6.02 | E40: Suministro e instalación de Tubería sanitaria de 4" | F40: ML | G40: =+'MEMORIA DE CANTIDADES'!J164 -> 39 | H40: =+'INDICAR CÓDIGO DEL ITEM DE PAGO'!O1120 -> 35131.17 | I40: =+ROUND(H40*G40,2) -> 1370115.6
D41: 6.03 | E41: Punto sanitario de 4" Sanitario | F41: UND | G41: =+'MEMORIA DE CANTIDADES'!J176 -> 10 | H41: =+'INDICAR CÓDIGO DEL ITEM DE PAGO'!O1203 -> 20260.8 | I41: =+ROUND(H41*G41,2) -> 202608
D42: 6.04 | E42: Suministro e instalación de Tubería sanitaria de 2" | F42: ML | G42: =+'MEMORIA DE CANTIDADES'!J190 -> 30 | H42: =+'INDICAR CÓDIGO DEL ITEM DE PAGO'!O1284 -> 20182.77 | I42: =+ROUND(H42*G42,2) -> 605483.1
D43: 6.05 | E43: Punto sanitario de 2" Lavamanos, Ducha y piso | F43: UND | G43: =+'MEMORIA DE CANTIDADES'!J201 -> 30 | H43: =+'INDICAR CÓDIGO DEL ITEM DE PAGO'!O1367 -> 10405.8 | I43: =+ROUND(H43*G43,2) -> 312174
C44: Subtotal | I44: =SUM(I39:I43) -> 9823514.6
C45: 7 | D45: INSTALACIONES HIDRAULICAS
D46: 7.01 | E46: Suministro e instalación de Red de suministro PVC 1/2" | F46: ML | G46: =+'MEMORIA DE CANTIDADES'!J211 -> 80 | H46: =+'INDICAR CÓDIGO DEL ITEM DE PAGO'!O1448 -> 8232.99 | I46: =+ROUND(H46*G46,2) -> 658639.2
D47: 7.02 | E47: Punto hidráulico sanitario, ducha, lavamanos y tanque | F47: UND | G47: =+'MEMORIA DE CANTIDADES'!J220 -> 40 | H47: =+'INDICAR CÓDIGO DEL ITEM DE PAGO'!O1529 -> 7487.51 | I47: =+ROUND(H47*G47,2) -> 299500.4
D48: 7.03 | E48: Tanque PVC o plástico, 500 litros (normalizado) incluye accesorios necesarios para buen funcionamiento | F48: UND | G48: =+'MEMORIA DE CANTIDADES'!J232 -> 10 | H48: =+'INDICAR CÓDIGO DEL ITEM DE PAGO'!O1611 -> 694274.64 | I48: =+ROUND(H48*G48,2) -> 6942746.4
...

Sheet MEMORIA DE CANTIDADES
B1: NOMBRE PROYECTO: CONSTRUCCIÓN DE UNIDADES SANITARIAS PARA VIVIENDA RURAL DISPERSA
I2: CANTIDAD | J2: 10
I3: FECHA | J3: 46175
B4: MEMORIA DE CALCULO DE LAS CANTIDADES DE OBRA POR UNIDAD SANITARIA
B5: =+'PRESUPUESTO OFICIAL (Entidad)'!D17 -> 1.01 | C5: =+'PRESUPUESTO OFICIAL (Entidad)'!E17 -> Excavaciones a mano en material común para cimentación (Incluye retiro) | I5: UND: | J5: =+'PRESUPUESTO OFICIAL (Entidad)'!F17 -> M3
C7: Excavacion para cimientos | E7: Longitud | F7: Ancho | G7: Profundidad | H7: Subtotal por unidad | I7: NUMERO DE UNIDADES SANITARIAS A CONSTRUIR | J7: SUBTOTAL
E8: m. | F8: m. | G8: m. | H8: =+J5 -> M3 | I8: UND | J8: =+J5 -> M3
C9: Zapata Z1 | E9: 0.9 | F9: 0.9 | G9: 1.06 | H9: =ROUND((+E9*F9*G9),2) -> 0.86 | I9: =+$J$2 -> 10 | J9: =+H9*I9 -> 8.6
C10: Viga cimiento y ciclopeo | E10: 6.5 | F10: 0.3 | G10: 0.4 | H10: =ROUND((+E10*F10*G10),2) -> 0.78 | I10: =+$J$2 -> 10 | J10: =+H10*I10 -> 7.8
C11: Piso | E11: 2.12 | F11: 1.44 | G11: 0.2 | H11: =ROUND((+E11*F11*G11),2) -> 0.61 | I11: =+$J$2 -> 10 | J11: =+H11*I11 -> 6.1
C12: Trampa de grasa | E12: 0.6 | F12: 0.6 | G12: 1.25 | H12: =+E12*F12*G12 -> 0.45 | I12: =+$J$2 -> 10 | J12: =+H12*I12 -> 4.5
C13: Pozo septico y fafa | E13: 2.5 | F13: 1.1 | G13: 1.82 | H13: =+E13*F13*G13 -> 5.005 | I13: =+$J$2 -> 10 | J13: =+H13*I13 -> 50.05
G15: TOTAL UND: | H15: =ROUND(SUM(H9:H14),2) -> 7.71 | I15: TOTAL: | J15: =ROUND(SUM(J9:J14),2) -> 77.05
B17: =+'PRESUPUESTO OFICIAL (Entidad)'!D20 -> 2.01 | C17: =+'PRESUPUESTO OFICIAL (Entidad)'!E20 -> Concreto de 3000 psi (210 kg/cm²) para Cimentación | I17: UND: | J17: m3
C18: Viga cimientos | E18: Longitud | F18: Ancho | G18: Profundidad | H18: Subtotal por unidad | I18: NUMERO DE UNIDADES SANITARIAS A CONSTRUIR | J18: SUBTOTAL
E19: m. | F19: m. | G19: m. | H19: =+J17 -> m3 | I19: UND | J19: =+J17 -> m3
C20: Zapata Z1 | E20: 0.9 | F20: 0.9 | G20: 0.3024 | H20: =+ROUND((E20*F20*G20),2) -> 0.24 | I20: =+$J$2 -> 10 | J20: =+H20*I20 -> 2.4
C21: Viga cimiento | E21: 6.5 | F21: 0.25 | G21: 0.2 | H21: =ROUND((+E21*F21*G21),2) -> 0.33 | I21: =+$J$2 -> 10 | J21: =+H21*I21 -> 3.3
G25: TOTAL UND: | H25: =ROUND(SUM(H20:H24),2) -> 0.57 | I25: TOTAL: | J25: =ROUND(SUM(J20:J24),2) -> 5.7
B28: =+'PRESUPUESTO OFICIAL (Entidad)'!D21 -> 2.02 | C28: =+'PRESUPUESTO OFICIAL (Entidad)'!E21 -> Concreto ciclópeo de 0.30x0.20 de 3000 psi. (210kg/cm²) | I28: UND: | J28: m3
C29: Levante en bloque 0.15 | E29: Longitud | F29: Ancho | G29: Profundidad | H29: Subtotal por unidad | I29: NUMERO DE UNIDADES SANITARIAS A CONSTRUIR | J29: SUBTOTAL
E30: m. | F30: m. | G30: m. | H30: =+J28 -> m3 | I30: UND | J30: =+J28 -> m3
C31: Viga Ciclópeo | E31: 6.5 | F31: 0.3 | G31: 0.2 | H31: =+ROUND((E31*F31*G31),2) -> 0.39 | I31: =+$J$2 -> 10 | J31: =+H31*I31 -> 3.9
G37: TOTAL UND: | H37: =ROUND(SUM(H31:H36),2) -> 0.39 | I37: TOTAL: | J37: =ROUND(SUM(J31:J36),2) -> 3.9
B39: =+'PRESUPUESTO OFICIAL (Entidad)'!D22 -> 2.03 | C39: =+'PRESUPUESTO OFICIAL (Entidad)'!E22 -> Placa contrapiso de 0.08 m concreto 3000 psi (210kg/cm²) (Incluye refuerzo malla electrosoldada) | I39: UND: | J39: =+'PRESUPUESTO OFICIAL (Entidad)'!F22 -> M2
C40: =+C39 -> Placa contrapiso de 0.08 m concreto 3000 psi (210kg/cm²) (Incluye refuerzo malla electrosoldada) | E40: Longitud | F40: Ancho | H40: Subtotal por unidad | I40: NUMERO DE UNIDADES SANITARIAS A CONSTRUIR | J40: SUBTOTAL
E41: m. | F41: m. | H41: =+J39 -> M2 | I41: UND | J41: =+J39 -> M2
C42: Piso interno | E42: 1.88 | F42: 1.2 | H42: =ROUND((+E42*F42),2) -> 2.26 | I42: =+$J$2 -> 10 | J42: =+H42*I42 -> 22.6
G48: TOTAL UND: | H48: =ROUND(SUM(H42:H47),2) -> 2.26 | I48: TOTAL: | J48: =ROUND(SUM(J42:J47),2) -> 22.6
B50: =+'PRESUPUESTO OFICIAL (Entidad)'!D23 -> 2.04 | C50: =+'PRESUPUESTO OFICIAL (Entidad)'!E23 -> Relleno con material seleccionado compactado con rana | I50: UND: | J50: =+'PRESUPUESTO OFICIAL (Entidad)'!F23 -> M3
C51: =+C50 -> Relleno con material seleccionado compactado con rana | E51: Longitud | F51: Ancho | G51: Profundidad | H51: Subtotal por unidad | I51: NUMERO DE UNIDADES SANITARIAS A CONSTRUIR | J51: SUBTOTAL
E52: m. | F52: m. | G52: m. | H52: =+J50 -> M3 | I52: UND | J52: =+J50 -> M3
C53: Piso interno | E53: 1.88 | F53: 1.38 | G53: 0.2 | H53: =ROUND((+E53*F53*G53),2) -> 0.52 | I53: =+$J$2 -> 10 | J53: =+H53*I53 -> 5.2
G59: TOTAL UND: | H59: =ROUND(SUM(H53:H58),2) -> 0.52 | I59: TOTAL: | J59: =ROUND(SUM(J53:J58),2) -> 5.2
B61: =+'PRESUPUESTO OFICIAL (Entidad)'!D24 -> 2.05 | C61: =+'PRESUPUESTO OFICIAL (Entidad)'!E24 -> Acero de refuerzo 60.000 psi (4200kg/cm²) para cimentación | I61: UND: | J61: =+'PRESUPUESTO OFICIAL (Entidad)'!F24 -> KG
C62: =+C61 -> Acero de refuerzo 60.000 psi (4200kg/cm²) para cimentación | E62: Longitud | F62: # | G62: Peso | H62: Subtotal por unidad | I62: NUMERO DE UNIDADES SANITARIAS A CONSTRUIR | J62: SUBTOTAL
E63: m. | F63: UND | G63: kg | H63: =+J61 -> KG | I63: UND | J63: =+J61 -> KG
C64: Zapata Z1 | E64: 1.06 | F64: 10 | G64: 0.99 | H64: =+E64*F64*G64 -> 10.494 | I64: =+$J$2 -> 10 | J64: =+G64*E64*F64*I64 -> 104.94
C65: Viga cimiento Longitudinal | E65: 10.42 | F65: 4 | G65: 0.99 | H65: =+E65*F65*G65 -> 41.2632 | I65: =+$J$2 -> 10 | J65: =+H65*I65 -> 412.632
C66: Viga cimiento Transversal | E66: 0.58 | F66: =20+22+42 -> 84 | G66: 0.56 | H66: =+E66*F66*G66 -> 27.2832 | I66: =+$J$2 -> 10 | J66: =+H66*I66 -> 272.832
...

Sheet INDICAR CÓDIGO DEL ITEM DE PAGO
C3: Formulario 1 - Propuesta económica - Documento tipo de selección abreviada de menor cuantía
C4: Versión: 1 del 21 de agosto de 2025
E8: MUNICIPIO DE BARICHARA
L9: VERSIÓN
L11: PÁGINA | M11: 1 | N11: DE | O11: X
E13: ANALISIS DE PRECIOS UNITARIOS
L15: FECHA | M15: DD | N15: MM | O15: AA
M16: 2 | N16: 6 | O16: 2026
C20: DATOS ESPECÍFICOS
C22: ITEM | D22: DESCRIPCIÓN | M22: UNIDAD | O22: CANTIDAD
C23: =+'PRESUPUESTO OFICIAL (Entidad)'!D17 -> 1.01 | D23: =+'PRESUPUESTO OFICIAL (Entidad)'!E17 -> Excavaciones a mano en material común para cimentación (Incluye retiro) | M23: =+'PRESUPUESTO OFICIAL (Entidad)'!F17 -> M3 | O23: =+'PRESUPUESTO OFICIAL (Entidad)'!G17 -> 77.05
C24: I. EQUIPO
C27: DESCRIPCIÓN | H27: MARCA | J27: TIPO | L27: TARIFA/HORA | M27: RENDIMIENTO | O27: Vr. UNITARIO
C28: HERRAMIENTA MENOR | J28: % | L28: =+O54 -> 16200 | M28: 0.1 | O28: =+ROUND(L28*M28,2) -> 1620
C31: SUBTOTAL $ | O31: =SUM(O28:O30) -> 1620
C32: II. MATERIALES
C35: DESCRIPCIÓN | K35: UNIDAD | L35: CANTIDAD | M35: PRECIO UNIT. | O35: Vr. UNITARIO
C38: SUBTOTAL $ | O38: =SUM(O36:O37) -> 0
C39: III. TRANSPORTES
C42: MATERIAL | J42: VOL. o PESO | K42: DISTANCIA | L42: M3 o Ton/Km | M42: TARIFA | O42: Vr. UNITARIO
C43: Volqueta | J43: 1 | K43: 8 | L43: m3/km | M43: 1800 | O43: =M43*K43*J43 -> 14400
C45: SUBTOTAL $ | O45: =SUM(O43:O44) -> 14400
C46: IV. MANO DE OBRA
C49: TRABAJADOR | J49: JORNAL | K49: PRESTACIONES | L49: JORNAL TOTAL | M49: RENDIMIENTO | O49: Vr. UNITARIO
C50: M.O. 2 AYUDANTES | J50: 180000 | K50: 1.8 | L50: =ROUND(K50*J50,2) -> 324000 | M50: 20 | O50: =+ROUND(L50/M50,2) -> 16200
C54: SUBTOTAL $ | O54: =SUM(O50:O53) -> 16200
C56: TOTAL COSTO DIRECTO $ | O56: =ROUND(O54+O45+O38+O31,2) -> 32220
C57: V. COSTOS INDIRECTOS
C60: Descripción | L60: Porcentaje | M60: Valor Total
C61: ADMINISTRACION | L61: 0.29 | M61: =+ROUND(O56*L61,2) -> 9343.8
C62: IMPREVISTOS | L62: 0.01 | M62: =+ROUND(O56*L62,2) -> 322.2
C63: UTILIDAD | L63: 0.05 | M63: =+ROUND(O56*L63,2) -> 1611
C64: SUBTOTAL $ | O64: =SUM(M61:N63) -> 11277
C66: Precio Unitario Total Aproximado al peso $ | O66: =+O64+O56 -> 43497
H70: Elaboro
H73: ________________________________________________
H74: ING. JAIRO ANDRES QUINTERO PEÑALOZA
H75: Secretario de Infraestructura y Obras Públicas
C81: Formulario 1 - Propuesta económica - Documento tipo de selección abreviada de menor cuantía
C82: Versión: 1 del 21 de agosto de 2025
...

Sheet PROPUESTA ECONOMICA(Proponente)
C3: Formulario 1 - Propuesta económica - Documento tipo de selección abreviada de menor cuantía - versión 1
C4: Versión: 1 del 21 de agosto de 2025
C6: FORMULARIO 1
C7: PROPUESTA ECONOMICA
C8: [La entidad puede utilizar este formulario de detalle del presupuesto oficial para determinar las condiciones bajo las cuales los proponentes analizarán y presentarán su propuesta económica de forma detallada, sin perjuicio que la entidad pueda modificarlo o establecer la presentación de la oferta económica con un formulario distinto al indicado.]
C10: Adicionalmente, cuando el proceso de contratación es estructurado por precios unitarios, la Entidad debe aplicar las notas 1, 2 y 3 del presente formulario y las casillas de "Descripción", "Porcentaje" de la Administración, Imprevisto, Utilidad y total A.I.U. resaltadas en colo amarillo. Tratándose de otras modalidades de precio, la Entidad puede o no configurar los mismos aspectos.
C11: Nº | D11: ITEM DE PAGO | E11: ESPECIFICACIONES | G11: DESCRIPCION | H11: UND. | I11: CANTIDAD | J11: VALOR UNITARIO | K11: VALOR TOTAL
E12: GENERAL | F12: PARTICULAR
C13: BOXCULVER VEREDA GUAYABAL SECTOR QUEBRADA EL GUASIMO
C14: 1 | D14: PRELIMINARES | P14: n
D15: 1.1 | G15: Excavación en material común, a mano. | H15: M3 | I15: 20
D16: 1.2 | G16: Excavación en material común en roca | H16: M3 | I16: 13.5
D17: 1.3 | G17: Retiro de material sobrante. | H17: M3 | I17: =+I15 -> 20
D18: 1.4 | G18: Relleno en material común compactado manualmente | H18: M3 | I18: 50
C19: Subtotal | K19: =SUM(K15:K18) -> 0
C20: 2 | D20: OBRA CIVIL
D21: 2.1 | G21: Acero de Refuerzo 420 Mpa (incluye figurado y amarre) | H21: KG | I21: 228
D22: 2.2 | G22: Concreto de 210 Kg/cm² | H22: M3 | I22: 9.15
D23: 2.3 | G23: Concreto Resistencia 14MPa (G) (Ciclopeo) | H23: M3 | I23: 8
C24: Subtotal | K24: =+SUM(K21:K23) -> 0 | N24: =+K24+K19 -> 0
C25: ALCANTARILLA VEREDA GUAYABAL SECTOR EL GUAMAL
C26: 3 | D26: PRELIMINARES
D27: 3.1 | G27: Excavación en material común, a mano. | H27: M3 | I27: 51.08
D28: 3.2 | G28: Excavación en material común en roca | H28: M3 | I28: 5.11
D29: 3.3 | G29: Relleno en material común compactado manualmente | H29: M3 | I29: 22.18
D30: 3.4 | G30: Retiro de material sobrante. | H30: M3 | I30: 10
C31: Subtotal | K31: =SUM(K27:K30) -> 0
C32: 4 | D32: OBRA CIVIL
D33: 4.1 | G33: Suministro e Instalación Tubería de Concreto Reforzado 21 Mpa de 900 mm de diametro interior | H33: ML | I33: 5
D34: 4.2 | G34: Concreto de 210 Kg/cm² | H34: M3 | I34: 10.88
D35: 4.3 | G35: Concreto Resistencia 14MPa (G) (Ciclopeo) | H35: M3 | I35: 1.5
D36: 4.4 | G36: Acero de Refuerzo PDR-60 | H36: KG | I36: 66.81168
C37: Subtotal | K37: =SUM(K33:K36) -> 0
C38: SUBTOTAL OBRAS (INCLUYE IVA) | K38: =+K37+K31+K24+K19 -> 0
C40: VALOR TOTAL | K40: =+K38 -> 0
C43: NOTA 1: Se debe tener en cuenta que el PRECIO UNITARIO incluye el valor de A.I.U. | H43: DESCRIPCION | K43: PORCENTAJE
C44: NOTA 2: Cuando la fracción decimal del peso sea igual o superior a 5 se aproximara por exceso al número entero siguiente del peso y cuando la fracción decimal del peso sea inferior a 5 se aproximará por defecto al número entero del peso. | H44: ADMINISTRACION | J44: A= | K44: 0.29
C45: NOTA 3: El A.I.U y su discriminación deben estar en porcentaje (%). | H45: IMPREVISTO | J45: I= | K45: 0.01
H46: UTILIDAD | J46: U= | K46: 0.05
H47: TOTAL A.I.U | J47: A.I.U.= | K47: =+K46+K45+K44 -> 0.35
...
