Workbook

Sheet Presupuesto Propuesto
I1: DIRECCIONAMIENTO ESTRATÉGICO Y ARTICULACIÓN GERENCIAL | Q1: Código | U1: E-DEAG-FR-137
Q3: Versión | U3: 3
I4: PRESUPUESTO PROYECTOS ESPECIFICOS DE INFRAESTRUCTURA
Q5: Fecha | U5: 45707
A8: SECRETARÍA - ENTIDAD / MUNICIPIO
A9: NOMBRE DEL PROYECTO | G9: REHABILITACIÓN DE LA MALLA VIAL MEDIANTE LA REPOSICIÓN DEL PAVIMENTO Y OBRAS COMPLEMENTARIAS EN EL MUNICIPIO DE PUERTO SALGAR, CUNDINAMARCA
A11: LÍNEA ESTRATÉGICA | B11: SECTOR | C11: PROGRAMA | D11: APUESTA | E11: No. Y DESCERPICIÓN META DE PRODUCTO DEL PDD | F11: OBJETIVO ESPECIFICO DEL PROYECTO | G11: CÓDIGO DNP Y NOMBRE DEL PRODUCTO | H11: ACTIVIDADES | I11: TOTALES | K11: Especificación O Norma Técnica | L11: Ítem de Pago | M11: AÑO 2025 | Q11: FUENTES FINANCIACIÓN AÑO 2026 ($) | U11: TOTAL COSTO DIRECTO ($) | V11: TOTAL COSTO CON A.I.U. ($)
I12: UNIDAD DE MEDIDA | J12: CANTIDAD | M12: UNIDAD DE MEDIDA | N12: CANTIDAD | O12: V/R UNITARIO ($) | P12: V/R TOTAL ($) | Q12: DEPARTAMENTO | R12: NACIÓN | S12: SGP | T12: MUNICIPIO
A13: INNOVACIÓN Y CRECIMIENTO | B13: TRANSPORTE | C13: MEJORAMIENTO INTEGRAL DE LA TRANSITABILIDAD POR LAS VIAS RURALES Y URBANAS E INFRAESTRUCTURA VIAL PUBLICA DEL MUNICIPIO DE PUERTO SALGAR - CUNDINAMARCA | D13: MOVIENDONOS POR PUERTO SALGAR | E13: 307 "REALIZAR 1 KM DE MEJORAMIENTO Y REHABILITACIÓN DE LA MALLA VIAL DEL CASCO URBANO DURANTE EL CUATRIENIO". | F13: REHABILITACIÓN DE LA MALLA VIAL MEDIANTE LA REPOSICIÓN DEL PAVIMENTO Y OBRAS COMPLEMENTARIAS EN EL MUNICIPIO DE PUERTO SALGAR, CUNDINAMARCA | G13: 2024255720017 | H13: CAPITULO 1 - DEMOLICIÓN Y MOVIMIENTO DE TIERRAS
H14: DEMOLICIÓN PLACA MACIZA 0.15 M, INC RETIRO | I14: M2 | J14: =APU!AG55 -> 1.7805 | L14: 1,21 CONST | M14: M2 | N14: =J14 -> 1.7805 | O14: 47422 | P14: =N14*O14 -> 84434.871 | T14: X | U14: =P14 -> 84434.871 | V14: =U14*($N$23+N24+N25+1) -> 112298.38
H15: EXCAVACIÓN MANUAL EN MATERIAL COMÚN H=0.0-2.0 M (INCLUYE RETIRO DE SOBRANTES A UNA DISTANCIA MENOR DE 5 KM) | I15: M3 | J15: =APU!AG111 -> 20.7725 | L15: 16,4 CONST | M15: M3 | N15: =J15 -> 20.7725 | O15: 63372 | P15: =N15*O15 -> 1316394.9 | T15: X | U15: =P15 -> 1316394.9 | V15: =U15*($N$23+N24+N25+1) -> 1750805.2
H16: SUBTOTAL | U16: =SUM(U14:U15) -> 1400829.7 | V16: =SUM(V14:V15) -> 1863103.6
H17: CAPITULO 2 - ESTRUCTURA DE PAVIMENTO
H18: BASE GRANULAR | I18: M3 | J18: =APU!AG167 -> 11.87 | K18: 330.1 | L18: 3,3 VIAS | M18: M3 | N18: =J18 -> 11.87 | O18: 332931 | P18: =N18*O18 -> 3951891 | T18: X | U18: =P18 -> 3951891 | V18: =U18*($N$23+N24+N25+1) -> 5256015
H19: CONCRETO PARA PAVIMENTO RÍGIDO MR-38, INCLUYE SELLADO DE JUNTAS Y ACERO DE TRANSFERENCIA Y UNIÓN | I19: M3 | J19: =APU!AG224 -> 8.9025 | K19: 500.1 | L19: 3,18 VIAS | M19: =+I19 -> M3 | N19: =J19 -> 8.9025 | O19: 1056020 | P19: =N19*O19 -> 9401218.1 | T19: X | U19: =P19 -> 9401218.1 | V19: =U19*($N$23+N24+N25+1) -> 12503620
H20: SUBTOTAL | U20: =SUM(U18:U19) -> 13353109 | V20: =SUM(V18:V19) -> 17759635
A22: VALOR COSTO DIRECTO | U22: =U20+U16 -> 14753939
A23: ADMINISTRACIÓN | M23: % | N23: ='A.I.U'!H60 -> 0.2986 | U23: =ROUND(U22*N23,2) -> 4405526.1
A24: IMPREVISTOS | M24: % | N24: ='A.I.U'!H61 -> 0.01 | U24: =ROUND(U22*N24,2) -> 147539.39
A25: UTILIDAD | M25: % | N25: ='A.I.U'!H62 -> 0.0214 | U25: =ROUND(U22*N25,2) -> 315734.29
A26: IVA SOBRE LA UTILIDAD | M26: % | N26: 0.19 | U26: =ROUND(U25*N26,2) -> 59989.52
A27: VALOR TOTAL OBRA CIVIL | U27: =SUM(U22:U26) -> 19682728 | V27: =V16+V20+U26 -> 19682728
M29: AJUSTE AL PESO | U29: -0.07 | V29: -0.07
A30: VALOR TOTAL DEL PROYECTO= | U30: =ROUND(SUM(U27:U29),2) -> 19682728 | V30: =ROUND(SUM(V27:V29),2) -> 19682728
A33: PRESUPUESTO ELABORADO POR:
A37: Ing. JORGE HERNAN GIRALDO RODRIGUEZ
A38: PROFESIONAL UNIVERSITARIO SECRETARÍA INFRAESTRUCTURA

Sheet A.I.U
B2: ANALISIS DE COSTOS INDIRECTOS (A.I.U)
B4: NOMBRE DEL PROYECTO
B6: TIEMPO ESTIMADO EJECUCIÓN DE OBRA: | D6: 0.5 | E6: MES
B8: COSTO DIRECTO ESTIMADO DE OBRA (CD) | E8: ='Presupuesto Propuesto'!U22 -> 14753939
B10: ANALISIS DE COSTOS INDIRECTOS
B12: A. ADMINISTRACIÓN
B13: 1. COSTOS MENSUALES DE PERSONAL
B14: # | C14: CARGO | D14: CATEGORÍA | E14: DEDICACIÓN MES | F14: TOPE MÁXIMO SALARIO | G14: FACTOR PRESTACIONAL | H14: SALARIO MÁS PRESTACIONES
B15: A | E15: B | F15: C | G15: D | H15: E = A * B * C * D
B16: 1.1 PERSONAL PROFESIONAL (Ingenieros y Otros)
B17: 1 | C17: DIRECTOR DE OBRA | D17: 4 | E17: 0.5 | F17: 2500000 | G17: 1 | H17: =ROUND(B17*E17*F17*G17,0) -> 1250000
B19: 1.2 PERSONAL TÉCNICO Y PERSONAL AUXILIAR TÉCNICO
B20: 1 | C20: MAESTRO DE OBRA | D20: 6 | E20: 1 | F20: 1800000 | G20: 1 | H20: =ROUND(B20*E20*F20*G20,0) -> 1800000
B21: SUBTOTAL COSTOS MENSUALES DE PERSONAL | H21: =SUM(H17:H20) -> 3050000
B23: 2. GASTOS OPERACIONALES MENSUALES | D23: ÁREA (M2) | E23: DEDICACIÓN | F23: DEDICACIÓN X ÁREA (M2) | G23: COSTO ($/M2.MES | H23: VALOR ($)
B24: ARRIENDO OFICINA INCL. ADMINISTRACIÓN, SERVICIOS PÚBLICOS, COMUNICACIONES
B25: PAPELERIA | H25: 100000
B26: SUBTOTAL GASTOS OPERACIONALES MENSUALES | H26: =SUM(H24:H25) -> 100000
B28: TOTAL COSTOS PERSONAL + GASTOS OPERACIONALES POR EL TÉRMINO DE EJECUCIÓN | H28: =D6*(H21+H26) -> 1575000
B29: TOTAL COSTOS PERSONAL + GASTOS OPERACIONALES POR EL TÉRMINO DE EJECUCIÓN EN PORCENTAJE DEL COSTO DIRECTO | H29: =ROUND(H28/E8,2) -> 0.11
B31: 3. IMPUESTOS Y GARANTÍAS
B32: 3.1 IMPUESTOS
B33: DESCRIPCIÓN | H33: IMPUESTO
B34: RETEFUENTE | G34: 0.02 | H34: =G34*$E$8 -> 295078.78
B35: ESTAMPILLA JUSTICIA FAMILIAR | G35: 0.02 | H35: =G35*$E$8 -> 295078.78
B36: ESTAMPILLA PROCULTURA | G36: 0.02 | H36: =G36*$E$8 -> 295078.78
B37: TASA PRODEPORTE | G37: 0.015 | H37: =G37*$E$8 -> 221309.08
B38: RETEICA | G38: 0.01 | H38: =G38*$E$8 -> 147539.39
B39: ESTAMPILLA PRO-ADULTO MAYOR | G39: 0.04 | H39: =G39*$E$8 -> 590157.55
B40: CONTRIBUCIÓN FONDO DE SEGURIDAD SOBRE CONTRATOS DE OBRA PÚBLICA | G40: 0.05 | H40: =G40*$E$8 -> 737696.94
B41: SUBTOTAL IMPUESTOS | G41: =SUM(G34:G40) -> 0.175 | H41: =SUM(H34:H40) -> 2581939.3
B42: 3.2 GARANTÍAS
B43: DESCRIPCIÓN | D43: VR. BASE | E43: % ASEGURADO | F43: VIGENCIA AMPARO | G43: TASA ASEGURADORA | H43: VALOR ($)
B44: G. ÚNICA | C44: CUMPLIMIENTO | D44: =E8*E44 -> 4426181.6 | E44: 0.3 | F44: Hasta la liquidación del contrato | G44: 0.003 | H44: =(D44*E44)/D6 -> 2655709
C45: SALARIOS Y PRESTACIONES SOCIALES | D45: =E8*E45 -> 4426181.6 | E45: 0.3 | F45: Plazo del contrato y tres (3) años más. | G45: 0.003 | H45: =(D45*E45)/D6 -> 2655709
C46: ESTABILIDAD Y CALIDAD DE OBRA | D46: =E8*E46 -> 4426181.6 | E46: 0.3 | F46: Cinco (5) años contados desde la suscripción del acta de recibo de obra | G46: 0.003 | H46: =(D46*E46)/D6 -> 2655709
B47: R.C.E. | C47: PREDIOS, LABORES Y OPERACIONES - VIGENCIA | D47: =1750905*E47 -> 350181000 | E47: 200 | F47: Igual al periodo de ejecición del contrato | G47: 0.003 | H47: =(D47*G47)/D6 -> 2101086
B48: SUBTOTAL GARANTÍAS | H48: =SUM(H44:H47) -> 10068213
F49: VALOR PÓLIZA | H49: =H48/D6 -> 20136426
B50: SUBTOTAL GARANTÍAS | H50: =ROUND(H49/E8,2) -> 1.36
...

Sheet APU
AB3: COLOMBIA
AB5: CUNDINAMARCA
AB6: PUERTO SALGAR
AB8: ALCALDIA MUNICIPAL DE PUERTO SALGAR
C12: ACTIVIDAD: | H12: ='Presupuesto Propuesto'!H14 -> DEMOLICIÓN PLACA MACIZA 0.15 M, INC RETIRO
C14: ITEM: | E14: ='[1]PRESUPUESTO OBRA'!D12 -> 1,21 CONST | J14: UBICACIÓN: | N14: PUERTO SALGAR | U14: UNIDAD: | X14: ='[1]PRESUPUESTO OBRA'!H12 -> M2 | AB14: DATOS
C16: FOTOGRAFIAS | AB16: LOCALIZACION | AC16: DIMENSIONES | AF16: # DE ELEMENTOS | AG16: TOTAL
AC17: ANCHO | AD17: ESPESOR | AE17: AREA
AB19: Barrio Tres Esquinas - Autopista | AC19: 0.2 | AD19: 0.15 | AE19: 40.8 | AF19: 1 | AG19: =AE19*AF19*AC19*AD19 -> 1.224
AB20: Barrio Gaitan - Corazonista | AC20: 0.2 | AD20: 0.15 | AE20: 8.43 | AF20: 1 | AG20: =AE20*AF20*AC20*AD20 -> 0.2529
AB21: Barrio Nariño | AC21: 0.2 | AD21: 0.15 | AE21: 10.12 | AF21: 1 | AG21: =AE21*AF21*AC21*AD21 -> 0.3036
C53: OBSERVACIONES: | AB53: SUB-TOTAL: | AG53: =SUM(AG18:AG52) -> 1.7805
AB54: VIENE:
AB55: TOTAL: | AG55: =AG53+AG54 -> 1.7805
AB59: COLOMBIA
AB61: CUNDINAMARCA
AB62: PUERTO SALGAR
AB64: ALCALDIA MUNICIPAL DE PUERTO SALGAR
C68: ACTIVIDAD: | H68: ='Presupuesto Propuesto'!H15 -> EXCAVACIÓN MANUAL EN MATERIAL COMÚN H=0.0-2.0 M (INCLUYE RETIRO DE SOBRANTES A UNA DISTANCIA MENOR DE 5 KM)
C70: ITEM: | E70: ='[1]PRESUPUESTO OBRA'!D13 -> 16,4 CONST | J70: UBICACIÓN: | N70: =$N$14 -> PUERTO SALGAR | U70: UNIDAD: | X70: ='[1]PRESUPUESTO OBRA'!H13 -> M3 | AB70: DATOS
C72: FOTOGRAFIAS | AB72: LOCALIZACION | AC72: DIMENSIONES | AF72: # DE ELEMENTOS | AG72: TOTAL
AC73: LARGO | AD73: AREA | AE73: ESESOR
AB75: Barrio Tres Esquinas - Autopista | AD75: 40.8 | AE75: 0.35 | AF75: 1 | AG75: =AE75*AF75*AD75 -> 14.28
AB76: Barrio Gaitan - Corazonista | AD76: 8.43 | AE76: 0.35 | AF76: 1 | AG76: =AE76*AF76*AD76 -> 2.9505
AB77: Barrio Nariño | AD77: 10.12 | AE77: 0.35 | AF77: 1 | AG77: =AE77*AF77*AD77 -> 3.542
C109: OBSERVACIONES: | AB109: SUB-TOTAL: | AG109: =SUM(AG74:AG108) -> 20.7725
AB110: VIENE:
AB111: TOTAL: | AG111: =AG109+AG110 -> 20.7725
AB115: COLOMBIA
AB117: CUNDINAMARCA
AB118: PUERTO SALGAR
AB120: ALCALDIA MUNICIPAL DE PUERTO SALGAR
C124: ACTIVIDAD: | H124: ='Presupuesto Propuesto'!H18 -> BASE GRANULAR
C126: ITEM: | E126: ='[1]PRESUPUESTO OBRA'!D14 -> 3,2 VIAS | J126: UBICACIÓN: | N126: =$N$14 -> PUERTO SALGAR | U126: UNIDAD: | X126: ='[1]PRESUPUESTO OBRA'!H14 -> M3 | AB126: DATOS
C128: FOTOGRAFIAS | AB128: LOCALIZACION | AC128: DIMENSIONES | AF128: # DE ELEMENTOS | AG128: TOTAL
AC129: LARGO | AD129: AREA | AE129: ESESOR
AB131: Barrio Tres Esquinas - Autopista | AD131: 40.8 | AE131: 0.2 | AF131: 1 | AG131: =AE131*AF131*AD131 -> 8.16
AB132: Barrio Gaitan - Corazonista | AD132: 8.43 | AE132: 0.2 | AF132: 1 | AG132: =AE132*AF132*AD132 -> 1.686
AB133: Barrio Nariño | AD133: 10.12 | AE133: 0.2 | AF133: 1 | AG133: =AE133*AF133*AD133 -> 2.024
C165: OBSERVACIONES: | AB165: SUB-TOTAL: | AG165: =SUM(AG130:AG164) -> 11.87
...
