Workbook
Name _1: #REF!
Name _2: #REF!
Name A: #REF!
Name A_impresión_IM: #REF!
Name aaa: #REF!
Name Auxiliarjal: #REF!
Name B: #REF!
Name basecaro: #REF!
Name basejuliet1: #REF!
Name basemetroabril2017: #REF!
Name basemetroabril2017final: #REF!
Name BLOQUE: #REF!
Name cargo: #REF!
Name CLASE: #REF!
Name correoelectronico: #REF!
Name COSTOM2: #REF!
Name Dólar: #REF!
Name epsypension: #REF!
Name Factor: #REF!
Name JJJJ: #REF!
Name lineainstitucional: #REF!
Name mesabril: #REF!
Name nuevosoi: #REF!
Name origenaux: #REF!
Name pagojuliethjunio: #REF!
Name Profesional: #REF!
Name profesionaljal: #REF!
Name SVASFD: #REF!
Name TCRM: #REF!
Name TCRM_al_03_MAYO_2000: #REF!
Name Títulos_a_imprimir_IM: #REF!
Name TOP: #REF!
Name TRM: #REF!

Sheet METODOLOGÍA DE EVALUACIÓN
B2: MUNICIPIO DE LA ESTRELLA
B4: Formato No 3. Condiciones tecnicas adicionales
B5: METODOLOGÍA DE EVALUACIÓN - APLICABLE A TODAS LAS PÓLIZAS
B6: El Asegurado precisa que las condiciones, coberturas, cláusulas, límites y/o plazo indicados a continuación no son de obligatorio ofrecimiento y las aseguradoras participantes tienen la postedad de decidir su ofrecimiento. Para su evaluación se considerarán los siguientes criterios que corresponden a los generales aplicables, por lo tanto en el caso que se estipulen criterios particulares dentro del contenido de las condiciones, estos primarán sobre los generales: Las aseguradoras deben tener en cuenta que el ofrecimiento de condiciones que presten beneficio a la Entidad adicionales a las relacionadas en cada póliza pero que son en exceso a las mismas; no serán objeto de asignación de puntaje adicional a esos exceso y solo evaluables con base en los criterios que esten definidos en cada condición, no obstante la presentación de éstas obliga a la Aseguradora a su otorgamiento en caso de que el contrato le sea adjudicado y el oferente con la firma de la propuesta acepta esta condición.
B7: CONDICIONES ADICIONALES QUE CONTIENEN SOLO TEXTO: | D7: Se otorgará el máximo puntaje asignado a las propuestas que las ofrezcan con el mismo texto y bajo las mismas condiciones o en condiciones superiores en beneficio de la Entidad. Las propuestas que modifiquen el texto, sin que ello conlleve a la pérdida de la aplicabilidad y/u operatividad de la condición, se le asignará el 50% del puntaje y las propuestas que no las ofrezcan se calificarán con cero (0) puntos.
B8: CONDICIONES ADICIONALES QUE APLIQUEN PARA OFERTAS DE LÍMITES Y/O VALORES FIJOS QUE SE REGISTREN EN TABLAS Y/O CONTENGAN RANGOS Y/O VALORES CON BASE EN LOS CUALES SE DEBE EFECTUAR EL OFRECIMIENTO. | D8: Las aseguradoras deben tener en cuenta: 1. Para acceder a calificación, el oferente deberá registrar en forma expresa y de manera clara, el valor y/o límite que ofrece. En aquellos casos que se exprese valores en COL$ o en SMMLV para realizar una evaluación equitativa, se podrá homologar el ofrecimiento a alguna de las dos constantes COL$ o SMMLV. 2. Se otorga el máximo puntaje a la propuesta que dentro del rango o tabla se aproxime al máximo sublímite o plazo requerido y las demas ofertas se calificaran en forma proporcional a la propuesta calificada con el máximo puntaje. 3. En el caso de presentar propuesta por un valor y/o límite diferente al establecido en los rangos de la tabla, se tomará para la asignación de puntaje, el monto y/o límite del rango inmediatamente anterior al del valor ofrecido y el oferente acepta esta condición con la firma de la oferta y, de ser adjudicada la propuesta, expedirá la póliza con el valor indicado en la propuesta.
B9: CONDICIONES ADICIONALES | D9: NOTA: Las aseguradoras deben señalar expresamente en su propuesta las Condiciones Adicionales que ofrece especificando los límites, periodos y demás información necesaria para su evaluación de acuerdo con las condiciones de cada una de ellas, en caso que manifieste "SE OTORGA" ó "SI" u otra expresión que implica que si esta otorgando la condición, pero no está especificado, se entenderá que las mismas fueron ofrecidas al máximo límite, sublímite o periodos o plazos y por lo tanto se asignará el mayor puntaje de esta condición, al límite, sublímite o períodos o plazos requerido y de ser adjudicada la propuesta, la aseguradora expedirá la póliza con las condiciones máximas exigidas de ese criterio en particular.
B10: By: Tiger | G10: VERSIÓN: JUL 2026

Sheet G1. COND ADIC. TRDMC
B3: =+'METODOLOGÍA DE EVALUACIÓN'!B2:G2 -> MUNICIPIO DE LA ESTRELLA
B5: Formato No 3. Condiciones tecnicas adicionales
B7: 1. PÓLIZA DE SEGURO DE TODO RIESGO DAÑOS MATERIALES COMBINADOS
B8: OBJETO DEL SEGURO
B9: Amparar todos los activos (bienes inmuebles y muebles) de propiedad de la MUNICIPIO DE LA ESTRELLA, o aquellos que se encuentren bajo su control, tenencia, responsabilidad o custodia, contra los daños o pérdidas materiales a consecuencia de cualquier riesgo, tanto por eventos internos o externos y en general los recibidos a cualquier título o por los que tenga algún interés asegurable, ubicados en el territorio nacional o por aquellos que por su naturaleza se deban trasladar a nivel mundial, dentro o fuera de las instalaciones del asegurado y/o en predios de terceros o a la intemperie y los utilizados en desarrollo del objeto social de la MUNICIPIO DE LA ESTRELLA
B10: INFORMACIÓN GENERAL:
B11: TOMADOR: | C11: =+B3 -> MUNICIPIO DE LA ESTRELLA | G11: NIT | H11: 890980782-4
B12: ASEGURADO: | C12: =+C11 -> MUNICIPIO DE LA ESTRELLA | G12: =+G11 -> NIT | H12: =+H11 -> 890980782-4
B13: BENEFICIARIO: | C13: =+C11 -> MUNICIPIO DE LA ESTRELLA | G13: =+G12 -> NIT | H13: =+H11 -> 890980782-4
B14: NOTA: | C14: CADA SUBLÍMITE O GASTOS OFRECIDOS EN FORMA ADICIONAL QUEDA CONTEMPLADO DENTRO DEL LÍMITE ASEGURADO.
B15: CRITERIOS DE EVALUACIÓN:
B16: CONDICIÓN REQUERIDA PARA EVALUACIÓN | E16: CRITERIO DE EVALUACIÓN | F16: PUNTAJE ESTABLECIDO | G16: OFRECIMIENTO DEL PROPONENTE | H16: PUNTAJE OBTENIDO POR EL PROPONENTE
B17: GASTOS ADICIONALES. Sublímite del 20% sobre el valor asegurado. sin aplicación de deducible y combinado para los siguientes gastos y coberturas. Incluido en el valor asegurado NOTA: Solo se acepta propuesta en los límites señados en los siguientes rangos. Ofrecimientos de otros valores diferentes serán evaluados con cero (0) puntos), excepto que sea superior al último rango. | D17: PUNTOS AL MAYOR VALOR DENTRO DEL RANGO | E17: Se califica el aumento adicional del sublímite Hasta un monto total de 40% incluido el básico | F17: 8
B18: Límite adicional al básico mayor a 5% y hasta 10% | D18: 3
B19: Límite adicional al básico mayor a 10% y hasta 15% | D19: 5
B20: Límite adicional al básico mayor a 15% y hasta 20% | D20: 8
B21: GASTOS EXTRAORDINARIOS.Sin aplicación de deducible. Sublimite $1.000.000.000 NOTA: Solo se acepta propuesta en los límites señados en los siguientes rangos. Ofrecimientos de otros valores diferentes serán evaluados con cero (0) puntos), excepto que sea superior al último rango. | D21: PUNTOS AL MAYOR VALOR DENTRO DEL RANGO | E21: Se califica el aumento adicional del sublímite Hasta un monto total de $2.000.000.000 incluido el básico | F21: 8
B22: Límite adicional al básico mayor a $100.000.000 y hasta $300.000.000: | D22: 2
B23: Límite adicional al básico mayor a $300.000.000 y hasta $500.000.000: | D23: 4
B24: Límite adicional al básico mayor a $500.000.000 y hasta $800.000.000: | D24: 6
B25: Límite adicional al básico mayor a $800.000.000 y hasta $1.000.000.000: | D25: 8
B26: RENUNCIA A LA APLICACIÓN DE SEGURO INSUFICIENTE Y/O INFRASEGURO Siempre y cuando la diferencia entre el valor asegurado y el valor asegurable no sea superior al 30%. NOTA: Solo se acepta propuesta en los límites señados en los siguientes rangos. Ofrecimientos de otros valores diferentes serán evaluados con cero (0) puntos), excepto que sea superior al último rango. | D26: PUNTOS AL MAYOR VALOR DENTRO DEL RANGO | E26: Se califica el aumento adicional del sublímite Hasta un monto total de 50% incluido el básico | F26: =+D29 -> 6
B27: Límite adicional al básico mayor a 5% y hasta 10% | D27: 3
B28: Límite adicional al básico mayor a 10% y hasta 15% | D28: 5
B29: Límite adicional al básico mayor a 15% y hasta 20% | D29: 6
B30: CLÁUSULA DE NO TASACIÓN EN CASO DE SINIESTRO Sublímite de hasta $130.000.000, por siniestro. NOTA: Solo se acepta propuesta en los límites señados en los siguientes rangos. Ofrecimientos de otros valores diferentes serán evaluados con cero (0) puntos), excepto que sea superior al último rango. | D30: PUNTOS AL MAYOR VALOR DENTRO DEL RANGO | E30: Se califica el aumento adicional del sublímite Hasta un monto total de $260.000.000 incluido el básico | F30: 4
B31: Límite adicional al básico mayor a $30.000.000 y hasta $60.000.000: | D31: 1
B32: Límite adicional al básico mayor a $60.000.000 y hasta $100.000.000: | D32: 3
B33: Límite adicional al básico mayor a $100.000.000 y hasta $130.000.000: | D33: 4
B34: AUTORIZACIÓN EXPRESA AL ASEGURADO PARA ATENCIÓN DE DAÑOS POR SINIESTROS CUYO VALOR NO EXCEDA $80.000.000. NOTA: Solo se acepta propuesta en los límites señados en los siguientes rangos. Ofrecimientos de otros valores diferentes serán evaluados con cero (0) puntos), excepto que sea superior al último rango. | D34: PUNTOS AL MAYOR VALOR DENTRO DEL RANGO | E34: Se califica el aumento adicional del sublímite para la autorización expresa para la atención de siniestros. Hasta un monto total de $180.000.000 incluido el básico | F34: 4 | H34: 714.28571
B35: Límite adicional al básico mayor a $30.000.000 y hasta $50.000.000: | D35: 1
B36: Límite adicional al básico mayor a $50.000.000 y hasta $70.000.000: | D36: 3
B37: Límite adicional al básico mayor a $70.000.000 y hasta $100.000.000: | D37: 4
B38: MÁXIMO CALIFICACIÓN | F38: =SUM(F17:F37) -> 30 | G38: CALIFICACIÓN DEL PROPONENTE | H38: =SUM(H17:H34) -> 714.28571
B39: By: Tiger | H39: =+'METODOLOGÍA DE EVALUACIÓN'!G10 -> VERSIÓN: JUL 2026

Sheet G1. COND ADIC. MANEJO GLOBAL
B2: =+'G1. COND ADIC. TRDMC'!B3:H3 -> MUNICIPIO DE LA ESTRELLA
B4: Formato No 3. Condiciones tecnicas adicionales
B6: 2. PÓLIZA DE SEGURO GLOBAL DE MANEJO PARA ENTIDADES OFICIALES
B7: OBJETO DEL SEGURO
B8: Amparar los riesgos que impliquen menoscabo de los fondos y/o bienes de propiedad de MUNICIPIO DE LA ESTRELLA o que estén bajo su tenencia, control y/o responsabilidad causados por acciones u omisiones de sus servidores, que incurran en delitos contra la administración pública o fallos con responsabilidad fiscal, por incumplimiento de las disposiciones legales y reglamentarias, incluyendo el costo de la rendición de cuentas en caso de abandono del cargo o fallecimiento del empleado, en concordancia con la Resolución 014249 del 15 de mayo de 1992, aprobada por la Contraloría General de la República. La contratación de esta póliza se encuentra debidamente justificada, en la obligación que tiene el municipio, de conformidad con lo previsto por la resolución no 014249 del 15 de mayo de 1992, expedida por la contraloría general de la república, por medio de la cual se adoptó y reglamento este seguro, cuyo objetivo está dirigido a garantizar el manejo de fondos y bienes por parte de los servidores públicos y/o extensión a funcionarios de aquellas entidades proveedoras de servicios y productos, que puedan tener acceso directo e indirecto a dependencias donde existan recursos financieros y éstos sean susceptibles de apropiación por falsificación, robo, atraco, abuso de confianza, entre otros, pese a tener la entidad todos sus controles, protocolos y permisos contables y financieros.
B9: INFORMACIÓN GENERAL:
B10: TOMADOR: | C10: =+B2 -> MUNICIPIO DE LA ESTRELLA | G10: NIT. | H10: =+'G1. COND ADIC. TRDMC'!H11 -> 890980782-4
B11: ASEGURADO: | C11: =+C10 -> MUNICIPIO DE LA ESTRELLA | G11: NIT. | H11: =+H10 -> 890980782-4
B12: BENEFICIARIO: | C12: =+C10 -> MUNICIPIO DE LA ESTRELLA | G12: NIT. | H12: =+H10 -> 890980782-4
B13: NOTA: | C13: CADA SUBLÍMITE O GASTOS OFRECIDOS EN FORMA ADICIONAL QUEDA CONTEMPLADO DENTRO DEL LÍMITE ASEGURADO.
B14: CRITERIOS DE EVALUACIÓN:
B15: CONDICIÓN REQUERIDA PARA EVALUACIÓN | E15: CRITERIO DE EVALUACIÓN | F15: PUNTAJE ESTABLECIDO | G15: OFRECIMIENTO DEL OFERENTE | H15: PUNTAJE OBTENIDO POR EL OFERENTE
B16: INCREMENTO DEL LÍMITE BÁSICO PARA LA COBERTURA DE MANEJO GLOBAL. LÍMITE $230.000.000 EVENTO / AGREGADO ANUAL NOTA: Solo se acepta propuesta en los límites señados en los siguientes rangos. Ofrecimientos de otros valores diferentes serán evaluados con cero (0) puntos), excepto que sea superior al último rango. | D16: PUNTOS AL MAYOR VALOR DENTRO DEL RANGO | E16: Se califica el aumento adicional del límite asegurado. Hasta un monto total de $430.000.000 incluido el básico SIN COBRO DE PRIMA | F16: 10
B17: Límite adicional al básico mayor a $50.000.000 y hasta $100.000.000 | D17: 2
B18: Límite adicional al básico mayor a $100.000.000 y hasta $130.000.000 | D18: 6
B19: Límite adicional al básico mayor a $130.000.000 y hasta $150.000.000 | D19: 8
B20: Límite adicional al básico mayor a $150.000.000 y hasta $200.000.000 | D20: 10
B21: GASTOS ADICIONALES: Sublímite 10% del límite asegurado. NOTA: Solo se acepta propuesta en los límites señados en los siguientes rangos. | D21: PUNTOS AL MAYOR VALOR DENTRO DEL RANGO | E21: Se califica el aumento adicional del porcentaje ofrecido. Bajo la definición del texto de la condición obligatoria | F21: 3
B22: Límite adicional al básico mayor al 5% y hasta el 10%. | D22: 1
B23: Límite adicional al básico mayor al 10% y hasta el 15%. | D23: 2
B24: Límite adicional al básico mayor al 15% y hasta el 20%. | D24: 3
B25: HONORARIOS PROFESIONALES DE ABOGADOS, CONSULTORES, AUDITORES, INTERVENTORES, ETC: Sublímite 20% del límite asegurado. NOTA: Solo se acepta propuesta en los límites señados en los siguientes rangos. | D25: PUNTOS AL MAYOR VALOR DENTRO DEL RANGO | E25: Se califica el aumento adicional del porcentaje ofrecido. Bajo la definición del texto de la condición obligatoria | F25: 3
B26: Límite adicional al básico mayor al 5% y hasta el 10%. | D26: 1
B27: Límite adicional al básico mayor al 10% y hasta el 15%. | D27: 2
B28: Límite adicional al básico mayor al 15% y hasta el 20%. | D28: 3
B29: COSTAS EN JUICIO, HONORARIOS PROFESIONALES Y SELECCIÓN DE PROFESIONALES PARA LA DEFENSA.: Sublímite del 30% del límite asegurado. NOTA: Solo se acepta propuesta en los límites señados en los siguientes rangos. | D29: PUNTOS AL MAYOR VALOR DENTRO DEL RANGO | E29: Se califica el aumento adicional del porcentaje ofrecido. Bajo la definición del texto de la condición obligatoria | F29: 3
B30: Límite adicional al básico mayor al 5% y hasta el 10%. | D30: 1
B31: Límite adicional al básico mayor al 10% y hasta el 15%. | D31: 2
B32: Límite adicional al básico mayor al 15% y hasta el 20%. | D32: 3
B33: FALTANTES DE INVENTARIOS 50% DEL LÍMITE ASEGURADO | E33: Se califica el aumento adicional del porcentaje mínimo. | F33: 7
B34: ANTICIPO DE INDEMNIZACIÓN DEL 50%. NOTA 1: Si el aumento adicional del porcentaje de anticipo es condicionado a la demostración de la ocurrencia y cuantía, se califica con cero (0) puntos este factor. NOTA 2: Solo se acepta propuesta en los límites señados en los siguientes rangos. | D34: PUNTOS AL MAYOR VALOR DENTRO DEL RANGO | E34: Se califica el aumento adicional del porcentaje ofrecido. Bajo la definición del texto de la condición obligatoria y sin estar condicionada a la demostración de ocurrencia y cuantía. | F34: 4
B35: Límite adicional al básico mayor al 5% y hasta el 10%. | D35: 1
B36: Límite adicional al básico mayor al 10% y hasta el 15%. | D36: 2
B37: Límite adicional al básico mayor al 15% y hasta el 20%. | D37: 3
B38: Límite adicional al básico mayor al 20% y hasta el 30%. | D38: 4
B39: MÁXIMO CALIFICACIÓN | F39: =SUM(F16:F37) -> 30 | G39: CALIFICACIÓN DEL OFERENTE | H39: =SUM(H16:H37) -> 0
B40: By: Tiger | H40: =+'METODOLOGÍA DE EVALUACIÓN'!G10 -> VERSIÓN: JUL 2026

Sheet G1. COND ADIC. RCE
B3: =+'METODOLOGÍA DE EVALUACIÓN'!B2:G2 -> MUNICIPIO DE LA ESTRELLA
B5: FORMATO No. 3 EVALUACIÓN DE LAS CONDICIONES TÉCNICAS ADICIONALES
B6: GRUPO No. 1
B7: 3. PÓLIZA DE SEGURO DE RESPONSABILIDAD CIVIL EXTRACONTRACTUAL
B8: OBJETO DEL SEGURO
B9: Amparar los perjuicios patrimoniales y extrapatrimoniales que cause la MUNICIPIO DE LA ESTRELLA como consecuencia de la Responsabilidad Civil Extracontractual originada dentro o fuera de sus instalaciones, en el desarrollo de sus actividades o en lo relacionado con ella, lo mismo que los actos de sus empleados y funcionarios o el personal para el apoyo a la gestión administrativa dentro y fuera del territorio nacional o por bienes que se encuentren bajo tenencia, control y/o responsabilidad . Nota: Se entenderán como terceros todos los servidores públicos, empleados y funcionarios permanentes, o temporales, o estudiantes en práctica o pasantias, o contratistas, o subcontratistas, o de personas voluntarias que presten servicios al asegurado, incluyendo miembros de las Directivas y cada una de las personas que circulen, ingresen, accedan o se encuentren en los predios de asegurado o por los cuales es responsable en su aseguramiento, independientemente que el asegurado le esté prestando un servicio objeto de su razón social.
B10: INFORMACIÓN GENERAL:
B11: TOMADOR: | C11: =+B3 -> MUNICIPIO DE LA ESTRELLA | G11: NIT. | H11: =+'G1. COND ADIC. TRDMC'!H11 -> 890980782-4
B12: ASEGURADO: | C12: =+C11 -> MUNICIPIO DE LA ESTRELLA | G12: NIT. | H12: =+H11 -> 890980782-4
B13: BENEFICIARIOS: | C13: TERCEROS AFECTADOS
B14: NOTA: | C14: CADA SUBLÍMITE O GASTOS OFRECIDOS EN FORMA ADICIONAL QUEDA CONTEMPLADO DENTRO DEL LÍMITE ASEGURADO.
B15: CRITERIOS DE EVALUACIÓN:
B16: CONDICIÓN REQUERIDA PARA EVALUACIÓN | E16: CRITERIO DE EVALUACIÓN | F16: PUNTAJE ESTABLECIDO | G16: OFRECIMIENTO DEL OFERENTE | H16: PUNTAJE OBTENIDO POR EL OFERENTE
B17: INCREMENTO DEL LÍMITE BÁSICO PARA LA COBERTURA DE RESPONSABILIDAD CIVIL EXTRACONTRACTUAL $3.800.000.000 EVENTO / AGREGADO ANUAL NOTA: Solo se acepta propuesta en los límites señados en los siguientes rangos. Ofrecimientos de otros valores diferentes serán evaluados con cero (0) puntos), excepto que sea superior al último rango. | D17: PUNTOS AL MAYOR VALOR DENTRO DEL RANGO | E17: Se califica el aumento adicional del límite asegurado. Hasta un monto total de $6.800.000.000 incluido el básico SIN COBRO DE PRIMA | F17: =+D20 -> 15
B18: Límite adicional al básico mayor a $500.000.000 y hasta $1.000.000.000 | D18: 5
B19: Límite adicional al básico mayor a $100.000.000 y hasta $2.000.000.000 | D19: 10
B20: Límite adicional al básico mayor a $2.000.000.000 y hasta $3.000.000.000 | D20: 15
B21: GASTOS MÉDICOS (sin aplicación de deducibles). Sublímite Hasta el 5% del valor asegurado evento y 10% del valor asegurado agregado anual NOTA: Solo se acepta propuesta en los límites señados en los siguientes rangos. Ofrecimientos de otros valores diferentes serán evaluados con cero (0) puntos), excepto que sea superior al último rango. | E21: Se califica el aumento adicional del límite asegurado. SIN COBRO DE PRIMA, así:
B22: Rangos para el sublímite por evento | D22: PUNTOS AL MAYOR VALOR DENTRO DEL RANGO | E22: Se califica el aumento adicional del sublímite evento. Hasta un monto total de 15% incluido el básico | F22: =+D25 -> 3
B23: Límite adicional al básico mayor a 2% y hasta 3% | D23: 1
B24: Límite adicional al básico mayor a 3% y hasta 5% | D24: 2
B25: Límite adicional al básico mayor a 5% y hasta 10% | D25: 3
B26: Rangos para el sublímite por agregado anual | D26: PUNTOS AL MAYOR VALOR DENTRO DEL RANGO | E26: Se califica el aumento adicional del sublímite agregado anual. Hasta un monto total de 20% incluido el básico | F26: =+D29 -> 3
B27: Límite adicional al básico mayor a 2% y hasta 3% | D27: 1
B28: Límite adicional al básico mayor a 3% y hasta 5% | D28: 2
B29: Límite adicional al básico mayor a 5% y hasta 10% | D29: 3
B30: RESPONSABILIDAD CIVIL PATRONAL Sublímite Hasta el 25% del valor asegurado evento y 50% del valor asegurado agregado anual NOTA: Solo se acepta propuesta en los límites señados en los siguientes rangos. Ofrecimientos de otros valores diferentes serán evaluados con cero (0) puntos), excepto que sea superior al último rango. | D30: PUNTOS AL MAYOR VALOR DENTRO DEL RANGO | E30: Se califica el aumento adicional del sublímite evento. Hasta un monto total de 15% incluido el básico | F30: =+D34 -> 3
B31: Rangos para el sublímite por evento | D31: PUNTOS AL MAYOR VALOR DENTRO DEL RANGO
B32: Límite adicional al básico mayor a 1% y hasta 2% | D32: 1
B33: Límite adicional al básico mayor a 2% y hasta 3% | D33: 2
B34: Límite adicional al básico mayor a 3% y hasta 5% | D34: 3
B35: Rangos para el sublímite por agregado anual | D35: PUNTOS AL MAYOR VALOR DENTRO DEL RANGO | E35: Se califica el aumento adicional del sublímite evento. Hasta un monto total de 60% incluido el básico | F35: 3
B36: Límite adicional al básico mayor a 2% y hasta 3% | D36: 1
B37: Límite adicional al básico mayor a 3% y hasta 5% | D37: 2
B38: Límite adicional al básico mayor a 5% y hasta 10% | D38: 3
B39: ANTICIPO DE INDEMNIZACIÓN DEL 50%. NOTA 1: Si el aumento adicional del porcentaje de anticipo es condicionado a la demostración de la ocurrencia y cuantía, se califica con cero (0) puntos este factor. NOTA 2: Solo se acepta propuesta en los límites señados en los siguientes rangos. | D39: PUNTOS AL MAYOR VALOR DENTRO DEL RANGO | E39: Se califica el aumento adicional del porcentaje ofrecido. Bajo la definición del texto de la condición obligatoria y sin estar condicionada a la demostración de ocurrencia y cuantía. | F39: =+D42 -> 3
B40: Límite adicional al básico mayor al 10% y hasta el 15%. | D40: 1
B41: Límite adicional al básico mayor al 15% y hasta el 20%. | D41: 2
B42: Límite adicional al básico mayor al 20% y hasta el 30%. | D42: 3
B43: MÁXIMO CALIFICACIÓN | F43: =SUM(F17:F42) -> 30 | G43: CALIFICACIÓN DEL OFERENTE | H43: =SUM(H17:H42) -> 0
...

Sheet G1 . COND ADIC. RCSP
B3: MUNICIPIO DE LA ESTRELLA
B5: Formato No 3. Condiciones tecnicas adicionales
B7: 4. PÓLIZA DE RESPONSABILIDAD CIVIL SERVIDORES PÚBLICOS
B8: OBJETO DEL SEGURO
B9: Amparar los perjuicios patrimoniales causados a terceros y/o al MUNICIPIO DE LA ESTRELLA provenientes de la responsabilidad civil de los servidores públicos y/o funcionarios con regímenes de responsabilidad similares a los de los servidores públicos, en el desempeño de las funciones de los cargos asegurados, por toda acción u omisión, correcta o incorrecta, culposa, real o presunta, así como los perjuicios que les sean imputable y los ocasionados por juicios de responsabilidad fiscal. Amparar los gastos de defensa (tales como, pero sin limitarse a: honorarios profesionales de abogados defensores, gastos y costas procesales y cauciones judiciales) según los límites por etapas procesales establecidos en este documento, en todo tipo de procesos, incluidos, pero sin limitarse a: procesos fiscales, procesos disciplinarios, procesos penales siempre que se trate de delitos no dolosos, procesos civiles, procesos administrativos (incluidos los de reparación directa); indagaciones, investigaciones preliminares, procesos internos y cualquier otro en los que se discuta la responsabilidad correspondiente a los cargos asegurados y en general los incurridos para defenderse en cualquier tipo de investigación o proceso adelantados por organismos oficial de vigilancia y control o entes de investigación según los límites por: tipos de procesos y etapas procesales establecidos en este documento.
B10: INFORMACIÓN GENERAL:
B11: TOMADOR: | C11: =+B3 -> MUNICIPIO DE LA ESTRELLA | G11: NIT. | H11: 890.980.782-4
B12: ASEGURADO: | C12: MUNICIPIO DE LA ESTRELLA Y/O CARGOS ASEGURADOS | G12: NIT. | H12: =+H11 -> 890.980.782-4
B13: BENEFICIARIO: | C13: MUNICIPIO DE LA ESTRELLA Y/O CARGOS ASEGURADOS Y/O TERCEROS AFECTADOS | G13: NIT. | H13: =+H11 -> 890.980.782-4
B14: NOTA: | C14: CADA SUBLÍMITE O GASTOS OFRECIDOS EN FORMA ADICIONAL QUEDA CONTEMPLADO DENTRO DEL LÍMITE ASEGURADO.
B15: CRITERIOS DE EVALUACIÓN:
B16: CONDICIÓN REQUERIDA PARA EVALUACIÓN | E16: CRITERIO DE EVALUACIÓN | F16: PUNTAJE ESTABLECIDO | G16: OFRECIMIENTO DEL OFERENTE | H16: PUNTAJE OBTENIDO POR EL OFERENTE
B17: INCREMENTO DEL LÍMITE BÁSICO PARA LA COBERTURA DE PERJUICIOS O DETRIMENTO PATRIMONIAL. | E17: Se califica el aumento adicional del límite asegurado, únicamente relacionados en la tabla de rangos en la condición requerida para la evaluación. SIN COBRO DE PRIMA | F17: 10
B18: Límite de $1.150.000.000 evento /agregado anual. Incluido los Gastos de Defensa. NOTA: Solo se acepta propuesta en los límites señados en los siguientes rangos. Ofrecimientos de otros valores diferentes serán evaluados con cero (0) puntos), excepto que sea superior al último rango. | D18: PUNTOS
B19: Ofrecimiento adicional superior a $200.000.000 y hasta $400.000.000 | D19: 1
B20: Ofrecimiento adicional superior a $400.000.000 y hasta $600.000.000 | D20: 2
B21: Ofrecimiento adicional superior a $600.000.000 y hasta $800.000.000 | D21: 4
B22: Ofrecimiento adicional superior a $800.000.000 y hasta $1.000.000.000 | D22: 6
B23: Ofrecimiento adicional superior a $1.000.000.000 y hasta $1.500.000.000 | D23: 8
B24: Ofrecimiento adicional superior a $1.500.000.000 y hasta $2.000.000.000 | D24: 10
B25: INCREMENTO DEL LÍMITE BÁSICO PARA LA COBERTURA DE GASTOS DE DEFENSA. Incluidos en el límite de Perjuicios o Detrimento Patrimonial sin cobro de prima. NOTA: Solo se acepta propuesta en los límites señados en los siguientes rangos. Ofrecimientos de otros valores diferentes serán evaluados con cero (0) puntos), excepto que sea superior al último rango. | E25: Se califica el aumento adicional del límite asegurado, únicamente relacionados en la tabla de rangos en la condición requerida para la evaluación. SIN COBRO DE PRIMA | F25: 8
B26: Límite de $575.000.000 evento / agregado anual Incluidos en el límite de Perjuicios o Detrimento Patrimonial sin cobro de prima. | D26: PUNTOS
B27: Ofrecimiento adicional de $200.000.000 al límite básico. | D27: 1
B28: Ofrecimiento adicional de $400.000.000 al límite básico. | D28: 3
B29: Ofrecimiento adicional de $600.000.000 al límite básico. | D29: 5
B30: Ofrecimiento adicional de $800.000.000 al límite básico. | D30: 7
B31: Ofrecimiento adicional de $1.000.000.000 al límite básico. | D31: 8
B32: INCREMENTO DEL SUBLÍMITE DE GASTOS DE DEFENSA EN LOS PROCESOS DE INDAGACIÓN O INVESTIGACIONES PRELIMINARES o INDAGACIONES PREVIAS Y EN LA VINCULACIÓN PROCESAL HASTA FALLO QUE HAGA TRANSITO A COSA JUZGADA Incluidos en el límite de Perjuicios o Detrimento Patrimonial sin cobro de prima. | E32: Se califica el aumento adicional del límite asegurado conforme los valores indicados en los rangos. Salvo que sea superior al último rango para lo cual se calificara con el mayor puntaje del rango y los demás por regla de tres SIN COBRO DE PRIMA | F32: 5
B33: SUBLÍMITE POR CARGO ASEGURADO
B34: El sublímite ofertado debe ser una cifra única aplicable para cada uno de los cargos asegurados | D34: PUNTOS
B35: Límite adicional al básico: $10.000.000 evento /vigencia | D35: 1
B36: Límite adicional al básico: $20.000.000 evento /vigencia | D36: 3
B37: Límite adicional al básico: $30.000.000 evento /vigencia | D37: 5
B38: ANTICIPO DE INDEMNIZACIÓN PARA EL PAGO DE HONORARIOS DEL 75%. NOTA: Si el aumento adicional del porcentaje de anticipo es condicionado a la demostración de la ocurrencia y cuantía, se califica con cero (0) puntos este factor. | E38: Se califica el aumento adicional del porcentaje ofrecido. Bajo la definición del texto de la condición obligatoria y sin estar condicionada a la demostración de ocurrencia y cuantía. | F38: 1
B39: NOTIFICACIÓN DE HECHOS O CIRCUNSTANCIAS. Si durante la vigencia de la póliza o del periodo extendido de reclamaciones, un asegurado o la entidad tomadora tuvieren conocimiento de cualquier hecho o circunstancia que razonablemente pudiera dar lugar en el futuro, a un siniestro o a generar una reclamación, los asegurados y/o la entidad tomadora, según fuere el caso, darán aviso a la compañía de seguros antes de la terminación de la vigencia de la póliza. En caso que con posterioridad a la terminación de la vigencia de la póliza efectivamente se formalice una reclamación derivada de los hechos o circunstancias que fueron notificados a la compañía de seguros en la forma establecida en esta cláusula, dicha reclamación se considerará presentada por primera vez en el mismo momento en que los hechos y circunstancias que la originaron fueron debidamente notificados o avisados a la aseguradora, razón por la cual la cobertura procederá bajo la póliza que se encontraba vigente en ese momento. | E39: Se califica el otorgamiento de esta condición | F39: 1
B40: COBERTURA HASTA CINCO (5) CARGOS ADICIONALES SIN COBRO DE PRIMA. Mediante esta condición la aseguradora acepta incluir hasta cinco (5) cargos adicionales a definir posteriormente por la Entidad, sin cobro de prima y con la misma retroactividad de esta póliza. La retroactividad solo aplica para los cargos ya creados, en caso de nuevos cargos, la retroactividad es a partir de la creación de éste. | E40: Se califica el aumento adicional del sublímite por PERSONA Y POR CADA PROCESO PARA CADA UNA DE LAS PERSONAS | F40: 5
B41: Ofrecimiento de un (1) cargo adicional | D41: 1
B42: Ofrecimiento de dos (2) cargos adicionales | D42: 2
B43: Ofrecimiento de tres (3) cargos adicionales | D43: 3
B44: Ofrecimiento de cuatro (4) cargos adicionales | D44: 4
...

Sheet G1 COND ADIC. AUTOMÓVILES
B3: =+'METODOLOGÍA DE EVALUACIÓN'!B2:G2 -> MUNICIPIO DE LA ESTRELLA
B5: Formato No 3. Condiciones tecnicas adicionales
B7: 5. PÓLIZA DE AUTOMÓVILES
B8: OBJETO DEL SEGURO
B9: Amparar a la Entidad por los perjuicios que cause patrimonial (daños materiales incluyendo daño emergente y lucro cesante) y extrapatrimonialmnte (incluidos el daño moral, daño fisiológico y daño a la vida en relación), al igual que los daños a bienes o lesiones o muerte a terceros. De igual forma se amparan los daños y/o pérdidas que afecten a los vehículos de su propiedad, bajo tenencia, control o por los que sea legalmente responsable o incluidos aquellos recibidos por parte de otras entidades para el desarrollo misional de la Entidad.
B10: INFORMACIÓN GENERAL:
B11: TOMADOR: | C11: =+B3 -> MUNICIPIO DE LA ESTRELLA | G11: NIT. | H11: =+'G1. COND ADIC. TRDMC'!H11 -> 890980782-4
B12: ASEGURADO: | C12: =+C11 -> MUNICIPIO DE LA ESTRELLA | G12: NIT. | H12: =+H11 -> 890980782-4
B13: BENEFICIARIO: | C13: =+C11 -> MUNICIPIO DE LA ESTRELLA | G13: NIT. | H13: =+H11 -> 890980782-4
B14: NOTA: | C14: CADA SUBLÍMITE O GASTOS OFRECIDOS EN FORMA ADICIONAL QUEDA CONTEMPLADO DENTRO DEL LÍMITE ASEGURADO.
B15: CRITERIOS DE EVALUACIÓN:
B16: CONDICIÓN REQUERIDA PARA EVALUACIÓN | E16: CRITERIO DE EVALUACIÓN | F16: PUNTAJE ESTABLECIDO | G16: OFRECIMIENTO DEL OFERENTE | H16: PUNTAJE OBTENIDO POR EL OFERENTE
B17: INCREMENTO DEL LÍMITE BÁSICO PARA LA COBERTURA DE RESPONSABILIDAD CIVIL EXTRACONTRACTUAL EVENTO /AGREGADO ANUAL. NOTA: Solo se acepta propuesta en los límites señados en los siguientes rangos. Ofrecimientos de otros valores diferentes serán evaluados con cero (0) puntos), excepto que sea superior al último rango. | E17: Se califica el aumento adicional del límite asegurado. SIN COBRO DE PRIMA | F17: =+D22 -> 13
B18: Al proponente que ofrezca únicamente el límite básico exigido de $1.300.000.000 / $1.300.000.000 / $2.600.000.000, ó Límite único combinado de $3.900.0000.000, se evaluara con CERO (0) puntos. Solo se acepta propuesta en los límites a continuación señalados, ofrecimientos de otros valores diferentes serán evaluados con cero (0) puntos). | D18: PUNTOS
B19: Al proponente que ofrezca límite de: $1.800.000.000 / $1.800.000.000 / $3.600.000.000. O límite único combinado de $5.400.000.000. | D19: 3
B20: Al proponente que ofrezca límite de: $2.000.000.000 / $2.000.000.000 / $4.000.000.000. O límite único combinado de $6.000.000.000. | D20: 5
B21: Al proponente que ofrezca límite de: $2.200.000.000 / $2.200.000.000 / $4.400.000.000. O límite único combinado de $6.600.000.000. | D21: 10
B22: Al proponente que ofrezca límite de: $2.600.000.000 / $2.600.000.000 / $5.200.000.000. O límite único combinado de $7.800.000.000. | D22: 13
B23: GASTOS DE TRANSPORTE POR PÉRDIDAS TOTALES (Daños y/o Hurto) (esta condición no aplica para motos y vehiculos pesados.) Limite de $30.000 diarios y hasta (30) días | E23: Se califica el aumento adicional del (incluido el básico) monto de los gastos de transporte. | F23: 3
B24: GASTOS DE BODEGAJE Sublímite $5.000.000 evento / Agregado anual. | D24: PUNTOS AL MAYOR VALOR DENTRO DEL RANGO | E24: Se califica el aumento adicional del monto de los gastos de bodegaje. Hasta $10.000.000 incluido el básico. | F24: =+D28 -> 3
B25: Límite adicional al básico mayor a $500.000 y hasta $1.000.000 | D25: 0.6
B26: Límite adicional al básico mayor a $1.000.000 y hasta $2.000.000. | D26: 1
B27: Límite adicional al básico mayor a $2.000.000 y hasta $3.000.000: | D27: 2
B28: Límite adicional al básico mayor a $3.000.000 y hasta $5.000.000: | D28: 3
B29: AMPARO AUTOMÁTICO DE VEHÍCULOS NUEVOS Y USADOS Sublímite de $500.000.000 por vehículo y término de 90 días de aviso. | E29: Se califica el aumento adicional del monto del sublímite para este amparo. | F29: 4
B30: AMPARO AUTOMÁTICO DE EQUIPOS Y ACCESORIOS Hasta el 10 % del valor asegrudo principal y termino de 90 días | E30: Se califica el aumento adicional del monto del sublímite para este amparo. | F30: 3
B31: GASTOS DE GRÚA PARA VEHÍCULOS DE TERCEROS, AFECTADOS EN ACCIDENTES EN LOS CUALES SEA EVIDENTE LA RESPONSABILIDAD DEL ASEGURADO. Se paga por rembolso el servicio prestado de grúa al tercero. | E31: Se califica el otorgamiento de este servicio. | F31: 3
B32: VERIFICACIÓN CARACTERÍSTICAS DE LOS VEHÍCULOS ASEGURADOS FRENTE A CÓDIGO FASECOLDA Queda entendido, convenido y aceptado que la aseguradora se obliga a validar las características del vehículo asegurado en forma directa o a través de una firma externa especializada en reconocimiento de los vehículos relacionados por la Entidad, con expertos en la materia, tales como: marca, modelo, cilindraje o capacidad, carrocería, líneas, cabinas, y demás que consideren pertinentes, de tal forma que correspondan en un todo con el código exacto de FASECOLDA. Esta condición no aplica para vehículos con valor admitido. | E32: Se califica el ofrecimiento de este servicio | F32: 1
B33: MÁXIMO CALIFICACIÓN | F33: =SUM(F17:F32) -> 30 | G33: CALIFICACIÓN DEL OFERENTE | H33: =SUM(H17:H32) -> 0
B34: By: Tiger | H34: =+'G1. COND ADIC. RCE'!H44 -> VERSIÓN: JUL 2026

Sheet G1. COND ADIC. IRF
B3: =+'METODOLOGÍA DE EVALUACIÓN'!B2:G2 -> MUNICIPIO DE LA ESTRELLA
B5: Formato No 3. Condiciones tecnicas adicionales
B7: 6. PÓLIZA DE INFIDELIDAD Y RIESGOS FINANCIEROS
B8: OBJETO DEL SEGURO
B9: Amparar al asegurado las pérdidas, gastos y daños como consecuencia de actos deshonestos o fraudulentos cometidos por empleados del asegurado, solos o en concurso con otros, o con terceros, con la intención manifiesta de hacer que el asegurado sufra dicha pérdida. Se extienen el objeto del seguro a amparar el patrimonio del asegurado por la pérdida o daños de bienes propios y no propios por los cuales el Asegurado sea responsable tales como dineros efectivo y dinero en todas sus formas y representaciones, títulos valores y cualquier documento y forma material o inmaterial de representación de dinero, como consecuencia de los riesgos a que está expuesto el Asegurado en el giro normal de su actividad social.
B10: INFORMACIÓN GENERAL:
B11: TOMADOR: | C11: =+B3 -> MUNICIPIO DE LA ESTRELLA | G11: NIT. | H11: =+'G1. COND ADIC. TRDMC'!H11 -> 890980782-4
B12: ASEGURADO: | C12: =+C11 -> MUNICIPIO DE LA ESTRELLA | G12: NIT. | H12: =+H11 -> 890980782-4
B13: BENEFICIARIO: | C13: =+C11 -> MUNICIPIO DE LA ESTRELLA | G13: NIT. | H13: =+H11 -> 890980782-4
B14: NOTA: | C14: CADA SUBLÍMITE O GASTOS OFRECIDOS EN FORMA ADICIONAL QUEDA CONTEMPLADO DENTRO DEL LÍMITE ASEGURADO.
B15: CRITERIOS DE EVALUACIÓN:
B16: CONDICIÓN REQUERIDA PARA EVALUACIÓN | E16: CRITERIO DE EVALUACIÓN | F16: PUNTAJE ESTABLECIDO | G16: OFRECIMIENTO DEL OFERENTE | H16: PUNTAJE OBTENIDO POR EL OFERENTE
B17: COBERTURA PARA COSTOS DE LIMPIEZA Hasta el $30% del valor asegurado principal. | D17: PUNTOS | E17: Se califica el aumento adicional del porcentaje ofrecido. Bajo la definición del texto de la condición obligatoria y sin estar condicionada a la demostración de ocurrencia y cuantía. | F17: =+D20 -> 6
B18: Límite adicional al básico mayor al 5% y hasta el 10%. | D18: 1
B19: Límite adicional al básico mayor al 10% y hasta el 15%. | D19: 2
B20: Límite adicional al básico mayor al 15% y hasta el 20%. | D20: 6
B21: ANTICIPO DE INDEMNIZACIÓN DEL 50%. NOTA 1: Si el aumento adicional del porcentaje de anticipo es condicionado a la demostración de la ocurrencia y cuantía, se califica con cero (0) puntos este factor. NOTA 2: Solo se acepta propuesta en los límites señados en los siguientes rangos. | D21: PUNTOS | E21: Se califica el aumento adicional del porcentaje ofrecido. Bajo la definición del texto de la condición obligatoria y sin estar condicionada a la demostración de ocurrencia y cuantía. | F21: =+D24 -> 12
B22: Límite adicional al básico mayor al 10% y hasta el 15%. | D22: 3
B23: Límite adicional al básico mayor al 15% y hasta el 20%. | D23: 5
B24: Límite adicional al básico mayor al 20% y hasta el 30%. | D24: 12
B25: BONO POR NO RECLAMACIÓN DIEZ (10%) POR CIENTO Está entendido y acordado que se otorga un descuento 10% de bono por no reclamación, pagadero a la expiración como devolución de prima bruta. Queda expresamente convenido y aceptado que la aseguradora efectuará el pago de la devolución del monto a que tenga derecho la entidad asegurada, por concepto de la Cláusula de Bono por no Reclamación, sin sujetar el mismo a la renovación y/o prórroga de la póliza, con la misma aseguradora y/o reaseguradores siempre y cuando la vigencia sea mínimo de un año. De igual forma se acuerdo que la aseguradora presentará a la entidad asegurada la liquidación de la devolución correspondiente, dentro de los treinta (30) días siguientes a la fecha de vencimiento de cada período anual de la vigencia de la póliza previa certificación expedida por el asegurado a la expiración de la póliza de no conocimiento de hechos o circunstancias que puedan afectar la póliza. “Lo anterior sujeto a carta de liberación de responsabilidad por parte del asegurado”. | E25: Se califica el otorgamiento de Bono por No reclamación | F25: 6
B26: OFRECIMIENTO DE ESTUDIO DE RIESGOS CON COSTO A CARGO DE LA ASEGURADORA (SURVEY) Las recomendaciones, sugerencias y/o demás aspectos que se deriven del resultado de este estudio, no generarán exigencia de implementación de medidas de prevención y/o control de riesgo, aplicación de garantías o cualquier tipo de compromiso para el asegurado, así como la modificación de las condiciones ofertadas. El estudio deberá realizarse dentro de la vigencia de la póliza, el cronograma en el que se indiquen las actividades que desarrollará para tal efecto y los funcionarios y/o firma externa que llevarán a cabo las mismas. | E26: Se califica el otorgamiento del Estudio de Riesgos | F26: 6
B27: MÁXIMO CALIFICACIÓN | F27: =SUM(F17:F26) -> 30 | G27: CALIFICACIÓN DEL OFERENTE | H27: =SUM(H21:H26) -> 0
B28: By: Tiger | H28: =+'METODOLOGÍA DE EVALUACIÓN'!G10 -> VERSIÓN: JUL 2026

Sheet G1. ADICIONALES TR. EQ. Y MAQ.
B3: =+'METODOLOGÍA DE EVALUACIÓN'!B2:G2 -> MUNICIPIO DE LA ESTRELLA
B5: Formato No 3. Condiciones tecnicas adicionales
B8: 1. PÓLIZA DE SEGURO DE TODO RIESGO EQUIPO Y MAQUINARÍA
B9: OBJETO DEL SEGURO
B10: Amparar las pérdidas o daños materiales que afecten a los Equipos y Maquinarías de propiedad de la MUNICIPIO DE LA ESTRELLA o aquellos que se encuentren bajo su control, tenencia, responsabilidad o custodia, ubicados en el territorio nacional contra los daños o pérdidas materiales a consecuencia de cualquier riesgo, tanto por eventos internos o externos, incluyendo las pérdidas consecuenciales por todo concepto dentro o fuera de las instalaciones del asegurado y/o en predios de terceros y los utilizados en desarrollo del objeto social de la MUNICIPIO DE LA ESTRELLA
B11: INFORMACIÓN GENERAL:
B12: TOMADOR: | C12: =+B3 -> MUNICIPIO DE LA ESTRELLA | G12: NIT. | H12: =+'G1. COND ADIC. TRDMC'!H11 -> 890980782-4
B13: ASEGURADO: | C13: =+C12 -> MUNICIPIO DE LA ESTRELLA | G13: NIT. | H13: =+H12 -> 890980782-4
B14: BENEFICIARIO: | C14: =+C12 -> MUNICIPIO DE LA ESTRELLA | G14: NIT. | H14: =+H13 -> 890980782-4
B15: NOTA: | C15: CADA SUBLÍMITE O GASTOS OFRECIDOS EN FORMA ADICIONAL QUEDA CONTEMPLADO DENTRO DEL LÍMITE ASEGURADO.
B16: CRITERIOS DE EVALUACIÓN:
B17: CONDICIÓN REQUERIDA PARA EVALUACIÓN | E17: CRITERIO DE EVALUACIÓN | F17: PUNTAJE ESTABLECIDO | G17: OFRECIMIENTO DEL OFERENTE | H17: PUNTAJE OBTENIDO POR EL OFERENTE
B18: GASTOS ADICIONALES. Hasta el $68.000.000 como límite combinado incluido en el valor asegurado, sin aplicación de deducible para los siguientes gastos y coberturas. | E18: Se califica el aumento adicional del sublímite Hasta un monto total de $150,000,000 incluido el básico | F18: 8
B19: ANTICIPO DE INDEMNIZACIÓN DEL 50%. NOTA 1: Si el aumento adicional del porcentaje de anticipo es condicionado a la demostración de la ocurrencia y cuantía, se califica con cero (0) puntos este factor. NOTA 2: Solo se acepta propuesta en los límites señados en los siguientes rangos. | D19: PUNTOS | E19: Se califica el aumento adicional del porcentaje ofrecido. Bajo la definición del texto de la condición obligatoria y sin estar condicionada a la demostración de ocurrencia y cuantía. | F19: 8
B20: Límite adicional al básico mayor al 10% y hasta el 15%. | D20: 3
B21: Límite adicional al básico mayor al 15% y hasta el 20%. | D21: 6
B22: Límite adicional al básico mayor al 20% y hasta el 30%. | D22: 8
B23: RENUNCIA A LA APLICACIÓN DE SEGURO INSUFICIENTE Y/O INFRASEGURO Siempre y cuando la diferencia entre el valor asegurado y el valor asegurable no sea superior al 10%. | E23: Se califica en Condiciones Adicionales el aumento adicional del porcentaje ofrecido. Hasta un máximo del 20% | F23: 7
B24: CLÁUSULA DE NO TASACIÓN EN CASO DE SINIESTRO Sublímite de hasta $50.000.000 por siniestro. | E24: Se califica el aumento adicional del sublímite Hasta un monto total de $80.000.000. Incluido el básico | F24: 7
B25: MÁXIMO CALIFICACIÓN | F25: =SUM(F18:F24) -> 30 | G25: CALIFICACIÓN DEL OFERENTE | H25: =SUM(H18:H24) -> 0
B26: By: Tiger | H26: =+'METODOLOGÍA DE EVALUACIÓN'!G10 -> VERSIÓN: JUL 2026

Sheet G1. ADICIONALES INCENDIO DEUDOR
B3: =+'METODOLOGÍA DE EVALUACIÓN'!B2:G2 -> MUNICIPIO DE LA ESTRELLA
B5: Formato No 3. Condiciones tecnicas adicionales
B8: 9. PÓLIZA DE SEGURO DE INCENDIO DEUDORES
B9: OBJETO DEL SEGURO
B10: Amparar las perdidas o daños materiales que afecten los bienes inmuebles propiedad de las personas beneficiarias de créditos hipotecarios otorgados por la Entidad. MUNICIPIO DE LA ESTRELLA.
B11: INFORMACIÓN GENERAL:
B12: TOMADOR: | C12: =+B3 -> MUNICIPIO DE LA ESTRELLA | G12: NIT. | H12: =+'G1. COND ADIC. TRDMC'!H11 -> 890980782-4
B13: ASEGURADO: | C13: =+C12 -> MUNICIPIO DE LA ESTRELLA | G13: NIT. | H13: =+H12 -> 890980782-4
B14: BENEFICIARIO: | C14: =+C12 -> MUNICIPIO DE LA ESTRELLA | G14: NIT. | H14: =+H13 -> 890980782-4
B15: NOTA: | C15: CADA SUBLÍMITE O GASTOS OFRECIDOS EN FORMA ADICIONAL QUEDA CONTEMPLADO DENTRO DEL LÍMITE ASEGURADO.
B16: CRITERIOS DE EVALUACIÓN:
B17: CONDICIÓN REQUERIDA PARA EVALUACIÓN | E17: CRITERIO DE EVALUACIÓN | F17: PUNTAJE ESTABLECIDO | G17: OFRECIMIENTO DEL OFERENTE | H17: PUNTAJE OBTENIDO POR EL OFERENTE
B18: COBERTURA POR ROTURA ACCIDENTAL DE VIDRIOS (sublímite de 5% del valor incial del crédito. Evento / vigencia) Incluidos los eventos de Actos Mal Intencionados de Terceros Asonada, Motín, Conmoción Civil o Popular y Huelga (Incluido Terrorismo y sabotaje). SIN APLICACION DE DEDUCIBLE. | E18: Se califica en Condiciones Adicionales el aumento adicional del porcentaje ofrecido. Sin cobro de prima adicional Hasta un máximo del 10% | F18: 15
B19: GASTOS ADICIONALES. Sublímite por la suma del 35% del monto del valor incial del crédito. Evento / Agregado anual. Sin aplicación de deducible y combinado para los siguientes gastos y coberturas. | E19: Se califica en Condiciones Adicionales el aumento adicional del porcentaje ofrecido.Sin cobro de prima adicional Hasta un máximo del 50% | F19: 9
B20: COMPROMISO PARA EL PAGO DE LAS INDEMNIZACIONES Plazo de Trenta (30) días hábiles. | E20: Se califica en menor numero de dias | F20: 6
B21: MÁXIMO CALIFICACIÓN | F21: =SUM(F18:F20) -> 30 | G21: CALIFICACIÓN DEL OFERENTE | H21: =SUM(H18:H20) -> 0
B22: By: Tiger | H22: =+'METODOLOGÍA DE EVALUACIÓN'!G10 -> VERSIÓN: JUL 2026

Sheet G1. ADICIONALES  VIDA DEUDORES
B3: =+'METODOLOGÍA DE EVALUACIÓN'!B2:G2 -> MUNICIPIO DE LA ESTRELLA
B5: Formato No 3. Condiciones tecnicas adicionales
B8: 10. PÓLIZA DE SEGURO DE VIDA GRUPO DEUDORES
B9: OBJETO DEL SEGURO
B10: Amparar el riesgo de muerte por cualquier causa (incluido el suicidio y homicidio) así como por los amparos citados, a los beneficiarios de créditos hipotecarios otorgados por la MUNICIPIO DE LA ESTRELLA a los funcionarios, exfuncionarios y pensionados de la Entidad, hasta por el saldo insoluto de la deuda (capital, intereses corrientes, intereses en mora, seguros, honorarios de abogados entre otros).
B11: INFORMACIÓN GENERAL:
B12: TOMADOR: | C12: =+B3 -> MUNICIPIO DE LA ESTRELLA | G12: NIT. | H12: =+'G1. COND ADIC. TRDMC'!H11 -> 890980782-4
B13: ASEGURADO: | C13: =+C12 -> MUNICIPIO DE LA ESTRELLA | G13: NIT. | H13: =+H12 -> 890980782-4
B14: BENEFICIARIO: | C14: =+C12 -> MUNICIPIO DE LA ESTRELLA | G14: NIT. | H14: =+H13 -> 890980782-4
B15: NOTA: | C15: CADA SUBLÍMITE O GASTOS OFRECIDOS EN FORMA ADICIONAL QUEDA CONTEMPLADO DENTRO DEL LÍMITE ASEGURADO.
B16: CRITERIOS DE EVALUACIÓN:
B17: CONDICIÓN REQUERIDA PARA EVALUACIÓN | E17: CRITERIO DE EVALUACIÓN | F17: PUNTAJE ESTABLECIDO | G17: OFRECIMIENTO DEL OFERENTE | H17: PUNTAJE OBTENIDO POR EL OFERENTE
B18: COMPROMISO PARA EL PAGO DE LAS INDEMNIZACIONES Plazo de quince (15) días hábiles. | E18: Se califica en menor numero de dias | F18: 30
B19: MÁXIMO CALIFICACIÓN | F19: =SUM(F18:F18) -> 30 | G19: CALIFICACIÓN DEL OFERENTE | H19: =SUM(H18) -> 0
B20: By: Tiger | H20: =+'METODOLOGÍA DE EVALUACIÓN'!G10 -> VERSIÓN: JUL 2026

Sheet G1. ADICIONALES BASICAS VIDA
B3: =+'METODOLOGÍA DE EVALUACIÓN'!B2:G2 -> MUNICIPIO DE LA ESTRELLA
B5: Formato No 3. Condiciones tecnicas adicionales
B8: 11. PÓLIZA DE SEGURO DE VIDA FUNCIONARIOS
B9: OBJETO DEL SEGURO
B10: Amparar al alcalde, concejales y Personero del municipio contra los riesgos de muerte por cualquier causa, incapacidad total y permanente, derivada de una enfermedad o accidente ocurrida a alguno de ellos, durante sus permanencia y funciones para lo cual fueron elegidos por la comunidad. El municipio debe adelantar la contratación de este seguro, según lo establecido por las leyes 617 de 2000 y 136 de 1994 y en consecuencia existe la obligación y necesidad de contratarlo en las mejores condiciones técnicas, económicas y jurídicas, lo cual justifica plenamente la contratación del seguro arriba indicado. No se exige declaración de asegurabilidad, no se aplican preexistencias ni edad límite de ingreso y permanencia para el amparo de muerte por cualquier causa.
B11: INFORMACIÓN GENERAL:
B12: TOMADOR: | C12: =+B3 -> MUNICIPIO DE LA ESTRELLA | G12: NIT. | H12: =+'G1. COND ADIC. TRDMC'!H11 -> 890980782-4
B13: ASEGURADO: | C13: =+C12 -> MUNICIPIO DE LA ESTRELLA | G13: NIT. | H13: =+H12 -> 890980782-4
B14: BENEFICIARIO: | C14: =+C12 -> MUNICIPIO DE LA ESTRELLA | G14: NIT. | H14: =+H13 -> 890980782-4
B15: NOTA: | C15: CADA SUBLÍMITE O GASTOS OFRECIDOS EN FORMA ADICIONAL QUEDA CONTEMPLADO DENTRO DEL LÍMITE ASEGURADO.
B16: CRITERIOS DE EVALUACIÓN:
B17: CONDICIÓN REQUERIDA PARA EVALUACIÓN | E17: CRITERIO DE EVALUACIÓN | F17: PUNTAJE ESTABLECIDO | G17: OFRECIMIENTO DEL OFERENTE | H17: PUNTAJE OBTENIDO POR EL OFERENTE
B18: Equivalente a veinte (20) unidades de salario para el cargo de Alcalde Municipal | E18: Se califica en Condiciones Adicionales el aumento de unidades de saliario 30 Sin cobro de prima adicional | F18: 15
B19: RENTA DIARIA POR HOSPITALIZACIÓN POR ACCIDENTE Valor básico $150.000 por día | E19: Se califica en Condiciones Adicionales el aumento adicional de valor basico .Sin cobro de prima adicional Hasta un 200,000 por dia | F19: 9
B20: COMPROMISO PARA EL PAGO DE LAS INDEMNIZACIONES Plazo de quince (15) días calendarios. | E20: Se califica en menor numero de dias | F20: 6
B21: MÁXIMO CALIFICACIÓN | F21: =SUM(F18:F20) -> 30 | G21: CALIFICACIÓN DEL OFERENTE | H21: =SUM(H19:H20) -> 0
B22: By: Tiger | H22: =+'METODOLOGÍA DE EVALUACIÓN'!G10 -> VERSIÓN: JUL 2026
