Workbook
Name _Toc140149825_1: [1]JURIDICA!#REF!
Name _Toc140149825_1: [1]JURIDICA!#REF!
Name _Toc140149825_1: [2]JURIDICA!#REF!
Name _Toc140149825_1: [1]JURIDICA!#REF!
Name _Toc140149825_1: [1]JURIDICA!#REF!
Name _Toc140149825_1: [2]JURIDICA!#REF!
Name _Toc140149825_1: [1]JURIDICA!#REF!
Name _Toc140149825_1: [1]JURIDICA!#REF!
Name _Toc140149825_1: [2]JURIDICA!#REF!
Name _Toc140149825_59: #REF!
Name _Toc140149825_59: #REF!
Name _Toc140149825_59: #REF!
Name _Toc142149825_60: #REF!
Name _Toc142149825_60: #REF!
Name _Toc142149825_60: #REF!
Name AMOR: [1]JURIDICA!#REF!
Name AMOR: [1]JURIDICA!#REF!
Name AMOR: [2]JURIDICA!#REF!
Name AMOR: [1]JURIDICA!#REF!
Name AMOR: [1]JURIDICA!#REF!
Name AMOR: [2]JURIDICA!#REF!
Name AMOR: [1]JURIDICA!#REF!
Name AMOR: [1]JURIDICA!#REF!
Name AMOR: [2]JURIDICA!#REF!
Name bg: #REF!
Name bg: #REF!
Name bg: #REF!
Name estadof: [2]Hoja4!$B$2:$B$15
Name FFFFFFF: #REF!
Name FFFFFFF: #REF!
Name FFFFFFF: #REF!
Name FICHA: [3]Hoja4!$G$2:$J$42370
Name g: [2]JURIDICA!#REF!
Name g: [2]JURIDICA!#REF!
Name g: [2]JURIDICA!#REF!
Name GENERAL: [2]JURIDICA!#REF!
Name GENERAL: [2]JURIDICA!#REF!
Name GENERAL: [2]JURIDICA!#REF!
Name GG: [1]JURIDICA!#REF!
Name GG: [1]JURIDICA!#REF!
Name GG: [2]JURIDICA!#REF!
Name GG: [1]JURIDICA!#REF!
Name GG: [1]JURIDICA!#REF!
Name GG: [1]JURIDICA!#REF!
Name GG: [1]JURIDICA!#REF!
Name GG: [2]JURIDICA!#REF!
Name GGGGGG: #REF!
Name GGGGGG: #REF!
Name GGGGGG: #REF!
Name Grupo: [2]Listas!$B$2:$B$3
Name MATRICULA: [3]Hoja4!$I$2:$J$42370
Name opcion2: '[4]CUADRO RESUMEN'!$L$21
Name opcion2: '[4]CUADRO RESUMEN'!$L$21
Name opcion2: '[4]CUADRO RESUMEN'!$L$21
Name opcion2: '[4]CUADRO RESUMEN'!$L$21
Name opcion2: '[4]CUADRO RESUMEN'!$L$21
Name opcion2: '[4]CUADRO RESUMEN'!$L$21
Name opcion2: '[2]CUADRO RESUMEN'!$L$21
Name opcion3: '[4]CUADRO RESUMEN'!$L$22
Name opcion3: '[4]CUADRO RESUMEN'!$L$22

Sheet ESTUDIO MERCADO
B2: MUNICIPIO DE LA ESTRELLA
B3: ESTUDIO DE MERCADO VIGENCIA 2026-2027
B5: PROCESO DE CONTRATACION PROGRAMA DE SEGUROS
B9: VIGENCIA FISCAL 2026 | F9: PRESUPUESTO PROYECTADO VIGENCIA FISCAL 2026 | J9: =+H36 -> 8e+08
B10: VIGENCIA DESDE 00:00 HORAS DEL | C10: 46320 | F10: PRESUPUESTO ENTIDAD | J10: 800000000
B11: VIGENCIA HASTA LAS 00:00 HORAS DEL | C11: =C10+C12 -> 46685 | J11: =+J10-J9 -> 0.22016025
B12: DIAS VIGENCIA FISCAL 2026 | C12: 365
B16: RAMO | C16: VALOR ASEGURADO | D16: TASA ANUAL ESTUDIO MERCADO | F16: PRIMA NETA PROYECTADA | G16: IVA 19% | H16: TOTAL
B17: TODO RIESGO DAÑOS MATERIALES | C17: =+'RELACION TRDM'!G17 -> 1.8358661e+11 | D17: ='TASAS PROMEDIO '!J9 -> 1.1628571 | E17: %o | F17: =C17*D17/1000 -> 2.13485e+08 | G17: 40562151 | H17: =+F17+G17 -> 2.5404715e+08
B18: INDICE VARIABLE 5% | C18: =+'RELACION TRDM'!H17 -> 7.7106179e+09 | D18: =D17/2 -> 0.58142857 | E18: %o | F18: =C18*D18/1000 -> 4483173.5 | G18: 851803 | H18: =+F18+G18 -> 5334976.5
B19: TOTAL TODO RIESGO DAÑOS MATERIALES | C19: =SUM(C17:C18) -> 1.9129723e+11 | F19: =SUM(F17:F18) -> 2.1796818e+08 | G19: 41413954 | H19: =+F19+G19 -> 2.5938213e+08
B20: MANEJO | C20: 230000000 | D20: =+'TASAS PROMEDIO '!J16 -> 2.899 | E20: % | F20: =+C20*D20/100 -> 6667700 | G20: =F20*19% -> 1266863 | H20: =+F20+G20 -> 7934563
B21: RESPONSABILIDAD CIVIL EXTRACONTRACTUAL | C21: 3800000000 | D21: =+'TASAS PROMEDIO '!J21 -> 0.4854 | E21: % | F21: =C21*D21/100 -> 18445200 | G21: =+F21*19% -> 3504588 | H21: =+F21+G21 -> 21949788
B22: RESPONSABILIDAD CIVIL SERVIDORES PUBLICOS | C22: 1150000000 | D22: =+'TASAS PROMEDIO '!J26 -> 3.7298 | E22: % | F22: =C22*D22/100 -> 42892700 | G22: =+F22*19% -> 8149613 | H22: =+F22+G22 -> 51042313
B23: TODO RIESGO PARA MAQUINARIA Y EQUIPO | C23: 340000000 | D23: =+'TASAS PROMEDIO '!J31 -> 0.94916667 | E23: % | F23: =C23*D23/100 -> 3227166.7 | G23: =+F23*19% -> 613161.67 | H23: =+F23+G23 -> 3840328.3
B24: INDICE VARIABLE 5% sobre el valor asegurado | C24: =C23*5% -> 17000000 | D24: =D23/2 -> 0.47458333 | E24: % | F24: =C24*D24/100 -> 80679.167 | G24: =F24*19% -> 15329.042 | H24: =+F24+G24 -> 96008.208
B25: TOTAL TODO RIESGO MAQUINARIA Y EQUIPO | C25: =SUM(C23:C24) -> 357000000 | F25: =SUM(F23:F24) -> 3307845.8 | G25: =SUM(G23:G24) -> 628490.71 | H25: =+F25+G25 -> 3936336.5
B26: INFIDELIDAD Y RIESGOS FINANCIEROS | C26: 1800000000 | D26: =+'TASAS PROMEDIO '!J37 -> 2.584 | E26: % | F26: =C26*D26/100 -> 46512000 | G26: =+F26*19% -> 8837280 | H26: =+F26+G26 -> 55349280
B27: INCENDIO DEUDORES | C27: ='Deudores incendio y vida grupo'!I89 -> 11655993978 | D27: =+'TASAS PROMEDIO '!J42 -> 1.1866667 | E27: %o | F27: =C27*D27/1000 -> 13831780 | G27: 0 | H27: =+F27+G27 -> 13831780
B28: VIDA GRUPO DEUDORES | C28: ='Deudores incendio y vida grupo'!F89 -> 5115819977 | D28: =+'TASAS PROMEDIO '!J45 -> 2.68 | E28: %o | F28: =C28*D28/1000 -> 13710398 | G28: 0 | H28: =+F28+G28 -> 13710398
B29: VIDA GRUPO (17 personas - (20) UNIDADES DE SALARIO PARA EL CARGO DE ALCALDE MUNICIPAL $16.800.000 ) | C29: =(16800000*20)*17 -> 5712000000 | D29: =+'TASAS PROMEDIO '!J47 -> 5.186 | E29: %o | F29: =C29*D29/1000 -> 29622432 | G29: 0 | H29: =+F29+G29 -> 29622432
B30: ACCIDENTES PERSONALES | C30: =12000000*5715 -> 68580000000 | D30: =+'TASAS PROMEDIO '!J52 -> 1.1014 | E30: %o | F30: =C30*D30/1000 -> 75534012 | G30: 0 | H30: =+F30+G30 -> 75534012
B31: AUTOMÓVILES | C31: ='Listado Autos y soat'!G43 -> 2487200000 | D31: ='TASAS PROMEDIO '!J57 -> 7.241 | E31: % | F31: =C31*D31/100 -> 180098152 | G31: =+F31*19% -> 34218649 | H31: =+F31+G31 -> 2.143168e+08
B32: SOAT | F32: 0 | G32: 0 | H32: 32844240
B33: Incremento por cambio de tarifa entre aseguradoras (10%) | H33: 3284424
B34: TOTAL SOAT | H34: =+H32+H33 -> 36128664
B35: Remanente para modificaciones | H35: 17261502
B36: TOTAL GRUPO 1 | H36: =+H19+H20+H21+H22+H25+H26+H27+H28+H35+H29+H30+H31+H34 -> 8e+08

Sheet TASAS PROMEDIO 
C2: MUNICIPIO DE LA ESTRELLA
C3: ESTUDIO DE MERCADO
C5: DETERMINACIÓN TASAS PROMEDIO
B7: RAMO | C7: ENTIDAD | D7: PROCESO DE CONTRATACION | E7: LIMITE ASEGURADO | F7: TASAS | G7: PROMEDIO TASAS
G8: TASA PROMEDIO | H8: TIPO DE TASA % - %o | I8: INCREMENTO POR SINIESTRALIDAD Y/O CONDICIONES DEL MERCADO | J8: TASA PARA ESTUDIO | K8: TIPO DE TASA % - %o
B9: Todo Riesgo Daños Materiales | C9: =+C2 -> MUNICIPIO DE LA ESTRELLA | D9: LP 003 DE 2025 | E9: 1.6162922e+11 | F9: 1.1 | G9: =AVERAGE(F9:F15) -> 1.1628571 | H9: %o | J9: =+G9+I9 -> 1.1628571 | K9: %o
C10: AGENCIA NACIONAL DE MINERIA OFERTA 1 | D10: LP-002-2025 | E10: 107585409281 | F10: 1.1
C11: MUNICIPIO DE LA TEBAIDA QUINDIO | D11: SAMC-004-2026 | E11: 156437233189 | F11: 1.1
C12: AGENCIA NACIONAL DE MINERIA OFERTA 2 | D12: LP-002-2025 | E12: 107585409281 | F12: 1.2
C13: AGENCIA NACIONAL DE MINERIA OFERTA 1 | D13: LP-002-2025 | E13: 107585409281 | F13: 1.1
C14: ALCALDIA DEL MUNICIPIO DE CHIA | D14: LP-004-2025 | E14: 359976970285 | F14: 1.24
C15: CONTRALORIA DE BOGOTA OFERTA 1 | D15: CB-LP-001-2026 | E15: 110362863247 | F15: 1.3
B16: Manejo Global | C16: =+C9 -> MUNICIPIO DE LA ESTRELLA | D16: =D9 -> LP 003 DE 2025 | E16: 230000000 | F16: 2.875 | G16: =AVERAGE(F16:F20) -> 2.899 | H16: % | J16: =+G16+I19 -> 2.899 | K16: %
C17: FONDECUN - FONDO DE DESARROLLO DE PROYECTOS DE CUNDINAMARCA OFERTA 2 | D17: SAMC-001-2026 | E17: 1000000000 | F17: 2.83
C18: MINISTERIO DE AMBIENTE Y DESARROLLO SOSTENIBLE (OPCION 1) | D18: SAMC-01-2025 | E18: 700000000 | F18: 2.79
C19: AGENCIA NACIONAL DE MINERIA OFERTA 2 | D19: LP-002-2025 | E19: 900000000 | F19: 3
C20: COMISIÓN DE REGULACIÓN DE CONUNICACIONES (OFERTA 1) | D20: LP 79-2025 | E20: 350000001 | F20: 3
B21: Responsabilidad Civil Extracontractual | C21: =+C16 -> MUNICIPIO DE LA ESTRELLA | D21: =+D16 -> LP 003 DE 2025 | E21: 3800000000 | F21: 0.16 | G21: =AVERAGE(F21:F25) -> 0.1654 | H21: % | I21: 2 | J21: =G21+I23 -> 0.4854 | K21: %
C22: SECRETARIA DISTRITAL DEL HÁBITAT OFERTA 2 | D22: SDHT-SAMC-001-2026 | E22: 6500000001 | F22: 0.162
C23: CORPORACIÓN SOCIAL DE CUNDINAMARCA (OFERTA 3) | D23: LP-CSC-002-2025 | E23: 1100000000 | F23: 0.165 | I23: =F21*I21 -> 0.32
C24: COMISIÓN DE REGULACIÓN DE CONUNICACIONES (OFERTA 5) | D24: LP 79-2025 | E24: 3250000001 | F24: 0.17
C25: COMISIÓN DE REGULACIÓN DE CONUNICACIONES (OFERTA 1) | D25: LP 79-2025 | E25: 3250000001 | F25: 0.17
B26: Responsabilidad Civil Servidores Publicos | C26: =+C21 -> MUNICIPIO DE LA ESTRELLA | D26: =D9 -> LP 003 DE 2025 | E26: 1150000000 | F26: 3.68 | G26: =AVERAGE(F26:F30) -> 3.7298 | H26: % | J26: =+G26+I28 -> 3.7298 | K26: %
C27: SUPERINTENDENCIA DE VIGILANCIA Y SEGURIDAD PRIVADA | D27: SAMC-002-2025 | E27: 1300000000 | F27: 3.769
C28: ALCALDIA DE FONTIBÓN | D28: SAMC-002-2025 | E28: 1000000000 | F28: 3.85 | H28: %
C29: ALCALDIA MUNICIPAL DE CAJICA OFERTA 1 | D29: SAMC-004-2026 | E29: 800000000 | F29: 3.5
C30: IDIPRON - INSTITUTO DISTRITAL PARA LA PROTECCIÓN DE LA NIÑEZ Y LA JUVENTUD (OFERTA 3) | D30: LP-IDIPRON-2025-0001 | E30: 2000000000 | F30: 3.85
B31: Todo riesgo para maquinaria y equipo | C31: =+C9 -> MUNICIPIO DE LA ESTRELLA | D31: =+D9 -> LP 003 DE 2025 | E31: 270000000 | F31: 0.925 | G31: =AVERAGE(F31:F36) -> 0.94916667 | H31: % | J31: =+G31+I33 -> 0.94916667 | K31: %
C32: ALCALDIA MUNICIPAL DE CAJICA OFERTA 2 | D32: SAMC-004-2026 | E32: 4148075994 | F32: 0.8
C33: MUNICIPIO DE LA CEJA DEL TAMBO | D33: 2026.10.05.02.474 | E33: 863600001 | F33: 1.35
C34: IMPRENTA NACIONAL DE COLOMBIA | D34: 005-2025 | E34: 236844900 | F34: 0.75
C35: ALCALDIA MUNICIPAL MAGANGUE SAMC-005-2026 PREVISORA | D35: SAMC-005-2026 PREVISORA | E35: 142000000 | F35: 0.7
C36: MUNICIPIO DE ENVIGADO 2 | D36: ENV-11-21-1001-2025 | E36: 1864210474 | F36: 1.17
B37: Infidelidad y Riesgos Financieros | C37: =+C26 -> MUNICIPIO DE LA ESTRELLA | D37: =D31 -> LP 003 DE 2025 | E37: 1800000000 | F37: 2.52 | G37: =AVERAGE(F37:F41) -> 2.584 | H37: % | J37: =+G37+I38 -> 2.584 | K37: %
C38: DIRECCIÓN NACIONAL DE DERECHOS DE AUTOR OFERTA 1 | D38: DNDA-028-2026 | E38: 150000000 | F38: 2.5
C39: INSTITUTO DE CULTURA Y PATRIMONIO DE ANTIOQUIA - ICPA | D39: S.A.M.C 056-2025 | E39: 1000000000 | F39: 2.5
C40: DIRECCION NACIONAL DE DERECHOS DE AUTOR (OFERTA 1) | D40: DNA-022-2024 | E40: 150000000 | F40: 2.6
C41: FONDO DE BIENESTAR SOCIAL DE LA CGR (OFERTA 2) | D41: SAMC-008-2025 | E41: 2351000000 | F41: 2.8
B42: Incendio deudores | C42: =+C31 -> MUNICIPIO DE LA ESTRELLA | D42: =D9 -> LP 003 DE 2025 | E42: 12607053978 | F42: 1.1 | G42: =AVERAGE(F42:F44) -> 1.1866667 | H42: %o | J42: =+G42+I42 -> 1.1866667
C43: CORPORACIÓN SOCIAL DE CUNDINAMARCA (OFERTA 2) | D43: LP-CSC-01-2025 | E43: 270180019331 | F43: 1.08
...

Sheet RELACION TRDM
B2: MUNICIPIO DE LA ESTRELLA
B3: CARACTERISTICAS DE CONSTRUCCIÓN Y USO DE EDIFICIOS
B4: DECRETO 4865 DE 2011 MINITERIO DE HACIENDA y CIRCULAR 011 DE 2013 SUPERINTENDENCIA FINANCIERA
G5: VALORES ASEGURADOS CONTRATACIÓN 2026-2027
C6: DESCRIPCION | G6: VALOR ASEGURADO 2025-2026 | H6: INDICE VARIABLE 5% ANUAL | I6: TOTAL VALOR ASEGURADO 2026
C7: Edificio | G7: 1.4530214e+11 | H7: 7.265107e+09 | I7: 1.5256725e+11
C8: Edificio en comodato | G8: 8.3413669e+08 | H8: 41706835 | I8: 8.7584353e+08
C9: TOTAL EDIFICIOS | G9: 1.4613628e+11 | H9: 7.3068139e+09 | I9: 1.5344309e+11
C10: Gastos para la adecuación de suelos y terrenos ( 10% sobre el valor de edificio) | G10: 1.4613628e+10 | H10: 0 | I10: 1.4613628e+10
C11: Cláusula de Adecuación de Construcciones a las Normas de Sismo Resistencia ( 10% sobre el valor de edificio) | G11: 1.4613628e+10 | H11: 0 | I11: 1.4613628e+10
C12: Muebles y Enseres | G12: 2.0079489e+09 | H12: 1.0039744e+08 | I12: 2.1083463e+09
C13: Maquinaria y Equipo (dentro y fuera de predios) | G13: 1.3182398e+09 | H13: 65911992 | I13: 1.3841518e+09
C14: Equipo Eléctricos, Electrónicos y de Comunicación (incluidos, equipos móviles y portátiles, software y licencias, Equipos móvil y portátil y todo aquello propio de misionalidad del municpio de la estrella) | G14: 4.7498911e+09 | H14: 2.3749455e+08 | I14: 4.9873857e+09
C15: Vehículos en reposo | G15: 134000000 | H15: 0 | I15: 134000000
C16: Dineros y titulos de valor dentro y fuera de caja fuerte | G16: 13000000 | I16: 13000000
C17: TOTAL | G17: 1.8358661e+11 | H17: 7.7106179e+09 | I17: 1.9129723e+11
B21: ITEM | C21: VALOR ASEGURADO EDIFICIO | D21: MUNICPIO | E21: DEPARTAMENTO | F21: DIRECCIÓN
B22: 1 | C22: 6.0577367e+08 | D22: La Estrella | E22: Antioquia | F22: Cra 55 N° 87 sur-56
B23: 2 | C23: 3.2148597e+08 | D23: La Estrella | E23: Antioquia | F23: Calle 95 sur Nº 55-31 Pueblo viejo
B24: 3 | C24: 4.2539895e+08 | D24: La Estrella | E24: Antioquia | F24: Cra 59 No 94A sur-67 Escuela Ana Eva Escobar
B25: 4 | C25: 75388682 | D25: La Estrella | E25: Antioquia | F25: Calle 80 sur N° 61-79
B26: 5 | C26: 6.567963e+08 | D26: La Estrella | E26: Antioquia | F26: Cra 65 B N° 87 sur -113
B27: 6 | C27: 1.5158957e+10 | D27: La Estrella | E27: Antioquia | F27: Calle 80 sur N° 58-78
B28: 7 | C28: 1.6169157e+09 | D28: La Estrella | E28: Antioquia | F28: Calle 100B sur Nº 50-169
B29: 8 | C29: 6.864916e+08 | D29: La Estrella | E29: Antioquia | F29: Finca Belalcázar o Las Mercedes
B30: 9 | C30: 1.0242658e+08 | D30: La Estrella | E30: Antioquia | F30: Vereda la Culebra
B31: 10 | C31: 2.1202587e+08 | D31: La Estrella | E31: Antioquia | F31: Calle 90Bsur N° 50AA - 30 CAMPO ALEGRE
B32: 11 | C32: 5.1082472e+09 | D32: La Estrella | E32: Antioquia | F32: Cra 63 Nº 77 sur-105
B33: 12 | C33: 4.2846656e+08 | D33: La Estrella | E33: Antioquia | F33: Cra 63 A N° 77 sur-105
... B134: 113 | C134: 2.1158502e+08 | D134: La Estrella | E134: Antioquia | F134: Calle 90 A sur # 50BB -32 Parque Campo Alegre.
C135: =SUM(C22:C134) -> 1.3838299e+11
C137: 794415896 | F137: Dirección: Carrera 60 nº 79 sur 28
F140: VALORES APORTADOS DE LA VIGENCIA ANTERIOR 2025, AUN NO SE CUENTA CON AVALUOS
B141: RANGO DE CONSTRUCCION
B142: 1 | C142: Después del año 2.011
B143: 2 | C143: Entre los años 1.998 y 2.010
B144: 3 | C144: Entre los años 1.985 y 1.997
B145: 4 | C145: Entre los años 1.978 y 1.984
B146: 5 | C146: Entre los años 1.963 y 1.977
B147: 6 | C147: Antes del año 1.963
...

Sheet Vida grupo 
A1: VIDA GRUPO CONCEJALES - ALCADE - PERSONERO
B3: NOMBRES Y APELLIDOS | C3: IDENTIFICACIÓN | D3: FECHA DE NACIMIENTO | E3: GÉNERO
A4: 1 | B4: JUAN PABLO ARTEAGA CANO | C4: 1040733333 | D4: 32340 | E4: MASCULINO | F4: CONCEJAL
A5: 2 | B5: ESTIBEN ORLEIT MONCADA CASTAÑEDA | C5: 1040739420 | D5: 33468 | E5: MASCULINO | F5: CONCEJAL
A6: 3 | B6: DAHYANA PABON JIMENEZ | C6: 1010056825 | D6: 36526 | E6: FEMENINO | F6: CONCEJAL
A7: 4 | B7: JHAN CARLOS CHAVES DUQUE | C7: 1040759081 | D7: 36388 | E7: MASCULINO | F7: CONCEJAL
A8: 5 | B8: NATALIA ALEJANDRA LONDOÑO PARRA | C8: 32351806 | D8: 29625 | E8: FEMENINO | F8: CONCEJAL
A9: 6 | B9: WILLINGTON HERRERA ARROYAVE | C9: 98658912 | D9: 27740 | E9: MASCULINO | F9: CONCEJAL
A10: 7 | B10: JOHN EDISON OCAMPO MEJIA | C10: 1040732698 | D10: 32249 | E10: MASCULINO | F10: CONCEJAL
A11: 8 | B11: DANIEL GARCES FLOREZ | C11: 1040742162 | D11: 33862 | E11: MASCULINO | F11: CONCEJAL
A12: 9 | B12: FERNANDO DE JESUS MORENO MORENO | C12: 71583221 | D12: 21787 | E12: MASCULINO | F12: CONCEJAL
A13: 10 | B13: JHON MAURICIO OQUENDO CADAVID | C13: 1040738219 | D13: 33339 | E13: MASCULINO | F13: CONCEJAL
A14: 11 | B14: SEBASTIAN TAPIAS MADRIGAL | C14: 1026156607 | D14: 35407 | E14: MASCULINO | F14: CONCEJAL
A15: 12 | B15: JUAN DAVID BARCO AGUIRRE | C15: 1036613256 | D15: 32125 | E15: MASCULINO | F15: CONCEJAL
... A20: 17 | B20: JUAN SEBASTIAN ECHAVARRÍA LONDOÑO | C20: 1000646668 | D20: 36573 | E20: MASCULINO | F20: PERSONERO

Sheet Deudores incendio y vida grupo
B2: MUNICIPIO DE LA ESTRELLA
B3: RELACIÓN DE DEUDORES EN EL PROGRAMA DE VIVIENDA
B5: SEGURO DE VIDA GRUPO DEUDORES | H5: INCENDIO
B6: ITEM | C6: NOMRE Y APELLIDOS | D6: CEDULA | E6: FECHA DE NACIMIENTO | F6: SALDO INSOLUTO | G6: CEDULA | H6: UBICACIÓN | I6: VALOR INMUEBLE
B7: 1 | C7: ROQUE ANGELICO BEDOYA RESTREPO | D7: 3498682 | E7: 20960 | F7: 5633655 | G7: 3498682 | H7: Calle 82 Sur No. 58-34, Apto 213 | I7: 84000000
B8: 2 | C8: JUAN MANUEL ACEVEDO ALVAREZ | D8: 3517706 | E8: 24886 | F8: 44308119 | G8: 3517706 | H8: Carrera 62 No. 81 Sur 77, Apto 302 | I8: 84000000
B9: 3 | C9: DIEGO ALEJANDRO ESCOBAR CARMONA | D9: 8030901 | E9: 31151 | F9: 86511515 | G9: 8030901 | H9: Calle 129 Sur No 54 68, Edificio Dubái Premium PH | I9: 136000000
B10: 4 | C10: EDISON ARLEY OSPINA TORRES | D10: 8434132 | E10: 01/15/1981 | F10: 22775490 | G10: 8434132 | H10: Carrera 64 No. 77 Sur - 24, Apto 101 | I10: 105000000
B11: 5 | C11: MARIA EUGENIA RAMIREZ MEJIA | D11: 32349141 | E11: 20163 | F11: 15361824 | G11: 32349141 | H11: Calle 76 Sur No 62A - 116, Apto 216 | I11: 241500000
B12: 6 | C12: ALICIA FERNANDA MEJIA GIRALDO | D12: 32350122 | E12: 29429 | F12: 481013 | G12: 32350122 | H12: Carrera 64 Segundo piso Apto 201 | I12: 115500000
B13: 7 | C13: FRNACI ELENA ZULUAGA DELGADILLO | D13: 34607129 | E13: 28714 | F13: 60454364 | G13: 34607129 | H13: Calle 78 A Sur No 56D - 08 MZ. A, Municipio de La Estrella | I13: 210000000
B14: 8 | C14: MARIBEL BETANCUR | D14: 39169863 | E14: 24507 | F14: 18317417 | G14: 39169863 | H14: Calle 95 sur No. 52-27, Municipio de La Estrella. | I14: 147000000
C15: MARIBEL BETANCUR | D15: 39169863 | E15: 24507 | F15: 20204797
B16: 9 | C16: NORA CATALINA MARROQUIN | D16: 42144421 | E16: 29856 | F16: 78591177 | G16: 42144421 | H16: CALLE 87 SUR # 65 A 371 CONJUNTO RESIDENCIAL FELICITY TORRE 2 ETAPA 2 APTO 1212 | I16: 150000000
B17: 10 | C17: SOR MARIA SANCHEZ RENDON | D17: 42795855 | E17: 22367 | F17: 18348346 | G17: 42795855 | H17: Calle 76 Sur No. 62A-116, Casa 107, Municipio de La Estrella. | I17: 168000000
B18: 11 | C18: DORA MARIA CHALARCA OBANDO | D18: 42796520 | E18: 23044 | F18: 13229127 | G18: 42796520 | H18: Carrera 54 A No. 31-18, Urbanización Robles del Sur | I18: 157500000
B19: 12 | C19: MARIA CECILIA MARIN MONTOYA | D19: 42797292 | E19: 23815 | F19: 31534890 | G19: 42797292 | H19: Calle 95B No 55-16, Municipio de La Estrella | I19: 63000000
B20: 13 | C20: LILIANA MARIA VELEZ JIMENEZ | D20: 42797526 | E20: 24633 | F20: 78294276 | G20: 42797526 | H20: Cra 70 N° 26 76 apto 304, Municipio de Itagüí | I20: 168000000
B21: 14 | C21: LILIANA MARIA MESA RAMIREZ | D21: 42797983 | E21: 25230 | F21: 4204563 | G21: 42797983 | H21: Carrera 57AA No. 80 A Sur-12 Urb. Marruecos. | I21: 115500000
B22: 15 | C22: GLADYS CRISTINA MAYA | D22: 42798114 | E22: 25594 | F22: 6524099 | G22: 42798114 | H22: Calle 80Sur No. 56B - 14 (1 piso) . 56B -16 (2o piso) | I22: 84000000
B23: 16 | C23: MARIA ISABEL ARENAS DIEZ | D23: 42800167 | E23: 30841 | F23: 42674193 | G23: 42800167 | H23: CRA 62 # 80 SUR 56 APTO 402 ED FOM LA ESTRELLA | I23: 200000000
B24: 17 | C24: MARTHA OLGA ACEVEDO | D24: 42989088 | E24: 21287 | F24: 30337849 | G24: 42989088 | H24: Calle 137 Sur No 48 - 21 Int. 116. | I24: 105000000
B25: 18 | C25: AURA ESTELLA MOLINA BARRIENTOS | D25: 43006856 | E25: 20559 | F25: 103066140 | G25: 43006856 | H25: CALLE 76 SUR # 50C 44 INT 201 URBANIZACION DE CEDROS DE BADAJOZ | I25: 200000000
B26: 19 | C26: PILAR ASTRID POSADA JIMENEZ | D26: 43116707 | E26: 29367 | F26: 74250499 | G26: 43116707 | H26: carrera 55 N°77 sur 18 apto 201 | I26: 252000000
B27: 20 | C27: DIANA MARIA RAMIREZ LOPEZ | D27: 43166611 | E27: 28771 | F27: 26778003 | G27: 43166611 | H27: Carrera 1D No. 2A-21 Urb. Prados del campo II | I27: 105000000
... B61: 54 | C61: JOSE MILLAN OTALVARO | D61: 71588575 | E61: 22455 | F61: 14424676 | G61: 71588575 | H61: Calle 80 Sur No. 56-90 Torre 1 Apto 301 Urb. La Quinta. | I61: 136500000
B62: 55 | C62: MARTIN CUARTAS | D62: 71636086 | E62: 27205 | F62: 57940421 | G62: 71636086 | H62: Calle 95B Sur No. 55A- 26 | I62: =63000000+30000000 -> 93000000
B63: 56 | C63: OSCAR LEON HOYOS DUARTE | D63: 71647818 | E63: 23560 | F63: 23107945 | G63: 71647818 | H63: Carrera 50A No. 96 BB Sur -57 Int. 120 La Inmaculada | I63: 73500000
B64: 57 | C64: ROBERT ALEXANDER CALLE HINCAPIE | D64: 71715914 | E64: 25755 | F64: 63237969 | G64: 71715914 | H64: Calle 79 sur N° 59 -26 apto 501 | I64: 210000000
B65: 58 | C65: LUIS FERNANDO RODRIGUEZ | D65: 71730224 | E65: 26441 | F65: 42068160 | G65: 71730224 | H65: Carrera 45 N° 26 162, Apto 905 | I65: 168000000
B66: 59 | C66: MARTIN ALONSO VELASQUEZ CUERVO | D66: 98516996 | E66: 24123 | F66: 71503463 | G66: 98516996 | H66: Carrera 62 B No 25B - 83 Urbanización Bariloche | I66: 203940000
B67: 60 | C67: LUIS ALBERTO CORTES LOAIZA | D67: 98527609 | E67: 25128 | F67: 27534688 | G67: 98527609 | H67: Calle 83 Sur No. 55 G - 36, Apto 301 | I67: 50400000
B68: 61 | C68: JHON MARIO MUÑOZ GONZALES | D68: 98539011 | E68: 26488 | F68: 99737970 | G68: 98539011 | H68: CRR 65 NO 25 A 33 APTO 101 BLOQUE 7 | I68: 180000000
B69: 62 | C69: FABIAN DE JESUS VILLEGAS CAÑAS | D69: 98621796 | E69: 27205 | F69: 39027705 | G69: 98621796 | H69: Carrera 60 No. 77 Sur 98, Apto 504, Municipio de La Estrella | I69: 126000000
B70: 63 | C70: EDISON ELADIO LOPEZ ROJAS | D70: 98623479 | E70: 27439 | F70: 26078997 | G70: 98623479 | H70: Calle 87 Sur No. 65B -69, Apto 203 | I70: 94500000
B71: 64 | C71: CRISTIAN ANDRES ZULUAGA SEGURO | D71: 1036604588 | E71: 31694 | F71: 89943457 | G71: 1036604588 | H71: Carrera 52 No. 99 Sur-96, Apto 1212, Urb. Panorama Aural | I71: 136500000
B72: 65 | C72: FRANCISCO DANIEL MONTOYA LONDOÑO | D72: 1037578039 | E72: 31737 | F72: 61152851 | G72: 1037578039 | H72: Calle 77E S No 50-85, Urb. El Pinar, Municipio de La Estrella | I72: 157500000
B73: 66 | C73: KELLY JARLINE GOMEZ HENAO | D73: 1040732107 | E73: 32062 | F73: 100277701 | G73: 1040732107 | H73: Calle 77 SUR No 61 - 61, Apto 405, Edificio Venecia La Estrella | I73: 280000000
B74: 67 | C74: DIANA MILENA DUQUE FRANCO | D74: 1040734505 | E74: 32596 | F74: 59052192 | G74: 1040734505 | H74: Carrera 59BB No 76B Sur 26, Lote 19, Municipio de La Estrella. | I74: 189000000
B75: 68 | C75: CARLOS ARLEX BETANCUR | D75: 98657903 | E75: 27669 | F75: 38902050 | G75: 98657903 | H75: Calle 80 sur N°59 25 interior 301 La Estrella | I75: 200000000
...

Sheet todo riesgo maq y equipo
A1: MUNICIPIO DE LA ESTRELLA
A2: RELACIÓN DE MAQUINARIA ASEGURADA
A3: SEGURO DE TODO RIESGO MAQUINARIA Y EQUIPO
A5: ITEM | B5: DECRIPCIÓN | C5: DETALLE | D5: 890980782
A6: 1 | B6: Sistema de Bombeo y Red Contra Incendios | C6: Incluye la totalidad del sistema de bombas, motorización diésel y eléctrica, tableros de control, bombas mantenedoras de presión, tanques de reserva, red de tuberías, válvulas y demás accesorios del cuarto de agua y protección contra incendios. | D6: 182000000
A7: 2 | B7: Sistema de Generación Eléctrica y Subestación | C7: Incluye la planta eléctrica de respaldo diésel, tablero de transferencia automática, celda de medida de media tensión, tableros de distribución eléctrica y demás componentes fijos de la subestación | D7: 158000000 | E7: Indice Variable | F7: Total
C8: TOTAL | D8: =+D6+D7 -> 340000000 | E8: =D8*5% -> 17000000 | F8: =E8+D8 -> 357000000

Sheet Accidentes Personales
A1: RELACION ACCIDENTES PERSONALES
A3: INSTITUCION | B3: DOC | C3: APELLIDO1 | D3: APELLIDO2 | E3: NOMBRE1 | F3: NOMBRE2
A4: I. E. ANA EVA ESCOBAR GONZALEZ | B4: 7758819 | C4: ACEVEDO | D4: CARRERO | E4: WILKER | F4: SAMUEL
A5: I. E. ANA EVA ESCOBAR GONZALEZ | B5: 1243088080 | C5: ACEVEDO | D5: JARAMILLO | E5: MATIAS
A6: I. E. ANA EVA ESCOBAR GONZALEZ | B6: 1040759348 | C6: ACEVEDO | D6: JARAMILLO | E6: SALOME
A7: I. E. ANA EVA ESCOBAR GONZALEZ | B7: 1040755729 | C7: ACEVEDO | D7: RUEDA | E7: BRANDON
A8: I. E. ANA EVA ESCOBAR GONZALEZ | B8: 1040745137 | C8: ACEVEDO | D8: SANCHEZ | E8: LUCIANA
A9: I. E. ANA EVA ESCOBAR GONZALEZ | B9: 1127062534 | C9: ACOSTA | D9: CARRILLO | E9: ADRIANA | F9: ALEXANDRA
A10: I. E. ANA EVA ESCOBAR GONZALEZ | B10: N77385411518 | C10: ALVAREZ | D10: ALVAREZ | E10: DIEGO | F10: JESUS
A11: I. E. ANA EVA ESCOBAR GONZALEZ | B11: 1039225125 | C11: ALVAREZ | D11: BERMUDEZ | E11: DYLAND
A12: I. E. ANA EVA ESCOBAR GONZALEZ | B12: 1198465748 | C12: ALVAREZ | D12: BERMUDEZ | E12: ZAHIRA
A13: I. E. ANA EVA ESCOBAR GONZALEZ | B13: 1040752749 | C13: ALZATE | D13: GONZALEZ | E13: JOSEPH
A14: I. E. ANA EVA ESCOBAR GONZALEZ | B14: 1040758188 | C14: ALZATE | D14: GONZALEZ | E14: VIOLETA
A15: I. E. ANA EVA ESCOBAR GONZALEZ | B15: 1023542491 | C15: ALZATE | D15: OSPINA | E15: EMILY
A16: I. E. ANA EVA ESCOBAR GONZALEZ | B16: 1023530572 | C16: ARANGO | D16: BARRERA | E16: MARIA | F16: FERNANDA
A17: I. E. ANA EVA ESCOBAR GONZALEZ | B17: 1026164320 | C17: ARBOLEDA | D17: CANO | E17: ANTONELLA
A18: I. E. ANA EVA ESCOBAR GONZALEZ | B18: 1040757651 | C18: ARENAS | D18: SUAREZ | E18: SOFIA
A19: I. E. ANA EVA ESCOBAR GONZALEZ | B19: 1040746183 | C19: ARROYAVE | D19: MONCADA | E19: JUAN | F19: JOSE
A20: I. E. ANA EVA ESCOBAR GONZALEZ | B20: 1040758385 | C20: ARTEAGA | D20: RUEDA | E20: DANIEL
A21: I. E. ANA EVA ESCOBAR GONZALEZ | B21: 1040502785 | C21: BALOES | D21: MORALES | E21: JULIANA
A22: I. E. ANA EVA ESCOBAR GONZALEZ | B22: 1122857 | C22: BARCENAS | D22: ESCALONA | E22: ALBET | F22: EZEQUIEL
A23: I. E. ANA EVA ESCOBAR GONZALEZ | B23: 35037530 | C23: BARCENAS | D23: ESCALONA | E23: YULEIDY | F23: ANABEL
A24: I. E. ANA EVA ESCOBAR GONZALEZ | B24: N77385181275 | C24: BARCENAS | D24: PADILLA | E24: ELIANNY | F24: ALEJANDRA
A25: I. E. ANA EVA ESCOBAR GONZALEZ | B25: 1132353 | C25: BARCENAS | D25: PADILLA | E25: YILBET | F25: ADRIAN
A26: I. E. ANA EVA ESCOBAR GONZALEZ | B26: 1243088415 | C26: BARRIENTOS | D26: VELEZ | E26: KALETH | F26: ISAAC
A27: I. E. ANA EVA ESCOBAR GONZALEZ | B27: 1038232737 | C27: BEDOYA | D27: BEDOYA | E27: DILAN | F27: ALEJANDRO
A28: I. E. ANA EVA ESCOBAR GONZALEZ | B28: 1035977938 | C28: BEDOYA | D28: RENDON | E28: KELLY | F28: JOHANA
A29: I. E. ANA EVA ESCOBAR GONZALEZ | B29: 5391999 | C29: BENAVENTE | D29: PEÑA | E29: DARKENYEL | F29: ALEXANDER
A30: I. E. ANA EVA ESCOBAR GONZALEZ | B30: 6738399 | C30: BENAVIDES | D30: RENGEL | E30: DARIANA | F30: ALEJANDRA
A31: I. E. ANA EVA ESCOBAR GONZALEZ | B31: 1020318416 | C31: BENITEZ | D31: CASTAÑO | E31: MARIA | F31: ANTONIA
A32: I. E. ANA EVA ESCOBAR GONZALEZ | B32: 1093929433 | C32: BERBESI | D32: ORELLANOS | E32: DANNIA | F32: EDIAINNY
A33: I. E. ANA EVA ESCOBAR GONZALEZ | B33: 1017942507 | C33: BERNAL | D33: TORRES | E33: KHLOE | F33: ALEXANDRA
A34: I. E. ANA EVA ESCOBAR GONZALEZ | B34: 1018255299 | C34: BERRIO | D34: PALACIO | E34: JULIAN | F34: SAMUEL
A35: I. E. ANA EVA ESCOBAR GONZALEZ | B35: 1243088008 | C35: BETANCUR | D35: CANO | E35: LUCIANA
A36: I. E. ANA EVA ESCOBAR GONZALEZ | B36: 1198465065 | C36: BETANCUR | D36: CANO | E36: VALENTINA
A37: I. E. ANA EVA ESCOBAR GONZALEZ | B37: 1023558762 | C37: BLANDON | D37: GOMEZ | E37: DYLAN
A38: I. E. ANA EVA ESCOBAR GONZALEZ | B38: 1035985836 | C38: BLANDON | D38: HOLGUIN | E38: ANTONELLA
A39: I. E. ANA EVA ESCOBAR GONZALEZ | B39: 1033206475 | C39: BOLIVAR | D39: CANO | E39: ANGEL | F39: AARON
A40: I. E. ANA EVA ESCOBAR GONZALEZ | B40: 1155715895 | C40: BRUNO | D40: SUAREZ | E40: EMILIANA
A41: I. E. ANA EVA ESCOBAR GONZALEZ | B41: 1040748588 | C41: BUILES | D41: CARVAJAL | E41: JUAN | F41: PABLO
...

Sheet Listado Autos y soat
A1: RELACION AUTOS Y AUTOS
G4: 2026-2027 AUTOS | H4: 2026-2027 SOAT
A5: # | B5: PLACA | C5: TIPO | D5: MODELO | E5: CLASE | F5: FASECOLDA | G5: VALOR ASEGURADO FASECOLDA SEPTIEMBRE 2027 | H5: COD TARIFA | I5: TARIFA SOAT 2026 | J5: INICIO DE VIGENCIA | K5: INCREMENTO POR CAMBIO DE AÑO (6%) | L5: TOTAL COSTO
A6: 1 | B6: BTU139 | C6: AUTOMÓVIL | D6: 2006 | E6: CORSA ACTIVE | F6: 1601124 | G6: 18700000 | H6: 512 | I6: 592900 | J6: =+VLOOKUP(B6,[5]Hoja1!A:B,2,0) -> 46580 | K6: =I6*6% -> 35574 | L6: =I6+K6 -> 628474
A7: 2 | B7: CRW51E | C7: MOTOCICLETA | D7: 2016 | E7: XT225 | F7: 8817058 | G7: 26900000 | H7: 130 | I7: 761400 | J7: =+VLOOKUP(B7,[5]Hoja1!A:B,2,0) -> 46580 | K7: =I7*6% -> 45684 | L7: =I7+K7 -> 807084
A8: 3 | B8: CRW52E | C8: MOTOCICLETA | D8: 2016 | E8: XT225 | F8: 8817058 | G8: 26900000 | H8: 130 | I8: 761400 | J8: =+VLOOKUP(B8,[5]Hoja1!A:B,2,0) -> 46580 | K8: =I8*6% -> 45684 | L8: =I8+K8 -> 807084
A9: 4 | B9: MOI11E | C9: MOTOCICLETA | D9: 2017 | E9: DR 650 | F9: 8817150 | G9: 9300000 | H9: 120 | I9: 343300 | J9: =+VLOOKUP(B9,[5]Hoja1!A:B,2,0) -> 46580 | K9: =I9*6% -> 20598 | L9: =I9+K9 -> 363898
A10: 5 | B10: MOI12E | C10: MOTOCICLETA | D10: 2017 | E10: DR 650 | F10: 8817150 | G10: 9300000 | H10: 120 | I10: 343300 | J10: =+VLOOKUP(B10,[5]Hoja1!A:B,2,0) -> 46580 | K10: =I10*6% -> 20598 | L10: =I10+K10 -> 363898
A11: 6 | B11: OCF004 | C11: CAMIONETA - BOMBEROS | D11: 2012 | E11: RANGER | F11: 3021058 | G11: 71800000 | H11: 310 | I11: 888400 | J11: =+VLOOKUP(B11,[5]Hoja1!A:B,2,0) -> 46580 | K11: =I11*6% -> 53304 | L11: =I11+K11 -> 941704
A12: 7 | B12: OCF005 | C12: CAMIONETA | D12: 2012 | E12: PRADO | F12: 9008153 | G12: 138900000 | H12: 232 | I12: 1274000 | J12: =+VLOOKUP(B12,[5]Hoja1!A:B,2,0) -> 46580 | K12: =I12*6% -> 76440 | L12: =I12+K12 -> 1350440
A13: 8 | B13: OCF006 | C13: CAMIONETA | D13: 2014 | E13: TRAFIC | F13: 8007011 | G13: 58900000 | H13: 420 | I13: 1260200 | J13: =+VLOOKUP(B13,[5]Hoja1!A:B,2,0) -> 46580 | K13: =I13*6% -> 75612 | L13: =I13+K13 -> 1335812
A14: 9 | B14: OCF015 | C14: CAMIONETA | D14: 2015 | E14: HYLUX | F14: 9021052 | G14: 119300000 | H14: 222 | I14: 1121400 | J14: =+VLOOKUP(B14,[5]Hoja1!A:B,2,0) -> 46580 | K14: =I14*6% -> 67284 | L14: =I14+K14 -> 1188684
A15: 10 | B15: OCF017 | C15: CAMIONETA | D15: 2018 | E15: DUSTER | F15: 8008014 | G15: 58100000 | H15: 221 | I15: 946600 | J15: =+VLOOKUP(B15,[5]Hoja1!A:B,2,0) -> 46580 | K15: =I15*6% -> 56796 | L15: =I15+K15 -> 1003396
A16: 11 | B16: VRA19A | C16: MOTOCICLETA | D16: 2000 | E16: DT125 | F16: 9817123 | G16: 8300000 | H16: 120 | I16: 343300 | J16: =+VLOOKUP(B16,[5]Hoja1!A:B,2,0) -> 46580 | K16: =I16*6% -> 20598 | L16: =I16+K16 -> 363898
A17: 12 | B17: MOI02E | C17: MOTOCICLETA | D17: 2017 | E17: DR650 | F17: 8817058 | G17: 27500000 | H17: 130 | I17: 761400 | J17: =+VLOOKUP(B17,[5]Hoja1!A:B,2,0) -> 46580 | K17: =I17*6% -> 45684 | L17: =I17+K17 -> 807084
... A29: 24 | B29: ZWS79F | C29: MOTOCICLETA | D29: 2022 | E29: ENDURO XR 300ABS | F29: 3417198 | G29: 25400000 | H29: 130 | I29: 761400 | J29: =+VLOOKUP(B29,[5]Hoja1!A:B,2,0) -> 46572 | K29: =I29*6% -> 45684 | L29: =I29+K29 -> 807084
A30: 25 | B30: TQQ55G | C30: MOTOCICLETA | D30: 2023 | E30: XRE 300 ABS | F30: 3417198 | G30: 26500000 | H30: 130 | I30: 761400 | J30: =+VLOOKUP(B30,[5]Hoja1!A:B,2,0) -> 46304 | L30: =I30+K30 -> 761400
A31: 26 | B31: TQQ57G | C31: MOTOCICLETA | D31: 2023 | E31: XRE 300 ABS | F31: 3417198 | G31: 26500000 | H31: 130 | I31: 761400 | J31: =+VLOOKUP(B31,[5]Hoja1!A:B,2,0) -> 46299 | L31: =I31+K31 -> 761400
A32: 27 | B32: TQQ58G | C32: MOTOCICLETA | D32: 2023 | E32: XRE 300 ABS | F32: 3417198 | G32: 26500000 | H32: 130 | I32: 761400 | J32: =+VLOOKUP(B32,[5]Hoja1!A:B,2,0) -> 46304 | L32: =I32+K32 -> 761400
A33: 28 | B33: TQQ59G | C33: MOTOCICLETA | D33: 2023 | E33: XRE 300 ABS | F33: 3417198 | G33: 26500000 | H33: 130 | I33: 761400 | J33: =+VLOOKUP(B33,[5]Hoja1!A:B,2,0) -> 46304 | L33: =I33+K33 -> 761400
A34: 29 | B34: TRO40G | C34: MOTOCICLETA | D34: 2023 | E34: XRE 300 ABS | F34: 8817162 | G34: 41200000 | H34: 130 | I34: 761400 | J34: =+VLOOKUP(B34,[5]Hoja1!A:B,2,0) -> 46306 | L34: =I34+K34 -> 761400
A35: 30 | B35: TRO41G | C35: MOTOCICLETA | D35: 2023 | E35: XRE 300 ABS | F35: 8817162 | G35: 41200000 | H35: 130 | I35: 761400 | J35: =+VLOOKUP(B35,[5]Hoja1!A:B,2,0) -> 46306 | L35: =I35+K35 -> 761400
A36: 31 | B36: TRO42G | C36: MOTOCICLETA | D36: 2023 | E36: XRE 300 ABS | F36: 8817162 | G36: 41200000 | H36: 130 | I36: 761400 | J36: =+VLOOKUP(B36,[5]Hoja1!A:B,2,0) -> 46306 | L36: =I36+K36 -> 761400
A37: 32 | B37: OCF033 | C37: CAMPERO | D37: 2024 | E37: 4 RUNNER | F37: 9008205 | G37: 277200000 | H37: 231 | I37: 1110300 | J37: =+VLOOKUP(B37,[5]Hoja1!A:B,2,0) -> 46563 | K37: =I37*6% -> 66618 | L37: =I37+K37 -> 1176918
A38: 33 | B38: OCF044 | C38: CAMIONETA | D38: 2026 | E38: RENAULT TRAFIC | F38: 8006085 | G38: 185300000 | H38: 221 | I38: 946600 | J38: =+VLOOKUP(B38,[5]Hoja1!A:B,2,0) -> 46442 | K38: =I38*6% -> 56796 | L38: =I38+K38 -> 1003396
A39: 34 | B39: OCF043 | C39: CAMIONETA | D39: 2025 | E39: ISUZU PICK UP | F39: 3821012 | G39: 196200000 | H39: 231 | I39: 1110300 | J39: =+VLOOKUP(B39,[5]Hoja1!A:B,2,0) -> 46442 | K39: =I39*6% -> 66618 | L39: =I39+K39 -> 1176918
A40: 35 | B40: YHY88H | C40: MOTOCICLETA | D40: 2025 | E40: HONDA XRE 300 SAHARA | F40: 3417198 | G40: 31200000 | H40: 130 | I40: 761400 | J40: 46442 | K40: =I40*6% -> 45684 | L40: =I40+K40 -> 807084
A41: 36 | B41: OCF034 | C41: CAMIONETA | D41: 2025 | E41: HYUNDAI TUCSON [4] NX PREMIUM TP 20 | F41: 3206118 | G41: 125600000 | H41: 221 | I41: 946600 | J41: =+VLOOKUP(B41,[5]Hoja1!A:B,2,0) -> 46380 | L41: =I41+K41 -> 946600
A42: 37 | B42: OCF019 | C42: BUS-BUSETA | D42: 2018 | E42: CHEVROLET NPR | F42: 1603140 | G42: 249200000 | H42: 430 | I42: 1510600 | J42: 46596 | K42: =I42*6% -> 90636 | L42: =I42+K42 -> 1601236
G43: =SUM(G6:G42) -> 2487200000 | L43: =SUM(L6:L42) -> 32844240

Sheet Relación planta empleos 
A1: RELACION MANEJO
A3: Cargo en la fuente | B3: Nivel | C3: Funcionario único
A4: Alcalde Municipal | B4: Directivo | C4: 1
A5: Asesor Jurídico | B5: Asesor | C5: 1
A6: Asesor Despacho del Alcalde | B6: Asesor | C6: 1
A7: Profesional Especializado (Control Interno Disciplinario) | B7: Profesional Especializado | C7: 1
A8: Auxiliar administrativo | B8: Asistencial | C8: 1
A9: Asesor Despacho del Alcalde | B9: Asesor | C9: 1
A10: Asesor Despacho del Alcalde | B10: Asesor | C10: 1
A11: Secretario de Despacho (Secretario de Despacho Privado) | B11: Directivo | C11: 1
A12: Secretaria Control Interno Gestión | B12: Directivo | C12: 1
A13: Secretaria General (Secretario de Despcho General) | B13: Directivo | C13: 1
A14: Profesional Universitario Desarrollo Comunitario | B14: Profesional | C14: 1
A15: Profesional Universitario Comunicaciones | B15: Profesional | C15: 1
... A123: Trabajadores Oficiales | B123: Trabajador Oficial | C123: 40
A125: En tota 186 cargos (Empleados y Trabajadores Oficiales
A126: Total cargos de Contratistas corresponde a la misma cantidad de contratistas vinculados a la fecha que son: 776
