Workbook
Name contratación: 'IDENTIFICACION Y ANALISIS'!$B$28:$B$30
Name ejecución: 'IDENTIFICACION Y ANALISIS'!$B$32:$B$37
Name OPCIONES: 'ASIGNACION Y TRATAMIENTO'!$B$48:$B$50
Name planeación: 'IDENTIFICACION Y ANALISIS'!$B$19:$B$23
Name selección: 'IDENTIFICACION Y ANALISIS'!$B$25:$B$26

Sheet CONTEXTO
C2: MATRIZ DE RIESGOS EN CONTRATACIÓN | F2: Código: GCO-GCI-F164 Versión: 02 Vigencia: 01 de diciembre de 2022 Caso HOLA: 280117
B6: ESTABLECER EL CONTEXTO
B7: El punto inicial es identificar el contexto en el cual interactúa la Entidad Estatal para conocer el ambiente social, económico y político, e identificar (i) sus propios Riesgos; (ii) los Riesgos comunes a sus Procesos de Contratación; y (iii) los Riesgos del Proceso de Contratación en particular. En este paso la Entidad Estatal debe identificar los aspectos que se mencionan a continuación y los posibles efectos adversos que estos pueden generar.
B8: Objeto del Proceso de Contratación "CONTRATAR UNA PÓLIZA COLECTIVA DE SEGURO DE VIDA PARA LOS EDILES DE LA JUNTA ADMINISTRADORA LOCAL DEL FONDO DE DESARROLLO LOCAL DE USAQUÉN”
B9: Partícipes del Proceso de Contratación: Agentes externos: Organismos de control, veedurías ciudadanas; Agentes internos: Almacenista, Supervisores, funcionarios y demás usuarios.
B10: Ciudadanía que se beneficia del Proceso de Contratación: Agentes internos: funcionarios, pasantes; Agentes externos: contratistas, visitantes y usuarios externos en general
B11: Capacidad de la Entidad Estatal entendida como la disponibilidad de recursos y conocimientos para el Proceso de Contratación: La disponibilidad de la Entidad de sus recursos y el conocimiento de su equipo humano se refleja en los diferentes funcionarios que participarán en las diversas etapas del proceso de selección: participan las áreas que requieren los procesos de contratación (Etapa de Planeación), Dirección de Contratación, Comité Evaluador (Etapa de selección), Dirección de Contratación (Etapa de contratación) y la supervisión y apoyos a la misma (Estapa de Ejecución).
B12: Suficiencia del presupuesto oficial del Proceso de Contratación: De acuerdo al Plan Anual de Adquisiciones, se estima la disponibilidad de los recursos necesarios para el desarrollo del proceso de la contratación, el cual tendrá el soporte presupuestal suficiente para su desarrollo.
B13: Condiciones geográficas y de acceso del lugar en el cual se debe cumplir el objeto del Proceso de Contratación: Elcontrato de seguro recae sobre todos los bienes muebles e inmuebles, asi como los funcionarios y cargos asegurados de alta direccion que con sus actos incorrectos pueden generar afectacion al erario. El ambito territorial de cada seguro se establecerá en el Anexo 1 - Condiciones técnicas mínimas obligatorias
B14: Entorno socio ambiental: No aplica
B15: Condiciones políticas: No aplica
B16: Factores ambientales. No aplica
B17: Sector del objeto del Proceso de Contratación y su mercado. Se concluye que el sector sobre el cual se realizará la adqusiicion, es el sector SEGUROS.
... B19: Experiencia propia y de otras Entidades Estatales en Procesos de Contratación del mismo tipo. Para la contratación póliza de vida grupo en aras de que los Ediles no quede ningún día desprotegidos.

Sheet IDENTIFICACION Y ANALISIS
C2: MATRIZ DE RIESGOS DE CONTRATACIÓN | F2: Código: GCO-GCI-F164 Versión: 02 Vigencia: 01 de diciembre de 2022 Caso HOLA: 280117
B6: DEFINICIONES
B7: RIESGO: Evento que puede generar efectos adversos y de distinta magnitud en el logro de los objetivos del Proceso de Contratación o en la ejecución de un contrato RIESGOS PREVISIBLES: Son los posibles hechos o circunstancias que por la naturaleza del contrato y de la actividad a ejecutar es factible su ocurrencia. ETAPA DE PLANEACIÓN: Está comprendida desde el momento en que se identifican las necesidades que debe satisfacer la Secretaría Distrital de Gobierno y los Fondos de Desarrollo Local, a través del abastecimiento de bienes, obras o servicios, la elaboración del Plan Anual de Adquisiciones y la estructuración de los documentos y estudios previos. ETAPA DE SELECCIÓN: Está comprendida entre el acto de Apertura del Proceso de Contratación y la Adjudicación o la declaración de desierto del Proceso de Contratación ETAPA DE CONTRATACIÓN: Una vez adjudicado el contrato objeto del Proceso de Contratación, inicia la etapa para la celebración del contrato y el cumplimiento de los requisitos para de perfeccionamiento y ejecución. ETAPA DE EJECUCIÓN: Inicia una vez cumplidos los requisitos previstos para iniciar la ejecución del contrato respectivo y termina con el vencimiento del plazo del contrato o la fecha de liquidación si hay lugar a ella. RIESGO GENERAL: Es un riesgo de todos los procesos de contratación adelantados por la Entidad Estatal, por lo cual está presente en toda su actividad contractual. RIEGO ESPECIFICO: Es un riesgo propio del proceso de contratación objeto de análisis. RIESGOS ECONÓMICOS: Son los derivados del comportamiento del mercado, tales como la fluctuación de los precios de los insumos, desabastecimiento y especulación de los mismos, entre otros. RIESGOS SOCIALES O POLÍTICOS: son los derivados de los cambios de las políticas gubernamentales y de cambios en las condiciones sociales que tengan impacto en la ejecución del contrato. RIESGOS OPERACIONALES: Son los asociados a la operatividad del contrato, tales como la suficiencia del presupuesto oficial, del plazo o los derivados de procesos, procedimientos, parámetros, sistemas de información y tecnológicos, equipos humanos o técnicos inadecuados o insuficientes. RIESGOS FINANCIEROS: Son (i) el riesgo de consecución de financiación o riesgo de liquidez para obtener recursos para cumplir con el objeto del contrato, y (ii) el riesgo de las condiciones financieras establecidas para la obtención de los recursos, tales como plazos, tasas, garantías, contragarantías, y refinanciaciones, entre otros. RIESGOS REGULATORIOS: Derivados de cambios regulatorios o reglamentarios que afecten la ecuación económica del contrato. RIESGOS DE LA NATURALEZA: Son los eventos naturales previsibles en los cuales no hay intervención humana que puedan tener impacto en la ejecución del contrato, por ejemplo los temblores, inundaciones, lluvias, sequías, entre otros. RIESGOS AMBIENTALES: Son los derivados de las obligaciones legales o reglamentarias de carácter ambiental, así como de las licencias, planes de manejo o de permisos y autorizaciones ambientales, incluyendo tasas retributivas y compensatorias, obligaciones de mitigación, tareas de monitoreo y control, entre otras. RIESGOS TECNOLÓGICOS: Son los derivados de fallas en los sistemas de comunicación de voz y de datos, suspensión de servicios públicos, nuevos desarrollos tecnológicos o estándares que deben ser tenidos en cuenta para la ejecución del contrato, obsolescencia tecnológica.
B15: INSTRUCCIONES PARA LA IDENTIFICACIÓN, ANALISIS, EVALUACIÓN , ASIGNACIÓN Y TRATAMIENTO DE RIESGOS EN LA CONTRATACIÓN
B16: 1) Identifique los riesgos previsibles que le apliquen al objeto contractual que se adelante. Los relacionados a continuación se establecen de manera general y como proforma. No obstante, si del objeto contractual se identifican otros riesgos diferentes a los aquí determinados, por favor reemplace el texto de la casilla teniendo en cuenta la etapa del proceso. Así mismo, seleccione la clase, fuente y el tipo (Operacional, Económico, Sociales o Políticos, Regulatorios, Financieros, Tecnológicos, De la naturaleza, Ambientales) 2) Continúe en la hoja de "EVALUACIÓN" (SI EXISTEN DUDAS CONCEPTUALES PARA LA ELABORACIÓN DE LA MATRIZ DE RIESGO CONSULTE EL MANUAL PARA LA IDENTIFICACIÓN Y COBERTURA DEL RIESGO EN LOS PROCESOS DE CONTRATACIÓN EXPEDIDO POR COLOMBIA COMPRA EFICIENTE Y LA GUÍA DE RIESGOS PREVISIBLES CONTRACTUALES, EXPEDIDA POR LA VEEDURÍA DISTRITAL)
C17: ETAPAS | D17: CLASE | E17: FUENTE | F17: TIPO
C18: PLANEACIÓN
B19: Deficiencias en la oportunidad y/o en la estructuración de la necesidad en la etapa precontractual, por parte del Intermediarios de Seguros de la Entidad | D19: Especifico | E19: Externo | F19: Operacionales
B20: Requisitos habilitantes inapropiados para el proceso de selección | D20: Especifico | E20: Interno | F20: Operacionales
B21: Inadecuado análisis económico estimativo del valor del contrato | D21: Especifico | E21: Externo | F21: Economicos
B22: Que ninguna compañía aseguradora cumpla con los requerimientos técnicos establecidos en el pliego de condiciones | D22: Especifico | E22: Externo | F22: Operacionales
B23: Errores en la información de los bienes y cargos asegurados por parte de la Entidad al corredor de seguros | D23: Especifico | E23: Interno | F23: Operacionales
C24: SELECCIÓN
B25: Errores en el proceso de evaluación y adjudicación de las propuestas | D25: General | E25: Interno | F25: Operacionales
B26: No publicación de la documentación del proceso de selección en el SECOP | D26: Especifico | E26: Interno | F26: Operacionales
C27: CONTRATACIÓN
B28: Liquidación de la Compañía Aseguradora contratista por parte de un Ente de Control | D28: Especifico | E28: Externo | F28: Regulatorios
B29: Falta de solicitud o solicitud tardía del registro presupuestal | D29: Especifico | E29: Interno | F29: Operacionales
B30: No publicación de la documentación del proceso de selección en el SECOP | D30: Especifico | E30: Interno | F30: Operacionales
C31: EJECUCIÓN
B32: Ejecución del Contrato con niveles deficientes del servicio | D32: General | E32: Externo | F32: Operacionales
B33: Desconocimiento por parte de los funcionarios del contenido como de las reclamaciones de las pólizas patrimoniales posterior al vencimiento de la vigencia de estas | D33: Especifico | E33: Interno | F33: Operacionales
B34: Terminación unilateral del contrato por parte de la aseguradora antes de la vigencia pactada por efecto de un sesgo de siniestralidad. | D34: Especifico | E34: Externo | F34: Operacionales
B35: Cambios políticos o reformas de las condiciones económicas del mercado de seguros por cambios en los ramos contratados, que conlleven al desmejorar el programa de seguros | D35: Estatal | E35: Externo | F35: Sociales o Políticos
B36: Imposición de nuevos tributos | D36: Estatal | E36: Externo | F36: Regulatorios
B37: Variación de tasas o tarifas | D37: Especifico | E37: Externo | F37: Economicos
B42: General
B43: Estatal
B44: Especifico
B46: Interno
B47: Externo

Sheet EVALUACION
C2: MATRIZ DE RIESGOS DE CONTRATACIÓN | K2: Código: GCO-GCI-F164 Versión: 02 Vigencia: 01 de diciembre de 2022 Caso HOLA: 280117
B6: =CONTEXTO!B8 -> Objeto del Proceso de Contratación "CONTRATAR UNA PÓLIZA COLECTIVA DE SEGURO DE VIDA PARA LOS EDILES DE LA JUNTA ADMINISTRADORA LOCAL DEL FONDO DE DESARROLLO LOCAL DE USAQUÉN”
B7: INSTRUCCIONES PARA LA IDENTIFICACIÓN, ANALISIS, EVALUACIÓN , ASIGNACIÓN Y TRATAMIENTO DE RIESGOS EN LA CONTRATACIÓN
B8: 1) Diligencie el objeto contractual y seleccione la(s) etapas y los riesgos que aplican al objeto contractual, de acuerdo a lo definido en la hoja de "IDENTIFICACIÓN Y ANÁLISIS"
B9: 2) Describa las consecuencias de la ocurrencia del Riesgo/evento.
B10: 3) Asigne la probabilidad de ocurrencia del riesgo, de conformidad con la tabla de probabilidad y la valoración del riesgo (Cualitativa o Monetaria)
B11: 4) Asigne el impacto que generaría la materialización del riesgo, de conformidad con la tabla de impacto y la valoración del riesgo (Cualitativa o Monetaria)
B12: 5) Al realizar las anteriores actividades se obtendrá la calificación total y la valoración del riesgo (prioridad).
B13: 6) Continúe en la hoja de "EVALUACIÓN DE CONTROLES"
B15: CALIFICACIÓN | H15: Cualitativa
B16: ETAPA | C16: Descripción (Que puede pasar y, cómo puede ocurrir) | H16: Consecuencias de la ocurrencia del evento | I16: Probabilidad de Ocurrencia | J16: Impacto | K16: Calificación Total | L16: Prioridad
B17: PLANEACIÓN | C17: Deficiencias en la oportunidad y/o en la estructuración de la necesidad en la etapa precontractual, por parte del Intermediarios de Seguros de la Entidad | H17: 1. No contar con una adecuada cobertura para los bienes e intereses de la entidad 2. Incremento en el costo de los seguros | I17: 2 | J17: 2 | K17: =I17+J17 -> 4 | L17: =IF(K17<=4,"BAJO",IF(K17=5,"MEDIO",IF(K17=6,"ALTO",IF(K17=7,"ALTO","EXTREMO")))) -> BAJO
B18: PLANEACIÓN | C18: Requisitos habilitantes inapropiados para el proceso de selección | H18: Declaratoria de desierto del proceso por la no habilitacion de las ofertas o el no recibimiento de ofertas | I18: 2 | J18: 3 | K18: =+I18+J18 -> 5 | L18: =IF(K18<=4,"BAJO",IF(K18=5,"MEDIO",IF(K18=6,"ALTO",IF(K18=7,"ALTO","EXTREMO")))) -> MEDIO
B19: PLANEACIÓN | C19: Inadecuado análisis económico estimativo del valor del contrato | H19: Presupuesto insuficiente para el pago d eprima de los seguros a contratar | I19: 2 | J19: 3 | K19: =+I19+J19 -> 5 | L19: =IF(K19<=4,"BAJO",IF(K19=5,"MEDIO",IF(K19=6,"ALTO",IF(K19=7,"ALTO","EXTREMO")))) -> MEDIO
B20: PLANEACIÓN | C20: Que ninguna compañía aseguradora cumpla con los requerimientos técnicos establecidos en el pliego de condiciones | H20: Declaratoria de desierta por el no recibimiento de ofertas. Ausencia de cobertura de los bienes e intereses de la Entidad, entre tanto se surte nuevamente el proceso | I20: 2 | J20: 2 | K20: =+I20+J20 -> 4 | L20: =IF(K20<=4,"BAJO",IF(K20=5,"MEDIO",IF(K20=6,"ALTO",IF(K20=7,"ALTO","EXTREMO")))) -> BAJO
B21: PLANEACIÓN | C21: Errores en la información de los bienes y cargos asegurados por parte de la Entidad al corredor de seguros | H21: Seguro insuficiente; bienes sin aseguramiento. Ausencia de cobertura de los bienes e intereses de la Entidad, entre tanto se surte nuevamente el proceso. Dejar la entidad sin respaldo de un programa de seguros que permita resarcir económicamente a la entidad en caso de un evento amparado en el programa de seguros | I21: 2 | J21: 3 | K21: =+I21+J21 -> 5 | L21: =IF(K21<=4,"BAJO",IF(K21=5,"MEDIO",IF(K21=6,"ALTO",IF(K21=7,"ALTO","EXTREMO")))) -> MEDIO
B22: SELECCIÓN | C22: Errores en el proceso de evaluación y adjudicación de las propuestas | H22: Demoras en la adjudicación o Adjudicación equivocada, que pueden ocasionar demandas o procesos juridicos en contra de la entidad asegurada. | I22: 2 | J22: 3 | K22: =+I22+J22 -> 5 | L22: =IF(K22<=4,"BAJO",IF(K22=5,"MEDIO",IF(K22=6,"ALTO",IF(K22=7,"ALTO","EXTREMO")))) -> MEDIO
B23: SELECCIÓN | C23: No publicación de la documentación del proceso de selección en el SECOP | H23: No cumplir con el principio de publicidad. Los interesado son conocen las condiciones del pliego. Extension del termino de la modalidad de selección. | I23: 2 | J23: 2 | K23: =+I23+J23 -> 4 | L23: =IF(K23<=4,"BAJO",IF(K23=5,"MEDIO",IF(K23=6,"ALTO",IF(K23=7,"ALTO","EXTREMO")))) -> BAJO
B24: CONTRATACIÓN | C24: Liquidación de la Compañía Aseguradora contratista por parte de un Ente de Control | H24: Terminación anticipada del Contrato de Seguros. | I24: 2 | J24: 2 | K24: =+I24+J24 -> 4 | L24: =IF(K24<=4,"BAJO",IF(K24=5,"MEDIO",IF(K24=6,"ALTO",IF(K24=7,"ALTO","EXTREMO")))) -> BAJO
B25: CONTRATACIÓN | C25: Falta de solicitud o solicitud tardía del registro presupuestal | H25: Demoras en la ejecucion del contrato estatal. | I25: 2 | J25: 3 | K25: =+I25+J25 -> 5 | L25: =IF(K25<=4,"BAJO",IF(K25=5,"MEDIO",IF(K25=6,"ALTO",IF(K25=7,"ALTO","EXTREMO")))) -> MEDIO
B26: CONTRATACIÓN | C26: No publicación de la documentación del proceso de selección en el SECOP | H26: Falta al principio de publicidad | I26: 2 | J26: 2 | K26: =+I26+J26 -> 4 | L26: =IF(K26<=4,"BAJO",IF(K26=5,"MEDIO",IF(K26=6,"ALTO",IF(K26=7,"ALTO","EXTREMO")))) -> BAJO
B27: EJECUCIÓN | C27: Ejecución del Contrato con niveles deficientes del servicio | H27: La calidad del servicio no cumple los estándares exigidos | I27: 3 | J27: 2 | K27: =+I27+J27 -> 5 | L27: =IF(K27<=4,"BAJO",IF(K27=5,"MEDIO",IF(K27=6,"ALTO",IF(K27=7,"ALTO","EXTREMO")))) -> MEDIO
B28: EJECUCIÓN | C28: Desconocimiento por parte de los funcionarios del contenido como de las reclamaciones de las pólizas patrimoniales posterior al vencimiento de la vigencia de estas | H28: 1. No obtener la indemnización u obtener una inferior a la equivalente de acuerdo con las condiciones de la póliza 2. Juicios de responsabilidad fiscal y/o disciplinarios para los funcionarios a cargo de la reclamación | I28: 2 | J28: 2 | K28: =+I28+J28 -> 4 | L28: =IF(K28<=4,"BAJO",IF(K28=5,"MEDIO",IF(K28=6,"ALTO",IF(K28=7,"ALTO","EXTREMO")))) -> BAJO
B29: EJECUCIÓN | C29: Terminación unilateral del contrato por parte de la aseguradora antes de la vigencia pactada por efecto de un sesgo de siniestralidad. | H29: Dejar la entidad sin respaldo de un programa de seguros que permita resarcir económicamente a la entidad en caso de un evento amparado en el programa de seguros | I29: 2 | J29: 4 | K29: =+I29+J29 -> 6 | L29: =IF(K29<=4,"BAJO",IF(K29=5,"MEDIO",IF(K29=6,"ALTO",IF(K29=7,"ALTO","EXTREMO")))) -> ALTO
... B32: EJECUCIÓN | C32: Variación de tasas o tarifas | H32: Aumento del costo de los seguros para nuevas inclusiones o adiciones y prorrogas | I32: 2 | J32: 3 | K32: =+I32+J32 -> 5 | L32: =IF(K32<=4,"BAJO",IF(K32=5,"MEDIO",IF(K32=6,"ALTO",IF(K32=7,"ALTO","EXTREMO")))) -> MEDIO
K33: =+I33+J33 -> 0 | L33: =IF(K33<=4,"BAJO",IF(K33=5,"MEDIO",IF(K33=6,"ALTO",IF(K33=7,"ALTO","EXTREMO")))) -> BAJO
B36: Probabilidad | C36: Catagoria | E36: Valoración | G36: Impacto | H36: Categoria | I36: Valoración
C37: Raro (puede ocurrir excepcionalmente) | E37: 1 | H37: Insignificante | I37: 1
C38: Improbable (puede ocurrir ocasionalmente) | E38: 2 | H38: Menor | I38: 2
C39: Posible (puede ocurrir en cualquier momento futuro) | E39: 3 | H39: Moderado | I39: 3
C40: Probable (probablemente va a ocurrir) | E40: 4 | H40: Mayor | I40: 4
C41: Casi cierto (ocurre en la mayoria de circunstancias) | E41: 5 | H41: Catastrófico | I41: 5
C43: Valoración del Riesgo
C44: Calificación Cualitativa | F44: Obstruye la ejecución del contrato de manera intrascendente. | G44: Dificulta la ejecución del contrato de manera baja, aplicando medidas mínimas se pueden lograr el objeto contractual | H44: Afecta la ejecución del contrato sin alterar el beneficio para las partes | I44: Obstruye la ejecución del contrato sustancialmente pero aun así permite la consecución del objeto contractual | K44: Perturba la ejecución del contrato de manera grave imposibilitando la consecución del objeto contractual.
C45: Calificación Monetaria | F45: Los sobrecostos no representan más del uno por ciento (1%) del valor del contrato. | G45: Los sobrecostos no representan más del cinco por ciento (5%) del valor del contrato. | H45: Genera un impacto sobre el valor del contrato entre el cinco (5%) y el quince por ciento (15%). | I45: Incrementa el valor del contrato entre el quince (15%) y el treinta por ciento (30%). | K45: Impacto sobre el valor del contrato en más del treinta por ciento (30%).
C46: Categoría | E46: Valoración | F46: Insignificante | G46: Menor | H46: Moderado | I46: Mayor | K46: Catastrófico
F47: 1 | G47: 2 | H47: 3 | I47: 4 | K47: 5
C48: Raro (puede ocurrir excepcionalmente) | E48: 1 | F48: 2 | G48: 3 | H48: 4 | I48: 5 | K48: 6
C49: Improbable (puede ocurrir ocasionalmente) | E49: 2 | F49: 3 | G49: 4 | H49: 5 | I49: 6 | K49: 7
C50: Posible (puede ocurrir en cualquier momento futuro) | E50: 3 | F50: 4 | G50: 5 | H50: 6 | I50: 7 | K50: 8
...

Sheet EVALUACION CON CONTROLES
C2: MATRIZ DE RIESGOS DE CONTRATACIÓN | Q2: Código: GCO-GCI-F164 Versión: 02 Vigencia: 01 de diciembre de 2022 Caso HOLA: 280117
B6: =+EVALUACION!B6 -> Objeto del Proceso de Contratación "CONTRATAR UNA PÓLIZA COLECTIVA DE SEGURO DE VIDA PARA LOS EDILES DE LA JUNTA ADMINISTRADORA LOCAL DEL FONDO DE DESARROLLO LOCAL DE USAQUÉN”
B7: INSTRUCCIONES PARA LA IDENTIFICACIÓN, ANALISIS, EVALUACIÓN , ASIGNACIÓN Y TRATAMIENTO DE RIESGOS EN LA CONTRATACIÓN
B8: 1) Describa el tratamiento/controles a ser implementados
B9: 2) Diligencie la información de las siguientes columnas, de acuerdo con el análisis realizado a cada riesgo: Afecta el equilibrio económico, persona responsable de implementar el tratamiento, fecha estimada de inicio del tratamiento, fecha estimada en la que se completa el tratamiento, cómo se realiza el monitoreo y la periodicidad.
B10: 3) Continúe en la hoja de "ASIGNACIÓN Y TRATAMIENTO" y diligencie las siguientes casillas: A quien se le asigna y el porcentaje que asume cada una de las partes en caso de que sea compartido.
B12: ETAPA | C12: Descripción (Que puede pasar y, cómo puede ocurrir) | G12: Tratamiento/Controles a ser implementados | I12: Probabilidad de Ocurrencia | J12: Impacto | K12: Calificación Total | L12: Prioridad | M12: ¿Afecta el equilibrio económico del contrato? | N12: Persona responsable por implementar el tratamiento | O12: Fecha estimada en que se inicia el tratamiento | P12: Fecha estimada en que se completa el tratamiento | Q12: ¿Cómo se realiza el monitoreo? | R12: Periodicidad ¿Cuándo?
B13: =+EVALUACION!B17 -> PLANEACIÓN | C13: =+EVALUACION!C17 -> Deficiencias en la oportunidad y/o en la estructuración de la necesidad en la etapa precontractual, por parte del Intermediarios de Seguros de la Entidad | G13: Idoneidad y experiencia en el personal del intermediario | I13: =+EVALUACION!I17 -> 2 | J13: =+EVALUACION!J17 -> 2 | K13: =+I13+J13 -> 4 | L13: =IF(K13<=4,"BAJO",IF(K13=5,"MEDIO",IF(K13=6,"ALTO",IF(K13=7,"ALTO","EXTREMO")))) -> BAJO | M13: No | N13: Equipo Estructurador (el corredor de seguros forma parte de este) | O13: Desde el momento de la selección del corredor de seguros | P13: Hasta el cumplimiento de la obligación contractual | Q13: Mesas de trabajo | R13: Cada vez que se requiera, durante la etapa de planeación
B14: =+EVALUACION!B18 -> PLANEACIÓN | C14: =+EVALUACION!C18 -> Requisitos habilitantes inapropiados para el proceso de selección | G14: Estudio del sector y analisis de indicadores de las compañías aseguradoras | I14: =+EVALUACION!I18 -> 2 | J14: =+EVALUACION!J18 -> 3 | K14: =+I14+J14 -> 5 | L14: =IF(K14<=4,"BAJO",IF(K14=5,"MEDIO",IF(K14=6,"ALTO",IF(K14=7,"ALTO","EXTREMO")))) -> MEDIO | M14: No | N14: Equipo Estructurador (el corredor de seguros forma parte de este) | O14: Desde el comienzo de la etapa de planeación y estructuración del analisis del sector | P14: la fecha limite para expedir adendas | Q14: Analizando el sector y revisando las observaciones de los interesados en participar en el proceso | R14: Cada vez que se requiera durante todo el proceso de selección
B15: =+EVALUACION!B19 -> PLANEACIÓN | C15: =+EVALUACION!C19 -> Inadecuado análisis económico estimativo del valor del contrato | G15: Solicitud de cotizaciones para estudio de mercado. Promedio de tasas actual de la entidad con tasas actuales de otras entidades con similares caracteristicas de aseguramiento | I15: =+EVALUACION!I19 -> 2 | J15: =+EVALUACION!J19 -> 3 | K15: =+I15+J15 -> 5 | L15: =IF(K15<=4,"BAJO",IF(K15=5,"MEDIO",IF(K15=6,"ALTO",IF(K15=7,"ALTO","EXTREMO")))) -> MEDIO | M15: No | N15: Equipo Estructurador (el corredor de seguros forma parte de este) | O15: Desde el comienzo de la etapa de planeación y estructuración del analisis del sector | P15: Antes de publicar el pliego de condiciones definitivo | Q15: Analizando el sector y revisando las observaciones de los interesados en participar en el proceso | R15: Cada vez que se requiera durante el proceso de selección
B16: =+EVALUACION!B20 -> PLANEACIÓN | C16: =+EVALUACION!C20 -> Que ninguna compañía aseguradora cumpla con los requerimientos técnicos establecidos en el pliego de condiciones | G16: No incluir requisitos o condiciones tecnicas en los seguros a contratar, de dificil cumplimiento y establecer una adecuada estrategia para la contratación | I16: =+EVALUACION!I20 -> 2 | J16: =+EVALUACION!J20 -> 2 | K16: =+I16+J16 -> 4 | L16: =IF(K16<=4,"BAJO",IF(K16=5,"MEDIO",IF(K16=6,"ALTO",IF(K16=7,"ALTO","EXTREMO")))) -> BAJO | M16: No | N16: Supervisor del contrato de intermediación de seguros | O16: Desde la elaboración del estudio de mercado y estudios previos | P16: Plazo para publicación de adendas antes del cierre | Q16: Acta de comité de contratación | R16: Durante toda la etapa elaboración y publicación de documentos precontractuales
B17: =+EVALUACION!B21 -> PLANEACIÓN | C17: =+EVALUACION!C21 -> Errores en la información de los bienes y cargos asegurados por parte de la Entidad al corredor de seguros | G17: Verificación de la información de bienes y cargos de la Entidad | I17: =+EVALUACION!I21 -> 2 | J17: =+EVALUACION!J21 -> 3 | K17: =+I17+J17 -> 5 | L17: =IF(K17<=4,"BAJO",IF(K17=5,"MEDIO",IF(K17=6,"ALTO",IF(K17=7,"ALTO","EXTREMO")))) -> MEDIO | M17: No | N17: Durante la estructuración el Gerente del proyecto requerira a las áreas donde se originó la necesidad de contratación y a la dirección de Talento Humano. De igual manera durante la ejecución del contrato el supervisor del contrato podrá requerir a las áres en mención las respectivas inclusiones y exclusiones. | O17: Desde la etapa precontractual | P17: Hasta el vencimiento de la vigencia del programa de seguros | Q17: Reunión para la verificación del pliego de condiciones | R17: Cada vez que se requiera
B18: =+EVALUACION!B22 -> SELECCIÓN | C18: =+EVALUACION!C22 -> Errores en el proceso de evaluación y adjudicación de las propuestas | G18: Revisión del comité evaluador. | I18: =+EVALUACION!I22 -> 2 | J18: =+EVALUACION!J22 -> 3 | K18: =+I18+J18 -> 5 | L18: =IF(K18<=4,"BAJO",IF(K18=5,"MEDIO",IF(K18=6,"ALTO",IF(K18=7,"ALTO","EXTREMO")))) -> MEDIO | M18: No | N18: Grupo Evaluador Corredor de Seguros | O18: Desde el momento en que el corredor entrega la evaluación a la Entidad | P18: Hasta la adjudicación del proceso | Q18: Informe de evaluación | R18: Cada vez que se requiera
B19: =+EVALUACION!B23 -> SELECCIÓN | C19: =+EVALUACION!C23 -> No publicación de la documentación del proceso de selección en el SECOP | G19: Control periodico por parte del director del proyecto y el area de contratacion | I19: =+EVALUACION!I23 -> 2 | J19: =+EVALUACION!J23 -> 2 | K19: =+I19+J19 -> 4 | L19: =IF(K19<=4,"BAJO",IF(K19=5,"MEDIO",IF(K19=6,"ALTO",IF(K19=7,"ALTO","EXTREMO")))) -> BAJO | M19: No | N19: Area de contratacion | O19: Desde la publicacion del proceso en proyecto | P19: Hasta la fecha limite para expedir adendas | Q19: Revision periodica de la plataforma Secop | R19: Cada vez que se requiera
B20: =+EVALUACION!B24 -> CONTRATACIÓN | C20: =+EVALUACION!C24 -> Liquidación de la Compañía Aseguradora contratista por parte de un Ente de Control | G20: Por ser un riesgo externo ajeno a la Entidad Contratante, no podría implementar controles que prevengan la ocurrencia del riesgo. Estar atentos de las noticias del sector asegurador, especialmente de las compañias de seguros que repaldan el contrato de seguros de la entidad. | I20: =+EVALUACION!I24 -> 2 | J20: =+EVALUACION!J24 -> 2 | K20: =+I20+J20 -> 4 | L20: =IF(K20<=4,"BAJO",IF(K20=5,"MEDIO",IF(K20=6,"ALTO",IF(K20=7,"ALTO","EXTREMO")))) -> BAJO | M20: No | N20: Corredor de seguros a través de reportes a la entidad con relación al sector asegurador | O20: Desde la etapa precontractual | P20: Hasta la vigencia de las pólizas | Q20: Reuniones de seguimiento trimestral y boletin del mercado asegurador bimestral (corredor de seguros) | R20: Cada vez que se requiera
B21: =+EVALUACION!B25 -> CONTRATACIÓN | C21: =+EVALUACION!C25 -> Falta de solicitud o solicitud tardía del registro presupuestal | G21: Coordinacion con el area financiera para al expedicion del RP con oportunidad | I21: =+EVALUACION!I25 -> 2 | J21: =+EVALUACION!J25 -> 3 | K21: =+I21+J21 -> 5 | L21: =IF(K21<=4,"BAJO",IF(K21=5,"MEDIO",IF(K21=6,"ALTO",IF(K21=7,"ALTO","EXTREMO")))) -> MEDIO | M21: No | N21: Area de contratacion y Gerente del proyecto | O21: Desde la pulbicacion del informe final de evaluacion | P21: hasta la celebracion del contrato | Q21: Consulta periodica con el area financiera | R21: cuando se suscriba el contrato
B22: =+EVALUACION!B26 -> CONTRATACIÓN | C22: =+EVALUACION!C26 -> No publicación de la documentación del proceso de selección en el SECOP | G22: Control periodico por parte del director del proyecto y el area de contratacion | I22: =+EVALUACION!I26 -> 2 | J22: =+EVALUACION!J26 -> 2 | K22: =+I22+J22 -> 4 | L22: =IF(K22<=4,"BAJO",IF(K22=5,"MEDIO",IF(K22=6,"ALTO",IF(K22=7,"ALTO","EXTREMO")))) -> BAJO | M22: No | N22: Area de contratacion | O22: desde la suscripcion del contrato | P22: hasta la terminacion y liqudiacion del contrato | Q22: Revision periodica de la plataforma Secop | R22: Cada vez que se requiera
B23: =+EVALUACION!B27 -> EJECUCIÓN | C23: =+EVALUACION!C27 -> Ejecución del Contrato con niveles deficientes del servicio | G23: Reuniones de seguimiento de acuerdo con la necesidad, se debe establecer como una obligación de la aseguradora los tiempos de respuesta de siniestros, inclusiones y exclusiones. | I23: =+EVALUACION!I27 -> 3 | J23: =+EVALUACION!J27 -> 2 | K23: =+I23+J23 -> 5 | L23: =IF(K23<=4,"BAJO",IF(K23=5,"MEDIO",IF(K23=6,"ALTO",IF(K23=7,"ALTO","EXTREMO")))) -> MEDIO | M23: No | N23: Supervisor Contrato y corredor de seguros | O23: Desde el inicio de la vigencia del contrato | P23: Hasta el cumplimiento de las obligaciones derivadas del contrato | Q23: Reuniones de acuerdo con la necesidad | R23: Cada vez que se requiera
B24: =+EVALUACION!B28 -> EJECUCIÓN | C24: =+EVALUACION!C28 -> Desconocimiento por parte de los funcionarios del contenido como de las reclamaciones de las pólizas patrimoniales posterior al vencimiento de la vigencia de estas | G24: Capacitación del contenido de las pólizas y proceso de reclamación de cada uno de los ramos contratados y manual de siniestros, por parte del corredor de Seguros | I24: =+EVALUACION!I28 -> 2 | J24: =+EVALUACION!J28 -> 2 | K24: =+I24+J24 -> 4 | L24: =IF(K24<=4,"BAJO",IF(K24=5,"MEDIO",IF(K24=6,"ALTO",IF(K24=7,"ALTO","EXTREMO")))) -> BAJO | M24: No | N24: Supervisor del contrato de seguros / Corredor seguros | O24: Durante la vigencia de contrato | P24: Hasta el cumplimiento de las obligaciones derivadas del contrato | Q24: Seguimiento durante Los comités de seguros | R24: Cada vez que se requiera
... B28: =+EVALUACION!B32 -> EJECUCIÓN | C28: =+EVALUACION!C32 -> Variación de tasas o tarifas | G28: incremento en el costo del programa para las nuevas adquisiciones, adiciones o prrorogas. Calsuual condicionando la renegociacion a siniestralidad superior al 50% | I28: =+EVALUACION!I32 -> 2 | J28: =+EVALUACION!J32 -> 3 | K28: =+I28+J28 -> 5 | L28: =IF(K28<=4,"BAJO",IF(K28=5,"MEDIO",IF(K28=6,"ALTO",IF(K28=7,"ALTO","EXTREMO")))) -> MEDIO | M28: No | N28: Durante la estructuración el Gerente del proyecto requerira a las áreas donde se originó la necesidad de contratación y a la dirección de Talento Humano. De igual manera durante la ejecución del contrato el supervisor del contrato podrá requerir a las áres en mención las respectivas inclusiones y exclusiones. | O28: Desde la etapa precontractual | P28: Hasta el vencimiento de la vigencia del programa de seguros | Q28: Reunión para la verificación del pliego de condiciones | R28: Cada vez que se requiera
B29: =+EVALUACION!B33 -> 0 | C29: =+EVALUACION!C33 -> 0 | I29: =+EVALUACION!I33 -> 0 | J29: =+EVALUACION!J33 -> 0 | K29: =+I29+J29 -> 0 | L29: =IF(K29<=4,"BAJO",IF(K29=5,"MEDIO",IF(K29=6,"ALTO",IF(K29=7,"ALTO","EXTREMO")))) -> BAJO | M29: No
C31: Categoria del Riesgo | H31: Impacto del Riesgo
B32: Probabilidad | C32: Catagoria | F32: Valoración | H32: Categoria | J32: Valoración | N32: Categoria del Riesgo
C33: Raro (puede ocurrir excepcionalmente) | F33: 1 | H33: Insignificante | J33: 1 | N33: Valoración del Riesgo | P33: Categoría
C34: Improbable (puede ocurrir ocasionalmente) | F34: 2 | H34: Menor | J34: 2 | N34: 8, 9 y 10 | P34: Riesgo extremo
C35: Posible (puede ocurrir en cualquier momento futuro) | F35: 3 | H35: Moderado | J35: 3 | N35: 6 y 7 | P35: Riesgo alto
C36: Probable (probablemente va a ocurrir) | F36: 4 | H36: Mayor | J36: 4 | N36: 5 | P36: Riesgo medio
C37: Casi cierto (ocurre en la mayoria de circunstancias) | F37: 5 | H37: Catastrófico | J37: 5 | N37: 2, 3 y 4 | P37: Riesgo bajo
C39: Valoración del Riesgo
C40: Calificación Cualitativa | G40: Obstruye la ejecución del contrato de manera intrascendente. | I40: Dificulta la ejecución del contrato de manera baja, aplicando medidas mínimas se pueden lograr el objeto contractual | L40: Afecta la ejecución del contrato sin alterar el beneficio para las partes | N40: Obstruye la ejecución del contrato sustancialmente pero aun así permite la consecución del objeto contractual | P40: Perturba la ejecución del contrato de manera grave imposibilitando la consecución del objeto contractual.
C41: Calificación Monetaria | G41: Los sobrecostos no representan más del uno por ciento (1%) del valor del contrato. | I41: Los sobrecostos no representan más del cinco por ciento (5%) del valor del contrato. | L41: Genera un impacto sobre el valor del contrato entre el cinco (5%) y el quince por ciento (15%). | N41: Incrementa el valor del contrato entre el quince (15%) y el treinta por ciento (30%). | P41: Impacto sobre el valor del contrato en más del treinta por ciento (30%).
C42: Catagoria | F42: Valoración | G42: Insignificante | I42: Menor | L42: Moderado | N42: Mayor | P42: Catastrófico
G43: 1 | I43: 2 | L43: 3 | N43: 4 | P43: 5
C44: Raro (puede ocurrir excepcionalmente) | F44: 1 | G44: 2 | I44: 3 | L44: 4 | N44: 5 | P44: 6
C45: Improbable (puede ocurrir ocasionalmente) | F45: 2 | G45: 3 | I45: 4 | L45: 5 | N45: 6 | P45: 7
C46: Posible (puede ocurrir en cualquier momento futuro) | F46: 3 | G46: 4 | I46: 5 | L46: 6 | N46: 7 | P46: 8
C47: Probable (probablemente va a ocurrir) | F47: 4 | G47: 5 | I47: 6 | L47: 7 | N47: 8 | P47: 9
C48: Casi cierto (ocurre en la mayoria de circunstancias) | F48: 5 | G48: 6 | I48: 7 | L48: 8 | N48: 9 | P48: 10

Sheet ASIGNACION Y TRATAMIENTO
C2: MATRIZ DE RIESGOS DE CONTRATACIÓN | W2: Código: GCO-GCI-F164 Versión: 02 Vigencia: 01 de diciembre de 2022 Caso HOLA: 280117
B6: =+EVALUACION!B6 -> Objeto del Proceso de Contratación "CONTRATAR UNA PÓLIZA COLECTIVA DE SEGURO DE VIDA PARA LOS EDILES DE LA JUNTA ADMINISTRADORA LOCAL DEL FONDO DE DESARROLLO LOCAL DE USAQUÉN”
B7: Esta matriz es un documento anexo del Estudio Previo
B10: No | C10: Descripción (Que puede pasar y, cómo puede ocurrir) | D10: Etapa | E10: Clase | F10: Fuente | G10: Consecuencias de la ocurrencia del evento | H10: Probabilidad | I10: Impacto | J10: Calificación total | K10: Prioridad | L10: ¿A quien se le asigna? | M10: % | N10: Tratamiento/Controles a ser implementados | O10: Probabilidad | P10: Impacto | Q10: Calificación total | R10: Prioridad | S10: ¿Afecta el equilibrio económico del contrato? | T10: Persona responsable por implementar el tratamiento | U10: Fecha estimada en que se inicia el tratamiento | V10: Fecha estimada en que se completa el tratamiento | W10: ¿Cómo se realiza el monitoreo | X10: Periodicidad ¿Cuándo?
B11: 1 | C11: =+'EVALUACION CON CONTROLES'!C13:F13 -> Deficiencias en la oportunidad y/o en la estructuración de la necesidad en la etapa precontractual, por parte del Intermediarios de Seguros de la Entidad | D11: =+'EVALUACION CON CONTROLES'!B13 -> PLANEACIÓN | E11: =VLOOKUP(C11,'IDENTIFICACION Y ANALISIS'!$B$19:$F$37,3,FALSE) -> Especifico | F11: =VLOOKUP(C11,'IDENTIFICACION Y ANALISIS'!$B$19:$F$37,4,FALSE) -> Externo | G11: =+EVALUACION!H17 -> 1. No contar con una adecuada cobertura para los bienes e intereses de la entidad 2. Incremento en el costo de los seguros | H11: =+EVALUACION!I17 -> 2 | I11: =+EVALUACION!J17 -> 2 | J11: =+EVALUACION!K17 -> 4 | K11: =+EVALUACION!L17 -> BAJO | N11: =+'EVALUACION CON CONTROLES'!G13 -> Idoneidad y experiencia en el personal del intermediario | O11: =+'EVALUACION CON CONTROLES'!I13 -> 2 | P11: =+'EVALUACION CON CONTROLES'!J13 -> 2 | Q11: =+'EVALUACION CON CONTROLES'!K13 -> 4 | R11: =+'EVALUACION CON CONTROLES'!L13 -> BAJO | S11: =+'EVALUACION CON CONTROLES'!M13 -> No | T11: =+'EVALUACION CON CONTROLES'!N13 -> Equipo Estructurador (el corredor de seguros forma parte de este) | U11: =+'EVALUACION CON CONTROLES'!O13 -> Desde el momento de la selección del corredor de seguros | V11: =+'EVALUACION CON CONTROLES'!P13 -> Hasta el cumplimiento de la obligación contractual | ... X11: =+'EVALUACION CON CONTROLES'!R13 -> Cada vez que se requiera, durante la etapa de planeación
B12: 2 | C12: =+'EVALUACION CON CONTROLES'!C14:F14 -> Requisitos habilitantes inapropiados para el proceso de selección | D12: =+'EVALUACION CON CONTROLES'!B14 -> PLANEACIÓN | E12: =VLOOKUP(C12,'IDENTIFICACION Y ANALISIS'!$B$19:$F$37,3,FALSE) -> Especifico | F12: =VLOOKUP(C12,'IDENTIFICACION Y ANALISIS'!$B$19:$F$37,4,FALSE) -> Interno | G12: =+EVALUACION!H18 -> Declaratoria de desierto del proceso por la no habilitacion de las ofertas o el no recibimiento de ofertas | H12: =+EVALUACION!I18 -> 2 | I12: =+EVALUACION!J18 -> 3 | J12: =+EVALUACION!K18 -> 5 | K12: =+EVALUACION!L18 -> MEDIO | N12: =+'EVALUACION CON CONTROLES'!G14 -> Estudio del sector y analisis de indicadores de las compañías aseguradoras | O12: =+'EVALUACION CON CONTROLES'!I14 -> 2 | P12: =+'EVALUACION CON CONTROLES'!J14 -> 3 | Q12: =+'EVALUACION CON CONTROLES'!K14 -> 5 | R12: =+'EVALUACION CON CONTROLES'!L14 -> MEDIO | S12: =+'EVALUACION CON CONTROLES'!M14 -> No | T12: =+'EVALUACION CON CONTROLES'!N14 -> Equipo Estructurador (el corredor de seguros forma parte de este) | U12: =+'EVALUACION CON CONTROLES'!O14 -> Desde el comienzo de la etapa de planeación y estructuración del analisis del sector | V12: =+'EVALUACION CON CONTROLES'!P14 -> la fecha limite para expedir adendas | ... X12: =+'EVALUACION CON CONTROLES'!R14 -> Cada vez que se requiera durante todo el proceso de selección
B13: 3 | C13: =+'EVALUACION CON CONTROLES'!C15:F15 -> Inadecuado análisis económico estimativo del valor del contrato | D13: =+'EVALUACION CON CONTROLES'!B15 -> PLANEACIÓN | E13: =VLOOKUP(C13,'IDENTIFICACION Y ANALISIS'!$B$19:$F$37,3,FALSE) -> Especifico | F13: =VLOOKUP(C13,'IDENTIFICACION Y ANALISIS'!$B$19:$F$37,4,FALSE) -> Externo | G13: =+EVALUACION!H19 -> Presupuesto insuficiente para el pago d eprima de los seguros a contratar | H13: =+EVALUACION!I19 -> 2 | I13: =+EVALUACION!J19 -> 3 | J13: =+EVALUACION!K19 -> 5 | K13: =+EVALUACION!L19 -> MEDIO | N13: =+'EVALUACION CON CONTROLES'!G15 -> Solicitud de cotizaciones para estudio de mercado. Promedio de tasas actual de la entidad con tasas actuales de otras entidades con similares caracteristicas de aseguramiento | O13: =+'EVALUACION CON CONTROLES'!I15 -> 2 | P13: =+'EVALUACION CON CONTROLES'!J15 -> 3 | Q13: =+'EVALUACION CON CONTROLES'!K15 -> 5 | R13: =+'EVALUACION CON CONTROLES'!L15 -> MEDIO | S13: =+'EVALUACION CON CONTROLES'!M15 -> No | T13: =+'EVALUACION CON CONTROLES'!N15 -> Equipo Estructurador (el corredor de seguros forma parte de este) | U13: =+'EVALUACION CON CONTROLES'!O15 -> Desde el comienzo de la etapa de planeación y estructuración del analisis del sector | V13: =+'EVALUACION CON CONTROLES'!P15 -> Antes de publicar el pliego de condiciones definitivo | ... X13: =+'EVALUACION CON CONTROLES'!R15 -> Cada vez que se requiera durante el proceso de selección
B14: 4 | C14: =+'EVALUACION CON CONTROLES'!C16:F16 -> Que ninguna compañía aseguradora cumpla con los requerimientos técnicos establecidos en el pliego de condiciones | D14: =+'EVALUACION CON CONTROLES'!B16 -> PLANEACIÓN | E14: =VLOOKUP(C14,'IDENTIFICACION Y ANALISIS'!$B$19:$F$37,3,FALSE) -> Especifico | F14: =VLOOKUP(C14,'IDENTIFICACION Y ANALISIS'!$B$19:$F$37,4,FALSE) -> Externo | G14: =+EVALUACION!H20 -> Declaratoria de desierta por el no recibimiento de ofertas. Ausencia de cobertura de los bienes e intereses de la Entidad, entre tanto se surte nuevamente el proceso | H14: =+EVALUACION!I20 -> 2 | I14: =+EVALUACION!J20 -> 2 | J14: =+EVALUACION!K20 -> 4 | K14: =+EVALUACION!L20 -> BAJO | N14: =+'EVALUACION CON CONTROLES'!G16 -> No incluir requisitos o condiciones tecnicas en los seguros a contratar, de dificil cumplimiento y establecer una adecuada estrategia para la contratación | O14: =+'EVALUACION CON CONTROLES'!I16 -> 2 | P14: =+'EVALUACION CON CONTROLES'!J16 -> 2 | Q14: =+'EVALUACION CON CONTROLES'!K16 -> 4 | R14: =+'EVALUACION CON CONTROLES'!L16 -> BAJO | S14: =+'EVALUACION CON CONTROLES'!M16 -> No | T14: =+'EVALUACION CON CONTROLES'!N16 -> Supervisor del contrato de intermediación de seguros | U14: =+'EVALUACION CON CONTROLES'!O16 -> Desde la elaboración del estudio de mercado y estudios previos | V14: =+'EVALUACION CON CONTROLES'!P16 -> Plazo para publicación de adendas antes del cierre | ... X14: =+'EVALUACION CON CONTROLES'!R16 -> Durante toda la etapa elaboración y publicación de documentos precontractuales
B15: 5 | C15: =+'EVALUACION CON CONTROLES'!C17:F17 -> Errores en la información de los bienes y cargos asegurados por parte de la Entidad al corredor de seguros | D15: =+'EVALUACION CON CONTROLES'!B17 -> PLANEACIÓN | E15: =VLOOKUP(C15,'IDENTIFICACION Y ANALISIS'!$B$19:$F$37,3,FALSE) -> Especifico | F15: =VLOOKUP(C15,'IDENTIFICACION Y ANALISIS'!$B$19:$F$37,4,FALSE) -> Interno | G15: =+EVALUACION!H21 -> Seguro insuficiente; bienes sin aseguramiento. Ausencia de cobertura de los bienes e intereses de la Entidad, entre tanto se surte nuevamente el proceso. Dejar la entidad sin respaldo de un programa de seguros que permita resarcir económicamente a la entidad en caso de un evento amparado en el programa de seguros | H15: =+EVALUACION!I21 -> 2 | I15: =+EVALUACION!J21 -> 3 | J15: =+EVALUACION!K21 -> 5 | K15: =+EVALUACION!L21 -> MEDIO | N15: =+'EVALUACION CON CONTROLES'!G17 -> Verificación de la información de bienes y cargos de la Entidad | O15: =+'EVALUACION CON CONTROLES'!I17 -> 2 | P15: =+'EVALUACION CON CONTROLES'!J17 -> 3 | Q15: =+'EVALUACION CON CONTROLES'!K17 -> 5 | R15: =+'EVALUACION CON CONTROLES'!L17 -> MEDIO | S15: =+'EVALUACION CON CONTROLES'!M17 -> No | T15: =+'EVALUACION CON CONTROLES'!N17 -> Durante la estructuración el Gerente del proyecto requerira a las áreas donde se originó la necesidad de contratación y a la dirección de Talento Humano. De igual manera durante la ejecución del contrato el supervisor del contrato podrá requerir a las áres en mención las respectivas inclusiones y exclusiones. | U15: =+'EVALUACION CON CONTROLES'!O17 -> Desde la etapa precontractual | V15: =+'EVALUACION CON CONTROLES'!P17 -> Hasta el vencimiento de la vigencia del programa de seguros | ... X15: =+'EVALUACION CON CONTROLES'!R17 -> Cada vez que se requiera
B16: 7 | C16: =+'EVALUACION CON CONTROLES'!C18:F18 -> Errores en el proceso de evaluación y adjudicación de las propuestas | D16: =+'EVALUACION CON CONTROLES'!B18 -> SELECCIÓN | E16: =VLOOKUP(C16,'IDENTIFICACION Y ANALISIS'!$B$19:$F$37,3,FALSE) -> General | F16: =VLOOKUP(C16,'IDENTIFICACION Y ANALISIS'!$B$19:$F$37,4,FALSE) -> Interno | G16: =+EVALUACION!H22 -> Demoras en la adjudicación o Adjudicación equivocada, que pueden ocasionar demandas o procesos juridicos en contra de la entidad asegurada. | H16: =+EVALUACION!I22 -> 2 | I16: =+EVALUACION!J22 -> 3 | J16: =+EVALUACION!K22 -> 5 | K16: =+EVALUACION!L22 -> MEDIO | N16: =+'EVALUACION CON CONTROLES'!G18 -> Revisión del comité evaluador. | O16: =+'EVALUACION CON CONTROLES'!I18 -> 2 | P16: =+'EVALUACION CON CONTROLES'!J18 -> 3 | Q16: =+'EVALUACION CON CONTROLES'!K18 -> 5 | R16: =+'EVALUACION CON CONTROLES'!L18 -> MEDIO | S16: =+'EVALUACION CON CONTROLES'!M18 -> No | T16: =+'EVALUACION CON CONTROLES'!N18 -> Grupo Evaluador Corredor de Seguros | U16: =+'EVALUACION CON CONTROLES'!O18 -> Desde el momento en que el corredor entrega la evaluación a la Entidad | V16: =+'EVALUACION CON CONTROLES'!P18 -> Hasta la adjudicación del proceso | ... X16: =+'EVALUACION CON CONTROLES'!R18 -> Cada vez que se requiera
B17: 8 | C17: =+'EVALUACION CON CONTROLES'!C19:F19 -> No publicación de la documentación del proceso de selección en el SECOP | D17: =+'EVALUACION CON CONTROLES'!B19 -> SELECCIÓN | E17: =VLOOKUP(C17,'IDENTIFICACION Y ANALISIS'!$B$19:$F$37,3,FALSE) -> Especifico | F17: =VLOOKUP(C17,'IDENTIFICACION Y ANALISIS'!$B$19:$F$37,4,FALSE) -> Interno | G17: =+EVALUACION!H23 -> No cumplir con el principio de publicidad. Los interesado son conocen las condiciones del pliego. Extension del termino de la modalidad de selección. | H17: =+EVALUACION!I23 -> 2 | I17: =+EVALUACION!J23 -> 2 | J17: =+EVALUACION!K23 -> 4 | K17: =+EVALUACION!L23 -> BAJO | N17: =+'EVALUACION CON CONTROLES'!G19 -> Control periodico por parte del director del proyecto y el area de contratacion | O17: =+'EVALUACION CON CONTROLES'!I19 -> 2 | P17: =+'EVALUACION CON CONTROLES'!J19 -> 2 | Q17: =+'EVALUACION CON CONTROLES'!K19 -> 4 | R17: =+'EVALUACION CON CONTROLES'!L19 -> BAJO | S17: =+'EVALUACION CON CONTROLES'!M19 -> No | T17: =+'EVALUACION CON CONTROLES'!N19 -> Area de contratacion | U17: =+'EVALUACION CON CONTROLES'!O19 -> Desde la publicacion del proceso en proyecto | V17: =+'EVALUACION CON CONTROLES'!P19 -> Hasta la fecha limite para expedir adendas | ... X17: =+'EVALUACION CON CONTROLES'!R19 -> Cada vez que se requiera
B18: 10 | C18: =+'EVALUACION CON CONTROLES'!C20:F20 -> Liquidación de la Compañía Aseguradora contratista por parte de un Ente de Control | D18: =+'EVALUACION CON CONTROLES'!B20 -> CONTRATACIÓN | E18: =VLOOKUP(C18,'IDENTIFICACION Y ANALISIS'!$B$19:$F$37,3,FALSE) -> Especifico | F18: =VLOOKUP(C18,'IDENTIFICACION Y ANALISIS'!$B$19:$F$37,4,FALSE) -> Externo | G18: =+EVALUACION!H24 -> Terminación anticipada del Contrato de Seguros. | H18: =+EVALUACION!I24 -> 2 | I18: =+EVALUACION!J24 -> 2 | J18: =+EVALUACION!K24 -> 4 | K18: =+EVALUACION!L24 -> BAJO | N18: =+'EVALUACION CON CONTROLES'!G20 -> Por ser un riesgo externo ajeno a la Entidad Contratante, no podría implementar controles que prevengan la ocurrencia del riesgo. Estar atentos de las noticias del sector asegurador, especialmente de las compañias de seguros que repaldan el contrato de seguros de la entidad. | O18: =+'EVALUACION CON CONTROLES'!I20 -> 2 | P18: =+'EVALUACION CON CONTROLES'!J20 -> 2 | Q18: =+'EVALUACION CON CONTROLES'!K20 -> 4 | R18: =+'EVALUACION CON CONTROLES'!L20 -> BAJO | S18: =+'EVALUACION CON CONTROLES'!M20 -> No | T18: =+'EVALUACION CON CONTROLES'!N20 -> Corredor de seguros a través de reportes a la entidad con relación al sector asegurador | U18: =+'EVALUACION CON CONTROLES'!O20 -> Desde la etapa precontractual | V18: =+'EVALUACION CON CONTROLES'!P20 -> Hasta la vigencia de las pólizas | ... X18: =+'EVALUACION CON CONTROLES'!R20 -> Cada vez que se requiera
B19: 11 | C19: =+'EVALUACION CON CONTROLES'!C21:F21 -> Falta de solicitud o solicitud tardía del registro presupuestal | D19: =+'EVALUACION CON CONTROLES'!B21 -> CONTRATACIÓN | E19: =VLOOKUP(C19,'IDENTIFICACION Y ANALISIS'!$B$19:$F$37,3,FALSE) -> Especifico | F19: =VLOOKUP(C19,'IDENTIFICACION Y ANALISIS'!$B$19:$F$37,4,FALSE) -> Interno | G19: =+EVALUACION!H25 -> Demoras en la ejecucion del contrato estatal. | H19: =+EVALUACION!I25 -> 2 | I19: =+EVALUACION!J25 -> 3 | J19: =+EVALUACION!K25 -> 5 | K19: =+EVALUACION!L25 -> MEDIO | N19: =+'EVALUACION CON CONTROLES'!G21 -> Coordinacion con el area financiera para al expedicion del RP con oportunidad | O19: =+'EVALUACION CON CONTROLES'!I21 -> 2 | P19: =+'EVALUACION CON CONTROLES'!J21 -> 3 | Q19: =+'EVALUACION CON CONTROLES'!K21 -> 5 | R19: =+'EVALUACION CON CONTROLES'!L21 -> MEDIO | S19: =+'EVALUACION CON CONTROLES'!M21 -> No | T19: =+'EVALUACION CON CONTROLES'!N21 -> Area de contratacion y Gerente del proyecto | U19: =+'EVALUACION CON CONTROLES'!O21 -> Desde la pulbicacion del informe final de evaluacion | V19: =+'EVALUACION CON CONTROLES'!P21 -> hasta la celebracion del contrato | ... X19: =+'EVALUACION CON CONTROLES'!R21 -> cuando se suscriba el contrato
B20: 12 | C20: =+'EVALUACION CON CONTROLES'!C22:F22 -> No publicación de la documentación del proceso de selección en el SECOP | D20: =+'EVALUACION CON CONTROLES'!B22 -> CONTRATACIÓN | E20: =VLOOKUP(C20,'IDENTIFICACION Y ANALISIS'!$B$19:$F$37,3,FALSE) -> Especifico | F20: =VLOOKUP(C20,'IDENTIFICACION Y ANALISIS'!$B$19:$F$37,4,FALSE) -> Interno | G20: =+EVALUACION!H26 -> Falta al principio de publicidad | H20: =+EVALUACION!I26 -> 2 | I20: =+EVALUACION!J26 -> 2 | J20: =+EVALUACION!K26 -> 4 | K20: =+EVALUACION!L26 -> BAJO | N20: =+'EVALUACION CON CONTROLES'!G22 -> Control periodico por parte del director del proyecto y el area de contratacion | O20: =+'EVALUACION CON CONTROLES'!I22 -> 2 | P20: =+'EVALUACION CON CONTROLES'!J22 -> 2 | Q20: =+'EVALUACION CON CONTROLES'!K22 -> 4 | R20: =+'EVALUACION CON CONTROLES'!L22 -> BAJO | S20: =+'EVALUACION CON CONTROLES'!M22 -> No | T20: =+'EVALUACION CON CONTROLES'!N22 -> Area de contratacion | U20: =+'EVALUACION CON CONTROLES'!O22 -> desde la suscripcion del contrato | V20: =+'EVALUACION CON CONTROLES'!P22 -> hasta la terminacion y liqudiacion del contrato | ... X20: =+'EVALUACION CON CONTROLES'!R22 -> Cada vez que se requiera
B21: 13 | C21: =+'EVALUACION CON CONTROLES'!C23:F23 -> Ejecución del Contrato con niveles deficientes del servicio | D21: =+'EVALUACION CON CONTROLES'!B23 -> EJECUCIÓN | E21: =VLOOKUP(C21,'IDENTIFICACION Y ANALISIS'!$B$19:$F$37,3,FALSE) -> General | F21: =VLOOKUP(C21,'IDENTIFICACION Y ANALISIS'!$B$19:$F$37,4,FALSE) -> Externo | G21: =+EVALUACION!H27 -> La calidad del servicio no cumple los estándares exigidos | H21: =+EVALUACION!I27 -> 3 | I21: =+EVALUACION!J27 -> 2 | J21: =+EVALUACION!K27 -> 5 | K21: =+EVALUACION!L27 -> MEDIO | N21: =+'EVALUACION CON CONTROLES'!G23 -> Reuniones de seguimiento de acuerdo con la necesidad, se debe establecer como una obligación de la aseguradora los tiempos de respuesta de siniestros, inclusiones y exclusiones. | O21: =+'EVALUACION CON CONTROLES'!I23 -> 3 | P21: =+'EVALUACION CON CONTROLES'!J23 -> 2 | Q21: =+'EVALUACION CON CONTROLES'!K23 -> 5 | R21: =+'EVALUACION CON CONTROLES'!L23 -> MEDIO | S21: =+'EVALUACION CON CONTROLES'!M23 -> No | T21: =+'EVALUACION CON CONTROLES'!N23 -> Supervisor Contrato y corredor de seguros | U21: =+'EVALUACION CON CONTROLES'!O23 -> Desde el inicio de la vigencia del contrato | V21: =+'EVALUACION CON CONTROLES'!P23 -> Hasta el cumplimiento de las obligaciones derivadas del contrato | ... X21: =+'EVALUACION CON CONTROLES'!R23 -> Cada vez que se requiera
B22: 14 | C22: =+'EVALUACION CON CONTROLES'!C24:F24 -> Desconocimiento por parte de los funcionarios del contenido como de las reclamaciones de las pólizas patrimoniales posterior al vencimiento de la vigencia de estas | D22: =+'EVALUACION CON CONTROLES'!B24 -> EJECUCIÓN | E22: =VLOOKUP(C22,'IDENTIFICACION Y ANALISIS'!$B$19:$F$37,3,FALSE) -> Especifico | F22: =VLOOKUP(C22,'IDENTIFICACION Y ANALISIS'!$B$19:$F$37,4,FALSE) -> Interno | G22: =+EVALUACION!H28 -> 1. No obtener la indemnización u obtener una inferior a la equivalente de acuerdo con las condiciones de la póliza 2. Juicios de responsabilidad fiscal y/o disciplinarios para los funcionarios a cargo de la reclamación | H22: =+EVALUACION!I28 -> 2 | I22: =+EVALUACION!J28 -> 2 | J22: =+EVALUACION!K28 -> 4 | K22: =+EVALUACION!L28 -> BAJO | N22: =+'EVALUACION CON CONTROLES'!G24 -> Capacitación del contenido de las pólizas y proceso de reclamación de cada uno de los ramos contratados y manual de siniestros, por parte del corredor de Seguros | O22: =+'EVALUACION CON CONTROLES'!I24 -> 2 | P22: =+'EVALUACION CON CONTROLES'!J24 -> 2 | Q22: =+'EVALUACION CON CONTROLES'!K24 -> 4 | R22: =+'EVALUACION CON CONTROLES'!L24 -> BAJO | S22: =+'EVALUACION CON CONTROLES'!M24 -> No | T22: =+'EVALUACION CON CONTROLES'!N24 -> Supervisor del contrato de seguros / Corredor seguros | U22: =+'EVALUACION CON CONTROLES'!O24 -> Durante la vigencia de contrato | V22: =+'EVALUACION CON CONTROLES'!P24 -> Hasta el cumplimiento de las obligaciones derivadas del contrato | ... X22: =+'EVALUACION CON CONTROLES'!R24 -> Cada vez que se requiera
... B26: 19 | C26: =+'EVALUACION CON CONTROLES'!C28:F28 -> Variación de tasas o tarifas | D26: =+'EVALUACION CON CONTROLES'!B28 -> EJECUCIÓN | E26: =VLOOKUP(C26,'IDENTIFICACION Y ANALISIS'!$B$19:$F$37,3,FALSE) -> Especifico | F26: =VLOOKUP(C26,'IDENTIFICACION Y ANALISIS'!$B$19:$F$37,4,FALSE) -> Externo | G26: =+EVALUACION!H32 -> Aumento del costo de los seguros para nuevas inclusiones o adiciones y prorrogas | H26: =+EVALUACION!I32 -> 2 | I26: =+EVALUACION!J32 -> 3 | J26: =+EVALUACION!K32 -> 5 | K26: =+EVALUACION!L32 -> MEDIO | N26: =+'EVALUACION CON CONTROLES'!G28 -> incremento en el costo del programa para las nuevas adquisiciones, adiciones o prrorogas. Calsuual condicionando la renegociacion a siniestralidad superior al 50% | O26: =+'EVALUACION CON CONTROLES'!I28 -> 2 | P26: =+'EVALUACION CON CONTROLES'!J28 -> 3 | Q26: =+'EVALUACION CON CONTROLES'!K28 -> 5 | R26: =+'EVALUACION CON CONTROLES'!L28 -> MEDIO | S26: =+'EVALUACION CON CONTROLES'!M28 -> No | T26: =+'EVALUACION CON CONTROLES'!N28 -> Durante la estructuración el Gerente del proyecto requerira a las áreas donde se originó la necesidad de contratación y a la dirección de Talento Humano. De igual manera durante la ejecución del contrato el supervisor del contrato podrá requerir a las áres en mención las respectivas inclusiones y exclusiones. | U26: =+'EVALUACION CON CONTROLES'!O28 -> Desde la etapa precontractual | V26: =+'EVALUACION CON CONTROLES'!P28 -> Hasta el vencimiento de la vigencia del programa de seguros | ... X26: =+'EVALUACION CON CONTROLES'!R28 -> Cada vez que se requiera
F28: Categoria | J28: Impacto del Riesgo
E29: Probabilidad | F29: Catagoria | G29: Valoración | J29: Categoria | L29: Valoración
F30: Raro (puede ocurrir excepcionalmente) | G30: 1 | J30: Insignificante | L30: 1
F31: Improbable (puede ocurrir ocasionalmente) | G31: 2 | J31: Menor | L31: 2
F32: Posible (puede ocurrir en cualquier momento futuro) | G32: 3 | J32: Moderado | L32: 3
F33: Probable (probablemente va a ocurrir) | G33: 4 | J33: Mayor | L33: 4
F34: Casi cierto (ocurre en la mayoria de circunstancias) | G34: 5 | J34: Catastrófico | L34: 5
D36: Valoración del Riesgo
D37: Catagoria | E37: Valoración | F37: Insignificante | H37: Menor | J37: Moderado | K37: Mayor | L37: Catastrófico | P37: Categoria del Riesgo
F38: 1 | H38: 2 | J38: 3 | K38: 4 | L38: 5 | P38: Valoración del Riesgo | S38: Categoría
D39: Raro (puede ocurrir excepcionalmente) | E39: 1 | F39: 2 | H39: 3 | J39: 4 | K39: 5 | L39: 6 | P39: 8, 9 y 10 | S39: Riesgo extremo
D40: Improbable (puede ocurrir ocasionalmente) | E40: 2 | F40: 3 | H40: 4 | J40: 5 | K40: 6 | L40: 7 | P40: 6 y 7 | S40: Riesgo alto
D41: Posible (puede ocurrir en cualquier momento futuro) | E41: 3 | F41: 4 | H41: 5 | J41: 6 | K41: 7 | L41: 8 | P41: 5 | S41: Riesgo medio
D42: Probable (probablemente va a ocurrir) | E42: 4 | F42: 5 | H42: 6 | J42: 7 | K42: 8 | L42: 9 | P42: 2, 3 y 4 | S42: Riesgo bajo
D43: Casi cierto (ocurre en la mayoria de circunstancias) | E43: 5 | F43: 6 | H43: 7 | J43: 8 | K43: 9 | L43: 10
B48: CONTRATISTA
B49: SDG
B50: CONTRATISTA Y SDG
