Workbook
Name \0: #REF!
Name \0: #REF!
Name \0: #REF!
Name \00: #REF!
Name \00: #REF!
Name \00: #REF!
Name \a: #REF!
Name \a: #REF!
Name \AA: [1]LIQUIDACION!#REF!
Name \b: [2]STRSUMM0!#REF!
Name \bb: [2]STRSUMM0!#REF!
Name \E: #REF!
Name \EE: #REF!
Name \G: #REF!
Name \k: '[3]7422CW00'!#REF!
Name \l: [4]STRSUMM0!#REF!
Name \M: #REF!
Name \ñ: '[5]7422CW00'!#REF!
Name \P: #REF!
Name \R: #REF!
Name \s: #REF!
Name \s: #REF!
Name \V: #REF!
Name \X: 'INDICAR CÓDIGO DEL ITEM DE PAGO'!ERR
Name \X: 'PRESUPUESTO OFICIAL (Entidad)'!ERR
Name \X: 'PROPUESTA ECONOMICA(Proponente)'!ERR
Name \X: [0]!ERR
Name \Z: 'INDICAR CÓDIGO DEL ITEM DE PAGO'!ERR
Name \Z: 'PRESUPUESTO OFICIAL (Entidad)'!ERR
Name \Z: 'PROPUESTA ECONOMICA(Proponente)'!ERR
Name \Z: [0]!ERR
Name _________AFC1: [6]INV!$A$25:$D$28
Name _________AFC3: [6]INV!$F$25:$I$28
Name _________AFC5: [6]INV!$K$25:$N$28
Name _________BGC1: [6]INV!$A$5:$D$8
Name _________BGC3: [6]INV!$F$5:$I$8
Name _________BGC5: [6]INV!$K$5:$N$8
Name _________CAC1: [6]INV!$A$19:$D$22
Name _________CAC3: [6]INV!$F$19:$I$22
Name _________CAC5: [6]INV!$K$19:$N$22
Name _________PJ50: #REF!
Name _________PJ50: #REF!
Name _________SBC1: [6]INV!$A$12:$D$15
Name _________SBC3: [6]INV!$F$12:$I$15
Name _________SBC5: [6]INV!$K$12:$N$15
Name ________AFC1: [6]INV!$A$25:$D$28
Name ________AFC3: [6]INV!$F$25:$I$28
Name ________AFC5: [6]INV!$K$25:$N$28
Name ________BGC1: [6]INV!$A$5:$D$8
Name ________BGC3: [6]INV!$F$5:$I$8
Name ________BGC5: [6]INV!$K$5:$N$8
Name ________CAC1: [6]INV!$A$19:$D$22
Name ________CAC3: [6]INV!$F$19:$I$22
Name ________CAC5: [6]INV!$K$19:$N$22
Name ________MA2: #REF!
Name ________MA2: #REF!
Name ________PJ50: #REF!
Name ________PJ50: #REF!
Name ________SBC1: [6]INV!$A$12:$D$15
Name ________SBC3: [6]INV!$F$12:$I$15

Sheet PPTOETAPAS
A1: ESTADIO ORLANDO LOSADA BUENDÍA - GARZON
A3: PRIMERA ETAPA: ADECUACION Y CONSTRUCCION DE LA TRIBUNA OCCIDENTAL, INCLUYE ADECUACION DE CANCHA, ILUMINACION, CAMERINOS, BATERIAS SANITARIAS; SALA DE PRENSA Y OTROS SERVICIOS
A4: Plazo: | B4: Doce (12) Meses
A5: Item | B5: Descripción | C5: Unidad | D5: Cantidad | E5: P. Unitario | F5: P.Total
A6: 1 | B6: PRELIMINARES | F6: =SUM(F7:F8) -> 87811694 | I6: =10816.64+3314.27+1520.83+1875.97+6798.06 -> 24325.77
A7: 1.1 | B7: Localización y Replanteo | C7: área | D7: =10812.64+3314.27 -> 14126.91 | E7: 2850 | F7: =+ROUND(D7*E7,0) -> 40261694 | H7: 16002.88
A8: 1.2 | B8: Demoliciones, incluye botada de escombros | C8: Global | D8: 1 | E8: 47550000 | F8: =+ROUND(D8*E8,0) -> 47550000 | H8: 1
A9: 2 | B9: EXCAVACIONES Y LLENOS | F9: =SUM(F10:F17) -> 76795000
A10: 2.1 | B10: Excavaciones de 0-2 a maquina | C10: m3 | D10: 350 | E10: 27550 | F10: =+ROUND(D10*E10,0) -> 9642500 | H10: 350
A11: 2.2 | B11: Excavaciones de 2-4 a maquina | C11: m3 | D11: 250 | E11: 32550 | F11: =+ROUND(D11*E11,0) -> 8137500 | H11: 250
A12: 2.3 | B12: Excavaciones de 0-2 manual | C12: m3 | D12: 150 | E12: 30500 | F12: =+ROUND(D12*E12,0) -> 4575000 | H12: 150
A13: 2.4 | B13: Excavaciones de 2-4 a manual | C13: m3 | D13: 100 | E13: 35600 | F13: =+ROUND(D13*E13,0) -> 3560000 | H13: 100
A14: 2.5 | B14: Excavación de roca, incluye dinamita o crash, incluye botada | C14: m3 | D14: 45 | E14: 224000 | F14: =+ROUND(D14*E14,0) -> 10080000 | H14: 45
A15: 2.6 | B15: Llenos estructurales con material de prestamo | C15: m3 | D15: 480 | E15: 45000 | F15: =+ROUND(D15*E15,0) -> 21600000 | H15: 480
A16: 2.7 | B16: Lleno con material de recebo | C16: m3 | D16: 220 | E16: 65000 | F16: =+ROUND(D16*E16,0) -> 14300000 | H16: 220
A17: 2.8 | B17: Lleno con material In Situ | C17: m3 | D17: 200 | E17: 24500 | F17: =+ROUND(D17*E17,0) -> 4900000 | H17: 200
A18: 3 | B18: CONCRETOS | F18: =SUM(F19:F23) -> 1643254547
A19: 3.1 | B19: Concreto fundación | C19: m3 | D19: =((12.25+3.44+7.02+10.95+32.49+5.52)+(12.25+3.44+10.53+8.21+16.25+8.28)*2) -> 189.59 | E19: 535000 | F19: =+ROUND(D19*E19,0) -> 101430650 | H19: 189.59 | I19: =12.25+3.44+10.53+8.21+16.25+8.28 -> 58.96 | J19: =63.77*2 -> 127.54
A20: 3.2 | B20: Concretos columnas | C20: m3 | D20: =((10.08+15.34+17.1+106.18)*2)+13.44+20.45+20.52+91.01 -> 442.82 | E20: 675550 | F20: =+ROUND(D20*E20,0) -> 299147051 | H20: 442.82 | I20: =+I19*2 -> 117.92 | J20: 73.63
A21: 3.3 | B21: Concretos para vigas fundacion | C21: m3 | D21: =(73.63+137.44) -> 211.07 | E21: 545400 | F21: =+ROUND(D21*E21,0) -> 115117578 | H21: 211.07 | I21: =12.25+3.44+7.02+10.95+32.49+5.52 -> 71.67 | J21: =+J20+J19 -> 201.17
A22: 3.4 | B22: Concreto para losas, espesor 0.60, incluye formaleteria | C22: m2 | D22: 2977.76 | E22: 185450 | F22: =+ROUND(D22*E22,0) -> 552225592 | H22: 2977.76
A23: 3.5 | B23: Concreto para tribuna, incluye formaleteria | C23: m2 | D23: =19.3*112.3 -> 2167.39 | E23: 265450 | F23: =+ROUND(D23*E23,0) -> 575333676 | H23: 2167.39
A24: 4 | B24: REFUERZO | F24: =SUM(F25:F26) -> 958242478
A25: 4.1 | B25: Refuerzo Grado 60 | C25: kg | D25: =+ROUND((D19+D20+D21+D22*1.1+D23*1.1)*35+8000,0) -> 235610 | E25: 3850 | F25: =+ROUND(D25*E25,0) -> 907098500 | H25: 235610
A26: 4.2 | B26: Refuerzo malla | C26: m2 | D26: =+D22+D23+180*30 -> 10545.15 | E26: 4850 | F26: =+ROUND(D26*E26,0) -> 51143978 | H26: 10545.15
A27: 5 | B27: CUBIERTA | F27: =SUM(F28) -> 0
A28: 5.1 | B28: Cubierta de tribunas, teja termoacustica, incluye estructura metálica, canoa y bajantes en fibra de vidrio | C28: m2 | E28: 134500 | F28: =+ROUND(D28*E28,0) -> 0
A29: 6 | B29: ESTRUCTURAS Y AREAS ESPECIALES CON ACABADOS | F29: =SUM(F30:F45) -> 1764206200
B30: Nivel Camerinos
A31: 6.1 | B31: Camerino A | C31: m2 | D31: 266.96 | E31: 1150000 | F31: =+ROUND(D31*E31,0) -> 307004000 | H31: 266.96
A32: 6.2 | B32: Camerino B | C32: m2 | D32: 223.98 | E32: 1150000 | F32: =+ROUND(D32*E32,0) -> 257577000 | H32: 223.98
A33: 6.3 | B33: Camerino Arbitros | C33: m2 | D33: 39.64 | E33: 1150000 | F33: =+ROUND(D33*E33,0) -> 45586000 | H33: 39.64
A34: 6.4 | B34: Oficinas | C34: m2 | D34: 75.07 | E34: 850000 | F34: =+ROUND(D34*E34,0) -> 63809500 | H34: 75.07
A35: 6.6 | B35: Circulaciones | C35: m2 | D35: 212.42 | E35: =+E37 -> 650000 | F35: =+ROUND(D35*E35,0) -> 138073000 | H35: 212.42
B36: Nivel 1
A37: 6.7 | B37: Circulaciones | C37: m2 | D37: 776.46 | E37: 650000 | F37: =+ROUND(D37*E37,0) -> 504699000 | H37: 776.46
A38: 6.8 | B38: Baños | C38: m2 | D38: 143.05 | E38: 1350000 | F38: =+ROUND(D38*E38,0) -> 193117500 | H38: 143.05
A39: 6.9 | B39: Locales y Oficinas | C39: m2 | E39: 850000 | F39: =+ROUND(D39*E39,0) -> 0 | H39: 370.49
B40: Nivel VIP
A41: 6.1 | B41: Cabinas - PMU - Palcos VIP | C41: m2 | E41: 1150000 | F41: =+ROUND(D41*E41,0) -> 0 | H41: 250
...

Sheet COTIZACIÓN MATERIALES
B1: =+#REF! -> #REF! | E1: LISTADO DE MATERIALES
B4: =+#REF! -> #REF! | E4: FECHA: 19/08/2025 | H4: =#REF! -> #REF! | I4: =#REF! -> #REF! | J4: =#REF! -> #REF! | K4: =#REF! -> #REF! | L4: =#REF! -> #REF! | M4: =#REF! -> #REF! | N4: =#REF! -> #REF! | O4: =#REF! -> #REF! | ... AE4: =#REF! -> #REF!
A5: =+#REF! -> #REF! | H5: Cantidad por Actividad
A6: Item | B6: Material | C6: Und | E6: Cant | F6: Val. Unt | G6: Val. Total | H6: 1.1 | I6: 2.1 | J6: 2.2 | K6: 2.3 | L6: 2.4 | M6: 2.5 | N6: 2.6 | O6: 3.1 | P6: 3.2 | Q6: 3.3 | R6: 3.4 | S6: 3.5 | T6: 3.6 | U6: 4.1 | V6: 4.2 | W6: 4.3 | X6: 4.4 | Y6: 4.5 | Z6: 4.6 | AA6: 4.7 | AB6: 4.8 | AC6: 4.9 | AD6: 4.10 | AE6: 4.11 | AF6: 5.1 | AH6: 1.1 | AI6: 2.1 | AJ6: 2.2 | AK6: 2.3 | AL6: 2.4 | AM6: 2.5 | AN6: 2.6 | AO6: 3.1 | AP6: 3.2 | AQ6: 3.3 | AR6: 3.4 | AS6: 3.5 | AT6: 3.6 | AU6: 4.1 | AV6: 4.2 | AW6: 4.3 | AX6: 4.4 | AY6: 4.5 | AZ6: 4.6 | BA6: 4.7 | BB6: 4.8 | BC6: 4.9 | BD6: 4.10 | BE6: 4.11 | BF6: 5.1
A7: 1 | B7: PUNTILLA 1 1/2" a 3" | C7: LB | E7: =SUM(H7:AF7) -> #REF! | H7: =#REF!*#REF! -> #REF! | AH7: =$F7*H7 -> #REF! | AI7: =$F7*I7 -> 0 | AJ7: =$F7*J7 -> 0 | AK7: =$F7*K7 -> 0 | AL7: =$F7*L7 -> 0 | AM7: =$F7*M7 -> 0 | AN7: =$F7*N7 -> 0 | AO7: =$F7*O7 -> 0 | ... BF7: =$F7*AF7 -> 0
A8: 2 | B8: POLIN DE MADERA (5x5) | C8: ML | E8: =SUM(H8:AF8) -> #REF! | H8: =#REF!*#REF! -> #REF! | AH8: =$F8*H8 -> #REF! | AI8: =$F8*I8 -> 0 | AJ8: =$F8*J8 -> 0 | AK8: =$F8*K8 -> 0 | AL8: =$F8*L8 -> 0 | AM8: =$F8*M8 -> 0 | AN8: =$F8*N8 -> 0 | AO8: =$F8*O8 -> 0 | ... BF8: =$F8*AF8 -> 0
A9: 3 | B9: CERCO DE MADERA 5X10 | C9: ML | E9: =SUM(H9:AF9) -> #REF! | H9: =#REF!*#REF! -> #REF! | AH9: =$F9*H9 -> #REF! | AI9: =$F9*I9 -> 0 | AJ9: =$F9*J9 -> 0 | AK9: =$F9*K9 -> 0 | AL9: =$F9*L9 -> 0 | AM9: =$F9*M9 -> 0 | AN9: =$F9*N9 -> 0 | AO9: =$F9*O9 -> 0 | ... BF9: =$F9*AF9 -> 0
A10: 4 | B10: PIOLA GRUESA ROLLO 50 ML | C10: UND | E10: =SUM(H10:AF10) -> #REF! | H10: =#REF!*#REF! -> #REF! | AH10: =$F10*H10 -> #REF! | AI10: =$F10*I10 -> 0 | AJ10: =$F10*J10 -> 0 | AK10: =$F10*K10 -> 0 | AL10: =$F10*L10 -> 0 | AM10: =$F10*M10 -> 0 | AN10: =$F10*N10 -> 0 | AO10: =$F10*O10 -> 0 | ... BF10: =$F10*AF10 -> 0
A11: 5 | B11: MINERAL ROJO | C11: KG | E11: =SUM(H11:AF11) -> #REF! | H11: =#REF!*#REF! -> #REF! | AH11: =$F11*H11 -> #REF! | AI11: =$F11*I11 -> 0 | AJ11: =$F11*J11 -> 0 | AK11: =$F11*K11 -> 0 | AL11: =$F11*L11 -> 0 | AM11: =$F11*M11 -> 0 | AN11: =$F11*N11 -> 0 | AO11: =$F11*O11 -> 0 | ... BF11: =$F11*AF11 -> 0
A12: 6 | B12: RECEBO COMÚN | C12: M3 | E12: =SUM(H12:AF12) -> #REF! | M12: =M4*#REF! -> #REF! | AH12: =$F12*H12 -> 0 | AI12: =$F12*I12 -> 0 | AJ12: =$F12*J12 -> 0 | AK12: =$F12*K12 -> 0 | AL12: =$F12*L12 -> 0 | AM12: =$F12*M12 -> #REF! | AN12: =$F12*N12 -> 0 | AO12: =$F12*O12 -> 0 | ... BF12: =$F12*AF12 -> 0
A13: 7 | B13: SUB-BASE GRANULAR SBG-1 | C13: M3 | E13: =SUM(H13:AF13) -> #REF! | N13: =N4*#REF! -> #REF! | AH13: =$F13*H13 -> 0 | AI13: =$F13*I13 -> 0 | AJ13: =$F13*J13 -> 0 | AK13: =$F13*K13 -> 0 | AL13: =$F13*L13 -> 0 | AM13: =$F13*M13 -> 0 | AN13: =$F13*N13 -> #REF! | AO13: =$F13*O13 -> 0 | ... BF13: =$F13*AF13 -> 0
A14: 8 | B14: ACERO Fy= 4200 Kg/cm2 | C14: KG | E14: =SUM(H14:AF14) -> #REF! | O14: =O4*#REF! -> #REF! | AH14: =$F14*H14 -> 0 | AI14: =$F14*I14 -> 0 | AJ14: =$F14*J14 -> 0 | AK14: =$F14*K14 -> 0 | AL14: =$F14*L14 -> 0 | AM14: =$F14*M14 -> 0 | AN14: =$F14*N14 -> 0 | AO14: =$F14*O14 -> #REF! | ... BF14: =$F14*AF14 -> 0
A15: 9 | B15: ALAMBRE NEGRO No. 18 | C15: KG | E15: =SUM(H15:AF15) -> #REF! | O15: =O4*#REF! -> #REF! | AH15: =$F15*H15 -> 0 | AI15: =$F15*I15 -> 0 | AJ15: =$F15*J15 -> 0 | AK15: =$F15*K15 -> 0 | AL15: =$F15*L15 -> 0 | AM15: =$F15*M15 -> 0 | AN15: =$F15*N15 -> 0 | AO15: =$F15*O15 -> #REF! | ... BF15: =$F15*AF15 -> 0
A16: 10 | B16: CEMENTO | C16: Bult | E16: =SUM(H16:AF16) -> #REF! | P16: =P4*'4 - CIMENTACIÓN - CONCRETOS'!$E$55 -> #REF! | Q16: =Q4*'8 - PISOS - CONCRETO-ENCHAPES'!E246 -> #REF! | AH16: =$F16*H16 -> 0 | AI16: =$F16*I16 -> 0 | AJ16: =$F16*J16 -> 0 | AK16: =$F16*K16 -> 0 | AL16: =$F16*L16 -> 0 | AM16: =$F16*M16 -> 0 | AN16: =$F16*N16 -> 0 | AO16: =$F16*O16 -> 0 | ... BF16: =$F16*AF16 -> 0
A17: 11 | B17: GRAVILLA | C17: M3 | E17: =SUM(H17:AF17) -> #REF! | P17: =P4*'4 - CIMENTACIÓN - CONCRETOS'!$E$56 -> #REF! | Q17: =Q4*'8 - PISOS - CONCRETO-ENCHAPES'!E247 -> #REF! | AH17: =$F17*H17 -> 0 | AI17: =$F17*I17 -> 0 | AJ17: =$F17*J17 -> 0 | AK17: =$F17*K17 -> 0 | AL17: =$F17*L17 -> 0 | AM17: =$F17*M17 -> 0 | AN17: =$F17*N17 -> 0 | AO17: =$F17*O17 -> 0 | ... BF17: =$F17*AF17 -> 0
A18: 12 | B18: ARENA | C18: M3 | E18: =SUM(H18:AF18) -> #REF! | P18: =P4*'4 - CIMENTACIÓN - CONCRETOS'!$E$57 -> #REF! | Q18: ='8 - PISOS - CONCRETO-ENCHAPES'!E248*'COTIZACIÓN MATERIALES'!Q4 -> #REF! | AH18: =$F18*H18 -> 0 | AI18: =$F18*I18 -> 0 | AJ18: =$F18*J18 -> 0 | AK18: =$F18*K18 -> 0 | AL18: =$F18*L18 -> 0 | AM18: =$F18*M18 -> 0 | AN18: =$F18*N18 -> 0 | AO18: =$F18*O18 -> 0 | ... BF18: =$F18*AF18 -> 0
A19: 13 | B19: Sika Plastocrete DM 4,5kg | C19: Gal | E19: =SUM(H19:AF19) -> #REF! | Q19: ='8 - PISOS - CONCRETO-ENCHAPES'!E250*Q4 -> #REF! | AH19: =$F19*H19 -> 0 | AI19: =$F19*I19 -> 0 | AJ19: =$F19*J19 -> 0 | AK19: =$F19*K19 -> 0 | AL19: =$F19*L19 -> 0 | AM19: =$F19*M19 -> 0 | AN19: =$F19*N19 -> 0 | AO19: =$F19*O19 -> 0 | ... BF19: =$F19*AF19 -> 0
A20: 14 | B20: AGUA | C20: LT | E20: =SUM(H20:AF20) -> #REF! | P20: =P4*'4 - CIMENTACIÓN - CONCRETOS'!E58 -> #REF! | Q20: =Q4*'8 - PISOS - CONCRETO-ENCHAPES'!E249 -> #REF! | R20: =R4*'9 - PAÑETES - PINTURA'!E86 -> #REF! | T20: =T4*'9 - PAÑETES - PINTURA'!E124 -> #REF! | AH20: =$F20*H20 -> 0 | AI20: =$F20*I20 -> 0 | AJ20: =$F20*J20 -> 0 | AK20: =$F20*K20 -> 0 | AL20: =$F20*L20 -> 0 | AM20: =$F20*M20 -> 0 | AN20: =$F20*N20 -> 0 | AO20: =$F20*O20 -> 0 | ... BF20: =$F20*AF20 -> 0
A21: 15 | B21: MORTERO IMPERMEABILIZANTE ZIKA | C21: KG | E21: =SUM(H21:AF21) -> #REF! | R21: =R4*'9 - PAÑETES - PINTURA'!E85 -> #REF! | AH21: =$F21*H21 -> 0 | AI21: =$F21*I21 -> 0 | AJ21: =$F21*J21 -> 0 | AK21: =$F21*K21 -> 0 | AL21: =$F21*L21 -> 0 | AM21: =$F21*M21 -> 0 | AN21: =$F21*N21 -> 0 | AO21: =$F21*O21 -> 0 | ... BF21: =$F21*AF21 -> 0
A22: 16 | B22: CINTA PVC SIKA V-22 | C22: ML | E22: =SUM(H22:AF22) -> #REF! | S22: =S4*#REF! -> #REF! | AH22: =$F22*H22 -> 0 | AI22: =$F22*I22 -> 0 | AJ22: =$F22*J22 -> 0 | AK22: =$F22*K22 -> 0 | AL22: =$F22*L22 -> 0 | AM22: =$F22*M22 -> 0 | AN22: =$F22*N22 -> 0 | AO22: =$F22*O22 -> 0 | ... BF22: =$F22*AF22 -> 0
A23: 17 | B23: MORTERO 1:4 DE BAJA PERMEABILIDAD | C23: M3 | E23: =SUM(H23:AF23) -> #REF! | T23: =T4*'9 - PAÑETES - PINTURA'!E123 -> #REF! | AH23: =$F23*H23 -> 0 | AI23: =$F23*I23 -> 0 | AJ23: =$F23*J23 -> 0 | AK23: =$F23*K23 -> 0 | AL23: =$F23*L23 -> 0 | AM23: =$F23*M23 -> 0 | AN23: =$F23*N23 -> 0 | AO23: =$F23*O23 -> 0 | ... BF23: =$F23*AF23 -> 0
A24: 18 | B24: TUBO PVC P Ø2" RDE 26 | C24: ML | E24: =SUM(H24:AF24) -> #REF! | U24: =U4*#REF! -> #REF! | AH24: =$F24*H24 -> 0 | AI24: =$F24*I24 -> 0 | AJ24: =$F24*J24 -> 0 | AK24: =$F24*K24 -> 0 | AL24: =$F24*L24 -> 0 | AM24: =$F24*M24 -> 0 | AN24: =$F24*N24 -> 0 | AO24: =$F24*O24 -> 0 | ... BF24: =$F24*AF24 -> 0
A25: 19 | B25: LIMPIADOR/REMOVEDOR PVC. ( 1/4 Gal ) | C25: UND | E25: =SUM(H25:AF25) -> #REF! | U25: =U4*#REF! -> #REF! | V25: =V4*#REF! -> #REF! | W25: =W4*#REF! -> #REF! | X25: =X4*#REF! -> #REF! | AH25: =$F25*H25 -> 0 | AI25: =$F25*I25 -> 0 | AJ25: =$F25*J25 -> 0 | AK25: =$F25*K25 -> 0 | AL25: =$F25*L25 -> 0 | AM25: =$F25*M25 -> 0 | AN25: =$F25*N25 -> 0 | AO25: =$F25*O25 -> 0 | ... BF25: =$F25*AF25 -> 0
A26: 20 | B26: SOLDADURA LIQUIDA PVC. (1/4 Gal ) | C26: UND | E26: =SUM(H26:AF26) -> #REF! | U26: =U4*#REF! -> #REF! | V26: =V4*#REF! -> #REF! | W26: =W4*#REF! -> #REF! | X26: =X4*#REF! -> #REF! | AH26: =$F26*H26 -> 0 | AI26: =$F26*I26 -> 0 | AJ26: =$F26*J26 -> 0 | AK26: =$F26*K26 -> 0 | AL26: =$F26*L26 -> 0 | AM26: =$F26*M26 -> 0 | AN26: =$F26*N26 -> 0 | AO26: =$F26*O26 -> 0 | ... BF26: =$F26*AF26 -> 0
A27: 21 | B27: TUBO PVC P Ø6" RDE 26 | C27: ML | E27: =SUM(H27:AF27) -> #REF! | V27: =V4*#REF! -> #REF! | AH27: =$F27*H27 -> 0 | AI27: =$F27*I27 -> 0 | AJ27: =$F27*J27 -> 0 | AK27: =$F27*K27 -> 0 | AL27: =$F27*L27 -> 0 | AM27: =$F27*M27 -> 0 | AN27: =$F27*N27 -> 0 | AO27: =$F27*O27 -> 0 | ... BF27: =$F27*AF27 -> 0
A28: 22 | B28: Codo PVC de 2" | C28: UND | E28: =SUM(H28:AF28) -> #REF! | W28: =W4*#REF! -> #REF! | AH28: =$F28*H28 -> 0 | AI28: =$F28*I28 -> 0 | AJ28: =$F28*J28 -> 0 | AK28: =$F28*K28 -> 0 | AL28: =$F28*L28 -> 0 | AM28: =$F28*M28 -> 0 | AN28: =$F28*N28 -> 0 | AO28: =$F28*O28 -> 0 | ... BF28: =$F28*AF28 -> 0
A29: 23 | B29: Codo PVC de 6" | C29: UND | E29: =SUM(H29:AF29) -> #REF! | X29: =X4*#REF! -> #REF! | AH29: =$F29*H29 -> 0 | AI29: =$F29*I29 -> 0 | AJ29: =$F29*J29 -> 0 | AK29: =$F29*K29 -> 0 | AL29: =$F29*L29 -> 0 | AM29: =$F29*M29 -> 0 | AN29: =$F29*N29 -> 0 | AO29: =$F29*O29 -> 0 | ... BF29: =$F29*AF29 -> 0
A30: 24 | B30: Tee PVC de 2" | C30: UND | E30: =SUM(H30:AF30) -> #REF! | W30: =W4*#REF! -> #REF! | AH30: =$F30*H30 -> 0 | AI30: =$F30*I30 -> 0 | AJ30: =$F30*J30 -> 0 | AK30: =$F30*K30 -> 0 | AL30: =$F30*L30 -> 0 | AM30: =$F30*M30 -> 0 | AN30: =$F30*N30 -> 0 | AO30: =$F30*O30 -> 0 | ... BF30: =$F30*AF30 -> 0
A31: 25 | B31: Tee PVC de 6" | C31: UND | E31: =SUM(H31:AF31) -> #REF! | X31: =X4*#REF! -> #REF! | AH31: =$F31*H31 -> 0 | AI31: =$F31*I31 -> 0 | AJ31: =$F31*J31 -> 0 | AK31: =$F31*K31 -> 0 | AL31: =$F31*L31 -> 0 | AM31: =$F31*M31 -> 0 | AN31: =$F31*N31 -> 0 | AO31: =$F31*O31 -> 0 | ... BF31: =$F31*AF31 -> 0
A32: 26 | B32: NIPLE PASAMUROS EN ACERO | C32: UND | E32: =SUM(H32:AF32) -> #REF! | Y32: =Y4*#REF! -> #REF! | AH32: =$F32*H32 -> 0 | AI32: =$F32*I32 -> 0 | AJ32: =$F32*J32 -> 0 | AK32: =$F32*K32 -> 0 | AL32: =$F32*L32 -> 0 | AM32: =$F32*M32 -> 0 | AN32: =$F32*N32 -> 0 | AO32: =$F32*O32 -> 0 | ... BF32: =$F32*AF32 -> 0
A33: 27 | B33: Válvula de 2" de compuerta elástica | C33: UND | E33: =SUM(H33:AF33) -> #REF! | Z33: =Z4*#REF! -> #REF! | AH33: =$F33*H33 -> 0 | AI33: =$F33*I33 -> 0 | AJ33: =$F33*J33 -> 0 | AK33: =$F33*K33 -> 0 | AL33: =$F33*L33 -> 0 | AM33: =$F33*M33 -> 0 | AN33: =$F33*N33 -> 0 | AO33: =$F33*O33 -> 0 | ... BF33: =$F33*AF33 -> 0
A34: 28 | B34: Válvula de 6" de compuerta elástica | C34: UND | E34: =SUM(H34:AF34) -> #REF! | AA34: =AA4*#REF! -> #REF! | AH34: =$F34*H34 -> 0 | AI34: =$F34*I34 -> 0 | AJ34: =$F34*J34 -> 0 | AK34: =$F34*K34 -> 0 | AL34: =$F34*L34 -> 0 | AM34: =$F34*M34 -> 0 | AN34: =$F34*N34 -> 0 | AO34: =$F34*O34 -> 0 | ... BF34: =$F34*AF34 -> 0
A35: 29 | B35: Tapa en lámina tipo alfajor en portacandados de 60x60cm | C35: UND | E35: =SUM(H35:AF35) -> #REF! | AB35: ='COTIZACIÓN MATERIALES'!AB4*#REF! -> #REF! | AH35: =$F35*H35 -> 0 | AI35: =$F35*I35 -> 0 | AJ35: =$F35*J35 -> 0 | AK35: =$F35*K35 -> 0 | AL35: =$F35*L35 -> 0 | AM35: =$F35*M35 -> 0 | AN35: =$F35*N35 -> 0 | AO35: =$F35*O35 -> 0 | ... BF35: =$F35*AF35 -> 0
A36: 30 | B36: válvula de pie con rejilla de 2" | C36: UND | E36: =SUM(H36:AF36) -> #REF! | AC36: =AC4*#REF! -> #REF! | AH36: =$F36*H36 -> 0 | AI36: =$F36*I36 -> 0 | AJ36: =$F36*J36 -> 0 | AK36: =$F36*K36 -> 0 | AL36: =$F36*L36 -> 0 | AM36: =$F36*M36 -> 0 | AN36: =$F36*N36 -> 0 | AO36: =$F36*O36 -> 0 | ... BF36: =$F36*AF36 -> 0
A37: 31 | B37: Escalones en Propileno de 3/4" | C37: UND | E37: =SUM(H37:AF37) -> #REF! | AD37: =AD4*#REF! -> #REF! | AH37: =$F37*H37 -> 0 | AI37: =$F37*I37 -> 0 | AJ37: =$F37*J37 -> 0 | AK37: =$F37*K37 -> 0 | AL37: =$F37*L37 -> 0 | AM37: =$F37*M37 -> 0 | AN37: =$F37*N37 -> 0 | AO37: =$F37*O37 -> 0 | ... BF37: =$F37*AF37 -> 0
A38: 32 | B38: Codo para ventilación de 3" en tubo galbanizado | C38: UND | E38: =SUM(H38:AF38) -> #REF! | AE38: =AE4*#REF! -> #REF! | AH38: =$F38*H38 -> 0 | AI38: =$F38*I38 -> 0 | AJ38: =$F38*J38 -> 0 | AK38: =$F38*K38 -> 0 | AL38: =$F38*L38 -> 0 | AM38: =$F38*M38 -> 0 | AN38: =$F38*N38 -> 0 | AO38: =$F38*O38 -> 0 | ... BF38: =$F38*AF38 -> 0
A39: 33 | B39: Sika Anchorfix-4 | C39: UND | E39: =SUM(H39:AF39) -> #REF! | Y39: =Y4*#REF! -> #REF! | AD39: =AD4*#REF! -> #REF! | AH39: =$F39*H39 -> 0 | AI39: =$F39*I39 -> 0 | AJ39: =$F39*J39 -> 0 | AK39: =$F39*K39 -> 0 | AL39: =$F39*L39 -> 0 | AM39: =$F39*M39 -> 0 | AN39: =$F39*N39 -> 0 | AO39: =$F39*O39 -> 0 | ... BD39: =$F39*AD39 -> #REF! | BF39: =$F39*AF39 -> 0
AF40: =SUM(AH40:BF40) -> #REF! | AH40: =SUM(AH7:AH39) -> #REF! | AI40: =SUM(AI7:AI39) -> 0 | AJ40: =SUM(AJ7:AJ39) -> 0 | AK40: =SUM(AK7:AK39) -> 0 | AL40: =SUM(AL7:AL39) -> 0 | AM40: =SUM(AM7:AM39) -> #REF! | AN40: =SUM(AN7:AN39) -> #REF! | AO40: =SUM(AO7:AO39) -> #REF! | ... BD40: =SUM(BD7:BD39) -> #REF! | BE40: =SUM(BE7:BE38) -> #REF! | BF40: =SUM(BF7:BF39) -> 0
A43: Item | B43: Material | C43: Und | E43: Cant | F43: Val. Unt | G43: Val. Total
A44: 2 | B44: POLIN DE MADERA (5x5) | C44: ML | E44: 14.4512
...

Sheet Hoja1
A1: DATOS GENERALES
A2: Población | B2: 1764
A3: Coordenadas MGA | B3: ESTE | C3: 1780000.8 | D3: NORTE | E3: 4683505.1
A4: Capacidad del tanque | B4: 360 | C4: m3

Sheet PRESUPUESTO OFICIAL (Entidad)
C3: Formulario 1 - Propuesta económica - Documento tipo de selección abreviada de menor cuantía - versión 2
C4: Código | D4: CCE-EICP-FM-25 | E4: Versión | F4: 2
C6: FORMULARIO 1
C7: PRESUPUESTO OFICIAL
C8: [La entidad puede utilizar este formulario de detalle del presupuesto oficial para determinar las condiciones bajo las cuales los proponentes analizarán y presentarán su propuesta económica de forma detallada, sin perjuicio que la entidad pueda modificarlo o establecer la presentación de la oferta económica con un formulario distinto al indicado.]
C10: Adicionalmente, cuando el proceso de contratación es estructurado por precios unitarios, la Entidad debe aplicar las notas 1, 2 y 3 del presente formulario y las casillas de "Descripción", "Porcentaje" de la Administración, Imprevisto, Utilidad y total A.I.U. resaltadas en colo amarillo. Tratándose de otras modalidades de precio, la Entidad puede o no configurar los mismos aspectos.
C11: PAVIMENTACIÓN EN CONCRETO HIDRAULICO DE LA INFRAESTRUCTURA VIAL PARA TRÁFICO VEHICULAR DE VÍAS URBANAS DEL MUNICIPIO DE TIMANÁ, HUILA.
C12: Nº | D12: ITEM DE PAGO | E12: ESPECIFICACIONES | G12: DESCRIPCION | H12: UND. | I12: CANTIDAD | J12: VALOR UNITARIO | K12: VALOR TOTAL
E13: GENERAL | F13: PARTICULAR
C14: 1. CARRERA 6A ENTRE CALLE 11 Y CALLE 12
D15: 1.1 | G15: ESTRUCTURA DE PAVIMENTO
D16: 1.1.1 | G16: EXCAVACIÓN SIN CLASIFICAR DE LA EXPLANACIÓN Y CANALES (Análisis aplicado para la excavación mecánica de material sin clasificar) | H16: M3 | I16: 203.84 | J16: =26017*1.3 -> 33822.1 | K16: =I16*J16 -> 6894296.9
D17: 1.1.2 | G17: sub base seleccionado compactado hasta alcanzar una densidad seca no inferior al 95% de la máxima obtenida en el ensayo Proctor Modificado para mejoramiento de la via. | H17: M3 | I17: 104 | J17: =117871*1.3 -> 153232.3 | K17: =I17*J17 -> 15936159
D18: 1.1.3 | G18: Restitución de pavimento rígido MR 4.0 MPA incluye equipo para acabado superficial,llana, flotadora, cepillo de texturizado, microtexturizado y aplicación de menbrana curadora, corte, dilatacion y sello de junta | H18: M3 | I18: 99.84 | J18: =886583*1.3 -> 1152557.9 | K18: =I18*J18 -> 1.1507138e+08
D19: 1.1.4 | G19: Acero de refuerzo para transferencia de esfuerzo del concreto rígido figurado FY= 420 Mpa-60000 PSI, corrugado. Incluye transporte con descarga, transporte interno, certificados y todos los elementos necesarios para su correcta instalación, según diseño y recomendaciones para la via | H19: Kg | I19: 2075.58 | J19: =5633*1.3 -> 7322.9 | K19: =I19*J19 -> 15199265
D20: 1.1.5 | G20: instalacion de Sardinel prefrabricado A-10 incluye todo lo necesario para su instalacion | H20: ml | I20: 208 | J20: =76401*1.3 -> 99321.3 | K20: =I20*J20 -> 20658830
C21: Subtotal | K21: =ROUND(SUM(K16:K20),0) -> 173759932
D22: 1.2 | G22: CUNETA
D23: 1.2.1 | G23: RELLENOS PARA ESTRUCTURAS CON RECEBO seleccionado compactado hasta alcanzar una densidad seca no inferior al 95% de la maxima obtenida en el ensayo proctor modificado. Incluye el transporte y el suministro in situ del material de relleno, así como su extensión, humedecimiento y compactación a través de medios manuales. | H23: M3 | I23: 31.2 | J23: =91899*1.3 -> 119468.7 | K23: =I23*J23 -> 3727423.4
D24: 1.2.2 | G24: concretos clase d, f´c =3000 psi (bases) Análisis aplicado para la construcción de cuneta de concreto premezclado vaciado in situ, con resistencia de 21 MPa. Incluye transporte de concreto, formaleta en madera, emulsión para el curado y ejecución de juntas de dilatación con sello de poliuretano | H24: M3 | I24: 20.8 | J24: =638285*1.3 -> 829770.5 | K24: =I24*J24 -> 17259226
D25: 1.2.3 | G25: Suministro figurado y armado de Acero en barras corrugadas, Grado 60 (fy=4200 kg/cm²), de varios diámetros, según NTC 2289 y ASTM A 706. | H25: Kg | I25: 800.8 | J25: =5633*1.3 -> 7322.9 | K25: =I25*J25 -> 5864178.3
C26: Subtotal | K26: =ROUND(SUM(K23:K25),0) -> 26850828
C27: 2. CARRERA 2 ENTRE CALLE 2 Y 3
D28: 1.1 | G28: ESTRUCTURA DE PAVIMENTO
D29: 1.1.1 | G29: EXCAVACIÓN SIN CLASIFICAR DE LA EXPLANACIÓN Y CANALES (Análisis aplicado para la excavación mecánica de material sin clasificar) | H29: M3 | I29: 83.3 | J29: =26017*1.3 -> 33822.1 | K29: =I29*J29 -> 2817380.9
D30: 1.1.2 | G30: sub base seleccionado compactado hasta alcanzar una densidad seca no inferior al 95% de la máxima obtenida en el ensayo Proctor Modificado para mejoramiento de la via | H30: M3 | I30: 61.25 | J30: =117871*1.3 -> 153232.3 | K30: =I30*J30 -> 9385478.4
D31: 1.1.3 | G31: Restitución de pavimento rígido MR 4.0 MPA incluye equipo para acabado superficial,llana, flotadora, cepillo de texturizado, microtexturizado y aplicación de menbrana curadora, corte, dilatacion y sello de junta | H31: M3 | I31: 53.04 | J31: =886583*1.3 -> 1152557.9 | K31: =I31*J31 -> 61131671
D32: 1.1.4 | G32: Acero de refuerzo para transferencia de esfuerzo del concreto rígido figurado FY= 420 Mpa-60000 PSI, corrugado. Incluye transporte con descarga, transporte interno, certificados y todos los elementos necesarios para su correcta instalación, según diseño y recomendaciones para la via | H32: Kg | I32: 999.39 | J32: =5633*1.3 -> 7322.9 | K32: =I32*J32 -> 7318433
D33: 1.1.5 | G33: instalacion de Sardinel prefrabricado A-10 incluye todo lo necesario para su instalacion | H33: ml | I33: 50 | J33: =76401*1.3 -> 99321.3 | K33: =I33*J33 -> 4966065
D34: 1.1.6 | G34: DEMOLICIÓN DE PAVIMENTOS RIGIDOS (Análisis aplicado para una demolición total de la capa de rodadura con espesor de 15 cm) | H34: M2 | I34: 175 | J34: =23737*1.3 -> 30858.1 | K34: =I34*J34 -> 5400167.5
C35: Subtotal | K35: =ROUND(SUM(K29:K34),0) -> 91019196
D36: 1.2 | G36: CUNETA
D37: 1.2.1 | G37: RELLENOS PARA ESTRUCTURAS CON RECEBO seleccionado compactado hasta alcanzar una densidad seca no inferior al 95% de la maxima obtenida en el ensayo proctor modificado. Incluye el transporte y el suministro in situ del material de relleno, así como su extensión, humedecimiento y compactación a través de medios manuales. | H37: M3 | I37: 0 | J37: =91899*1.3 -> 119468.7 | K37: =I37*J37 -> 0
D38: 1.2.2 | G38: concretos clase d, f´c =3000 psi (bases) Análisis aplicado para la construcción de cuneta de concreto premezclado vaciado in situ, con resistencia de 21 MPa. Incluye transporte de concreto, formaleta en madera, emulsión para el curado y ejecución de juntas de dilatación con sello de poliuretano | H38: M3 | I38: 0 | J38: =638285*1.3 -> 829770.5 | K38: =I38*J38 -> 0
D39: 1.2.3 | G39: Suministro figurado y armado de Acero en barras corrugadas, Grado 60 (fy=4200 kg/cm²), de varios diámetros, según NTC 2289 y ASTM A 706. | H39: Kg | I39: 0 | J39: =5633*1.3 -> 7322.9 | K39: =I39*J39 -> 0
C40: Subtotal | K40: =SUM(K37:K39) -> 0
C41: 3. CALLE 14 ENTRE CARRERA 4 Y CARRERA 6
D42: 1.1 | G42: ESTRUCTURA DE PAVIMENTO
D43: 1.1.1 | G43: EXCAVACIÓN SIN CLASIFICAR DE LA EXPLANACIÓN Y CANALES (Análisis aplicado para la excavación mecánica de material sin clasificar) | H43: M3 | I43: 151.01 | J43: =26017*1.3 -> 33822.1 | K43: =I43*J43 -> 5107475.3
D44: 1.1.2 | G44: sub base seleccionado compactado hasta alcanzar una densidad seca no inferior al 95% de la máxima obtenida en el ensayo Proctor Modificado para mejoramiento de la via | H44: M3 | I44: 111.04 | J44: =117871*1.3 -> 153232.3 | K44: =I44*J44 -> 17014915
...

Sheet PROPUESTA ECONOMICA(Proponente)
C3: Formulario 1 - Propuesta económica - Documento tipo de selección abreviada de menor cuantía - versión 2
C4: Código | D4: CCE-EICP-FM-25 | E4: Versión | F4: 2
C6: FORMULARIO 1
C7: PROPUESTA ECONOMICA
C8: [La entidad puede utilizar este formulario de presentación de propuesta económica de forma detallada, sin perjuicio que la entidad pueda modificarlo o establecer la presentación de la oferta económica con un formulario distinto al indicado.] [Los proponentes emplearán el formulario establecido por la entidad para determinar su propuesta económica conforme al Formulario 1 - Presupuesto Oficial publicado por la Entidad]
C10: Cuando el proceso de contratación es estructurado por precios unitarios, la Entidad debe aplicar las notas 1, 2 y 3 del presente formato y las casillas de "Descripción", "Porcentaje" de la Administración, Imprevisto, Utilidad y total A.I.U. resaltadas en color amarillo.
C12: Nº | D12: ITEM DE PAGO | E12: ESPECIFICACIONES | G12: DESCRIPCION | H12: UND. | I12: CANTIDAD | J12: VALOR UNITARIO | K12: VALOR TOTAL
E13: GENERAL | F13: PARTICULAR
C14: 1. CARRERA 6A ENTRE CALLE 11 Y CALLE 12
D15: 1.1 | G15: ESTRUCTURA DE PAVIMENTO
D16: 1.1.1 | G16: EXCAVACIÓN SIN CLASIFICAR DE LA EXPLANACIÓN Y CANALES (Análisis aplicado para la excavación mecánica de material sin clasificar) | H16: M3 | I16: 203.84
D17: 1.1.2 | G17: sub base seleccionado compactado hasta alcanzar una densidad seca no inferior al 95% de la máxima obtenida en el ensayo Proctor Modificado para mejoramiento de la via. | H17: M3 | I17: 104
D18: 1.1.3 | G18: Restitución de pavimento rígido MR 4.0 MPA incluye equipo para acabado superficial,llana, flotadora, cepillo de texturizado, microtexturizado y aplicación de menbrana curadora, corte, dilatacion y sello de junta | H18: M3 | I18: 99.84
D19: 1.1.4 | G19: Acero de refuerzo para transferencia de esfuerzo del concreto rígido figurado FY= 420 Mpa-60000 PSI, corrugado. Incluye transporte con descarga, transporte interno, certificados y todos los elementos necesarios para su correcta instalación, según diseño y recomendaciones para la via | H19: Kg | I19: 2075.58
D20: 1.1.5 | G20: instalacion de Sardinel prefrabricado A-10 incluye todo lo necesario para su instalacion | H20: ml | I20: 208
C21: Subtotal
D22: 1.2 | G22: CUNETA
D23: 1.2.1 | G23: RELLENOS PARA ESTRUCTURAS CON RECEBO seleccionado compactado hasta alcanzar una densidad seca no inferior al 95% de la maxima obtenida en el ensayo proctor modificado. Incluye el transporte y el suministro in situ del material de relleno, así como su extensión, humedecimiento y compactación a través de medios manuales. | H23: M3 | I23: 31.2
D24: 1.2.2 | G24: concretos clase d, f´c =3000 psi (bases) Análisis aplicado para la construcción de cuneta de concreto premezclado vaciado in situ, con resistencia de 21 MPa. Incluye transporte de concreto, formaleta en madera, emulsión para el curado y ejecución de juntas de dilatación con sello de poliuretano | H24: M3 | I24: 20.8
D25: 1.2.3 | G25: Suministro figurado y armado de Acero en barras corrugadas, Grado 60 (fy=4200 kg/cm²), de varios diámetros, según NTC 2289 y ASTM A 706. | H25: Kg | I25: 800.8
C26: Subtotal
C27: 2. CARRERA 2 ENTRE CALLE 2 Y 3
D28: 1.1 | G28: ESTRUCTURA DE PAVIMENTO
D29: 1.1.1 | G29: EXCAVACIÓN SIN CLASIFICAR DE LA EXPLANACIÓN Y CANALES (Análisis aplicado para la excavación mecánica de material sin clasificar) | H29: M3 | I29: 83.3
D30: 1.1.2 | G30: sub base seleccionado compactado hasta alcanzar una densidad seca no inferior al 95% de la máxima obtenida en el ensayo Proctor Modificado para mejoramiento de la via | H30: M3 | I30: 61.25
D31: 1.1.3 | G31: Restitución de pavimento rígido MR 4.0 MPA incluye equipo para acabado superficial,llana, flotadora, cepillo de texturizado, microtexturizado y aplicación de menbrana curadora, corte, dilatacion y sello de junta | H31: M3 | I31: 53.04
D32: 1.1.4 | G32: Acero de refuerzo para transferencia de esfuerzo del concreto rígido figurado FY= 420 Mpa-60000 PSI, corrugado. Incluye transporte con descarga, transporte interno, certificados y todos los elementos necesarios para su correcta instalación, según diseño y recomendaciones para la via | H32: Kg | I32: 999.39
D33: 1.1.5 | G33: instalacion de Sardinel prefrabricado A-10 incluye todo lo necesario para su instalacion | H33: ml | I33: 50
D34: 1.1.6 | G34: DEMOLICIÓN DE PAVIMENTOS RIGIDOS (Análisis aplicado para una demolición total de la capa de rodadura con espesor de 15 cm) | H34: M2 | I34: 175
C35: Subtotal
D36: 1.2 | G36: CUNETA
D37: 1.2.1 | G37: RELLENOS PARA ESTRUCTURAS CON RECEBO seleccionado compactado hasta alcanzar una densidad seca no inferior al 95% de la maxima obtenida en el ensayo proctor modificado. Incluye el transporte y el suministro in situ del material de relleno, así como su extensión, humedecimiento y compactación a través de medios manuales. | H37: M3 | I37: 0
D38: 1.2.2 | G38: concretos clase d, f´c =3000 psi (bases) Análisis aplicado para la construcción de cuneta de concreto premezclado vaciado in situ, con resistencia de 21 MPa. Incluye transporte de concreto, formaleta en madera, emulsión para el curado y ejecución de juntas de dilatación con sello de poliuretano | H38: M3 | I38: 0
D39: 1.2.3 | G39: Suministro figurado y armado de Acero en barras corrugadas, Grado 60 (fy=4200 kg/cm²), de varios diámetros, según NTC 2289 y ASTM A 706. | H39: Kg | I39: 0
C40: Subtotal
C41: 3. CALLE 14 ENTRE CARRERA 4 Y CARRERA 6
D42: 1.1 | G42: ESTRUCTURA DE PAVIMENTO
D43: 1.1.1 | G43: EXCAVACIÓN SIN CLASIFICAR DE LA EXPLANACIÓN Y CANALES (Análisis aplicado para la excavación mecánica de material sin clasificar) | H43: M3 | I43: 151.01
D44: 1.1.2 | G44: sub base seleccionado compactado hasta alcanzar una densidad seca no inferior al 95% de la máxima obtenida en el ensayo Proctor Modificado para mejoramiento de la via | H44: M3 | I44: 111.04
D45: 1.1.3 | G45: Restitución de pavimento rígido MR 4.0 MPA incluye equipo para acabado superficial,llana, flotadora, cepillo de texturizado, microtexturizado y aplicación de menbrana curadora, corte, dilatacion y sello de junta | H45: M3 | I45: 106.59
...

Sheet INDICAR CÓDIGO DEL ITEM DE PAGO
C3: Formulario 1 - Propuesta económica - Documento tipo de selección abreviada de menor cuantía - versión 3
C4: Código | D4: CCE-EICP-FM-25 | E4: Versión | F4: 3
C6: [La entidad podrá utilizar este formato para la presentación de los análisis de precios unitarios el contratista en la oportunidad prevista en el numeral 8.1. del Documento Base]
D9: [NOMBRE DE LA ENTIDAD]
L10: VERSIÓN
D11: [NÚMERO DEL PROCESO]
L12: PÁGINA | M12: 1 | N12: DE | O12: 1
D14: ANALISIS DE PRECIOS UNITARIOS
L16: FECHA | M16: DD | N16: MM | O16: AA
C18: ITEMS DE LA PROPUESTA ECONÓMICA | I18: ITEMS NO PREVISTOS
C22: DATOS ESPECÍFICOS
C24: ITEM | D24: DESCRIPCIÓN | M24: UNIDAD | O24: CANTIDAD
C26: I. EQUIPO
C29: DESCRIPCIÓN | H29: MARCA | J29: TIPO | L29: TARIFA/HORA | M29: RENDIMIENTO | O29: Vr. UNITARIO
C33: SUBTOTAL $
C34: II. MATERIALES
C37: DESCRIPCIÓN | K37: UNIDAD | L37: CANTIDAD | M37: PRECIO UNIT. | O37: Vr. UNITARIO
C40: SUBTOTAL $ | O40: 0
C41: III. TRANSPORTES
C44: MATERIAL | J44: VOL. o PESO | K44: DISTANCIA | L44: M3 o Ton/Km | M44: TARIFA | O44: Vr. UNITARIO
C47: SUBTOTAL $
C48: IV. MANO DE OBRA
C51: TRABAJADOR | J51: JORNAL | K51: PRESTACIONES | L51: JORNAL TOTAL | M51: RENDIMIENTO | O51: Vr. UNITARIO
C56: SUBTOTAL $
C58: TOTAL COSTO DIRECTO $
C59: V. COSTOS INDIRECTOS
C62: Descripción | L62: Porcentaje | M62: Valor Total
C63: ADMINISTRACION
C64: IMPREVISTOS
C65: UTILIDAD
C66: SUBTOTAL $
C68: Precio Unitario Total Aproximado al peso $
H72: Firma
H73: Nombre:
H74: Representante Legal del Contratista o su Apoderado
H75: Matricula No. :
C77: OBSERVACIONES INTERVENTORÍA
C81: APROBACIÓN POR INTERVENTORÍA
C82: Nota 1: Cuando se trate de Análisis de precios unitarios correspondientes a ítems de la propuesta económica aprobada, el Interventor aprueba el desglose de los componentes manteniendo el mismo precio unitario de cada ítem, cumpliendo con las especificaciones de construcción vigentes para el proyecto.
C84: Nota 2: Cuando se trate de Análisis de precios unitarios de ítems no previstos, el Interventor aprueba el desglose y precio unitario de cada ítem no previsto, exigiendo la aplicación de los costos correspondientes a insumos y tarifas de la propuesta económica inicial cuando estén contemplados, cumpliendo con las especificaciones de construcción vigente para el proyecto.
...

Sheet LISTA TRANSPORTES
B1: LISTADO DE EQUIPOS
B2: MUNICIPIO DE TIMANÁ
B3: SECRETARÍA DE PLANEACIÓN Y DESARROLLO SOCIAL
B4: FECHA: 22 DE ENERO DE 2026 | G4: =#REF! -> #REF! | H4: =#REF! -> #REF! | I4: =#REF! -> #REF! | J4: =#REF! -> #REF! | K4: =#REF! -> #REF! | L4: =#REF! -> #REF! | M4: =#REF! -> #REF! | N4: =#REF! -> #REF! | ... AD4: =#REF! -> #REF!
A5: =+#REF! -> #REF! | G5: Cantidad de materiales por Actividad
A6: Item | B6: Insumo | C6: Und | D6: Cant | E6: Tarifa | F6: Val. Total | G6: 1.1 | H6: 2.1 | I6: 2.2 | J6: 2.3 | K6: 2.4 | L6: 2.5 | M6: 2.6 | N6: 3.1 | O6: 3.2 | P6: 3.3 | Q6: 3.4 | R6: 3.5 | S6: 3.6 | T6: 4.1 | U6: 4.2 | V6: 4.3 | W6: 4.4 | X6: 4.5 | Y6: 4.6 | Z6: 4.7 | AA6: 4.8 | AB6: 4.9 | AC6: 4.10 | AD6: 4.11 | AE6: 5.1 | AG6: 1.1 | AH6: 2.1 | AI6: 2.2 | AJ6: 2.3 | AK6: 2.4 | AL6: 2.5 | AM6: 2.6 | AN6: 3.1 | AO6: 3.2 | AP6: 3.3 | AQ6: 3.4 | AR6: 3.5 | AS6: 3.6 | AT6: 4.1 | AU6: 4.2 | AV6: 4.3 | AW6: 4.4 | AX6: 4.5 | AY6: 4.6 | AZ6: 4.7 | BA6: 4.8 | BB6: 4.9 | BC6: 4.10 | BD6: 4.11 | BE6: 5.1
A7: 1 | B7: VOLQUETA M3/KM | C7: M3 | D7: =SUM(G7:AE7) -> #REF! | E7: 4500 | F7: =D7*E7 -> #REF! | J7: =#REF!*#REF! -> #REF! | L7: =#REF!*#REF! -> #REF! | M7: =#REF!*#REF! -> #REF! | P7: =#REF!*'8 - PISOS - CONCRETO-ENCHAPES'!E254 -> #REF! | AG7: =$E7*G7 -> 0 | AH7: =$E7*H7 -> 0 | AI7: =$E7*I7 -> 0 | AJ7: =$E7*J7 -> #REF! | AK7: =$E7*K7 -> 0 | AL7: =$E7*L7 -> #REF! | AM7: =$E7*M7 -> #REF! | AN7: =$E7*N7 -> 0 | ... BE7: =$E7*AE7 -> 0
A8: 2 | B8: VOLQUETA VIAJE DESDE CANTERA A SITIO DE OBRA (NARANJAL) (50KM) | C8: M3 | D8: 1 | E8: =420000/6 -> 70000
F9: =SUM(F7:F8) -> #REF! | AE9: =SUM(AG9:BE9) -> #REF! | AG9: =SUM(AG7:AG8) -> 0 | AH9: =SUM(AH7:AH8) -> 0 | AI9: =SUM(AI7:AI8) -> 0 | AJ9: =SUM(AJ7:AJ8) -> #REF! | AK9: =SUM(AK7:AK8) -> 0 | AL9: =SUM(AL7:AL8) -> #REF! | AM9: =SUM(AM7:AM8) -> #REF! | AN9: =SUM(AN7:AN8) -> 0 | ... BE9: =SUM(BE7:BE8) -> 0

Sheet PROGRAMACION
A1: ESTADIO PLAZAS ALCID - NEIVA
A3: PRIMERA ETAPA: ADECUACION Y CONSTRUCCION DE LAS TRIBUNAS ORIENTAL Y OCCIDENTAL, INCLUYE ADECUACION DE CANCHA, ILUMINACION, CAMERINOS, BATERIAS SANITARIAS; SALA DE PRENSA Y OTROS SERVICIOS
A4: Plazo: | B4: Nueve (9) Meses | H4: MES1 | L4: MES2 | P4: MES3 | T4: MES4 | X4: MES5 | AB4: MES6 | AF4: MES7 | AJ4: MES8 | AN4: MES9 | AR4: MES10 | AV4: TOTAL
A5: Item | B5: Descripción | C5: Unidad | D5: Cantidad | E5: P. Unitario | F5: P.Total
A6: 1 | B6: PRELIMINARES
A7: 1.1 | B7: Localización y Replanteo | C7: Dia | D7: 60 | E7: 480000 | F7: =+ROUND(D7*E7,0) -> 28800000
A8: 1.2 | B8: Demoliciones, incluye botada de escombros | C8: Global | D8: 1 | E8: 15000000 | F8: =+ROUND(D8*E8,0) -> 15000000
A9: 2 | B9: EXCAVACIONES Y LLENOS | F9: =+ROUND(D9*E9,0) -> 0
A10: 2.1 | B10: Excavaciones de 0-2 a maquina | C10: m3 | D10: 350 | E10: 25200 | F10: =+ROUND(D10*E10,0) -> 8820000
A11: 2.2 | B11: Excavaciones de 2-4 a maquina | C11: m3 | D11: 250 | E11: 30500 | F11: =+ROUND(D11*E11,0) -> 7625000
A12: 2.3 | B12: Excavaciones de 0-2 manual | C12: m3 | D12: 150 | E12: 30500 | F12: =+ROUND(D12*E12,0) -> 4575000
A13: 2.4 | B13: Excavaciones de 2-4 a manual | C13: m3 | D13: 100 | E13: 35600 | F13: =+ROUND(D13*E13,0) -> 3560000
A14: 2.5 | B14: Excavacion de pilas, incluye botada de tierra y anillada | C14: ml | D14: =140*5 -> 700 | E14: 185000 | F14: =+ROUND(D14*E14,0) -> 129500000
A15: 2.6 | B15: Excavación de roca, incluye dinamita o crash, incluye botada | C15: m3 | D15: 94 | E15: 224000 | F15: =+ROUND(D15*E15,0) -> 21056000
A16: 2.7 | B16: Llenos estructurales con material de prestamo | C16: m3 | D16: 180 | E16: 45000 | F16: =+ROUND(D16*E16,0) -> 8100000
A17: 2.8 | B17: Lleno con material de recebo | C17: m3 | D17: 120 | E17: 65000 | F17: =+ROUND(D17*E17,0) -> 7800000
A18: 2.9 | B18: Lleno con material In Situ | C18: m3 | D18: 120 | E18: 24500 | F18: =+ROUND(D18*E18,0) -> 2940000
A19: 3 | B19: CONCRETOS | F19: =+ROUND(D19*E19,0) -> 0
A20: 3.1 | B20: Concreto fundación | C20: m3 | D20: 180 | E20: 485000 | F20: =+ROUND(D20*E20,0) -> 87300000
A21: 3.2 | B21: Concretos columnas | C21: m3 | D21: =23.6*1*0.6*80 -> 1132.8 | E21: 620000 | F21: =+ROUND(D21*E21,0) -> 702336000
A22: 3.3 | B22: Concretos para vigas fundacion | C22: m3 | D22: 423.5 | E22: 520000 | F22: =+ROUND(D22*E22,0) -> 220220000
A23: 3.4 | B23: Concreto para losas, espesor 1.10, incluye formaleteria | C23: m2 | D23: =180*9.5*2+(66.4*2+66.4*3.4)*2+(113.6*2*2+113.6*3.4) -> 4977.76 | E23: 262500 | F23: =+ROUND(D23*E23,0) -> 1306662000
A24: 3.5 | B24: Concreto para tribuna, incluye formaleteria | C24: m2 | D24: =180*21.5*2 -> 7740 | E24: 360200 | F24: =+ROUND(D24*E24,0) -> 2787948000
A25: 4 | B25: REFUERZO | F25: =+ROUND(D25*E25,0) -> 0
A26: 4.1 | B26: Refuerzo Grado 60 | C26: kg | D26: =+ROUND((D20+D21+D22+D23*1.1+D24*1.1)*35+8000,0) -> 558404 | E26: 3850 | F26: =+ROUND(D26*E26,0) -> 2149855400
A27: 4.2 | B27: Refuerzo malla | C27: m2 | D27: =+D23+D24+180*30*2 -> 23517.76 | E27: 4850 | F27: =+ROUND(D27*E27,0) -> 114061136
A28: 5 | B28: CUBIERTA | F28: =+ROUND(D28*E28,0) -> 0
A29: 5.1 | B29: Cubierta de tribunas, teja termoacustica, incluye estructura metálica, canoa y bajantes en fibra de vidrio | C29: m2 | D29: 10092.19 | E29: 134500 | F29: =+ROUND(D29*E29,0) -> 1357399555
A30: 5.2 | B30: Otras areas de cubierta | C30: m2 | D30: 1280.42 | E30: 90500 | F30: =+ROUND(D30*E30,0) -> 115878010
A31: 6 | B31: ESTRUCTURAS Y AREAS ESPECIALES CON ACABADOS | F31: =+ROUND(D31*E31,0) -> 0
A32: 6.1 | B32: Construcción de Rampas de evacuación, incluye concretos, mamposteria, acabados, cubierta, fachadas y demas elemetos para su funcionamiento | C32: un | D32: 4 | E32: 348500000 | F32: =+ROUND(D32*E32,0) -> 1394000000
A33: 6.2 | B33: Túneles de aceso | C33: Global | D33: 2 | E33: 290000000 | F33: =+ROUND(D33*E33,0) -> 580000000
A34: 6.3 | B34: Hall de entrevista | C34: Global | D34: 1 | E34: 15600000 | F34: =+ROUND(D34*E34,0) -> 15600000
A35: 6.4 | B35: Cuarto de Técnicos | C35: Global | D35: 1 | E35: 46000000 | F35: =+ROUND(D35*E35,0) -> 46000000
A36: 6.5 | B36: Camerinos secundarios | C36: Global | D36: 1 | E36: 630000000 | F36: =+ROUND(D36*E36,0) -> 630000000
A37: 6.6 | B37: Camerinos Principales | C37: Global | D37: 1 | E37: 1200000000 | F37: =+ROUND(D37*E37,0) -> 1200000000
A38: 6.7 | B38: Zona de Flash | C38: Global | D38: 1 | E38: 85000000 | F38: =+ROUND(D38*E38,0) -> 85000000
A39: 6.8 | B39: Banco de Arbitros | C39: Global | D39: 1 | E39: 46000000 | F39: =+ROUND(D39*E39,0) -> 46000000
A40: 6.9 | B40: Sala de Primeros Auxilios Jugadores | C40: Global | D40: 1 | E40: 52000000 | F40: =+ROUND(D40*E40,0) -> 52000000
A41: 6.10 | B41: Sala de primeros auxilios Público | C41: Global | D41: 1 | E41: 124000000 | F41: =+ROUND(D41*E41,0) -> 124000000
...

Sheet PRESUPUESTO Bloque 1
A1: GOBERNACIÓN DEL HUILA
A2: INDERHUILA
A4: =+#REF! -> #REF!
A5: PRESUPUESTO DE OBRA - BLOQUE 1
A7: ITEM | B7: DESCRIPCION | C7: UND | D7: Cantidad | E7: VR/UNIT | F7: VR/TOTAL
A9: 1 | B9: ACTIVIDADES PRELIMINARES
A10: 1.1 | B10: =+#REF! -> #REF! | C10: M2 | E10: =+#REF! -> #REF! | F10: =+E10*D10 -> #REF! | H10: 1486.0619
A11: 1.2 | B11: =+_xlfn.SINGLE(#REF!) -> #NAME? | C11: =+#REF! -> #REF! | E11: =+'2 - DEMOLICIONES'!G197 -> 117023 | F11: =+E11*D11 -> 0 | H11: 303.82537
A12: 1.3 | B12: =+#REF! -> #REF! | C12: =+#REF! -> #REF! | E12: =+'2 - DEMOLICIONES'!G518 -> 24806 | F12: =+E12*D12 -> 0 | H12: 328.071
A13: 1.4 | B13: =+#REF! -> #REF! | C13: =+#REF! -> #REF! | E13: =+'2 - DEMOLICIONES'!G164 -> 28443 | F13: =+E13*D13 -> 0 | H13: #REF!
A14: 1.5 | B14: =+#REF! -> #REF! | C14: =+#REF! -> #REF! | E14: =+'2 - DEMOLICIONES'!G325 -> 14119 | F14: =+E14*D14 -> 0 | H14: #REF!
A15: 1.6 | B15: =+_xlfn.SINGLE(#REF!) -> #NAME? | C15: =+#REF! -> #REF! | E15: =+'2 - DEMOLICIONES'!G389 -> 323683 | F15: =+E15*D15 -> 0 | H15: 328.071
A16: 1.7 | B16: =+#REF! -> #REF! | C16: =+#REF! -> #REF! | E16: =+'2 - DEMOLICIONES'!G357 -> 41801 | F16: =+E16*D16 -> 0 | H16: #REF!
A17: 1.8 | B17: =+#REF! -> #REF! | C17: =+#REF! -> #REF! | D17: =+'MEMORIA DE CANTIDADES BLOQUE 1'!G124 -> 250.24 | E17: =+#REF! -> #REF! | F17: =+E17*D17 -> #REF! | H17: 328.071
A18: 1.9 | B18: =+#REF! -> #REF! | C18: =+#REF! -> #REF! | E18: =+#REF! -> #REF! | F18: =+E18*D18 -> #REF! | H18: #REF!
A19: SUB-TOTAL CAPITULO | F19: =SUM(F10:F18) -> #REF! | H19: =+F19*1.25 -> #REF! | I19: 761767185
A20: 2 | B20: CONCRETOS
A21: 2.1 | B21: Solado en concreto de limpieza (e= 10 cm) de 1.700 P.S.I. | C21: M2 | D21: =+'MEMORIA DE CANTIDADES BLOQUE 1'!G153 -> 125.12 | E21: =+'4 - CIMENTACIÓN - CONCRETOS'!G71 -> #REF! | F21: =+D21*E21 -> #REF! | H21: 62.8255
A22: 2.2 | B22: Concreto para base de estructuras en concreto ciclópeo - 2500 PSI (175 kg/cm2) 60% concreto 2500 PSI + 40% piedra media zonga. | C22: M3 | E22: =+'4 - CIMENTACIÓN - CONCRETOS'!G109 -> 732924 | F22: =+D22*E22 -> 0 | H22: 11.9082
A23: 2.3 | B23: =+_xlfn.SINGLE(#REF!) -> #NAME? | C23: M3 | D23: =+'MEMORIA DE CANTIDADES BLOQUE 1'!G179 -> 50.05 | E23: =+'4 - CIMENTACIÓN - CONCRETOS'!G301 -> 1229432 | F23: =+D23*E23 -> 61533072 | H23: 22.298275
A24: 2.4 | B24: =+_xlfn.SINGLE(#REF!) -> #NAME? | C24: M3 | D24: =+#REF! -> #REF! | E24: =+'4 - CIMENTACIÓN - CONCRETOS'!G334 -> 1137721 | F24: =+D24*E24 -> #REF! | H24: 21.821112
A25: 2.5 | B25: =+_xlfn.SINGLE(#REF!) -> #NAME? | C25: M3 | D25: =+'MEMORIA DE CANTIDADES BLOQUE 1'!G200 -> 85.02 | E25: =+#REF! -> #REF! | F25: =+E25*D25 -> #REF! | H25: 24.01
A26: 2.6 | B26: =+_xlfn.SINGLE(#REF!) -> #NAME? | C26: M3 | D26: =+'MEMORIA DE CANTIDADES BLOQUE 1'!G214 -> 30.83 | E26: =+#REF! -> #REF! | F26: =+D26*E26 -> #REF! | H26: 10.38224
A27: 2.7 | B27: =+#REF! -> #REF! | C27: M3 | D27: =+#REF! -> #REF! | E27: =+#REF! -> #REF! | F27: =+E27*D27 -> #REF! | H27: 11.268152
A28: 2.7 | B28: =+#REF! -> #REF! | C28: M3 | D28: =+'MEMORIA DE CANTIDADES BLOQUE 1'!G238 -> 0 | E28: =+#REF! -> #REF! | F28: =+E28*D28 -> #REF! | H28: 2.002
A29: 2.8 | B29: =+#REF! -> #REF! | C29: M2 | D29: =+'MEMORIA DE CANTIDADES BLOQUE 1'!G254 -> 2151.75 | E29: =+#REF! -> #REF! | F29: =+E29*D29 -> #REF! | H29: 51.15
A30: 2.10 | B30: =+#REF! -> #REF! | C30: M3 | D30: =+#REF! -> #REF! | E30: =+#REF! -> #REF! | F30: =+E30*D30 -> #REF! | H30: 77.6
A31: 2.11 | B31: =+#REF! -> #REF! | C31: M2 | D31: =+#REF! -> #REF! | E31: =+#REF! -> #REF! | F31: =+E31*D31 -> #REF! | H31: 2.6892
A33: SUB-TOTAL CAPITULO | F33: =SUM(F21:F32) -> #REF! | H33: =+F33*1.25 -> #REF! | I33: 1735716245
A34: 3 | B34: ESTRUCTURA METÁLICA
A35: 3.1 | B35: =+#REF! -> #REF! | C35: =+#REF! -> #REF! | D35: =+'MEMORIA DE CANTIDADES BLOQUE 1'!G287 -> 85559.63 | E35: 14025 | F35: =+D35*E35 -> 1.1999738e+09 | H35: 11994.447
A36: 3.2 | B36: =+#REF! -> #REF! | C36: =+#REF! -> #REF! | D36: =+'MEMORIA DE CANTIDADES BLOQUE 1'!G298 -> 113409.63 | E36: 13725 | F36: =+D36*E36 -> 1.5565472e+09 | H36: 51.15
A37: 3.3 | B37: =+#REF! -> #REF! | C37: =+#REF! -> #REF! | D37: =+'MEMORIA DE CANTIDADES BLOQUE 1'!G309 -> 891.86 | E37: 9745 | F37: =+D37*E37 -> 8691175.7 | H37: 23134.036
A38: 3.4 | B38: =+#REF! -> #REF! | C38: =+#REF! -> #REF! | D38: =+'MEMORIA DE CANTIDADES BLOQUE 1'!G320 -> 9696 | E38: 8644 | F38: =+D38*E38 -> 83812224 | H38: #REF!
A39: 3.5 | B39: =+_xlfn.SINGLE(#REF!) -> #NAME? | C39: =+#REF! -> #REF! | D39: =+'MEMORIA DE CANTIDADES BLOQUE 1'!G331 -> 13970.54 | E39: =+#REF! -> #REF! | F39: =+D39*E39 -> #REF! | H39: #REF!
A40: 3.6 | B40: =+_xlfn.SINGLE(#REF!) -> #NAME? | C40: =+#REF! -> #REF! | D40: =+'MEMORIA DE CANTIDADES BLOQUE 1'!G341 -> 2151.75 | E40: 62475 | F40: =+D40*E40 -> 1.3443058e+08 | H40: #REF!
A41: 3.7 | B41: =+_xlfn.SINGLE(#REF!) -> #NAME? | C41: =+#REF! -> #REF! | D41: =+'MEMORIA DE CANTIDADES BLOQUE 1'!G351 -> 2151.75 | E41: 51450 | F41: =+D41*E41 -> 1.1070754e+08 | H41: 172.8
A42: 3.8 | B42: =+#REF! -> #REF! | C42: M2 | D42: =+#REF! -> #REF! | E42: =+'7 - ESTRUCTURA CUBIERTA'!G232 -> 229000 | F42: =+D42*E42 -> #REF! | H42: 172.8
A43: 3.9 | B43: =+#REF! -> #REF! | C43: M2 | E43: =+'7 - ESTRUCTURA CUBIERTA'!G271 -> 230364 | F43: =+D43*E43 -> 0 | H43: 28.1
A44: 3.10 | B44: =+#REF! -> #REF! | C44: =+#REF! -> #REF! | E44: 175425 | F44: =+D44*E44 -> 0 | H44: 24.6
...

Sheet MEMORIA DE CANTIDADES BLOQUE 1
B2: INDERHUILA | E2: MEMORIA DE CALCULO DE CANTIDADES DE OBRA
B3: CONSULTOR. INGECAG LTDA.
B5: INTERVENTORIA: ING. FEDERICO GARCÍA ARBELAEZ | E5: CONTRATO DE CONSULTORIA No: 071 DE 2017
A6: Objeto: CONSTRUCCIÓN DEL CENTRO DE RENDIMIENTO DEPORTIVO SURCOLOMBIANO - DEPARTAMENTO DEL HUILA.
A7: CAPITULO 1: | B7: ACTIVIDADES PRELIMINARES | E7: UNIDAD: | G7: M2
A8: ITEM 1,1: | B8: Localización y replanteo
A9: PROCEDIMIENTO PARA CALCULO
A10: DESCRIPCION Y/O UBICACION | C10: L | D10: A | E10: E prom. | F10: CANT. | G10: SUBTOTAL
A11: AREA TOTAL DEL PROYECTO | C11: 111.37 | D11: 76.22 | F11: 1 | G11: =+ROUND(C11*D11,2) -> 8488.62 | I11: =+PPTOETAPAS!F7 -> 40261694 | K11: =10812.64+3314.27 -> 14126.91
I12: =+G35*24550 -> 0
A13: TOTAL | I13: =+G49*14750 -> 0
I14: =+G63*17550 -> 0
I15: =+G89*25000 -> 0
A16: =+$A$7 -> CAPITULO 1: | B16: =+$B$7 -> ACTIVIDADES PRELIMINARES | E16: UNIDAD: | G16: M3 | I16: =+G98*27550 -> 0
A17: ITEM 1,2: | B17: Demolición Mecánica de estructuras en concreto ( Vigas de cimentación, aéreas, columnas entre otros) | I17: =+G124*30550 -> 7644832
A18: PROCEDIMIENTO PARA CALCULO | I18: =+G135*56500 -> 0
A19: DESCRIPCION Y/O UBICACION | C19: L | D19: A | E19: E prom. | F19: CANT. | G19: SUBTOTAL | I19: =ROUND(SUM(I11:I18),0) -> 47906526 | J19: prelim
A20: Cerramiento
A21: Alfagía | C21: =120.53+71.17+36.41+9.12+26.18 -> 263.41 | D21: 0.1 | E21: 0.1 | F21: 1 | G21: =+C21*D21*E21*F21 -> 2.6341
A22: Viga de Cimentación | C22: =+C21 -> 263.41 | D22: 0.25 | E22: 0.25 | F22: 1 | G22: =+C22*D22*E22*F22 -> 16.463125
A23: Columnetas | C23: 0.8 | D23: 0.25 | E23: 0.25 | F23: =+ROUND(C22/3,0) -> 88 | G23: =+C23*D23*E23*F23 -> 4.4
A24: Bolque Escenarios
A25: Vigas cimentación - aéreas | C25: =20+9.72+12.2+40.6+20+10.6+20+12.2+9.8+14.43+7.8+12.4+5.1+9.6+3.3+3.3+3.1+2+17.9+(1.25*7)+0.9+8.05+5.45+1.1+3.3+20+6.15+(6.75*3)+7.45+2.65+2.65+5+1.55 -> 327.3 | D25: 0.3 | E25: 0.3 | F25: 2 | G25: =+C25*D25*E25*F25 -> 58.914
A26: Columnas | C26: 7.35 | D26: 0.3 | E26: 0.3 | F26: 40 | G26: =+C26*D26*E26*F26 -> 26.46
A27: Zapatas | C27: 1.2 | D27: 1.2 | E27: 0.3 | F27: 40 | G27: =+C27*D27*E27*F27 -> 17.28
A28: Bloque Dormitorios
A29: Vigas cimentación - aéreas | C29: =16.15+16.15+5.37+5.37+5.37+4.6+(4.9*5)+4.6+(4.9*8)+(7.85*4)+3.33+(5.2*4)+21+(4.85*2)+5+(1.95*3*0.2)+(2.2*6)+(10.45*2)+(6.45*3)+(4.6*2)+(1.4*20)+(1.65*10) -> 320.86 | D29: 0.3 | E29: 0.3 | F29: 2 | G29: =+C29*D29*E29*F29 -> 57.7548
A30: Columnas | C30: 6.09 | D30: 0.3 | E30: 0.3 | F30: 32 | G30: =+C30*D30*E30*F30 -> 17.5392
A31: Zapatas | C31: 1.2 | D31: 1.2 | E31: 0.3 | F31: 32 | G31: =+C31*D31*E31*F31 -> 13.824
A32: Banca baños | C32: =8.44/3 -> 2.8133333 | D32: 3 | E32: 0.2 | F32: 2 | G32: =+C32*D32*E32*F32 -> 3.376
A33: Mesón baños | C33: 3 | D33: 0.6 | E33: 0.2 | F33: 2 | G33: =+C33*D33*E33*F33 -> 0.72
A35: TOTAL
A37: =+$A$7 -> CAPITULO 1: | B37: =+$B$7 -> ACTIVIDADES PRELIMINARES | E37: UNIDAD: | G37: M2
A38: ITEM 1,3: | B38: Demolición de mamposteria en ladrillo
A39: PROCEDIMIENTO PARA CALCULO
A40: DESCRIPCION Y/O UBICACION | C40: L | D40: A | E40: E prom. | F40: CANT. | G40: SUBTOTAL
A41: Cerramiento
A42: Antepecho | C42: =+C22 -> 263.41 | D42: 0.4 | G42: =+C42*D42 -> 105.364
A43: Bolque Escenarios
A44: Muros Fachadas | C44: =20+9.72+12.2+40.6+20+10.6+20+12.2+9.8 -> 155.12 | D44: =+(3.9+4.65+2.95)/3 -> 3.8333333 | G44: =+D44*C44 -> 594.62667
...

Sheet PRESUPUESTO Bloque 2
A1: GOBERNACIÓN DEL HUILA
A2: INDERHUILA
A4: =+#REF! -> #REF!
A5: PRESUPUESTO DE OBRA - BLOQUE 2
A7: ITEM | B7: DESCRIPCION | C7: UND | D7: Cantidad | E7: VR/UNIT | F7: VR/TOTAL
A9: 1 | B9: ACTIVIDADES PRELIMINARES
A10: 1.1 | B10: =+#REF! -> #REF! | C10: M2 | E10: =+#REF! -> #REF! | F10: =+E10*D10 -> #REF! | H10: 1486.0619
A11: 1.2 | B11: =+_xlfn.SINGLE(#REF!) -> #NAME? | C11: =+#REF! -> #REF! | E11: =+'2 - DEMOLICIONES'!G197 -> 117023 | F11: =+E11*D11 -> 0 | H11: 303.82537
A12: 1.3 | B12: =+#REF! -> #REF! | C12: =+#REF! -> #REF! | E12: =+'2 - DEMOLICIONES'!G518 -> 24806 | F12: =+E12*D12 -> 0 | H12: 328.071
A13: 1.4 | B13: =+#REF! -> #REF! | C13: =+#REF! -> #REF! | E13: =+'2 - DEMOLICIONES'!G164 -> 28443 | F13: =+E13*D13 -> 0 | H13: #REF!
A14: 1.5 | B14: =+#REF! -> #REF! | C14: =+#REF! -> #REF! | E14: =+'2 - DEMOLICIONES'!G325 -> 14119 | F14: =+E14*D14 -> 0 | H14: #REF!
A15: 1.6 | B15: =+_xlfn.SINGLE(#REF!) -> #NAME? | C15: =+#REF! -> #REF! | E15: =+'2 - DEMOLICIONES'!G389 -> 323683 | F15: =+E15*D15 -> 0 | H15: 328.071
A16: 1.7 | B16: =+#REF! -> #REF! | C16: =+#REF! -> #REF! | E16: =+'2 - DEMOLICIONES'!G357 -> 41801 | F16: =+E16*D16 -> 0 | H16: #REF!
A17: 1.8 | B17: =+#REF! -> #REF! | C17: =+#REF! -> #REF! | D17: =+'MEMORIA DE CANTIDADES BLOQUE 2'!G109 -> 136.96 | E17: =+#REF! -> #REF! | F17: =+E17*D17 -> #REF! | H17: 328.071
A18: 1.9 | B18: =+#REF! -> #REF! | C18: =+#REF! -> #REF! | E18: =+#REF! -> #REF! | F18: =+E18*D18 -> #REF! | H18: #REF!
A19: SUB-TOTAL CAPITULO | F19: =SUM(F10:F18) -> #REF! | H19: =+F19*1.25 -> #REF! | I19: 761767185
A20: 2 | B20: CONCRETOS
A21: 2.1 | B21: Solado en concreto de limpieza (e= 10 cm) de 1.700 P.S.I. | C21: M2 | E21: =+'4 - CIMENTACIÓN - CONCRETOS'!G71 -> #REF! | F21: =+D21*E21 -> #REF! | H21: 62.8255
A22: 2.2 | B22: Concreto para base de estructuras en concreto ciclópeo - 2500 PSI (175 kg/cm2) 60% concreto 2500 PSI + 40% piedra media zonga. | C22: M3 | E22: =+'4 - CIMENTACIÓN - CONCRETOS'!G109 -> 732924 | F22: =+D22*E22 -> 0 | H22: 11.9082
A23: 2.3 | B23: =+_xlfn.SINGLE(#REF!) -> #NAME? | C23: M3 | E23: =+'4 - CIMENTACIÓN - CONCRETOS'!G301 -> 1229432 | F23: =+D23*E23 -> 0 | H23: 22.298275
A24: 2.4 | B24: =+_xlfn.SINGLE(#REF!) -> #NAME? | C24: M3 | E24: =+'4 - CIMENTACIÓN - CONCRETOS'!G334 -> 1137721 | F24: =+D24*E24 -> 0 | H24: 21.821112
A25: 2.5 | B25: =+_xlfn.SINGLE(#REF!) -> #NAME? | C25: M3 | E25: =+#REF! -> #REF! | F25: =+E25*D25 -> #REF! | H25: 24.01
A26: 2.6 | B26: =+_xlfn.SINGLE(#REF!) -> #NAME? | C26: M3 | E26: =+#REF! -> #REF! | F26: =+D26*E26 -> #REF! | H26: 10.38224
A27: 2.7 | B27: =+#REF! -> #REF! | C27: M3 | E27: =+#REF! -> #REF! | F27: =+E27*D27 -> #REF! | H27: 11.268152
A28: 2.7 | B28: =+#REF! -> #REF! | C28: M3 | D28: =+'MEMORIA DE CANTIDADES BLOQUE 2'!G234 -> 46.18 | E28: =+#REF! -> #REF! | F28: =+E28*D28 -> #REF! | H28: 2.002
A29: 2.8 | B29: =+#REF! -> #REF! | C29: M2 | E29: =+#REF! -> #REF! | F29: =+E29*D29 -> #REF! | H29: 51.15
A30: 2.10 | B30: =+#REF! -> #REF! | C30: M3 | D30: =+#REF! -> #REF! | E30: =+#REF! -> #REF! | F30: =+E30*D30 -> #REF! | H30: 77.6
A31: 2.11 | B31: =+#REF! -> #REF! | C31: M2 | D31: =+#REF! -> #REF! | E31: =+#REF! -> #REF! | F31: =+E31*D31 -> #REF! | H31: 2.6892
A33: SUB-TOTAL CAPITULO | F33: =SUM(F21:F32) -> #REF! | H33: =+F33*1.25 -> #REF! | I33: 1735716245
A34: 3 | B34: ESTRUCTURA METÁLICA
A35: 3.1 | B35: =+#REF! -> #REF! | C35: =+#REF! -> #REF! | E35: 14025 | F35: =+D35*E35 -> 0 | H35: 11994.447
A36: 3.2 | B36: =+#REF! -> #REF! | C36: =+#REF! -> #REF! | D36: =+'MEMORIA DE CANTIDADES BLOQUE 2'!G294 -> 1425.6 | E36: 13725 | F36: =+D36*E36 -> 19566360 | H36: 51.15
A37: 3.3 | B37: =+#REF! -> #REF! | C37: =+#REF! -> #REF! | D37: =+'MEMORIA DE CANTIDADES BLOQUE 2'!G305 -> 106890.34 | E37: 9745 | F37: =+D37*E37 -> 1.0416464e+09 | H37: 23134.036
A38: 3.4 | B38: =+#REF! -> #REF! | C38: =+#REF! -> #REF! | E38: 8644 | F38: =+D38*E38 -> 0 | H38: #REF!
A39: 3.5 | B39: =+_xlfn.SINGLE(#REF!) -> #NAME? | C39: =+#REF! -> #REF! | D39: =+'MEMORIA DE CANTIDADES BLOQUE 2'!G327 -> 2649.3 | E39: =+#REF! -> #REF! | F39: =+D39*E39 -> #REF! | H39: #REF!
A40: 3.6 | B40: =+_xlfn.SINGLE(#REF!) -> #NAME? | C40: =+#REF! -> #REF! | E40: 62475 | F40: =+D40*E40 -> 0 | H40: #REF!
A41: 3.7 | B41: =+_xlfn.SINGLE(#REF!) -> #NAME? | C41: =+#REF! -> #REF! | E41: 51450 | F41: =+D41*E41 -> 0 | H41: 172.8
A42: 3.8 | B42: =+#REF! -> #REF! | C42: M2 | D42: =+'MEMORIA DE CANTIDADES BLOQUE 2'!G394 -> 1594.75 | E42: =+'7 - ESTRUCTURA CUBIERTA'!G232 -> 229000 | F42: =+D42*E42 -> 365197750 | H42: 172.8
A43: 3.9 | B43: =+#REF! -> #REF! | C43: M2 | E43: =+'7 - ESTRUCTURA CUBIERTA'!G271 -> 230364 | F43: =+D43*E43 -> 0 | H43: 28.1
A44: 3.10 | B44: =+#REF! -> #REF! | C44: =+#REF! -> #REF! | E44: 175425 | F44: =+D44*E44 -> 0 | H44: 24.6
...

Sheet MEMORIA DE CANTIDADES BLOQUE 2
B2: INDERHUILA | E2: MEMORIA DE CALCULO DE CANTIDADES DE OBRA
B3: CONSULTOR. INGECAG LTDA.
B5: INTERVENTORIA: ING. FEDERICO GARCÍA ARBELAEZ | E5: CONTRATO DE CONSULTORIA No: 071 DE 2017
A6: Objeto: CONSTRUCCIÓN DEL CENTRO DE RENDIMIENTO DEPORTIVO SURCOLOMBIANO - DEPARTAMENTO DEL HUILA.
A7: CAPITULO 1: | B7: ACTIVIDADES PRELIMINARES | E7: UNIDAD: | G7: M2
A8: ITEM 1,1: | B8: Localización y replanteo
A9: PROCEDIMIENTO PARA CALCULO
A10: DESCRIPCION Y/O UBICACION | C10: L | D10: A | E10: E prom. | F10: CANT. | G10: SUBTOTAL
A11: AREA TOTAL DEL PROYECTO | C11: 111.37 | D11: 76.22 | F11: 1 | G11: =+ROUND(C11*D11,2) -> 8488.62 | I11: =+PPTOETAPAS!F7 -> 40261694 | K11: =10812.64+3314.27 -> 14126.91
I12: =+G35*24550 -> 5385533.5
A13: TOTAL | G13: =ROUND(SUM(G11:G12),2) -> 8488.62 | I13: =+G49*14750 -> 34093002
I14: =+G63*17550 -> 43469420
I15: =+G89*25000 -> 1700000
A16: =+$A$7 -> CAPITULO 1: | B16: =+$B$7 -> ACTIVIDADES PRELIMINARES | E16: UNIDAD: | G16: M3 | I16: =+G98*27550 -> 1212200
A17: ITEM 1,2: | B17: Demolición Mecánica de estructuras en concreto ( Vigas de cimentación, aéreas, columnas entre otros) | I17: =+G109*30550 -> 4184128
A18: PROCEDIMIENTO PARA CALCULO | I18: =+G120*56500 -> 2.4455686e+08
A19: DESCRIPCION Y/O UBICACION | C19: L | D19: A | E19: E prom. | F19: CANT. | G19: SUBTOTAL | I19: =ROUND(SUM(I11:I18),0) -> 374862838 | J19: prelim
A20: Cerramiento
A21: Alfagía | C21: =120.53+71.17+36.41+9.12+26.18 -> 263.41 | D21: 0.1 | E21: 0.1 | F21: 1 | G21: =+C21*D21*E21*F21 -> 2.6341
A22: Viga de Cimentación | C22: =+C21 -> 263.41 | D22: 0.25 | E22: 0.25 | F22: 1 | G22: =+C22*D22*E22*F22 -> 16.463125
A23: Columnetas | C23: 0.8 | D23: 0.25 | E23: 0.25 | F23: =+ROUND(C22/3,0) -> 88 | G23: =+C23*D23*E23*F23 -> 4.4
A24: Bolque Escenarios
A25: Vigas cimentación - aéreas | C25: =20+9.72+12.2+40.6+20+10.6+20+12.2+9.8+14.43+7.8+12.4+5.1+9.6+3.3+3.3+3.1+2+17.9+(1.25*7)+0.9+8.05+5.45+1.1+3.3+20+6.15+(6.75*3)+7.45+2.65+2.65+5+1.55 -> 327.3 | D25: 0.3 | E25: 0.3 | F25: 2 | G25: =+C25*D25*E25*F25 -> 58.914
A26: Columnas | C26: 7.35 | D26: 0.3 | E26: 0.3 | F26: 40 | G26: =+C26*D26*E26*F26 -> 26.46
A27: Zapatas | C27: 1.2 | D27: 1.2 | E27: 0.3 | F27: 40 | G27: =+C27*D27*E27*F27 -> 17.28
A28: Bloque Dormitorios
A29: Vigas cimentación - aéreas | C29: =16.15+16.15+5.37+5.37+5.37+4.6+(4.9*5)+4.6+(4.9*8)+(7.85*4)+3.33+(5.2*4)+21+(4.85*2)+5+(1.95*3*0.2)+(2.2*6)+(10.45*2)+(6.45*3)+(4.6*2)+(1.4*20)+(1.65*10) -> 320.86 | D29: 0.3 | E29: 0.3 | F29: 2 | G29: =+C29*D29*E29*F29 -> 57.7548
A30: Columnas | C30: 6.09 | D30: 0.3 | E30: 0.3 | F30: 32 | G30: =+C30*D30*E30*F30 -> 17.5392
A31: Zapatas | C31: 1.2 | D31: 1.2 | E31: 0.3 | F31: 32 | G31: =+C31*D31*E31*F31 -> 13.824
A32: Banca baños | C32: =8.44/3 -> 2.8133333 | D32: 3 | E32: 0.2 | F32: 2 | G32: =+C32*D32*E32*F32 -> 3.376
A33: Mesón baños | C33: 3 | D33: 0.6 | E33: 0.2 | F33: 2 | G33: =+C33*D33*E33*F33 -> 0.72
A35: TOTAL | G35: =ROUND(SUM(G20:G34),2) -> 219.37
A37: =+$A$7 -> CAPITULO 1: | B37: =+$B$7 -> ACTIVIDADES PRELIMINARES | E37: UNIDAD: | G37: M2
A38: ITEM 1,3: | B38: Demolición de mamposteria en ladrillo
A39: PROCEDIMIENTO PARA CALCULO
A40: DESCRIPCION Y/O UBICACION | C40: L | D40: A | E40: E prom. | F40: CANT. | G40: SUBTOTAL
A41: Cerramiento
A42: Antepecho | C42: =+C22 -> 263.41 | D42: 0.4 | G42: =+C42*D42 -> 105.364
A43: Bolque Escenarios
A44: Muros Fachadas | C44: =20+9.72+12.2+40.6+20+10.6+20+12.2+9.8 -> 155.12 | D44: =+(3.9+4.65+2.95)/3 -> 3.8333333 | G44: =+D44*C44 -> 594.62667
...

Sheet MEMORIA DE CANTIDADES BLOQUE 3
B2: INDERHUILA | E2: MEMORIA DE CALCULO DE CANTIDADES DE OBRA
B3: CONSULTOR. INGECAG LTDA.
B5: INTERVENTORIA: ING. FEDERICO GARCÍA ARBELAEZ | E5: CONTRATO DE CONSULTORIA No: 071 DE 2017
A6: Objeto: CONSTRUCCIÓN DEL CENTRO DE RENDIMIENTO DEPORTIVO SURCOLOMBIANO - DEPARTAMENTO DEL HUILA.
A7: CAPITULO 1: | B7: ACTIVIDADES PRELIMINARES | E7: UNIDAD: | G7: M2
A8: ITEM 1,1: | B8: Localización y replanteo
A9: PROCEDIMIENTO PARA CALCULO
A10: DESCRIPCION Y/O UBICACION | C10: L | D10: A | E10: E prom. | F10: CANT. | G10: SUBTOTAL
A11: AREA TOTAL DEL PROYECTO | C11: 111.37 | D11: 76.22 | F11: 1 | G11: =+ROUND(C11*D11,2) -> 8488.62 | I11: =+PPTOETAPAS!F7 -> 40261694 | K11: =10812.64+3314.27 -> 14126.91
I12: =+G35*24550 -> 0
A13: TOTAL | I13: =+G49*14750 -> 0
I14: =+G63*17550 -> 0
I15: =+G89*25000 -> 0
