Workbook
Name contratación: 'IDENTIFICACION Y ANALISIS'!$B$26:$B$28
Name ejecución: 'IDENTIFICACION Y ANALISIS'!$B$30:$B$38
Name OPCIONES: 'ASIGNACION Y TRATAMIENTO'!$B$47:$B$49
Name planeación: 'IDENTIFICACION Y ANALISIS'!#REF!
Name selección: 'IDENTIFICACION Y ANALISIS'!$B$20:$B$24

Sheet CONTEXTO
C2: MATRIZ DE RIESGOS EN CONTRATACIÓN | F2: Código: GCO-GCI-F164 Versión: 02 Vigencia: 01 de diciembre de 2022 Caso HOLA: 280117
B6: ESTABLECER EL CONTEXTO
B7: El punto inicial es identificar el contexto en el cual interactúa la Entidad Estatal para conocer el ambiente social, económico y político, e identificar (i) sus propios Riesgos; (ii) los Riesgos comunes a sus Procesos de Contratación; y (iii) los Riesgos del Proceso de Contratación en particular. (Aplica igual para contratos interadministrativos) En este paso la Entidad Estatal debe identificar los aspectos que se mencionan a continuación y los posibles efectos adversos que estos pueden generar.
B8: Objeto del Proceso de Contratación “CONTRATAR LA DOTACIÓN DE ELEMENTOS DIDACTICOS Y PEDAGOGICOS PARA DOS UNIDADES OPERATICAS ORIENTADOS A LA ATENCION A LA PRIMERA INFANCIA"
B9: Partícipes del Proceso de Contratación: Agentes externos (Organismos de control, veedurías ciudadanas), agentes internos (supervisores, funcionarios y demás usuarios).
B10: Ciudadanía que se beneficia del Proceso de Contratación: Agentes internos (funcionarios, pasantes) y externos (contratistas, visitantes y usuarios externos en general)
B11: Capacidad de la Entidad Estatal entendida como la disponibilidad de recursos y conocimientos para el Proceso de Contratación: La disponibilidad de la Entidad de sus recursos y el conocimiento de su equipo humano se refleja en los diferentes funcionarios que participarán en las diversas etapas del proceso de selección: participan las áreas que requieren los procesos de contratación (Etapa de Planeación), Dirección de Contratación, Comité Evaluador (Etapa de selección), Dirección de Contratación (Etapa de contratación) y la supervisión y apoyos a la misma (Estapa de Ejecución).
B12: Suficiencia del presupuesto oficial del Proceso de Contratación: De acuerdo con el Plan Anual de Adquisiciones, se han estimado los recursos necesarios para adelantar el proceso de contratación, el cual cuenta con el soporte presupuestal suficiente para su ejecución. El valor del contrato será por la suma de TRESCIENTOS OCHO MILLONES SEISCIENTOS CATORCE MIL PESOS M/CTE ($308.614.000) correspondiente a la vigencia fiscal 2025, con cargo al proyecto 2508 “Contratar la dotación de elementos didácticos y pedagógicos para dos unidades operativas orientados a la atención a la primera infancia¨. Este valor será ejecutado a monto agotable, según la cantidad de suministros requeridos por la entidad.
B13: Condiciones geográficas y de acceso del lugar en el cual se debe cumplir el objeto del Proceso de Contratación: El suministro, obra o servicio se prestará principalmente en las Sedes de la Entidad, o en el lugar indicado en los estudios previos del proceso.
B14: Entorno socio ambiental: Si aplican
B15: Condiciones políticas: Si aplican
B16: Factores ambientales. Para su cumplimiento, el proponente deberá anexar carta de compromiso Formato 15 donde manifieste bajo la gravedad de juramento que cumple con los lineamientos de buenas prácticas ambientales, de acuer-do con la ficha N° 19 de contratación sostenible “Compra de computadores, equipos de comunicación y periféricos (mouse, video beam, cámaras fotográficas, scanner y/o impresoras”.
B17: Sector del objeto del Proceso de Contratación y su mercado.
... B19: Experiencia propia y de otras Entidades Estatales en Procesos de Contratación del mismo tipo.

Sheet IDENTIFICACION Y ANALISIS
C2: MATRIZ DE RIESGOS DE CONTRATACIÓN | F2: Código: GCO-GCI-F164 Versión: 02 Vigencia: 01 de diciembre de 2022 Caso HOLA: 280117
B6: DEFINICIONES
B7: RIESGO: Evento que puede generar efectos adversos y de distinta magnitud en el logro de los objetivos del Proceso de Contratación o en la ejecución de un contrato RIESGOS PREVISIBLES: Son los posibles hechos o circunstancias que por la naturaleza del contrato y de la actividad a ejecutar es factible su ocurrencia. ETAPA DE PLANEACIÓN: Está comprendida desde el momento en que se identifican las necesidades que debe satisfacer la Secretaría Distrital de Gobierno y los Fondos de Desarrollo Local, a través del abastecimiento de bienes, obras o servicios, la elaboración del Plan Anual de Adquisiciones y la estructuración de los documentos y estudios previos. ETAPA DE SELECCIÓN: Está comprendida entre el acto de Apertura del Proceso de Contratación y la Adjudicación o la declaración de desierto del Proceso de Contratación ETAPA DE CONTRATACIÓN: Una vez adjudicado el contrato objeto del Proceso de Contratación, inicia la etapa para la celebración del contrato y el cumplimiento de los requisitos para de perfeccionamiento y ejecución. ETAPA DE EJECUCIÓN: Inicia una vez cumplidos los requisitos previstos para iniciar la ejecución del contrato respectivo y termina con el vencimiento del plazo del contrato o la fecha de liquidación si hay lugar a ella. RIESGO GENERAL: Es un riesgo de todos los procesos de contratación adelantados por la Entidad Estatal, por lo cual está presente en toda su actividad contractual. RIEGO ESPECIFICO: Es un riesgo propio del proceso de contratación objeto de análisis. RIESGOS ECONÓMICOS: Son los derivados del comportamiento del mercado, tales como la fluctuación de los precios de los insumos, desabastecimiento y especulación de los mismos, entre otros. RIESGOS SOCIALES O POLÍTICOS: son los derivados de los cambios de las políticas gubernamentales y de cambios en las condiciones sociales que tengan impacto en la ejecución del contrato. RIESGOS OPERACIONALES: Son los asociados a la operatividad del contrato, tales como la suficiencia del presupuesto oficial, del plazo o los derivados de procesos, procedimientos, parámetros, sistemas de información y tecnológicos, equipos humanos o técnicos inadecuados o insuficientes. RIESGOS FINANCIEROS: Son (i) el riesgo de consecución de financiación o riesgo de liquidez para obtener recursos para cumplir con el objeto del contrato, y (ii) el riesgo de las condiciones financieras establecidas para la obtención de los recursos, tales como plazos, tasas, garantías, contragarantías, y refinanciaciones, entre otros. RIESGOS REGULATORIOS: Derivados de cambios regulatorios o reglamentarios que afecten la ecuación económica del contrato. RIESGOS DE LA NATURALEZA: Son los eventos naturales previsibles en los cuales no hay intervención humana que puedan tener impacto en la ejecución del contrato, por ejemplo los temblores, inundaciones, lluvias, sequías, entre otros. RIESGOS AMBIENTALES: Son los derivados de las obligaciones legales o reglamentarias de carácter ambiental, así como de las licencias, planes de manejo o de permisos y autorizaciones ambientales, incluyendo tasas retributivas y compensatorias, obligaciones de mitigación, tareas de monitoreo y control, entre otras. RIESGOS TECNOLÓGICOS: Son los derivados de fallas en los sistemas de comunicación de voz y de datos, suspensión de servicios públicos, nuevos desarrollos tecnológicos o estándares que deben ser tenidos en cuenta para la ejecución del contrato, obsolescencia tecnológica.
B15: INSTRUCCIONES PARA LA IDENTIFICACIÓN, ANALISIS, EVALUACIÓN , ASIGNACIÓN Y TRATAMIENTO DE RIESGOS EN LA CONTRATACIÓN
B16: 1) Identifique los riesgos previsibles que le apliquen al objeto contractual que se adelante. Los relacionados a continuación se establecen de manera general y como proforma. No obstante, si del objeto contractual se identifican otros riesgos diferentes a los aquí determinados, por favor reemplace el texto de la casilla teniendo en cuenta la etapa del proceso. Así mismo, seleccione la clase, fuente y el tipo (Operacional, Económico, Sociales o Políticos, Regulatorios, Financieros, Tecnológicos, De la naturaleza, Ambientales) 2) Continúe en la hoja de "EVALUACIÓN" (SI EXISTEN DUDAS CONCEPTUALES PARA LA ELABORACIÓN DE LA MATRIZ DE RIESGO CONSULTE EL MANUAL PARA LA IDENTIFICACIÓN Y COBERTURA DEL RIESGO EN LOS PROCESOS DE CONTRATACIÓN EXPEDIDO POR COLOMBIA COMPRA EFICIENTE Y LA GUÍA DE RIESGOS PREVISIBLES CONTRACTUALES, EXPEDIDA POR LA VEEDURÍA DISTRITAL)
C17: ETAPAS | D17: CLASE | E17: FUENTE | F17: TIPO
C18: PLANEACIÓN
C19: SELECCIÓN
B20: Selección de una oferta como adjudicataria cuyo oferente no cumple con la totalidad de los requisitos habilitantes. | D20: General | E20: Interno | F20: Operacionales
B21: Estimación inadecuada de precios por parte del oferente. | D21: Especifico | E21: Externo | F21: Económico
B22: Incumplimiento de condiciones y/o requisitos habilitantes por parte de todos los proponentes que generen el rechazo de todas las ofertas. | D22: General | E22: Interno | F22: Operacionales
B23: Confabulacion de los proponentes (Colusión) | D23: General | E23: Externo | F23: Operacionales
B24: Selección de ofertas con precios artificialmente bajos. | D24: General | E24: Interno | F24: Financiero
C25: CONTRATACIÓN
B26: Retrasos en la suscripción del contrato | D26: General | E26: Interno | F26: Operacionales
B27: Falta de constitución o constitución tardía de la garantía única. Aceptación de garantías que no se ajustan a lo contemplado en el contrato | D27: General | E27: Interno | F27: Operacionales
B28: Presentación de reclamos de terceros sobre la selección del oferente que retrasen el perfeccionamiento del contrato. | D28: General | E28: Externo | F28: Operacionales
C29: EJECUCIÓN
B30: Incumplimiento total o parcial del contratista en la entrega de los elementos | D30: General | E30: Externo | F30: Financiero
B31: Afectación del flujo de caja del contratista como consecuencia de no radicar de forma oportuna, completa y con aval del supervisor los informes o presentarlos sin atender las fechas de programación del plan anual mensualizado de caja - PAC, que señale la entidad contratante | D31: General | E31: Externo | F31: Financiero
B32: Falta de disponibilidad en el merccado de los elementos a contratar con las caracteristicas y condiciones previamente cotizados, durante la ejecución. | D32: Especifico | E32: Externo | F32: Economicos
B33: Alteraciones por cambios en lineamientos técnicos y del mercado. | D33: Especifico | E33: Externo | F33: Sociales o Políticos
B34: Demoras por falta de elementos en el mercado, condiciones sociales y/o ambientales que retrasen la entrega. | D34: Especifico | E34: Externo | F34: Economicos
B35: Contingencias con los provedores del contratista en cuanto a calidad y oportunidad. | D35: Especifico | E35: Externo | F35: Economicos
B36: Entrega de elementos que no cumplan con las especificaciones técnicas definidas por la entidad, en cuanto a calidad y garantia de los mismos. | D36: Especifico | E36: Externo | F36: Operacionales
B37: Deterioro de las condiciones de seguridad y orden público que impidan la ejecución del contrato. | D37: Especifico | E37: Externo | F37: Sociales o Políticos
B38: No liquidar los contratos en los plazos acordados o los establecidos por la Ley. | D38: General | E38: Interno | F38: Operacionales
B43: General
B44: Estatal
B45: Especifico
B47: Interno
B48: Externo

Sheet EVALUACION
C2: MATRIZ DE RIESGOS DE CONTRATACIÓN | K2: Código: GCO-GCI-F164 Versión: 02 Vigencia: 01 de diciembre de 2022 Caso HOLA: 280117
B6: Objeto Contractual: “CONTRATAR LA DOTACIÓN DE ELEMENTOS DIDACTICOS Y PEDAGOGICOS PARA DOS UNIDADES OPERATICAS ORIENTADOS A LA ATENCION A LA PRIMERA INFANCIA"
B7: INSTRUCCIONES PARA LA IDENTIFICACIÓN, ANALISIS, EVALUACIÓN , ASIGNACIÓN Y TRATAMIENTO DE RIESGOS EN LA CONTRATACIÓN
B8: 1) Diligencie el objeto contractual y seleccione la(s) etapas y los riesgos que aplican al objeto contractual, de acuerdo a lo definido en la hoja de "IDENTIFICACIÓN Y ANÁLISIS"
B9: 2) Describa las consecuencias de la ocurrencia del Riesgo/evento.
B10: 3) Asigne la probabilidad de ocurrencia del riesgo, de conformidad con la tabla de probabilidad y la valoración del riesgo (Cualitativa o Monetaria)
B11: 4) Asigne el impacto que generaría la materialización del riesgo, de conformidad con la tabla de impacto y la valoración del riesgo (Cualitativa o Monetaria)
B12: 5) Al realizar las anteriores actividades se obtendrá la calificación total y la valoración del riesgo (prioridad).
B13: 6) Continúe en la hoja de "EVALUACIÓN DE CONTROLES"
B15: CALIFICACIÓN | H15: Cualitativa
B16: ETAPA | C16: Descripción (Que puede pasar y, cómo puede ocurrir) | H16: Consecuencias de la ocurrencia del evento | I16: Probabilidad de Ocurrencia | J16: Impacto | K16: Calificación Total | L16: Prioridad
B17: SELECCIÓN | C17: Incumplimiento de condiciones y/o requisitos habilitantes por parte de todos los proponentes que generen el rechazo de todas las ofertas. | H17: Incumplimiento del objeto contractual. | I17: 1 | J17: 2 | K17: =I17+J17 -> 3 | L17: =IF(K17<=4,"BAJO",IF(K17=5,"MEDIO",IF(K17=6,"ALTO",IF(K17=7,"ALTO","EXTREMO")))) -> BAJO
B18: SELECCIÓN | C18: Estimación inadecuada de precios por parte del oferente. | H18: Reclamaciones por parte del oferente en términos de calidad y cantidad de los elementos. | I18: 2 | J18: 2 | K18: =+I18+J18 -> 4 | L18: =IF(K18<=4,"BAJO",IF(K18=5,"MEDIO",IF(K18=6,"ALTO",IF(K18=7,"ALTO","EXTREMO")))) -> BAJO
B19: SELECCIÓN | C19: Confabulacion de los proponentes (Colusión) | H19: Ofertas con precios que no se adecuan al mercado | I19: 1 | J19: 2 | K19: =+I19+J19 -> 3 | L19: =IF(K19<=4,"BAJO",IF(K19=5,"MEDIO",IF(K19=6,"ALTO",IF(K19=7,"ALTO","EXTREMO")))) -> BAJO
B20: SELECCIÓN | C20: Selección de una oferta como adjudicataria cuyo oferente no cumple con la totalidad de los requisitos habilitantes. | H20: 1. Posible nulidad del contrato. 2. La no suscripción del contrato. 3. Violación al principio de selección objetiva. | I20: 1 | J20: 2 | K20: 3 | L20: =IF(K20<=4,"BAJO",IF(K20=5,"MEDIO",IF(K20=6,"ALTO",IF(K20=7,"ALTO","EXTREMO")))) -> BAJO
B21: SELECCIÓN | C21: Selección de ofertas con precios artificialmente bajos. | H21: Entrega de elementos que no cumplen con las especificaciones técnica, de calidad y garantias, establecidas en el presente proceso de selección | I21: 2 | J21: 3 | K21: =+I21+J21 -> 5 | L21: =IF(K21<=4,"BAJO",IF(K21=5,"MEDIO",IF(K21=6,"ALTO",IF(K21=7,"ALTO","EXTREMO")))) -> MEDIO
B22: CONTRATACIÓN | C22: Falta de constitución o constitución tardía de la garantía única. Aceptación de garantías que no se ajustan a lo contemplado en el contrato | H22: El FDLF Deberá asumir los costos de la mala ejecución o costos fortuitos | I22: 2 | J22: 3 | K22: =+I22+J22 -> 5 | L22: =IF(K22<=4,"BAJO",IF(K22=5,"MEDIO",IF(K22=6,"ALTO",IF(K22=7,"ALTO","EXTREMO")))) -> MEDIO
B23: CONTRATACIÓN | C23: Presentación de reclamos de terceros sobre la selección del oferente que retrasen el perfeccionamiento del contrato. | H23: Afectación en el Inicio de la ejecución | I23: 2 | J23: 3 | K23: =+I23+J23 -> 5 | L23: =IF(K23<=4,"BAJO",IF(K23=5,"MEDIO",IF(K23=6,"ALTO",IF(K23=7,"ALTO","EXTREMO")))) -> MEDIO
B24: CONTRATACIÓN | C24: Retrasos en la suscripción del contrato | H24: Retrasos y afectaciones en el cronograma de ejecución del contrato y demoras en el ingreso al inventario de los elementos a la SED | I24: 2 | J24: 3 | K24: =+I24+J24 -> 5 | L24: =IF(K24<=4,"BAJO",IF(K24=5,"MEDIO",IF(K24=6,"ALTO",IF(K24=7,"ALTO","EXTREMO")))) -> MEDIO
B25: EJECUCIÓN | C25: Afectación del flujo de caja del contratista como consecuencia de no radicar de forma oportuna, completa y con aval del supervisor los informes o presentarlos sin atender las fechas de programación del plan anual mensualizado de caja - PAC, que señale la entidad contratante | H25: Insolvencia del contratista para la ejecución de las actividades propias del contrato. Posible incumplimiento del contrato. Reclamaciones por desequlibrio económico. | I25: 3 | J25: 2 | K25: =+I25+J25 -> 5 | L25: =IF(K25<=4,"BAJO",IF(K25=5,"MEDIO",IF(K25=6,"ALTO",IF(K25=7,"ALTO","EXTREMO")))) -> MEDIO
B26: EJECUCIÓN | C26: Falta de disponibilidad en el merccado de los elementos a contratar con las caracteristicas y condiciones previamente cotizados, durante la ejecución. | H26: Incumplimiento de la entrega de los elementos estipulados. | I26: 3 | J26: 2 | K26: =+I26+J26 -> 5 | L26: =IF(K26<=4,"BAJO",IF(K26=5,"MEDIO",IF(K26=6,"ALTO",IF(K26=7,"ALTO","EXTREMO")))) -> MEDIO
B27: EJECUCIÓN | C27: Alteraciones por cambios en lineamientos técnicos y del mercado. | H27: Modificación del clausulado. | I27: 1 | J27: 3 | K27: =+I27+J27 -> 4 | L27: =IF(K27<=4,"BAJO",IF(K27=5,"MEDIO",IF(K27=6,"ALTO",IF(K27=7,"ALTO","EXTREMO")))) -> BAJO
B28: EJECUCIÓN | C28: Demoras por falta de elementos en el mercado, condiciones sociales y/o ambientales que retrasen la entrega. | H28: Retraso en los cronogramas de ejecución; prórrogas en la ejecución del contrato. | I28: 3 | J28: 3 | K28: =+I28+J28 -> 6 | L28: =IF(K28<=4,"BAJO",IF(K28=5,"MEDIO",IF(K28=6,"ALTO",IF(K28=7,"ALTO","EXTREMO")))) -> ALTO
B29: EJECUCIÓN | C29: Contingencias con los provedores del contratista en cuanto a calidad y oportunidad. | H29: Retraso en los cronogramas de ejecución; prórrogas en la ejecución del contrato. | I29: 2 | J29: 4 | K29: =+I29+J29 -> 6 | L29: =IF(K29<=4,"BAJO",IF(K29=5,"MEDIO",IF(K29=6,"ALTO",IF(K29=7,"ALTO","EXTREMO")))) -> ALTO
B30: EJECUCIÓN | C30: Deterioro de las condiciones de seguridad y orden público que impidan la ejecución del contrato. | H30: 1. Retraso en la ejecucion contractual. 2. Incumplimiento y no se puede satisfacer la necesidad de la Entidad. 3. Modificaciones contractuales. | I30: 2 | J30: 3 | K30: =+I30+J30 -> 5 | L30: =IF(K30<=4,"BAJO",IF(K30=5,"MEDIO",IF(K30=6,"ALTO",IF(K30=7,"ALTO","EXTREMO")))) -> MEDIO
B31: EJECUCIÓN | C31: No liquidar los contratos en los plazos acordados o los establecidos por la Ley. | H31: 1. Pérdida de competencia para liquidar en sede administrativa. 2. Incertidumbre del estado del contrato. 3. Falta de paz y salvo por las partes. | I31: 1 | J31: 3 | K31: =+I31+J31 -> 4 | L31: =IF(K31<=4,"BAJO",IF(K31=5,"MEDIO",IF(K31=6,"ALTO",IF(K31=7,"ALTO","EXTREMO")))) -> BAJO
B32: EJECUCIÓN | C32: Incumplimiento total o parcial del contratista en la entrega de los elementos | H32: No cumplimiento del objeto contractual, afectación de pólizas | I32: 2 | J32: 3 | K32: =+I32+J32 -> 5 | L32: =IF(K32<=4,"BAJO",IF(K32=5,"MEDIO",IF(K32=6,"ALTO",IF(K32=7,"ALTO","EXTREMO")))) -> MEDIO
B33: EJECUCIÓN | C33: Entrega de elementos que no cumplan con las especificaciones técnicas definidas por la entidad, en cuanto a calidad y garantia de los mismos. | H33: No recepción de los elementos en el Almacén de la ALF por incumplimiento de especificaciones técnicas, de calidad y garantia de los mismos. | I33: 2 | J33: 4 | K33: =+I33+J33 -> 6 | L33: =IF(K33<=4,"BAJO",IF(K33=5,"MEDIO",IF(K33=6,"ALTO",IF(K33=7,"ALTO","EXTREMO")))) -> ALTO
B36: Probabilidad | C36: Catagoria | E36: Valoración | G36: Impacto | H36: Categoria | I36: Valoración
C37: Raro (puede ocurrir excepcionalmente) | E37: 1 | H37: Insignificante | I37: 1
C38: Improbable (puede ocurrir ocasionalmente) | E38: 2 | H38: Menor | I38: 2
C39: Posible (puede ocurrir en cualquier momento futuro) | E39: 3 | H39: Moderado | I39: 3
C40: Probable (probablemente va a ocurrir) | E40: 4 | H40: Mayor | I40: 4
C41: Casi cierto (ocurre en la mayoria de circunstancias) | E41: 5 | H41: Catastrófico | I41: 5
C43: Valoración del Riesgo
C44: Calificación Cualitativa | F44: Obstruye la ejecución del contrato de manera intrascendente. | G44: Dificulta la ejecución del contrato de manera baja, aplicando medidas mínimas se pueden lograr el objeto contractual | H44: Afecta la ejecución del contrato sin alterar el beneficio para las partes | I44: Obstruye la ejecución del contrato sustancialmente pero aun así permite la consecución del objeto contractual | K44: Perturba la ejecución del contrato de manera grave imposibilitando la consecución del objeto contractual.
C45: Calificación Monetaria | F45: Los sobrecostos no representan más del uno por ciento (1%) del valor del contrato. | G45: Los sobrecostos no representan más del cinco por ciento (5%) del valor del contrato. | H45: Genera un impacto sobre el valor del contrato entre el cinco (5%) y el quince por ciento (15%). | I45: Incrementa el valor del contrato entre el quince (15%) y el treinta por ciento (30%). | K45: Impacto sobre el valor del contrato en más del treinta por ciento (30%).
C46: Categoría | E46: Valoración | F46: Insignificante | G46: Menor | H46: Moderado | I46: Mayor | K46: Catastrófico
F47: 1 | G47: 2 | H47: 3 | I47: 4 | K47: 5
C48: Raro (puede ocurrir excepcionalmente) | E48: 1 | F48: 2 | G48: 3 | H48: 4 | I48: 5 | K48: 6
...

Sheet EVALUACION CON CONTROLES
C2: MATRIZ DE RIESGOS DE CONTRATACIÓN | Q2: Código: GCO-GCI-F164 Versión: 02 Vigencia: 01 de diciembre de 2022 Caso HOLA: 280117
B6: =+EVALUACION!B6 -> Objeto Contractual: “CONTRATAR LA DOTACIÓN DE ELEMENTOS DIDACTICOS Y PEDAGOGICOS PARA DOS UNIDADES OPERATICAS ORIENTADOS A LA ATENCION A LA PRIMERA INFANCIA"
B7: INSTRUCCIONES PARA LA IDENTIFICACIÓN, ANALISIS, EVALUACIÓN , ASIGNACIÓN Y TRATAMIENTO DE RIESGOS EN LA CONTRATACIÓN
B8: 1) Describa el tratamiento/controles a ser implementados
B9: 2) Diligencie la información de las siguientes columnas, de acuerdo con el análisis realizado a cada riesgo: Afecta el equilibrio económico, persona responsable de implementar el tratamiento, fecha estimada de inicio del tratamiento, fecha estimada en la que se completa el tratamiento, cómo se realiza el monitoreo y la periodicidad.
B10: 3) Continúe en la hoja de "ASIGNACIÓN Y TRATAMIENTO" y diligencie las siguientes casillas: A quien se le asigna y el porcentaje que asume cada una de las partes en caso de que sea compartido.
B15: ETAPA | C15: Descripción (Que puede pasar y, cómo puede ocurrir) | G15: Tratamiento/Controles a ser implementados | I15: Probabilidad de Ocurrencia | J15: Impacto | K15: Calificación Total | L15: Prioridad | M15: ¿Afecta el equilibrio económico del contrato? | N15: Persona responsable por implementar el tratamiento | O15: Fecha estimada en que se inicia el tratamiento | P15: Fecha estimada en que se completa el tratamiento | Q15: ¿Cómo se realiza el monitoreo? | R15: Periodicidad ¿Cuándo?
B16: =+EVALUACION!B17 -> SELECCIÓN | C16: =+EVALUACION!C17 -> Incumplimiento de condiciones y/o requisitos habilitantes por parte de todos los proponentes que generen el rechazo de todas las ofertas. | G16: Inclusiòn de póliza de cumplimiento/ Indicadores financieros acorde con el proceso de selección. | I16: =+EVALUACION!I17 -> 1 | J16: =+EVALUACION!J17 -> 2 | K16: =+I16+J16 -> 3 | L16: =IF(K16<=4,"BAJO",IF(K16=5,"MEDIO",IF(K16=6,"ALTO",IF(K16=7,"ALTO","EXTREMO")))) -> BAJO | M16: SI | N16: Alcaldía Local de Fontibón | O16: Durante la etapa precontractual y desde el inicio de ejecución del contrato. | P16: Durante toda la ejecución del contrato | Q16: Durante toda la ejecución del contrato | R16: De manera permanente durante toda la ejecución del contrato
B17: =+EVALUACION!B18 -> SELECCIÓN | C17: =+EVALUACION!C18 -> Estimación inadecuada de precios por parte del oferente. | G17: Aceptación de precios estipulados en la oferta económica final. | I17: =+EVALUACION!I18 -> 2 | J17: =+EVALUACION!J18 -> 2 | K17: =+I17+J17 -> 4 | L17: =IF(K17<=4,"BAJO",IF(K17=5,"MEDIO",IF(K17=6,"ALTO",IF(K17=7,"ALTO","EXTREMO")))) -> BAJO | M17: NO | N17: Alcaldía Local de Fontibón | O17: Inmediata a la ocurrencia. | P17: Previo a la firma del contrato(s) | Q17: Revisión y seguimiento de los anexos técnicos | R17: Durante la etapa de planeación y la etapa precotractual del proceso de contratación.
B18: =+EVALUACION!B19 -> SELECCIÓN | C18: =+EVALUACION!C19 -> Confabulacion de los proponentes (Colusión) | G18: Solicitud firma declaración juramentada de compromiso de No Colusión | I18: =+EVALUACION!I19 -> 1 | J18: =+EVALUACION!J19 -> 2 | K18: =+I18+J18 -> 3 | L18: =IF(K18<=4,"BAJO",IF(K18=5,"MEDIO",IF(K18=6,"ALTO",IF(K18=7,"ALTO","EXTREMO")))) -> BAJO | M18: SI | N18: Alcaldía Local de Fontibón | O18: Etapa Selección | P18: Etapa Selección | Q18: Revisión y seguimiento de ls declaración juramentada | R18: Durante la etapa de selección
B19: SELECCIÓN | C19: =+EVALUACION!C20 -> Selección de una oferta como adjudicataria cuyo oferente no cumple con la totalidad de los requisitos habilitantes. | G19: Efectuar verificaciones a los documentos y propuestas presentadas por parte de los profesionales integrantes del cómite evaluador. | I19: =+EVALUACION!I20 -> 1 | J19: =+EVALUACION!J20 -> 2 | K19: =+I19+J19 -> 3 | L19: =IF(K19<=4,"BAJO",IF(K19=5,"MEDIO",IF(K19=6,"ALTO",IF(K19=7,"ALTO","EXTREMO")))) -> BAJO | M19: SI | N19: Alcaldía Local de Fontibón | O19: Inmediata a la ocurrencia. | P19: Inmediata | Q19: Validación y verificación de cada uno de los pasos del proceso de contratación | R19: Durante la etapa de planeación y la etapa precotractual del proceso de contratación.
B20: SELECCIÓN | C20: =+EVALUACION!C21 -> Selección de ofertas con precios artificialmente bajos. | G20: Requerir al contratista frente a la explicación de precios artificialmente bajos | I20: 1 | J20: 1 | K20: =+I20+J20 -> 2 | L20: =IF(K20<=4,"BAJO",IF(K20=5,"MEDIO",IF(K20=6,"ALTO",IF(K20=7,"ALTO","EXTREMO")))) -> BAJO | M20: SI | N20: Alcaldía Local de Fontibón | O20: Inmediata a la ocurrencia. | P20: Inmediata | Q20: Revisión de la oferta económica frente a los precios del mercado | R20: Durante la etapa de selección
B21: =+EVALUACION!B22 -> CONTRATACIÓN | C21: =+EVALUACION!C22 -> Falta de constitución o constitución tardía de la garantía única. Aceptación de garantías que no se ajustan a lo contemplado en el contrato | G21: No dar inicio a la ejecución del proyecto hasta que se tenga constituida la garantía única | I21: =+EVALUACION!I22 -> 2 | J21: =+EVALUACION!J22 -> 3 | K21: =+I21+J21 -> 5 | L21: =IF(K21<=4,"BAJO",IF(K21=5,"MEDIO",IF(K21=6,"ALTO",IF(K21=7,"ALTO","EXTREMO")))) -> MEDIO | M21: SI | N21: Alcaldía Local de Fontibón | O21: etapa de contratación | P21: firma del acta de inicio | Q21: supervisor formulador del Contrato | R21: Durante la etapa de Contratación
B22: =+EVALUACION!B23 -> CONTRATACIÓN | C22: =+EVALUACION!C23 -> Presentación de reclamos de terceros sobre la selección del oferente que retrasen el perfeccionamiento del contrato. | G22: Realizar revisión exhaustiva de las calidades de los oferentes en el proceso de contratación | I22: =+EVALUACION!I23 -> 2 | J22: =+EVALUACION!J23 -> 3 | K22: =+I22+J22 -> 5 | L22: =IF(K22<=4,"BAJO",IF(K22=5,"MEDIO",IF(K22=6,"ALTO",IF(K22=7,"ALTO","EXTREMO")))) -> MEDIO | M22: SI | N22: Alcaldía Local de Fontibón | O22: etapa de contratación | P22: firma del acta de inicio | Q22: supervisor formulador del Contrato | R22: Durante la etapa de Contratación
B23: CONTRATACIÓN | C23: =+EVALUACION!C24 -> Retrasos en la suscripción del contrato | G23: Seguimeinto de cada fase y solicitud al oferente de la firma en al fecha indicada | I23: =+EVALUACION!I24 -> 2 | J23: =+EVALUACION!J24 -> 3 | K23: =+I23+J23 -> 5 | L23: =IF(K23<=4,"BAJO",IF(K23=5,"MEDIO",IF(K23=6,"ALTO",IF(K23=7,"ALTO","EXTREMO")))) -> MEDIO | M23: SI | N23: Alcaldía Local de Fontibón | O23: etapa de contratación | P23: firma del contrato | Q23: supervisor formulador del Contrato | R23: Durante la etapa de Contratación
B24: =+EVALUACION!B25 -> EJECUCIÓN | C24: =+EVALUACION!C25 -> Afectación del flujo de caja del contratista como consecuencia de no radicar de forma oportuna, completa y con aval del supervisor los informes o presentarlos sin atender las fechas de programación del plan anual mensualizado de caja - PAC, que señale la entidad contratante | G24: Inducción e información al contratista respeto de las fechas de programación de PAC y condiciones de presentación de cuentas y soportes para asegurar el flujo de caja del contrato respectivo. | I24: =+EVALUACION!I25 -> 3 | J24: =+EVALUACION!J25 -> 2 | K24: =+I24+J24 -> 5 | L24: =IF(K24<=4,"BAJO",IF(K24=5,"MEDIO",IF(K24=6,"ALTO",IF(K24=7,"ALTO","EXTREMO")))) -> MEDIO | M24: NO | N24: Suervisión y apoyo a la supervisión del contrato | O24: Durante la ejecución del contrato. | P24: Durante la ejecución del contrato | Q24: Informe del supervisor | R24: Mensual
B25: =+EVALUACION!B26 -> EJECUCIÓN | C25: =+EVALUACION!C26 -> Falta de disponibilidad en el merccado de los elementos a contratar con las caracteristicas y condiciones previamente cotizados, durante la ejecución. | G25: Modificación del listado de elementos, previa concertación con el sector. | I25: =+EVALUACION!I26 -> 3 | J25: =+EVALUACION!J26 -> 2 | K25: =+I25+J25 -> 5 | L25: =IF(K25<=4,"BAJO",IF(K25=5,"MEDIO",IF(K25=6,"ALTO",IF(K25=7,"ALTO","EXTREMO")))) -> MEDIO | M25: NO | N25: Alcaldía Local de Fontibón | O25: Durante la ejecución del contrato. | P25: Durante las entregas | Q25: Revisión de las condiciones técnicas de los elemntos | R25: De manera permanente durante toda la ejecucion del contrato
B26: =+EVALUACION!B27 -> EJECUCIÓN | C26: =+EVALUACION!C27 -> Alteraciones por cambios en lineamientos técnicos y del mercado. | G26: Seguimieto permanente a las disposiciones y/o cambios de las especificaciones técnicas. | I26: =+EVALUACION!I27 -> 1 | J26: =+EVALUACION!J27 -> 3 | K26: =+I26+J26 -> 4 | L26: =IF(K26<=4,"BAJO",IF(K26=5,"MEDIO",IF(K26=6,"ALTO",IF(K26=7,"ALTO","EXTREMO")))) -> BAJO | M26: SI | N26: Alcaldía Local de Fontibón | O26: Inmediata a la ocurrencia. | P26: Inmediata | Q26: Mediante una revisión constante de las disposiciones aplicables a cada sector | R26: De manera permanente durante toda la ejecucion del contrato
B27: =+EVALUACION!B28 -> EJECUCIÓN | C27: =+EVALUACION!C28 -> Demoras por falta de elementos en el mercado, condiciones sociales y/o ambientales que retrasen la entrega. | G27: Búsqueda de soluciones en el mercado y reprogramación de cronogramas. | I27: 2 | J27: 2 | K27: =+I27+J27 -> 4 | L27: =IF(K27<=4,"BAJO",IF(K27=5,"MEDIO",IF(K27=6,"ALTO",IF(K27=7,"ALTO","EXTREMO")))) -> BAJO | M27: SI | N27: Contratista | O27: Inmediata a la ocurrencia. | P27: Durante el periodo de ejecución del contrato(s) | Q27: Seguimiento constante al proceso de ejecución y realización de comites de seguimiento | R27: De manera permanente durante toda la ejecucion del contrato
B28: =+EVALUACION!B29 -> EJECUCIÓN | C28: =+EVALUACION!C29 -> Contingencias con los provedores del contratista en cuanto a calidad y oportunidad. | G28: Búsqueda de soluciones en el mercado y reprogramación de cronogramas. | I28: 1 | J28: 1 | K28: =+I28+J28 -> 2 | L28: =IF(K28<=4,"BAJO",IF(K28=5,"MEDIO",IF(K28=6,"ALTO",IF(K28=7,"ALTO","EXTREMO")))) -> BAJO | M28: SI | N28: Contratista | O28: Inmediata a la ocurrencia. | P28: Durante el periodo de ejecución del contrato(s) | Q28: Seguimiento constante al proceso de ejecución y realización de comites de seguimiento | R28: De manera permanente durante toda la ejecucion del contrato
B29: =+EVALUACION!B30 -> EJECUCIÓN | C29: =+EVALUACION!C30 -> Deterioro de las condiciones de seguridad y orden público que impidan la ejecución del contrato. | G29: Suspensión del Contrato. | I29: 1 | J29: 2 | K29: =+I29+J29 -> 3 | L29: =IF(K29<=4,"BAJO",IF(K29=5,"MEDIO",IF(K29=6,"ALTO",IF(K29=7,"ALTO","EXTREMO")))) -> BAJO | M29: SI | N29: Alcaldía Local de Fontibón | O29: Inmediata a la ocurrencia. | P29: Inmediata | Q29: Seguimiento permanente en cronograma y obligaciones en el contrato | R29: De manera permanente durante toda la ejecución del contrato
B30: =+EVALUACION!B31 -> EJECUCIÓN | C30: =+EVALUACION!C31 -> No liquidar los contratos en los plazos acordados o los establecidos por la Ley. | G30: Supervisar de manera eficiente los tiempos de la contratación, de acuerdo con los cronogramas propuestos. | I30: =+EVALUACION!I31 -> 1 | J30: 1 | K30: =+I30+J30 -> 2 | L30: =IF(K30<=4,"BAJO",IF(K30=5,"MEDIO",IF(K30=6,"ALTO",IF(K30=7,"ALTO","EXTREMO")))) -> BAJO | M30: SI | N30: Alcaldía Local de Fontibón | O30: Inmediata a la ocurrencia. | P30: Inmediata | Q30: Seguimiento permanente en cronograma y obligaciones en el contrato | R30: Etapa de seguimiento y ejecución
B31: =+EVALUACION!B32 -> EJECUCIÓN | C31: =+EVALUACION!C32 -> Incumplimiento total o parcial del contratista en la entrega de los elementos | G31: Supervisar de manera eficiente la ejecución del contrato | I31: =+EVALUACION!I32 -> 2 | J31: =+EVALUACION!J32 -> 3 | K31: =+I31+J31 -> 5 | L31: =IF(K31<=4,"BAJO",IF(K31=5,"MEDIO",IF(K31=6,"ALTO",IF(K31=7,"ALTO","EXTREMO")))) -> MEDIO | M31: SI | N31: Alcaldía Local de Fontibón | O31: Inmediata a la ocurrencia. | P31: Inmediata | Q31: Seguimiento permanente en cronograma y obligaciones en el contrato | R31: Etapa de seguimiento y ejecución
B32: EJECUCIÓN | C32: =+EVALUACION!C33 -> Entrega de elementos que no cumplan con las especificaciones técnicas definidas por la entidad, en cuanto a calidad y garantia de los mismos. | G32: Detallar en el anexo técnico todas las especificaciones establecidas por el sector, tanto a nivel técnico, de calidad y garantias. | I32: 1 | J32: 1 | K32: =+I32+J32 -> 2 | L32: =IF(K32<=4,"BAJO",IF(K32=5,"MEDIO",IF(K32=6,"ALTO",IF(K32=7,"ALTO","EXTREMO")))) -> BAJO | M32: SI | N32: Alcaldía Local de Fontibón | O32: Inmediata a la ocurrencia. | P32: Durante el periodo de ejecución del contrato(s) | Q32: Lectura de anexos técnicos, condiciones técnicas, calidad y garantia de cada uno de los elementos en el primer comité de seguimiento | R32: De manera permanente durante toda la ejecucion del contrato
C34: Categoria del Riesgo | H34: Impacto del Riesgo
B35: Probabilidad | C35: Catagoria | F35: Valoración | H35: Categoria | J35: Valoración | N35: Categoria del Riesgo
C36: Raro (puede ocurrir excepcionalmente) | F36: 1 | H36: Insignificante | J36: 1 | N36: Valoración del Riesgo | P36: Categoría
C37: Improbable (puede ocurrir ocasionalmente) | F37: 2 | H37: Menor | J37: 2 | N37: 8, 9 y 10 | P37: Riesgo extremo
C38: Posible (puede ocurrir en cualquier momento futuro) | F38: 3 | H38: Moderado | J38: 3 | N38: 6 y 7 | P38: Riesgo alto
C39: Probable (probablemente va a ocurrir) | F39: 4 | H39: Mayor | J39: 4 | N39: 5 | P39: Riesgo medio
C40: Casi cierto (ocurre en la mayoria de circunstancias) | F40: 5 | H40: Catastrófico | J40: 5 | N40: 2, 3 y 4 | P40: Riesgo bajo
C42: Valoración del Riesgo
C43: Calificación Cualitativa | G43: Obstruye la ejecución del contrato de manera intrascendente. | I43: Dificulta la ejecución del contrato de manera baja, aplicando medidas mínimas se pueden lograr el objeto contractual | L43: Afecta la ejecución del contrato sin alterar el beneficio para las partes | N43: Obstruye la ejecución del contrato sustancialmente pero aun así permite la consecución del objeto contractual | P43: Perturba la ejecución del contrato de manera grave imposibilitando la consecución del objeto contractual.
C44: Calificación Monetaria | G44: Los sobrecostos no representan más del uno por ciento (1%) del valor del contrato. | I44: Los sobrecostos no representan más del cinco por ciento (5%) del valor del contrato. | L44: Genera un impacto sobre el valor del contrato entre el cinco (5%) y el quince por ciento (15%). | N44: Incrementa el valor del contrato entre el quince (15%) y el treinta por ciento (30%). | P44: Impacto sobre el valor del contrato en más del treinta por ciento (30%).
C45: Catagoria | F45: Valoración | G45: Insignificante | I45: Menor | L45: Moderado | N45: Mayor | P45: Catastrófico
G46: 1 | I46: 2 | L46: 3 | N46: 4 | P46: 5
C47: Raro (puede ocurrir excepcionalmente) | F47: 1 | G47: 2 | I47: 3 | L47: 4 | N47: 5 | P47: 6
C48: Improbable (puede ocurrir ocasionalmente) | F48: 2 | G48: 3 | I48: 4 | L48: 5 | N48: 6 | P48: 7
C49: Posible (puede ocurrir en cualquier momento futuro) | F49: 3 | G49: 4 | I49: 5 | L49: 6 | N49: 7 | P49: 8
C50: Probable (probablemente va a ocurrir) | F50: 4 | G50: 5 | I50: 6 | L50: 7 | N50: 8 | P50: 9
...

Sheet ASIGNACION Y TRATAMIENTO
C2: MATRIZ DE RIESGOS DE CONTRATACIÓN | W2: Código: GCO-GCI-F164 Versión: 02 Vigencia: 01 de diciembre de 2022 Caso HOLA: 280117
B6: Objeto Contractual: “ Propender el fortalecimiento de programas, acciones pedagógicas, psicosociales y proyectos que contribuyan a la mejora de la convivencia escolar, prevención de violencias y la resolución efectiva de conflictos a través de un enfoque restaurativo y preventivo."
B7: Esta matriz es un documento anexo del Estudio Previo
B10: No | C10: Descripción (Que puede pasar y, cómo puede ocurrir) | D10: Etapa | E10: Clase | F10: Fuente | G10: Consecuencias de la ocurrencia del evento | H10: Probabilidad | I10: Impacto | J10: Calificación total | K10: Prioridad | L10: ¿A quien se le asigna? | M10: % | N10: Tratamiento/Controles a ser implementados | O10: Probabilidad | P10: Impacto | Q10: Calificación total | R10: Prioridad | S10: ¿Afecta el equilibrio económico del contrato? | T10: Persona responsable por implementar el tratamiento | U10: Fecha estimada en que se inicia el tratamiento | V10: Fecha estimada en que se completa el tratamiento | W10: ¿Cómo se realiza el monitoreo | X10: Periodicidad ¿Cuándo?
B11: 1 | C11: Baja participación o deserción de estudiantes, familias o comunidad educativa en las actividades pedagógicas y psicosociales, debido a dificultades de convocatoria, cambios de horarios institucionales, desinterés de la población objetivo o falta de articulación con las instituciones educativas. | D11: EJECUCIÓN | E11: ESPECIFICO | F11: EXTERNO | G11: Incumplimiento parcial de las metas de cobertura y participación establecidas en el proyecto, afectación en el desarrollo de las actividades pedagógicas y psicosociales, retrasos en el cronograma de ejecución y posibles dificultades para el cumplimiento de los indicadores contractuales. | H11: 3 | I11: 3 | J11: 6 | K11: MEDIO | L11: CONTRATISTA | M11: 100 | N11: Implementar estrategias de convocatoria y sensibilización con instituciones educativas, jornadas de socialización, articulación con rectores, orientadores y comunidad educativa, seguimiento a asistencia y ajustes de cronograma según necesidades territoriales e institucionales. | O11: 2 | P11: 2 | Q11: 4 | R11: BAJO | S11: SI | T11: Contratista y Alcaldía Local de Fontibón | U11: Durante la etapa de alistamiento y previo al inicio de actividades | V11: Durante toda la ejecución contractual | W11: Seguimiento mediante listados de asistencia, actas de articulación institucional, informes técnicos y verificación de cumplimiento de metas de participación. | X11: Permanente durante toda la ejecución del contrato
B12: 2 | C12: Retrasos en la ejecución de talleres, jornadas comunitarias y actividades restaurativas, como consecuencia de modificaciones en los cronogramas escolares, restricciones institucionales, contingencias operativas o dificultades logísticas en los espacios de intervención. | D12: EJECUCIÓN | E12: ESPECIFICO | F12: EXTERNO | G12: Incumplimiento del cronograma contractual, reprogramación de actividades, afectación en la cobertura de atención y posibles retrasos en el cumplimiento de metas e indicadores del proyecto. | H12: =+EVALUACION!I18 -> 2 | I12: =+EVALUACION!J18 -> 2 | J12: =+EVALUACION!K18 -> 4 | K12: =+EVALUACION!L18 -> BAJO | L12: CONTRATISTA | M12: 100 | N12: Implementar cronogramas concertados con los rectores de las instituciones educativas y actores territoriales, realizar seguimiento permanente a la programación de actividades, establecer planes de contingencia operativa y efectuar reprogramaciones oportunas frente a novedades institucionales o logísticas | O12: 1 | P12: 2 | Q12: 3 | R12: =+'EVALUACION CON CONTROLES'!L17 -> BAJO | S12: SI | T12: Contratista y Alcaldía Local de Fontibón | U12: Inicio de ejecución contractual | V12: Durante toda la ejecución contractual | W12: Seguimiento a cronogramas, actas de comité técnico e informes de avance. | X12: Mensual y durante toda la ejecución contractual.
B13: 3 | C13: Incumplimiento parcial de las metas de vinculación de población beneficiaria, debido a limitaciones en los procesos de focalización, baja asistencia de participantes o dificultades territoriales para el acceso a la población objetivo. | D13: EJECUCIÓN | E13: ESPECIFICO | F13: EXTERNO | G13: Disminución en el alcance del proyecto, incumplimiento de metas contractuales y afectación en los resultados esperados frente a la población objetivo. | H13: =+EVALUACION!I19 -> 1 | I13: =+EVALUACION!J19 -> 2 | J13: =+EVALUACION!K19 -> 3 | K13: =+EVALUACION!L19 -> BAJO | L13: CONTRATISTA | M13: 100 | N13: Fortalecer los procesos de convocatoria y focalización mediante articulación institucional, estrategias de difusión territorial, seguimiento a cobertura y asistencia, así como ajustes metodológicos y operativos orientados al cumplimiento de metas. | O13: 1 | P13: 2 | Q13: 3 | R13: =+'EVALUACION CON CONTROLES'!L18 -> BAJO | S13: SI | T13: Contratista | U13: Etapa de alistamiento | V13: Durante toda la ejecución contractual | W13: Verificación de listados de asistencia, bases de datos y cumplimiento de metas de cobertura. | X13: Permanente durante la ejecución contractual.
B14: 4 | C14: Rotación o ausencia del talento humano requerido para la ejecución del proyecto, ocasionada por renuncias, incapacidades, incumplimiento de perfiles o dificultades de contratación del personal especializado. | D14: EJECUCIÓN | E14: ESPECIFICO | F14: INTERNO | G14: Retrasos en la ejecución de actividades, afectación metodológica, disminución en la calidad de la intervención y posible incumplimiento contractual. | H14: =+EVALUACION!I20 -> 1 | I14: =+EVALUACION!J20 -> 2 | J14: =+EVALUACION!K20 -> 3 | K14: =+EVALUACION!L20 -> BAJO | L14: CONTRATISTA | M14: 100 | N14: Verificar previamente el cumplimiento de perfiles exigidos, mantener disponibilidad de personal de reemplazo, realizar seguimiento al desempeño del equipo técnico y garantizar procesos oportunos de contratación y vinculación del talento humano. | O14: 1 | P14: 2 | Q14: 3 | R14: =+'EVALUACION CON CONTROLES'!L19 -> BAJO | S14: SI | T14: Contratista | U14: Etapa precontractual y alistamiento | V14: Durante toda la ejecución contractual | W14: Revisión de hojas de vida, seguimiento al personal vinculado y validación de reemplazos. | X14: Permanente durante la ejecución contractual.
B15: 5 | C15: Deficiencias en la implementación metodológica de las actividades pedagógicas y psicosociales, derivadas de una inadecuada planeación técnica, insuficiente articulación institucional o incumplimiento de los lineamientos establecidos en el anexo técnico. | D15: EJECUCIÓN | E15: ESPECIFICO | F15: INTERNO | G15: Afectación en la calidad de los procesos formativos, incumplimiento técnico del anexo y observaciones por parte de la supervisión del contrato. | H15: =+EVALUACION!I21 -> 2 | I15: =+EVALUACION!J21 -> 3 | J15: =+EVALUACION!K21 -> 5 | K15: =+EVALUACION!L21 -> MEDIO | L15: CONTRATISTA | M15: 100 | N15: Realizar procesos de planeación técnica y validación metodológica en comité técnico, seguimiento permanente a la ejecución de actividades, revisión de contenidos pedagógicos y acompañamiento técnico por parte de la supervisión del contrato. | O15: 1 | P15: 2 | Q15: 3 | R15: =+'EVALUACION CON CONTROLES'!L20 -> BAJO | S15: SI | T15: Contratista y supervisión | U15: Etapa de alistamiento | V15: Durante toda la ejecución contractual | W15: Seguimiento técnico en comités, revisión metodológica e informes de ejecución. | X15: Mensual durante la ejecución contractual.
B16: 6 | C16: Dificultades en la articulación con instituciones educativas y actores territoriales para el desarrollo de las actividades, debido a cambios administrativos, falta de disponibilidad institucional o baja coordinación interinstitucional. | D16: EJECUCIÓN | E16: ESPECIFICO | F16: EXTERNO | G16: Retrasos operativos, limitación para el acceso a la población objetivo y afectación en la programación de actividades institucionales y comunitarias. | H16: =+EVALUACION!I22 -> 2 | I16: =+EVALUACION!J22 -> 3 | J16: =+EVALUACION!K22 -> 5 | K16: =+EVALUACION!L22 -> MEDIO | L16: CONTRATISTA | M16: 100 | N16: Desarrollar mesas de concertación institucional, fortalecer canales de comunicación interinstitucional, definir responsables y cronogramas conjuntos y realizar seguimiento periódico a compromisos adquiridos. | O16: 1 | P16: 2 | Q16: 3 | R16: =+'EVALUACION CON CONTROLES'!L21 -> MEDIO | S16: NO | T16: Contratista y Alcaldía Local de Fontibón | U16: Etapa de alistamiento | V16: Durante toda la ejecución contractual | W16: Seguimiento mediante mesas de trabajo, actas y compromisos institucionales. | X16: Permanente y según cronograma institucional.
B17: 7 | C17: Incumplimiento en la entrega de evidencias, soportes documentales y registros de asistencia requeridos para la supervisión del contrato, debido a fallas administrativas, pérdida de información o deficiencias en los procesos de sistematización. | D17: EJECUCIÓN | E17: ESPECIFICO | F17: INTERNO | G17: Observaciones por parte de supervisión, dificultades en la validación de actividades ejecutadas y posibles afectaciones en los pagos y cierre contractual. | H17: =+EVALUACION!I23 -> 2 | I17: =+EVALUACION!J23 -> 3 | J17: =+EVALUACION!K23 -> 5 | K17: =+EVALUACION!L23 -> MEDIO | L17: CONTRATISTA | M17: 100 | N17: Implementar mecanismos de control documental y archivo, estandarizar formatos de recolección de evidencias, realizar seguimiento administrativo periódico y validar oportunamente los soportes requeridos por supervisión. | O17: 1 | P17: 2 | Q17: 3 | R17: =+'EVALUACION CON CONTROLES'!L22 -> MEDIO | S17: SI | T17: Contratista | U17: Inicio de ejecución contractual | V17: Finalización del contrato | W17: Revisión documental de informes, soportes y evidencias contractuales. | X17: Mensual y previo a pagos.
B18: 8 | C18: Manejo inadecuado de información sensible de niños, niñas y adolescentes participantes del proyecto, ocasionado por incumplimiento de protocolos de confidencialidad, protección de datos personales o lineamientos de atención diferencial. | D18: =+'EVALUACION CON CONTROLES'!B23 -> CONTRATACIÓN | E18: ESPECIFICO | F18: INTERNO | G18: Vulneración de derechos, posibles quejas o acciones legales, afectación reputacional y riesgos asociados al incumplimiento de la normatividad de protección de datos. | H18: =+EVALUACION!I24 -> 2 | I18: =+EVALUACION!J24 -> 3 | J18: =+EVALUACION!K24 -> 5 | K18: =+EVALUACION!L24 -> MEDIO | L18: CONTRATISTA | M18: 100 | N18: Aplicar protocolos de confidencialidad y protección de datos personales, sensibilizar al equipo ejecutor sobre manejo de información sensible y garantizar el cumplimiento de lineamientos institucionales y normativos de protección integral. | O18: 1 | P18: 2 | Q18: 3 | R18: =+'EVALUACION CON CONTROLES'!L23 -> MEDIO | S18: SI | T18: Contratista | U18: Inicio de ejecución contractual | V18: Durante toda la ejecución contractual | W18: Seguimiento al cumplimiento de protocolos de confidencialidad y protección de datos. | X18: Permanente durante toda la ejecución contractual.
B19: 9 | C19: Riesgos psicosociales durante el desarrollo de actividades relacionadas con violencias, bullying o conflictividad escolar, debido a la posible activación emocional de participantes frente a experiencias personales o comunitarias. | D19: =+'EVALUACION CON CONTROLES'!B24 -> EJECUCIÓN | E19: ESPECIFICO | F19: EXTERNO | G19: Afectaciones emocionales en participantes, activación de situaciones sensibles y necesidad de activar rutas de atención institucional. | H19: =+EVALUACION!I25 -> 3 | I19: =+EVALUACION!J25 -> 2 | J19: =+EVALUACION!K25 -> 5 | K19: =+EVALUACION!L25 -> MEDIO | L19: CONTRATISTA | M19: 100 | N19: Implementar protocolos de atención psicosocial, contar con profesionales idóneos para el manejo de situaciones sensibles, activar rutas institucionales cuando se requiera y realizar acompañamiento diferencial a participantes. | O19: 2 | P19: 2 | Q19: 4 | R19: BAJO | S19: SI | T19: Contratista y Alcaldía Local de Fontibón | U19: Inicio de actividades pedagógicas | V19: Durante toda la ejecución contractual | W19: Seguimiento psicosocial, activación de rutas y revisión de casos identificados. | X19: Permanente durante las actividades.
B20: 10 | C20: Incumplimiento en los tiempos de aprobación de piezas comunicativas y material pedagógico, ocasionando retrasos en los procesos de divulgación, convocatoria y ejecución de actividades del proyecto. | D20: =+'EVALUACION CON CONTROLES'!B25 -> EJECUCIÓN | E20: ESPECIFICO | F20: INTERNO | G20: Retrasos en procesos de divulgación, convocatoria y ejecución de actividades programadas. | H20: =+EVALUACION!I26 -> 3 | I20: =+EVALUACION!J26 -> 2 | J20: =+EVALUACION!K26 -> 5 | K20: =+EVALUACION!L26 -> MEDIO | L20: CONTRATISTA Y ALCALDÍA LOCAL DE FONTIBÓN | M20: 50/50 | N20: Establecer cronogramas de revisión y aprobación de piezas, articular permanentemente con la oficina de comunicaciones y supervisión y realizar ajustes oportunos conforme a lineamientos institucionales vigentes. | O20: 2 | P20: 2 | Q20: 4 | R20: =+'EVALUACION CON CONTROLES'!L25 -> MEDIO | S20: NO | T20: Contratista y Alcaldía Local de Fontibón | U20: Etapa de alistamiento | V20: Durante la ejecución de actividades comunicativas | W20: Revisión y validación de piezas en comité técnico y con comunicaciones. | X20: Según requerimiento y cronograma.
B21: 11 | C21: Dificultades en la ejecución de las iniciativas de Presupuestos Participativos vinculadas a los proyectos, debido a baja participación comunitaria, limitaciones logísticas o falta de articulación con los actores territoriales priorizados. | D21: =+'EVALUACION CON CONTROLES'!B26 -> EJECUCIÓN | E21: ESPECIFICO | F21: EXTERNO | G21: Incumplimiento de actividades concertadas con comunidad, afectación en la participación ciudadana y retrasos en el cumplimiento de compromisos territoriales. | H21: =+EVALUACION!I27 -> 1 | I21: =+EVALUACION!J27 -> 3 | J21: =+EVALUACION!K27 -> 4 | K21: =+EVALUACION!L27 -> BAJO | L21: CONTRATISTA | M21: 100 | N21: Fortalecer procesos de articulación con actores comunitarios y proponentes, realizar seguimiento territorial a las actividades programadas y ajustar estrategias operativas conforme a necesidades identificadas en el territorio. | O21: 1 | P21: 2 | Q21: 3 | R21: BAJO | S21: SI | T21: Contratista y Alcaldía Local de Fontibón | U21: Inicio de ejecución territorial | V21: Durante toda la ejecución contractual | W21: Seguimiento territorial, actas comunitarias e informes de avance. | X21: Mensual durante la ejecución contractual.
B22: 12 | C22: Entrega insuficiente o inoportuna de materiales pedagógicos y logísticos requeridos para el desarrollo de talleres y jornadas, debido a fallas de proveedores, retrasos operativos o problemas de abastecimiento. | D22: =+'EVALUACION CON CONTROLES'!B27 -> EJECUCIÓN | E22: ESPECIFICO | F22: EXTERNO | G22: Suspensión o retraso de actividades, afectación metodológica y disminución en la calidad de la implementación del proyecto. | H22: =+EVALUACION!I28 -> 3 | I22: =+EVALUACION!J28 -> 3 | J22: =+EVALUACION!K28 -> 6 | K22: =+EVALUACION!L28 -> ALTO | L22: CONTRATISTA | M22: 100 | N22: Realizar planeación anticipada de adquisiciones, seguimiento a proveedores y disponibilidad de materiales, control logístico de inventarios y validación previa de insumos requeridos para las actividades. | O22: 2 | P22: 2 | Q22: 4 | R22: =+'EVALUACION CON CONTROLES'!L27 -> BAJO | S22: SI | T22: Contratista | U22: Etapa de alistamiento | V22: Durante toda la ejecución contractual | W22: Verificación logística, control de inventarios y seguimiento a proveedores. | X22: Permanente durante la ejecución contractual.
B23: 13 | C23: Posibles afectaciones por quejas de la comunidad frente al desarrollo de actividades del proyecto, debido a inconformidades en la focalización, ejecución metodológica o cobertura territorial. | D23: =+'EVALUACION CON CONTROLES'!B28 -> EJECUCIÓN | E23: ESPECIFICO | F23: EXTERNO | G23: Afectación de la imagen institucional, incremento de quejas ciudadanas y posibles requerimientos de entes de control o supervisión. | H23: =+EVALUACION!I29 -> 2 | I23: 2 | J23: 4 | K23: BAJO | L23: CONTRATISTA Y ALCALDÍA LOCAL DE FONTIBÓN | M23: 50/50 | N23: Implementar estrategias de comunicación y socialización transparentes, fortalecer canales de atención a la comunidad, realizar seguimiento a observaciones ciudadanas y garantizar el cumplimiento de lineamientos técnicos y metodológicos. | O23: 1 | P23: 2 | Q23: 3 | R23: =+'EVALUACION CON CONTROLES'!L28 -> BAJO | S23: NO | T23: Contratista y Alcaldía Local de Fontibón | U23: Inicio de ejecución contractual | V23: Finalización del contrato | W23: Seguimiento a PQRS, actas, reportes comunitarios y supervisión técnica. | X23: Permanente durante toda la ejecución contractual.
B24: 14 | C24: Incumplimiento de cronogramas establecidos para la ejecución contractual, como consecuencia de contingencias operativas, modificaciones institucionales, factores externos o baja disponibilidad de escenarios educativos y comunitarios. | D24: =+'EVALUACION CON CONTROLES'!B30 -> EJECUCIÓN | E24: ESPECIFICO | F24: EXTERNO | G24: Retrasos contractuales, incumplimiento de metas y posible afectación en los tiempos de cierre y entrega de productos del proyecto. | H24: 2 | I24: =+EVALUACION!J31 -> 3 | J24: 5 | K24: MEDIO | L24: CONTRATISTA | M24: 100 | N24: Implementar seguimiento técnico y operativo permanente al cronograma, realizar comités de seguimiento, aplicar acciones correctivas frente a retrasos y efectuar reprogramaciones justificadas cuando sea necesario. | O24: 1 | P24: 2 | Q24: 3 | R24: =+'EVALUACION CON CONTROLES'!L30 -> BAJO | S24: SI | T24: Contratista | U24: Inicio de ejecución contractual | V24: Finalización del contrato | W24: Seguimiento a cronograma, comités técnicos e informes de avance. | X24: Mensual y permanente durante la ejecución contractual.
B25: 15 | C25: Falta de seguimiento oportuno a casos identificados de violencia, hostigamiento escolar o conflictividad escolar durante las actividades del proyecto, debido a deficiencias en la articulación institucional para la activación de las rutas. | D25: =+'EVALUACION CON CONTROLES'!B31 -> EJECUCIÓN | E25: ESPECIFICO | F25: INTERNO | G25: Riesgo de vulneración de derechos, incumplimiento de rutas institucionales y afectación a la integridad de la población participante. | H25: =+EVALUACION!I32 -> 2 | I25: =+EVALUACION!J32 -> 3 | J25: =+EVALUACION!K32 -> 5 | K25: =+EVALUACION!L32 -> MEDIO | L25: CONTRATISTA Y ALCALDÍA LOCAL DE FONTIBÓN | M25: 50/50 | N25: Fortalecer la articulación con rutas institucionales de atención, realizar seguimiento oportuno a situaciones identificadas, garantizar remisión a entidades competentes y documentar las acciones desarrolladas en el marco del proyecto. | O25: 1 | P25: 2 | Q25: 3 | R25: =+'EVALUACION CON CONTROLES'!L31 -> MEDIO | S25: SI | T25: Contratista y Alcaldía Local de Fontibón | U25: Inicio de actividades | V25: Durante toda la ejecución contractual | W25: Seguimiento a activación de rutas, remisiones y acompañamiento institucional. | X25: Permanente durante toda la ejecución contractual.
F27: Categoria | J27: Impacto del Riesgo
E28: Probabilidad | F28: Catagoria | G28: Valoración | J28: Categoria
F29: Raro (puede ocurrir excepcionalmente) | G29: 1 | J29: Insignificante
F30: Improbable (puede ocurrir ocasionalmente) | G30: 2 | J30: Menor
F31: Posible (puede ocurrir en cualquier momento futuro) | G31: 3 | J31: Moderado
F32: Probable (probablemente va a ocurrir) | G32: 4 | J32: Mayor
F33: Casi cierto (ocurre en la mayoria de circunstancias) | G33: 5 | J33: Catastrófico
D35: Valoración del Riesgo
D36: Catagoria | E36: Valoración | F36: Insignificante | H36: Menor | J36: Moderado | K36: Mayor | P36: Categoria del Riesgo
F37: 1 | H37: 2 | J37: 3 | K37: 4 | P37: Valoración del Riesgo | S37: Categoría
D38: Raro (puede ocurrir excepcionalmente) | E38: 1 | F38: 2 | H38: 3 | J38: 4 | K38: 5 | P38: 8, 9 y 10 | S38: Riesgo extremo
D39: Improbable (puede ocurrir ocasionalmente) | E39: 2 | F39: 3 | H39: 4 | J39: 5 | K39: 6 | P39: 6 y 7 | S39: Riesgo alto
D40: Posible (puede ocurrir en cualquier momento futuro) | E40: 3 | F40: 4 | H40: 5 | J40: 6 | K40: 7 | P40: 5 | S40: Riesgo medio
D41: Probable (probablemente va a ocurrir) | E41: 4 | F41: 5 | H41: 6 | J41: 7 | K41: 8 | P41: 2, 3 y 4 | S41: Riesgo bajo
D42: Casi cierto (ocurre en la mayoria de circunstancias) | E42: 5 | F42: 6 | H42: 7 | J42: 8 | K42: 9
B47: CONTRATISTA
B48: SDG
B49: CONTRATISTA Y SDG
