Workbook

Sheet TRDM
A1: EMPRESA IBAGUEREÑA DE ACUEDUCTO Y ALCANTARILLADO IBAL S.A. ESP OFICIAL - IBAL
A2: Slip Condiciones Técnicas Pólizas / Programa de Seguros
A3: OBJETO
A4: Amparar las pérdidas o daños materiales que sufran los bienes de propiedad del IBAL bajo su responsabilidad, tenencia y/o control, y en general los recibidos a cualquier titulo y/o por los que tenga algún interés asegurable.
A5: DEFINICIONES
A6: BIENES ASEGURADOS Toda propiedad real, bienes materiales de propiedad del IBAL, o de terceros que se hallen bajo su responsabilidad, tenencia, cuidado, custodia, control o por las cuales sea legal o contractualmente responsable, y en general los recibidos a cualquier título o por los que tenga algún interés asegurable, ubicados en el territorio nacional, dentro o fuera de las instalaciones o predios del asegurado y/o en predios de terceros y/o que se encuentren a la intemperie, consistentes principalmente pero no limitados en los siguientes:"
A7: DEFINICIÓN DE EDIFICIO Lo constituye las construcciones propias y no propias, de edificos e inherentes a ellas, fijas con todas sus adiciones y anexos, de propiedad del IBAL, bajo su responsabilidad, tenencia y/o control incluidos los tomados en arriendo, tales pero no limitados a los cimientos, divisiones internas de las que estén dotadas las edificaciones, escaleras externas, mejoras locativas, instalaciones sanitarias y para agua (subterráneas o no), de aire acondicionado, redes eléctricas (subterráneas o no), líneas de fibra óptica, contadores y demás instalaciones de servicios públicos, acometidas de comunicación, intercomunicación o sonido, tanques de agua, almacenamiento, ductos y rejillas del equipo de aire acondicionado, mallas, avisos, vallas, patios, aceras, instalaciones fijas para prevención y/o extinción de incendios, y demás instalaciones similares que formen parte integrante del edificio o edificios asegurados aunque no se hayan mencionado específicamente, de propiedad del asegurado o por los que sea responsable, siempre y cuando no se encuentren específicamente asegurados bajo otro artículo o póliza que cubra los mismos eventos amparados. El valor asegurable incluye el costo de los honorarios por dirección de obra y/o interventoría, los estudios, adecuaciones y aplicación de las normas de sismo resistencia vigente a la fecha del siniestro.
A8: OBRAS CIVILES Se entiende por obras civiles las plantas de tratamiento de agua potable, planta de tratamiento de aguas residuales zona rural, bocatomas, aducciones, sistemas de acueducto, incluidas conducciones, colectores, interceptores, tanques de distrubucion y almacenamiento, y cualquier otra obra aunque no se haya determinado específicamente, de propiedad del asegurado o por los que sea responsable a cualquier título, siempre y cuando en este último caso no estén cubierto por otra póliza, ubicados en cualquier parte de los predios que pueda adquirir el asegurado dentro del territorio nacional.
A9: DEFINICIÓN DE MAQUINARIA Y EQUIPO Toda maquinara, equipos, accesorios, herramientas, compresores, plantas eléctricas, y en general todo elemento correspondiente a maquinaria, aunque no se haya determinado específicamente, de propiedad del asegurado o por los que se responsable a cualquier título, siempre y cuando en este último caso no estén cubierto por otra póliza, ubicados en cualquier parte de los predios que pueda adquirir el asegurado dentro del territorio nacional.
A10: CONTENIDOS Se entiende por contenido en general, documentos de cualquier clase, archivos históricos, croquis, dibujos, escrituras, patrones, planos, moldes o modelos, hojas de vida de trabajadores, sellos, recibos, libros de comercio, articulos decorativos y Ornamentación, muebles, enseres, útiles de oficina, divisiones modulares de las oficinas, estantes, los archivadores, equipos y herramientas, y cualquier otra clase de bienes no mencionados, aunque no se hayan descrito específicamente, de propiedad del asegurado o por los que sea responsable a cualquier título.
A12: INVENTARIO Y MATERIALES DE ALMACEN Bienes consistentes principalmente en válvulas, tuberías (PVC, PE), llaves de aguja, codo, medidores, collares, uniones, abrazaderas y en general demás bienes que hagan parte del inventario y del almacén, aunque no se hayan descrito específicamente, que sean de propiedad del asegurado o por los que sea responsable a cualquier título.
A13: INSUMOS, REACTIVOS Y SUMINISTROS Bienes consistentes principalmente en cloro, sulfato sólido, cal, sulfato líquido, PACI y en general demás bienes que hagan parte de los insumos y materiales requeridos por el asegurado aunque no se hayan descrito específicamente, que sean de propiedad del asegurado o por los que sea responsable a cualquier título.
... A19: MEJORAS LOCATIVAS Todas aquellas mejoras a los inmuebles realizadas por el IBAL, aún en el caso de que la misma no sea propietaria, para adecuarlos a sus necesidades, tales como, divisiones modulares, enchapes, mejoras eléctricas, cielos rasos, incluyendo las divisiones internas de que estén dotadas las edificaciones, etc.
A20: TODO RIESGO | B20: VALOR | C20: PUNTOS
A21: DAÑOS MATERIALES COMBINADOS | B21: ASEGURADO
A22: Daños Materiales
A23: 1. Activos Fijos de Eibal ubicados en la ciudad de Ibague
A24: - Edificios y construcciones | B24: =+'RELACIÓN BS TRDM'!H6 -> 3.3059719e+10 | C24: OBLIGATORIO
A25: - Obras Civiles: | B25: =+'RELACIÓN BS TRDM'!H19 -> 2.4901403e+11 | C25: OBLIGATORIO
A26: - Muebles y enseres y contenidos en general | B26: =+'RELACIÓN BS TRDM'!D164 -> 1.4542124e+09 | C26: OBLIGATORIO
A27: - Existencias - Mercancias | B27: =+'RELACIÓN BS TRDM'!D165 -> 7.9525677e+09 | C27: OBLIGATORIO
A28: - Maquinaira y equipo | B28: =+'RELACIÓN BS TRDM'!D166 -> 2.9897679e+09 | C28: OBLIGATORIO
A29: - Herramienta y accesorios | B29: =+'RELACIÓN BS TRDM'!D167 -> 8.6266093e+08 | C29: OBLIGATORIO
A30: - Dineros dentro y fuera de caja fuerte | B30: =200000000*1.0603 -> 212060000 | C30: OBLIGATORIO
A31: - Equipo de comunicación y cmputación | B31: =+'RELACIÓN BS TRDM'!D169 -> 1.0419881e+09 | C31: OBLIGATORIO
A32: - Equipo medico y cientifico | B32: =+'RELACIÓN BS TRDM'!D170 -> 5.268923e+08 | C32: OBLIGATORIO
A33: - Tubería almacenada en patios varios para la planta de Coello | B33: =+'RELACIÓN BS TRDM'!D171 -> 10709030000 | C33: OBLIGATORIO
A34: . Cableado estructurado | B34: =+'RELACIÓN BS TRDM'!D172 -> 106030000 | C34: OBLIGATORIO
A35: - Vehiculos en reposo (desuso) | B35: =+'RELACIÓN BS TRDM'!D173 -> 15904500 | C35: OBLIGATORIO
A36: Total Valor Asegurado | B36: =SUM(B24:B35) -> 3.0794487e+11 | C36: OBLIGATORIO
A37: Nota: Inventarios de Mercancias comprende ente otros accesorios, contadores, repuestos, tuberias, insumos quimicos, insumos de oficina y demas elementos propios para el funcionamiento de la empresa.
A38: 2. Lucro Cesante por Incendio (Utilidad Bruta incluyendo la totalidad de la nómina) | B38: =+'RELACIÓN BS TRDM'!D174 -> 5301500000 | C38: OBLIGATORIO
A39: Período de indemnización 12 meses
A40: 3. Rotura de Maquinaria | B40: =+B28 -> 2.9897679e+09 | C40: OBLIGATORIO
A41: 4. Equipo Electronico (incluido hurto y hurto calificado). | B41: =+B31+B32 -> 1.5688804e+09 | C41: OBLIGATORIO
A42: 5. Sustracción (Dineros) | B42: =+B30 -> 212060000 | C42: OBLIGATORIO
A43: 6. Sustracción (Muebles y Enseres) | B43: =+B26 -> 1.4542124e+09 | C43: OBLIGATORIO
A44: 7. Sustracción (inventarios de Mercancías.herramientas-cable estrucutrado y vehiculos en desuso) | B44: =+B27+B29+B33+B34+B35 -> 1.9646193e+10 | C44: OBLIGATORIO
A45: - Índice variable 5% | B45: =+(B24+B25+B26+B28+B29)*5% -> 1.436902e+10 | C45: OBLIGATORIO
A46: Amparos
...

Sheet TRDM M Y E
A1: TODO RIESGO EQUIPO Y MAQUINARIA | B1: VALOR | C1: PUNTOS
B2: ASEGURADO
A3: Amparar contra todo riesgo la maquinaria y equipo que se moviliza por sus propios medios y la que se encuentra instalada en los vehiculos de propiedad o por los que sea responsable el IBAL, en cualquier parte del territorio nacional y por los daños que éstas causen a terceras personas a sus bienes. | C3: OBLIGATORIO
A4: De acuerdo a la relación anexa | B4: =+'RELACIÓN TRDM M Y E'!C14 -> 5660432864
A5: Total Valor Asegurado | B5: =SUM(B4:B4) -> 5660432864
A6: - Índice variable 5% | B6: =B5*5% -> 2.8302164e+08
A7: AMPAROS | B7: En Millones | C7: PUNTOS
A8: - Todo riesgo | C8: OBLIGATORIO
A9: - Terremoto, temblor y/o erupción volcánica | C9: OBLIGATORIO
A10: - Huracán - Avenida - Inundación - Anegación | C10: OBLIGATORIO
A11: - Asonada, motín, conmoción civil o popular y huelga | C11: OBLIGATORIO
A12: - Actos mal intencionados de terceros (terrorismo) | C12: OBLIGATORIO
A13: - Hurto y hurto calificado | C13: OBLIGATORIO
A14: - Otras propiedades del asegurado | C14: 20
A15: - Hundimiento del terreno | C15: 30
A16: - Inundación y desbordamiento | C16: OBLIGATORIO
A17: - Caída de rocas | C17: OBLIGATORIO
A18: - Deslizamientos de tierra | C18: OBLIGATORIO
A19: - Equipos bajo tierra | C19: 20
A20: - Daños a propiedades adyacentes o vecinas | C20: 30
A21: - Volcamiento | C21: OBLIGATORIO
A22: - Extended coverage | C22: OBLIGATORIO
A23: - Movilización por sus propios medios y/o en vehículos especializados | C23: 30
A24: - Cualquier otro fenómeno de la naturaleza | C24: 30
A25: Nota 1: No obstante lo contemplado en las condiciones generales y particulares de la póliza, la cobertura se debe ampliar para amparar los daños de los equipos asegurados durante su transporte y movilización por sus propios medios en el territorio nacional, incluyendo vías públicas. | C25: 40
A26: Nota 2: Para efecto de los daños, lesiones o muerte que puedan sercausados como consecuencia de la operación de los equipos y bienes, los empleados serán considerados como terceros. | C26: 40
A27: Nota 3: Se cubre la responsabilidad civil contractual derivada de laoperación de los equipos y bienes que ocasionen daños a los bienes o personas relacionadas contractualmente con la empresa. | C27: 30
A28: AMPAROS ADICIONALES COMO SUBLIMITE | C28: PUNTOS
A29: - Responsabilidad Civil Extracontractual | B29: 1000000000 | C29: OBLIGATORIO
A30: - Gastos médicos | B30: 30000000 | C30: OBLIGATORIO
A31: - Gastos extraordinarios | B31: 50000000 | C31: 20
A32: - Remoción de escombros | B32: 100000000 | C32: OBLIGATORIO
A33: - Gastos para demostrar la pérdida | B33: 100000000 | C33: OBLIGATORIO
A34: - Gastos adicionales | B34: 50000000 | C34: 10
A35: - Alquiler de equipos en pérdidas totales y/o parciales | B35: 100000000 | C35: 20
A36: - Honorarios profesionales | B36: 50000000 | C36: 15
A37: - Flete aéreo | B37: 50000000 | C37: 15
A38: Traslado temporal de bienes (se excluye transporte) | B38: 100000000 | C38: 10
A39: - Incremento en los costos de operación: | C39: 40
A40: Límite diario: | B40: 400000
...

Sheet MANEJO
A1: MANEJO ENTIDADES ESTATALES | B1: VALOR | C1: PUNTOS
B2: ASEGURADO
A3: Se amparan las pérdidas patrimoniales causadas al asegurado por actos de infidelidad de cualquiera de sus empleados y/o empresas de servicios temporales y/o empleados de firmas especializadas y/o outsourcing. Igualmente se incluyen el valor de las cajas menores.
A4: Limite global: | B4: 500000000 | C4: OBLIGATORIO
A5: Opción 2 | B5: Se otorgaran 200 adicionales a quien otorgue el mayor limite asegurado adicional al obligatorio. | C5: 200
A6: AMPAROS | C6: PUNTOS
A7: - Básico | C7: OBLIGATORIO
A8: - Hurto y hurto calificado | C8: OBLIGATORIO
A9: - Abuso de confianza | C9: OBLIGATORIO
A10: - Estafa | C10: 50
A11: - Falsificación | C11: 50
A12: - Protección de depósitos bancarios | C12: 100
A13: Peculados | C13: OBLIGATORIO
A14: - Alcances fiscales | C14: OBLIGATORIO
A15: - Rendición reconstrucción de cuentas | C15: OBLIGATORIO
A16: - Cajas Menores | B16: 10000000 | C16: OBLIGATORIO
A17: - Delitos contra la administración pública | C17: OBLIGATORIO
A18: TOTAL | C18: =SUM(C5:C17) -> 400
A19: CONDICIONES PARTICULARES | C19: PUNTOS
A21: Se ampara todo el personal al servicio del asegurado | C21: 5
A22: Amparo automático para nuevos cargos sin ajuste de prima | C22: 20
A23: Revocación o no renovación de la póliza 180 días | C23: OBLIGATORIO
A24: Cláusula de extensión de cobertura | C24: 10
A25: Restablecimiento automático del valor asegurado por pago de siniestro. Mínimo una vez con cobro de prima. | C25: 30
A26: Se cubren pérdidas causadas por empleados de firmas especializadas y/o temporales y/o outsourcing | B26: 1 | C26: OBLIGATORIO
A27: Aviso de siniestro 180 días. | C27: 5
A28: Nombramiento de ajustador. De común acuerdo con la asegurdora | C28: 5
A29: Condiciones técnicas y económicas de reaseguradores. | C29: 5
A30: Acuerdo para ajuste en caso de siniestro. | C30: 5
A31: Manejo de siniestro. | C31: 5
A32: Conocimiento de las pólizas por las coaseguradoras | C32: 5
A33: Pérdidas causadas por personas no identificadas | B33: 1 | C33: OBLIGATORIO
A34: Bienes bajo cuidado, tenencia y control | B34: Hasta el 50% | C34: OBLIGATORIO
A35: En en caso de pérdidas de bienes no se aplicará demérito por uso | C35: 15
A36: Anticipo de la indemnización 75% previa demostración y cuantía de la pérdida. | C36: 40
A37: Experticio Técnico | C37: 10
A38: Modificacaciones en beneficio del asegurado | C38: 10
A39: Tiempo ofertado para el pago de la indemnización una vez documentado el siniestro: Se otorgan los puntos al menor numero de días ofertados | C39: 30
A40: TOTAL | C40: =SUM(C21:C39) -> 200
A41: DEDUCIBLES | C41: PUNTOS
...

Sheet RCE
A1: RESPONSABILIDAD CIVIL EXTRACONTRACTUAL | B1: VALOR | C1: PUNTOS
B2: ASEGURADO
A3: 1. República de Colombia:
A4: Queda entendido que la presente póliza ampara la responsabilidad civil y administrativa derivada de los perjuicios patrimoniales (daño emergente y lucro cesante) y/o extrapatrimoniales (daños morales, fisiológicos y a la vida en relación), ocasionados en el desarrollo de las actividades propias del asegurado, de las complementarias a dichas actividades, de las especiales que desarrolle aún sin conexión directa con su función principal, así como de todas aquellas que sean necesarias dentro del giro normal de sus negocios, aun cuando tales actividades sean prestadas por personas naturales o jurídicas en quienes el asegurado hubiese encargado o delegado el desarrollo o control o vigilancia de las mismas. | C4: OBLIGATORIO
A5: Opción Básica Limite Global 1 | B5: 1200000000 | C5: OBLIGATORIO
A6: Opción 2 | B6: Se otorgaran 200 adicionales a quien otorgue el mayor limite asegurado adicional al obligatorio. | C6: 200
A7: AMPAROS | B7: En Millones | C7: PUNTOS
A8: - Predios, labores y operaciones | C8: OBLIGATORIO
A9: - Contratistas y/o subcontratistas independientes. En exceso de las pólizas requeridas | B9: 150 MILLONES EVENTO/1200 MILLONESVIGENCIA | C9: OBLIGATORIO
A10: - Responsabilidad Civil por inundación | B10: 1 | C10: OBLIGATORIO
A11: - Responsabilidad Civil Patronal. En exceso de las prestaciones sociales | B11: 1 | C11: OBLIGATORIO
A12: - Productos y operaciones terminadas | C12: 2
A13: - Restaurantes, cafeterías, bares y casinos | C13: 2
A14: - Vallas - Avisos dentro y fuera de los predios | B14: 100' EVENTO /200' VIGENCIA | C14: 2
A15: - Vehículos propios y no propios. Opera en exceso de la póliza de Autos | B15: 100' EVENTO /200' VIGENCIA | C15: OBLIGATORIO
A16: - Gastos médicos | B16: 150' EVENTO /300' VIGENCIA | C16: OBLIGATORIO
A17: - Parqueaderos (incluye hurto de vehículos) | B17: 100' EVENTO /1200' VIGENCIA | C17: OBLIGATORIO
A18: - Incendio y/o explosión | C18: 2
A19: - Uso de ascensores y escaleras automáticas | C19: 2
A20: - Grúas, montacargas y equipos similares dentro y fuera de los predios | C20: 4
A21: - Bienes bajo cuidado, tenencia y control (declarados o no). Excluye el daño de dichos bienes. | B21: 1 | C21: OBLIGATORIO
A22: - R.C. del asegurado como consecuencia de los actos causados por vigilantes, personal de seguridad y escoltas, incluyendo el uso de armas de fuego. En exceso de las pólizas de Ley, | C22: 10
A23: - Transporte, cargue y descargue de materiales. | C23: 5
A24: - Actividades sociales, deportivas y culturales | C24: 5
A25: - Responsabilidad Civil cruzada. En exceso de las pòlizas dee los contratistas | B25: 1 | C25: OBLIGATORIO
A26: Polución Contaminación súbita, accidental e imprevista (excluye la contaminación paulatina) | C26: 5
A27: - Costos y Gastos de Defensa para procesos penales, civiles y administrativos | B27: 20% Evento/Vigencia | C27: 30
A28: - R.C. Por transporte de bienes, incluyendo materiales azarosos. Lo necesario y requerido por la Entidad | C28: 5
A29: - Propietarios, arrendatarios y poseedores | B29: 1 | C29: OBLIGATORIO
A30: - Responsabilidad Civil equipos de perforación de pozos de agua y escaleras | C30: 5
A31: - Predios en arrendamiento | C31: 5
A32: Propiedades adyacentes (en exceso de la póliza todo riesgo contratista) | C32: 5
A33: - Amparo de culpa grave | C33: 30
A34: - Errores u omisiones | C34: 5
A35: - Rotura de Tuberías, tanques, bocatomas y/o desbordamiento de las aguas contenidas en los mismos. | C35: 5
A36: - Viajes de funcionarios en el territorio nacional. excluye RC profesional | C36: 5
A37: - Participación del asegurado en ferias y exposiciones nacionales y eventos relacionados con su objeto social. | C37: 6
A38: - Posesión, uso y mantenimiento de depósitos, tanques y tuberías, ubicados o instalados dentro o fuera de los predios del asegurado. | C38: 5
A39: - Gastos de defensa por cualquier demanda civil, penal y administrativa entablada contra el asegurado, en razón de reclamos producidos en desarrollo de las actividades relacionadas con la entidad, aún cuando dicha demanda fuera infundada falsa o fraudulenta. | B39: 200000000 | C39: OBLIGATORIO
A40: - Gastos adicionales por la presentación de fianzas. | B40: $20.000.000= Evento / Vigencia | C40: 5
...

Sheet AUTOMOVILES
A1: AUTOMOVILES - COLECTIVA | B1: VALOR | C1: PUNTOS
B2: ASEGURADO
A3: Vehículos de propiedad del IBAL | B3: =+'RELACIÓN AUTOMOVILES Y SOAT'!D16 -> 1486700000 | C3: OBLIGATORIO
A4: Nota: La compañía de seguros favorecida acepta expedir la poliza dando continuidad y no exigirá inspección de los vehículos, según relación anexa | C4: OBLIGATORIO
A5: AMPAROS | C5: PUNTOS
A6: - Responsabilidad Civil Extracontractual: | C6: OBLIGATORIO
A7: $ 1.100.000.000/1.100.000.000/2.200.000.000=
A8: - Pérdida total daños | C8: OBLIGATORIO
A9: - Pérdida parcial daños | C9: OBLIGATORIO
A10: - Pérdida total y parcial por Hurto y Hurto calificado. | C10: OBLIGATORIO
A11: - Terremoto | C11: OBLIGATORIO
A12: - Amparo patrimonial | C12: OBLIGATORIO
A13: - Asistencia jurídica en proceso penal | C13: OBLIGATORIO
A14: - Asistencia jurídica en proceso civil y administrativos | C14: 30
A15: - Asistencia en viajes para todos los vehículos | C15: 30
A16: - Gastos de transportes por pérdida total daños (65 días) por vehículo | B16: 50.000 diarios | C16: 40
A17: - Gastos de transportes por pérdida total hurto (65 días) por vehículo | B17: 50.000 diarios | C17: 40
A18: - Incremento en los costos de operación para los vehículos pesados por 60 días a 100.000 por día | C18: 60
A19: Gastos demostrables en que incurra el asegurado en caso de siniestro para solicitar la devolución del vehículo ante el tránsito y autoridades competentes, tales como: parqueaderos, grúas, trámites de traspaso en pérdidas totales y todos aquellos gastos necesarios hasta por un valor asegurado por vehículo de $2'000.000 | B19: 2000000 EVENTO / 6.000.000 VIGENCIA | C19: 200
A20: TOTAL | C20: =SUM(C6:C19) -> 400
A21: CONDICIONES PARTICULARES | C21: PUNTOS
A22: (Ver texto de cada cláusula en el Capítulo V - Pliego de Condiciones)
A23: Amparo automático para nuevos vehículos 180 días. | B23: 400.000.000 livianos - 700.000.000 pesados | C23: 10
A24: Amparo automático para accesorios hasta 180 días | B24: 30 % cada riesgo | C24: 10
A25: Revocación o no renovación de la póliza 180 días, EXCEPTO PARA HAMCCoP, AMIT y Terrorismo 10 días | C25: 10
A26: Primera opción de compra del vehículo recuperado | C26: 10
A27: Restablecimiento automático del valor asegurado por pago de siniestros, con cobro de prima adicional | C27: 10
A28: AUTORIZACIÓN AUTOMÁTICA DE REPARACIONES EN CASO DE SINIESTRO EN CONCESIONARIOS ESPECIALIZADOS Y AUTORIZADOS SEGÚN MARCA DEL VEHÍCULO AFECTADO Y PARA MODELOS SUPERIORES A 2018 | C28: OBLIGATORIO
A29: Nombramiento de ajustador de común acuerdo | C29: 5
A30: Salvamentos | C30: 5
A31: Autorizaciones | C31: 5
A32: Cláusula de arbitramento | C32: 10
A33: Ampliación de aviso de siniestro 180 días | C33: OBLIGATORIO
A34: Anticipo pago siniestros 80% | C34: OBLIGATORIO
A35: Opción de amparos | C35: 5
A36: Reparaciones provisionales | C36: 5
A37: Conocimiento de las pólizas por las coaseguradoras | C37: 5
A38: NO INSPECCIÓN DE VEHICULOS NUEVOS, NI PARA LOS ACTUALMENTE ASEGURADOS, PARA VEHÍCULOS USADOS SE OTORGAN 75 DÍAS DE COBERTURA PARÁ LA INSPECCIÓN. | C38: 40
A39: Transporte de materias primas y transportes y productos azarosos. (cloro, amonio y alcohol) | C39: 10
A40: Sustitución provisional del vehículo. Segùn condiciones de la aseguradora | C40: 10
...

Sheet RC SP
A1: RESPONSABILIDAD CIVIL | B1: VALOR | C1: PUNTOS
A2: SERVIDORES PUBLICOS | B2: ASEGURADO
A3: OBJETO DEL SEGURO: | C3: OBLIGATORIO
A4: Amparar bajo las condiciones de la póliza de Servidores Públicos los perjuicios causados a terceros y/o a la Entidad, a consecuencia de acciones o actos imputables a uno o varios funcionarios que desempeñen los cargos aquí asegurados, así como por perjuicios por Responsabilidad Fiscal y Gastos de Defensa en que incurran los directivos para su defensa. “La presente póliza opera bajo la modalidad de cobertura por reclamación o "claims made" de conformidad con la Ley 387 de 1997. La cobertura de la póliza aplica a: (i) reclamaciones o investigaciones notificadas a los funcionarios asegurado por primera vez durante la vigencia de la póliza; y/o (ii) circunstancias por las que los funcionarios asegurados tengan conocimiento por primera vez durante la vigencia de la póliza, de investigaciones iniciadas o que estarán siendo iniciadas en su contra. La cobertura se circunscribe a hechos que hayan ocurrido dentro del período de retroactividad de la póliza. Todas las reclamaciones o investigaciones subsiguientes relacionadas con la primera notificación e informada a la Aseguradora, se considerarán cubiertas por la póliza vigente en el momento de la primera notificación. Por esto mismo, las reclamaciones, investigaciones o circunstancias ya notificadas quedan excluidas de todas las vigencias posteriores.” Los hallazgos o circunstancias en averiguación que no individualicen ningún funcionario o cargo asegurado no se considerarán, para efectos de la póliza, como hechos conocidos que puedan dar lugar a una reclamación aplicable bajo el presente seguro sino hasta el momento que sea vinculado el funcionario(s) formalmente a alguna investigación o indagación preliminar. En consecuencia, en caso de que estos hechos se materialicen posteriormente en una reclamación, no se consideraran hechos excluidos aun cuando no hubiesen sido reportados a la aseguradora. Así mismo queda expresamente acordado y convenido que la aseguradora acepta bajo los mismos términos, las condiciones del sistema de cobertura aquí definidas y en caso de existencia de textos, cláusulas o condiciones contenidas en la propuesta o indicadas en el ejemplar de las condiciones generales de la póliza u otro documento, en contradicción con lo dispuesto en esta cláusula, se entenderán por no escritas. Definición de Evento: Se entiende por evento toda circunstancia que pueda derivar en una o varias reclamaciones o procesos, aun cuando sean adelantados por autoridades distintas, siempre que provengan de una misma causa y aun cuando estén involucrados varios funcionarios asegurados. Para efectos de determinar la cobertura bajo la póliza, de acuerdo con la Modalidad de Cobertura aquí definida, queda entendido y acordado que todas las investigaciones y procesos que surjan con posterioridad a dicha notificación efectuada por primera vez, deberán ser atendidas por la misma póliza que conoció de aquella primera reclamación debidamente notificada durante la vigencia de la póliza.
A6: Opción Básica Limite Global 1 | B6: 600000000 | C6: OBLIGATORIO
A7: Opción 2 | B7: Se otorgaran 200 adicionales a quien otorgue el mayor limite asegurado adicional al obligatorio. Los demas en forma proporcional. | C7: 200
A8: AMPAROS | C8: PUNTOS
A9: - Cobertura para Directores y Administradores | C9: OBLIGATORIO
A10: - Responsabilidad de la Empresa (Obtendrá la máxima calificación quien otorgue las mejores condiciones en éste item, los demás en forma proporcional) | C10: 10
A11: - Reembolso a la sociedad | C11: 2
A12: - Reclamos contra conyuges, los herederos o representantes por fallecimiento o por insolvencia | C12: 2
A13: - Nuevas subordinadas | C13: 3
A14: - Costos judiciales y gastos de defensa | C14: OBLIGATORIO
A15: - Acciones u omisiones involuntarias. | C15: 2
A16: - Reclamos en materia laboral | C16: 2
A17: - Gastos de publicidad | C17: 5
A18: - Gastos de defensa por contaminación | C18: 10
A19: - Perjuicio financiero por contaminación | C19: 6
A20: - Sociedades sin ánimo de lucro | C20: 3
A21: - Sociedades participadas | C21: 3
A22: - Manejo de crisis | C22: 3
A23: - Se amparan las reclamaciones provenientes directa o indirectamente de la contraloría general o de cualquier otra entidad y organismo de control del estado y/o de carácter público. | C23: 3
A24: - La póliza funciona bajo el sistema de aseguramiento base de reclamación Claims Made | C24: 3
A25: - Se amparan las reclamaciones provenientes directa o indirectamente de la contraloria general o de cualquier otro organismo de control del estado o de caracter publico. | C25: 3
A26: NOTA: Dada la naturaleza jurídica de la empresa, es absolutamente necesario que este seguro incluya cobertura para juicios de responsabilidad fiscal, de lo contrario, la propuesta no será considerada. | C26: OBLIGATORIO
A27: Sublímites
A28: Costos judiciales y gastos de defensa incluida investigaciones preliminares:
A29: Cotizar las siguientes opciones de límites:
A30: Opción 1. $35.000.000 evento persona = por persona $70.000.000 vigencia persona = 140.000.000 evento y $250.000.000= por vigencia | C30: OBLIGATORIO
A31: Se otorgará el mayor puntaje al proponente que mejore por encima, las condiciones obligatorias para este ítem. | C31: 140
A32: NOTA: Conforme a la cotización presentada, La Aseguradora se obliga al pago de los honorarios del abogado seleccionado por el servidor público o ex servidor público investigado, en dos cuotas: Un 50% al inicio del proceso y el 50% restante a la finalización o archivo del proceso; sin importar en que etapa se termina el mismo. | C32: OBLIGATORIO
A33: TOTAL | C33: =SUM(C3:C32) -> 400
A34: CONDICIONES PARTUCULARES | C34: PUNTOS
A36: 3.85.Cobertura para gastos de defensa de la sociedad tomadora y/o subordinada. (siempre que dentro del proceso se encuentre vinculado un funcionario en un cargo asegurado) | C36: 5
A37: 3.86. Abogados | C37: 5
A38: 3.87. Gastos de defensa en reclamaciones extrajudiciales | C38: 5
A39: 3.88. Gastos de defensa en procesos penales y Administrativos | C39: 5
A40: - Asistencia y honorarios jurídicos para conciliaciones, según requisito Ley 640 ante la Procuraduría, | C40: 10
A41: 3.89. Multas o sanciones administrativas | C41: 5
A42: 3.90. Amparo de Culpa Grave | C42: OBLIGATORIO
...

Sheet VIDA GRUPO
A1: VIDA GRUPO | B1: VALOR | C1: PUNTOS
B2: ASEGURADO TOTAL
A3: OBJETO: Amparar contra el riesgo de muerte por cualquier causa a los funcionarios del IBAL S.A. E.S.P. OFICIAL. (Incluyendo cobertura de Covid-19, suicidio y homicidio, • terrorismo como sujeto pasivo). | B3: =+B6*B4 -> 21352500000 | C3: OBLIGATORIO
A4: Total número Empleados: | B4: 500
A5: AMPAROS | B5: VALORES ASEGURADOS POR CADA ASEGURADO | C5: PUNTOS
A6: - Vida | B6: =+'POLIZA VIDA GRUPO'!C4 -> 42705000 | C6: OBLIGATORIO
A7: - Desmebración y/o perdida funcional | B7: =+'POLIZA VIDA GRUPO'!C5 -> 42705000 | C7: OBLIGATORIO
A8: - Incapacidad total y permanente y desmembración | B8: =+'POLIZA VIDA GRUPO'!C5 -> 42705000 | C8: OBLIGATORIO
A9: - Gastos funerarios, adicionales y reembolsables no descontables del amparo básico | B9: =+'POLIZA VIDA GRUPO'!C8 -> 5000000 | C9: OBLIGATORIO
A10: - Enfermedades graves (anticipo) | B10: =+B8/2 -> 21352500 | C10: OBLIGATORIO
A11: - Renta diaria por hospitalización | B11: =+'POLIZA VIDA GRUPO'!C9 -> 50.000 X 30 DIAS | C11: OBLIGATORIO
A12: - Renta diaria adicional por internación en UCI | B12: =+B11 -> 50.000 X 30 DIAS | C12: OBLIGATORIO
A13: - Gastos médicos por accidente | B13: 5000000 | C13: OBLIGATORIO
A14: - Doble indemnización por muerte accidental | B14: =+B7 -> 42705000 | C14: 400
A15: TOTAL | C15: =SUM(C6:C14) -> 400
A16: CONDICIONES PARTICULARES | C16: PUNTOS
A18: - 3.1. Condiciones técnicas y económicas de los reaseguradores | C18: 15
A19: 3.12. Revocación o no renovación de la póliza 90 días. | C19: 5
A20: - 3.49. Error en la declaración de la edad | C20: 20
A21: - 3.43. Cláusula de amparo automático | C21: 20
A22: - 3.50. Cláusula de anticipo 50%. Una vez demostrado el evento. | C22: 15
A23: - Clausula de Extension o continuidad | C23: 20
A24: - 3.48. Conocimiento de la póliza por las coaseguradoras | C24: 15
A25: - 3.55. Amparo automático para nuevos asegurados. Sujeto a declaración de asegurabilidad | C25: 20
A26: - 3.56. Revocación, únicamente para los amparos adicionales | C26: 15
A27: - 3.114 Definición de salario para efectos de la indeminzación | C27: 15
A28: - Modificaciones en beneficio del asegurado | C28: 5
A29: - Incontestabilidad y conversión | C29: 10
A30: ´- Errores e Inexactitudes. | C30: 5
A31: Nota
A32: El anexo de doble indemnización por muerte accidental debe incluir los eventos tales como atraco, secuestro y homicidio./ Se ampara el suicidio desde el inicio de vigencia de la póliza. | C32: 20
A33: TOTAL | C33: =SUM(C18:C32) -> 200
A34: DEDUCIBLE | C34: PUNTOS
A35: Nota aclaratoria: Teniendo en cuenta que la póliza no contempla la aplicación de deducible, se neutralizará el puntaje asignando los 300 puntos a todos los proponentes | C35: 300
A36: PRIMA CON IVA | C36: PUNTOS
C37: 87.5
A38: Valor | C38: =SUM(C37) -> 87.5
A39: VINCULACIÓN DE PERSONAL EN CONDICIÓN DE DISCAPACIDAD | C39: PUNTOS
C40: 10
A41: Valor | C41: =SUM(C40) -> 10
...

Sheet CALCULO PRECIO 2026
A1: PÓLIZAS Y VALORES REQUERIDOS | C1: TASAS | I1: PRESUPUESTO
A2: RAMO | B2: VALOR ASEGURADO REQUERIDO | C2: TIPO DE TASA | D2: AÑOS 2023 | E2: AÑO 2024 | F2: AÑOS 2025 | G2: TASA PROMEDIO | H2: TASA ACTUALIZADA INFLACIÓN | I2: PRIME NETA | J2: IVA | K2: PRIMA TOTAL
A3: TODO RIESGO DAÑOS MATERIALES COMBINADOS | B3: =+TRDM!B36+TRDM!B38+TRDM!B40+TRDM!B41+TRDM!B42+TRDM!B43+TRDM!B44+TRDM!B45 -> 3.534865e+11 | C3: 0/00 | D3: 0.0304 | E3: 0.03141 | F3: 0.029602 | G3: =+(D3+E3+F3)/3 -> 0.030470667 | H3: =+G3*(1+$B$12) -> 0.032250154 | I3: =+B3*H3/10 -> 1.1399994e+09 | J3: =+I3*19% -> 2.1659989e+08 | K3: =+I3+J3 -> 1.3565993e+09
A4: TODO RIESGO MAQUINARIA Y EQUIPO | B4: =+'TRDM M Y E'!B5+'TRDM M Y E'!B6 -> 5.9434545e+09 | C4: 0/00 | D4: 0.045 | E4: 0.052 | F4: 0.0489 | G4: =+(D4+E4+F4)/3 -> 0.048633333 | H4: =+G4*(1+$B$12) -> 0.05147352 | I4: =+B4*H4/10 -> 30593052 | J4: =+I4*19% -> 5812680 | K4: =+I4+J4 -> 36405732
A5: MANEJO GLOBAL | B5: =+MANEJO!B4 -> 500000000 | C5: 0/0 | D5: 0.063 | E5: 0.072 | F5: 0.058 | G5: =+(D5+E5+F5)/3 -> 0.064333333 | H5: =+G5*(1+$B$12) -> 0.0680904 | I5: =+B5*H5 -> 34045200 | J5: =+I5*19% -> 6468588 | K5: =+I5+J5 -> 40513788
A6: RESPONSIBILIDAD CIVIL EXTRACONTRACTUAL | B6: =+RCE!B5 -> 1200000000 | C6: 0/0 | D6: 0.017 | E6: 0.018 | F6: 0.015 | G6: =+(D6+E6+F6)/3 -> 0.016666667 | H6: =+G6*(1+$B$12) -> 0.01764 | I6: =+B6*H6 -> 21168000 | J6: =+I6*19% -> 4021920 | K6: =+I6+J6 -> 25189920
A7: AUTOS COLECTIVOS | B7: =+AUTOMOVILES!B3 -> 1486700000 | C7: 0/0 | D7: 0.0597 | E7: 0.065 | F7: 0.063 | G7: =+(D7+E7+F7)/3 -> 0.062566667 | H7: =+G7*(1+$B$12) -> 0.06622056 | I7: =+B7*H7 -> 98450107 | J7: =+I7*19% -> 18705520 | K7: =+I7+J7 -> 1.1715563e+08
A8: RESPONSABILIDAD CIVIL SERVIDORES PÚBLICOS | B8: =+'RC SP'!B6 -> 600000000 | C8: 0/0 | D8: 0.11 | E8: 0.11 | F8: 0.09 | G8: =+(D8+E8+F8)/3 -> 0.10333333 | H8: =+G8*(1+$B$12) -> 0.109368 | I8: =+B8*H8 -> 65620800 | J8: =+I8*19% -> 12467952 | K8: =+I8+J8 -> 78088752
A9: VIDA GRUPO | B9: =+'VIDA GRUPO'!B3 -> 21352500000 | C9: 0/00 | D9: 0.12197 | E9: 0.17 | F9: 0.1183 | G9: =+(D9+E9+F9)/3 -> 0.13675667 | H9: =+G9*(1+$B$12) -> 0.14474326 | I9: =+B9*H9/10 -> 3.0906304e+08 | J9: 0 | K9: =+I9+J9 -> 3.0906304e+08
A10: SOAT | B10: LOS DE LEY | K10: 17000000
A11: TOTAL | I11: =SUM(I3:I9) -> 1.6989396e+09 | J11: =SUM(J3:J9) -> 2.6407655e+08 | K11: =SUM(K3:K10) -> 1.9800161e+09
A12: INFLACIÓN ANUAL AMAYO 2026 | B12: 0.0584
A15: 2025
A16: PÓLIZAS Y VALORES REQUERIDOS | C16: TASAS | F16: PRESUPUESTO
A17: RAMO | B17: VALOR ASEGURADO REQUERIDO | C17: TIPO DE TASA | D17: AÑOS 2025 | F17: PRIMA NETA | H17: IVA | I17: PRIMA TOTAL
A18: TODO RIESGO DAÑOS MATERIALES COMBINADOS | B18: 307983672092 | C18: 0/00 | D18: 0.029602 | F18: =+B18*D18/10 -> 9.1169327e+08 | H18: =+F18*19% -> 1.7322172e+08 | I18: =+F18+H18 -> 1.084915e+09
A19: TODO RIESGO MAQUINARIA Y EQUIPO | B19: 5660432864 | C19: 0/00 | D19: 0.0489 | E19: 0.0489 | F19: =+B19*D19/10 -> 27679517 | H19: =+F19*19% -> 5259108.2 | I19: =+F19+H19 -> 32938625
A20: MANEJO GLOBAL | B20: 500000000 | C20: 0/0 | D20: 0.058 | E20: 0.058 | F20: =+B20*D20 -> 29000000 | H20: =+F20*19% -> 5510000 | I20: =+F20+H20 -> 34510000
A21: RESPONSIBILIDAD CIVIL EXTRACONTRACTUAL | B21: 1000000000 | C21: 0/0 | D21: 0.015 | E21: 0.015 | F21: =+B21*D21 -> 15000000 | H21: =+F21*19% -> 2850000 | I21: =+F21+H21 -> 17850000
A22: AUTOS COLECTIVOS | B22: 1371800000 | C22: 0/0 | D22: 0.063 | E22: 0.063 | F22: =+B22*D22 -> 86423400 | H22: =+F22*19% -> 16420446 | I22: =+F22+H22 -> 102843846
A23: RESPONSABILIDAD CIVIL SERVIDORES PÚBLICOS | B23: 500000000 | C23: 0/0 | D23: 0.09 | E23: 0.09 | F23: =+B23*D23 -> 45000000 | H23: =+F23*19% -> 8550000 | I23: =+F23+H23 -> 53550000
A24: VIDA GRUPO | B24: 21352500000 | C24: 0/00 | D24: 0.11826 | E24: 0.11826 | F24: =+B24*D24/10 -> 252514665 | H24: 0 | I24: =+F24+H24 -> 252514665
A25: TOTAL | I25: =SUM(I18:I24) -> 1.5791221e+09
A27: 2024
A28: PÓLIZAS Y VALORES REQUERIDOS | C28: TASAS | F28: PRESUPUESTO
A29: RAMO | B29: VALOR ASEGURADO REQUERIDO | C29: TIPO DE TASA | D29: AÑOS 2025 | F29: PRIMA NETA | H29: IVA | I29: PRIMA TOTAL
A30: TODO RIESGO DAÑOS MATERIALES COMBINADOS | B30: 257156620433 | C30: 0/00 | D30: 0.031407264 | F30: =+B30*D30/10 -> 8.0765859e+08 | H30: =+F30*19% -> 1.5345513e+08 | I30: =+F30+H30+6 -> 9.6111372e+08
A31: TODO RIESGO MAQUINARIA Y EQUIPO | B31: 5660432864 | C31: 0/00 | D31: 0.052 | F31: =+B31*D31/10 -> 29434251 | H31: =+F31*19% -> 5592507.7 | I31: =+F31+H31 -> 35026759
A32: MANEJO GLOBAL | B32: 500000000 | C32: 0/0 | D32: 0.072 | E32: 0.072 | F32: =+B32*D32 -> 36000000 | H32: =+F32*19% -> 6840000 | I32: =+F32+H32 -> 42840000
A33: RESPONSIBILIDAD CIVIL EXTRACONTRACTUAL | B33: 1000000000 | C33: 0/0 | D33: 0.018 | E33: 0.018 | F33: =+B33*D33 -> 18000000 | H33: =+F33*19% -> 3420000 | I33: =+F33+H33 -> 21420000
A34: AUTOS COLECTIVOS | B34: 1398500000 | C34: 0/0 | D34: 0.065 | E34: 0.065 | F34: =+B34*D34 -> 90902500 | H34: =+F34*19% -> 17271475 | I34: =+F34+H34 -> 108173975
A35: RESPONSABILIDAD CIVIL SERVIDORES PÚBLICOS | B35: 500000000 | C35: 0/0 | D35: 0.11 | E35: 0.11 | F35: =+B35*D35 -> 55000000 | H35: =+F35*19% -> 10450000 | I35: =+F35+H35 -> 65450000
A36: VIDA GRUPO | B36: 20000000000 | C36: 0/00 | D36: 0.17 | E36: 0.17 | F36: =+B36*D36/10 -> 3.4e+08 | H36: 0 | I36: =+F36+H36+155142 -> 3.4015514e+08
A37: SOAT | I37: 16810400
A38: TOTAL | I38: =SUM(I30:I37) -> 1.59099e+09
A40: 2023
A41: PÓLIZAS Y VALORES REQUERIDOS | C41: TASAS | F41: PRESUPUESTO
A42: RAMO | B42: VALOR ASEGURADO REQUERIDO | C42: TIPO DE TASA | D42: AÑOS 2025 | F42: PRIMA NETA | H42: IVA | I42: PRIMA TOTAL | M42: 9.1770644e+08
A43: TODO RIESGO DAÑOS MATERIALES COMBINADOS | B43: 253270018058 | C43: 0/00 | D43: 0.030449 | F43: =+B43*D43/10 -> 7.7118188e+08 | H43: =+F43*19% -> 1.4652456e+08 | I43: =+F43+H43+1033400 -> 9.1873983e+08 | M43: 918739835
A44: TODO RIESGO MAQUINARIA Y EQUIPO | B44: 5660432864 | C44: 0/00 | D44: 0.0451232 | E44: 0.045 | F44: =+B44*D44/10 -> 25541684 | H44: =+F44*19% -> 4852920 | I44: =+F44+H44+60 -> 30394664 | M44: =+M43-M42 -> 1033394.2
...

Sheet RELACIÓN BS TRDM
B2: TODO RIESGOS DAÑOS MATERIALES | D2: IPC JULIO 2026 | E2: 0.0603
B3: PREDIOS URBANOS
B4: DESCRIPCION | C4: 2025 | D4: 2026
A5: 1 | B5: LA POLA CARRERA 3 No. 1 - 04 | C5: 15755889745 | D5: =+C5*(1+$E$2) -> 1.670597e+10 | G5: 2025 | H5: 2026
A6: 2 | B6: LA POLA CARRERA 3 No. 6-96 | C6: 137588035 | D6: =+C6*(1+$E$2) -> 1.4588459e+08 | F6: EDIFICIOS | G6: =SUM(C5:C18)-C17+(C31+C32+C33)+(SUM(C40:C46)) -> 31179589885 | H6: =SUM(D5:D18)-D17+(D31+D32+D33)+(SUM(D40:D46)) -> 3.3059719e+10
A7: 3 | B7: LA POLA CARRERA 3 CON CALLE 2 | C7: 844320000 | D7: =+C7*(1+$E$2) -> 895232496 | F7: OBRAS CIVILES | G7: =SUM(C34:C38)+C58+C68+C93+C135+C144+C158+G16+G15 -> 234852433107 | H7: =SUM(D34:D38)+D58+D68+D93+D135+D144+D158+H16+H15 -> 2.4901403e+11
A8: 4 | B8: LA POLA CARRERA 4 A No 1N – 09 | C8: 68640000 | D8: =+C8*(1+$E$2) -> 72778992 | F8: OTROS BIENS | G8: =+C176 -> 4.2951649e+10 | H8: =+D176 -> 4.5541634e+10
A9: 5 | B9: BELEN LA AURORA | C9: 284284200 | D9: =+C9*(1+$E$2) -> 3.0142654e+08 | G9: =SUM(G4:G8) -> 3.0898367e+11 | H9: =SUM(H4:H8) -> 3.2761539e+11
A10: 6 | B10: CALLE 15 | C10: 1334554254 | D10: =+C10*(1+$E$2) -> 1.4150279e+09
A11: 7 | B11: INTERLAKEN | C11: 117090000 | D11: =+C11*(1+$E$2) -> 124150527 | F11: OBRAS CIVILES
A12: 8 | B12: CERRO GORDO | C12: 14952600 | D12: =+C12*(1+$E$2) -> 15854242 | F12: BOCATOMAS | G12: =SUM(C34:C38)+C58 -> 7895842372 | H12: =SUM(D34:D38)+D58 -> 8.3719617e+09
A13: 9 | B13: PIEDRAPINTADA LIMONAR | C13: 780019200 | D13: =+C13*(1+$E$2) -> 8.2705436e+08 | F13: ADUCCIONES | G13: =+C68 -> 8432382349 | H13: =+D68 -> 8.940855e+09
A14: 10 | B14: PIEDRAPINTADA LOTE 2ª | C14: 186240240 | D14: =+C14*(1+$E$2) -> 1.9747053e+08 | F14: CONDUCCIONES | G14: =+C93 -> 17731760157 | H14: =+D93 -> 1.8800985e+10
A15: 11 | B15: PIEDRAPINTADA LOTE 3 | C15: 3024192780 | D15: =+C15*(1+$E$2) -> 3.2065516e+09 | F15: TANQUES | G15: =+C17+C23+C24+C118 -> 24547392621 | H15: =+D17+D23+D24+D118 -> 2.60276e+10
A16: 12 | B16: PARCELACION VERGEL | C16: 2827500000 | D16: =+C16*(1+$E$2) -> 2997998250 | F16: PLANTAS | G16: =+C19+C20+C21+C22+C39+C79 -> 61201537783 | H16: =+D19+D20+D21+D22+D39+D79 -> 6.4891991e+10
A17: 13 | B17: TANQUE EL SALADO HACIENDA ALSACIA | C17: 27150000 | D17: =+C17*(1+$E$2) -> 28787145 | F17: REDES Y TUBERIAS | G17: =+C135+C144 -> 44163109254 | H17: =+D135+D144 -> 4.6826145e+10
A18: 14 | B18: PICALEÑA CALLE 125 | C18: 557159350 | D18: =+C18*(1+$E$2) -> 5.9075606e+08 | F18: ALCANTARILLADO | G18: =+C158 -> 70880408571 | H18: =+D158 -> 7.5154497e+10
A19: 15 | B19: PLANTA COMFENALCO | C19: 835920000 | D19: =+C19*(1+$E$2) -> 886325976 | G19: =SUM(G12:G18) -> 234852433107 | H19: =SUM(H12:H18) -> 2.4901403e+11
A20: 16 | B20: PLANTA LAS AMERICAS | C20: 1635720000 | D20: =+C20*(1+$E$2) -> 1734353916
A21: 17 | B21: PLANTA ARBOLEDA CAMPESTRE PTAR | C21: 6862469216 | D21: =+C21*(1+$E$2) -> 7.2762761e+09
A22: 18 | B22: PLANTA ARBOLEDA CAMPESTRE PTAP | C22: 1037844144 | D22: =+C22*(1+$E$2) -> 1.1004261e+09
A23: 19 | B23: TANQUE CALLE 29 | C23: 849612000 | D23: =+C23*(1+$E$2) -> 9.008436e+08
A24: 20 | B24: TANQUE CALLE 30 | C24: 585396000 | D24: =+C24*(1+$E$2) -> 6.2069538e+08
B25: TOTAL PREDIOS URBANOS | C25: =SUM(C5:C24) -> 37766541764 | D25: =SUM(D5:D24) -> 4.0043864e+10
B28: TODO RIESGOS DAÑOS MATERIALES
B29: PREDIOS RURALES
B30: DESCRIPCION | C30: 2025 | D30: 2026
B31: HACIENDA EL PALMAR PROP 50% | C31: 2105650700 | D31: =+C31*(1+$E$2) -> 2.2326214e+09
B32: HACIENDA EL HUMEDAL PROP 49,3% | C32: 403346964 | D32: =+C32*(1+$E$2) -> 4.2766879e+08
B33: HOYA HIDROGRAFICA CAY | C33: 1992946600 | D33: =+C33*(1+$E$2) -> 2.1131213e+09
B34: BOCATOMA CAY | C34: 186900000 | D34: =+C34*(1+$E$2) -> 198170070
B35: BOCATOMA COCORA | C35: 36163200 | D35: =+C35*(1+$E$2) -> 38343841
B36: BOCATOMA COMBEIMA | C36: 57772200 | D36: =+C36*(1+$E$2) -> 61255864
B37: BOCATOMA CHEMBE FLORECITA LOTE 2 | C37: 233033500 | D37: =+C37*(1+$E$2) -> 2.4708542e+08
B38: BOCATOMA CHEMBE LOTE 1 | C38: 36476500 | D38: =+C38*(1+$E$2) -> 38676033
B39: PLANTA EL TEJAR | C39: 611156000 | D39: =+C39*(1+$E$2) -> 6.4800871e+08
B40: EL PORVENIR PROP 17,17% | C40: 305388504 | D40: =+C40*(1+$E$2) -> 3.2380343e+08
B41: LOS TERMALES PROP 63.30% | C41: 27544433 | D41: =+C41*(1+$E$2) -> 29205362
B42: EL CARACOL PROP 63.30% | C42: 15734156 | D42: =+C42*(1+$E$2) -> 16682926
... B46: LOTE DOS CALIFORNIA 63.30% | C46: 11450868 | D46: =+C46*(1+$E$2) -> 12141355
...

Sheet RELACIÓN TRDM M Y E
B2: TODO RIESGOS CONTRATISTAS
B3: DESCRIPCION | C3: TOTAL
B4: Equipo instalado en vacon | C4: 90000000
B5: Equipo instalado en vactor OTD 919 | C5: 514331759
B6: Equipo instalado en vactor OTE 024 | C6: 836689140
B7: Equipo instalado en vactor – Nuevo OET 019 | C7: 1273900120
B8: Mini cargador CASE Con sus accesorios CASE 440 | C8: 201487924
B9: EQUIPO DE INSPECCIÓN DE REDES (TODO RIESGO) MONTADO EN CAMIONETA SÚPER CHARRY -OTD 918 | C9: 350000000
B10: EQUIPO DE ANÁLISIS DE TUBERÍA (TODO RIESGO) MONTADO EN CAMIONETA CHEVROLET LINEA NPR OTE 022 | C10: 845000000
B11: MARTILLO NEUMATICO COMPRESOR MARCA GERSOL | C11: 50000000
B12: EQUIPO DE INSPECCIÓN DE REDES (TODO RIESGO) MONTADO EN CAMIONETA CHEVROLET LINEA NPR OET 017 | C12: 1349023921
B13: MINI VIBROCOMPACTADOR (BENITIN) | C13: 150000000
B14: TOTAL TODO RIESGOS CONTRATISTAS | C14: =SUM(C4:C13) -> 5660432864

Sheet RELACIÓN AUTOMOVILES Y SOAT
B2: LISTADO AUTOMOVILES
B3: DESCRIPCION | C3: PLACA | D3: Valor Asegurado Fasecolda Guia 345 (Mayo de 2025) | E3: ACCECORIOS | F3: VALOR ASEGURADO TOTAL | G3: COSTO SOAT
B4: Mitsubishi Canter Modelo 2000 (Código 6204004) | C4: OTD 955 | D4: 36300000 | E4: 0 | F4: =+D4+E4 -> 36300000 | G4: 888400
B5: Chevrolet Súper Charry Modelo 2006 (Código 1606100) Valor del GPS $600.000.oo | C5: OTD 918 | D5: 17300000 | E5: 600000 | F5: =+D5+E5 -> 17900000 | G5: 797300
B6: International Modelo 2006 (Código 3611080) | C6: OTD 919 | D6: 171100000 | E6: 0 | F6: =+D6+E6 -> 171100000 | G6: 1621900
B7: International Modelo 2009 (Código 3611089) | C7: OTE 024 | D7: 155600000 | E7: 0 | F7: =+D7+E7 -> 155600000 | G7: 1621900
B8: Chevrolet NPR Modelo 2009 (Código 1612099) | C8: OTE 022 | D8: 93700000 | E8: 0 | F8: =+D8+E8 -> 93700000 | G8: 888400
B9: Nissan NP 300 Frontier Modelo 2012 (Código 6421052) | C9: OCJ473 | D9: 59800000 | E9: 0 | F9: =+D9+E9 -> 59800000 | G9: 1121400
B10: Nissan NP 300 Frontier Modelo 2012 (Código 6421052) | C10: OCJ471 | D10: 59800000 | E10: 0 | F10: =+D10+E10 -> 59800000 | G10: 1121400
B11: Nissan NP 300 Frontier Modelo 2012 (Código 6421052) | C11: OCJ472 | D11: 59800000 | E11: 0 | F11: =+D11+E11 -> 59800000 | G11: 1121400
B12: MITSUBISHI L 200 SPORTERO Modelo 2013 (Código 6221020) | C12: OCJ511 | D12: 71400000 | E12: 0 | F12: =+D12+E12 -> 71400000 | G12: 1121400
B13: International Modelo 2017 (Codigo 3611108) | C13: OET 019 | D13: 291800000 | E13: 0 | F13: =+D13+E13 -> 291800000 | G13: 1621900
B14: Chevrolet Linea NPR Modelo 2017 (Codigo 1612158) | C14: OET 017 | D14: 148000000 | E14: 0 | F14: =+D14+E14 -> 148000000 | G14: 1121400
B15: Chevrolet Linea FVZ Modelo 2017 (Codigo 1610078) | C15: OET 018 | D15: 322100000 | E15: 0 | F15: =+D15+E15 -> 322100000 | G15: 1621900
B16: TOTAL POLIZA AUTOMOVILES | D16: =SUM(D4:D15) -> 1486700000 | E16: =SUM(E4:E15) -> 600000 | F16: =SUM(F4:F15) -> 1487300000 | G16: =SUM(G4:G15) -> 14668700

Sheet POLIZA VIDA GRUPO
B2: POLIZA VIDA GRUPO
B3: DESCRIPCION | C3: VALOR ASEGURADO POR PERSONA
B4: Básico muerte por cualquier causa (Incluye suicidio, homicidio y cobertura de Covid-19) | C4: =30*1423500 -> 42705000
B5: Incapacidad total y permanente y desmembración | C5: =30*1423500 -> 42705000
B6: Desmembración y/o inhabilitación funcional | C6: =30*1423500 -> 42705000
B7: d.- Enfermedades Graves (anticipo del 50%) | C7: =C6/2 -> 21352500
B8: e.- Auxilio Funerario | C8: 5000000
B9: f.- Renta diaria por hospitalización | C9: 50.000 X 30 DIAS
B10: g.- Renta diaria adicional por internación en UCI | C10: 50.000 X 30 DIAS
B11: h.- Gastos médicos por accidente | C11: 5000000

Sheet SOAT
B2: POLIZA AUTOMOVILES
B3: DESCRIPCION | C3: PLACA
B4: Mitsubishi Canter Modelo 2000 (Código 6204004) | C4: OTD 955
B5: Chevrolet Súper Charry Modelo 2006 (Código 1606100) Valor del GPS $600.000.oo | C5: OTD 918
B6: International Modelo 2006 (Código 3611080) | C6: OTD 919
B7: International Modelo 2009 (Código 3611089) | C7: OTE 024
B8: Chevrolet NPR Modelo 2009 (Código 1612099) | C8: OTE 022
B9: Nissan NP 300 Frontier Modelo 2012 (Código 6421052) | C9: OCJ473
B10: Nissan NP 300 Frontier Modelo 2012 (Código 6421052) | C10: OCJ471
B11: Nissan NP 300 Frontier Modelo 2012 (Código 6421052) | C11: OCJ472
B12: MITSUBISHI L 200 SPORTERO Modelo 2013 (Código 6221020) | C12: OCJ511
B13: International Modelo 2017 (Codigo 3611108) | C13: OET 019
B14: Chevrolet Linea NPR Modelo 2017 (Codigo 1612158) | C14: OET 017
B15: Chevrolet Linea FVZ Modelo 2017 (Codigo 1610078) | C15: OET 018
B16: TOTAL POLIZA AUTOMOVILES
