Workbook
Name contratación: 'IDENTIFICACION Y ANALISIS'!$B$40:$B$44
Name ejecución: 'IDENTIFICACION Y ANALISIS'!$B$46:$B$68
Name OPCIONES: 'ASIGNACION Y TRATAMIENTO'!$B$40:$B$42
Name planeación: 'IDENTIFICACION Y ANALISIS'!$B$19:$B$30
Name selección: 'IDENTIFICACION Y ANALISIS'!$B$32:$B$38

Sheet CONTEXTO
C2: MATRIZ DE RIESGOS EN CONTRATACIÓN | F2: Código: GCO-GCI-F164 Versión: 02 Vigencia: 01 de diciembre de 2022 Caso HOLA: 280117
B6: ESTABLECER EL CONTEXTO
B7: De conformidad con el Manual de Procedimientos Administrativos y Contables aplicable a las entidades de gobierno de Bogotá D.C., y con el Marco Normativo para Entidades de Gobierno expedido por la Contaduría General de la Nación, la medición posterior comprende la revisión de los elementos que inciden en la valoración de los activos, entre ellos la vida útil, el método de depreciación, el valor residual y los indicios de deterioro. Para las propiedades, planta y equipo, después de su reconocimiento y medición inicial, la medición posterior se realiza al costo menos la depreciación acumulada y menos el deterioro acumulado, con el propósito de actualizar los valores reconocidos y garantizar una representación fiel de la información contable. En este contexto, resulta necesario realizar actividades de toma física, verificación y actualización de la información de los bienes muebles e inmuebles del Fondo de Desarrollo Local de Teusaquillo, así como la medición posterior de los bienes que lo requieran, con el fin de contar con información física, administrativa, contable y técnica confiable y actualizada. Estas actividades permitirán identificar la existencia, ubicación, estado y demás características de los bienes, así como obtener los elementos técnicos necesarios para determinar, cuando corresponda, aspectos relacionados con su vida útil, depreciación y deterioro. La contratación se encuentra articulada con el Plan de Desarrollo Distrital “Bogotá Camina Segura 2024-2027”, adoptado mediante el Acuerdo Distrital 927 de 2024, en cuanto contribuye al fortalecimiento de la gestión institucional y al uso eficiente, responsable y transparente de los recursos públicos. De igual manera, se encuentra articulada con el Plan de Desarrollo Local Económico, Social, Ambiental y de Obras Públicas para la Localidad de Teusaquillo 2025-2028, “Teusaquillo Camina Segura: Teusaquillo Nuestra Localidad, Nuestra Casa”, adoptado mediante Acuerdo Local No. 03 de septiembre de 2024, instrumento que orienta la gestión y ejecución de los recursos del Fondo de Desarrollo Local durante el periodo 2025-2028. En consecuencia, la realización de la toma física de inventarios, actualización de la información y medición posterior de los bienes muebles e inmuebles constituye una actividad necesaria para fortalecer el control sobre los bienes del Fondo de Desarrollo Local de Teusaquillo, mantener actualizados los registros y soportar adecuadamente la información contable y administrativa de los activos, contribuyendo a una gestión eficiente, confiable y transparente de los recursos públicos.
B8: Objeto del Proceso de Contratación: PRESTACIÓN DE SERVICIOS ESPECIALIZADOS PARA LA TOMA FÍSICA DE INVENTARIOS, ACTUALIZACIÓN DE LA INFORMACIÓN, MEDICIÓN POSTERIOR E IDENTIFICACIÓN DE LOS BIENES MUEBLES E INMUEBLES DEL FONDO DE DESARROLLO LOCAL DE TEUSAQUILLO, DE CONFORMIDAD CON LA NORMATIVIDAD VIGENTE.
B9: Partícipes del Proceso de Contratación: Fondo de Desarrollo Local de Teusaquillo Los oferentes que se postulen al proceso
B10: Ciudadanía que se beneficia del Proceso de Contratación: Fondo de Desarrollo Local de Teusaquillo y ciudadanía en general
B11: Capacidad de la Entidad Estatal entendida como la disponibilidad de recursos y conocimientos para el Proceso de Contratación: El Fondo de Desarrollo Local de Teusaquillo a través de la oficina de planeación local desarrolla la formulación de proyectos de inversión social encaminados a satisfacer las necesidades internas de la entidad, para contratar una empresa, organizacion o personal idoneo que realice el proceso de medición posterior, a través de una selección precontractual y contractual en cabeza de la oficina de contratación del FDL, de tal manera que concluido el proceso de contratación de medición posteriror en veneficio del fondo de desarrollo y, cuya ejecución es supervisada por el despacho del señor alcalde local a través del apoyo a la supervisiòn que designe para llevar a cabo el seguimiento que garantice el uso adecuado y oportuno de dicho proceso a la satisfacción del fondo de desarrollo local de Teusaquillo y de la comunidad en general.
B12: Suficiencia del presupuesto oficial del Proceso de Contratación: El Fondo de Desarrollo Local de Teusaquillo cuenta con el proyecto de inversión registrado en el Banco de Proyectos de Inversión del Distrito con el No. 023011745992024266401000 “ Teusaquillo eficiente y transparente”, con el cual se pretende garantizar que la administración local cuente con los equipos, herramientas tecnológicas y recurso humano necesario que fortalezcan la capacidad institucional para la planeación y entrega oportuna de bienes y servicios y atención a los ciudadanos de la localidad.
B13: Condiciones geográficas y de acceso del lugar en el cual se debe cumplir el objeto del Proceso de Contratación: El contrato se ejecutará en la ciudad de Bogotá, en la instalaciones fisicas del fondo de desarrollo local de Teusaquillo y las diferentes juntas de acción comunal de la localidad.
B14: Entorno socio ambiental: N/A
B15: Condiciones políticas: En cumplimiento de la misionalidad de las Alcaldías Locales, en su condición de establecimientos públicos, es fundamental mantener en óptimas condiciones tanto sus instalaciones como programar, controlar y supervisar los procedimientos de suministro y custodia de bienes necesarios para el buen funcionamiento de la Alcaldía Local, con el fin de que estos estén dispuestos a cumplir adecuadamente los fines para los que fueron adquiridos para el efectivo ejercicio de las funciones de administración.
B16: Factores ambientales.N/A
B17: Sector del objeto del Proceso de Contratación y su mercado: servicios especializados de levantamiento y actualización de inventarios, identificación de bienes, procesamiento de información y actividades técnicas asociadas a la medición posterior de activos de entidades públicas.
... B21: Proyectò:

Sheet IDENTIFICACION Y ANALISIS
C2: MATRIZ DE RIESGOS DE CONTRATACIÓN | F2: Código: GCO-GCI-F164 Versión: 02 Vigencia: 01 de diciembre de 2022 Caso HOLA: 280117
B6: DEFINICIONES
B7: RIESGO: Evento que puede generar efectos adversos y de distinta magnitud en el logro de los objetivos del Proceso de Contratación o en la ejecución de un contrato RIESGOS PREVISIBLES: Son los posibles hechos o circunstancias que por la naturaleza del contrato y de la actividad a ejecutar es factible su ocurrencia. ETAPA DE SELECCIÓN: Está comprendida entre el acto de Apertura del Proceso de Contratación y la Adjudicación o la declaración de desierto del Proceso de Contratación ETAPA DE CONTRATACIÓN: Una vez adjudicado el contrato objeto del Proceso de Contratación, inicia la etapa para la celebración del contrato y el cumplimiento de los requisitos para de perfeccionamiento y ejecución. ETAPA DE EJECUCIÓN: Inicia una vez cumplidos los requisitos previstos para iniciar la ejecución del contrato respectivo y termina con el vencimiento del plazo del contrato o la fecha de liquidación si hay lugar a ella. RIESGO GENERAL: Es un riesgo de todos los procesos de contratación adelantados por la Entidad Estatal, por lo cual está presente en toda su actividad contractual. RIEGO ESPECIFICO: Es un riesgo propio del proceso de contratación objeto de análisis. RIESGOS ECONÓMICOS: Son los derivados del comportamiento del mercado, tales como la fluctuación de los precios de los insumos, desabastecimiento y especulación de los mismos, entre otros. RIESGOS SOCIALES O POLÍTICOS: son los derivados de los cambios de las políticas gubernamentales y de cambios en las condiciones sociales que tengan impacto en la ejecución del contrato. RIESGOS OPERACIONALES: Son los asociados a la operatividad del contrato, tales como la suficiencia del presupuesto oficial, del plazo o los derivados de procesos, procedimientos, parámetros, sistemas de información y tecnológicos, equipos humanos o técnicos inadecuados o insuficientes. RIESGOS FINANCIEROS: Son (i) el riesgo de consecución de financiación o riesgo de liquidez para obtener recursos para cumplir con el objeto del contrato, y (ii) el riesgo de las condiciones financieras establecidas para la obtención de los recursos, tales como plazos, tasas, garantías, contragarantías, y refinanciaciones, entre otros. RIESGOS REGULATORIOS: Derivados de cambios regulatorios o reglamentarios que afecten la ecuación económica del contrato. RIESGOS DE LA NATURALEZA: Son los eventos naturales previsibles en los cuales no hay intervención humana que puedan tener impacto en la ejecución del contrato, por ejemplo los temblores, inundaciones, lluvias, sequías, entre otros. RIESGOS AMBIENTALES: Son los derivados de las obligaciones legales o reglamentarias de carácter ambiental, así como de las licencias, planes de manejo o de permisos y autorizaciones ambientales, incluyendo tasas retributivas y compensatorias, obligaciones de mitigación, tareas de monitoreo y control, entre otras. RIESGOS TECNOLÓGICOS: Son los derivados de fallas en los sistemas de comunicación de voz y de datos, suspensión de servicios públicos, nuevos desarrollos tecnológicos o estándares que deben ser tenidos en cuenta para la ejecución del contrato, obsolescencia tecnológica.
B15: INSTRUCCIONES PARA LA IDENTIFICACIÓN, ANALISIS, EVALUACIÓN , ASIGNACIÓN Y TRATAMIENTO DE RIESGOS EN LA CONTRATACIÓN
B16: 1) Identifique los riesgos previsibles que le apliquen al objeto contractual que se adelante. Los relacionados a continuación se establecen de manera general y como proforma. No obstante, si del objeto contractual se identifican otros riesgos diferentes a los aquí determinados, por favor reemplace el texto de la casilla teniendo en cuenta la etapa del proceso. Así mismo, seleccione la clase, fuente y el tipo (Operacional, Económico, Sociales o Políticos, Regulatorios, Financieros, Tecnológicos, De la naturaleza, Ambientales) 2) Continúe en la hoja de "EVALUACIÓN" (SI EXISTEN DUDAS CONCEPTUALES PARA LA ELABORACIÓN DE LA MATRIZ DE RIESGO CONSULTE EL MANUAL PARA LA IDENTIFICACIÓN Y COBERTURA DEL RIESGO EN LOS PROCESOS DE CONTRATACIÓN EXPEDIDO POR COLOMBIA COMPRA EFICIENTE Y LA GUÍA DE RIESGOS PREVISIBLES CONTRACTUALES, EXPEDIDA POR LA VEEDURÍA DISTRITAL)
C17: ETAPAS | D17: CLASE | E17: FUENTE | F17: TIPO
C18: PLANEACIÓN
B19: Inadecuada descripción del servicio requerido, alcance, productos o especificaciones técnicas para la toma física, actualización, identificación y medición posterior de bienes. | D19: Específico | E19: Interno | F19: Operacionales
B20: Inadecuado análisis económico del valor estimado del contrato por insuficiente información sobre cantidades, dispersión, complejidad y actividades requeridas. | D20: Específico | E20: Interno | F20: Económicos
B21: Declaratoria desierta por no presentación de propuestas o por propuestas que no cumplan las condiciones del proceso. | D21: General | E21: Interno | F21: Operacionales
C22: SELECCIÓN
B23: Selección de una oferta con precio artificialmente bajo que no permita ejecutar integralmente el alcance técnico y los productos requeridos. | D23: Específico | E23: Externo | F23: Económicos
C24: CONTRATACIÓN
B25: Riesgo de que no se firme el contrato después de la adjudicación. | D25: General | E25: Externo | F25: Operacionales
B26: Demora en el perfeccionamiento, legalización o cumplimiento de requisitos para iniciar la ejecución. | D26: General | E26: Interno | F26: Operacionales
C27: EJECUCIÓN
B28: Demora en el inicio de la ejecución por falta de coordinación, disponibilidad de información, agenda o acceso a los lugares donde se encuentran los bienes. | D28: Específico | E28: Interno | F28: Operacionales
B29: Información inicial de inventarios incompleta, desactualizada, duplicada o inconsistente con los registros administrativos y contables. | D29: Específico | E29: Interno | F29: Operacionales
B30: Imposibilidad de realizar la verificación física de uno o varios bienes por falta de acceso, traslado, custodia de terceros, cierre de instalaciones o restricciones en JAC. | D30: Específico | E30: Externo | F30: Operacionales
B31: No identificación, sobrantes, faltantes, duplicidades o ubicación diferente a la registrada para bienes muebles durante la toma física. | D31: Específico | E31: Interno | F31: Operacionales
B32: Marcación, placa, código o identificación incorrecta de bienes durante el levantamiento o actualización. | D32: Específico | E32: Interno | F32: Operacionales
B33: Registro incorrecto de características técnicas, estado, ubicación, responsable, seriales, modelo u otros datos levantados en campo. | D33: Específico | E33: Externo | F33: Operacionales
B34: Restricciones de acceso o falta de disponibilidad de responsables de bienes ubicados en sedes del FDLT, Juntas de Acción Comunal u otros terceros. | D34: Específico | E34: Externo | F34: Operacionales
B35: Daño o afectación de bienes durante las actividades de toma física, desplazamiento o manipulación necesaria para su identificación. | D35: Específico | E35: Externo | F35: Operacionales
B36: Incumplimiento de requisitos técnicos, experiencia o disponibilidad del personal asignado para las actividades de campo y procesamiento. | D36: General | E36: Externo | F36: Operacionales
B37: Incumplimiento del cronograma de ejecución por subestimación de tiempos, baja productividad, dificultades de acceso o reprocesos. | D37: General | E37: Externo | F37: Operacionales
B38: Entrega de productos incompletos, con inconsistencias o que no cumplan las especificaciones del anexo técnico. | D38: Específico | E38: Externo | F38: Operacionales
B39: Errores en la medición posterior de los bienes, incluyendo vida útil, depreciación, valor residual, deterioro u otros parámetros que correspondan según las políticas aplicables. | D39: Específico | E39: Externo | F39: Operacionales
... B43: Demora en la liquidación y cierre documental del contrato. | D43: General | E43: Interno | F43: Operacionales
B73: General
B74: Estatal
B75: Especifico
B77: Interno
B78: Externo

Sheet EVALUACION
C2: MATRIZ DE RIESGOS DE CONTRATACIÓN | K2: Código: GCO-GCI-F164 Versión: 02 Vigencia: 01 de diciembre de 2022 Caso HOLA: 280117
B6: Objeto Contractual: PRESTACIÓN DE SERVICIOS ESPECIALIZADOS PARA REALIZAR LA TOMA FÍSICA DE INVENTARIOS, ACTUALIZACIÓN DE LA INFORMACIÓN, Y MEDICIÓN POSTERIOR E IDENTIFICACIÓN DE LOS BIENES MUEBLES E INMUEBLES DEL FONDO DE DESARROLLO LOCAL DE TEUSAQUILLO, DE CONFORMIDAD CON LA NORMATIVA VIGENTE.
B7: INSTRUCCIONES PARA LA IDENTIFICACIÓN, ANALISIS, EVALUACIÓN , ASIGNACIÓN Y TRATAMIENTO DE RIESGOS EN LA CONTRATACIÓN
B8: 1) Diligencie el objeto contractual y seleccione la(s) etapas y los riesgos que aplican al objeto contractual, de acuerdo a lo definido en la hoja de "IDENTIFICACIÓN Y ANÁLISIS"
B9: 2) Describa las consecuencias de la ocurrencia del Riesgo/evento.
B10: 3) Asigne la probabilidad de ocurrencia del riesgo, de conformidad con la tabla de probabilidad y la valoración del riesgo (Cualitativa o Monetaria)
B11: 4) Asigne el impacto que generaría la materialización del riesgo, de conformidad con la tabla de impacto y la valoración del riesgo (Cualitativa o Monetaria)
B12: 5) Al realizar las anteriores actividades se obtendrá la calificación total y la valoración del riesgo (prioridad).
B13: 6) Continúe en la hoja de "EVALUACIÓN DE CONTROLES"
B15: CALIFICACIÓN | H15: Cualitativa
B16: ETAPA | C16: Descripción (Que puede pasar y, cómo puede ocurrir) | H16: Consecuencias de la ocurrencia del evento | I16: Probabilidad de Ocurrencia | J16: Impacto | K16: Calificación Total | L16: Prioridad
B17: SELECCIÓN | C17: Selección de una oferta con precio artificialmente bajo que no permita ejecutar integralmente el alcance técnico y los productos requeridos. | H17: Riesgo de incumplimiento, baja calidad, reducción de personal o actividades, retrasos y necesidad de requerir explicaciones o adoptar medidas contractuales. | I17: 2 | J17: 4 | K17: =I17+J17 -> 6 | L17: =IF(K17<=4,"BAJO",IF(K17=5,"MEDIO",IF(K17<=7,"ALTO","EXTREMO"))) -> ALTO
B18: CONTRATACIÓN | C18: Riesgo de que no se firme el contrato después de la adjudicación. | H18: Retraso en el inicio de las actividades y necesidad de acudir al mecanismo previsto en la normativa de contratación. | I18: 2 | J18: 3 | K18: =I18+J18 -> 5 | L18: =IF(K18<=4,"BAJO",IF(K18=5,"MEDIO",IF(K18<=7,"ALTO","EXTREMO"))) -> MEDIO
B19: CONTRATACIÓN | C19: Demora en el perfeccionamiento, legalización o cumplimiento de requisitos para iniciar la ejecución. | H19: Retraso en el inicio de la toma física, actualización y demás actividades, con posible afectación del cronograma. | I19: 2 | J19: 3 | K19: =I19+J19 -> 5 | L19: =IF(K19<=4,"BAJO",IF(K19=5,"MEDIO",IF(K19<=7,"ALTO","EXTREMO"))) -> MEDIO
B20: EJECUCIÓN | C20: Demora en el inicio de la ejecución por falta de coordinación, disponibilidad de información, agenda o acceso a los lugares donde se encuentran los bienes. | H20: Atraso del cronograma, reprocesos, concentración de actividades al final del plazo y riesgo de no cubrir la totalidad de bienes. | I20: 3 | J20: 4 | K20: =I20+J20 -> 7 | L20: =IF(K20<=4,"BAJO",IF(K20=5,"MEDIO",IF(K20<=7,"ALTO","EXTREMO"))) -> ALTO
B21: EJECUCIÓN | C21: Información inicial de inventarios incompleta, desactualizada, duplicada o inconsistente con los registros administrativos y contables. | H21: Dificultades para identificar bienes, errores de conciliación, reprocesos y resultados que no permitan actualizar confiablemente los registros. | I21: 4 | J21: 4 | K21: =I21+J21 -> 8 | L21: =IF(K21<=4,"BAJO",IF(K21=5,"MEDIO",IF(K21<=7,"ALTO","EXTREMO"))) -> EXTREMO
B22: EJECUCIÓN | C22: Imposibilidad de realizar la verificación física de uno o varios bienes por falta de acceso, traslado, custodia de terceros, cierre de instalaciones o restricciones en JAC. | H22: Bienes sin verificar, inventario incompleto, necesidad de visitas adicionales y riesgo de diferencias entre la existencia física y los registros. | I22: 4 | J22: 4 | K22: =I22+J22 -> 8 | L22: =IF(K22<=4,"BAJO",IF(K22=5,"MEDIO",IF(K22<=7,"ALTO","EXTREMO"))) -> EXTREMO
B23: EJECUCIÓN | C23: No identificación, sobrantes, faltantes, duplicidades o ubicación diferente a la registrada para bienes muebles durante la toma física. | H23: Diferencias de inventario, pérdida de trazabilidad, necesidad de investigación y ajustes administrativos o contables con sus respectivos soportes. | I23: 4 | J23: 5 | K23: =I23+J23 -> 9 | L23: =IF(K23<=4,"BAJO",IF(K23=5,"MEDIO",IF(K23<=7,"ALTO","EXTREMO"))) -> EXTREMO
B24: EJECUCIÓN | C24: Marcación, placa, código o identificación incorrecta de bienes durante el levantamiento o actualización. | H24: Duplicidad o pérdida de trazabilidad, asociación incorrecta entre bien físico y registro, y reprocesos. | I24: 3 | J24: 4 | K24: =I24+J24 -> 7 | L24: =IF(K24<=4,"BAJO",IF(K24=5,"MEDIO",IF(K24<=7,"ALTO","EXTREMO"))) -> ALTO
B25: EJECUCIÓN | C25: Registro incorrecto de características técnicas, estado, ubicación, responsable, seriales, modelo u otros datos levantados en campo. | H25: Base de datos con errores, pérdida de trazabilidad y necesidad de reprocesar visitas o corregir registros. | I25: 3 | J25: 4 | K25: =I25+J25 -> 7 | L25: =IF(K25<=4,"BAJO",IF(K25=5,"MEDIO",IF(K25<=7,"ALTO","EXTREMO"))) -> ALTO
B26: EJECUCIÓN | C26: Restricciones de acceso o falta de disponibilidad de responsables de bienes ubicados en sedes del FDLT, Juntas de Acción Comunal u otros terceros. | H26: Visitas fallidas, aumento de tiempos, bienes no verificados y riesgo de incumplimiento del alcance. | I26: 3 | J26: 4 | K26: =I26+J26 -> 7 | L26: =IF(K26<=4,"BAJO",IF(K26=5,"MEDIO",IF(K26<=7,"ALTO","EXTREMO"))) -> ALTO
B27: EJECUCIÓN | C27: Daño o afectación de bienes durante las actividades de toma física, desplazamiento o manipulación necesaria para su identificación. | H27: Daño del bien, reclamaciones, investigaciones y eventuales costos de reparación o reposición. | I27: 2 | J27: 4 | K27: =I27+J27 -> 6 | L27: =IF(K27<=4,"BAJO",IF(K27=5,"MEDIO",IF(K27<=7,"ALTO","EXTREMO"))) -> ALTO
B28: EJECUCIÓN | C28: Incumplimiento de requisitos técnicos, experiencia o disponibilidad del personal asignado para las actividades de campo y procesamiento. | H28: Errores en levantamiento, baja calidad de productos, retrasos y necesidad de reemplazar personal o reprocesar actividades. | I28: 3 | J28: 4 | K28: =I28+J28 -> 7 | L28: =IF(K28<=4,"BAJO",IF(K28=5,"MEDIO",IF(K28<=7,"ALTO","EXTREMO"))) -> ALTO
... B35: EJECUCIÓN | C35: Demora en la liquidación y cierre documental del contrato. | H35: Retraso en el cierre administrativo, dificultades para consolidar obligaciones pendientes y riesgo de incumplimiento de términos de liquidación. | I35: 2 | J35: 3 | K35: =I35+J35 -> 5 | L35: =IF(K35<=4,"BAJO",IF(K35=5,"MEDIO",IF(K35<=7,"ALTO","EXTREMO"))) -> MEDIO
B38: Probabilidad | C38: Catagoria | E38: Valoración | G38: Impacto | H38: Categoria | I38: Valoración
C39: Raro (puede ocurrir excepcionalmente) | E39: 1 | H39: Insignificante | I39: 1
C40: Improbable (puede ocurrir ocasionalmente) | E40: 2 | H40: Menor | I40: 2
C41: Posible (puede ocurrir en cualquier momento futuro) | E41: 3 | H41: Moderado | I41: 3
C42: Probable (probablemente va a ocurrir) | E42: 4 | H42: Mayor | I42: 4
C43: Casi cierto (ocurre en la mayoria de circunstancias) | E43: 5 | H43: Catastrófico | I43: 5
C45: Valoración del Riesgo
C46: Calificación Cualitativa | F46: Obstruye la ejecución del contrato de manera intrascendente. | G46: Dificulta la ejecución del contrato de manera baja, aplicando medidas mínimas se pueden lograr el objeto contractual | H46: Afecta la ejecución del contrato sin alterar el beneficio para las partes | I46: Obstruye la ejecución del contrato sustancialmente pero aun así permite la consecución del objeto contractual | K46: Perturba la ejecución del contrato de manera grave imposibilitando la consecución del objeto contractual.
C47: Calificación Monetaria | F47: Los sobrecostos no representan más del uno por ciento (1%) del valor del contrato. | G47: Los sobrecostos no representan más del cinco por ciento (5%) del valor del contrato. | H47: Genera un impacto sobre el valor del contrato entre el cinco (5%) y el quince por ciento (15%). | I47: Incrementa el valor del contrato entre el quince (15%) y el treinta por ciento (30%). | K47: Impacto sobre el valor del contrato en más del treinta por ciento (30%).
C48: Categoría | E48: Valoración | F48: Insignificante | G48: Menor | H48: Moderado | I48: Mayor | K48: Catastrófico
F49: 1 | G49: 2 | H49: 3 | I49: 4 | K49: 5
C50: Raro (puede ocurrir excepcionalmente) | E50: 1 | F50: 2 | G50: 3 | H50: 4 | I50: 5 | K50: 6
C51: Improbable (puede ocurrir ocasionalmente) | E51: 2 | F51: 3 | G51: 4 | H51: 5 | I51: 6 | K51: 7
C52: Posible (puede ocurrir en cualquier momento futuro) | E52: 3 | F52: 4 | G52: 5 | H52: 6 | I52: 7 | K52: 8
C53: Probable (probablemente va a ocurrir) | E53: 4 | F53: 5 | G53: 6 | H53: 7 | I53: 8 | K53: 9
C54: Casi cierto (ocurre en la mayoria de circunstancias) | E54: 5 | F54: 6 | G54: 7 | H54: 8 | I54: 9 | K54: 10
...

Sheet EVALUACION CON CONTROLES
C2: MATRIZ DE RIESGOS DE CONTRATACIÓN | Q2: Código: GCO-GCI-F164 Versión: 02 Vigencia: 01 de diciembre de 2022 Caso HOLA: 280117
B6: PRESTACION DE SERVICIOS ESPECIALIZADOS PARA LA TOMA FÍSICA DE INVENTARIOS, ACTUALIZACIÓN DE LA INFORMACIÓN, MEDICIÓN POSTERIOR IDENTIFICACIÓN DE LOS BIENES MUEBLES E INMUEBLES DEL FONDO DE DESARROLLO LOCAL DE TEUSAQUILLO, DE CONFORMIDAD CON LA NORMATIVIDAD VIGENTE
B7: INSTRUCCIONES PARA LA IDENTIFICACIÓN, ANALISIS, EVALUACIÓN , ASIGNACIÓN Y TRATAMIENTO DE RIESGOS EN LA CONTRATACIÓN
B8: 1) Describa el tratamiento/controles a ser implementados
B9: 2) Diligencie la información de las siguientes columnas, de acuerdo con el análisis realizado a cada riesgo: Afecta el equilibrio económico, persona responsable de implementar el tratamiento, fecha estimada de inicio del tratamiento, fecha estimada en la que se completa el tratamiento, cómo se realiza el monitoreo y la periodicidad.
B10: 3) Continúe en la hoja de "ASIGNACIÓN Y TRATAMIENTO" y diligencie las siguientes casillas: A quien se le asigna y el porcentaje que asume cada una de las partes en caso de que sea compartido.
B15: ETAPA | C15: Descripción (Que puede pasar y, cómo puede ocurrir) | G15: Tratamiento/Controles a ser implementados | I15: Probabilidad de Ocurrencia | J15: Impacto | K15: Calificación Total | L15: Prioridad | M15: ¿Afecta el equilibrio económico del contrato? | N15: Persona responsable por implementar el tratamiento | O15: Fecha estimada en que se inicia el tratamiento | P15: Fecha estimada en que se completa el tratamiento | Q15: ¿Cómo se realiza el monitoreo? | R15: Periodicidad ¿Cuándo?
B16: =EVALUACION!B17 -> SELECCIÓN | C16: =EVALUACION!C17 -> Selección de una oferta con precio artificialmente bajo que no permita ejecutar integralmente el alcance técnico y los productos requeridos. | G16: Evaluación económica de la oferta y solicitud de explicaciones cuando corresponda, contrastando el precio con el estudio de mercado, alcance, dedicación y costos necesarios. | I16: 1 | J16: 3 | K16: =I16+J16 -> 4 | L16: =IF(K16<=4,"BAJO",IF(K16=5,"MEDIO",IF(K16<=7,"ALTO","EXTREMO"))) -> BAJO | M16: NO | N16: Comité evaluador / Contratación | O16: Etapa de selección | P16: Hasta la adjudicación | Q16: Verificación documentada de la oferta económica | R16: Durante evaluación
B17: =EVALUACION!B18 -> CONTRATACIÓN | C17: =EVALUACION!C18 -> Riesgo de que no se firme el contrato después de la adjudicación. | G17: Verificación oportuna de documentación, requisitos para la firma y comunicaciones al adjudicatario; aplicación de las consecuencias previstas en el proceso cuando haya lugar. | I17: 1 | J17: 2 | K17: =I17+J17 -> 3 | L17: =IF(K17<=4,"BAJO",IF(K17=5,"MEDIO",IF(K17<=7,"ALTO","EXTREMO"))) -> BAJO | M17: NO | N17: Contratación | O17: Adjudicación | P17: Hasta la firma | Q17: Verificación de documentación y términos | R17: Cada adjudicación
B18: =EVALUACION!B19 -> CONTRATACIÓN | C18: =EVALUACION!C19 -> Demora en el perfeccionamiento, legalización o cumplimiento de requisitos para iniciar la ejecución. | G18: Lista de chequeo de requisitos, seguimiento a garantías y documentos, y coordinación entre contratación, contratista y supervisor para formalizar el inicio. | I18: 1 | J18: 2 | K18: =I18+J18 -> 3 | L18: =IF(K18<=4,"BAJO",IF(K18=5,"MEDIO",IF(K18<=7,"ALTO","EXTREMO"))) -> BAJO | M18: NO | N18: Contratación / Supervisor | O18: Adjudicación | P18: Hasta acta de inicio | Q18: Seguimiento a requisitos contractuales | R18: Hasta inicio
B19: =EVALUACION!B20 -> EJECUCIÓN | C19: =EVALUACION!C20 -> Demora en el inicio de la ejecución por falta de coordinación, disponibilidad de información, agenda o acceso a los lugares donde se encuentran los bienes. | G19: Cronograma detallado aprobado, acta de inicio, programación de visitas con responsables de cada sede/JAC, entrega inicial de información y seguimiento semanal. | I19: 2 | J19: 3 | K19: =I19+J19 -> 5 | L19: =IF(K19<=4,"BAJO",IF(K19=5,"MEDIO",IF(K19<=7,"ALTO","EXTREMO"))) -> MEDIO | M19: NO | N19: Supervisor / Apoyo a supervisión | O19: Inicio | P19: Durante ejecución | Q19: Comités y seguimiento al cronograma | R19: Semanal
B20: =EVALUACION!B21 -> EJECUCIÓN | C20: =EVALUACION!C21 -> Información inicial de inventarios incompleta, desactualizada, duplicada o inconsistente con los registros administrativos y contables. | G20: Entrega formal de las bases disponibles, validación inicial de estructura y campos, identificación de inconsistencias y acta o reporte de novedades antes del levantamiento definitivo. | I20: 2 | J20: 3 | K20: =I20+J20 -> 5 | L20: =IF(K20<=4,"BAJO",IF(K20=5,"MEDIO",IF(K20<=7,"ALTO","EXTREMO"))) -> MEDIO | M20: NO | N20: Almacén-Inventarios / Contabilidad / Supervisor | O20: Inicio | P20: Primera etapa de ejecución | Q20: Acta de entrega y validación de base inicial | R20: Al inicio y ante cambios
B21: =EVALUACION!B22 -> EJECUCIÓN | C21: =EVALUACION!C22 -> Imposibilidad de realizar la verificación física de uno o varios bienes por falta de acceso, traslado, custodia de terceros, cierre de instalaciones o restricciones en JAC. | G21: Programación previa de visitas, coordinación con responsables y terceros, registro de bienes no ubicados/no verificables, evidencias de gestión y programación de segunda visita cuando proceda. | I21: 2 | J21: 3 | K21: =I21+J21 -> 5 | L21: =IF(K21<=4,"BAJO",IF(K21=5,"MEDIO",IF(K21<=7,"ALTO","EXTREMO"))) -> MEDIO | M21: NO | N21: Supervisor / Apoyo a supervisión y responsables de bienes | O21: Inicio | P21: Durante ejecución | Q21: Reporte de bienes no verificables y seguimiento a reprogramaciones | R21: Semanal
B22: =EVALUACION!B23 -> EJECUCIÓN | C22: =EVALUACION!C23 -> No identificación, sobrantes, faltantes, duplicidades o ubicación diferente a la registrada para bienes muebles durante la toma física. | G22: Conteo físico individual, confrontación con placa/código y base, registro fotográfico cuando aplique, acta de diferencias y validación con responsables de los bienes antes de cerrar resultados. | I22: 2 | J22: 4 | K22: =I22+J22 -> 6 | L22: =IF(K22<=4,"BAJO",IF(K22=5,"MEDIO",IF(K22<=7,"ALTO","EXTREMO"))) -> ALTO | M22: NO | N22: Contratista / Supervisor / Almacén-Inventarios | O22: Inicio | P22: Hasta cierre de inventario | Q22: Conciliación de diferencias y muestreo de calidad | R22: Semanal
B23: =EVALUACION!B24 -> EJECUCIÓN | C23: =EVALUACION!C24 -> Marcación, placa, código o identificación incorrecta de bienes durante el levantamiento o actualización. | G23: Protocolo de identificación y validación de placas/códigos, revisión de consecutivos, doble verificación de casos dudosos y aprobación del resultado por el supervisor. | I23: 1 | J23: 3 | K23: =I23+J23 -> 4 | L23: =IF(K23<=4,"BAJO",IF(K23=5,"MEDIO",IF(K23<=7,"ALTO","EXTREMO"))) -> BAJO | M23: NO | N23: Contratista / Supervisor | O23: Inicio | P23: Hasta cierre de identificación | Q23: Muestreo y revisión de consecutivos/códigos | R23: Semanal
B24: =EVALUACION!B25 -> EJECUCIÓN | C24: =EVALUACION!C25 -> Registro incorrecto de características técnicas, estado, ubicación, responsable, seriales, modelo u otros datos levantados en campo. | G24: Formato estandarizado, capacitación del personal, validaciones de campos obligatorios, revisión por muestreo y corrección documentada de inconsistencias. | I24: 2 | J24: 3 | K24: =I24+J24 -> 5 | L24: =IF(K24<=4,"BAJO",IF(K24=5,"MEDIO",IF(K24<=7,"ALTO","EXTREMO"))) -> MEDIO | M24: NO | N24: Contratista / Supervisor | O24: Inicio | P24: Hasta entrega de base final | Q24: Revisión de calidad y muestreo de registros | R24: Semanal
B25: =EVALUACION!B26 -> EJECUCIÓN | C25: =EVALUACION!C26 -> Restricciones de acceso o falta de disponibilidad de responsables de bienes ubicados en sedes del FDLT, Juntas de Acción Comunal u otros terceros. | G25: Plan de visitas concertado, comunicaciones previas, responsables designados, registro de inasistencias/restricciones y reprogramación controlada. | I25: 2 | J25: 3 | K25: =I25+J25 -> 5 | L25: =IF(K25<=4,"BAJO",IF(K25=5,"MEDIO",IF(K25<=7,"ALTO","EXTREMO"))) -> MEDIO | M25: NO | N25: Supervisor / Responsables de sedes y terceros | O25: Inicio | P25: Durante ejecución | Q25: Control de agenda, actas y reportes de visita | R25: Semanal
B26: =EVALUACION!B27 -> EJECUCIÓN | C26: =EVALUACION!C27 -> Daño o afectación de bienes durante las actividades de toma física, desplazamiento o manipulación necesaria para su identificación. | G26: Instrucciones de manipulación segura, identificación de bienes que requieren tratamiento especial, responsabilidad del contratista y reporte inmediato de incidentes. | I26: 1 | J26: 3 | K26: =I26+J26 -> 4 | L26: =IF(K26<=4,"BAJO",IF(K26=5,"MEDIO",IF(K26<=7,"ALTO","EXTREMO"))) -> BAJO | M26: SI | N26: Contratista / Supervisor | O26: Inicio | P26: Durante ejecución | Q26: Reporte de incidentes y verificación de novedades | R26: Inmediato
B27: =EVALUACION!B28 -> EJECUCIÓN | C27: =EVALUACION!C28 -> Incumplimiento de requisitos técnicos, experiencia o disponibilidad del personal asignado para las actividades de campo y procesamiento. | G27: Verificación de hojas de vida y perfiles antes de vincular personal; control del equipo asignado y autorización previa de cambios cuando corresponda. | I27: 2 | J27: 3 | K27: =I27+J27 -> 5 | L27: =IF(K27<=4,"BAJO",IF(K27=5,"MEDIO",IF(K27<=7,"ALTO","EXTREMO"))) -> MEDIO | M27: NO | N27: Supervisor / Apoyo a supervisión | O27: Inicio | P27: Hasta terminación | Q27: Verificación de personal y seguimiento a actividades | R27: Semanal
... B34: =EVALUACION!B35 -> EJECUCIÓN | C34: =EVALUACION!C35 -> Demora en la liquidación y cierre documental del contrato. | G34: Seguimiento al cronograma de cierre, consolidación de actas, recibos, paz y salvos y demás soportes; impulso oportuno de la liquidación. | I34: 1 | J34: 2 | K34: =I34+J34 -> 3 | L34: =IF(K34<=4,"BAJO",IF(K34=5,"MEDIO",IF(K34<=7,"ALTO","EXTREMO"))) -> BAJO | M34: NO | N34: Supervisor / Área de contratación | O34: Terminación | P34: Hasta liquidación | Q34: Verificación de expediente y términos | R34: Mensual
C36: Categoria del Riesgo | H36: Impacto del Riesgo
B37: Probabilidad | C37: Catagoria | F37: Valoración | H37: Categoria | J37: Valoración | N37: Categoria del Riesgo
C38: Raro (puede ocurrir excepcionalmente) | F38: 1 | H38: Insignificante | J38: 1 | N38: Valoración del Riesgo | P38: Categoría
C39: Improbable (puede ocurrir ocasionalmente) | F39: 2 | H39: Menor | J39: 2 | N39: 8, 9 y 10 | P39: Riesgo extremo
C40: Posible (puede ocurrir en cualquier momento futuro) | F40: 3 | H40: Moderado | J40: 3 | N40: 6 y 7 | P40: Riesgo alto
C41: Probable (probablemente va a ocurrir) | F41: 4 | H41: Mayor | J41: 4 | N41: 5 | P41: Riesgo medio
C42: Casi cierto (ocurre en la mayoria de circunstancias) | F42: 5 | H42: Catastrófico | J42: 5 | N42: 2, 3 y 4 | P42: Riesgo bajo
C44: Valoración del Riesgo
C45: Calificación Cualitativa | G45: Obstruye la ejecución del contrato de manera intrascendente. | I45: Dificulta la ejecución del contrato de manera baja, aplicando medidas mínimas se pueden lograr el objeto contractual | L45: Afecta la ejecución del contrato sin alterar el beneficio para las partes | N45: Obstruye la ejecución del contrato sustancialmente pero aun así permite la consecución del objeto contractual | P45: Perturba la ejecución del contrato de manera grave imposibilitando la consecución del objeto contractual.
C46: Calificación Monetaria | G46: Los sobrecostos no representan más del uno por ciento (1%) del valor del contrato. | I46: Los sobrecostos no representan más del cinco por ciento (5%) del valor del contrato. | L46: Genera un impacto sobre el valor del contrato entre el cinco (5%) y el quince por ciento (15%). | N46: Incrementa el valor del contrato entre el quince (15%) y el treinta por ciento (30%). | P46: Impacto sobre el valor del contrato en más del treinta por ciento (30%).
C47: Catagoria | F47: Valoración | G47: Insignificante | I47: Menor | L47: Moderado | N47: Mayor | P47: Catastrófico
G48: 1 | I48: 2 | L48: 3 | N48: 4 | P48: 5
C49: Raro (puede ocurrir excepcionalmente) | F49: 1 | G49: 2 | I49: 3 | L49: 4 | N49: 5 | P49: 6
C50: Improbable (puede ocurrir ocasionalmente) | F50: 2 | G50: 3 | I50: 4 | L50: 5 | N50: 6 | P50: 7
C51: Posible (puede ocurrir en cualquier momento futuro) | F51: 3 | G51: 4 | I51: 5 | L51: 6 | N51: 7 | P51: 8
C52: Probable (probablemente va a ocurrir) | F52: 4 | G52: 5 | I52: 6 | L52: 7 | N52: 8 | P52: 9
C53: Casi cierto (ocurre en la mayoria de circunstancias) | F53: 5 | G53: 6 | I53: 7 | L53: 8 | N53: 9 | P53: 10
B56: Proyectò: Oscar Perez Cuello - Tecnico Almacèn

Sheet ASIGNACION Y TRATAMIENTO
C2: MATRIZ DE RIESGOS DE CONTRATACIÓN | W2: Código: GCO-GCI-F164 Versión: 02 Vigencia: 01 de diciembre de 2022 Caso HOLA: 280117
B6: PRESTACION DE SERVICIOS ESPECIALIZADOS PARA LA TOMA FÍSICA DE INVENTARIOS, ACTUALIZACIÓN DE LA INFORMACIÓN, MEDICIÓN POSTERIOR E IDENTIFICACIÓN DE LOS BIENES MUEBLES E INMUEBLES DEL FONDO DE DESARROLLO LOCAL DE TEUSAQUILLO, DE CONFORMIDAD CON LA NORMATIVIDAD VIGENTE
B7: Esta matriz es un documento anexo del Estudio Previo
B10: No | C10: Descripción (Que puede pasar y, cómo puede ocurrir) | D10: Etapa | E10: Clase | F10: Fuente | G10: Consecuencias de la ocurrencia del evento | H10: Probabilidad | I10: Impacto | J10: Calificación total | K10: Prioridad | L10: ¿A quien se le asigna? | M10: % | N10: Tratamiento/Controles a ser implementados | O10: Probabilidad | P10: Impacto | Q10: Calificación total | R10: Prioridad | S10: ¿Afecta el equilibrio económico del contrato? | T10: Persona responsable por implementar el tratamiento | U10: Fecha estimada en que se inicia el tratamiento | V10: Fecha estimada en que se completa el tratamiento | W10: ¿Cómo se realiza el monitoreo | X10: Periodicidad ¿Cuándo?
B11: 4 | C11: ='EVALUACION CON CONTROLES'!C16 -> Selección de una oferta con precio artificialmente bajo que no permita ejecutar integralmente el alcance técnico y los productos requeridos. | D11: ='EVALUACION CON CONTROLES'!B16 -> SELECCIÓN | E11: Específico | F11: Externo | G11: =EVALUACION!H17 -> Riesgo de incumplimiento, baja calidad, reducción de personal o actividades, retrasos y necesidad de requerir explicaciones o adoptar medidas contractuales. | H11: =EVALUACION!I17 -> 2 | I11: =EVALUACION!J17 -> 4 | J11: =EVALUACION!K17 -> 6 | K11: =EVALUACION!L17 -> ALTO | L11: FDLT | M11: 1 | N11: ='EVALUACION CON CONTROLES'!G16 -> Evaluación económica de la oferta y solicitud de explicaciones cuando corresponda, contrastando el precio con el estudio de mercado, alcance, dedicación y costos necesarios. | O11: ='EVALUACION CON CONTROLES'!I16 -> 1 | P11: ='EVALUACION CON CONTROLES'!J16 -> 3 | Q11: ='EVALUACION CON CONTROLES'!K16 -> 4 | R11: ='EVALUACION CON CONTROLES'!L16 -> BAJO | S11: ='EVALUACION CON CONTROLES'!M16 -> NO | T11: ='EVALUACION CON CONTROLES'!N16 -> Comité evaluador / Contratación | U11: ='EVALUACION CON CONTROLES'!O16 -> Etapa de selección | V11: ='EVALUACION CON CONTROLES'!P16 -> Hasta la adjudicación | ... X11: ='EVALUACION CON CONTROLES'!R16 -> Durante evaluación
B12: 5 | C12: ='EVALUACION CON CONTROLES'!C17 -> Riesgo de que no se firme el contrato después de la adjudicación. | D12: ='EVALUACION CON CONTROLES'!B17 -> CONTRATACIÓN | E12: General | F12: Externo | G12: =EVALUACION!H18 -> Retraso en el inicio de las actividades y necesidad de acudir al mecanismo previsto en la normativa de contratación. | H12: =EVALUACION!I18 -> 2 | I12: =EVALUACION!J18 -> 3 | J12: =EVALUACION!K18 -> 5 | K12: =EVALUACION!L18 -> MEDIO | L12: CONTRATISTA Y FDLT | M12: 0.5 | N12: ='EVALUACION CON CONTROLES'!G17 -> Verificación oportuna de documentación, requisitos para la firma y comunicaciones al adjudicatario; aplicación de las consecuencias previstas en el proceso cuando haya lugar. | O12: ='EVALUACION CON CONTROLES'!I17 -> 1 | P12: ='EVALUACION CON CONTROLES'!J17 -> 2 | Q12: ='EVALUACION CON CONTROLES'!K17 -> 3 | R12: ='EVALUACION CON CONTROLES'!L17 -> BAJO | S12: ='EVALUACION CON CONTROLES'!M17 -> NO | T12: ='EVALUACION CON CONTROLES'!N17 -> Contratación | U12: ='EVALUACION CON CONTROLES'!O17 -> Adjudicación | V12: ='EVALUACION CON CONTROLES'!P17 -> Hasta la firma | ... X12: ='EVALUACION CON CONTROLES'!R17 -> Cada adjudicación
B13: 6 | C13: ='EVALUACION CON CONTROLES'!C18 -> Demora en el perfeccionamiento, legalización o cumplimiento de requisitos para iniciar la ejecución. | D13: ='EVALUACION CON CONTROLES'!B18 -> CONTRATACIÓN | E13: General | F13: Interno | G13: =EVALUACION!H19 -> Retraso en el inicio de la toma física, actualización y demás actividades, con posible afectación del cronograma. | H13: =EVALUACION!I19 -> 2 | I13: =EVALUACION!J19 -> 3 | J13: =EVALUACION!K19 -> 5 | K13: =EVALUACION!L19 -> MEDIO | L13: CONTRATISTA Y FDLT | M13: 0.5 | N13: ='EVALUACION CON CONTROLES'!G18 -> Lista de chequeo de requisitos, seguimiento a garantías y documentos, y coordinación entre contratación, contratista y supervisor para formalizar el inicio. | O13: ='EVALUACION CON CONTROLES'!I18 -> 1 | P13: ='EVALUACION CON CONTROLES'!J18 -> 2 | Q13: ='EVALUACION CON CONTROLES'!K18 -> 3 | R13: ='EVALUACION CON CONTROLES'!L18 -> BAJO | S13: ='EVALUACION CON CONTROLES'!M18 -> NO | T13: ='EVALUACION CON CONTROLES'!N18 -> Contratación / Supervisor | U13: ='EVALUACION CON CONTROLES'!O18 -> Adjudicación | V13: ='EVALUACION CON CONTROLES'!P18 -> Hasta acta de inicio | ... X13: ='EVALUACION CON CONTROLES'!R18 -> Hasta inicio
B14: 7 | C14: ='EVALUACION CON CONTROLES'!C19 -> Demora en el inicio de la ejecución por falta de coordinación, disponibilidad de información, agenda o acceso a los lugares donde se encuentran los bienes. | D14: ='EVALUACION CON CONTROLES'!B19 -> EJECUCIÓN | E14: Específico | F14: Interno | G14: =EVALUACION!H20 -> Atraso del cronograma, reprocesos, concentración de actividades al final del plazo y riesgo de no cubrir la totalidad de bienes. | H14: =EVALUACION!I20 -> 3 | I14: =EVALUACION!J20 -> 4 | J14: =EVALUACION!K20 -> 7 | K14: =EVALUACION!L20 -> ALTO | L14: CONTRATISTA Y FDLT | M14: 0.5 | N14: ='EVALUACION CON CONTROLES'!G19 -> Cronograma detallado aprobado, acta de inicio, programación de visitas con responsables de cada sede/JAC, entrega inicial de información y seguimiento semanal. | O14: ='EVALUACION CON CONTROLES'!I19 -> 2 | P14: ='EVALUACION CON CONTROLES'!J19 -> 3 | Q14: ='EVALUACION CON CONTROLES'!K19 -> 5 | R14: ='EVALUACION CON CONTROLES'!L19 -> MEDIO | S14: ='EVALUACION CON CONTROLES'!M19 -> NO | T14: ='EVALUACION CON CONTROLES'!N19 -> Supervisor / Apoyo a supervisión | U14: ='EVALUACION CON CONTROLES'!O19 -> Inicio | V14: ='EVALUACION CON CONTROLES'!P19 -> Durante ejecución | ... X14: ='EVALUACION CON CONTROLES'!R19 -> Semanal
B15: 8 | C15: ='EVALUACION CON CONTROLES'!C20 -> Información inicial de inventarios incompleta, desactualizada, duplicada o inconsistente con los registros administrativos y contables. | D15: ='EVALUACION CON CONTROLES'!B20 -> EJECUCIÓN | E15: Específico | F15: Interno | G15: =EVALUACION!H21 -> Dificultades para identificar bienes, errores de conciliación, reprocesos y resultados que no permitan actualizar confiablemente los registros. | H15: =EVALUACION!I21 -> 4 | I15: =EVALUACION!J21 -> 4 | J15: =EVALUACION!K21 -> 8 | K15: =EVALUACION!L21 -> EXTREMO | L15: FDLT | M15: 1 | N15: ='EVALUACION CON CONTROLES'!G20 -> Entrega formal de las bases disponibles, validación inicial de estructura y campos, identificación de inconsistencias y acta o reporte de novedades antes del levantamiento definitivo. | O15: ='EVALUACION CON CONTROLES'!I20 -> 2 | P15: ='EVALUACION CON CONTROLES'!J20 -> 3 | Q15: ='EVALUACION CON CONTROLES'!K20 -> 5 | R15: ='EVALUACION CON CONTROLES'!L20 -> MEDIO | S15: ='EVALUACION CON CONTROLES'!M20 -> NO | T15: ='EVALUACION CON CONTROLES'!N20 -> Almacén-Inventarios / Contabilidad / Supervisor | U15: ='EVALUACION CON CONTROLES'!O20 -> Inicio | V15: ='EVALUACION CON CONTROLES'!P20 -> Primera etapa de ejecución | ... X15: ='EVALUACION CON CONTROLES'!R20 -> Al inicio y ante cambios
B16: 9 | C16: ='EVALUACION CON CONTROLES'!C21 -> Imposibilidad de realizar la verificación física de uno o varios bienes por falta de acceso, traslado, custodia de terceros, cierre de instalaciones o restricciones en JAC. | D16: ='EVALUACION CON CONTROLES'!B21 -> EJECUCIÓN | E16: Específico | F16: Externo | G16: =EVALUACION!H22 -> Bienes sin verificar, inventario incompleto, necesidad de visitas adicionales y riesgo de diferencias entre la existencia física y los registros. | H16: =EVALUACION!I22 -> 4 | I16: =EVALUACION!J22 -> 4 | J16: =EVALUACION!K22 -> 8 | K16: =EVALUACION!L22 -> EXTREMO | L16: CONTRATISTA Y FDLT | M16: 0.5 | N16: ='EVALUACION CON CONTROLES'!G21 -> Programación previa de visitas, coordinación con responsables y terceros, registro de bienes no ubicados/no verificables, evidencias de gestión y programación de segunda visita cuando proceda. | O16: ='EVALUACION CON CONTROLES'!I21 -> 2 | P16: ='EVALUACION CON CONTROLES'!J21 -> 3 | Q16: ='EVALUACION CON CONTROLES'!K21 -> 5 | R16: ='EVALUACION CON CONTROLES'!L21 -> MEDIO | S16: ='EVALUACION CON CONTROLES'!M21 -> NO | T16: ='EVALUACION CON CONTROLES'!N21 -> Supervisor / Apoyo a supervisión y responsables de bienes | U16: ='EVALUACION CON CONTROLES'!O21 -> Inicio | V16: ='EVALUACION CON CONTROLES'!P21 -> Durante ejecución | ... X16: ='EVALUACION CON CONTROLES'!R21 -> Semanal
B17: 10 | C17: ='EVALUACION CON CONTROLES'!C22 -> No identificación, sobrantes, faltantes, duplicidades o ubicación diferente a la registrada para bienes muebles durante la toma física. | D17: ='EVALUACION CON CONTROLES'!B22 -> EJECUCIÓN | E17: Específico | F17: Interno | G17: =EVALUACION!H23 -> Diferencias de inventario, pérdida de trazabilidad, necesidad de investigación y ajustes administrativos o contables con sus respectivos soportes. | H17: =EVALUACION!I23 -> 4 | I17: =EVALUACION!J23 -> 5 | J17: =EVALUACION!K23 -> 9 | K17: =EVALUACION!L23 -> EXTREMO | L17: CONTRATISTA Y FDLT | M17: 0.5 | N17: ='EVALUACION CON CONTROLES'!G22 -> Conteo físico individual, confrontación con placa/código y base, registro fotográfico cuando aplique, acta de diferencias y validación con responsables de los bienes antes de cerrar resultados. | O17: ='EVALUACION CON CONTROLES'!I22 -> 2 | P17: ='EVALUACION CON CONTROLES'!J22 -> 4 | Q17: ='EVALUACION CON CONTROLES'!K22 -> 6 | R17: ='EVALUACION CON CONTROLES'!L22 -> ALTO | S17: ='EVALUACION CON CONTROLES'!M22 -> NO | T17: ='EVALUACION CON CONTROLES'!N22 -> Contratista / Supervisor / Almacén-Inventarios | U17: ='EVALUACION CON CONTROLES'!O22 -> Inicio | V17: ='EVALUACION CON CONTROLES'!P22 -> Hasta cierre de inventario | ... X17: ='EVALUACION CON CONTROLES'!R22 -> Semanal
B18: 11 | C18: ='EVALUACION CON CONTROLES'!C23 -> Marcación, placa, código o identificación incorrecta de bienes durante el levantamiento o actualización. | D18: ='EVALUACION CON CONTROLES'!B23 -> EJECUCIÓN | E18: Específico | F18: Interno | G18: =EVALUACION!H24 -> Duplicidad o pérdida de trazabilidad, asociación incorrecta entre bien físico y registro, y reprocesos. | H18: =EVALUACION!I24 -> 3 | I18: =EVALUACION!J24 -> 4 | J18: =EVALUACION!K24 -> 7 | K18: =EVALUACION!L24 -> ALTO | L18: CONTRATISTA | M18: 1 | N18: ='EVALUACION CON CONTROLES'!G23 -> Protocolo de identificación y validación de placas/códigos, revisión de consecutivos, doble verificación de casos dudosos y aprobación del resultado por el supervisor. | O18: ='EVALUACION CON CONTROLES'!I23 -> 1 | P18: ='EVALUACION CON CONTROLES'!J23 -> 3 | Q18: ='EVALUACION CON CONTROLES'!K23 -> 4 | R18: ='EVALUACION CON CONTROLES'!L23 -> BAJO | S18: ='EVALUACION CON CONTROLES'!M23 -> NO | T18: ='EVALUACION CON CONTROLES'!N23 -> Contratista / Supervisor | U18: ='EVALUACION CON CONTROLES'!O23 -> Inicio | V18: ='EVALUACION CON CONTROLES'!P23 -> Hasta cierre de identificación | ... X18: ='EVALUACION CON CONTROLES'!R23 -> Semanal
B19: 12 | C19: ='EVALUACION CON CONTROLES'!C24 -> Registro incorrecto de características técnicas, estado, ubicación, responsable, seriales, modelo u otros datos levantados en campo. | D19: ='EVALUACION CON CONTROLES'!B24 -> EJECUCIÓN | E19: Específico | F19: Externo | G19: =EVALUACION!H25 -> Base de datos con errores, pérdida de trazabilidad y necesidad de reprocesar visitas o corregir registros. | H19: =EVALUACION!I25 -> 3 | I19: =EVALUACION!J25 -> 4 | J19: =EVALUACION!K25 -> 7 | K19: =EVALUACION!L25 -> ALTO | L19: CONTRATISTA | M19: 1 | N19: ='EVALUACION CON CONTROLES'!G24 -> Formato estandarizado, capacitación del personal, validaciones de campos obligatorios, revisión por muestreo y corrección documentada de inconsistencias. | O19: ='EVALUACION CON CONTROLES'!I24 -> 2 | P19: ='EVALUACION CON CONTROLES'!J24 -> 3 | Q19: ='EVALUACION CON CONTROLES'!K24 -> 5 | R19: ='EVALUACION CON CONTROLES'!L24 -> MEDIO | S19: ='EVALUACION CON CONTROLES'!M24 -> NO | T19: ='EVALUACION CON CONTROLES'!N24 -> Contratista / Supervisor | U19: ='EVALUACION CON CONTROLES'!O24 -> Inicio | V19: ='EVALUACION CON CONTROLES'!P24 -> Hasta entrega de base final | ... X19: ='EVALUACION CON CONTROLES'!R24 -> Semanal
B20: 13 | C20: ='EVALUACION CON CONTROLES'!C25 -> Restricciones de acceso o falta de disponibilidad de responsables de bienes ubicados en sedes del FDLT, Juntas de Acción Comunal u otros terceros. | D20: ='EVALUACION CON CONTROLES'!B25 -> EJECUCIÓN | E20: Específico | F20: Externo | G20: =EVALUACION!H26 -> Visitas fallidas, aumento de tiempos, bienes no verificados y riesgo de incumplimiento del alcance. | H20: =EVALUACION!I26 -> 3 | I20: =EVALUACION!J26 -> 4 | J20: =EVALUACION!K26 -> 7 | K20: =EVALUACION!L26 -> ALTO | L20: CONTRATISTA Y FDLT | M20: 0.5 | N20: ='EVALUACION CON CONTROLES'!G25 -> Plan de visitas concertado, comunicaciones previas, responsables designados, registro de inasistencias/restricciones y reprogramación controlada. | O20: ='EVALUACION CON CONTROLES'!I25 -> 2 | P20: ='EVALUACION CON CONTROLES'!J25 -> 3 | Q20: ='EVALUACION CON CONTROLES'!K25 -> 5 | R20: ='EVALUACION CON CONTROLES'!L25 -> MEDIO | S20: ='EVALUACION CON CONTROLES'!M25 -> NO | T20: ='EVALUACION CON CONTROLES'!N25 -> Supervisor / Responsables de sedes y terceros | U20: ='EVALUACION CON CONTROLES'!O25 -> Inicio | V20: ='EVALUACION CON CONTROLES'!P25 -> Durante ejecución | ... X20: ='EVALUACION CON CONTROLES'!R25 -> Semanal
B21: 14 | C21: ='EVALUACION CON CONTROLES'!C26 -> Daño o afectación de bienes durante las actividades de toma física, desplazamiento o manipulación necesaria para su identificación. | D21: ='EVALUACION CON CONTROLES'!B26 -> EJECUCIÓN | E21: Específico | F21: Externo | G21: =EVALUACION!H27 -> Daño del bien, reclamaciones, investigaciones y eventuales costos de reparación o reposición. | H21: =EVALUACION!I27 -> 2 | I21: =EVALUACION!J27 -> 4 | J21: =EVALUACION!K27 -> 6 | K21: =EVALUACION!L27 -> ALTO | L21: CONTRATISTA | M21: 1 | N21: ='EVALUACION CON CONTROLES'!G26 -> Instrucciones de manipulación segura, identificación de bienes que requieren tratamiento especial, responsabilidad del contratista y reporte inmediato de incidentes. | O21: ='EVALUACION CON CONTROLES'!I26 -> 1 | P21: ='EVALUACION CON CONTROLES'!J26 -> 3 | Q21: ='EVALUACION CON CONTROLES'!K26 -> 4 | R21: ='EVALUACION CON CONTROLES'!L26 -> BAJO | S21: ='EVALUACION CON CONTROLES'!M26 -> SI | T21: ='EVALUACION CON CONTROLES'!N26 -> Contratista / Supervisor | U21: ='EVALUACION CON CONTROLES'!O26 -> Inicio | V21: ='EVALUACION CON CONTROLES'!P26 -> Durante ejecución | ... X21: ='EVALUACION CON CONTROLES'!R26 -> Inmediato
B22: 15 | C22: ='EVALUACION CON CONTROLES'!C27 -> Incumplimiento de requisitos técnicos, experiencia o disponibilidad del personal asignado para las actividades de campo y procesamiento. | D22: ='EVALUACION CON CONTROLES'!B27 -> EJECUCIÓN | E22: General | F22: Externo | G22: =EVALUACION!H28 -> Errores en levantamiento, baja calidad de productos, retrasos y necesidad de reemplazar personal o reprocesar actividades. | H22: =EVALUACION!I28 -> 3 | I22: =EVALUACION!J28 -> 4 | J22: =EVALUACION!K28 -> 7 | K22: =EVALUACION!L28 -> ALTO | L22: CONTRATISTA | M22: 1 | N22: ='EVALUACION CON CONTROLES'!G27 -> Verificación de hojas de vida y perfiles antes de vincular personal; control del equipo asignado y autorización previa de cambios cuando corresponda. | O22: ='EVALUACION CON CONTROLES'!I27 -> 2 | P22: ='EVALUACION CON CONTROLES'!J27 -> 3 | Q22: ='EVALUACION CON CONTROLES'!K27 -> 5 | R22: ='EVALUACION CON CONTROLES'!L27 -> MEDIO | S22: ='EVALUACION CON CONTROLES'!M27 -> NO | T22: ='EVALUACION CON CONTROLES'!N27 -> Supervisor / Apoyo a supervisión | U22: ='EVALUACION CON CONTROLES'!O27 -> Inicio | V22: ='EVALUACION CON CONTROLES'!P27 -> Hasta terminación | ... X22: ='EVALUACION CON CONTROLES'!R27 -> Semanal
... B29: 22 | C29: ='EVALUACION CON CONTROLES'!C34 -> Demora en la liquidación y cierre documental del contrato. | D29: ='EVALUACION CON CONTROLES'!B34 -> EJECUCIÓN | E29: General | F29: Interno | G29: =EVALUACION!H35 -> Retraso en el cierre administrativo, dificultades para consolidar obligaciones pendientes y riesgo de incumplimiento de términos de liquidación. | H29: =EVALUACION!I35 -> 2 | I29: =EVALUACION!J35 -> 3 | J29: =EVALUACION!K35 -> 5 | K29: =EVALUACION!L35 -> MEDIO | L29: FDLT | M29: 1 | N29: ='EVALUACION CON CONTROLES'!G34 -> Seguimiento al cronograma de cierre, consolidación de actas, recibos, paz y salvos y demás soportes; impulso oportuno de la liquidación. | O29: ='EVALUACION CON CONTROLES'!I34 -> 1 | P29: ='EVALUACION CON CONTROLES'!J34 -> 2 | Q29: ='EVALUACION CON CONTROLES'!K34 -> 3 | R29: ='EVALUACION CON CONTROLES'!L34 -> BAJO | S29: ='EVALUACION CON CONTROLES'!M34 -> NO | T29: ='EVALUACION CON CONTROLES'!N34 -> Supervisor / Área de contratación | U29: ='EVALUACION CON CONTROLES'!O34 -> Terminación | V29: ='EVALUACION CON CONTROLES'!P34 -> Hasta liquidación | ... X29: ='EVALUACION CON CONTROLES'!R34 -> Mensual
F31: Categoria | J31: Impacto del Riesgo
E32: Probabilidad | F32: Catagoria | G32: Valoración | J32: Categoria | L32: Valoración
F33: Raro (puede ocurrir excepcionalmente) | G33: 1 | J33: Insignificante | L33: 1
F34: Improbable (puede ocurrir ocasionalmente) | G34: 2 | J34: Menor | L34: 2
F35: Posible (puede ocurrir en cualquier momento futuro) | G35: 3 | J35: Moderado | L35: 3
F36: Probable (probablemente va a ocurrir) | G36: 4 | J36: Mayor | L36: 4
F37: Casi cierto (ocurre en la mayoria de circunstancias) | G37: 5 | J37: Catastrófico | L37: 5
D39: Valoración del Riesgo
D40: Catagoria | E40: Valoración | F40: Insignificante | H40: Menor | J40: Moderado | K40: Mayor | L40: Catastrófico | P40: Categoria del Riesgo
F41: 1 | H41: 2 | J41: 3 | K41: 4 | L41: 5 | P41: Valoración del Riesgo | S41: Categoría
D42: Raro (puede ocurrir excepcionalmente) | E42: 1 | F42: 2 | H42: 3 | J42: 4 | K42: 5 | L42: 6 | P42: 8, 9 y 10 | S42: Riesgo extremo
D43: Improbable (puede ocurrir ocasionalmente) | E43: 2 | F43: 3 | H43: 4 | J43: 5 | K43: 6 | L43: 7 | P43: 6 y 7 | S43: Riesgo alto
D44: Posible (puede ocurrir en cualquier momento futuro) | E44: 3 | F44: 4 | H44: 5 | J44: 6 | K44: 7 | L44: 8 | P44: 5 | S44: Riesgo medio
D45: Probable (probablemente va a ocurrir) | E45: 4 | F45: 5 | H45: 6 | J45: 7 | K45: 8 | L45: 9 | P45: 2, 3 y 4 | S45: Riesgo bajo
D46: Casi cierto (ocurre en la mayoria de circunstancias) | E46: 5 | F46: 6 | H46: 7 | J46: 8 | K46: 9 | L46: 10
B51: CONTRATISTA
B52: FDLT
B53: CONTRATISTA Y FDLT
