Workbook

Sheet GCO-040-PDT-002-f-016_Consolida
D1: CONSOLIDADO ESTUDIO DE LA OFERTA | G1: CODIGO: GCO-040-PDT-002-f-016
G2: VERSION: 6
B3: Objeto del contrato: | C3: Prestar el servicio integral de vigilancia y seguridad en las instalaciones del DANE a nivel nacional, para la permanente y adecuada protección de las personas, usuarios, bienes muebles e inmuebles
B4: Descripción del bien o servicio | C4: Cantidad | D4: PROSEGUR VIGILANCIA Y SEGURIDAD PRIVADA LTDA | E4: SEGURIDAD LASER LTDA | F4: VIGILANCIA ACOSTA | G4: Valor Unitario Promedio Incluido IVA | H4: Valor Unitario Promedio Incluido IVA (redondeado) | I4: Valor total promedio por ítem (para cantidad requerida) incluido IVA
D5: 46204 | E5: 46134 | F5: 46238
D6: Valor unitario incluido IVA | E6: Valor unitario incluido IVA | F6: Valor unitario incluido IVA
B7: SERVICIO MODALIDAD/MEDIO HUMANO (valor servicio mensual)
B8: SEDE: CAN - CENTRAL: 12 HORAS DIURNAS DE LUNES A VIERNES (MEDIOS TECNOLÓGICOS)/ SIN ARMA (UNIDAD) | C8: 1 | D8: 5761702 | E8: 5764573.7 | F8: 5762156.4 | G8: =+(D8+E8+F8)/3 -> 5762810.7 | H8: =ROUND(G8,0) -> 5762811 | I8: =+H8*C8 -> 5762811
B9: SEDE: CAN - CENTRAL: 12 HORAS DIURNAS DE LUNES A VIERNES / SIN ARMA (UNIDAD) | C9: 8 | D9: 5761702 | E9: 5764573.7 | F9: 5762156.4 | G9: =+(D9+E9+F9)/3 -> 5762810.7 | H9: =ROUND(G9,0) -> 5762811 | I9: =+H9*C9 -> 46102488
B10: SEDE: CAN - CENTRAL: 24 HORAS DE DOMINGO A DOMINGO (MEDIOS TECNOLOGICOS) / SIN ARMA (UNIDAD) | C10: 1 | D10: 19673809 | E10: 19683614 | F10: 19675361 | G10: =+(D10+E10+F10)/3 -> 19677595 | H10: =ROUND(G10,0) -> 19677595 | I10: =+H10*C10 -> 19677595
B11: SEDE: CAN - CENTRAL: 24 HORAS DE DOMINGO A DOMINGO / SIN ARMA (UNIDAD) | C11: 2 | D11: 19673809 | E11: 19683614 | F11: 19675361 | G11: =+(D11+E11+F11)/3 -> 19677595 | H11: =ROUND(G11,0) -> 19677595 | I11: =+H11*C11 -> 39355190
B12: SEDE: CAN - CENTRAL: 24 HORAS DE DOMINGO A DOMINGO / CON ARMA (UNIDAD) | C12: 1 | D12: 20038139 | E12: 20048126 | F12: 20039719 | G12: =+(D12+E12+F12)/3 -> 20041995 | H12: =ROUND(G12,0) -> 20041995 | I12: =+H12*C12 -> 20041995
B13: SEDE: CASA ESMERALDA: 12 HORAS DIURNAS DE LUNES A VIERNES / SIN ARMA (UNIDAD) | C13: 1 | D13: 5761702 | E13: 5764573.7 | F13: 5762156.4 | G13: =+(D13+E13+F13)/3 -> 5762810.7 | H13: =ROUND(G13,0) -> 5762811 | I13: =+H13*C13 -> 5762811
B14: SEDE: BOGOTA: 12 HORAS DIURNAS DE LUNES A VIERNES / SIN ARMA (UNIDAD) | C14: 2 | D14: 5761702 | E14: 5764573.7 | F14: 19675361 | G14: =+(D14+E14+F14)/3 -> 10400545 | H14: =ROUND(G14,0) -> 10400545 | I14: =+H14*C14 -> 20801090
B15: SEDE: BOGOTA: 24 HORAS DE DOMINGO A DOMINGO / CON ARMA (UNIDAD) | C15: 1 | D15: 20038139 | E15: 20048126 | F15: 20039719 | G15: =+(D15+E15+F15)/3 -> 20041995 | H15: =ROUND(G15,0) -> 20041995 | I15: =+H15*C15 -> 20041995
B16: SEDE: LETICIA: 12 HORAS DIURNAS DE LUNES A VIERNES / SIN ARMA (UNIDAD) | C16: 1 | D16: 5761702 | E16: 5764573.7 | F16: 5762156.4 | G16: =+(D16+E16+F16)/3 -> 5762810.7 | H16: =ROUND(G16,0) -> 5762811 | I16: =+H16*C16 -> 5762811
B17: SEDE: IBAGUÉ: 12 HORAS DIURNAS DE LUNES A VIERNES / SIN ARMA (UNIDAD) | C17: 1 | D17: 5761702 | E17: 5764573.7 | F17: 5762156.4 | G17: =+(D17+E17+F17)/3 -> 5762810.7 | H17: =ROUND(G17,0) -> 5762811 | I17: =+H17*C17 -> 5762811
B18: SEDE: BARRANQUILLA: 24 HORAS DE DOMINGO A DOMINGO / CON ARMA (UNIDAD) | C18: 1 | D18: 20038139 | E18: 20048126 | F18: 20039719 | G18: =+(D18+E18+F18)/3 -> 20041995 | H18: =ROUND(G18,0) -> 20041995 | I18: =+H18*C18 -> 20041995
B19: SEDE: CARTAGENA: 12 HORAS DIURNAS DE LUNES A VIERNES / SIN ARMA (UNIDAD) | C19: 1 | D19: 5761702 | E19: 5764573.7 | F19: 5762156.4 | G19: =+(D19+E19+F19)/3 -> 5762810.7 | H19: =ROUND(G19,0) -> 5762811 | I19: =+H19*C19 -> 5762811
... B41: SEDE: YOPAL: 12 HORAS DIURNAS DE LUNES A VIERNES / SIN ARMA (UNIDAD) | C41: 1 | D41: 5761702 | E41: 5764573.7 | F41: 5762156.4 | G41: =+(D41+E41+F41)/3 -> 5762810.7 | H41: =ROUND(G41,0) -> 5762811 | I41: =+H41*C41 -> 5762811
B42: SERVICIO MODALIDAD/ALQUILER INTEGRAL DE MEDIOS TECNOLÓGICOS (valor alquiler mensual)
A43: DANE CENTRAL | B43: Botón Pánico Inalámbrico Receptor De Pánico Inalámbrico Con Dos Pulsadores). (UNIDAD); | C43: 3 | D43: 178500 | E43: 142660 | F43: 192780 | G43: =+(D43+E43+F43)/3 -> 171313.33 | H43: =ROUND(G43,0) -> 171313 | I43: =+H43*C43 -> 513939
B44: Cámara Exterior (Bala) Cámara Tipo Bullet, 1080, 2Mp, 20M Ir, Ip66, 2,8Mm Ó 3,6Mm,0,01Lux). (UNIDAD); | C44: 20 | D44: 333200 | E44: 152850 | F44: 333200 | G44: =+(D44+E44+F44)/3 -> 273083.33 | H44: =ROUND(G44,0) -> 273083 | I44: =+H44*C44 -> 5461660
B45: Cámara Interior (Domo) Cámara Tipo Mini Domo, 1080, 2Mp, Ip66, D/N, 2,8Mm Ó 3,6Mm, 0,01Lux). (UNIDAD); | C45: 70 | D45: 309400 | E45: 132470 | F45: 261800 | G45: =+(D45+E45+F45)/3 -> 234556.67 | H45: =ROUND(G45,0) -> 234557 | I45: =+H45*C45 -> 16418990
B46: Cámaras (Ptz) Cyber Domo Ptz 2Mp, Ir Turbo, 1080, 25X Optical Zoom, 0,005Lux, Digital Zoom 16X, Lente Auto 4,8Mm - 120Mm, Pan 360°, Til 160°, 10 Patrones, 32 Presets, Ptz Posición Display On/Off). (UNIDAD); | C46: 4 | D46: 1785000 | E46: 1375650 | F46: 481950 | G46: =+(D46+E46+F46)/3 -> 1214200 | H46: =ROUND(G46,0) -> 1214200 | I46: =+H46*C46 -> 4856800
B47: Control acceso de ingreso y salida biometrico sin contacto, lectura de 4 dedos en simultaneo, lectura sin contacto, para altos volumenes de personal (20000), con lectura de tarjetas, codigo QR y software licenciado. (UNIDAD); | C47: 7 | D47: 1666000 | E47: 4076000 | F47: 1487500 | G47: =+(D47+E47+F47)/3 -> 2409833.3 | H47: =ROUND(G47,0) -> 2409833 | I47: =+H47*C47 -> 16868831
B48: Dvr (16) Dd 2Tb Dvr Hd 1080P, Trihibrido, Conectividad Tcp/Ip, Salida Video Hdmi/Vga, Interface Sata). (UNIDAD); | C48: 7 | D48: 476000 | E48: 458550 | F48: 931770 | G48: =+(D48+E48+F48)/3 -> 622106.67 | H48: =ROUND(G48,0) -> 622107 | I48: =+H48*C48 -> 4354749
B49: Gabinete Metálico Para Alojar Equipos, Puerta Con Chapa). (UNIDAD); | C49: 2 | D49: 142800 | E49: 203800 | F49: 452200 | G49: =+(D49+E49+F49)/3 -> 266266.67 | H49: =ROUND(G49,0) -> 266267 | I49: =+H49*C49 -> 532534
B50: Joystick 3D, Rs 485, Multiprotocolo, Hasta 255 Dispositivos,). (UNIDAD); | C50: 1 | D50: 380800 | E50: 458550 | F50: 1677900 | G50: =+(D50+E50+F50)/3 -> 839083.33 | H50: =ROUND(G50,0) -> 839083 | I50: =+H50*C50 -> 839083
B51: Magnéticos Contacto Magnético Nc). (UNIDAD); | C51: 0 | D51: 41650 | E51: 18342 | F51: 71400 | G51: =+(D51+E51+F51)/3 -> 43797.333 | H51: =ROUND(G51,0) -> 43797 | I51: =+H51*C51 -> 0
B52: Monitor (Televisor 49") Televisor 49" Tipo Led). (UNIDAD); | C52: 18 | D52: 309400 | E52: 1019000 | F52: 69377 | G52: =+(D52+E52+F52)/3 -> 465925.67 | H52: =ROUND(G52,0) -> 465926 | I52: =+H52*C52 -> 8386668
B53: Sensor Infrarrojo Doble Tecnología Sensor Infrarrojo Microondas). (UNIDAD); | C53: 0 | D53: 83300 | E53: 127375 | F53: 19159 | G53: =+(D53+E53+F53)/3 -> 76611.333 | H53: =ROUND(G53,0) -> 76611 | I53: =+H53*C53 -> 0
B54: Sistema de control de acceso de personal para funcionarios de la entidad, utilizando reconocimiento biométrico de huella o facial con capacidad total para 2500 usuarios, ubicados a nivel nacional | C54: 1 | D54: 1190000 | E54: 12228000 | F54: 1785000 | G54: =+(D54+E54+F54)/3 -> 5067666.7 | H54: =ROUND(G54,0) -> 5067667 | I54: =+H54*C54 -> 5067667
A55: CASA ESMERALDA | B55: Botón Pánico Inalámbrico Receptor De Pánico Inalámbrico Con Dos Pulsadores). (UNIDAD); | C55: 1 | D55: 178500 | E55: 142660 | F55: 192780 | G55: =+(D55+E55+F55)/3 -> 171313.33 | H55: =ROUND(G55,0) -> 171313 | I55: =+H55*C55 -> 171313
B56: Cámara Exterior (Bala) Cámara Tipo Bullet, 1080, 2Mp, 20M Ir, Ip66, 2,8Mm Ó 3,6Mm,0,01Lux). (UNIDAD); | C56: 2 | D56: 333200 | E56: 152850 | F56: 333200 | G56: =+(D56+E56+F56)/3 -> 273083.33 | H56: =ROUND(G56,0) -> 273083 | I56: =+H56*C56 -> 546166
B57: Cámara Interior (Domo) Cámara Tipo Mini Domo, 1080, 2Mp, Ip66, D/N, 2,8Mm Ó 3,6Mm, 0,01Lux). (UNIDAD); | C57: 7 | D57: 309400 | E57: 132470 | F57: 261800 | G57: =+(D57+E57+F57)/3 -> 234556.67 | H57: =ROUND(G57,0) -> 234557 | I57: =+H57*C57 -> 1641899
B58: Control acceso de ingreso y salida biometrico sin contacto, lectura de 4 dedos en simultaneo, lectura sin contacto, para altos volumenes de personal (20000), con lectura de tarjetas, codigo QR y software licenciado. (UNIDAD); | C58: 0 | D58: 1666000 | E58: 1375650 | F58: 1487500 | G58: =+(D58+E58+F58)/3 -> 1509716.7 | H58: =ROUND(G58,0) -> 1509717 | I58: =+H58*C58 -> 0
B59: Dvr (16) Dd 2Tb Dvr Hd 1080P, Trihibrido, Conectividad Tcp/Ip, Salida Video Hdmi/Vga, Interface Sata). (UNIDAD); | C59: 1 | D59: 476000 | E59: 458550 | F59: 931770 | G59: =+(D59+E59+F59)/3 -> 622106.67 | H59: =ROUND(G59,0) -> 622107 | I59: =+H59*C59 -> 622107
B60: Gabinete Metálico Para Alojar Equipos, Puerta Con Chapa). (UNIDAD); | C60: 0 | D60: 142800 | E60: 203800 | F60: 452200 | G60: =+(D60+E60+F60)/3 -> 266266.67 | H60: =ROUND(G60,0) -> 266267 | I60: =+H60*C60 -> 0
B61: Sensor Infrarrojo Doble Tecnología Sensor Infrarrojo Microondas). (UNIDAD); | C61: 0 | D61: 83300 | E61: 25475 | F61: 19159 | G61: =+(D61+E61+F61)/3 -> 42644.667 | H61: =ROUND(G61,0) -> 42645 | I61: =+H61*C61 -> 0
...

Sheet Costos
B1: Descripción del bien o servicio | C1: Cantidad Requerida | D1: VALOR UNITARIO CONTRATO ACTUAL | E1: VALOR UNITARIO INDEXADO 2026 | F1: VALOR UNITARIO COTIZACIONES 2026 | G1: Valor total promedio por ítem indexado(para cantidad requerida) incluido IVA | H1: Valor total promedio por ítem Cotizaciones incluido IVA
B4: SERVICIO MODALIDAD/MEDIO HUMANO (valor servicio mensual)
B5: SEDE: CAN - CENTRAL: 12 HORAS DIURNAS DE LUNES A VIERNES (MEDIOS TECNOLÓGICOS)/ SIN ARMA (UNIDAD) | C5: 1 | D5: 5761948.1 | E5: 5761948.1 | F5: ='GCO-040-PDT-002-f-016_Consolida'!H8 -> 5762811 | G5: =ROUNDUP(C5*E5,0) -> 5761949 | H5: =F5*C5 -> 5762811
B6: SEDE: CAN - CENTRAL: 12 HORAS DIURNAS DE LUNES A VIERNES / SIN ARMA (UNIDAD) | C6: 8 | D6: 5761948.1 | E6: 5761948.1 | F6: ='GCO-040-PDT-002-f-016_Consolida'!H9 -> 5762811 | G6: =ROUNDUP(C6*E6,0) -> 46095585 | H6: =F6*C6 -> 46102488
B7: SEDE: CAN - CENTRAL: 24 HORAS DE DOMINGO A DOMINGO (MEDIOS TECNOLOGICOS) / SIN ARMA (UNIDAD) | C7: 1 | D7: 19674535 | E7: 19674535 | F7: ='GCO-040-PDT-002-f-016_Consolida'!H10 -> 19677595 | G7: =ROUNDUP(C7*E7,0) -> 19674536 | H7: =F7*C7 -> 19677595
B8: SEDE: CAN - CENTRAL: 24 HORAS DE DOMINGO A DOMINGO / SIN ARMA (UNIDAD) | C8: 2 | D8: 19674535 | E8: 19674535 | F8: ='GCO-040-PDT-002-f-016_Consolida'!H11 -> 19677595 | G8: =ROUNDUP(C8*E8,0) -> 39349071 | H8: =F8*C8 -> 39355190
B9: SEDE: CAN - CENTRAL: 24 HORAS DE DOMINGO A DOMINGO / CON ARMA (UNIDAD) | C9: 1 | D9: 20038879 | E9: 20038879 | F9: ='GCO-040-PDT-002-f-016_Consolida'!H12 -> 20041995 | G9: =ROUNDUP(C9*E9,0) -> 20038879 | H9: =F9*C9 -> 20041995
B10: SEDE: CASA ESMERALDA: 12 HORAS DIURNAS DE LUNES A VIERNES / SIN ARMA (UNIDAD) | C10: 1 | D10: 5761948.1 | E10: 5761948.1 | F10: ='GCO-040-PDT-002-f-016_Consolida'!H13 -> 5762811 | G10: =ROUNDUP(C10*E10,0) -> 5761949 | H10: =F10*C10 -> 5762811
B11: SEDE: BOGOTA: 12 HORAS DIURNAS DE LUNES A VIERNES / SIN ARMA (UNIDAD) | C11: 2 | D11: 5761948.1 | E11: 5761948.1 | F11: ='GCO-040-PDT-002-f-016_Consolida'!H14 -> 10400545 | G11: =ROUNDUP(C11*E11,0) -> 11523897 | H11: =F11*C11 -> 20801090
B12: SEDE: BOGOTA: 24 HORAS DE DOMINGO A DOMINGO / CON ARMA (UNIDAD) | C12: 1 | D12: 20038879 | E12: 20038879 | F12: ='GCO-040-PDT-002-f-016_Consolida'!H15 -> 20041995 | G12: =ROUNDUP(C12*E12,0) -> 20038879 | H12: =F12*C12 -> 20041995
B13: SEDE: LETICIA: 12 HORAS DIURNAS DE LUNES A VIERNES / SIN ARMA (UNIDAD) | C13: 1 | D13: 5654512.4 | E13: 5654512.4 | F13: ='GCO-040-PDT-002-f-016_Consolida'!H16 -> 5762811 | G13: =ROUNDUP(C13*E13,0) -> 5654513 | H13: =F13*C13 -> 5762811
B14: SEDE: IBAGUÉ: 12 HORAS DIURNAS DE LUNES A VIERNES / SIN ARMA (UNIDAD) | C14: 1 | D14: 5761948.1 | E14: 5761948.1 | F14: ='GCO-040-PDT-002-f-016_Consolida'!H17 -> 5762811 | G14: =ROUNDUP(C14*E14,0) -> 5761949 | H14: =F14*C14 -> 5762811
B15: SEDE: BARRANQUILLA: 24 HORAS DE DOMINGO A DOMINGO / CON ARMA (UNIDAD) | C15: 1 | D15: 20038879 | E15: 20038879 | F15: ='GCO-040-PDT-002-f-016_Consolida'!H18 -> 20041995 | G15: =ROUNDUP(C15*E15,0) -> 20038879 | H15: =F15*C15 -> 20041995
B16: SEDE: CARTAGENA: 12 HORAS DIURNAS DE LUNES A VIERNES / SIN ARMA (UNIDAD) | C16: 1 | D16: 5761948.1 | E16: 5761948.1 | F16: ='GCO-040-PDT-002-f-016_Consolida'!H19 -> 5762811 | G16: =ROUNDUP(C16*E16,0) -> 5761949 | H16: =F16*C16 -> 5762811
... B38: SEDE: YOPAL: 12 HORAS DIURNAS DE LUNES A VIERNES / SIN ARMA (UNIDAD) | C38: 1 | D38: 5761948.1 | E38: 5761948.1 | F38: ='GCO-040-PDT-002-f-016_Consolida'!H41 -> 5762811 | G38: =ROUNDUP(C38*E38,0) -> 5761949 | H38: =F38*C38 -> 5762811
B39: SERVICIO MODALIDAD/ALQUILER INTEGRAL DE MEDIOS TECNOLÓGICOS (valor alquiler mensual)
A40: DANE CENTRAL | B40: Botón Pánico Inalámbrico Receptor De Pánico Inalámbrico Con Dos Pulsadores). (UNIDAD); | C40: 3 | D40: 97956.59 | E40: =D40*1.0614 -> 103971.12 | F40: ='GCO-040-PDT-002-f-016_Consolida'!H43 -> 171313 | G40: =ROUNDUP(C40*E40,0) -> 311914 | H40: =F40*C40 -> 513939
B41: Cámara Exterior (Bala) Cámara Tipo Bullet, 1080, 2Mp, 20M Ir, Ip66, 2,8Mm Ó 3,6Mm,0,01Lux). (UNIDAD); | C41: 20 | D41: 209207.36 | E41: =D41*1.0614 -> 222052.69 | F41: ='GCO-040-PDT-002-f-016_Consolida'!H44 -> 273083 | G41: =ROUNDUP(C41*E41,0) -> 4441054 | H41: =F41*C41 -> 5461660
B42: Cámara Interior (Domo) Cámara Tipo Mini Domo, 1080, 2Mp, Ip66, D/N, 2,8Mm Ó 3,6Mm, 0,01Lux). (UNIDAD); | C42: 70 | D42: 205377.72 | E42: =D42*1.0614 -> 217987.91 | F42: ='GCO-040-PDT-002-f-016_Consolida'!H45 -> 234557 | G42: =ROUNDUP(C42*E42,0) -> 15259154 | H42: =F42*C42 -> 16418990
B43: Cámaras (Ptz) Cyber Domo Ptz 2Mp, Ir Turbo, 1080, 25X Optical Zoom, 0,005Lux, Digital Zoom 16X, Lente Auto 4,8Mm - 120Mm, Pan 360°, Til 160°, 10 Patrones, 32 Presets, Ptz Posición Display On/Off). (UNIDAD); | C43: 4 | D43: 388995.52 | E43: =D43*1.0614 -> 412879.84 | F43: ='GCO-040-PDT-002-f-016_Consolida'!H46 -> 1214200 | G43: =ROUNDUP(C43*E43,0) -> 1651520 | H43: =F43*C43 -> 4856800
B44: Control acceso de ingreso y salida biometrico sin contacto, lectura de 4 dedos en simultaneo, lectura sin contacto, para altos volumenes de personal (20000), con lectura de tarjetas, codigo QR y software licenciado. (UNIDAD); | C44: 7 | D44: 4590752.6 | E44: =D44*1.0614 -> 4872624.8 | F44: ='GCO-040-PDT-002-f-016_Consolida'!H47 -> 2409833 | G44: =ROUNDUP(C44*E44,0) -> 34108374 | H44: =F44*C44 -> 16868831
B45: Dvr (16) Dd 2Tb Dvr Hd 1080P, Trihibrido, Conectividad Tcp/Ip, Salida Video Hdmi/Vga, Interface Sata). (UNIDAD); | C45: 7 | D45: 595200.06 | E45: =D45*1.0614 -> 631745.34 | F45: ='GCO-040-PDT-002-f-016_Consolida'!H48 -> 622107 | G45: =ROUNDUP(C45*E45,0) -> 4422218 | H45: =F45*C45 -> 4354749
B46: Gabinete Metálico Para Alojar Equipos, Puerta Con Chapa). (UNIDAD); | C46: 2 | D46: 304733.79 | E46: =D46*1.0614 -> 323444.44 | F46: ='GCO-040-PDT-002-f-016_Consolida'!H49 -> 266267 | G46: =ROUNDUP(C46*E46,0) -> 646889 | H46: =F46*C46 -> 532534
B47: Joystick 3D, Rs 485, Multiprotocolo, Hasta 255 Dispositivos,). (UNIDAD); | C47: 1 | D47: 1310141.5 | E47: =D47*1.0614 -> 1390584.2 | F47: ='GCO-040-PDT-002-f-016_Consolida'!H50 -> 839083 | G47: =ROUNDUP(C47*E47,0) -> 1390585 | H47: =F47*C47 -> 839083
B48: Magnéticos Contacto Magnético Nc). (UNIDAD); | C48: 0 | D48: 0 | E48: =D48*1.0614 -> 0 | F48: ='GCO-040-PDT-002-f-016_Consolida'!H51 -> 43797 | G48: =ROUNDUP(C48*E48,0) -> 0 | H48: =F48*C48 -> 0
B49: Monitor (Televisor 49") Televisor 49" Tipo Led). (UNIDAD); | C49: 18 | D49: 40669.27 | E49: =D49*1.0614 -> 43166.363 | F49: ='GCO-040-PDT-002-f-016_Consolida'!H52 -> 465926 | G49: =ROUNDUP(C49*E49,0) -> 776995 | H49: =F49*C49 -> 8386668
B50: Sensor Infrarrojo Doble Tecnología Sensor Infrarrojo Microondas). (UNIDAD); | C50: 0 | D50: 0 | E50: =D50*1.0614 -> 0 | F50: ='GCO-040-PDT-002-f-016_Consolida'!H53 -> 76611 | G50: =ROUNDUP(C50*E50,0) -> 0 | H50: =F50*C50 -> 0
B51: Sistema de control de acceso de personal para funcionarios de la entidad, utilizando reconocimiento biométrico de huella o facial con capacidad total para 2500 usuarios, ubicados a nivel nacional | C51: 1 | D51: 886737.12 | E51: =D51*1.0614 -> 941182.78 | F51: ='GCO-040-PDT-002-f-016_Consolida'!H54 -> 5067667 | G51: =ROUNDUP(C51*E51,0) -> 941183 | H51: =F51*C51 -> 5067667
A52: CASA ESMERALDA | B52: Botón Pánico Inalámbrico Receptor De Pánico Inalámbrico Con Dos Pulsadores). (UNIDAD); | C52: 1 | D52: 97956.59 | E52: =D52*1.0614 -> 103971.12 | F52: ='GCO-040-PDT-002-f-016_Consolida'!H55 -> 171313 | G52: =ROUNDUP(C52*E52,0) -> 103972 | H52: =F52*C52 -> 171313
B53: Cámara Exterior (Bala) Cámara Tipo Bullet, 1080, 2Mp, 20M Ir, Ip66, 2,8Mm Ó 3,6Mm,0,01Lux). (UNIDAD); | C53: 2 | D53: 209207.36 | E53: =D53*1.0614 -> 222052.69 | F53: ='GCO-040-PDT-002-f-016_Consolida'!H56 -> 273083 | G53: =ROUNDUP(C53*E53,0) -> 444106 | H53: =F53*C53 -> 546166
B54: Cámara Interior (Domo) Cámara Tipo Mini Domo, 1080, 2Mp, Ip66, D/N, 2,8Mm Ó 3,6Mm, 0,01Lux). (UNIDAD); | C54: 7 | D54: 205377.72 | E54: =D54*1.0614 -> 217987.91 | F54: ='GCO-040-PDT-002-f-016_Consolida'!H57 -> 234557 | G54: =ROUNDUP(C54*E54,0) -> 1525916 | H54: =F54*C54 -> 1641899
B55: Control acceso de ingreso y salida biometrico sin contacto, lectura de 4 dedos en simultaneo, lectura sin contacto, para altos volumenes de personal (20000), con lectura de tarjetas, codigo QR y software licenciado. (UNIDAD); | C55: 0 | D55: 4590752.6 | E55: =D55*1.0614 -> 4872624.8 | F55: ='GCO-040-PDT-002-f-016_Consolida'!H58 -> 1509717 | G55: =ROUNDUP(C55*E55,0) -> 0 | H55: =F55*C55 -> 0
B56: Dvr (16) Dd 2Tb Dvr Hd 1080P, Trihibrido, Conectividad Tcp/Ip, Salida Video Hdmi/Vga, Interface Sata). (UNIDAD); | C56: 1 | D56: 595200.06 | E56: =D56*1.0614 -> 631745.34 | F56: ='GCO-040-PDT-002-f-016_Consolida'!H59 -> 622107 | G56: =ROUNDUP(C56*E56,0) -> 631746 | H56: =F56*C56 -> 622107
B57: Gabinete Metálico Para Alojar Equipos, Puerta Con Chapa). (UNIDAD); | C57: 0 | E57: =D57*1.0614 -> 0 | F57: ='GCO-040-PDT-002-f-016_Consolida'!H60 -> 266267 | G57: =ROUNDUP(C57*E57,0) -> 0 | H57: =F57*C57 -> 0
B58: Sensor Infrarrojo Doble Tecnología Sensor Infrarrojo Microondas). (UNIDAD); | C58: 0 | E58: =D58*1.0614 -> 0 | F58: ='GCO-040-PDT-002-f-016_Consolida'!H61 -> 42645 | G58: =ROUNDUP(C58*E58,0) -> 0 | H58: =F58*C58 -> 0
A59: BODEGA PUERTAS DEL SOL | B59: Botón Pánico Inalámbrico Receptor De Pánico Inalámbrico Con Dos Pulsadores). (UNIDAD); | C59: 0 | D59: 97956.59 | E59: =D59*1.0614 -> 103971.12 | F59: ='GCO-040-PDT-002-f-016_Consolida'!H62 -> 276610 | G59: =ROUNDUP(C59*E59,0) -> 0 | H59: =F59*C59 -> 0
B60: Cámara Interior (Domo) Cámara Tipo Mini Domo, 1080, 2Mp, Ip66, D/N, 2,8Mm Ó 3,6Mm, 0,01Lux). (UNIDAD); | C60: 0 | D60: 205377.72 | E60: =D60*1.0614 -> 217987.91 | F60: ='GCO-040-PDT-002-f-016_Consolida'!H63 -> 234557 | G60: =ROUNDUP(C60*E60,0) -> 0 | H60: =F60*C60 -> 0
B61: Dvr (16) Dd 2Tb Dvr Hd 1080P, Trihibrido, Conectividad Tcp/Ip, Salida Video Hdmi/Vga, Interface Sata). (UNIDAD); | C61: 0 | D61: 595200.06 | E61: =D61*1.0614 -> 631745.34 | F61: ='GCO-040-PDT-002-f-016_Consolida'!H64 -> 622107 | G61: =ROUNDUP(C61*E61,0) -> 0 | H61: =F61*C61 -> 0
B62: Gabinete Metálico Para Alojar Equipos, Puerta Con Chapa). (UNIDAD); | C62: 0 | D62: 0 | E62: =D62*1.0614 -> 0 | F62: ='GCO-040-PDT-002-f-016_Consolida'!H65 -> 266267 | G62: =ROUNDUP(C62*E62,0) -> 0 | H62: =F62*C62 -> 0
B63: Sensor Infrarrojo Doble Tecnología Sensor Infrarrojo Microondas). (UNIDAD); | C63: 0 | D63: 0 | E63: =D63*1.0614 -> 0 | F63: ='GCO-040-PDT-002-f-016_Consolida'!H66 -> 42645 | G63: =ROUNDUP(C63*E63,0) -> 0 | H63: =F63*C63 -> 0
...

Sheet Proyección Costos
B1: Costos por territorial
C2: 2026 | G2: 2027 | K2: 2028 | O2: 2029
B3: TERRITORIAL | C3: TOTAL PERSONAL HUMANO - SERVICIOS | D3: Valor total promedio incluido IVA | E3: TOTAL MEDIOS (ELEMENTOS) | F3: Valor total promedio incluido IVA | G3: TOTAL PERSONAL HUMANO | H3: Valor total promedio incluido IVA | I3: TOTAL MEDIOS (ELEMENTOS) | J3: Valor total promedio incluido IVA | K3: TOTAL PERSONAL HUMANO | L3: Valor total promedio incluido IVA | M3: TOTAL MEDIOS (ELEMENTOS) | N3: Valor total promedio incluido IVA | O3: TOTAL PERSONAL HUMANO | P3: Valor total promedio incluido IVA | Q3: TOTAL MEDIOS (ELEMENTOS) | R3: Valor total promedio incluido IVA
B4: DANE CENTRAL | C4: 14 | D4: =SUM(Costos!G5:G10) -> 136681969 | E4: =SUM(Costos!C40:C63) -> 144 | F4: =SUM(Costos!G40:G63) -> 66655626 | G4: 14 | H4: =(D4*$E$17)+D4 -> 1.4611302e+08 | I4: 144 | J4: =(F4*$F$17)+F4 -> 66655626 | K4: 14 | L4: =(H4*$E$18)+H4 -> 1.5414924e+08 | M4: 144 | N4: =(J4*$F$18)+J4 -> 66655626 | O4: 14 | P4: =(L4*$E$19)+L4 -> 1.6231915e+08 | Q4: 144 | R4: =(N4*$F$19)+N4 -> 66655626
B5: CENTRO | C5: 5 | D5: =SUM(Costos!G11:G14) -> 42979238 | E5: =SUM(Costos!C64:C91) -> 61 | F5: =SUM(Costos!G64:G91) -> 14657930 | G5: 5 | H5: =(D5*$E$17)+D5 -> 45944805 | I5: 61 | J5: =(F5*$F$17)+F5 -> 14657930 | K5: 5 | L5: =(H5*$E$18)+H5 -> 48471770 | M5: 61 | N5: =(J5*$F$18)+J5 -> 14657930 | O5: 5 | P5: =(L5*$E$19)+L5 -> 51040774 | Q5: 61 | R5: =(N5*$F$19)+N5 -> 14657930
B6: NORTE | C6: 8 | D6: =SUM(Costos!G15:G22) -> 60265086 | E6: =SUM(Costos!C92:C158) -> 125 | F6: =SUM(Costos!G92:G158) -> 26011858 | G6: 8 | H6: =(D6*$E$17)+D6 -> 64423377 | I6: 125 | J6: =(F6*$F$17)+F6 -> 26011858 | K6: 8 | L6: =(H6*$E$18)+H6 -> 67966663 | M6: 125 | N6: =(J6*$F$18)+J6 -> 26011858 | O6: 8 | P6: =(L6*$E$19)+L6 -> 71568896 | Q6: 125 | R6: =(N6*$F$19)+N6 -> 26011858
B7: CENTRO ORIENTE | C7: 4 | D7: =SUM(Costos!G23:G26) -> 23047796 | E7: =SUM(Costos!C159:C192) -> 47 | F7: =SUM(Costos!G159:G192) -> 10083652 | G7: 4 | H7: =(D7*$E$17)+D7 -> 24638094 | I7: 47 | J7: =(F7*$F$17)+F7 -> 10083652 | K7: 4 | L7: =(H7*$E$18)+H7 -> 25993189 | M7: 47 | N7: =(J7*$F$18)+J7 -> 10083652 | O7: 4 | P7: =(L7*$E$19)+L7 -> 27370828 | Q7: 47 | R7: =(N7*$F$19)+N7 -> 10083652
B8: SUROCCIDENTE | C8: 4 | D8: =SUM(Costos!G27:G30) -> 37324726 | E8: =SUM(Costos!C193:C228) -> 57 | F8: =SUM(Costos!G193:G228) -> 12610800 | G8: 4 | H8: =(D8*$E$17)+D8 -> 39900132 | I8: 57 | J8: =(F8*$F$17)+F8 -> 12610800 | K8: 4 | L8: =(H8*$E$18)+H8 -> 42094639 | M8: 57 | N8: =(J8*$F$18)+J8 -> 12610800 | O8: 4 | P8: =(L8*$E$19)+L8 -> 44325655 | Q8: 57 | R8: =(N8*$F$19)+N8 -> 12610800
B9: NOROCCIDENTE | C9: 4 | D9: =SUM(Costos!G31:G34) -> 51237313 | E9: =SUM(Costos!C229:C266) -> 66 | F9: =SUM(Costos!G229:G266) -> 18867099 | G9: 4 | H9: =(D9*$E$17)+D9 -> 54772688 | I9: 66 | J9: =(F9*$F$17)+F9 -> 18867099 | K9: 4 | L9: =(H9*$E$18)+H9 -> 57785185 | M9: 66 | N9: =(J9*$F$18)+J9 -> 18867099 | O9: 4 | P9: =(L9*$E$19)+L9 -> 60847800 | Q9: 66 | R9: =(N9*$F$19)+N9 -> 18867099
B10: SURORIENTE | C10: 4 | D10: =SUM(Costos!G35:G38) -> 37324726 | E10: =SUM(Costos!C267:C326) -> 72 | F10: =SUM(Costos!G267:G326) -> 16161348 | G10: 4 | H10: =(D10*$E$17)+D10 -> 39900132 | I10: 72 | J10: =(F10*$F$17)+F10 -> 16161348 | K10: 4 | L10: =(H10*$E$18)+H10 -> 42094639 | M10: 72 | N10: =(J10*$F$18)+J10 -> 16161348 | O10: 4 | P10: =(L10*$E$19)+L10 -> 44325655 | Q10: 72 | R10: =(N10*$F$19)+N10 -> 16161348
B11: TOTALES | C11: =SUM(C4:C10) -> 43 | D11: =SUM(D4:D10) -> 388860854 | E11: =SUM(E4:E10) -> 572 | F11: =SUM(F4:F10) -> 165048313 | G11: =SUM(G4:G10) -> 43 | H11: =SUM(H4:H10) -> 4.1569225e+08 | I11: =SUM(I4:I10) -> 572 | J11: =SUM(J4:J10) -> 165048313 | ... R11: =SUM(R4:R10) -> 165048313
C15: VIGENCIA | D15: MESES | E15: TASA % TH | F15: % IPC | K15: =(E23*E17)+E23 -> 4.1569225e+08 | L15: =(F23*E18)+F23 -> 4.3855533e+08 | M15: =(G23*E19)+G23 -> 4.6179876e+08
C16: 2026 | D16: 2 | E16: N/A | H16: El total del incremento corresponde a la sumatoria de la tasa de incremento del salario mínimo + la tasa de incremento del IPC para los medios. NOTA: Para la vigencia 2026, teniendo en cuenta los valores cotizados, no se aplican tasa teniendo en cuenta que dichos valores cuentan con los incrementos establecido por ley.
C17: 2027 | D17: 12 | E17: 0.069 | F17: 0 | G17: =E17+F17 -> 0.069
C18: 2028 | D18: 12 | E18: 0.055 | F18: 0 | G18: =E18+F18 -> 0.055
C19: 2029 | D19: 11 | E19: 0.053 | F19: 0 | G19: =E19+F19 -> 0.053
C20: TOTAL | D20: =SUM(D16:D19) -> 37
C22: CONCEPTO | D22: CANTIDAD | E22: Valor Prom. Cotizaciones 2026 | F22: 2027 | G22: 2028 | H22: 2029 | I22: TOTALES
C23: Talento Humano | E23: =D11 -> 388860854 | F23: =E23+(E23*E17) -> 4.1569225e+08 | G23: =F23+(F23*E18) -> 4.3855533e+08 | H23: =G23+(G23*E19) -> 4.6179876e+08 | I23: =SUM(E23:H23) -> 1.7049072e+09
C24: Medios Tecnologicos | E24: =F11 -> 165048313 | F24: =E24+(E24*F17) -> 165048313 | G24: =F24+(F24*F18) -> 165048313 | H24: =G24+(G24*F19) -> 165048313 | I24: =SUM(E24:H24) -> 660193252
C25: TOTAL MES | E25: =SUM(E23:E24) -> 553909167 | F25: =SUM(F23:F24) -> 5.8074057e+08 | G25: =SUM(G23:G24) -> 6.0360364e+08 | H25: =SUM(H23:H24) -> 6.2684707e+08 | I25: =SUM(I23:I24) -> 2.3651004e+09
C26: TOTAL VIGENCIA | E26: 1107818334 | F26: 6.9688868e+09 | G26: 7.2432437e+09 | H26: 6.8953178e+09 | I26: =SUM(E26:H26) -> 2.2215267e+10 | J26: =I26/1750905 -> 12687.877
C27: TOTAL REDONDEADO | E27: =ROUND(E26,0) -> 1107818334 | F27: =ROUND(F26,0) -> 6968886791 | G27: =ROUND(G26,0) -> 7243243678 | H27: =ROUND(H26,0) -> 6895317794 | I27: =SUM(E27:H27) -> 22215266597
C29: CONCEPTO | D29: VALOR APALANCAMIENTO | E29: VALOR VF | F29: TOTAL CONTRATO
C30: Talento Humano | D30: =+E23*D16 -> 777721708 | E30: =+(F23*12)+(G23*12)+(H23*11) -> 1.5330757e+10 | F30: =+D30+E30 -> 1.6108479e+10
C31: Medios Tecnologicos | D31: =+E24*D16 -> 330096626 | E31: =+(F24*12)+(G24*12)+(H24*11) -> 5776690955 | F31: =+D31+E31 -> 6106787581
C32: TOTAL VIGENCIA | D32: =SUM(D30:D31) -> 1107818334 | E32: =SUM(E30:E31) -> 2.1107448e+10 | F32: =+D32+E32 -> 2.2215267e+10
C33: TOTAL REDONDEADO | D33: =ROUND(D32,0) -> 1107818334 | E33: =ROUND(E32,0) -> 21107448263 | F33: =+D33+E33 -> 22215266597
C35: BASE PROYECCIÓN: Las proyecciones de IPC se estiman con base en las expectativas del Banco de la República y escenarios macroeconómicos del Gobierno Nacional, considerando una convergencia gradual hacia la meta de inflación de largo plazo (3%).
C36: IPC BASE | D36: Datos DANE
D37: Tendencia decreciente post choque inflacionario
D38: Meta de inflación: 3% Banco de la República.
B41: Impactos directos en vigilancia:
B42: 1. Incremento salarial base (normativo) | C42: 2. REFORMA LABORAL | D42: OBSERVACIONES
B43: Regla típica: Incremento = IPC causado + factor adicional (~1,5% – 2%) | C43: 1. Recargo nocturno desde 7pm (antes 9pm) | D43: La proyección de costos de talento humano se estimó considerando: (i) incrementos salariales definidos por el Gobierno Nacional (IPC más factor adicional), (ii) el efecto del salario mínimo sobre estructuras de costos del sector de vigilancia, y (iii) el impacto de la reforma laboral, especialmente en recargos nocturnos, dominicales y reducción de jornada, lo cual genera un incremento estructural en servicios intensivos en turnos 24/7.
C44: 2. Dominicales: 2026: hasta 90% 2027: hasta 100%
C45: 3. Reducción jornada laboral (42h)
C46: Impacto estimado sectorial: +8% a +12% sobre costos laborales

Sheet Resumen Vigencias
C2: VIGENCIA | D2: MESES | E2: COSTO | F2: VL. REDONDEADO
C3: 2026 | D3: 2 | E3: ='Proyección Costos'!E27 -> 1107818334 | F3: ='Proyección Costos'!E27 -> 1107818334
C4: 2027 | D4: 12 | E4: 6.9688868e+09 | F4: ='Proyección Costos'!F27 -> 6968886791
C5: 2028 | D5: 12 | E5: 7.2432437e+09 | F5: ='Proyección Costos'!G27 -> 7243243678
C6: 2029 | D6: 11 | E6: 6.8953178e+09 | F6: ='Proyección Costos'!H27 -> 6895317794
C7: TOTAL | D7: =SUM(D3:D6) -> 37 | E7: =SUM(E3:E6) -> 2.2215267e+10 | F7: =ROUNDUP(SUM(F3:F6),0) -> 22215266597
