Workbook

Sheet Hoja1
B2: SEGMENTO | C2: FAMILIA | D2: CLASE | E2: PRODUCTO | F2: NOMBRE PRODUCTO
B3: 85 - Servicios de salud | C3: 8515 – Servicios alimenticios y de nutrición | D3: 851516-Asuntos nutricionales | E3: 85151600 | F3: Asuntos nutricionales
E4: 85151601 | F4: Servicios de programación de la nutrición
E5: 85151604 | F5: Evaluación de proyectos nutricionales
D6: 851515-Tecnología de alimentos | E6: 85151504 | F6: Servicio de asesoría o control en la preparación de alomentos
E7: 85151505 | F7: Estudios sobre alimentos o hábitos alimentarios
B8: 42-Equipo médico, accesorios y suministros | C8: 4215-Equipos y suministros dentales | D8: 421519-Equipo y suministros para higiene dental y cuidado preventivo | E8: 42151625 | F8: Instrumentos de higiene dental
B9: 14-Materiales y productos de papel | C9: 1411 Productos de papel | D9: - | E9: - | F9: -
B10: 82-Servicios editoriales, de diseño, de artes gráficas y bellas artes | C10: 8212-servicios de reproducción | D10: 821215- impresión | E10: 82121507 | F10: Impresión de papelería
B11: 80-Servicios de gestión, servicios profesionales de empresa y servicios administrativos | C11: 8011-Servicios de recursos humanos | D11: 801116-Servicios de personal temporal | E11: 80111622 | F11: Servicios temporales ambientales en salud y seguridad
B12: 49-Equipos y suministros de laboratorio, de medición, de observación y de pruebas. | C12: 4920-Equipos para entrenamiento físico | D12: 492015-Equipo de entrenemiento para aeróbicos | E12: 49201512 | F12: Lazos para saltar
E13: 49201514 | F13: Pelotas para ejercicio
D14: 492016-Equipo de entremiento de peso y resistencia | E14: 49201601 | F14: Pesas
E15: 49201611 | F15: Bandas de resistencia

Sheet Códigos
A1: CLASE | B1: 800089897 | C1: 830075011 | D1: 830097194 | E1: 830097372 | F1: 901584606 | G1: 900224490 | H1: 901516442 | I1: 901621981 | J1: 901274287 | K1: 900031454 | L1: 901301234 | M1: 900996902 | N1: 901323736 | O1: 900369179 | P1: 900068796 | Q1: 900565133 | R1: 900916649 | S1: 860006543 | T1: 900438648 | U1: 901384390 | V1: 900582854 | W1: 900135771 | X1: 901417108 | Y1: 900350733 | Z1: 900657161 | AA1: 900046728 | AB1: 900575427 | AC1: 901389989 | AD1: 901334579 | AE1: 900011545 | AF1: 900845290 | AG1: 901180925 | AH1: 901064542
A2: 93141500 | B2: Si | C2: Si | D2: Si | E2: No | F2: No | G2: Si | H2: Si | I2: Si | J2: No | K2: No | L2: Si | M2: Si | N2: Si | O2: Si | P2: Si | Q2: Si | R2: Si | S2: No | T2: Si | U2: Si | V2: Si | W2: No | X2: Si | Y2: No | Z2: Si | AA2: Si | AB2: Si | AC2: Si | AD2: No | AE2: No | AF2: Si | AG2: Si | AH2: Si
A3: 93141700 | B3: Si | C3: Si | D3: Si | E3: Si | F3: Si | G3: Si | H3: Si | I3: Si | J3: No | K3: No | L3: Si | M3: Si | N3: No | O3: Si | P3: Si | Q3: Si | R3: Si | S3: Si | T3: Si | U3: Si | V3: Si | W3: Si | X3: Si | Y3: Si | Z3: Si | AA3: Si | AB3: Si | AC3: Si | AD3: No | AE3: No | AF3: Si | AG3: Si | AH3: Si
A4: 86101700 | B4: Si | C4: Si | D4: Si | E4: No | F4: No | G4: No | H4: Si | I4: Si | J4: No | K4: Si | L4: No | M4: Si | N4: No | O4: Si | P4: Si | Q4: Si | R4: Si | S4: Si | T4: Si | U4: No | V4: Si | W4: Si | X4: Si | Y4: No | Z4: Si | AA4: Si | AB4: Si | AC4: Si | AD4: Si | AE4: Si | AF4: Si | AG4: Si | AH4: Si
A5: 86110000 | B5: No | C5: No | D5: No | E5: No | F5: No | G5: No | H5: No | I5: No | J5: No | K5: No | L5: No | M5: No | N5: No | O5: No | P5: No | Q5: No | R5: No | S5: No | T5: No | U5: No | V5: No | W5: No | X5: No | Y5: No | Z5: No | AA5: No | AB5: No | AC5: No | AD5: No | AE5: No | AF5: No | AG5: No | AH5: No
A6: 82101600 | B6: No | C6: Si | D6: No | E6: Si | F6: Si | G6: No | H6: No | I6: Si | J6: No | K6: Si | L6: No | M6: Si | N6: No | O6: Si | P6: Si | Q6: Si | R6: Si | S6: Si | T6: Si | U6: Si | V6: Si | W6: No | X6: Si | Y6: Si | Z6: Si | AA6: No | AB6: Si | AC6: Si | AD6: No | AE6: No | AF6: Si | AG6: Si | AH6: Si
A7: 82121500 | B7: No | C7: Si | D7: Si | E7: Si | F7: Si | G7: No | H7: Si | I7: Si | J7: No | K7: Si | L7: No | M7: No | N7: No | O7: Si | P7: Si | Q7: Si | R7: Si | S7: Si | T7: No | U7: No | V7: Si | W7: Si | X7: Si | Y7: No | Z7: Si | AA7: Si | AB7: Si | AC7: Si | AD7: Si | AE7: Si | AF7: Si | AG7: Si | AH7: Si
A8: 90151800 | B8: No | C8: Si | D8: No | E8: Si | F8: No | G8: No | H8: Si | I8: Si | J8: No | K8: No | L8: No | M8: Si | N8: No | O8: Si | P8: Si | Q8: Si | R8: Si | S8: Si | T8: Si | U8: No | V8: Si | W8: No | X8: Si | Y8: Si | Z8: Si | AA8: Si | AB8: Si | AC8: Si | AD8: No | AE8: No | AF8: Si | AG8: Si | AH8: Si
A9: 90101600 | B9: No | C9: Si | D9: Si | E9: Si | F9: Si | G9: Si | H9: Si | I9: Si | J9: No | K9: No | L9: No | M9: Si | N9: No | O9: Si | P9: Si | Q9: Si | R9: Si | S9: Si | T9: Si | U9: No | V9: Si | W9: No | X9: Si | Y9: Si | Z9: Si | AA9: Si | AB9: Si | AC9: Si | AD9: No | AE9: No | AF9: Si | AG9: Si | AH9: Si
A10: 80111600 | B10: Si | C10: Si | D10: Si | E10: Si | F10: No | G10: Si | H10: Si | I10: Si | J10: No | K10: Si | L10: Si | M10: Si | N10: No | O10: Si | P10: Si | Q10: Si | R10: Si | S10: Si | T10: Si | U10: Si | V10: Si | W10: Si | X10: Si | Y10: Si | Z10: Si | AA10: Si | AB10: Si | AC10: Si | AD10: Si | AE10: Si | AF10: Si | AG10: Si | AH10: Si
A11: 81141600 | B11: No | C11: No | D11: Si | E11: No | F11: Si | G11: Si | H11: No | I11: Si | J11: No | K11: No | L11: No | M11: Si | N11: No | O11: Si | P11: Si | Q11: Si | R11: Si | S11: Si | T11: Si | U11: Si | V11: Si | W11: No | X11: Si | Y11: Si | Z11: Si | AA11: Si | AB11: Si | AC11: Si | AD11: No | AE11: Si | AF11: No | AG11: Si | AH11: Si
A12: 82131600 | B12: Si | C12: Si | D12: Si | E12: Si | F12: No | G12: No | H12: Si | I12: No | J12: No | K12: No | L12: No | M12: No | N12: No | O12: Si | P12: Si | Q12: Si | R12: Si | S12: Si | T12: Si | U12: No | V12: Si | W12: No | X12: No | Y12: Si | Z12: Si | AA12: No | AB12: No | AC12: No | AD12: No | AE12: No | AF12: Si | AG12: Si | AH12: Si
A13: 93141500 | B13: Si | C13: Si | D13: Si | E13: No | F13: No | G13: Si | H13: Si | I13: Si | J13: No | K13: No | L13: Si | M13: Si | N13: Si | O13: Si | P13: Si | Q13: Si | R13: Si | S13: No | T13: Si | U13: Si | V13: Si | W13: No | X13: Si | Y13: No | Z13: Si | AA13: Si | AB13: Si | AC13: Si | AD13: No | AE13: No | AF13: Si | AG13: Si | AH13: Si
B14: =COUNTIF(B2:B13,"Si") -> 6 | C14: =COUNTIF(C2:C13,"Si") -> 10 | D14: =COUNTIF(D2:D13,"Si") -> 9 | E14: =COUNTIF(E2:E13,"Si") -> 7 | F14: =COUNTIF(F2:F13,"Si") -> 5 | G14: =COUNTIF(G2:G13,"Si") -> 6 | H14: =COUNTIF(H2:H13,"Si") -> 9 | I14: =COUNTIF(I2:I13,"Si") -> 10 | ... AH14: =COUNTIF(AH2:AH13,"Si") -> 11

Sheet MUESTRA DEF
E1: INDICADORES DE CAPACIDAD FINANCIERA | H1: INDICADORES DE CAPACIDAD ORGANIZACIONAL
B2: COD | C2: RAZON SOCIAL | D2: Codigos con los que cumple | E2: INDICE DE LIQUIDEZ | F2: INDICE ENDEUDAMIENTO | G2: COBERTURA DE INTERESES | H2: RENTABILIDAD DEL PATRIMONIO | I2: RENTABILIDAD DEL ACTIVO | J2: Fuente de Informacion | K2: Año Información
A3: 1 | B3: M7490 - Otras actividades profesionales, científicas y técnicas n.c.p. | C3: Enfragen Colombia S.A.S | D3: Se valido con CIIU | E3: 1.41 | F3: 0.27 | G3: -0.71 | H3: -0.34 | I3: -0.25 | J3: Superintendencia de Sociedades
A4: =+A3+1 -> 2 | B4: M7490 - Otras actividades profesionales, científicas y técnicas n.c.p. | C4: MANUELITA CORPORATIVA SAS | D4: Se valido con CIIU | E4: 1.57 | F4: 0.53 | G4: -0.47 | H4: -0.36 | I4: -0.17 | J4: Superintendencia de Sociedades
A5: =+A4+1 -> 3 | B5: M7490 - Otras actividades profesionales, científicas y técnicas n.c.p. | C5: Mawdy S.A.S. | D5: Se valido con CIIU | E5: 2.1 | F5: 0.47 | G5: -6.97 | H5: -0.24 | I5: -0.12 | J5: Superintendencia de Sociedades
A6: =+A5+1 -> 4 | B6: M7490 - Otras actividades profesionales, científicas y técnicas n.c.p. | C6: MANAL S.A.S. | D6: Se valido con CIIU | E6: 0.02 | F6: 0.3 | G6: -0.49 | H6: -0.15 | I6: -0.11 | J6: Superintendencia de Sociedades
A7: =+A6+1 -> 5 | B7: M7490 - Otras actividades profesionales, científicas y técnicas n.c.p. | C7: ORACLE COLOMBIA LTDA | D7: Se valido con CIIU | E7: 0.81 | F7: 0.8 | G7: -0.8 | H7: -0.41 | I7: -0.08 | J7: Superintendencia de Sociedades
A8: =+A7+1 -> 6 | B8: M7490 - Otras actividades profesionales, científicas y técnicas n.c.p. | C8: ConTREEbute S.A.S. | D8: Se valido con CIIU | E8: 1.87 | F8: 0.63 | G8: -0.99 | H8: -0.22 | I8: -0.08 | J8: Superintendencia de Sociedades
A9: =+A8+1 -> 7 | B9: M7490 - Otras actividades profesionales, científicas y técnicas n.c.p. | C9: VENISE SAS | D9: Se valido con CIIU | E9: 33.59 | F9: 0.01 | G9: -567.92 | H9: -0.05 | I9: -0.05 | J9: Superintendencia de Sociedades
A10: =+A9+1 -> 8 | B10: M7490 - Otras actividades profesionales, científicas y técnicas n.c.p. | C10: RED HAT COLOMBIA S.A.S. | D10: Se valido con CIIU | E10: 0.96 | F10: 0.96 | G10: -6.32 | H10: -0.71 | I10: -0.03 | J10: Superintendencia de Sociedades
A11: =+A10+1 -> 9 | B11: M7490 - Otras actividades profesionales, científicas y técnicas n.c.p. | C11: PROMOTORA HACIENDA LAS FLORES S.A.S. | D11: Se valido con CIIU | E11: 0.72 | F11: 0.73 | G11: -0.98 | H11: -0.1 | I11: -0.03 | J11: Superintendencia de Sociedades
A12: =+A11+1 -> 10 | B12: 860006543 | C12: SOCIEDAD TEQUENDAMA S.A. | D12: =IFERROR(HLOOKUP(B12,Códigos!$B$1:$AH$14,14,0),"no hay informacion") -> 9 | E12: 0.89 | F12: 0.3 | G12: -1.2 | H12: 0 | I12: 0 | J12: RUES
A13: =+A12+1 -> 11 | B13: M7490 - Otras actividades profesionales, científicas y técnicas n.c.p. | C13: Uniban Inversiones S.A.S. | D13: Se valido con CIIU | E13: 0.22 | F13: 0.01 | G13: 1.41 | H13: 0 | I13: 0 | J13: Superintendencia de Sociedades
A14: =+A13+1 -> 12 | B14: M7490 - Otras actividades profesionales, científicas y técnicas n.c.p. | C14: camel ingenieria & servicios limitada | D14: Se valido con CIIU | E14: 13.35 | F14: 0.68 | G14: 1.72 | H14: 0 | I14: 0 | J14: Superintendencia de Sociedades
A15: =+A14+1 -> 13 | B15: M7490 - Otras actividades profesionales, científicas y técnicas n.c.p. | C15: VALKAM SAS | D15: Se valido con CIIU | E15: 0.07 | F15: 0.05 | G15: INDETERMINADO | H15: 0 | I15: 0 | J15: Superintendencia de Sociedades
A16: =+A15+1 -> 14 | B16: M7490 - Otras actividades profesionales, científicas y técnicas n.c.p. | C16: NEGOCIOS EL SOL S.A.S | D16: Se valido con CIIU | E16: INDETERMINADO | F16: 1 | G16: INDETERMINADO | H16: 0 | I16: 0 | J16: Superintendencia de Sociedades
A17: =+A16+1 -> 15 | B17: M7490 - Otras actividades profesionales, científicas y técnicas n.c.p. | C17: LUISIANA INMOBILIARIA S.A.S. | D17: Se valido con CIIU | E17: 5.65 | F17: 0.27 | G17: INDETERMINADO | H17: 0.02 | I17: 0.01 | J17: Superintendencia de Sociedades
A18: =+A17+1 -> 16 | B18: M7490 - Otras actividades profesionales, científicas y técnicas n.c.p. | C18: AGFA HEALTHCARE COLOMBIA LTDA | D18: Se valido con CIIU | E18: 1.21 | F18: 0.75 | G18: 5.08 | H18: 0.05 | I18: 0.01 | J18: Superintendencia de Sociedades
A19: =+A18+1 -> 17 | B19: M7490 - Otras actividades profesionales, científicas y técnicas n.c.p. | C19: INVERSIONES PINAMAR S.A. | D19: Se valido con CIIU | E19: 15.27 | F19: 0.07 | G19: INDETERMINADO | H19: 0.02 | I19: 0.02 | J19: Superintendencia de Sociedades
A20: =+A19+1 -> 18 | B20: M7490 - Otras actividades profesionales, científicas y técnicas n.c.p. | C20: Entrehogar SAS | D20: Se valido con CIIU | E20: 0.12 | F20: 0.26 | G20: 6.94 | H20: 0.03 | I20: 0.02 | J20: Superintendencia de Sociedades
A21: =+A20+1 -> 19 | B21: 901417108 | C21: REDSUMMA | D21: =IFERROR(HLOOKUP(B21,Códigos!$B$1:$AH$14,14,0),"no hay informacion") -> 10 | E21: 1.09 | F21: 0.91 | G21: INDETERMINADO | H21: 0.25 | I21: 0.02 | J21: RUES
A22: =+A21+1 -> 20 | B22: M7490 - Otras actividades profesionales, científicas y técnicas n.c.p. | C22: Exxonmobil South America (Pacific Coast) Limited | D22: Se valido con CIIU | E22: 3.54 | F22: 0.55 | G22: 7.54 | H22: 0.06 | I22: 0.03 | J22: Superintendencia de Sociedades
A23: =+A22+1 -> 21 | B23: M7490 - Otras actividades profesionales, científicas y técnicas n.c.p. | C23: MOTOROLA MOBILITY COLOMBIA S A S | D23: Se valido con CIIU | E23: 1.4 | F23: 0.71 | G23: 1.83 | H23: 0.11 | I23: 0.03 | J23: Superintendencia de Sociedades
A24: =+A23+1 -> 22 | B24: M7490 - Otras actividades profesionales, científicas y técnicas n.c.p. | C24: INVERSIONES Y OPERACIONES COMERCIALES DEL SUR S.A. | D24: Se valido con CIIU | E24: 0.3 | F24: 0.83 | G24: 103.8 | H24: 0.16 | I24: 0.03 | J24: Superintendencia de Sociedades
A25: =+A24+1 -> 23 | B25: M7490 - Otras actividades profesionales, científicas y técnicas n.c.p. | C25: RED ASSIST SAS - EN REORGANIZACION | D25: Se valido con CIIU | E25: 0.5 | F25: 3.13 | G25: 0.41 | H25: -0.02 | I25: 0.04 | J25: Superintendencia de Sociedades
A26: =+A25+1 -> 24 | B26: M7490 - Otras actividades profesionales, científicas y técnicas n.c.p. | C26: SOCIEDAD DE INVERSIONES DE LA COSTA PACIFICA S.A | D26: Se valido con CIIU | E26: 0.91 | F26: 0.6 | G26: 11.41 | H26: 0.09 | I26: 0.04 | J26: Superintendencia de Sociedades
A27: =+A26+1 -> 25 | B27: M7490 - Otras actividades profesionales, científicas y técnicas n.c.p. | C27: SPORTS SERVICES SOUTH AMERICA SAS | D27: Se valido con CIIU | E27: 0.73 | F27: 0.75 | G27: 2.76 | H27: 0.16 | I27: 0.04 | J27: Superintendencia de Sociedades
A28: =+A27+1 -> 26 | B28: 901584606 | C28: RGB ESTUDIO CREATIVO S.A.S | D28: =IFERROR(HLOOKUP(B28,Códigos!$B$1:$AH$14,14,0),"no hay informacion") -> 5 | E28: 2.73 | F28: 0.04 | G28: 59.37 | H28: 0.05 | I28: 0.05 | J28: RUES
A29: =+A28+1 -> 27 | B29: M7490 - Otras actividades profesionales, científicas y técnicas n.c.p. | C29: EL GROSELLO S.A.S. | D29: Se valido con CIIU | E29: 47.28 | F29: 0 | G29: 6985.3 | H29: 0.06 | I29: 0.06 | J29: Superintendencia de Sociedades
A30: =+A29+1 -> 28 | B30: 900369179 | C30: EVENTOS Y PROTOCOLO EMPRESARIAL S.A.S. | D30: =IFERROR(HLOOKUP(B30,Códigos!$B$1:$AH$14,14,0),"no hay informacion") -> 11 | E30: 3.41 | F30: 0.33 | G30: 2.76 | H30: 0.09 | I30: 0.06 | J30: RUES
A31: =+A30+1 -> 29 | B31: R9329 - Otras actividades recreativas y de esparcimiento n.c.p. | C31: RECREFAM SAS | D31: Se valido con CIIU | E31: 1.2 | F31: 0.48 | G31: 0.56 | H31: 0.11 | I31: 0.06 | J31: Superintendencia de Sociedades
A32: =+A31+1 -> 30 | B32: 900350733 | C32: EVENPRO ENTRETENIMIENTO SAS | D32: =IFERROR(HLOOKUP(B32,Códigos!$B$1:$AH$14,14,0),"no hay informacion") -> 7 | E32: 1.86 | F32: 0.5 | G32: 15.62 | H32: 0.13 | I32: 0.06 | J32: RUES | K32: 2025
A33: =+A32+1 -> 31 | B33: 900120539 | C33: CORPORACION ARTE CULTURA TECNOLOGIA Y SOCIAL | D33: =IFERROR(HLOOKUP(B33,Códigos!$B$1:$AH$14,14,0),"no hay informacion") -> no hay informacion | E33: 1.36 | F33: 0.5 | G33: 37.15 | H33: 0.72 | I33: 0.36 | J33: RUES | K33: Entidad sin animo de lucro
A34: =+A33+1 -> 32 | B34: M7490 - Otras actividades profesionales, científicas y técnicas n.c.p. | C34: GESTION Y OPERACION DE LA COSTA SAS | D34: Se valido con CIIU | E34: 0.31 | F34: 0.64 | G34: 5.54 | H34: 0.21 | I34: 0.08 | J34: Superintendencia de Sociedades | K34: 2026
A35: =+A34+1 -> 33 | B35: 901774581 | C35: DAP LOGISTICA Y EVENTOS S.A.S. | D35: =IFERROR(HLOOKUP(B35,Códigos!$B$1:$AH$14,14,0),"no hay informacion") -> no hay informacion | E35: 2.69 | F35: 0.34 | G35: 9.48 | H35: 0.1 | I35: 0.07 | J35: RUES | K35: No esta el RUP
A36: =+A35+1 -> 34 | B36: 901516442 | C36: INVERSIONES & LOGISTICA BENGALA SAS | D36: =IFERROR(HLOOKUP(B36,Códigos!$B$1:$AH$14,14,0),"no hay informacion") -> 9 | E36: 4.9 | F36: 0.34 | G36: 22.25 | H36: 0.14 | I36: 0.09 | J36: RUES | K36: 2026
A37: =+A36+1 -> 35 | B37: 900011545 | C37: MANEJO TÉCNICO DE INFORMACIÓN S.A. | D37: =IFERROR(HLOOKUP(B37,Códigos!$B$1:$AH$14,14,0),"no hay informacion") -> 4 | E37: 1.01 | F37: 0.7 | G37: 2.02 | H37: 0.32 | I37: 0.09 | J37: RUES | K37: 2026
A38: =+A37+1 -> 36 | B38: 901274287 | C38: FUPMEPAZ | D38: =IFERROR(HLOOKUP(B38,Códigos!$B$1:$AH$14,14,0),"no hay informacion") -> 0 | E38: 90.02 | F38: 0.05 | G38: 79 | H38: 0.42 | I38: 0.4 | J38: RUES | K38: 2026 - NO aplica no tiene códigos para el proceso
A39: =+A38+1 -> 37 | B39: 900438648 | C39: DIABEN SAS | D39: =IFERROR(HLOOKUP(B39,Códigos!$B$1:$AH$14,14,0),"no hay informacion") -> 10 | E39: 1.2 | F39: 0.69 | G39: 4.55 | H39: 0.32 | I39: 0.1 | J39: RUES | K39: 2026
A40: =+A39+1 -> 38 | B40: 901064542 | C40: AKTIVA SOLUTIONS COLOMBIA SAS | D40: =IFERROR(HLOOKUP(B40,Códigos!$B$1:$AH$14,14,0),"no hay informacion") -> 11 | E40: 2.08 | F40: 0.36 | G40: INDETERMINADO | H40: 0.17 | I40: 0.11 | J40: RUES | K40: 2026
...

Sheet INDICADORES
B1: PODADO 46% | C1: PODADO 46% | D1: PODADO 46% | E1: PODADO 46% | F1: PODADO 58%
B2: LIQUIDEZ | C2: ENDEUDAM | D2: RENTABILIDAD SOBRE PATRIMONIO | E2: RENTABILIDAD SOBRE ACTIVOS | F2: RAZON DE COBERTURA DE INTERESES | I2: LIQUIDEZ | J2: RAZON DE COBERTURA DE INTERESES | L2: RENTABILIDAD SOBRE PATRIMONIO | M2: RENTABILIDAD SOBRE ACTIVOS | N2: ENDEUDAM
A3: 1 | B3: 0.02 | C3: 0 | D3: -2.56 | E3: -0.25 | F3: -567.92 | I3: 0.46 | J3: 0.58 | L3: 0.46 | M3: 0.46 | N3: 0.46
A4: 2 | B4: 0.07 | C4: 0 | D4: -0.71 | E4: -0.17 | F4: -6.97 | I4: =60*I3 -> 27.6 | J4: =48*J3 -> 27.84 | L4: =61*L3 -> 28.06 | M4: =61*M3 -> 28.06 | N4: =61*N3 -> 28.06
A5: 3 | B5: 0.08 | C5: 0.01 | D5: -0.41 | E5: -0.12 | F5: -6.32
A6: 4 | B6: 0.12 | C6: 0.01 | D6: -0.36 | E6: -0.11 | F6: -1.2
A7: 5 | B7: 0.22 | C7: 0.03 | D7: -0.34 | E7: -0.08 | F7: -0.99 | I7: COBERTURA DE LA MUESTRA
A8: 6 | B8: 0.3 | C8: 0.04 | D8: -0.24 | E8: -0.08 | F8: -0.98 | I8: LIQUIDEZ | J8: =27/34 -> 0.79411765
A9: 7 | B9: 0.31 | C9: 0.05 | D9: -0.22 | E9: -0.05 | F9: -0.8
A10: 8 | B10: 0.39 | C10: 0.06 | D10: -0.16 | E10: -0.03 | F10: -0.71 | I10: ENDEUDAMIENTO | J10: =32/34 -> 0.94117647
A11: 9 | B11: 0.5 | C11: 0.07 | D11: -0.15 | E11: -0.03 | F11: -0.49
A12: 10 | B12: 0.72 | C12: 0.11 | D12: -0.1 | E12: 0 | F12: -0.47 | I12: INTERESES | J12: =30/34 -> 0.88235294
A13: 11 | B13: 0.73 | C13: 0.15 | D13: -0.05 | E13: 0 | F13: 0
A14: 12 | B14: 0.81 | C14: 0.16 | D14: -0.02 | E14: 0 | F14: 0.41 | I14: PATRIMONIO | J14: =34/34 -> 1
A15: 13 | B15: 0.89 | C15: 0.19 | D15: 0 | E15: 0 | F15: 0.56
A16: 14 | B16: 0.91 | C16: 0.19 | D16: 0 | E16: 0 | F16: 1.07
A17: 1 | I17: 14
A18: 2 | I18: ACTIVOS | J18: =34/34 -> 1
A19: 3
A20: 4
A21: 5
A22: 6
A23: 7
A24: 8
A25: 9
A26: 10
A27: 11
A28: 12
A29: 13
A30: 14
A31: 15 | B31: 0.96 | C31: 0.23 | D31: 0 | E31: 0.01 | F31: 1.41
A32: 16 | B32: 1.01 | C32: 0.24 | D32: 0 | E32: 0.01 | F32: 1.72
A33: 17 | B33: 1.09 | C33: 0.24 | D33: 0 | E33: 0.02 | F33: 1.83
A34: 18 | B34: 1.2 | C34: 0.26 | D34: 0.02 | E34: 0.02 | F34: 2.02
A35: 19 | B35: 1.2 | C35: 0.27 | D35: 0.02 | E35: 0.02 | F35: 2.76
A36: 20 | B36: 1.21 | C36: 0.27 | D36: 0.03 | E36: 0.03 | F36: 2.76
A37: 21 | B37: 1.4 | C37: 0.3 | D37: 0.05 | E37: 0.03 | F37: 3.4
A38: 22 | B38: 1.41 | C38: 0.3 | D38: 0.05 | E38: 0.03 | F38: 3.43
A39: 23 | B39: 1.57 | C39: 0.3 | D39: 0.06 | E39: 0.04 | F39: 4.55
A40: 24 | B40: 1.61 | C40: 0.33 | D40: 0.06 | E40: 0.04 | F40: 4.96
...

Sheet CONSOLIDADO
B2: INDICADORES DE CAPACIDAD FINANCIERA Y ORGANIZACIONAL FDL DE SAN CRISTOBAL
B3: PROCESO: Contrato de Selección Abreviada de Menor Cuantía
B4: OBJETO DEL PROCESO: “PRESTAR LOS SERVICIOS DE APOYO LOGÍSTICO, TÉCNICO Y PEDAGÓGICO PARA LA EJECUCIÓN DE LAS INICIATIVAS DE PRESUPUESTOS PARTICIPATIVOS ORIENTADOS AL FORTALECIMIENTO DE EMPRENDIMIENTOS, CAPACITACIÓN EN TECNOLOGÍAS DE LA INFORMACIÓN CON ENFOQUE EN INTELIGENCIA ARTIFICIAL, CARACTERIZACIÓN DE POBLACIÓN EN ESPACIO PÚBLICO Y PROMOCIÓN DE DERECHOS CON ENFOQUE DE GÉNERO, DIRIGIDOS A LA POBLACIÓN VÍCTIMA DEL CONFLICTO ARMADO”.
B5: PRESUPUESTO OFICIAL: Quinientos Noventa y Siete Millones Trescientos Mil pesos M/Cte. ($597.300.000) . (Incluido IVA)
B6: El analisis de los indicadores financieros se establecio con base en la siguiente información: del portal de información empresarial de la Superintendencia de sociedades , identificando la información financiera con corte a 31 de diciembre del 2024 de empresas del sector a nivel a Nacional, para las actividades económicas: 7490, 9006 y 9329 identificando una base de 29 empresas de la economía nacional que desarrolla el código anteriormente mencionado, los cuales guardan relación con el sector y las actividades a ejecutar en el presente proceso contractual. Adicional, se tienen en cuenta 37 empresas con el código 931417 de desarrollo de eventos culturales, con información encontrada en RUES: Empresas de los sectores a nivel nacional que registran alguna o algunas de las actividades mencionadas, se verificó y evidenció que los indicadores de capacidad financiera y organizacional fijados fueran satisfactorios
B10: INDICADORES FINANCIEROS | H10: OBSERVACIONES
H11: ÁREA FINANCIERA
B13: Indíce de Liquidez | C13: = | D13: Activo Corriente | E13: = | F13: 1.17 | H13: De acuerdo a la muestra general para este indicador se analizaron 60 empresas, en el análisis estadístico se utilizó el metodo DE MEDIA PODADA CON LIMITE MAXIMO Y MINIMO, con una poda del 46%, que arrojó un resultado de límite mínimo 1,17.
D15: Pasivo Corriente
B18: Nivel de Endeudamiento | C18: = | D18: Pasivo Total | E18: = | F18: ≤ 59% | H18: De acuerdo a la muestra general para este indicador se analizaron 61 empresas, en el análisis estadístico se utilizó el metodo DE MEDIA PODADA CON LIMITE MAXIMO Y MINIMO, con una poda del 46%, que arrojó un resultado de límite mínimo 59%.
D19: ActivoTotal
B21: Razón Cobertura de intereses | C21: = | D21: Utilidad Operacional | E21: = | F21: ≥ 1,41 | H21: De acuerdo a la muestra general para este indicador se analizaron 48 empresas, en el análisis estadístico se utilizó el metodo DE MEDIA PODADA CON LIMITE MAXIMO Y MINIMO, con una poda del 58%, que arrojó un resultado de límite mínimo 1,41.
D22: Gasto de Intereses
B24: Rentabilidad sobre Patrimonio | C24: = | D24: Utilidad Operacional | E24: = | F24: ≥ 0,04 | H24: De acuerdo a la muestra general para este indicador se analizaron 61 empresas, en el análisis estadístico se utilizó el metodo DE MEDIA PODADA CON LIMITE MAXIMO Y MINIMO, con una poda del 46%, que arrojó un resultado de límite mínimo 0,04.
D25: Patrimonio
B27: Rentabilidad sobre Activos | C27: = | D27: Utilidad Operacional | E27: = | F27: ≥ 0,02 | H27: De acuerdo a la muestra general para este indicador se analizaron 61 empresas, en el análisis estadístico se utilizó el metodo DE MEDIA PODADA CON LIMITE MAXIMO Y MINIMO, con una poda del 46%, que arrojó un resultado de límite mínimo 0,02.
D28: Activos
B30: ELABORO: Jully Estefanny Camacho Angel -Profesional del Area de Planeación.
B31: REVISO: Darwin Cristancho
B32: 46158

Sheet ANÁLISIS METODOLOGÍA
A1: ANÁLISIS DE METODOLOGÍA PARA DETERMINACIÓN DE INDICADORES FINANCIEROS
A2: Proceso contractual — blindaje vs. pluralidad de oferentes
A4: 1. DIAGNÓSTICO DE LA FÓRMULA ACTUAL
A5: La hoja INDICADORES (filas 107-108) calcula los umbrales como:
A6: • Indicadores de mínimo: Promedio − Desviación estándar
A7: • Indicadores de máximo: Promedio + Desviación estándar
A9: Problemas identificados:
A10: 1. SUPUESTO DE NORMALIDAD INCUMPLIDO
A11: Promedio ± 1σ asume distribución normal y simétrica. Los datos están fuertemente sesgados (asimétricos).
A12: Evidencia: en Cobertura de Intereses, promedio podado = 11.33 pero mediana = 5.52 (sesgo a la derecha).
A13: En Liquidez, promedio = 3.14 vs. mediana = 2.20. La desviación se infla por colas extremas.
A15: 2. UMBRALES SIN SENTIDO ECONÓMICO
... A36: 3. TABLA COMPARATIVA — UMBRAL ACTUAL vs. PROPUESTA POR PERCENTILES
A38: Indicador | B38: Tipo | C38: Promedio | D38: Mediana (P50) | E38: Desv. Est. | F38: Percentil 25 (Q1) | G38: Percentil 75 (Q3) | H38: Umbral ACTUAL (Prom±Desv) | I38: Umbral SUGERIDO | J38: Justificación
A39: Liquidez | B39: Mínimo (≥) | C39: =AVERAGE(INDICADORES!B17:B82) -> 2.5425 | D39: =MEDIAN(INDICADORES!B17:B82) -> 2.09 | E39: =_xlfn.STDEV.S(INDICADORES!B17:B82) -> 1.3676422 | F39: =_xlfn.PERCENTILE.INC(INDICADORES!B17:B82,0.25) -> 1.53 | G39: =_xlfn.PERCENTILE.INC(INDICADORES!B17:B82,0.75) -> 3.415 | H39: =C39-E39 -> 1.1748578 | I39: =F39 -> 1.53 | J39: Q1: 75% de oferentes cumplen → alta pluralidad. Filtra empresas con baja liquidez.
A40: Endeudamiento | B40: Máximo (≤) | C40: =AVERAGE(INDICADORES!C17:C82) -> 0.43818182 | D40: =MEDIAN(INDICADORES!C17:C82) -> 0.42 | E40: =_xlfn.STDEV.S(INDICADORES!C17:C82) -> 0.1468727 | F40: =_xlfn.PERCENTILE.INC(INDICADORES!C17:C82,0.25) -> 0.3 | G40: =_xlfn.PERCENTILE.INC(INDICADORES!C17:C82,0.75) -> 0.55 | H40: =C40+E40 -> 0.58505452 | I40: =G40 -> 0.55 | J40: Q3: 75% cumplen. Filtra al 25% más endeudado. Protege contra empresas sobreapalancadas.
A41: Rentabilidad Patrimonio | B41: Mínimo (≥) | C41: =AVERAGE(INDICADORES!D17:D82) -> 0.16333333 | D41: =MEDIAN(INDICADORES!D17:D82) -> 0.16 | E41: =_xlfn.STDEV.S(INDICADORES!D17:D82) -> 0.11883988 | F41: =_xlfn.PERCENTILE.INC(INDICADORES!D17:D82,0.25) -> 0.06 | G41: =_xlfn.PERCENTILE.INC(INDICADORES!D17:D82,0.75) -> 0.25 | H41: =C41-E41 -> 0.044493455 | I41: =F41 -> 0.06 | J41: Q1: exige rentabilidad real. El umbral actual (~0.2%) acepta empresas casi sin utilidad.
A42: Rentabilidad Activos | B42: Mínimo (≥) | C42: =AVERAGE(INDICADORES!E17:E82) -> 0.10030303 | D42: =MEDIAN(INDICADORES!E17:E82) -> 0.08 | E42: =_xlfn.STDEV.S(INDICADORES!E17:E82) -> 0.078878263 | F42: =_xlfn.PERCENTILE.INC(INDICADORES!E17:E82,0.25) -> 0.04 | G42: =_xlfn.PERCENTILE.INC(INDICADORES!E17:E82,0.75) -> 0.16 | H42: =C42-E42 -> 0.021424768 | I42: =F42 -> 0.04 | J42: Q1: exige rentabilidad efectiva sobre activos. Mismo problema que ROE en el método actual.
A43: Cobertura de Intereses | B43: Mínimo (≥) | C43: =AVERAGE(INDICADORES!F17:F82) -> 6.202 | D43: =MEDIAN(INDICADORES!F17:F82) -> 5.02 | E43: =_xlfn.STDEV.S(INDICADORES!F17:F82) -> 4.3454593 | F43: =_xlfn.PERCENTILE.INC(INDICADORES!F17:F82,0.25) -> 2.76 | G43: =_xlfn.PERCENTILE.INC(INDICADORES!F17:F82,0.75) -> 8.0625 | H43: =C43-E43 -> 1.8565407 | I43: =D43 -> 5.02 | J43: Distribución muy sesgada → se usa MEDIANA. Garantiza que el oferente cubre intereses (>1).
A45: 4. ANÁLISIS DE PLURALIDAD — ¿CUÁNTOS OFERENTES CUMPLEN CADA UMBRAL?
A46: Muestra podada: 66 empresas (filas 17 a 82 de hoja INDICADORES)
A48: Indicador | B48: Cumplen umbral ACTUAL | C48: % Cumplen ACTUAL | D48: Cumplen umbral SUGERIDO | E48: % Cumplen SUGERIDO | F48: Lectura
A49: Liquidez (≥) | B49: =COUNTIF(INDICADORES!B17:B82,">="&H39) -> 29 | C49: =B49/COUNT(INDICADORES!B17:B82) -> 0.90625 | D49: =COUNTIF(INDICADORES!B17:B82,">="&I39) -> 24 | E49: =D49/COUNT(INDICADORES!B17:B82) -> 0.75 | F49: Q1 garantiza ~75% de pluralidad por construcción.
A50: Endeudamiento (≤) | B50: =COUNTIF(INDICADORES!C17:C82,"<="&H40) -> 26 | C50: =B50/COUNT(INDICADORES!C17:C82) -> 0.78787879 | D50: =COUNTIF(INDICADORES!C17:C82,"<="&I40) -> 25 | E50: =D50/COUNT(INDICADORES!C17:C82) -> 0.75757576 | F50: Q3 garantiza ~75% de pluralidad por construcción.
A51: Rent. Patrimonio (≥) | B51: =COUNTIF(INDICADORES!D17:D82,">="&H41) -> 27 | C51: =B51/COUNT(INDICADORES!D17:D82) -> 0.81818182 | D51: =COUNTIF(INDICADORES!D17:D82,">="&I41) -> 25 | E51: =D51/COUNT(INDICADORES!D17:D82) -> 0.75757576 | F51: Actual: casi todos pasan → no blinda. Sugerido: filtra ~25% más débil.
A52: Rent. Activos (≥) | B52: =COUNTIF(INDICADORES!E17:E82,">="&H42) -> 28 | C52: =B52/COUNT(INDICADORES!E17:E82) -> 0.84848485 | D52: =COUNTIF(INDICADORES!E17:E82,">="&I42) -> 25 | E52: =D52/COUNT(INDICADORES!E17:E82) -> 0.75757576 | F52: Mismo patrón que ROE.
A53: Cobertura Intereses (≥) | B53: =COUNTIF(INDICADORES!F17:F82,">="&H43) -> 17 | C53: =B53/COUNT(INDICADORES!F17:F82) -> 0.85 | D53: =COUNTIF(INDICADORES!F17:F82,">="&I43) -> 10 | E53: =D53/COUNT(INDICADORES!F17:F82) -> 0.5 | F53: Actual acepta empresas que NO cubren intereses (umbral negativo). Sugerido exige cobertura real.
A55: 5. CONCLUSIONES Y RECOMENDACIÓN
A57: Hallazgo crítico:
A58: El umbral ACTUAL de Cobertura de Intereses (−3.43) permite que el 100% de la muestra cumpla,
A59: incluyendo empresas con cobertura negativa (no pagan intereses con su utilidad operativa).
A60: Esto NO blinda el proceso — elimina por completo el filtro financiero de capacidad de pago.
A62: El umbral ACTUAL de Rentabilidad (Patrimonio y Activos) cercano a 0% deja pasar prácticamente
A63: todas las empresas con utilidad simbólica — 81% y 87% respectivamente — sin garantías de
A64: que el oferente tenga una operación financieramente sana.
A66: Recomendación:
A67: Reemplazar la fórmula Promedio±Desviación por umbrales basados en percentiles (columna I):
A68: • Liquidez ≥ Q1 de la muestra
A69: • Endeudamiento ≤ Q3 de la muestra
... A82: • Ley 80 de 1993, Art. 5 y Ley 1150 de 2007, Art. 5 — principios de pluralidad y selección objetiva

Sheet MUESTRA FILTRADA
A1: DEPURACIÓN DE MUESTRA Y CÁLCULO DE INDICADORES POR PERCENTILES
A2: FDL San Cristóbal — Selección Abreviada de Menor Cuantía
A4: 1. SUSTENTO METODOLÓGICO
A6: Criterios de depuración de la muestra:
A7: 1. Se excluyen empresas cuya columna "Códigos con los que cumple" indica "no hay informacion".
A8: Justificación: si la empresa no aporta códigos CIIU verificables para el objeto contractual,
A9: no es comparable y distorsiona los estadísticos del sector.
A10: 2. Por cada indicador se excluyen los valores "INDETERMINADO" (no numéricos).
A11: Justificación: razones financieras sin denominador válido (p.ej. gastos de interés = 0)
A12: no son operables matemáticamente — incluirlas como cero o como dato sesga la distribución.
A14: Método estadístico aplicado: PERCENTILES DE LA MUESTRA DEPURADA
A15: • Indicadores de mínimo (Liquidez, Rentabilidades) → Percentil 25 (Q1)
... A25: 2. MUESTRA DEPURADA — EMPRESAS CON CÓDIGO VÁLIDO
A27: N° | B27: Razón Social | C27: Cód. Cumple | D27: Liquidez | E27: Endeudam. | F27: Cobertura Int. | G27: Rent. Patrim. | H27: Rent. Activos | I27: Incluida
A28: ='MUESTRA DEF'!A3 -> 1 | B28: ='MUESTRA DEF'!C3 -> Enfragen Colombia S.A.S | C28: ='MUESTRA DEF'!D3 -> Se valido con CIIU | D28: ='MUESTRA DEF'!E3 -> 1.41 | E28: ='MUESTRA DEF'!F3 -> 0.27 | F28: ='MUESTRA DEF'!G3 -> -0.71 | G28: ='MUESTRA DEF'!H3 -> -0.34 | H28: ='MUESTRA DEF'!I3 -> -0.25 | I28: =IF(ISNUMBER(SEARCH("no hay",C28)),"NO","SÍ") -> SÍ
A29: ='MUESTRA DEF'!A4 -> 2 | B29: ='MUESTRA DEF'!C4 -> MANUELITA CORPORATIVA SAS | C29: ='MUESTRA DEF'!D4 -> Se valido con CIIU | D29: ='MUESTRA DEF'!E4 -> 1.57 | E29: ='MUESTRA DEF'!F4 -> 0.53 | F29: ='MUESTRA DEF'!G4 -> -0.47 | G29: ='MUESTRA DEF'!H4 -> -0.36 | H29: ='MUESTRA DEF'!I4 -> -0.17 | I29: =IF(ISNUMBER(SEARCH("no hay",C29)),"NO","SÍ") -> SÍ
A30: ='MUESTRA DEF'!A5 -> 3 | B30: ='MUESTRA DEF'!C5 -> Mawdy S.A.S. | C30: ='MUESTRA DEF'!D5 -> Se valido con CIIU | D30: ='MUESTRA DEF'!E5 -> 2.1 | E30: ='MUESTRA DEF'!F5 -> 0.47 | F30: ='MUESTRA DEF'!G5 -> -6.97 | G30: ='MUESTRA DEF'!H5 -> -0.24 | H30: ='MUESTRA DEF'!I5 -> -0.12 | I30: =IF(ISNUMBER(SEARCH("no hay",C30)),"NO","SÍ") -> SÍ
A31: ='MUESTRA DEF'!A6 -> 4 | B31: ='MUESTRA DEF'!C6 -> MANAL S.A.S. | C31: ='MUESTRA DEF'!D6 -> Se valido con CIIU | D31: ='MUESTRA DEF'!E6 -> 0.02 | E31: ='MUESTRA DEF'!F6 -> 0.3 | F31: ='MUESTRA DEF'!G6 -> -0.49 | G31: ='MUESTRA DEF'!H6 -> -0.15 | H31: ='MUESTRA DEF'!I6 -> -0.11 | I31: =IF(ISNUMBER(SEARCH("no hay",C31)),"NO","SÍ") -> SÍ
A32: ='MUESTRA DEF'!A7 -> 5 | B32: ='MUESTRA DEF'!C7 -> ORACLE COLOMBIA LTDA | C32: ='MUESTRA DEF'!D7 -> Se valido con CIIU | D32: ='MUESTRA DEF'!E7 -> 0.81 | E32: ='MUESTRA DEF'!F7 -> 0.8 | F32: ='MUESTRA DEF'!G7 -> -0.8 | G32: ='MUESTRA DEF'!H7 -> -0.41 | H32: ='MUESTRA DEF'!I7 -> -0.08 | I32: =IF(ISNUMBER(SEARCH("no hay",C32)),"NO","SÍ") -> SÍ
A33: ='MUESTRA DEF'!A8 -> 6 | B33: ='MUESTRA DEF'!C8 -> ConTREEbute S.A.S. | C33: ='MUESTRA DEF'!D8 -> Se valido con CIIU | D33: ='MUESTRA DEF'!E8 -> 1.87 | E33: ='MUESTRA DEF'!F8 -> 0.63 | F33: ='MUESTRA DEF'!G8 -> -0.99 | G33: ='MUESTRA DEF'!H8 -> -0.22 | H33: ='MUESTRA DEF'!I8 -> -0.08 | I33: =IF(ISNUMBER(SEARCH("no hay",C33)),"NO","SÍ") -> SÍ
A34: ='MUESTRA DEF'!A9 -> 7 | B34: ='MUESTRA DEF'!C9 -> VENISE SAS | C34: ='MUESTRA DEF'!D9 -> Se valido con CIIU | D34: ='MUESTRA DEF'!E9 -> 33.59 | E34: ='MUESTRA DEF'!F9 -> 0.01 | F34: ='MUESTRA DEF'!G9 -> -567.92 | G34: ='MUESTRA DEF'!H9 -> -0.05 | H34: ='MUESTRA DEF'!I9 -> -0.05 | I34: =IF(ISNUMBER(SEARCH("no hay",C34)),"NO","SÍ") -> SÍ
A35: ='MUESTRA DEF'!A10 -> 8 | B35: ='MUESTRA DEF'!C10 -> RED HAT COLOMBIA S.A.S. | C35: ='MUESTRA DEF'!D10 -> Se valido con CIIU | D35: ='MUESTRA DEF'!E10 -> 0.96 | E35: ='MUESTRA DEF'!F10 -> 0.96 | F35: ='MUESTRA DEF'!G10 -> -6.32 | G35: ='MUESTRA DEF'!H10 -> -0.71 | H35: ='MUESTRA DEF'!I10 -> -0.03 | I35: =IF(ISNUMBER(SEARCH("no hay",C35)),"NO","SÍ") -> SÍ
A36: ='MUESTRA DEF'!A11 -> 9 | B36: ='MUESTRA DEF'!C11 -> PROMOTORA HACIENDA LAS FLORES S.A.S. | C36: ='MUESTRA DEF'!D11 -> Se valido con CIIU | D36: ='MUESTRA DEF'!E11 -> 0.72 | E36: ='MUESTRA DEF'!F11 -> 0.73 | F36: ='MUESTRA DEF'!G11 -> -0.98 | G36: ='MUESTRA DEF'!H11 -> -0.1 | H36: ='MUESTRA DEF'!I11 -> -0.03 | I36: =IF(ISNUMBER(SEARCH("no hay",C36)),"NO","SÍ") -> SÍ
A37: ='MUESTRA DEF'!A12 -> 10 | B37: ='MUESTRA DEF'!C12 -> SOCIEDAD TEQUENDAMA S.A. | C37: ='MUESTRA DEF'!D12 -> 9 | D37: ='MUESTRA DEF'!E12 -> 0.89 | E37: ='MUESTRA DEF'!F12 -> 0.3 | F37: ='MUESTRA DEF'!G12 -> -1.2 | G37: ='MUESTRA DEF'!H12 -> 0 | H37: ='MUESTRA DEF'!I12 -> 0 | I37: =IF(ISNUMBER(SEARCH("no hay",C37)),"NO","SÍ") -> SÍ
A38: ='MUESTRA DEF'!A13 -> 11 | B38: ='MUESTRA DEF'!C13 -> Uniban Inversiones S.A.S. | C38: ='MUESTRA DEF'!D13 -> Se valido con CIIU | D38: ='MUESTRA DEF'!E13 -> 0.22 | E38: ='MUESTRA DEF'!F13 -> 0.01 | F38: ='MUESTRA DEF'!G13 -> 1.41 | G38: ='MUESTRA DEF'!H13 -> 0 | H38: ='MUESTRA DEF'!I13 -> 0 | I38: =IF(ISNUMBER(SEARCH("no hay",C38)),"NO","SÍ") -> SÍ
A39: ='MUESTRA DEF'!A14 -> 12 | B39: ='MUESTRA DEF'!C14 -> camel ingenieria & servicios limitada | C39: ='MUESTRA DEF'!D14 -> Se valido con CIIU | D39: ='MUESTRA DEF'!E14 -> 13.35 | E39: ='MUESTRA DEF'!F14 -> 0.68 | F39: ='MUESTRA DEF'!G14 -> 1.72 | G39: ='MUESTRA DEF'!H14 -> 0 | H39: ='MUESTRA DEF'!I14 -> 0 | I39: =IF(ISNUMBER(SEARCH("no hay",C39)),"NO","SÍ") -> SÍ
... A93: ='MUESTRA DEF'!A68 -> 66 | B93: ='MUESTRA DEF'!C68 -> SEÑORA DEL ROSARIO Y AMIGOS EN CIA SAS | C93: ='MUESTRA DEF'!D68 -> Se valido con CIIU | D93: ='MUESTRA DEF'!E68 -> 0.39 | E93: ='MUESTRA DEF'!F68 -> 1.47 | F93: ='MUESTRA DEF'!G68 -> 3.43 | G93: ='MUESTRA DEF'!H68 -> -2.56 | H93: ='MUESTRA DEF'!I68 -> 1.19 | I93: =IF(ISNUMBER(SEARCH("no hay",C93)),"NO","SÍ") -> SÍ
A95: 3. CÁLCULO DE THRESHOLDS POR PERCENTILES (sobre muestra depurada)
A97: Nota: PERCENTIL.INC excluye automáticamente celdas con texto (“INDETERMINADO”).
A98: El rango fuente es la columna correspondiente filtrada por la marca “SÍ” (66–4 = 62 empresas).
A100: Indicador | B100: N válido | C100: P25 (Q1) | D100: P50 (Mediana) | E100: P75 (Q3) | F100: Percentil aplicado | G100: Threshold sugerido
A101: Liquidez (≥) | B101: {=SUMPRODUCT((I28:I93="SÍ")*ISNUMBER(D28:D93))} -> 61 | C101: {=_xlfn.PERCENTILE.INC(IF(I28:I93="SÍ",D28:D93),0.25)} -> 1.01 | D101: {=_xlfn.PERCENTILE.INC(IF(I28:I93="SÍ",D28:D93),0.5)} -> 2.1 | E101: {=_xlfn.PERCENTILE.INC(IF(I28:I93="SÍ",D28:D93),0.75)} -> 6.07 | F101: P25 | G101: =C101 -> 1.01
A102: Endeudamiento (≤) | B102: {=SUMPRODUCT((I28:I93="SÍ")*ISNUMBER(E28:E93))} -> 62 | C102: {=_xlfn.PERCENTILE.INC(IF(I28:I93="SÍ",E28:E93),0.25)} -> 0.2325 | D102: {=_xlfn.PERCENTILE.INC(IF(I28:I93="SÍ",E28:E93),0.5)} -> 0.41 | E102: {=_xlfn.PERCENTILE.INC(IF(I28:I93="SÍ",E28:E93),0.75)} -> 0.675 | F102: P75 | G102: =E102 -> 0.675
A103: Cobertura Intereses (≥) | B103: {=SUMPRODUCT((I28:I93="SÍ")*ISNUMBER(F28:F93))} -> 49 | C103: {=_xlfn.PERCENTILE.INC(IF((I28:I93="SÍ")*ISNUMBER(F28:F93),F28:F93),0.25)} -> 0.56 | D103: {=_xlfn.PERCENTILE.INC(IF((I28:I93="SÍ")*ISNUMBER(F28:F93),F28:F93),0.5)} -> 5.08 | E103: {=_xlfn.PERCENTILE.INC(IF((I28:I93="SÍ")*ISNUMBER(F28:F93),F28:F93),0.75)} -> 33.92 | F103: P50 | G103: =D103 -> 5.08
A104: Rent. Patrimonio (≥) | B104: {=SUMPRODUCT((I28:I93="SÍ")*ISNUMBER(G28:G93))} -> 62 | C104: {=_xlfn.PERCENTILE.INC(IF(I28:I93="SÍ",G28:G93),0.25)} -> 0 | D104: {=_xlfn.PERCENTILE.INC(IF(I28:I93="SÍ",G28:G93),0.5)} -> 0.16 | E104: {=_xlfn.PERCENTILE.INC(IF(I28:I93="SÍ",G28:G93),0.75)} -> 0.405 | F104: P25 | G104: =C104 -> 0
A105: Rent. Activos (≥) | B105: {=SUMPRODUCT((I28:I93="SÍ")*ISNUMBER(H28:H93))} -> 62 | C105: {=_xlfn.PERCENTILE.INC(IF(I28:I93="SÍ",H28:H93),0.25)} -> 0.0125 | D105: {=_xlfn.PERCENTILE.INC(IF(I28:I93="SÍ",H28:H93),0.5)} -> 0.085 | E105: {=_xlfn.PERCENTILE.INC(IF(I28:I93="SÍ",H28:H93),0.75)} -> 0.285 | F105: P25 | G105: =C105 -> 0.0125
A107: 4. THRESHOLDS CONSERVADORES APLICADOS — P10 / P90
A108: Criterio: maximizar pluralidad (~90% del mercado cumple cada requisito). Cumple Ley 1150/2007 Art.5.
A110: Indicador | B110: Percentil | C110: Valor | D110: Threshold final
A111: Liquidez (≥) | B111: P10 | C111: {=_xlfn.PERCENTILE.INC(IF(I28:I93="SÍ",D28:D93),0.1)} -> 0.31 | D111: =C111 -> 0.31
...

Sheet Propuesta
B2: INDICADORES DE CAPACIDAD FINANCIERA Y ORGANIZACIONAL FDL DE SAN CRISTOBAL
B3: PROCESO: Contrato de Selección Abreviada de Menor Cuantía
B4: OBJETO DEL PROCESO: “PRESTAR LOS SERVICIOS DE APOYO LOGÍSTICO, TÉCNICO Y PEDAGÓGICO PARA LA EJECUCIÓN DE LAS INICIATIVAS DE PRESUPUESTOS PARTICIPATIVOS ORIENTADOS AL FORTALECIMIENTO DE EMPRENDIMIENTOS, CAPACITACIÓN EN TECNOLOGÍAS DE LA INFORMACIÓN CON ENFOQUE EN INTELIGENCIA ARTIFICIAL, CARACTERIZACIÓN DE POBLACIÓN EN ESPACIO PÚBLICO Y PROMOCIÓN DE DERECHOS CON ENFOQUE DE GÉNERO, DIRIGIDOS A LA POBLACIÓN VÍCTIMA DEL CONFLICTO ARMADO”.
B5: PRESUPUESTO OFICIAL: QUINIENTOS VEINTIDOS MILLONES TRESCIENTOS MIL PESOS ($522.300.000). (Incluido IVA)
B6: El analisis de los indicadores financieros se establecio con base en la siguiente información: del portal de información empresarial de la Superintendencia de sociedades , identificando la información financiera con corte a 31 de diciembre del 2024 de empresas del sector a nivel a Nacional, para las actividades económicas: 7490, 9006 y 9329 identificando una base de 29 empresas de la economía nacional que desarrolla el código anteriormente mencionado, los cuales guardan relación con el sector y las actividades a ejecutar en el presente proceso contractual. Adicional, se tienen en cuenta 37 empresas con el código 931417 de desarrollo de eventos culturales, con información encontrada en RUES: Empresas de los sectores a nivel nacional que registran alguna o algunas de las actividades mencionadas, se verificó y evidenció que los indicadores de capacidad financiera y organizacional fijados fueran satisfactorios
B10: INDICADORES FINANCIEROS | H10: OBSERVACIONES
H11: ÁREA FINANCIERA
B13: Indíce de Liquidez | C13: = | D13: Activo Corriente | E13: = | F13: ='MUESTRA FILTRADA'!D126 -> 1.65 | H13: Se calculó el percentil 40 (P40) de la liquidez sobre la muestra depurada de 62 empresas del sector (66 totales menos 4 excluidas por carecer de código CIIU verificable). El P40 = 1,65 establece un estándar exigente que garantiza solidez financiera de corto plazo: aproximadamente el 60% del mercado cumple el requisito, preservando pluralidad según Ley 1150/2007 Art.5. Ver hoja “MUESTRA FILTRADA” para sustento estadístico.
D15: Pasivo Corriente
B18: Nivel de Endeudamiento | C18: = | D18: Pasivo Total | E18: = | F18: ≤ 51% | H18: Se calculó el percentil 60 (P60) del nivel de endeudamiento sobre la muestra depurada de 62 empresas. El P60 = 0,51 representa el límite superior aceptable: aproximadamente el 60% del mercado mantiene un endeudamiento igual o menor. Excluye al 40% del sector con mayor apalancamiento, asegurando contratistas con estructura de capital más sólida. Ver hoja “MUESTRA FILTRADA”.
D19: ActivoTotal
B21: Razón Cobertura de intereses | C21: = | D21: Utilidad Operacional | E21: = | F21: ≥ 2,89 | H21: Se calculó el percentil 40 (P40) de la cobertura de intereses sobre las 49 empresas con valor numérico (las demás reportan “indeterminado” por gastos de interés = 0). El P40 = 2,89 indica que el 60% del mercado puede cubrir sus gastos financieros casi tres veces con utilidad operativa. Se conserva “o indeterminado” para no excluir empresas sin deuda financiera. Ver hoja “MUESTRA FILTRADA”.
D22: Gasto de Intereses
B24: Rentabilidad sobre Patrimonio | C24: = | D24: Utilidad Operacional | E24: = | F24: ≥ 0,09 | H24: Se calculó el percentil 40 (P40) de la rentabilidad del patrimonio sobre la muestra depurada de 62 empresas. El P40 = 0,09 (9%) garantiza que el contratista genere un retorno mínimo razonable para sus accionistas, indicador de salud financiera sostenible. Aproximadamente el 60% del mercado cumple. Ver hoja “MUESTRA FILTRADA”.
D25: Patrimonio
B27: Rentabilidad sobre Activos | C27: = | D27: Utilidad Operacional | E27: = | F27: ≥ 0,04 | H27: Se calculó el percentil 40 (P40) de la rentabilidad de los activos sobre la muestra depurada de 62 empresas. El P40 = 0,04 (4%) asegura productividad mínima razonable de los activos de la empresa contratista. Aproximadamente el 60% del mercado cumple. Ver hoja “MUESTRA FILTRADA”.
D28: Activos
B30: ELABORO: Jully Estefanny Camacho Angel -Profesional del Area de Planeación.
B32: 5 de mayo de 2026
