Workbook
Name \0: #REF!
Name \0: #REF!
Name \00: #REF!
Name \00: #REF!
Name \a: #REF!
Name \a: #REF!
Name \AA: [1]LIQUIDACION!#REF!
Name \AA: [1]LIQUIDACION!#REF!
Name \b: [2]STRSUMM0!#REF!
Name \b: [2]STRSUMM0!#REF!
Name \bb: [2]STRSUMM0!#REF!
Name \bb: [2]STRSUMM0!#REF!
Name \E: #REF!
Name \E: #REF!
Name \EE: #REF!
Name \EE: #REF!
Name \G: #REF!
Name \G: #REF!
Name \k: '[3]7422CW00'!#REF!
Name \k: '[3]7422CW00'!#REF!
Name \l: [4]STRSUMM0!#REF!
Name \l: [4]STRSUMM0!#REF!
Name \M: #REF!
Name \M: #REF!
Name \ñ: '[5]7422CW00'!#REF!
Name \ñ: '[5]7422CW00'!#REF!
Name \P: #REF!
Name \P: #REF!
Name \R: #REF!
Name \R: #REF!
Name \s: #REF!
Name \s: #REF!
Name \V: #REF!
Name \V: #REF!
Name \X: [0]!ERR
Name \Z: [0]!ERR
Name _______________EST1: #REF!
Name _______________EST1: #REF!
Name _______________EST10: #REF!
Name _______________EST10: #REF!
Name _______________EST11: #REF!
Name _______________EST11: #REF!
Name _______________EST12: #REF!
Name _______________EST12: #REF!
Name _______________EST13: #REF!
Name _______________EST13: #REF!
Name _______________EST14: #REF!
Name _______________EST14: #REF!
Name _______________EST15: #REF!
Name _______________EST15: #REF!
Name _______________EST16: #REF!
Name _______________EST16: #REF!
Name _______________EST17: #REF!
Name _______________EST17: #REF!
Name _______________EST18: #REF!
Name _______________EST18: #REF!
Name _______________EST19: #REF!
Name _______________EST19: #REF!
Name _______________EST2: #REF!
Name _______________EST2: #REF!

Sheet PRESUPUESTO OFICIAL (Entidad)
I2: andenes | J2: =+J110 -> 0.00079143047
C3: Formulario 1 - Propuesta económica - Documento tipo de licitación de obra pública de infraestructura de transporte - versión 3 | I3: total | J3: =+J108 -> -0.0025267601
C4: Código | D4: CCE-EICP-FM-14
C5: FORMULARIO 1
C6: PRESUPUESTO OFICIAL
C7: ALCALDIA MAYOR DE BOGOTA | O7: diseño tipo
C8: FONDO DE DESARROLLO LOCAL | O8: subbase granular | P8: 0.35
C9: ALCALDIA LOCAL DE TUNJUELITO | O9: zona dura | P9: 0.1
C10: OBJETO DE LA LICITACION : | E10: EJECUTAR A MONTO AGOTABLE Y POR EL SISTEMA DE PRECIOS UNITARIOS, MEDIANTE BRIGADAS DE MANTENIMIENTO, ACTIVIDADES PUNTUALES PARA LA ATENCIÓN DE DAÑOS EN LA MALLA VIAL LOCAL E INTERMEDIA Y EN EL ESPACIO PÚBLICO DE LA LOCALIDAD DE TUNJUELITO, BOGOTÁ D.C. | O10: PLAZA MERCADO SAN CARLOS | U10: ANDEN PARQUE 06-088 | AC10: PLAZA MERCADO SAN BENITO | AE10: ANDEN CIERRE
O11: PK | P11: =+'[113]ESPACIO PUBLICO'!$B$17 -> 323824 | Q11: PK | R11: =+'[113]ESPACIO PUBLICO'!$B$18 -> 323827 | S11: PK | T11: =+'[113]ESPACIO PUBLICO'!$B$19 -> 323671 | U11: PK | V11: =+'[113]ESPACIO PUBLICO'!$B$20 -> 323674 | W11: pk | X11: =+'[113]ESPACIO PUBLICO'!$B$21 -> 320317 | Y11: pk | Z11: =+'[113]ESPACIO PUBLICO'!$B$22 -> 320345 | AA11: pk | AB11: =+'[113]ESPACIO PUBLICO'!$B$23 -> 320299 | AC11: pk | AD11: =+'[113]ESPACIO PUBLICO'!$B$27 -> 324418 | AE11: pk | AG11: PARCHEO | AH11: 321365 | AI11: BACHEO | AJ11: 325206 y 325221 | AL11: 323511
O12: 6001302 | Q12: =+'[113]ESPACIO PUBLICO'!$A$18 -> 6001303 | S12: =+'[113]ESPACIO PUBLICO'!$A$19 -> 6001244 | U12: =+'[113]ESPACIO PUBLICO'!$A$20 -> 6001245 | W12: =+'[113]ESPACIO PUBLICO'!$A$21 -> 6000084 | Y12: =+'[113]ESPACIO PUBLICO'!$A$22 -> 6000094 | AA12: =+'[113]ESPACIO PUBLICO'!$A$23 -> 6000096 | AC12: =+'[113]ESPACIO PUBLICO'!$A$27 -> 6001479 | AE12: POR DEFINIR | AG12: 6000458 | AI12: 6001743 y 6001749 | AK12: 6001191 | AM12: 6000523 | AO12: 6001520
O13: KR 19B Entre DG 50A S hasta CL 51 S | Q13: =+'[113]ESPACIO PUBLICO'!$Q$18 -> CL 51 S Entre KR 19B hasta KR 19C | S13: =+'[113]ESPACIO PUBLICO'!$Q$19 -> CL 55 S Entre KR 24C hasta KR 25 | U13: =+'[113]ESPACIO PUBLICO'!$Q$20 -> CL 55 SUR Entre SE hasta KR 24 C | W13: =+'[113]ESPACIO PUBLICO'!$Q$21 -> DG 48 S Entre KR 54B hasta KR 55BIS | Y13: =+'[113]ESPACIO PUBLICO'!$Q$22 -> KR 52C Entre DG 46A S hasta DG 47 S | AA13: =+'[113]ESPACIO PUBLICO'!$Q$23 -> DG 47A S Entre KR 53C hasta KR 54 | AC13: =+'[113]ESPACIO PUBLICO'!$Q$27 -> CL 57 S Entre KR 16 hasta KR 17 | AE13: POR DEFINIR | AG13: Dg 52 B S Entre Cra 54 hasta Cra 54 A | AI13: Calle 53A Sur entre KR 10A y KR 9A | AK13: CL 52B Sur entre KR24D y KR 25 | AM13: KR 36 entre CL 49A sur y CL 49B sur | AO13: CL 58 Sur entre KR 15 y KR 16 | BA13: HUECOS GENERAL
C14: COD. IDU | D14: ÍTEM DE PAGO | E14: DESCRIPCIÓN | F14: UND. | G14: CANTIDAD | H14: VALOR UNITARIO | J14: VALOR TOTAL | O14: CANTIDAD | P14: VALOR TOTAL | Q14: CANTIDAD | R14: VALOR TOTAL | S14: CANTIDAD | T14: VALOR TOTAL | U14: CANTIDAD | V14: VALOR TOTAL | W14: CANTIDAD | X14: VALOR TOTAL | Y14: CANTIDAD | Z14: VALOR TOTAL | AA14: CANTIDAD | AB14: VALOR TOTAL | AC14: CANTIDAD | AD14: VALOR TOTAL | AE14: CANTIDAD | AF14: VALOR TOTAL | AG14: CANTIDAD | AH14: VALOR TOTAL | AI14: CANTIDAD | AJ14: VALOR TOTAL | AK14: CANTIDAD | AL14: VALOR TOTAL | AM14: CANTIDAD | AN14: VALOR TOTAL | AO14: CANTIDAD | AP14: VALOR TOTAL | AQ14: CANTIDAD | AR14: VALOR TOTAL | AS14: CANTIDAD | AT14: VALOR TOTAL | AU14: CANTIDAD | AV14: VALOR TOTAL | AW14: CANTIDAD | AX14: VALOR TOTAL | AY14: CANTIDAD | AZ14: VALOR TOTAL | BA14: CANTIDAD | BB14: VALOR TOTAL
O16: =+'[113]ESPACIO PUBLICO'!$N$17 -> 61.35 | P16: =+'[113]ESPACIO PUBLICO'!$O$17 -> 2.61 | Q16: =+'[113]ESPACIO PUBLICO'!$N$18 -> 42.83 | R16: =+'[113]ESPACIO PUBLICO'!$O$18 -> 3.02 | S16: =+'[113]ESPACIO PUBLICO'!$N$19 -> 121.31 | T16: =+'[113]ESPACIO PUBLICO'!$O$19 -> 2.67 | U16: =+'[113]ESPACIO PUBLICO'!$N$20 -> 25.62 | V16: =+'[113]ESPACIO PUBLICO'!$O$20 -> 3.97 | W16: =+'[113]ESPACIO PUBLICO'!$N$21 -> 76.31 | X16: =+'[113]ESPACIO PUBLICO'!$O$21 -> 2.87 | Y16: =+'[113]ESPACIO PUBLICO'!$N$22 -> 47.17 | Z16: =+'[113]ESPACIO PUBLICO'!$O$22 -> 5.35 | AA16: =+'[113]ESPACIO PUBLICO'!$N$23 -> 34.95 | AB16: =+'[113]ESPACIO PUBLICO'!$O$23 -> 2.29 | AC16: =+'[113]ESPACIO PUBLICO'!$N$27 -> 38.21 | AD16: =+'[113]ESPACIO PUBLICO'!$O$27 -> 6.62 | AE16: 20 | AF16: 2 | AG16: 45.08 | AH16: 7.11
C17: BRIGADAS DE ACCIONES DE MOVILIDAD | O17: =+O16*P16 -> 160.1235 | Q17: =+Q16*R16 -> 129.3466 | S17: =+S16*T16 -> 323.8977 | U17: =+U16*V16 -> 101.7114 | W17: =+W16*X16 -> 219.0097 | Y17: =+Y16*Z16 -> 252.3595 | AA17: =+AA16*AB16 -> 80.0355 | AC17: =+AC16*AD16 -> 252.9502 | AE17: =+AE16*AF16 -> 40 | AG17: =+AG16*AH16 -> 320.5188 | AI17: =+AI16*AJ16 -> 0 | AK17: =+AK16*AL16 -> 0 | AM17: =+AM16*AN16 -> 0 | AO17: =+AO16*AP16 -> 0 | AQ17: =+AQ16*AR16 -> 0 | AS17: =+AS16*AT16 -> 0 | AU17: =+AU16*AV16 -> 0 | AW17: =+AW16*AX16 -> 0 | AY17: =+AY16*AZ16 -> 0 | BA17: =+BA16*BB16 -> 0
C20: ACTIVIDADES DE OBRA
C21: COD. IDU | D21: ÍTEM DE PAGO | E21: DESCRIPCIÓN | F21: UND. | G21: CANTIDAD | H21: VALOR UNITARIO | I21: VR. UNITARIO (INCLUIDO A.I.U.) | J21: VALOR TOTAL
C24: 1. RECONSTRUCCION - REHABILITACION VIA PAVIMENTO RIGIDO | G24: =+ROUND(SUM(O24,Q24,S24,U24,W24,Y24,AA24,AC24,AG24,AI24,AK24,AM24,AO24,AQ24,AS24,AU24,AW24,AY24,BA24),2) -> 0 | L24: 0 | P24: =+ROUND($I24*O24,0) -> 0 | R24: =+ROUND($I24*Q24,0) -> 0 | T24: =+ROUND($I24*S24,0) -> 0 | V24: =+ROUND($I24*U24,0) -> 0 | X24: =+ROUND($I24*W24,0) -> 0 | Z24: =+ROUND($I24*Y24,0) -> 0 | AB24: =+ROUND($I24*AA24,0) -> 0 | AD24: =+ROUND($I24*AC24,0) -> 0 | AF24: =+ROUND($I24*AE24,0) -> 0 | AH24: =+ROUND($I24*AG24,0) -> 0 | AJ24: =+ROUND($I24*AI24,0) -> 0 | AL24: =+ROUND($I24*AK24,0) -> 0 | AN24: =+ROUND($I24*AM24,0) -> 0 | AP24: =+ROUND($I24*AO24,0) -> 0 | AR24: =+ROUND($I24*AQ24,0) -> 0 | AT24: =+ROUND($I24*AS24,0) -> 0 | AV24: =+ROUND($I24*AU24,0) -> 0 | AX24: =+ROUND($I24*AW24,0) -> 0 | AZ24: =+ROUND($I24*AY24,0) -> 0 | BB24: =+ROUND($I24*BA24,0) -> 0
C25: 3007 | D25: 3001 | E25: =+VLOOKUP(C25,'PRECIOS IDU 2025'!$A$1:$E$3189,2,FALSE) -> REPLANTEO GENERAL | F25: =+VLOOKUP(C25,'PRECIOS IDU 2025'!$A$1:$E$3189,3,FALSE) -> M2 | G25: =+ROUND(SUM(O25,Q25,S25,U25,W25,Y25,AA25,AC25,AG25,AI25,AK25,AM25,AO25,AQ25,AS25,AU25,AW25,AY25,BA25),2) -> 30 | H25: =+VLOOKUP(C25,'PRECIOS DE REFERENCIA APU'!$A$1:$D$2745,4,FALSE) -> 996 | I25: =+ROUND(H25*(1+$J$117),0) -> 1365 | J25: =+ROUND(I25*G25,0) -> 40950 | L25: 10 | P25: =+ROUND($I25*O25,0) -> 0 | R25: =+ROUND($I25*Q25,0) -> 0 | T25: =+ROUND($I25*S25,0) -> 0 | V25: =+ROUND($I25*U25,0) -> 0 | X25: =+ROUND($I25*W25,0) -> 0 | Z25: =+ROUND($I25*Y25,0) -> 0 | AB25: =+ROUND($I25*AA25,0) -> 0 | AD25: =+ROUND($I25*AC25,0) -> 0 | AF25: =+ROUND($I25*AE25,0) -> 0 | AH25: =+ROUND($I25*AG25,0) -> 0 | AJ25: =+ROUND($I25*AI25,0) -> 0 | AL25: =+ROUND($I25*AK25,0) -> 0 | AN25: =+ROUND($I25*AM25,0) -> 0 | AP25: =+ROUND($I25*AO25,0) -> 0 | AR25: =+ROUND($I25*AQ25,0) -> 0 | AT25: =+ROUND($I25*AS25,0) -> 0 | AV25: =+ROUND($I25*AU25,0) -> 0 | AX25: =+ROUND($I25*AW25,0) -> 0 | AZ25: =+ROUND($I25*AY25,0) -> 0 | BA25: 30 | BB25: =+ROUND($I25*BA25,0) -> 40950
C26: 3811 | D26: 3002 | E26: =+VLOOKUP(C26,'PRECIOS IDU 2025'!$A$1:$E$3189,2,FALSE) -> CORTE DE PAVIMENTO - INCLUYE EQUIPO: CORTADORA DE CONCRETO INCLUYE OPERARIO Y COMBUSTIBLE. INCLUYE DISCO DIAMANTADO ASFALTO-CONCRETO 350 MM, AGUA Y MANO DE OBRA | F26: =+VLOOKUP(C26,'PRECIOS IDU 2025'!$A$1:$E$3189,3,FALSE) -> ML | G26: =+ROUND(SUM(O26,Q26,S26,U26,W26,Y26,AA26,AC26,AG26,AI26,AK26,AM26,AO26,AQ26,AS26,AU26,AW26,AY26,BA26),2) -> 60 | H26: =+VLOOKUP(C26,'PRECIOS DE REFERENCIA APU'!$A$1:$D$2745,4,FALSE) -> 3055 | I26: =+ROUND(H26*(1+$J$117),0) -> 4185 | J26: =+ROUND(I26*G26,0) -> 251100 | L26: 10 | P26: =+ROUND($I26*O26,0) -> 0 | R26: =+ROUND($I26*Q26,0) -> 0 | T26: =+ROUND($I26*S26,0) -> 0 | V26: =+ROUND($I26*U26,0) -> 0 | X26: =+ROUND($I26*W26,0) -> 0 | Z26: =+ROUND($I26*Y26,0) -> 0 | AB26: =+ROUND($I26*AA26,0) -> 0 | AD26: =+ROUND($I26*AC26,0) -> 0 | AF26: =+ROUND($I26*AE26,0) -> 0 | AH26: =+ROUND($I26*AG26,0) -> 0 | AJ26: =+ROUND($I26*AI26,0) -> 0 | AL26: =+ROUND($I26*AK26,0) -> 0 | AN26: =+ROUND($I26*AM26,0) -> 0 | AP26: =+ROUND($I26*AO26,0) -> 0 | AR26: =+ROUND($I26*AQ26,0) -> 0 | AT26: =+ROUND($I26*AS26,0) -> 0 | AV26: =+ROUND($I26*AU26,0) -> 0 | AX26: =+ROUND($I26*AW26,0) -> 0 | AZ26: =+ROUND($I26*AY26,0) -> 0 | BA26: 60 | BB26: =+ROUND($I26*BA26,0) -> 251100
C27: 3486 | D27: 3004 | E27: =+VLOOKUP(C27,'PRECIOS IDU 2025'!$A$1:$E$3189,2,FALSE) -> DEMOLICIÓN CONCRETO ESTRUCTURAL (INCLUYE CARGUE MANUAL). NO INCLUYE TRANSPORTE Y DISPOSICIÓN FINAL DE SOBRANTES. | F27: =+VLOOKUP(C27,'PRECIOS IDU 2025'!$A$1:$E$3189,3,FALSE) -> M3 | G27: =+ROUND(SUM(O27,Q27,S27,U27,W27,Y27,AA27,AC27,AG27,AI27,AK27,AM27,AO27,AQ27,AS27,AU27,AW27,AY27,BA27),2) -> 30 | H27: =+VLOOKUP(C27,'PRECIOS DE REFERENCIA APU'!$A$1:$D$2745,4,FALSE) -> 214944 | I27: =+ROUND(H27*(1+$J$117),0) -> 294473 | J27: =+ROUND(I27*G27,0) -> 8834190 | L27: 10 | P27: =+ROUND($I27*O27,0) -> 0 | R27: =+ROUND($I27*Q27,0) -> 0 | T27: =+ROUND($I27*S27,0) -> 0 | V27: =+ROUND($I27*U27,0) -> 0 | X27: =+ROUND($I27*W27,0) -> 0 | Z27: =+ROUND($I27*Y27,0) -> 0 | AB27: =+ROUND($I27*AA27,0) -> 0 | AD27: =+ROUND($I27*AC27,0) -> 0 | AF27: =+ROUND($I27*AE27,0) -> 0 | AH27: =+ROUND($I27*AG27,0) -> 0 | AJ27: =+ROUND($I27*AI27,0) -> 0 | AL27: =+ROUND($I27*AK27,0) -> 0 | AN27: =+ROUND($I27*AM27,0) -> 0 | AP27: =+ROUND($I27*AO27,0) -> 0 | AR27: =+ROUND($I27*AQ27,0) -> 0 | AT27: =+ROUND($I27*AS27,0) -> 0 | AV27: =+ROUND($I27*AU27,0) -> 0 | AX27: =+ROUND($I27*AW27,0) -> 0 | AZ27: =+ROUND($I27*AY27,0) -> 0 | BA27: 30 | BB27: =+ROUND($I27*BA27,0) -> 8834190
C28: 3710 | D28: 3005 | E28: =+VLOOKUP(C28,'PRECIOS IDU 2025'!$A$1:$E$3189,2,FALSE) -> EXCAVACIÓN MECÁNICA EN MATERIAL COMÚN (INCLUYE CARGUE) | F28: =+VLOOKUP(C28,'PRECIOS IDU 2025'!$A$1:$E$3189,3,FALSE) -> M3 | G28: =+ROUND(SUM(O28,Q28,S28,U28,W28,Y28,AA28,AC28,AG28,AI28,AK28,AM28,AO28,AQ28,AS28,AU28,AW28,AY28,BA28),2) -> 30 | H28: =+VLOOKUP(C28,'PRECIOS DE REFERENCIA APU'!$A$1:$D$2745,4,FALSE) -> 5870 | I28: =+ROUND(H28*(1+$J$117),0) -> 8042 | J28: =+ROUND(I28*G28,0) -> 241260 | L28: 10 | P28: =+ROUND($I28*O28,0) -> 0 | R28: =+ROUND($I28*Q28,0) -> 0 | T28: =+ROUND($I28*S28,0) -> 0 | V28: =+ROUND($I28*U28,0) -> 0 | X28: =+ROUND($I28*W28,0) -> 0 | Z28: =+ROUND($I28*Y28,0) -> 0 | AB28: =+ROUND($I28*AA28,0) -> 0 | AD28: =+ROUND($I28*AC28,0) -> 0 | AF28: =+ROUND($I28*AE28,0) -> 0 | AH28: =+ROUND($I28*AG28,0) -> 0 | AJ28: =+ROUND($I28*AI28,0) -> 0 | AL28: =+ROUND($I28*AK28,0) -> 0 | AN28: =+ROUND($I28*AM28,0) -> 0 | AP28: =+ROUND($I28*AO28,0) -> 0 | AR28: =+ROUND($I28*AQ28,0) -> 0 | AT28: =+ROUND($I28*AS28,0) -> 0 | AV28: =+ROUND($I28*AU28,0) -> 0 | AX28: =+ROUND($I28*AW28,0) -> 0 | AZ28: =+ROUND($I28*AY28,0) -> 0 | BA28: =+BA27 -> 30 | BB28: =+ROUND($I28*BA28,0) -> 241260
C29: 3464 | D29: 3006 | E29: =+VLOOKUP(C29,'PRECIOS IDU 2025'!$A$1:$E$3189,2,FALSE) -> EXCAVACION MANUAL EN MATERIAL COMUN. INCLUYE CARGUE. | F29: =+VLOOKUP(C29,'PRECIOS IDU 2025'!$A$1:$E$3189,3,FALSE) -> M3 | G29: =+ROUND(SUM(O29,Q29,S29,U29,W29,Y29,AA29,AC29,AG29,AI29,AK29,AM29,AO29,AQ29,AS29,AU29,AW29,AY29,BA29),2) -> 20 | H29: =+VLOOKUP(C29,'PRECIOS DE REFERENCIA APU'!$A$1:$D$2745,4,FALSE) -> 55856 | I29: =+ROUND(H29*(1+$J$117),0) -> 76523 | J29: =+ROUND(I29*G29,0) -> 1530460 | L29: 10 | P29: =+ROUND($I29*O29,0) -> 0 | R29: =+ROUND($I29*Q29,0) -> 0 | T29: =+ROUND($I29*S29,0) -> 0 | V29: =+ROUND($I29*U29,0) -> 0 | X29: =+ROUND($I29*W29,0) -> 0 | Z29: =+ROUND($I29*Y29,0) -> 0 | AB29: =+ROUND($I29*AA29,0) -> 0 | AD29: =+ROUND($I29*AC29,0) -> 0 | AF29: =+ROUND($I29*AE29,0) -> 0 | AH29: =+ROUND($I29*AG29,0) -> 0 | AJ29: =+ROUND($I29*AI29,0) -> 0 | AL29: =+ROUND($I29*AK29,0) -> 0 | AN29: =+ROUND($I29*AM29,0) -> 0 | AP29: =+ROUND($I29*AO29,0) -> 0 | AR29: =+ROUND($I29*AQ29,0) -> 0 | AT29: =+ROUND($I29*AS29,0) -> 0 | AV29: =+ROUND($I29*AU29,0) -> 0 | AX29: =+ROUND($I29*AW29,0) -> 0 | AZ29: =+ROUND($I29*AY29,0) -> 0 | BA29: 20 | BB29: =+ROUND($I29*BA29,0) -> 1530460
C30: 3017 | D30: 3007 | E30: =+VLOOKUP(C30,'PRECIOS IDU 2025'!$A$1:$E$3189,2,FALSE) -> TRANSPORTE Y DISPOSICIÓN FINAL DE ESCOMBROS EN SITIO AUTORIZADO (DISTANCIA DE TRANSPORTE 21 KM). A DISTANCIA MAYOR DEL ACARREO LIBRE (90 M) EN SITIO AUTORIZADO POR LA ENTIDAD AMBIENTAL COMPETENTE. | F30: =+VLOOKUP(C30,'PRECIOS IDU 2025'!$A$1:$E$3189,3,FALSE) -> M3 | G30: =+ROUND(SUM(O30,Q30,S30,U30,W30,Y30,AA30,AC30,AG30,AI30,AK30,AM30,AO30,AQ30,AS30,AU30,AW30,AY30,BA30),2) -> 30 | H30: =+VLOOKUP(C30,'PRECIOS DE REFERENCIA APU'!$A$1:$D$2745,4,FALSE) -> 45600 | I30: =+ROUND(H30*(1+$J$117),0) -> 62472 | J30: =+ROUND(I30*G30,0) -> 1874160 | L30: 10 | P30: =+ROUND($I30*O30,0) -> 0 | R30: =+ROUND($I30*Q30,0) -> 0 | T30: =+ROUND($I30*S30,0) -> 0 | V30: =+ROUND($I30*U30,0) -> 0 | X30: =+ROUND($I30*W30,0) -> 0 | Z30: =+ROUND($I30*Y30,0) -> 0 | AB30: =+ROUND($I30*AA30,0) -> 0 | AD30: =+ROUND($I30*AC30,0) -> 0 | AF30: =+ROUND($I30*AE30,0) -> 0 | AH30: =+ROUND($I30*AG30,0) -> 0 | AJ30: =+ROUND($I30*AI30,0) -> 0 | AL30: =+ROUND($I30*AK30,0) -> 0 | AN30: =+ROUND($I30*AM30,0) -> 0 | AP30: =+ROUND($I30*AO30,0) -> 0 | AR30: =+ROUND($I30*AQ30,0) -> 0 | AT30: =+ROUND($I30*AS30,0) -> 0 | AV30: =+ROUND($I30*AU30,0) -> 0 | AX30: =+ROUND($I30*AW30,0) -> 0 | AZ30: =+ROUND($I30*AY30,0) -> 0 | BA30: =+BA28 -> 30 | BB30: =+ROUND($I30*BA30,0) -> 1874160
C31: 3800 | D31: 3008 | E31: =+VLOOKUP(C31,'PRECIOS IDU 2025'!$A$1:$E$3189,2,FALSE) -> NIVELACION Y COMPACTACIÓN DE SUBRASANTE | F31: =+VLOOKUP(C31,'PRECIOS IDU 2025'!$A$1:$E$3189,3,FALSE) -> M2 | G31: =+ROUND(SUM(O31,Q31,S31,U31,W31,Y31,AA31,AC31,AG31,AI31,AK31,AM31,AO31,AQ31,AS31,AU31,AW31,AY31,BA31),2) -> 50 | H31: =+VLOOKUP(C31,'PRECIOS DE REFERENCIA APU'!$A$1:$D$2745,4,FALSE) -> 1785 | I31: =+ROUND(H31*(1+$J$117),0) -> 2445 | J31: =+ROUND(I31*G31,0) -> 122250 | L31: 10 | P31: =+ROUND($I31*O31,0) -> 0 | R31: =+ROUND($I31*Q31,0) -> 0 | T31: =+ROUND($I31*S31,0) -> 0 | V31: =+ROUND($I31*U31,0) -> 0 | X31: =+ROUND($I31*W31,0) -> 0 | Z31: =+ROUND($I31*Y31,0) -> 0 | AB31: =+ROUND($I31*AA31,0) -> 0 | AD31: =+ROUND($I31*AC31,0) -> 0 | AF31: =+ROUND($I31*AE31,0) -> 0 | AH31: =+ROUND($I31*AG31,0) -> 0 | AJ31: =+ROUND($I31*AI31,0) -> 0 | AL31: =+ROUND($I31*AK31,0) -> 0 | AN31: =+ROUND($I31*AM31,0) -> 0 | AP31: =+ROUND($I31*AO31,0) -> 0 | AR31: =+ROUND($I31*AQ31,0) -> 0 | AT31: =+ROUND($I31*AS31,0) -> 0 | AV31: =+ROUND($I31*AU31,0) -> 0 | AX31: =+ROUND($I31*AW31,0) -> 0 | AZ31: =+ROUND($I31*AY31,0) -> 0 | BA31: 50 | BB31: =+ROUND($I31*BA31,0) -> 122250
C32: 10016 | D32: 3009 | E32: =+VLOOKUP(C32,'PRECIOS IDU 2025'!$A$1:$E$3189,2,FALSE) -> ESTABILIZACION O MEJORAMIENTO DE SUBRASANTE CON RAJON = 6" A 12" (15 - 30 cm) Y SELLO CON SUBBASE GRANULAR CLASE C - Gr1 (SBGC_Gr1). INCLUYE (SUMINISTRO, EXTENDIDO, NIVELACION Y COMPACTACIÓN MECANICA CON EXCAVADORA MEDIANA SOBRE ORUGAS Y RODILLO VIBROCOMPACTADOR TANDEM (2,5 - 3,0 TON), TRANSPORTE DEL RAJON Y SELLO HASTA 21 KM) | F32: =+VLOOKUP(C32,'PRECIOS IDU 2025'!$A$1:$E$3189,3,FALSE) -> M3 | G32: =+ROUND(SUM(O32,Q32,S32,U32,W32,Y32,AA32,AC32,AG32,AI32,AK32,AM32,AO32,AQ32,AS32,AU32,AW32,AY32,BA32),2) -> 20 | H32: =+VLOOKUP(C32,'PRECIOS DE REFERENCIA APU'!$A$1:$D$3745,4,FALSE) -> 184603 | I32: =+ROUND(H32*(1+$J$117),0) -> 252906 | J32: =+ROUND(I32*G32,0) -> 5058120 | L32: 10 | P32: =+ROUND($I32*O32,0) -> 0 | R32: =+ROUND($I32*Q32,0) -> 0 | T32: =+ROUND($I32*S32,0) -> 0 | V32: =+ROUND($I32*U32,0) -> 0 | X32: =+ROUND($I32*W32,0) -> 0 | Z32: =+ROUND($I32*Y32,0) -> 0 | AB32: =+ROUND($I32*AA32,0) -> 0 | AD32: =+ROUND($I32*AC32,0) -> 0 | AF32: =+ROUND($I32*AE32,0) -> 0 | AH32: =+ROUND($I32*AG32,0) -> 0 | AJ32: =+ROUND($I32*AI32,0) -> 0 | AL32: =+ROUND($I32*AK32,0) -> 0 | AN32: =+ROUND($I32*AM32,0) -> 0 | AP32: =+ROUND($I32*AO32,0) -> 0 | AR32: =+ROUND($I32*AQ32,0) -> 0 | AT32: =+ROUND($I32*AS32,0) -> 0 | AV32: =+ROUND($I32*AU32,0) -> 0 | AX32: =+ROUND($I32*AW32,0) -> 0 | AZ32: =+ROUND($I32*AY32,0) -> 0 | BA32: 20 | BB32: =+ROUND($I32*BA32,0) -> 5058120
C33: 4015 | D33: 3011 | E33: =+VLOOKUP(C33,'PRECIOS IDU 2025'!$A$1:$E$3189,2,FALSE) -> GEOTEXTIL NO TEJIDO CON RESISTENCIA A LA TENSION GRAB: ENTRE 850 N Y 980 N. PARA SEPARACION SUBRASANTE/CAPAS GRANULARES. (INCLUYE SUMINISTRO E INSTALACION). | F33: =+VLOOKUP(C33,'PRECIOS IDU 2025'!$A$1:$E$3189,3,FALSE) -> M2 | G33: =+ROUND(SUM(O33,Q33,S33,U33,W33,Y33,AA33,AC33,AG33,AI33,AK33,AM33,AO33,AQ33,AS33,AU33,AW33,AY33,BA33),2) -> 30 | H33: =+VLOOKUP(C33,'PRECIOS DE REFERENCIA APU'!$A$1:$D$2745,4,FALSE) -> 22852 | I33: =+ROUND(H33*(1+$J$117),0) -> 31307 | J33: =+ROUND(I33*G33,0) -> 939210 | L33: 10 | P33: =+ROUND($I33*O33,0) -> 0 | R33: =+ROUND($I33*Q33,0) -> 0 | T33: =+ROUND($I33*S33,0) -> 0 | V33: =+ROUND($I33*U33,0) -> 0 | X33: =+ROUND($I33*W33,0) -> 0 | Z33: =+ROUND($I33*Y33,0) -> 0 | AB33: =+ROUND($I33*AA33,0) -> 0 | AD33: =+ROUND($I33*AC33,0) -> 0 | AF33: =+ROUND($I33*AE33,0) -> 0 | AH33: =+ROUND($I33*AG33,0) -> 0 | AJ33: =+ROUND($I33*AI33,0) -> 0 | AL33: =+ROUND($I33*AK33,0) -> 0 | AN33: =+ROUND($I33*AM33,0) -> 0 | AP33: =+ROUND($I33*AO33,0) -> 0 | AR33: =+ROUND($I33*AQ33,0) -> 0 | AT33: =+ROUND($I33*AS33,0) -> 0 | AV33: =+ROUND($I33*AU33,0) -> 0 | AX33: =+ROUND($I33*AW33,0) -> 0 | AZ33: =+ROUND($I33*AY33,0) -> 0 | BA33: 30 | BB33: =+ROUND($I33*BA33,0) -> 939210
C34: 4034 | D34: 3012 | E34: =+VLOOKUP(C34,'PRECIOS IDU 2025'!$A$1:$E$3189,2,FALSE) -> GEOTEXTIL TEJIDO CON RESISTENCIA A LA TENSION METODO TIRA ANCHA SENTIDO LONGITUDINAL: ENTRE 90 KN/M Y 110 KN/M. PARA SEPARACION SUBRASANTE/CAPAS GRANULARES. (INCLUYE SUMINISTRO E INSTALACION). | F34: =+VLOOKUP(C34,'PRECIOS IDU 2025'!$A$1:$E$3189,3,FALSE) -> M2 | G34: =+ROUND(SUM(O34,Q34,S34,U34,W34,Y34,AA34,AC34,AG34,AI34,AK34,AM34,AO34,AQ34,AS34,AU34,AW34,AY34,BA34),2) -> 30 | H34: =+VLOOKUP(C34,'PRECIOS DE REFERENCIA APU'!$A$1:$D$2745,4,FALSE) -> 33207 | I34: =+ROUND(H34*(1+$J$117),0) -> 45494 | J34: =+ROUND(I34*G34,0) -> 1364820 | L34: 10 | P34: =+ROUND($I34*O34,0) -> 0 | R34: =+ROUND($I34*Q34,0) -> 0 | T34: =+ROUND($I34*S34,0) -> 0 | V34: =+ROUND($I34*U34,0) -> 0 | X34: =+ROUND($I34*W34,0) -> 0 | Z34: =+ROUND($I34*Y34,0) -> 0 | AB34: =+ROUND($I34*AA34,0) -> 0 | AD34: =+ROUND($I34*AC34,0) -> 0 | AF34: =+ROUND($I34*AE34,0) -> 0 | AH34: =+ROUND($I34*AG34,0) -> 0 | AJ34: =+ROUND($I34*AI34,0) -> 0 | AL34: =+ROUND($I34*AK34,0) -> 0 | AN34: =+ROUND($I34*AM34,0) -> 0 | AP34: =+ROUND($I34*AO34,0) -> 0 | AR34: =+ROUND($I34*AQ34,0) -> 0 | AT34: =+ROUND($I34*AS34,0) -> 0 | AV34: =+ROUND($I34*AU34,0) -> 0 | AX34: =+ROUND($I34*AW34,0) -> 0 | AZ34: =+ROUND($I34*AY34,0) -> 0 | BA34: 30 | BB34: =+ROUND($I34*BA34,0) -> 1364820
C35: 4160 | D35: 3013 | E35: =+VLOOKUP(C35,'PRECIOS IDU 2025'!$A$1:$E$3189,2,FALSE) -> SUBBASE GRANULAR CLASE B (SBG_B) (SUMINISTRO, EXTENDIDO, NIVELACIÓN, HUMEDECIMIENTO Y COMPACTACIÓN CON VIBROCOMPACTADOR) | F35: =+VLOOKUP(C35,'PRECIOS IDU 2025'!$A$1:$E$3189,3,FALSE) -> M3 | G35: =+ROUND(SUM(O35,Q35,S35,U35,W35,Y35,AA35,AC35,AG35,AI35,AK35,AM35,AO35,AQ35,AS35,AU35,AW35,AY35,BA35),2) -> 20 | H35: =+VLOOKUP(C35,'PRECIOS DE REFERENCIA APU'!$A$1:$D$2745,4,FALSE) -> 170474 | I35: =+ROUND(H35*(1+$J$117),0) -> 233549 | J35: =+ROUND(I35*G35,0) -> 4670980 | L35: 1 | P35: =+ROUND($I35*O35,0) -> 0 | R35: =+ROUND($I35*Q35,0) -> 0 | T35: =+ROUND($I35*S35,0) -> 0 | V35: =+ROUND($I35*U35,0) -> 0 | X35: =+ROUND($I35*W35,0) -> 0 | Z35: =+ROUND($I35*Y35,0) -> 0 | AB35: =+ROUND($I35*AA35,0) -> 0 | AD35: =+ROUND($I35*AC35,0) -> 0 | AF35: =+ROUND($I35*AE35,0) -> 0 | AH35: =+ROUND($I35*AG35,0) -> 0 | AJ35: =+ROUND($I35*AI35,0) -> 0 | AL35: =+ROUND($I35*AK35,0) -> 0 | AN35: =+ROUND($I35*AM35,0) -> 0 | AP35: =+ROUND($I35*AO35,0) -> 0 | AR35: =+ROUND($I35*AQ35,0) -> 0 | AT35: =+ROUND($I35*AS35,0) -> 0 | AV35: =+ROUND($I35*AU35,0) -> 0 | AX35: =+ROUND($I35*AW35,0) -> 0 | AZ35: =+ROUND($I35*AY35,0) -> 0 | BA35: 20 | BB35: =+ROUND($I35*BA35,0) -> 4670980
C36: 4747 | D36: 3014 | E36: =+VLOOKUP(C36,'PRECIOS IDU 2025'!$A$1:$E$3189,2,FALSE) -> SUBBASE GRANULAR CLASE B (SBG_B) CON RECICLADO DE CONCRETO (SUMINISTRO, EXTENDIDO, NIVELACIÓN, HUMEDECIMIENTO Y COMPACTACIÓN CON VIBROCOMPACTADOR) | F36: =+VLOOKUP(C36,'PRECIOS IDU 2025'!$A$1:$E$3189,3,FALSE) -> M3 | G36: =+ROUND(SUM(O36,Q36,S36,U36,W36,Y36,AA36,AC36,AG36,AI36,AK36,AM36,AO36,AQ36,AS36,AU36,AW36,AY36,BA36),2) -> 30 | H36: =+VLOOKUP(C36,'PRECIOS DE REFERENCIA APU'!$A$1:$D$2745,4,FALSE) -> 163821 | I36: =+ROUND(H36*(1+$J$117),0) -> 224435 | J36: =+ROUND(I36*G36,0) -> 6733050 | L36: 1 | P36: =+ROUND($I36*O36,0) -> 0 | R36: =+ROUND($I36*Q36,0) -> 0 | T36: =+ROUND($I36*S36,0) -> 0 | V36: =+ROUND($I36*U36,0) -> 0 | X36: =+ROUND($I36*W36,0) -> 0 | Z36: =+ROUND($I36*Y36,0) -> 0 | AB36: =+ROUND($I36*AA36,0) -> 0 | AD36: =+ROUND($I36*AC36,0) -> 0 | AF36: =+ROUND($I36*AE36,0) -> 0 | AH36: =+ROUND($I36*AG36,0) -> 0 | AJ36: =+ROUND($I36*AI36,0) -> 0 | AL36: =+ROUND($I36*AK36,0) -> 0 | AN36: =+ROUND($I36*AM36,0) -> 0 | AP36: =+ROUND($I36*AO36,0) -> 0 | AR36: =+ROUND($I36*AQ36,0) -> 0 | AT36: =+ROUND($I36*AS36,0) -> 0 | AV36: =+ROUND($I36*AU36,0) -> 0 | AX36: =+ROUND($I36*AW36,0) -> 0 | AZ36: =+ROUND($I36*AY36,0) -> 0 | BA36: 30 | BB36: =+ROUND($I36*BA36,0) -> 6733050
C37: 3708 | D37: 3020 | E37: =+VLOOKUP(C37,'PRECIOS IDU 2025'!$A$1:$E$3189,2,FALSE) -> ACERO DE REFUERZO FY=60000 PSI. SUMINISTRO E INSTALACIÓN. DE ACUERDO A LO ESTIPULADO POR LA NSR-10, NORMA ASTM A-706, ICONTEC 2289 PARA EL ACERO PDR-60. INCLUYE TODOS LOS COSTOS DE SUMINISTRO DE MATERIALES (REFUERZO (G60) FIGURADO, CORRUGADO, INCLUYE EL ALAMBRE DE AMARRE), EQUIPOS, TRANSPORTES, MANEJO, ALMACENAMIENTO, DESPERDICIOS Y MANO DE OBRA. | F37: =+VLOOKUP(C37,'PRECIOS IDU 2025'!$A$1:$E$3189,3,FALSE) -> KG | G37: =+ROUND(SUM(O37,Q37,S37,U37,W37,Y37,AA37,AC37,AG37,AI37,AK37,AM37,AO37,AQ37,AS37,AU37,AW37,AY37,BA37),2) -> 80 | H37: =+VLOOKUP(C37,'PRECIOS DE REFERENCIA APU'!$A$1:$D$2745,4,FALSE) -> 5749 | I37: =+ROUND(H37*(1+$J$117),0) -> 7876 | J37: =+ROUND(I37*G37,0) -> 630080 | L37: 10 | P37: =+ROUND($I37*O37,0) -> 0 | R37: =+ROUND($I37*Q37,0) -> 0 | T37: =+ROUND($I37*S37,0) -> 0 | V37: =+ROUND($I37*U37,0) -> 0 | X37: =+ROUND($I37*W37,0) -> 0 | Z37: =+ROUND($I37*Y37,0) -> 0 | AB37: =+ROUND($I37*AA37,0) -> 0 | AD37: =+ROUND($I37*AC37,0) -> 0 | AF37: =+ROUND($I37*AE37,0) -> 0 | AH37: =+ROUND($I37*AG37,0) -> 0 | AJ37: =+ROUND($I37*AI37,0) -> 0 | AL37: =+ROUND($I37*AK37,0) -> 0 | AN37: =+ROUND($I37*AM37,0) -> 0 | AP37: =+ROUND($I37*AO37,0) -> 0 | AR37: =+ROUND($I37*AQ37,0) -> 0 | AT37: =+ROUND($I37*AS37,0) -> 0 | AV37: =+ROUND($I37*AU37,0) -> 0 | AX37: =+ROUND($I37*AW37,0) -> 0 | AZ37: =+ROUND($I37*AY37,0) -> 0 | BA37: 80 | BB37: =+ROUND($I37*BA37,0) -> 630080
C38: 4959 | D38: 3021 | E38: =+VLOOKUP(C38,'PRECIOS IDU 2025'!$A$1:$E$3189,2,FALSE) -> ACERO LISO PARA TRANSFERENCIA DE LOSAS D= 1 1/4" (NO INCLUYE CANASTILLA). SUMINISTRO E INSTALACIÓN. | F38: =+VLOOKUP(C38,'PRECIOS IDU 2025'!$A$1:$E$3189,3,FALSE) -> KG | G38: =+ROUND(SUM(O38,Q38,S38,U38,W38,Y38,AA38,AC38,AG38,AI38,AK38,AM38,AO38,AQ38,AS38,AU38,AW38,AY38,BA38),2) -> 20 | H38: =+VLOOKUP(C38,'PRECIOS DE REFERENCIA APU'!$A$1:$D$2745,4,FALSE) -> 8636 | I38: =+ROUND(H38*(1+$J$117),0) -> 11831 | J38: =+ROUND(I38*G38,0) -> 236620 | L38: 1 | P38: =+ROUND($I38*O38,0) -> 0 | R38: =+ROUND($I38*Q38,0) -> 0 | T38: =+ROUND($I38*S38,0) -> 0 | V38: =+ROUND($I38*U38,0) -> 0 | X38: =+ROUND($I38*W38,0) -> 0 | Z38: =+ROUND($I38*Y38,0) -> 0 | AB38: =+ROUND($I38*AA38,0) -> 0 | AD38: =+ROUND($I38*AC38,0) -> 0 | AF38: =+ROUND($I38*AE38,0) -> 0 | AH38: =+ROUND($I38*AG38,0) -> 0 | AJ38: =+ROUND($I38*AI38,0) -> 0 | AL38: =+ROUND($I38*AK38,0) -> 0 | AN38: =+ROUND($I38*AM38,0) -> 0 | AP38: =+ROUND($I38*AO38,0) -> 0 | AR38: =+ROUND($I38*AQ38,0) -> 0 | AT38: =+ROUND($I38*AS38,0) -> 0 | AV38: =+ROUND($I38*AU38,0) -> 0 | AX38: =+ROUND($I38*AW38,0) -> 0 | AZ38: =+ROUND($I38*AY38,0) -> 0 | BA38: 20 | BB38: =+ROUND($I38*BA38,0) -> 236620
C39: 7713 | D39: 3022 | E39: =+VLOOKUP(C39,'PRECIOS IDU 2025'!$A$1:$E$3189,2,FALSE) -> (DOVELAS) ACERO LISO PARA TRANSFERENCIA DE LOSAS D= 1 1/2" (NO INCLUYE CANASTILLA). SUMINISTRO E INSTALACIÓN. | F39: =+VLOOKUP(C39,'PRECIOS IDU 2025'!$A$1:$E$3189,3,FALSE) -> KG | G39: =+ROUND(SUM(O39,Q39,S39,U39,W39,Y39,AA39,AC39,AG39,AI39,AK39,AM39,AO39,AQ39,AS39,AU39,AW39,AY39,BA39),2) -> 30 | H39: =+VLOOKUP(C39,'PRECIOS DE REFERENCIA APU'!$A$1:$D$2745,4,FALSE) -> 8040 | I39: =+ROUND(H39*(1+$J$117),0) -> 11015 | J39: =+ROUND(I39*G39,0) -> 330450 | L39: 10 | P39: =+ROUND($I39*O39,0) -> 0 | R39: =+ROUND($I39*Q39,0) -> 0 | T39: =+ROUND($I39*S39,0) -> 0 | V39: =+ROUND($I39*U39,0) -> 0 | X39: =+ROUND($I39*W39,0) -> 0 | Z39: =+ROUND($I39*Y39,0) -> 0 | AB39: =+ROUND($I39*AA39,0) -> 0 | AD39: =+ROUND($I39*AC39,0) -> 0 | AF39: =+ROUND($I39*AE39,0) -> 0 | AH39: =+ROUND($I39*AG39,0) -> 0 | AJ39: =+ROUND($I39*AI39,0) -> 0 | AL39: =+ROUND($I39*AK39,0) -> 0 | AN39: =+ROUND($I39*AM39,0) -> 0 | AP39: =+ROUND($I39*AO39,0) -> 0 | AR39: =+ROUND($I39*AQ39,0) -> 0 | AT39: =+ROUND($I39*AS39,0) -> 0 | AV39: =+ROUND($I39*AU39,0) -> 0 | AX39: =+ROUND($I39*AW39,0) -> 0 | AZ39: =+ROUND($I39*AY39,0) -> 0 | BA39: 30 | BB39: =+ROUND($I39*BA39,0) -> 330450
C40: 7714 | D40: 3023 | E40: =+VLOOKUP(C40,'PRECIOS IDU 2025'!$A$1:$E$3189,2,FALSE) -> (DOVELAS) ACERO LISO PARA TRANSFERENCIA DE LOSAS D= 1" (NO INCLUYE CANASTILLA). SUMINISTRO E INSTALACIÓN. | F40: =+VLOOKUP(C40,'PRECIOS IDU 2025'!$A$1:$E$3189,3,FALSE) -> KG | G40: =+ROUND(SUM(O40,Q40,S40,U40,W40,Y40,AA40,AC40,AG40,AI40,AK40,AM40,AO40,AQ40,AS40,AU40,AW40,AY40,BA40),2) -> 30 | H40: =+VLOOKUP(C40,'PRECIOS DE REFERENCIA APU'!$A$1:$D$2745,4,FALSE) -> 8040 | I40: =+ROUND(H40*(1+$J$117),0) -> 11015 | J40: =+ROUND(I40*G40,0) -> 330450 | L40: 10 | P40: =+ROUND($I40*O40,0) -> 0 | R40: =+ROUND($I40*Q40,0) -> 0 | T40: =+ROUND($I40*S40,0) -> 0 | V40: =+ROUND($I40*U40,0) -> 0 | X40: =+ROUND($I40*W40,0) -> 0 | Z40: =+ROUND($I40*Y40,0) -> 0 | AB40: =+ROUND($I40*AA40,0) -> 0 | AD40: =+ROUND($I40*AC40,0) -> 0 | AF40: =+ROUND($I40*AE40,0) -> 0 | AH40: =+ROUND($I40*AG40,0) -> 0 | AJ40: =+ROUND($I40*AI40,0) -> 0 | AL40: =+ROUND($I40*AK40,0) -> 0 | AN40: =+ROUND($I40*AM40,0) -> 0 | AP40: =+ROUND($I40*AO40,0) -> 0 | AR40: =+ROUND($I40*AQ40,0) -> 0 | AT40: =+ROUND($I40*AS40,0) -> 0 | AV40: =+ROUND($I40*AU40,0) -> 0 | AX40: =+ROUND($I40*AW40,0) -> 0 | AZ40: =+ROUND($I40*AY40,0) -> 0 | BA40: 30 | BB40: =+ROUND($I40*BA40,0) -> 330450
C41: 3394 | D41: 3024 | E41: =+VLOOKUP(C41,'PRECIOS IDU 2025'!$A$1:$E$3189,2,FALSE) -> LOSA DE CONCRETO MR41 (SUMINISTRO, FORMALETEADO, COLOCACIÓN Y ACABADO. NO INCLUYE ACERO, CURADO, JUNTAS) | F41: =+VLOOKUP(C41,'PRECIOS IDU 2025'!$A$1:$E$3189,3,FALSE) -> M3 | G41: =+ROUND(SUM(O41,Q41,S41,U41,W41,Y41,AA41,AC41,AG41,AI41,AK41,AM41,AO41,AQ41,AS41,AU41,AW41,AY41,BA41),2) -> 20 | H41: =+VLOOKUP(C41,'PRECIOS DE REFERENCIA APU'!$A$1:$D$2745,4,FALSE) -> 894526 | I41: =+ROUND(H41*(1+$J$117),0) -> 1225501 | J41: =+ROUND(I41*G41,0) -> 24510020 | L41: 10 | P41: =+ROUND($I41*O41,0) -> 0 | R41: =+ROUND($I41*Q41,0) -> 0 | T41: =+ROUND($I41*S41,0) -> 0 | V41: =+ROUND($I41*U41,0) -> 0 | X41: =+ROUND($I41*W41,0) -> 0 | Z41: =+ROUND($I41*Y41,0) -> 0 | AB41: =+ROUND($I41*AA41,0) -> 0 | AD41: =+ROUND($I41*AC41,0) -> 0 | AF41: =+ROUND($I41*AE41,0) -> 0 | AH41: =+ROUND($I41*AG41,0) -> 0 | AJ41: =+ROUND($I41*AI41,0) -> 0 | AL41: =+ROUND($I41*AK41,0) -> 0 | AN41: =+ROUND($I41*AM41,0) -> 0 | AP41: =+ROUND($I41*AO41,0) -> 0 | AR41: =+ROUND($I41*AQ41,0) -> 0 | AT41: =+ROUND($I41*AS41,0) -> 0 | AV41: =+ROUND($I41*AU41,0) -> 0 | AX41: =+ROUND($I41*AW41,0) -> 0 | AZ41: =+ROUND($I41*AY41,0) -> 0 | BA41: 20 | BB41: =+ROUND($I41*BA41,0) -> 24510020
C42: 3806 | D42: 3026 | E42: =+VLOOKUP(C42,'PRECIOS IDU 2025'!$A$1:$E$3189,2,FALSE) -> CURADO DE LOSAS DE CONCRETO (SUMINISTRO Y APLICACIÓN) | F42: =+VLOOKUP(C42,'PRECIOS IDU 2025'!$A$1:$E$3189,3,FALSE) -> M2 | G42: =+ROUND(SUM(O42,Q42,S42,U42,W42,Y42,AA42,AC42,AG42,AI42,AK42,AM42,AO42,AQ42,AS42,AU42,AW42,AY42,BA42),2) -> 20 | H42: =+VLOOKUP(C42,'PRECIOS DE REFERENCIA APU'!$A$1:$D$2745,4,FALSE) -> 2840 | I42: =+ROUND(H42*(1+$J$117),0) -> 3891 | J42: =+ROUND(I42*G42,0) -> 77820 | L42: 10 | P42: =+ROUND($I42*O42,0) -> 0 | R42: =+ROUND($I42*Q42,0) -> 0 | T42: =+ROUND($I42*S42,0) -> 0 | V42: =+ROUND($I42*U42,0) -> 0 | X42: =+ROUND($I42*W42,0) -> 0 | Z42: =+ROUND($I42*Y42,0) -> 0 | AB42: =+ROUND($I42*AA42,0) -> 0 | AD42: =+ROUND($I42*AC42,0) -> 0 | AF42: =+ROUND($I42*AE42,0) -> 0 | AH42: =+ROUND($I42*AG42,0) -> 0 | AJ42: =+ROUND($I42*AI42,0) -> 0 | AL42: =+ROUND($I42*AK42,0) -> 0 | AN42: =+ROUND($I42*AM42,0) -> 0 | AP42: =+ROUND($I42*AO42,0) -> 0 | AR42: =+ROUND($I42*AQ42,0) -> 0 | AT42: =+ROUND($I42*AS42,0) -> 0 | AV42: =+ROUND($I42*AU42,0) -> 0 | AX42: =+ROUND($I42*AW42,0) -> 0 | AZ42: =+ROUND($I42*AY42,0) -> 0 | BA42: 20 | BB42: =+ROUND($I42*BA42,0) -> 77820
C43: 3837 | D43: 3027 | E43: =+VLOOKUP(C43,'PRECIOS IDU 2025'!$A$1:$E$3189,2,FALSE) -> SELLADO DE JUNTAS EN PAVIMENTO DE CONCRETO HIDRAULICO (INCLUYE LIMPIEZA, SUMINISTRO E INSTALACIÓN DE FONDO Y SELLANTE) | F43: =+VLOOKUP(C43,'PRECIOS IDU 2025'!$A$1:$E$3189,3,FALSE) -> ML | G43: =+ROUND(SUM(O43,Q43,S43,U43,W43,Y43,AA43,AC43,AG43,AI43,AK43,AM43,AO43,AQ43,AS43,AU43,AW43,AY43,BA43),2) -> 40 | H43: =+VLOOKUP(C43,'PRECIOS DE REFERENCIA APU'!$A$1:$D$2745,4,FALSE) -> 15011 | I43: =+ROUND(H43*(1+$J$117),0) -> 20565 | J43: =+ROUND(I43*G43,0) -> 822600 | L43: 10 | P43: =+ROUND($I43*O43,0) -> 0 | R43: =+ROUND($I43*Q43,0) -> 0 | T43: =+ROUND($I43*S43,0) -> 0 | V43: =+ROUND($I43*U43,0) -> 0 | X43: =+ROUND($I43*W43,0) -> 0 | Z43: =+ROUND($I43*Y43,0) -> 0 | AB43: =+ROUND($I43*AA43,0) -> 0 | AD43: =+ROUND($I43*AC43,0) -> 0 | AF43: =+ROUND($I43*AE43,0) -> 0 | AH43: =+ROUND($I43*AG43,0) -> 0 | AJ43: =+ROUND($I43*AI43,0) -> 0 | AL43: =+ROUND($I43*AK43,0) -> 0 | AN43: =+ROUND($I43*AM43,0) -> 0 | AP43: =+ROUND($I43*AO43,0) -> 0 | AR43: =+ROUND($I43*AQ43,0) -> 0 | AT43: =+ROUND($I43*AS43,0) -> 0 | AV43: =+ROUND($I43*AU43,0) -> 0 | AX43: =+ROUND($I43*AW43,0) -> 0 | AZ43: =+ROUND($I43*AY43,0) -> 0 | BA43: 40 | BB43: =+ROUND($I43*BA43,0) -> 822600
C44: 5404 | D44: 3028 | E44: =+VLOOKUP(C44,'PRECIOS IDU 2025'!$A$1:$E$3189,2,FALSE) -> CANASTILLA PASAJUNTAS (INCLUYE SUMINISTRO Y FIJACIÓN) | F44: =+VLOOKUP(C44,'PRECIOS IDU 2025'!$A$1:$E$3189,3,FALSE) -> KG | G44: =+ROUND(SUM(O44,Q44,S44,U44,W44,Y44,AA44,AC44,AG44,AI44,AK44,AM44,AO44,AQ44,AS44,AU44,AW44,AY44,BA44),2) -> 50 | H44: =+VLOOKUP(C44,'PRECIOS DE REFERENCIA APU'!$A$1:$D$2745,4,FALSE) -> 10669 | I44: =+ROUND(H44*(1+$J$117),0) -> 14617 | J44: =+ROUND(I44*G44,0) -> 730850 | L44: 10 | P44: =+ROUND($I44*O44,0) -> 0 | R44: =+ROUND($I44*Q44,0) -> 0 | T44: =+ROUND($I44*S44,0) -> 0 | V44: =+ROUND($I44*U44,0) -> 0 | X44: =+ROUND($I44*W44,0) -> 0 | Z44: =+ROUND($I44*Y44,0) -> 0 | AB44: =+ROUND($I44*AA44,0) -> 0 | AD44: =+ROUND($I44*AC44,0) -> 0 | AF44: =+ROUND($I44*AE44,0) -> 0 | AH44: =+ROUND($I44*AG44,0) -> 0 | AJ44: =+ROUND($I44*AI44,0) -> 0 | AL44: =+ROUND($I44*AK44,0) -> 0 | AN44: =+ROUND($I44*AM44,0) -> 0 | AP44: =+ROUND($I44*AO44,0) -> 0 | AR44: =+ROUND($I44*AQ44,0) -> 0 | AT44: =+ROUND($I44*AS44,0) -> 0 | AV44: =+ROUND($I44*AU44,0) -> 0 | AX44: =+ROUND($I44*AW44,0) -> 0 | AZ44: =+ROUND($I44*AY44,0) -> 0 | BA44: 50 | BB44: =+ROUND($I44*BA44,0) -> 730850
C45: 2. MANTENIMIENTO RUTINARIO-PERIODICO VIA PAVIMENTO FLEXIBLE | G45: =+ROUND(SUM(O45,Q45,S45,U45,W45,Y45,AA45,AC45,AG45,AI45,AK45,AM45,AO45,AQ45,AS45,AU45,AW45,AY45,BA45),2) -> 0 | I45: SUBTOTAL | J45: =+SUM(J25:J44) -> 59329440 | L45: 0 | AN45: =+ROUND($I45*AM45,0) -> #VALUE! | AR45: =+ROUND($I45*AQ45,0) -> #VALUE! | AT45: =+ROUND($I45*AS45,0) -> #VALUE! | AV45: =+ROUND($I45*AU45,0) -> #VALUE! | AX45: =+ROUND($I45*AW45,0) -> #VALUE! | AZ45: =+ROUND($I45*AY45,0) -> #VALUE!
C46: 3007 | D46: 4001 | E46: =+VLOOKUP(C46,'PRECIOS IDU 2025'!$A$1:$E$3189,2,FALSE) -> REPLANTEO GENERAL | F46: =+VLOOKUP(C46,'PRECIOS IDU 2025'!$A$1:$E$3189,3,FALSE) -> M2 | G46: =+ROUND(SUM(O46,Q46,S46,U46,W46,Y46,AA46,AC46,AE46,AG46,AI46,AK46,AM46,AO46,AQ46,AS46,AU46,AW46,AY46,BA46),2) -> 503 | H46: =+VLOOKUP(C46,'PRECIOS DE REFERENCIA APU'!$A$1:$D$2745,4,FALSE) -> 996 | I46: =+ROUND(H46*(1+$J$117),0) -> 1365 | J46: =+ROUND(I46*G46,0) -> 686595 | L46: 186.7 | AD46: =+ROUND($I46*AC46,0) -> 0 | AF46: =+ROUND($I46*AE46,0) -> 0 | AG46: =2*4 -> 8 | AH46: =+ROUND($I46*AG46,0) -> 10920 | AI46: =4*6 -> 24 | AJ46: =+ROUND($I46*AI46,0) -> 32760 | AK46: =7*3 -> 21 | AL46: =+ROUND($I46*AK46,0) -> 28665 | AM46: =6*5 -> 30 | AN46: =+ROUND($I46*AM46,0) -> 40950 | AO46: =4*5 -> 20 | AP46: =+ROUND($I46*AO46,0) -> 27300 | BA46: 400 | BB46: =+ROUND($I46*BA46,0) -> 546000
...

Sheet PRECIOS DE REFERENCIA APU
A1: 3007 | B1: REPLANTEO GENERAL | C1: M2 | D1: 996 | E1: Actualización 2025-I Fase I
A2: 3009 | B2: EXCAVACION MANUAL PARA REDES PROFUNDIDAD 0M - 2M (INCLUYE CARGUE) | C2: M3 | D2: 55856 | E2: Actualización 2025-I Fase I
A3: 3010 | B3: DEMOLICION PAVIMENTO ASFALTICO (INCLUYE CARGUE). NO INCLUYE TRANSPORTE Y DISPOSICIÓN FINAL DE SOBRANTES. | C3: M3 | D3: 45548 | E3: Actualización 2025-I Fase I
A4: 3011 | B4: DEMOLICION MANUAL SARDINEL EXISTENTE (INCLUYE CARGUE). NO INCLUYE TRANSPORTE Y DISPOSICIÓN FINAL DE SOBRANTES. | C4: ML | D4: 7827 | E4: Actualización 2025-I Fase I
A5: 3012 | B5: DEMOLICIÓN PISOS DE CONCRETO (ESPESOR VARIABLE HASTA 0.10 M. INCLUYE CARGUE). NO INCLUYE TRANSPORTE Y DISPOSICIÓN FINAL DE SOBRANTES. | C5: M2 | D5: 9810 | E5: Actualización 2025-I Fase I
A6: 3015 | B6: RETIRO DE POSTES DE AP/LA (INCLUYE TRASLADO A SITIO DE ACOPIO) | C6: UN | D6: 263096 | E6: Actualización 2025-I Fase I
A7: 3017 | B7: TRANSPORTE Y DISPOSICIÓN FINAL DE ESCOMBROS EN SITIO AUTORIZADO (DISTANCIA DE TRANSPORTE 21 KM). A DISTANCIA MAYOR DEL ACARREO LIBRE (90 M) EN SITIO AUTORIZADO POR LA ENTIDAD AMBIENTAL COMPETENTE. | C7: M3 | D7: 45600 | E7: Actualización 2025-I Fase I
A8: 3018 | B8: RELLENO EN TIERRA NEGRA PARA EMPRADIZACION (SUMINISTRO Y EXTENDIDO) | C8: M3 | D8: 105111 | E8: Actualización 2025-I Fase I
A9: 3021 | B9: DEMOLICION PAVIMENTO ASFALTICO (ESPESOR VARIABLE. INCLUYE CARGUE). NO INCLUYE TRANSPORTE Y DISPOSICIÓN FINAL DE SOBRANTES. | C9: M2 | D9: 8874 | E9: Actualización 2025-I Fase I
A10: 3022 | B10: DEMOLICIÓN PISOS DE CONCRETO (INCLUYE CARGUE). NO INCLUYE TRANSPORTE Y DISPOSICIÓN FINAL DE SOBRANTES. | C10: M3 | D10: 68205 | E10: Actualización 2025-I Fase II + M.O. Ley 2101 de 2021
A11: 3024 | B11: RELLENO PARA REDES EN ARENA DE PEÑA (SUMINISTRO, EXTENDIDO, HUMEDECIMIENTO Y COMPACTACIÓN) | C11: M3 | D11: 160860 | E11: Actualización 2025-I Fase I
A12: 3027 | B12: SARDINEL TIPO A10 (SUMINISTRO E INSTALACIÓN. INCLUYE 3CM MORTERO 1:5) | C12: ML | D12: 84115 | E12: Actualización 2025-I Fase I
... A2745: 8628 | B2745: NIVELACIÓN DE CÁMARA TIPO "F2" TELECOMUNICACIONES UNE - EPM H= 0.14m (Dimensiones internas L=0.41 m, B=0,36m, A=0.56 m) (Incluye demolición de cinta y retiro de tapa, transporte y disposición de escombros, suministro e instalación de ladrillos, mortero, minicargador, acero de refuerzo. | C2745: UN | D2745: 239603 | E2745: Actualización 2025-I Fase II + M.O. Ley 2101 de 2021
A2746: 8629 | B2746: CANAL DE DRENAJE MONOLÍTICO Y REJA EN CONCRETO POLIMÉRICO RD 150V H480 F900 (1.00 X 0.21 X 0.48) m (Incluye concreto 21 MPa para cama y atraque. Incluye suministro, instalación y prueba de estanqueidad). | C2746: ML | D2746: 1287020
A2747: 8631 | B2747: EMPATE ORTOGONAL PVC - AC 4"X4" SEGÚN NORMA NS-023, INCLUYE SUMINISTRO E INSTALACIÓN DE TUBERÍA PVC D=4" U.M RDE 21=1 ML, TEE HD 4"X4" PARA AC=1 UN, UG HD D=4"=3 UN, ADAPTADOR U.S. D=4"=1 UN, UR HD D=4"=1 UN (Suministro e instalación). | C2747: UN | D2747: 1279700
A2748: 8632 | B2748: CANAL DE DRENAJE MONOLÍTICO Y REJA EN CONCRETO POLIMÉRICO PD 100V H230 D400 (1.00 X 0.15 X 0.23) m (Incluye concreto 21 MPa para cama y atraque. Incluye suministro, instalación y prueba de estanqueidad). | C2748: ML | D2748: 580846
A2749: 8633 | B2749: CANAL DE DRENAJE MONOLÍTICO Y REJA EN CONCRETO POLIMÉRICO RD 200V H330 F900 (1.00 X 0.26 X 0.33) m, INCLUYE CONCRETO 21 Mpa PARA CAMA Y ATRAQUE (Incluye suministro, instalación y prueba de estanqueidad). | C2749: ML | D2749: 1278605
A2750: 8634 | B2750: EMPATE ORTOGONAL PVC - HG 4"X4" SEGÚN NORMA NS-023, INCLUYE SUMINISTRO E INSTALACIÓN DE TUBERÍA PVC D=4" U.M RDE 21=1 ML, TEE HD 4"X4" PARA AC=1 UN, UG HD D=4"=3 UN, ADAPTADOR U.S. D=4"=1 UN, UR HD D=4"=1 UN (Suministro e instalación). | C2750: UN | D2750: 1304026
A2751: 8636 | B2751: EMPATE ORTOGONAL PVC - PVC 4"X3" SEGÚN NORMA NS-023, INCLUYE SUMINISTRO E INSTALACIÓN DE TUBERÍA PVC D=4" U.M RDE 21=1 ML, TEE HD EL 4"X3"=1 UN, UZ U.M PVC D=4"=1 UN, UZ U.M PVC D=3"=1 UN, UR U.M PVC D=4"=1 UN, UR U.M PVC D=3"=1 UN (Suministro e instalación). | C2751: UN | D2751: 724910
A2752: 8637 | B2752: EMPATE ORTOGONAL PVC - AC 6"X6" SEGÚN NORMA NS-023, INCLUYE SUMINISTRO E INSTALACIÓN DE TUBERÍA PVC D=6" U.M RDE 21=1 ML, TEE HD 6"X6" PARA AC=1 UN, UG HD D=6"=3 UN, UZ U.M PVC D=6"=1 UN, UR HD D=6"=1 UN (Suministro e instalación). | C2752: UN | D2752: 2178690
A2753: 8638 | B2753: CAJA PARA CONEXIÓN DE DRENAJE EN CONCRETO REFORZADO 28 MPa (Dimensiones internas: (0.9x0.9) m, H=1.94 m, e=0,2 m) (Incluye muros, concreto de limpieza e=0,05 m, placa de base y placa de cubierta e=0,16 m, dos arobases y arotapas HF según NP-024. Suministro y construcción. | C2753: UN | D2753: 4814413
A2754: 8639 | B2754: CAJA PARA CONEXIÓN DE DRENAJE EN CONCRETO REFORZADO 28 MPa (Dimensiones internas: (1.4x1.5) m, H=2.23 m, e=0,2 m) (Incluye muros, concreto de limpieza e=0,05 m, placa de base y placa de cubierta e=0,16 m, dos arobases y arotapas HF según NP-024. Suministro y construcción. | C2754: UN | D2754: 8159104
A2755: 8640 | B2755: TAPÓN HD EXTREMO JUNTA HIDRÁULICA D=3" (Suministro e instalación). | C2755: UN | D2755: 162462
A2756: 8641 | B2756: TEE HD EXTREMO JUNTA HIDRÁULICA 10"x6" (Suministro e instalación). | C2756: UN | D2756: 2019710
A2757: 8642 | B2757: CODO HD 22.5° EXTREMO JUNTA HIDRÁULICA PARA PVC D= 2" (Suministro e instalación) | C2757: UN | D2757: 134564
... A3173: 10639 | B3173: ARQUEOLOGÍA PÚBLICA (SOCIALIZACIÓN DE LA IMPLEMENTACIÓN DEL PLAN DE MANEJO ARQUEOLÓGICO INCLUYE PIEZAS DE COMUNICACIÓN). | C3173: GLB/MES | D3173: 12093

Sheet PRECIOS DE REFERENCIA INSUMOS
A1: 322 | B1: CONCRETO GRAVA COMÚN 2000 PSI 14 MPa (140 Kg/m2) | C1: M3 | D1: 536920 | E1: Actualización 2025-I Fase I
A2: 323 | B2: CONCRETO GRAVA COMÚN 2500 PSI 17 MPa (175 Kg/cm2) | C2: M3 | D2: 575187 | E2: Actualización 2025-I Fase I
A3: 324 | B3: CONCRETO GRAVA COMÚN 3000 PSI 21 MPa (210 Kg/cm2) | C3: M3 | D3: 573851 | E3: Actualización 2025-I Fase I
A4: 325 | B4: CONCRETO GRAVA COMÚN 3500 PSI 24 MPa (245 Kg/cm2) | C4: M3 | D4: 589499 | E4: Actualización 2025-I Fase I
A5: 326 | B5: CONCRETO GRAVA COMÚN 4000 PSI 28 MPa (280 Kg/cm2) | C5: M3 | D5: 610583 | E5: Actualización 2025-I Fase I
A6: 328 | B6: CONCRETO GRAVA COMÚN 5000 PSI 34 MPa (350 Kg/cm2) | C6: M3 | D6: 637049 | E6: Actualización 2025-I Fase I
A7: 333 | B7: CONCRETO GRAVA FINA 3000 PSI 21 MPa (210 Kg/cm2) | C7: M3 | D7: 586995 | E7: Actualización 2025-I Fase I
A8: 366 | B8: MORTERO 2000 PSI 14 MPa (140 Kg/cm2) | C8: M3 | D8: 623456 | E8: Actualización 2025-I Fase I
A9: 1505 | B9: COMPACTADOR DE LLANTAS - MASA SIN LASTRES DE 9 A 11 TONELADAS - INCLUYE OPERARIO Y COMBUSTIBLE | C9: HR | D9: 189970 | E9: Actualización 2025-I Fase I
A10: 1512 | B10: GRAMA | C10: M2 | D10: 18794 | E10: Actualización 2025-I Fase II + M.O. Ley 2101 de 2021
A11: 1515 | B11: FORMALETA METÁLICA SARDINEL | C11: ML/DI | D11: 1131 | E11: Actualización 2025-I Fase I
A12: 1794 | B12: ALAMBRE RECOCIDO No.18 | C12: KG | D12: 5501 | E12: Actualización 2025-I Fase I
... A2745: 13590 | B2745: GEOMALLA BIAXIAL CON RESISTENCIA ULTIMA A LA TENSION, SENTIDO LONGITUDINAL Y TRANSVERSAL: ENTRE 100 KN/M Y 106 KN/M | C2745: M2 | D2745: 18568 | E2745: Actualización 2025-I Fase II + M.O. Ley 2101 de 2021
A2746: 8629 | B2746: CANAL DE DRENAJE MONOLÍTICO Y REJA EN CONCRETO POLIMÉRICO RD 150V H480 F900 (1.00 X 0.21 X 0.48) m (Incluye concreto 21 MPa para cama y atraque. Incluye suministro, instalación y prueba de estanqueidad). | C2746: ML | D2746: 1287020
A2747: 8631 | B2747: EMPATE ORTOGONAL PVC - AC 4"X4" SEGÚN NORMA NS-023, INCLUYE SUMINISTRO E INSTALACIÓN DE TUBERÍA PVC D=4" U.M RDE 21=1 ML, TEE HD 4"X4" PARA AC=1 UN, UG HD D=4"=3 UN, ADAPTADOR U.S. D=4"=1 UN, UR HD D=4"=1 UN (Suministro e instalación). | C2747: UN | D2747: 1279700
A2748: 8632 | B2748: CANAL DE DRENAJE MONOLÍTICO Y REJA EN CONCRETO POLIMÉRICO PD 100V H230 D400 (1.00 X 0.15 X 0.23) m (Incluye concreto 21 MPa para cama y atraque. Incluye suministro, instalación y prueba de estanqueidad). | C2748: ML | D2748: 580846
A2749: 8633 | B2749: CANAL DE DRENAJE MONOLÍTICO Y REJA EN CONCRETO POLIMÉRICO RD 200V H330 F900 (1.00 X 0.26 X 0.33) m, INCLUYE CONCRETO 21 Mpa PARA CAMA Y ATRAQUE (Incluye suministro, instalación y prueba de estanqueidad). | C2749: ML | D2749: 1278605
A2750: 8634 | B2750: EMPATE ORTOGONAL PVC - HG 4"X4" SEGÚN NORMA NS-023, INCLUYE SUMINISTRO E INSTALACIÓN DE TUBERÍA PVC D=4" U.M RDE 21=1 ML, TEE HD 4"X4" PARA AC=1 UN, UG HD D=4"=3 UN, ADAPTADOR U.S. D=4"=1 UN, UR HD D=4"=1 UN (Suministro e instalación). | C2750: UN | D2750: 1304026
A2751: 8636 | B2751: EMPATE ORTOGONAL PVC - PVC 4"X3" SEGÚN NORMA NS-023, INCLUYE SUMINISTRO E INSTALACIÓN DE TUBERÍA PVC D=4" U.M RDE 21=1 ML, TEE HD EL 4"X3"=1 UN, UZ U.M PVC D=4"=1 UN, UZ U.M PVC D=3"=1 UN, UR U.M PVC D=4"=1 UN, UR U.M PVC D=3"=1 UN (Suministro e instalación). | C2751: UN | D2751: 724910
A2752: 8637 | B2752: EMPATE ORTOGONAL PVC - AC 6"X6" SEGÚN NORMA NS-023, INCLUYE SUMINISTRO E INSTALACIÓN DE TUBERÍA PVC D=6" U.M RDE 21=1 ML, TEE HD 6"X6" PARA AC=1 UN, UG HD D=6"=3 UN, UZ U.M PVC D=6"=1 UN, UR HD D=6"=1 UN (Suministro e instalación). | C2752: UN | D2752: 2178690
A2753: 8638 | B2753: CAJA PARA CONEXIÓN DE DRENAJE EN CONCRETO REFORZADO 28 MPa (Dimensiones internas: (0.9x0.9) m, H=1.94 m, e=0,2 m) (Incluye muros, concreto de limpieza e=0,05 m, placa de base y placa de cubierta e=0,16 m, dos arobases y arotapas HF según NP-024. Suministro y construcción. | C2753: UN | D2753: 4814413
A2754: 8639 | B2754: CAJA PARA CONEXIÓN DE DRENAJE EN CONCRETO REFORZADO 28 MPa (Dimensiones internas: (1.4x1.5) m, H=2.23 m, e=0,2 m) (Incluye muros, concreto de limpieza e=0,05 m, placa de base y placa de cubierta e=0,16 m, dos arobases y arotapas HF según NP-024. Suministro y construcción. | C2754: UN | D2754: 8159104
A2755: 8640 | B2755: TAPÓN HD EXTREMO JUNTA HIDRÁULICA D=3" (Suministro e instalación). | C2755: UN | D2755: 162462
A2756: 8641 | B2756: TEE HD EXTREMO JUNTA HIDRÁULICA 10"x6" (Suministro e instalación). | C2756: UN | D2756: 2019710
A2757: 8642 | B2757: CODO HD 22.5° EXTREMO JUNTA HIDRÁULICA PARA PVC D= 2" (Suministro e instalación) | C2757: UN | D2757: 134564
... A3173: 10639 | B3173: ARQUEOLOGÍA PÚBLICA (SOCIALIZACIÓN DE LA IMPLEMENTACIÓN DEL PLAN DE MANEJO ARQUEOLÓGICO INCLUYE PIEZAS DE COMUNICACIÓN). | C3173: GLB/MES | D3173: 12093

Sheet FORMULARIO 1 PROPUESTA ECONOMIC
C3: Formulario 1 - Propuesta económica - Documento tipo de licitación de obra pública de infraestructura de transporte - versión 4
C4: Código | D4: CCE-EICP-FM-14
C5: FORMULARIO 1
C6: PROPUESTA ECONÓMICA
C7: ALCALDIA MAYOR DE BOGOTA
C8: FONDO DE DESARROLLO LOCAL
C9: ALCALDIA LOCAL DE TUNJUELITO
C10: OBJETO DE LA LICITACION : | E10: EJECUTAR A MONTO AGOTABLE SIN FORMULA DE REAJUSTE POR EL SISTEMA DE PRECIOS UNITARIOS, LAS ACTIVIDADES PARA LA CONSERVACIÓN Y/O MANTENIMIENTO Y/O REHABILITACIÓN DE LA MALLA VIAL LOCAL E INTERMEDIA Y ESPACIO PÚBLICO EN LA LOCALIDAD DE TUNJUELITO DE LA CIUDAD DE BOGOTÁ D.C
C14: COD. IDU | D14: ÍTEM DE PAGO | E14: DESCRIPCIÓN | F14: UND. | G14: CANTIDAD | I14: VALOR TOTAL
C16: 1. DIAGNOSTICOS Y DISEÑOS
C17: ACTIVIDADES DE DIAGNOSTICO QUE NO INCLUYEN IVA
C18: 10996 | D18: 1001 | E18: =+VLOOKUP(C18,'PRECIOS INSUMOS IDU 2025'!$A$1:$E$3189,2,FALSE) -> APIQUE MANUAL HASTA 2 M DE 1.5 M X 1.5 M - RELLENO Y ADECUACIÓN DEL SITIO - INCLUYE TRANSPORTE | F18: =+VLOOKUP(C18,'PRECIOS INSUMOS IDU 2025'!$A$1:$E$3189,3,FALSE) -> UN | G18: 18
C19: 7488 | D19: 1002 | E19: =+VLOOKUP(C19,'PRECIOS INSUMOS IDU 2025'!$A$1:$E$3189,2,FALSE) -> DETERMINACION EN EL LABORATORIO DEL CONTENIDO DE AGUA (HUMEDAD) DE MUESTRAS DE SUELO, ROCA Y MEZCLAS DE SUELO-AGREGADO. Norma técnica: INVE-122-13 NTC-1495-13 ASTM D2216-19. | F19: =+VLOOKUP(C19,'PRECIOS INSUMOS IDU 2025'!$A$1:$E$3189,3,FALSE) -> UN | G19: 18
C20: 7490 | D20: 1003 | E20: =+VLOOKUP(C20,'PRECIOS INSUMOS IDU 2025'!$A$1:$E$3189,2,FALSE) -> DETERMINACION DE LOS TAMAÑOS DE LAS PARTICULAS DE LOS SUELOS (GRANULOMETRIA POR TAMIZADO E HIDROMETRIA). Norma técnica: INVE-123-13 ASTM D422-63 (07)e2 | F20: =+VLOOKUP(C20,'PRECIOS INSUMOS IDU 2025'!$A$1:$E$3189,3,FALSE) -> UN | G20: 18
C21: 7489 | D21: 1004 | E21: =+VLOOKUP(C21,'PRECIOS INSUMOS IDU 2025'!$A$1:$E$3189,2,FALSE) -> METODO DE PRUEBA ESTANDAR PARA LA DETERMINACION DE LA DENSIDAD (PESO UNITARIO) EN LABORATORIO DE ESPECIMENES DE SUELO. Norma técnica: ASTM D7263-21. | F21: =+VLOOKUP(C21,'PRECIOS INSUMOS IDU 2025'!$A$1:$E$3189,3,FALSE) -> UN | G21: 18
C22: 7494 | D22: 1005 | E22: =+VLOOKUP(C22,'PRECIOS INSUMOS IDU 2025'!$A$1:$E$3189,2,FALSE) -> DETERMINACION DE LA GRAVEDAD ESPECÍFICA DE LAS PARTICULAS SOLIDAS DE LOS SUELOS Y DEL LLENANTE MINERAL, EMPLEANDO UN PICNOMETRO CON AGUA. Norma técnica: INVE-128-13 ASTM D854-23 | F22: =+VLOOKUP(C22,'PRECIOS INSUMOS IDU 2025'!$A$1:$E$3189,3,FALSE) -> UN | G22: 18
C23: 7496 | D23: 1006 | E23: =+VLOOKUP(C23,'PRECIOS INSUMOS IDU 2025'!$A$1:$E$3189,2,FALSE) -> DETERMINACION DE LOS FACTORES DE CONTRACCION DE LOS SUELOS. Norma técnica: INVE-127-13 NTC-1503-01 ASTM D427-04 | F23: =+VLOOKUP(C23,'PRECIOS INSUMOS IDU 2025'!$A$1:$E$3189,3,FALSE) -> UN | G23: 18
C24: 7497 | D24: 1007 | E24: =+VLOOKUP(C24,'PRECIOS INSUMOS IDU 2025'!$A$1:$E$3189,2,FALSE) -> DETERMINACION DEL CONTENIDO ORGANICO DE UN SUELO MEDIANTE EL ENSAYO DE PERDIDA POR IGNICION. Norma técnica: INVE-121-13 AASHTO T-267-22 | F24: =+VLOOKUP(C24,'PRECIOS INSUMOS IDU 2025'!$A$1:$E$3189,3,FALSE) -> UN | G24: 18
C25: 10019 | D25: 1008 | E25: =+VLOOKUP(C25,'PRECIOS INSUMOS IDU 2025'!$A$1:$E$3189,2,FALSE) -> DETERMINACION DEL LIMITE LIQUIDO DE LOS SUELOS - LIMITE PLASTICO E INDICE DE PLASTICIDAD DE LOS SUELOS. Norma técnica: INVE-125-13 INVE-126-13 NTC-4630-99 ASTM D4318-17e1 (18). | F25: =+VLOOKUP(C25,'PRECIOS INSUMOS IDU 2025'!$A$1:$E$3189,3,FALSE) -> UN | G25: 18
C26: 10024 | D26: 1009 | E26: =+VLOOKUP(C26,'PRECIOS INSUMOS IDU 2025'!$A$1:$E$3189,2,FALSE) -> DETERMINACION DEL POTENCIAL DE CAMBIO VOLUMETRICO DE UN SUELO EMPLEANDO EL APARATO DE LAMBE. Norma técnica: INVE-120-13 UNE-EN-103600-96 | F26: =+VLOOKUP(C26,'PRECIOS INSUMOS IDU 2025'!$A$1:$E$3189,3,FALSE) -> UN | G26: 18
C27: 8012 | D27: 1010 | E27: =+VLOOKUP(C27,'PRECIOS INSUMOS IDU 2025'!$A$1:$E$3189,2,FALSE) -> CBR SOBRE MUESTRA INALTERADA (METODO II). Norma técnica: INVE-148-13 NTC-2122-13 ASTM D1883-21. | F27: =+VLOOKUP(C27,'PRECIOS INSUMOS IDU 2025'!$A$1:$E$3189,3,FALSE) -> UN | G27: 34
C28: 7892 | D28: 1011 | E28: =+VLOOKUP(C28,'PRECIOS INSUMOS IDU 2025'!$A$1:$E$3189,2,FALSE) -> EQUIPO DE PRESION - SUCCION - SONDEO - LIMPIEZA - RECOLECCIÓN DE LODOS NO PELIGROSOS (No incluye agua). | F28: =+VLOOKUP(C28,'PRECIOS INSUMOS IDU 2025'!$A$1:$E$3189,3,FALSE) -> HR | G28: 50
C29: 9434 | D29: 1012 | E29: =+VLOOKUP(C29,'PRECIOS INSUMOS IDU 2025'!$A$1:$E$3189,2,FALSE) -> TRATAMIENTO Y DISPOSICIÓN FINAL DE LODOS NO PELIGROSOS PROVENIENTES DE ALCANTARILLADO | F29: =+VLOOKUP(C29,'PRECIOS INSUMOS IDU 2025'!$A$1:$E$3189,3,FALSE) -> KG | G29: 2000
C30: ACTIVIDADES DE DIAGNOSTICO QUE INCLUYEN IVA
D31: 1013 | E31: DISEÑO PARA RECONSTRUCCION DE VIAS - PAV. FLEXIBLE/RIGIDO (INCLUYE TOMA DE DEFLEXIONES, DETERMINACIÓN DE ESPESORES, EVALUACIÓN SUPERFICIAL Y PROCESAMIENTO Y ENTREGA DE LA INFORMACIÓN) IVA INCLUIDO | F31: M2 | G31: 5112.31
C32: 8000 | D32: 1014 | E32: =+VLOOKUP(C32,'PRECIOS INSUMOS IDU 2025'!$A$1:$E$3189,2,FALSE) -> INSPECCIÓN DE REDES DE ALCANTARILLADO CON SISTEMA CCTV PARA DIÁMETROS ENTRE 6" Y 36". INCL MANO DE OBRA IDÓNEA, INFORME ESCRITO DE DIAGNÓSTICO Y DVD CON VIDEO. INCL IVA | F32: =+VLOOKUP(C32,'PRECIOS INSUMOS IDU 2025'!$A$1:$E$3189,3,FALSE) -> ML | G32: 1350.11
C33: 8001 | D33: 1015 | E33: =+VLOOKUP(C33,'PRECIOS INSUMOS IDU 2025'!$A$1:$E$3189,2,FALSE) -> INSPECCIÓN DE REDES DE ALCANTARILLADO CON SISTEMA CCTV PARA DIÁMETROS MAYORES A 36". INCL MANO DE OBRA IDÓNEA, INFORME ESCRITO DE DIAGNÓSTICO Y DVD CON VIDEO. INCL IVA | F33: =+VLOOKUP(C33,'PRECIOS INSUMOS IDU 2025'!$A$1:$E$3189,3,FALSE) -> ML | G33: 150.01
C34: 8002 | D34: 1016 | E34: =+VLOOKUP(C34,'PRECIOS INSUMOS IDU 2025'!$A$1:$E$3189,2,FALSE) -> LAVADO Y SONDEO DE REDES DE ALCANTARILLADO ENTRE 6" Y 16" DE DIÁMETRO Y CON GRADO DE COLMATACIÓN MENOR DEL 30%. INCL MANO DE OBRA IDÓNEA, SEÑALIZACIÓN BÁSICA, SUMIN DE COMBUSTIBLE Y AGUA. INCL. IVA | F34: =+VLOOKUP(C34,'PRECIOS INSUMOS IDU 2025'!$A$1:$E$3189,3,FALSE) -> ML | G34: 1050.08
C35: 8003 | D35: 1017 | E35: =+VLOOKUP(C35,'PRECIOS INSUMOS IDU 2025'!$A$1:$E$3189,2,FALSE) -> LAVADO Y SONDEO DE REDES DE ALCANTARILLADO ENTRE 18" Y 36" DE DIÁMETRO Y CON GRADO DE COLMATACIÓN MENOR DEL 30%. INCLUYE MANO DE OBRA IDÓNEA, SEÑALIZACIÓN BÁSICA, SUMIN DE COMBUSTIBLE Y AGUA. INCL IVA | F35: =+VLOOKUP(C35,'PRECIOS INSUMOS IDU 2025'!$A$1:$E$3189,3,FALSE) -> ML | G35: 450.04
C37: A. SUBTOTAL ACTIVIDADES DE DIAGNOSTICO QUE NO INCLUYEN I.V.A..:
C38: B. IVA (19%):
C39: C. ACTIVIDADES DE DIAGNOSTICO QUE INCLUYEN IVA:
C41: D. SUBTOTAL DIAGNOSTICOS (A+B+C)
C43: ACTIVIDADES DE OBRA
C44: COD. IDU | D44: ÍTEM DE PAGO | E44: DESCRIPCIÓN | F44: UND. | G44: CANTIDAD | H44: VR. UNITARIO (INCLUIDO A.I.U.) | I44: VALOR TOTAL
C47: 2. RECONSTRUCCION - REHABILITACION VIA PAVIMENTO FLEXIBLE
C48: 3007 | D48: 2001 | E48: =+VLOOKUP(C48,'PRECIOS IDU 2025'!$A$1:$E$3190,2,FALSE) -> REPLANTEO GENERAL | F48: =+VLOOKUP(C48,'PRECIOS IDU 2025'!$A$1:$E$3189,3,FALSE) -> M2 | G48: 5112.31
C49: 3811 | D49: 2002 | E49: =+VLOOKUP(C49,'PRECIOS IDU 2025'!$A$1:$E$3189,2,FALSE) -> CORTE DE PAVIMENTO - INCLUYE EQUIPO: CORTADORA DE CONCRETO INCLUYE OPERARIO Y COMBUSTIBLE. INCLUYE DISCO DIAMANTADO ASFALTO-CONCRETO 350 MM, AGUA Y MANO DE OBRA | F49: =+VLOOKUP(C49,'PRECIOS IDU 2025'!$A$1:$E$3189,3,FALSE) -> ML | G49: 1500
C50: 3010 | D50: 2003 | E50: =+VLOOKUP(C50,'PRECIOS IDU 2025'!$A$1:$E$3189,2,FALSE) -> DEMOLICION PAVIMENTO ASFALTICO (INCLUYE CARGUE). NO INCLUYE TRANSPORTE Y DISPOSICIÓN FINAL DE SOBRANTES. | F50: =+VLOOKUP(C50,'PRECIOS IDU 2025'!$A$1:$E$3189,3,FALSE) -> M3 | G50: 613.48
C51: 3710 | D51: 2004 | E51: =+VLOOKUP(C51,'PRECIOS IDU 2025'!$A$1:$E$3189,2,FALSE) -> EXCAVACIÓN MECÁNICA EN MATERIAL COMÚN (INCLUYE CARGUE) | F51: =+VLOOKUP(C51,'PRECIOS IDU 2025'!$A$1:$E$3189,3,FALSE) -> M3 | G51: 3578.62
...

Sheet AIU FLDT
B1: MATRIZ PARA CÁLCULO DE AIU
B5: EJECUTAR A MONTO AGOTABLE Y POR EL SISTEMA DE PRECIOS UNITARIOS, MEDIANTE BRIGADAS DE MANTENIMIENTO, ACTIVIDADES PUNTUALES PARA LA ATENCIÓN DE DAÑOS EN LA MALLA VIAL LOCAL E INTERMEDIA Y EN EL ESPACIO PÚBLICO DE LA LOCALIDAD DE TUNJUELITO, BOGOTÁ D.C.
C7: COSTO DIRECTO ESTIMADO DE OBRA (CD) | D7: 1.4999069e+09 | G7: FECHA: | H7: 46236
C8: TERMINO ESTIMADO DE EJECUCIÓN DE OBRA | D8: 4 | E8: MESES | G8: CONTRATO No.
B12: ITEM | C12: A. ADMINISTRACIÓN
C13: 1. COSTOS MENSUALES DE PERSONAL
C14: CARGO | D14: CANTIDAD | E14: CATEGORÍA | F14: Dedicación /Mes | G14: TOPE SALARIO MES | H14: FACTOR PRESTACIONAL | I14: No. MESES | J14: SALARIO + PRESTACIONES
D15: A | F15: B | G15: C | H15: D | I15: E | J15: F=A*B*C*D*E
B16: 1.1 | C16: PERSONAL PROFESIONAL (Ingenieros y otros)
A17: 9110 | B17: =+B16+0.001 -> 1.101 | C17: DIRECTOR DE OBRA | D17: 1 | E17: 4 | F17: 0.3 | G17: =+VLOOKUP(A17,'PRECIOS INSUMOS IDU 2025'!$A$1:$E$2794,4,FALSE) -> 9522000 | H17: =+'CÁLCULO FACTOR MULTIPLICADOR'!$D$25 -> 1.58 | I17: =+$D$8 -> 4 | J17: =ROUND(D17*F17*G17*H17*I17,0) -> 18053712
A18: 9112 | B18: =+B17+0.001 -> 1.102 | C18: INGENIERO RESIDENTE DE OBRA | D18: 1 | E18: 6 | F18: 1 | G18: =+VLOOKUP(A18,'PRECIOS INSUMOS IDU 2025'!$A$1:$E$2794,4,FALSE) -> 7659000 | H18: =+'CÁLCULO FACTOR MULTIPLICADOR'!$D$25 -> 1.58 | I18: =+$D$8 -> 4 | J18: =ROUND(D18*F18*G18*H18*I18,0) -> 48404880
A19: 9110 | B19: =+B18+0.001 -> 1.103 | C19: ESPECIALISTA EN GEOTECNIA Y PAVIMENTOS | D19: 1 | E19: 4 | F19: 0.5 | G19: =+VLOOKUP(A19,'PRECIOS INSUMOS IDU 2025'!$A$1:$E$2794,4,FALSE) -> 9522000 | H19: =+'CÁLCULO FACTOR MULTIPLICADOR'!$D$25 -> 1.58 | I19: =+$D$8 -> 4 | J19: =ROUND(D19*F19*G19*H19*I19,0) -> 30089520
A20: 9112 | B20: =+B19+0.001 -> 1.104 | C20: PROFESIONAL AMBIENTAL | D20: 1 | E20: 6 | F20: 0.2 | G20: =+VLOOKUP(A20,'PRECIOS INSUMOS IDU 2025'!$A$1:$E$2794,4,FALSE) -> 7659000 | H20: =+'CÁLCULO FACTOR MULTIPLICADOR'!$D$25 -> 1.58 | I20: =+$D$8 -> 4 | J20: =ROUND(D20*F20*G20*H20*I20,0) -> 9680976
A21: 9112 | B21: =+B20+0.001 -> 1.105 | C21: PROFESIONAL EN SEGURIDAD Y SALUD EN EL TRABAJO | D21: 1 | E21: 6 | F21: 0.5 | G21: =+VLOOKUP(A21,'PRECIOS INSUMOS IDU 2025'!$A$1:$E$2794,4,FALSE) -> 7659000 | H21: =+'CÁLCULO FACTOR MULTIPLICADOR'!$D$25 -> 1.58 | I21: =+$D$8 -> 4 | J21: =ROUND(D21*F21*G21*H21*I21,0) -> 24202440
A22: 9112 | B22: =+B21+0.001 -> 1.106 | C22: PROFESIONAL SOCIAL | D22: 1 | E22: 6 | F22: 0.3 | G22: =+VLOOKUP(A22,'PRECIOS INSUMOS IDU 2025'!$A$1:$E$2794,4,FALSE) -> 7659000 | H22: =+'CÁLCULO FACTOR MULTIPLICADOR'!$D$25 -> 1.58 | I22: =+$D$8 -> 4 | J22: =ROUND(D22*F22*G22*H22*I22,0) -> 14521464
A23: 9110 | B23: =+B22+0.001 -> 1.107 | C23: ESPECIALISTA EN TRÁNSITO Y TRANSPORTE | D23: 1 | E23: 4 | F23: 0.5 | G23: =+VLOOKUP(A23,'PRECIOS INSUMOS IDU 2025'!$A$1:$E$2794,4,FALSE) -> 9522000 | H23: =+'CÁLCULO FACTOR MULTIPLICADOR'!$D$25 -> 1.58 | I23: =+$D$8 -> 4 | J23: =ROUND(D23*F23*G23*H23*I23,0) -> 30089520
B25: 1.2 | C25: PERSONAL TÉCNICO Y PERSONAL AUXILIAR
A26: 9093 | B26: 1.202 | C26: TARIFA MES - PERSONAL TÉCNICO - INSPECTOR 1 (No incluye Factor de Prestaciones) | D26: 2 | E26: N/A | F26: 1 | G26: =+VLOOKUP(A26,'PRECIOS INSUMOS IDU 2025'!$A$1:$E$2794,4,FALSE) -> 2718000 | H26: =+'CÁLCULO FACTOR MULTIPLICADOR'!$D$25 -> 1.58 | I26: =+$D$8 -> 4 | J26: =ROUND(D26*F26*G26*H26*I26,0) -> 34355520
A27: 9088 | B27: 1.203 | C27: TARIFA MES - PERSONAL TÉCNICO - TOPÓGRAFO INSPECTOR (No incluye Factor de Prestaciones) | D27: 1 | E27: N/A | F27: 0.5 | G27: =+VLOOKUP(A27,'PRECIOS INSUMOS IDU 2025'!$A$1:$E$2794,4,FALSE) -> 3736000 | H27: =+'CÁLCULO FACTOR MULTIPLICADOR'!$D$25 -> 1.58 | I27: =+$D$8 -> 4 | J27: =ROUND(D27*F27*G27*H27*I27,0) -> 11805760
C29: SUBTOTAL COSTOS MENSUALES DE PERSONAL | J29: =SUM(J17:J28) -> 221203792
B31: 2 | C31: GASTOS OPERACIONALES MENSUALES | D31: CANTIDAD | E31: AREA (M2) | F31: Dedicación /Mes | G31: DEDICACIÓN X AREA (M2) | H31: COSTO ($/M2.MES) | I31: No. MESES | J31: VALOR ($)
A32: 9576 | B32: 2.01 | C32: =+VLOOKUP(A32,'PRECIOS INSUMOS IDU 2025'!$A$1:$E$2794,2,FALSE) -> TARIFA MES - ARRIENDO OFICINA INCL. ADMINISTRACIÓN, SERVICIOS PÚBLICOS, COMUNICACIONES | D32: 1 | E32: 50 | F32: 1 | G32: =+E32*F32 -> 50 | H32: =+VLOOKUP(A32,'PRECIOS INSUMOS IDU 2025'!$A$1:$E$2794,4,FALSE) -> 55270 | I32: =+$D$8 -> 4 | J32: =+G32*H32*I32 -> 11054000
A33: 9578 | B33: 2.02 | C33: =+VLOOKUP(A33,'PRECIOS INSUMOS IDU 2025'!$A$1:$E$2794,2,FALSE) -> TARIFA MES - GASTOS OFICINA (PAPELERIA, FOTOCOPIAS Y OTROS) | D33: 1 | E33: N/A | F33: 0.5 | G33: N/A | H33: =+VLOOKUP(A33,'PRECIOS INSUMOS IDU 2025'!$A$1:$E$2794,4,FALSE) -> 1260967 | I33: =+$D$8 -> 4 | J33: =+F33*H33*I33 -> 2521934
A34: 9117 | B34: 2.03 | C34: =+VLOOKUP(A34,'PRECIOS INSUMOS IDU 2025'!$A$1:$E$2794,2,FALSE) -> TARIFA MES - EQUIPO COMPLETO DE LABORATORIO - ESTUDIOS | D34: 1 | E34: N/A | F34: 0.3 | G34: N/A | H34: =+VLOOKUP(A34,'PRECIOS INSUMOS IDU 2025'!$A$1:$E$2794,4,FALSE) -> 7732000 | I34: 4 | J34: =+F34*H34*I34 -> 9278400
A35: 12782 | B35: 2.04 | C35: =+VLOOKUP(A35,'PRECIOS INSUMOS IDU 2025'!$A$1:$E$2794,2,FALSE) -> TARIFA MES - ALQUILER DE VEHICULO MES: CAMPERO, PICK-UP, CAMIONETA, CAMION O SIMILAR DE 1300cc A 2000cc DE CILINDRADA, MODELO 2022 A 2019. 80% DE LA TARIFA ESTABLECIDA. INCLUYE TODOS LOS COSTOS DE OPERACIÓN Y MANTENIMIENTO EXCEPTO EL SALARIO DEL CONDUCTOR. | D35: 1 | E35: N/A | F35: 1 | G35: N/A | H35: =+VLOOKUP(A35,'PRECIOS INSUMOS IDU 2025'!$A$1:$E$2794,4,FALSE) -> 6997000 | I35: 4 | J35: =+F35*H35*I35 -> 27988000
A36: 9575 | B36: 2.05 | C36: =+VLOOKUP(A36,'PRECIOS INSUMOS IDU 2025'!$A$1:$E$2794,2,FALSE) -> TARIFA MES - PERSONAL TÉCNICO - CELADOR ARMADO (24 horas por 30 dias dividos en 3 turnos de 8 horas diarias. Incluye prestaciones de ley, Administraciòn y servicios). | D36: 2 | E36: N/A | F36: 0.6 | G36: N/A | H36: 12320209 | I36: 4 | J36: =+F36*H36*I36*D36 -> 59137003
A37: 13420 | B37: 2.06 | C37: =+VLOOKUP(A37,'PRECIOS INSUMOS IDU 2025'!$A$1:$E$2794,2,FALSE) -> EQUIPO DE TOPOGRAFÍA. ESTACION TOTAL, Precisión lineal ≤ (2 mm + 2 ppm x D), precisión angular ≤ 3". Alcance: con un prisma hasta 2000 metros en buenas condiciones. (Accesorios: Trípodes, bastones, prismas, cintas metálicas, baterías, entre otros). Y NIVEL electrónico o automático óptico (lectura de 3 hilos), los diámetros mínimos de los objetivos en centímetros (cm) serán 2.5 a 4.5, sensibilidad del nivel 60" a 30", aumento ≥ 28x, precisión instrumental (mm/km) ≤ 1.5. (Accesorios: Trípode y miras patronadas y/o en buen estado). Incluye todos los accesorios. TARIFA MES | D37: 2 | E37: N/A | F37: 0.6 | G37: N/A | H37: =+VLOOKUP(A37,'PRECIOS INSUMOS IDU 2025'!$A$1:$E$2794,4,FALSE) -> 2856000 | I37: 4 | J37: =+F37*H37*I37 -> 6854400
A38: 4988 | B38: 2.07 | C38: MOVILIZACIÓN DE EQUIPO DESDE LA OBRA HASTA SITIO AUTORIZADO EN CUMPLIMIENTO DEL PMT DENTRO DEL AREA DE INFLUENCIA DE LA OBRA (INCLUYE CARGUE, DESCARGUE Y CARROS ESCOLTA). EL VIAJE ES IDA Y VUELTA. | D38: 14 | E38: N/A | F38: 1 | G38: N/A | H38: 1840000 | I38: 4 | J38: =+F38*H38*I38 -> 7360000
C39: SUBTOTAL GASTOS OPERACIONALES | J39: =SUM(J32:J38) -> 1.2419374e+08
C40: COSTOS MENSUALES DE PERSONAL + GASTOS OPERACIONALES MENSUALES | J40: =+J29+J39 -> 3.4539753e+08
C41: COSTOS MENSUALES DE PERSONAL + GASTOS OPERACIONALES MENSUALES EN PORCENTAJE DEL COSTO DIRECTO | J41: =+ROUND(J40/D7,2) -> 0.23
B43: 3 | C43: IMPUESTOS Y GARANTIAS
B44: 3.1 | C44: IMPUESTOS
B45: ITEM | C45: DESCRIPCIÓN | I45: IMPUESTO | J45: VALOR ($)
B46: 3.101 | C46: Contribución Especial (Impuesto de Guerra Ley 1738 DIC18-2014 prorroga 4 años) | I46: 0.05 | J46: =+D7*I46 -> 74995344
B47: 3.102 | C47: ICA (Ley 14 6jul1983, Res 265 13abr2021) | E47: Mes | F47: =+#REF! -> #REF! | G47: 1 | H47: =F47*G47 -> #REF! | I47: 0.00712 | J47: =+D7*I47 -> 10679337
