Workbook
Name \0: #REF!
Name \00: #REF!
Name \a: #REF!
Name \AA: [1]LIQUIDACION!#REF!
Name \b: [2]STRSUMM0!#REF!
Name \bb: [2]STRSUMM0!#REF!
Name \E: #REF!
Name \EE: #REF!
Name \G: #REF!
Name \k: '[3]7422CW00'!#REF!
Name \l: [4]STRSUMM0!#REF!
Name \M: #REF!
Name \ñ: '[5]7422CW00'!#REF!
Name \P: #REF!
Name \R: #REF!
Name \s: #REF!
Name \V: #REF!
Name \X: [0]!ERR
Name \Z: [0]!ERR
Name _________AFC1: [6]INV!$A$25:$D$28
Name _________AFC3: [6]INV!$F$25:$I$28
Name _________AFC5: [6]INV!$K$25:$N$28
Name _________BGC1: [6]INV!$A$5:$D$8
Name _________BGC3: [6]INV!$F$5:$I$8
Name _________BGC5: [6]INV!$K$5:$N$8
Name _________CAC1: [6]INV!$A$19:$D$22
Name _________CAC3: [6]INV!$F$19:$I$22
Name _________CAC5: [6]INV!$K$19:$N$22
Name _________PJ50: #REF!
Name _________SBC1: [6]INV!$A$12:$D$15
Name _________SBC3: [6]INV!$F$12:$I$15
Name _________SBC5: [6]INV!$K$12:$N$15
Name ________AFC1: [6]INV!$A$25:$D$28
Name ________AFC3: [6]INV!$F$25:$I$28
Name ________AFC5: [6]INV!$K$25:$N$28
Name ________BGC1: [6]INV!$A$5:$D$8
Name ________BGC3: [6]INV!$F$5:$I$8
Name ________BGC5: [6]INV!$K$5:$N$8
Name ________CAC1: [6]INV!$A$19:$D$22
Name ________CAC3: [6]INV!$F$19:$I$22
Name ________CAC5: [6]INV!$K$19:$N$22
Name ________MA2: #REF!
Name ________PJ50: #REF!
Name ________SBC1: [6]INV!$A$12:$D$15
Name ________SBC3: [6]INV!$F$12:$I$15
Name ________SBC5: [6]INV!$K$12:$N$15
Name _______AFC1: [6]INV!$A$25:$D$28
Name _______AFC3: [6]INV!$F$25:$I$28
Name _______AFC5: [6]INV!$K$25:$N$28
Name _______BGC1: [6]INV!$A$5:$D$8
Name _______BGC3: [6]INV!$F$5:$I$8
Name _______BGC5: [6]INV!$K$5:$N$8
Name _______CAC1: [6]INV!$A$19:$D$22
Name _______CAC3: [6]INV!$F$19:$I$22
Name _______CAC5: [6]INV!$K$19:$N$22
Name _______MA2: #REF!
Name _______PJ50: #REF!
Name _______SBC1: [6]INV!$A$12:$D$15
Name _______SBC3: [6]INV!$F$12:$I$15
Name _______SBC5: [6]INV!$K$12:$N$15

Sheet PPTO
C3: CóC3:K102 | D3: CCE-EICP-FM-14
C4: FORMULARIO 1
C5: PRESUPUESTO OFICIAL
C6: [Las Entidades Estatales deben usar el presente formulario para determinar el Presupuesto Oficial del Proceso de Contratación y solo pueden modificar o ajustar aquello que en este se permite expresamente] [El presente formulario aplica para los procesos de contratación que tengan como forma de pago precios unitarios. Tratándose de otras modalidades de precio, la Entidad debe ajustarlo cuando corresponde a: precio global, llave en mano, administración delegada, reembolso de gastos o cualquier otra forma de precio.]
C8: Adicionalmente, cuando el proceso de contratación es estructurado por precios unitarios, la Entidad debe aplicar las notas 1, 2 y 3 del presente formulario y las casillas de "Descripción", "Porcentaje" de la Administración, Utilidad y total A.U. resaltadas en color amarillo. Tratándose de otras modalidades de precio, la Entidad puede o no configurar los mismos aspectos.
C9: "REPARACIÓN Y MANTENIMIENTO MODULOS COMERCIALES" | K9: AU
D10: ITEM DE PAGO | E10: DESCRIPCION | F10: UND. | G10: CANTIDAD | H10: VALOR UNITARIO | I10: VALOR TOTAL | K10: =+'Analisis AU'!G27 -> 1.3461
C11: 001 | E11: MANTENIMIENTO
D12: Mtto - 1 | E12: =VLOOKUP(D12,APU!$A$1:J$811,3,FALSE) -> Cargue, descargue de modulo y transporte en la ciudad de Manizales, por trayecto Modulos pequeños | F12: =VLOOKUP(D12,APU!$A$1:$J$811,5,FALSE) -> UND | G12: 1 | H12: =ROUND(VLOOKUP(D12,APU!$A$1:$J$811,9,FALSE)*$K$10,0) -> 161532 | I12: =ROUND(H12*G12,0) -> 161532
D13: Mtto - 2 | E13: =VLOOKUP(D13,APU!$A$1:J$811,3,FALSE) -> Cargue, descargue de modulo y transporte en la ciudad de Manizales, por trayecto Modulos grandes | F13: =VLOOKUP(D13,APU!$A$1:$J$811,5,FALSE) -> UND | G13: 1 | H13: =ROUND(VLOOKUP(D13,APU!$A$1:$J$811,9,FALSE)*$K$10,0) -> 403830 | I13: =ROUND(H13*G13,0) -> 403830
D14: Mtto - 3 | E14: =VLOOKUP(D14,APU!$A$1:J$811,3,FALSE) -> Servicio de aplicación de soldadura Tig o Mig según requiera y pulimiento del area intervenida. | F14: =VLOOKUP(D14,APU!$A$1:$J$811,5,FALSE) -> ML | G14: 1 | H14: =ROUND(VLOOKUP(D14,APU!$A$1:$J$811,9,FALSE)*$K$10,0) -> 215376 | I14: =ROUND(H14*G14,0) -> 215376
D15: Mtto - 4 | E15: =VLOOKUP(D15,APU!$A$1:J$811,3,FALSE) -> Servicio de aplicación de un punto soldadura Tig o Mig según requiera y pulimiento del area intervenida, | F15: =VLOOKUP(D15,APU!$A$1:$J$811,5,FALSE) -> UND | G15: 1 | H15: =ROUND(VLOOKUP(D15,APU!$A$1:$J$811,9,FALSE)*$K$10,0) -> 67305 | I15: =ROUND(H15*G15,0) -> 67305
D16: Mtto - 5 | E16: =VLOOKUP(D16,APU!$A$1:J$811,3,FALSE) -> Remoción de pintura deteriorada ,Aplicación de masillas de nivelación,Aplicación de anticorrosivo en áreas equeridas y pintura. | F16: =VLOOKUP(D16,APU!$A$1:$J$811,5,FALSE) -> M2 | G16: 1 | H16: =ROUND(VLOOKUP(D16,APU!$A$1:$J$811,9,FALSE)*$K$10,0) -> 78074 | I16: =ROUND(H16*G16,0) -> 78074
D17: Mtto - 6 | E17: =VLOOKUP(D17,APU!$A$1:J$811,3,FALSE) -> Remoción de grasa, suciedad y Contaminantes.Tratamiento de puntos de oxidación. Aplicación de productos pasivadores para acero inoxidable | F17: =VLOOKUP(D17,APU!$A$1:$J$811,5,FALSE) -> M2 | G17: 1 | H17: =ROUND(VLOOKUP(D17,APU!$A$1:$J$811,9,FALSE)*$K$10,0) -> 96919 | I17: =ROUND(H17*G17,0) -> 96919
D18: Mtto - 7 | E18: =VLOOKUP(D18,APU!$A$1:J$811,3,FALSE) -> Suministro e instalacion de empaques de sello | F18: =VLOOKUP(D18,APU!$A$1:$J$811,5,FALSE) -> ML | G18: 1 | H18: =ROUND(VLOOKUP(D18,APU!$A$1:$J$811,9,FALSE)*$K$10,0) -> 53844 | I18: =ROUND(H18*G18,0) -> 53844
D19: Mtto - 8 | E19: =VLOOKUP(D19,APU!$A$1:J$811,3,FALSE) -> Suministros e instalacion de chapa: Desmonte chapa existente en mal estado, montaje de contra puerta de seguridad | F19: =VLOOKUP(D19,APU!$A$1:$J$811,5,FALSE) -> UND | G19: 1 | H19: =ROUND(VLOOKUP(D19,APU!$A$1:$J$811,9,FALSE)*$K$10,0) -> 538440 | I19: =ROUND(H19*G19,0) -> 538440
D20: Mtto - 9 | E20: =VLOOKUP(D20,APU!$A$1:J$811,3,FALSE) -> Suministros e instalacion de chapa: Desmonte chapa existente en mal estado, montaje de chapa de pestillo lateral | F20: =VLOOKUP(D20,APU!$A$1:$J$811,5,FALSE) -> UND | G20: 1 | H20: =ROUND(VLOOKUP(D20,APU!$A$1:$J$811,9,FALSE)*$K$10,0) -> 430752 | I20: =ROUND(H20*G20,0) -> 430752
D21: Mtto - 10 | E21: =VLOOKUP(D21,APU!$A$1:J$811,3,FALSE) -> Ssuministro y aplicación de lubricantes y engrases para partes mobiles de modulos de ventas. | F21: =VLOOKUP(D21,APU!$A$1:$J$811,5,FALSE) -> UND | G21: 1 | H21: =ROUND(VLOOKUP(D21,APU!$A$1:$J$811,9,FALSE)*$K$10,0) -> 20192 | I21: =ROUND(H21*G21,0) -> 20192
D22: Mtto - 11 | E22: =VLOOKUP(D22,APU!$A$1:J$811,3,FALSE) -> suministro e instalacion de lamina de acero inoxidable AISI 304 de 15*8 cm | F22: =VLOOKUP(D22,APU!$A$1:$J$811,5,FALSE) -> UND | G22: 1 | H22: =ROUND(VLOOKUP(D22,APU!$A$1:$J$811,9,FALSE)*$K$10,0) -> 80766 | I22: =ROUND(H22*G22,0) -> 80766
D23: Mtto - 12 | E23: =VLOOKUP(D23,APU!$A$1:J$811,3,FALSE) -> suministro e instalacion de portacandado en acero inoxidable elaborado en platina de 3/16 | F23: =VLOOKUP(D23,APU!$A$1:$J$811,5,FALSE) -> UND | G23: 1 | H23: =ROUND(VLOOKUP(D23,APU!$A$1:$J$811,9,FALSE)*$K$10,0) -> 107688 | I23: =ROUND(H23*G23,0) -> 107688
E25: SUBTOTAL OBRAS (Costos Directos) | I25: =+I26/K10 -> 1675000.4
E26: VALOR TOTAL CON AU | I26: =SUM(I12:I23) -> 2254718
E27: VALOR CONTRATO MONTO AGOTABLE | I27: 317000000
F28: DESCRIPCION | I28: PORCENTAJE
C29: NOTA 1: Se debe tener en cuenta que el PRECIO UNITARIO incluye el valor de A.U. | F29: ADMINISTRACION | H29: A= | I29: =+'Analisis AU'!J47 -> 0.2861
C30: NOTA 2: Cuando la fracción decimal del peso sea igual o superior a 5 se aproximará por exceso al número entero siguiente del peso y cuando la fracción decimal del peso sea inferior a 5 se aproximará por defecto al número entero del peso.
C31: NOTA 3: El A.U y su discriminación deben estar en porcentaje (%). | F31: UTILIDAD | H31: U= | I31: =+'Analisis AU'!J48 -> 0.06
C32: NOTA 4: Todas las actividades incluyen transporte inteno y acarreo libre hasta 100m | F32: TOTAL A.U | H32: A.U.= | I32: =SUM(I29:I31) -> 0.3461
C34: ___________________________________
C35: ________
C36: Profesional Universitario - Secretaria de Infraestructura

Sheet Analisis AU
A1: ANALISIS DEL AU
A3: Valor estimado de la Obra (Costo Directo). | D3: Valor | E3: 235000000 | H3: =+E3*G27 -> 316333500
A4: Plazo estimado de ejecución. | D4: Meses | E4: 2
A7: CAPITULO | B7: TIPO DE GASTO | C7: UN | D7: CANTIDAD. | E7: DEDICACION | F7: VLOR UNITARIO (mes) | G7: FACTOR PRESTACIONAL O FACTOR AU (PARA INDIRECTOS) | H7: VALOR TOTAL | I7: SUMA | J7: PORCENTAJE
A8: 1 | B8: GASTOS GENERALES. | J8: =+J9 -> 0.083150979
A9: 1.1 | B9: MANO DE OBRA Y GASTOS DE OFICINA | I9: =SUM(H10:H23) -> 19540480 | J9: =+I9/$E$3 -> 0.083150979
B10: Ingeniero Director | C10: Un | D10: 1 | E10: 0 | F10: 6700000 | G10: 0.6556 | H10: =+D10*E10*$E$4*F10*(1+G10) -> 0 | J10: =+H10/$E$3 -> 0
B11: Ingeniero Residente | C11: Un | D11: 0 | E11: 0 | F11: 4500000 | G11: 0.6556 | H11: =+D11*E11*$E$4*F11*(1+G11) -> 0 | J11: =+H11/$E$3 -> 0
B12: Maestro de Obra | C12: Un | D12: 1 | E12: 0.5 | F12: 3600000 | G12: 0.6556 | H12: =+D12*E12*$E$4*F12*(1+G12) -> 5960160 | J12: =+H12/$E$3 -> 0.025362383
B13: Residente de Salud Ocupacional | C13: Un | D13: 1 | E13: 0.5 | F13: 3600000 | G13: 0.6556 | H13: =+D13*E13*$E$4*F13*(1+G13) -> 5960160 | J13: =+H13/$E$3 -> 0.025362383
B14: Profesional ambiental | C14: Un | D14: 0 | E14: 0 | F14: 3600000 | G14: 0.6556 | H14: =+D14*E14*$E$4*F14*(1+G14) -> 0 | J14: =+H14/$E$3 -> 0
B15: Tecnico Especialista en soldadura. | C15: Un | D15: 1 | E15: 0.5 | F15: 3600000 | G15: 0.6556 | H15: =+D15*E15*$E$4*F15*(1+G15) -> 5960160 | J15: =+H15/$E$3 -> 0.025362383
B16: Almacenista | C16: Un | D16: 0 | E16: 1 | F16: 1560000 | G16: 0.829 | H16: =+D16*E16*$E$4*F16*(1+G16) -> 0 | J16: =+H16/$E$3 -> 0
B17: Secretaria | C17: Un | D17: 0 | E17: 0.2 | F17: 1750905 | G17: 0.8087 | H17: =+D17*E17*$E$4*F17*(1+G17) -> 0 | J17: =+H17/$E$3 -> 0
B18: Contador | C18: Un | D18: 0 | E18: 0.15 | F18: 3600000 | H18: =+D18*E18*$E$4*F18*(1+G18) -> 0 | J18: =+H18/$E$3 -> 0
B19: Oficina y/o campamento (Incluye Equipo de Oficina, Escritorio, pc, impresora, sillas, papeleria, consumo servicios publicos etc) | C19: Mes | D19: 0 | E19: 1 | F19: 800000 | H19: =+D19*E19*$E$4*F19*(1+G19) -> 0 | J19: =+H19/$E$3 -> 0
B20: Plan de Salud ocupacional y seguridad industrial | C20: Mes | D20: 2 | E20: 1 | F20: 350000 | H20: =+D20*E20*$E$4*F20*(1+G20) -> 1400000 | J20: =+H20/$E$3 -> 0.0059574468
B21: Sistema de gestion ambiental | C21: Mes | D21: 0 | E21: 1 | F21: 200000 | G21: 0 | H21: =+D21*E21*$E$4*F21*(1+G21) -> 0 | J21: =+H21/$E$3 -> 0
B22: Sistema de gestion de calidad incluye ensayos de laboratorio solicitados por norma | C22: Mes | D22: 0 | E22: 1 | F22: 300000 | H22: =+D22*E22*$E$4*F22*(1+G22) -> 0 | J22: =+H22/$E$3 -> 0
B23: Costos financiero | C23: Mes | D23: 2 | E23: 1 | F23: 65000 | H23: =+D23*E23*$E$4*F23*(1+G23) -> 260000 | J23: =+H23/$E$3 -> 0.001106383
A25: 2 | B25: GASTOS INDIRECTOS. | J25: =+J26+J28+J38+J35 -> 0.20296356
A26: 2.1 | B26: LEGALIZACION. | I26: =SUM(H27:H27) -> 0 | J26: =+I26/$E$3 -> 0
B27: AU ITERACION | G27: 1.3461 | H27: =+F27*D27*G27 -> 0 | J27: =+H27/$E$3 -> 0
A28: 2.2 | B28: POLIZAS | I28: =SUM(H29:H33) -> 2555645.3 | J28: =+I28/$E$3 -> 0.010875087
B29: Anticipo | C29: % | D29: 0.0006 | E29: 0 | F29: =+$E$3*E29 -> 0 | G29: =+$G$27 -> 1.3461 | H29: =+(((F29*G29*D29)/365)*($E$4*30+120))*1.19 -> 0 | J29: =+H29/$E$3 -> 0
B30: Cumplimiento | C30: % | D30: 0.0006 | F30: =+$E$3 -> 235000000 | G30: =+$G$27 -> 1.3461 | H30: =+(((F30*G30*D30)/365)*($E$4*30+120))*1.19 -> 111384.06 | J30: =+H30/$E$3 -> 0.00047397472
B31: Estabilidad | C31: % | D31: 0.0009 | F31: =+$E$3 -> 235000000 | G31: =+$G$27 -> 1.3461 | H31: =+(((F31*G31*D31)/365)*(1825))*1.19 -> 1693965.9 | J31: =+H31/$E$3 -> 0.0072083655
B32: Prestaciones Sociales | C32: % | D32: 0.0005 | F32: =+$E$3 -> 235000000 | G32: =+$G$27 -> 1.3461 | H32: =+(((F32*G32*D32)/365)*($E$4*30+1095))*1.19 -> 595595.31 | J32: =+H32/$E$3 -> 0.0025344481
B33: Responsabilidad Civil | C33: % | D33: 0.0025 | F33: =+$E$3 -> 235000000 | G33: =+$G$27 -> 1.3461 | H33: =+(((F33*G33*D33)/365)*($E$4*30+0))*1.19 -> 154700.08 | J33: =+H33/$E$3 -> 0.00065829822
A35: 2.3 | B35: VALLAS Y SEÑALIZACION | I35: =SUM(H36:H37) -> 0 | J35: =+I35/$E$3 -> 0
B36: Vallas (4 m2) | C36: M2 | D36: 0 | F36: 200000 | H36: =+F36*D36 -> 0 | J36: =+H36/$E$3 -> 0
A38: 2.4 | B38: IMPUESTOS Y CONTRIBUCIONES | I38: =SUM(H39:H46) -> 45140790 | J38: =+I38/$E$3 -> 0.19208847
B39: Contribuación Especial | C39: % | D39: 0.05 | F39: =+$E$3 -> 235000000 | G39: =+$G$27 -> 1.3461 | H39: =+F39*D39*G39 -> 15816675 | J39: =+H39/$E$3 -> 0.067305
B40: Estampillas para el bienestar del adulto mayor | C40: % | D40: 0.02 | F40: =+$E$3 -> 235000000 | G40: =+$G$27 -> 1.3461 | H40: =+F40*D40*G40 -> 6326670 | J40: =+H40/$E$3 -> 0.026922
B41: Estampillas Pro - Universidades. | C41: % | D41: 0.02 | F41: =+$E$3 -> 235000000 | G41: =+$G$27 -> 1.3461 | H41: =+F41*D41*G41 -> 6326670 | J41: =+H41/$E$3 -> 0.026922
B42: Estampilla pro cultura | C42: % | D42: 0.02 | F42: =+$E$3 -> 235000000 | G42: =+$G$27 -> 1.3461 | H42: =+F42*D42*G42 -> 6326670 | J42: =+H42/$E$3 -> 0.026922
B43: Estampilla pro justicia familiar | C43: % | D43: 0.02 | F43: =+$E$3 -> 235000000 | G43: =+$G$27 -> 1.3461 | H43: =+F43*D43*G43 -> 6326670 | J43: =+H43/$E$3 -> 0.026922
B44: Gasto bancarios4x1000 y retiros | C44: % | D44: 0.004 | F44: =+$E$3 -> 235000000 | G44: =+$G$27 -> 1.3461 | H44: =+F44*D44*G44 -> 1265334 | J44: =+H44/$E$3 -> 0.0053844
B45: Industria y Comercio 3,7 x 1.000 sobre valor total | C45: % | D45: 0.0037 | F45: =+$E$3 -> 235000000 | G45: =+$G$27 -> 1.3461 | H45: =+F45*D45*G45 -> 1170433.9 | J45: =+H45/$E$3 -> 0.00498057
B46: Tasa pro deporte y recreación | C46: % | D46: 0.005 | F46: =+$E$3 -> 235000000 | G46: =+$G$27 -> 1.3461 | H46: =+F46*D46*G46 -> 1581667.5 | J46: =+H46/$E$3 -> 0.0067305
...

Sheet APU
A1: CODIGO | B1: CODINS | C1: INSUMO | D1: TIPO | E1: UNIDAD | F1: REND | G1: UNITARIO | H1: VR. PARCIAL | I1: VR. TOTAL | J1: Link_Ins
A3: Mtto - 1 | B3: - | C3: Cargue, descargue de modulo y transporte en la ciudad de Manizales, por trayecto Modulos pequeños | D3: Actividad | E3: UND | G3: 120000 | I3: =+G3 -> 120000
A5: Mtto - 2 | B5: - | C5: Cargue, descargue de modulo y transporte en la ciudad de Manizales, por trayecto Modulos grandes | D5: Actividad | E5: UND | G5: 300000 | I5: =+G5 -> 300000
A7: Mtto - 3 | B7: - | C7: Servicio de aplicación de soldadura Tig o Mig según requiera y pulimiento del area intervenida. | D7: Actividad | E7: ML | G7: 160000 | I7: =+G7 -> 160000
A9: Mtto - 4 | B9: - | C9: Servicio de aplicación de un punto soldadura Tig o Mig según requiera y pulimiento del area intervenida, | D9: Actividad | E9: UND | G9: 50000 | I9: =+G9 -> 50000
A11: Mtto - 5 | B11: - | C11: Remoción de pintura deteriorada ,Aplicación de masillas de nivelación,Aplicación de anticorrosivo en áreas equeridas y pintura. | D11: Actividad | E11: M2 | G11: 58000 | I11: =+G11 -> 58000
A13: Mtto - 6 | B13: - | C13: Remoción de grasa, suciedad y Contaminantes.Tratamiento de puntos de oxidación. Aplicación de productos pasivadores para acero inoxidable | D13: Actividad | E13: M2 | G13: 72000 | I13: =+G13 -> 72000
A15: Mtto - 7 | B15: - | C15: Suministro e instalacion de empaques de sello | D15: Actividad | E15: ML | G15: 40000 | I15: =+G15 -> 40000
A17: Mtto - 8 | B17: - | C17: Suministros e instalacion de chapa: Desmonte chapa existente en mal estado, montaje de contra puerta de seguridad | D17: Actividad | E17: UND | G17: 400000 | I17: =+G17 -> 400000
A19: Mtto - 9 | B19: - | C19: Suministros e instalacion de chapa: Desmonte chapa existente en mal estado, montaje de chapa de pestillo lateral | D19: Actividad | E19: UND | G19: 320000 | I19: =+G19 -> 320000
A21: Mtto - 10 | B21: - | C21: Ssuministro y aplicación de lubricantes y engrases para partes mobiles de modulos de ventas. | D21: Actividad | E21: UND | G21: 15000 | I21: =+G21 -> 15000
A23: Mtto - 11 | B23: - | C23: suministro e instalacion de lamina de acero inoxidable AISI 304 de 15*8 cm | D23: Actividad | E23: UND | G23: 60000 | I23: =+G23 -> 60000
A25: Mtto - 12 | B25: - | C25: suministro e instalacion de portacandado en acero inoxidable elaborado en platina de 3/16 | D25: Actividad | E25: UND | G25: 80000 | I25: =+G25 -> 80000

Sheet CONSOLIDADO CAI
F2: =#REF! -> #REF!
B3: DEPENDENCIA | C3: PROPIEDAD | D3: ESTADO | E3: COSTO DIRECTO | F3: COSTO TOTAL AU
B4: Estación de policía Manizales | C4: ALCALDIA DE MANIZALES
B5: Estación de policía Ciudadela Del Norte | C5: ALCALDIA DE MANIZALES
B6: Estación de policía Terminal | C6: POLICÍA
B7: Estación de policía Aeropuerto | C7: INFI-CALDAS
B8: Estación de policía Cuchilla Del Salado | C8: ALCALDIA DE MANIZALES | D8: TERMINADO | E8: =#REF! -> #REF! | F8: =$E8*$F2 -> #REF!
B9: Subestación de policía Villaneria | C9: POLICÍA
B10: Subestación de policía San Peregrino | C10: ALCALDIA DE MANIZALES | D10: TERMINADO | E10: =#REF! -> #REF! | F10: =F2*E10 -> #REF!
B11: Subestación de policía La Linda | C11: JAC LA LINDA
B12: Subestación de policía La Violeta | C12: JAC LA VIOLETA
B13: Subestación de policía Alto Lisboa | C13: JAC LISBOA
B14: Subestación de policía La Cabaña | C14: ALCALDIA DE MANIZALES
B15: Subestación de policía Alto Bonito | C15: ALCALDIA DE MANIZALES | D15: TERMINADO | E15: =#REF! -> #REF! | F15: =F2*E15 -> #REF!
B16: Subestación de policía Malteria | C16: ALCALDIA DE MANIZALES | D16: TERMINADO | E16: =#REF! -> #REF! | F16: =F2*E16 -> #REF!
B17: Subestación de policía Tres Puertas | C17: SUCESORES LIBORIO
B18: Subestación de policía Alto Tablazo | C18: ALCALDIA DE MANIZALES | D18: TERMINADO | E18: =#REF! -> #REF! | F18: =$E18*$F2 -> #REF!
B19: Subestación de policía Las Pavas | C19: ALCALDIA DE MANIZALES | D19: TERMINADO | E19: =#REF! -> #REF!
B20: Subestación de policía Alto De Letras | C20: ALCALDIA HERVEO
B21: Subestación de policía KM 41 | C21: ALCALDIA DE MANIZALES | D21: TERMINADO | E21: =#REF! -> #REF! | F21: =F2*E21 -> #REF!
B22: CAI Carmen | C22: ALCALDIA DE MANIZALES | D22: TERMINADO | E22: =#REF! -> #REF! | F22: =E22*F2 -> #REF!
B23: CAI Villahermosa | C23: ALCALDIA DE MANIZALES | D23: TERMINADO | E23: =#REF! -> #REF! | F23: =E23*F2 -> #REF!
B24: CAI Olaya | C24: ALCALDIA DE MANIZALES | D24: TERMINADO | E24: =#REF! -> #REF! | F24: =E24*F2 -> #REF!
B25: CAI Samaria | C25: ALCALDIA DE MANIZALES | D25: TERMINADO | E25: =#REF! -> #REF! | F25: =E25*F2 -> #REF!
B26: CAI Alfonso Lopez | C26: ALCALDIA DE MANIZALES | D26: TERMINADO | E26: =#REF! -> #REF! | F26: =E26*F2 -> #REF!
B27: CAI Aranjuez | C27: ALCALDIA DE MANIZALES | D27: TERMINADO | E27: =#REF! -> #REF! | F27: =E27*F2 -> #REF!
B28: CAI Chipre | C28: ALCALDIA DE MANIZALES | D28: TERMINADO | E28: =#REF! -> #REF! | F28: =E28*F2 -> #REF!
B29: CAI Fatima | C29: ALCALDIA DE MANIZALES | D29: TERMINADO | E29: =#REF! -> #REF! | F29: =E29*F2 -> #REF!
B30: CAI Galán | C30: ALCALDIA DE MANIZALES | D30: TERMINADO | E30: =#REF! -> #REF! | F30: =E30*F2 -> #REF!
B31: CAI San Sebastián | C31: ALCALDIA DE MANIZALES | D31: TERMINADO | E31: =#REF! -> #REF! | F31: =E31*F2 -> #REF!
B32: CAI Estambul | C32: ALCALDIA DE MANIZALES | D32: TERMINADO | E32: =#REF! -> #REF! | F32: =E32*F2 -> #REF!
B33: CAI Campin | C33: ALCALDIA DE MANIZALES | D33: TERMINADO | E33: =#REF! -> #REF! | F33: =E33*F2 -> #REF!
B34: CAI Liborio | C34: ALCALDIA DE MANIZALES | D34: TERMINADO | E34: =#REF! -> #REF! | F34: =E34*F2 -> #REF!
B35: CAI Leonora | C35: ALCALDIA DE MANIZALES | D35: TERMINADO | E35: =#REF! -> #REF! | F35: =E35*F2 -> #REF!
B36: CAI Enea | C36: ALCALDIA DE MANIZALES | D36: TERMINADO | E36: =#REF! -> #REF! | F36: =E36*F2 -> #REF!
B37: CAI Sultana | C37: ALCALDIA DE MANIZALES | D37: TERMINADO | E37: =#REF! -> #REF! | F37: =E37*F2 -> #REF!
B38: CAI Nevado | C38: MINISTERIO DE VIVIENDA
B39: CAI Terraza | C39: INFI MANIZALES
B40: CAI Centro | C40: INFI MANIZALES
B41: CAI Florida | C41: ALCALDIA DE VILLAMARIA
...

Sheet CONSOLIDADO INSPECCIONES
G2: =#REF! -> #REF!
B3: N | C3: Dependencia | D3: Necedidades | E3: Estado | F3: COSTO DIRECTO | G3: COSTO TOTAL AU
B4: 1 | C4: Inspeccion 1 | D4: moviliario y computo | E4: no se requirio | F4: no
B5: 2 | C5: Inspeccion 2 | D5: reparaciones locativas | E5: terminado | F5: 3962290 | G5: =F5*G2 -> #REF!
B6: 3 | C6: Inspeccion 3 | D6: moviliario y computo | E6: no se requirio | F6: no
B7: 4 | C7: Inspeccion 4 | D7: reparaciones locativas | E7: terminado | F7: =PPTO!#REF! -> #REF! | G7: =F7*G2 -> #REF!
B8: 5 | C8: Inspeccion 5 | D8: reparaciones locativas | E8: terminado | F8: =PPTO!#REF! -> #REF! | G8: =F8*G2 -> #REF!
B9: 6 | C9: Inspeccion 6 | D9: moviliario y computo | E9: no se requirio | F9: no
B10: 7 | C10: Inspeccion 7 | D10: reparaciones locativas | E10: terminado | F10: =PPTO!#REF! -> #REF! | G10: =F10*G2 -> #REF!
B11: 8 | C11: Inspeccion 8 | D11: reparaciones locativas | E11: terminado | F11: =PPTO!#REF! -> #REF! | G11: =F11*G2 -> #REF!
B12: 9 | C12: Inspeccion 9 | D12: moviliario y computo | E12: no se requirio
B13: 10 | C13: Inspeccion 10 | D13: reparaciones locativas | E13: no se requirio
B14: 11 | C14: Inspeccion 11 | D14: reparaciones locativas | E14: terminado | F14: =PPTO!#REF! -> #REF! | G14: =F14*G2 -> #REF!
B15: 12 | C15: Inspeccion 12 | D15: moviliario y computo | E15: no se requirio | F15: no
B16: 13 | C16: Inspeccion Permanente
B17: 14 | C17: Corregimiento Colombia | D17: reparaciones locativas | E17: terminado | F17: =PPTO!#REF! -> #REF! | G17: =F17*G2 -> #REF!
B18: 15 | C18: Corregimiento Rio Blanco | D18: reparaciones locativas | E18: terminado | F18: Contempldo en inspeccion 11
B19: 16 | C19: Corregimiento Panorama | D19: reparaciones locativas | E19: terminado | F19: 580653 | G19: =F19*G2 -> #REF!
B20: 17 | C20: Corregimiento Remanso | D20: moviliario y computo | E20: no se requirio
B21: 18 | C21: Corregimiento Tablazo | D21: moviliario y computo | E21: no se requirio | F21: Contempldo en comisaria 2
B22: 19 | C22: Comisaria 1 | E22: terminado | F22: =PPTO!#REF! -> #REF! | G22: =F22*G2 -> #REF!
B23: 20 | C23: Comisaria 2 | E23: terminado | F23: =PPTO!#REF! -> #REF! | G23: =F23*G2 -> #REF!
B24: 21 | C24: Comisaria 3 | E24: no se requirio | F24: no
B25: 22 | C25: Comisaria 4 | E25: no se requirio | F25: no
B26: 23 | C26: UPV | D26: reparaciones locativas | E26: terminado | F26: 7066263 | G26: =F26*G2 -> #REF!
B27: 24 | C27: Unidad de victimas | E27: por visitar | F27: =PPTO!#REF! -> #REF! | G27: =F27*G2 -> #REF!
B28: 25 | C28: Inspeccion Pesas y Medidas | E28: terminado | F28: =PPTO!#REF! -> #REF! | G28: =F28*G2 -> #REF!
B29: 26 | C29: Despacho | E29: por visitar | F29: no
B30: 27 | C30: PPL | E30: terminado | F30: =PPTO!#REF! -> #REF! | G30: =F30*G2 -> #REF!
F31: =F30+F28+F27+F26+F23+F22+F17+F14+F11+F10+F8+F7+F5 -> #REF! | G31: =PPTO!#REF! -> #REF!
