Workbook
Name CAP15CUBIERTA: #REF!
Name CAP15CUBIERTA: #REF!
Name cap16cubierta: #REF!
Name cap16cubierta: #REF!
Name fff: #REF!
Name fff: #REF!
Name MI: #REF!,#REF!,#REF!,#REF!,#REF!,#REF!,#REF!
Name MI: #REF!,#REF!,#REF!,#REF!,#REF!,#REF!,#REF!
Name mis: #REF!,#REF!,#REF!,#REF!,#REF!,#REF!,#REF!
Name mis: #REF!,#REF!,#REF!,#REF!,#REF!,#REF!,#REF!
Name ML: #REF!,#REF!,#REF!,#REF!,#REF!,#REF!,#REF!
Name ML: #REF!,#REF!,#REF!,#REF!,#REF!,#REF!,#REF!
Name pisos: #REF!
Name pisos: #REF!
Name sfsfsf: #REF!,#REF!,#REF!,#REF!,#REF!,#REF!,#REF!
Name sfsfsf: #REF!,#REF!,#REF!,#REF!,#REF!,#REF!,#REF!
Name total: #REF!
Name total: #REF!
Name TOTAL10: #REF!
Name TOTAL10: #REF!
Name total2: #REF!
Name total2: #REF!
Name TOTAL3: #REF!
Name TOTAL3: #REF!
Name TOTAL4: #REF!
Name TOTAL4: #REF!
Name TOTAL5: #REF!
Name TOTAL5: #REF!
Name TOTAL6: #REF!
Name TOTAL6: #REF!
Name W: #REF!,#REF!,#REF!,#REF!,#REF!,#REF!,#REF!
Name W: #REF!,#REF!,#REF!,#REF!,#REF!,#REF!,#REF!

Sheet CRONOGRAMA
B3: REPUBLICA DE COLOMBIA DEPARTAMENTO DEL HUILA
B4: =#REF! -> #REF!
B6: CRONOGRAMA DE ACTIVIDADES Y FLUJO DE FONDOS
F8: MES 1, 2 Y 3 | G8: MES 4 | K8: MES 5 | O8: MES 6 | S8: MES 7 | W8: MES 8 | AA8: MES 9 | AE8: MES 10 | AI8: MES 11 | AM8: MES 12 | AQ8: MES 13 | AU8: MES 14 | AY8: MES 15 | BC8: MES 16 Y 17
B9: No. | C9: Descripción | D9: Valor ($) | E9: Duración (días) | G9: S1 | H9: S2 | I9: S3 | J9: S4 | K9: S5 | L9: S6 | M9: S7 | N9: S8 | O9: S9 | P9: S10 | Q9: S11 | R9: S12 | S9: S13 | T9: S14 | U9: S15 | V9: S16 | W9: S17 | X9: S18 | Y9: S19 | Z9: S20 | AA9: S21 | AB9: S22 | AC9: S23 | AD9: S24 | AE9: S25 | AF9: S26 | AG9: S27 | AH9: S28 | AI9: S29 | AJ9: S30 | AK9: S31 | AL9: S32 | AM9: S33 | AN9: S34 | AO9: S35 | AP9: S36 | AQ9: S37 | AR9: S38 | AS9: S39 | AT9: S40 | AU9: S41 | AV9: S42 | AW9: S43 | AX9: S44 | AY9: S45 | AZ9: S46 | BA9: S47 | BB9: S48
B10: 1 | C10: Etapa contractual | E10: 90
B11: 2 | C11: Preliminares | D11: =109886796*1.25 -> 137358495 | E11: 330
G12: =D11/11 -> 12487136 | K12: =G12 -> 12487136 | O12: =K12 -> 12487136 | S12: =O12 -> 12487136 | W12: =S12 -> 12487136 | AA12: =W12 -> 12487136 | AE12: =AA12 -> 12487136 | AI12: =AE12 -> 12487136 | AM12: =AI12 -> 12487136 | AQ12: =AM12 -> 12487136 | AU12: =AQ12 -> 12487136
B13: 3 | C13: Estructura pavimento placa huella | D13: =ROUND(PRODUCT(11316411775*1.25),0) -> 14145514719 | E13: 360
G14: =D13/12 -> 1.1787929e+09 | K14: =G14 -> 1.1787929e+09 | O14: =K14 -> 1.1787929e+09 | S14: =O14 -> 1.1787929e+09 | W14: =S14 -> 1.1787929e+09 | AA14: =W14 -> 1.1787929e+09 | AE14: =AA14 -> 1.1787929e+09 | AI14: =AE14 -> 1.1787929e+09 | AM14: =AI14 -> 1.1787929e+09 | AQ14: =AM14 -> 1.1787929e+09 | AU14: =AQ14 -> 1.1787929e+09 | AY14: =AU14 -> 1.1787929e+09
B15: 4 | C15: Construción obras de drenaje | D15: =1072844442*1.25 -> 1.3410556e+09 | E15: 360
G16: =D15/12 -> 1.1175463e+08 | K16: =G16 -> 1.1175463e+08 | O16: =K16 -> 1.1175463e+08 | S16: =O16 -> 1.1175463e+08 | W16: =S16 -> 1.1175463e+08 | AA16: =W16 -> 1.1175463e+08 | AE16: =AA16 -> 1.1175463e+08 | AI16: =AE16 -> 1.1175463e+08 | AM16: =AI16 -> 1.1175463e+08 | AQ16: =AM16 -> 1.1175463e+08 | AU16: =AQ16 -> 1.1175463e+08 | AY16: =AU16 -> 1.1175463e+08
B17: 5 | C17: Obras complementarias | D17: =59865763.6*1.25 -> 74832204 | E17: 360
G18: =D17/12 -> 6236017 | K18: =G18 -> 6236017 | O18: =K18 -> 6236017 | S18: =O18 -> 6236017 | W18: =S18 -> 6236017 | AA18: =W18 -> 6236017 | AE18: =AA18 -> 6236017 | AI18: =AE18 -> 6236017 | AM18: =AI18 -> 6236017 | AQ18: =AM18 -> 6236017 | AU18: =AQ18 -> 6236017 | AY18: =AU18 -> 6236017
B19: 6 | C19: Caracterización vías | D19: 131203800 | E19: 90
G20: =D19/3 -> 43734600 | K20: =G20 -> 43734600 | O20: =K20 -> 43734600
B21: 7 | C21: Interventoría | D21: 1108097534 | E21: 360
G22: =D21/12 -> 92341461 | K22: =G22 -> 92341461 | O22: =K22 -> 92341461 | S22: =O22 -> 92341461 | W22: =S22 -> 92341461 | AA22: =W22 -> 92341461 | AE22: =AA22 -> 92341461 | AI22: =AE22 -> 92341461 | AM22: =AI22 -> 92341461 | AQ22: =AM22 -> 92341461 | AU22: =AQ22 -> 92341461 | AY22: =AU22 -> 92341461
B23: 8 | C23: Liquidación y cierre | E23: 60
B24: TOTAL | D24: =ROUND(SUM(D10:D22),0) -> 16938062305 | G24: =SUM(G11:J23) -> 1.4453467e+09 | K24: =SUM(K11:N23) -> 1.4453467e+09 | O24: =SUM(O11:R22) -> 1.4453467e+09 | S24: =SUM(S11:V22) -> 1.4016121e+09 | W24: =SUM(W11:Z23) -> 1.4016121e+09 | AA24: =SUM(AA11:AD23) -> 1.4016121e+09 | AE24: =SUM(AE11:AH22) -> 1.4016121e+09 | AI24: =SUM(AI11:AL22) -> 1.4016121e+09 | AM24: =SUM(AM11:AP22) -> 1.4016121e+09 | AQ24: =SUM(AQ11:AT22) -> 1.4016121e+09 | AU24: =SUM(AU11:AX22) -> 1.4016121e+09 | AY24: =SUM(AY11:BB23) -> 1.389125e+09
B26: NOTA: El costo de las actividades de obra incluye el AIU.
B34: ALIRIO LLANOS TRUJILLO
B35: M.P. No. 70202173879 TLM

Sheet DISCRIMINACIÓN AIU
A1: REPUBLICA DE COLOMBIA DEPARTAMENTO DEL HUILA MUNICIPIO DE PITALITO
A2: ANALISIS DE LOS GASTOS DE ADMINISTRACION, IMPREVISTOS Y UTILIDAD
C4: COSTOS DIRECTOS: | H4: 5300000000
C5: COSTOS OBRA (DIRECTOS + INDIRECTOS): | H5: =H4*1.3 -> 6890000000
A6: ='DISCRIMINACION INTER'!A3:G3 -> #REF!
A8: ITEM | B8: DESCRIPCIÓN | C8: CANTIDAD PERSONAL | D8: V.M./BASE | E8: FACT PREST. (%) | F8: DEDICACIÓN (%) | G8: DURACIÓN (MESES) | H8: VR. PARCIAL
A9: 1 | B9: ADMINISTRACION (A)
B10: PERSONAL
A11: 1.1 | B11: Ingeniero Director de Obra | C11: 1 | D11: 4000000 | E11: 0.6 | F11: 0.5 | G11: 12 | H11: =D11*(E11+1)*F11*G11 -> 38400000
A12: 1.2 | B12: Ingeniero Residente de Obra | C12: 2 | D12: 2700000 | E12: 0.6 | F12: 1 | G12: 12 | H12: =D12*(E12+1)*F12*G12*C12 -> 103680000
A13: 1.3 | B13: Inspector de Obra | C13: 2 | D13: 900000 | E13: 0.6 | F13: 1 | G13: 12 | H13: =D13*(E13+1)*F13*G13*C13 -> 34560000
A14: 1.4 | B14: Auxiliar de Ingenieria | C14: 1 | D14: 1000000 | E14: 0.6 | F14: 1 | G14: 12 | H14: =D14*(E14+1)*F14*G14 -> 19200000
A15: 1.5 | B15: Almacenista | C15: 1 | D15: 800000 | E15: 0.6 | F15: 1 | G15: 12 | H15: =D15*(E15+1)*F15*G15 -> 15360000
A16: 1.6 | B16: Asesor en sistemas de Calidad | C16: 1 | D16: 2500000 | E16: 0.6 | F16: 0.3 | G16: 12 | H16: =D16*(E16+1)*F16*G16 -> 14400000
A17: 1.7 | B17: Asesor en Seguridad Industrial | C17: 1 | D17: 2500000 | E17: 0.6 | F17: 0.3 | G17: 12 | H17: =D17*(E17+1)*F17*G17 -> 14400000
A18: 1.8 | B18: Asesor Ambiental (PAGA) | C18: 1 | D18: 2500000 | E18: 0.6 | F18: 0.4 | G18: 12 | H18: =D18*(E18+1)*F18*G18 -> 19200000
A19: 1.9 | B19: Trabajador Social | C19: 1 | D19: 900000 | E19: 0.6 | F19: 0.3 | G19: 12 | H19: =D19*(E19+1)*F19*G19 -> 5184000
A20: 1.1 | B20: Secretaria | C20: 1 | D20: 800000 | E20: 0.6 | F20: 1 | G20: 12 | H20: =D20*(E20+1)*F20*G20 -> 15360000
A21: 1.11 | B21: Vigilante | C21: 1 | D21: 800000 | E21: 0.6 | F21: 1 | G21: 12 | H21: =D21*(E21+1)*F21*G21 -> 15360000
A22: 1.12 | B22: Especialista en Vias, Pavimentos y Geotecnia | C22: 1 | D22: 3500000 | E22: 0.6 | F22: 0.4 | G22: 12 | H22: =D22*(E22+1)*F22*G22 -> 26880000
A23: 1.13 | B23: Laboratorista | C23: 1 | D23: 1200000 | E23: 0.6 | F23: 0.6 | G23: 12 | H23: =D23*(E23+1)*F23*G23 -> 13824000
B24: SUBTOTAL | H24: =SUM(H11:H23) -> 335808000
B25: GASTOS OPERACIONALES
A26: 1.15 | B26: Alquiler computadores, impresora | C26: 1 | D26: 1000000 | F26: 1 | G26: 12 | H26: =D26*F26*G26 -> 12000000
A27: 1.16 | B27: Papeleria | C27: 1 | D27: 1000000 | F27: 1 | G27: 12 | H27: =D27*F27*G27 -> 12000000
A28: 1.17 | B28: Seguridad industrial y dotación | C28: 1 | D28: 2500000 | F28: 1 | G28: 12 | H28: =D28*F28*G28 -> 30000000
A29: 1.18 | B29: Transportes | C29: 1 | D29: 4000000 | F29: 1 | G29: 12 | H29: =D29*F29*G29 -> 48000000
A30: 1.19 | B30: Almacenamiento | C30: 1 | D30: 1000000 | F30: 1 | G30: 12 | H30: =D30*F30*G30 -> 12000000
A31: 1.2 | B31: Mantenimiento equipos y herramientas | C31: 1 | D31: 1500000 | F31: 1 | G31: 12 | H31: =D31*F31*G31 -> 18000000
A32: 1.21 | B32: Arriendo de oficina y administración | C32: 1 | D32: 1000000 | F32: 1 | G32: 12 | H32: =D32*F32*G32 -> 12000000
A33: 1.22 | B33: Servicios públicos | C33: 1 | D33: 1000000 | F33: 1 | G33: 12 | H33: =D33*F33*G33 -> 12000000
A34: 1.23 | B34: Registro fotografico/videos/informes | C34: 1 | D34: 1000000 | F34: 1 | G34: 12 | H34: =D34*F34*G34 -> 12000000
A35: 1.24 | B35: Ensayos de control de calidad | C35: 1 | D35: 2000000 | F35: 1 | G35: 12 | H35: =D35*F35*G35 -> 24000000
A36: 1.25 | B36: Señalización de obra | C36: 1 | D36: 3000000 | F36: 1 | G36: 12 | H36: =D36*F36*G36 -> 36000000
A37: 1.26 | B37: Registro y elaboración de planos record | C37: 1 | D37: 1500000 | F37: 1 | G37: 1 | H37: =D37*F37*G37 -> 1500000
A38: 1.27 | B38: Valla | C38: 1 | D38: 2000000 | F38: 1 | G38: 1 | H38: =D38*F38*G38 -> 2000000
B39: SUBTOTAL | H39: =SUM(H26:H38) -> 231500000
B40: PUBLICACIÓN EN GACETA, POLIZAS E IMPUESTOS
A41: 1.28 | B41: Pólizas | D41: =H5 -> 6890000000 | F41: 0.007 | H41: =D41*F41 -> 48230000
A42: 1.29 | B42: ESTAMPILLAS
...

Sheet FACTOR MULTIPLICADOR
B1: REPUBLICA DE COLOMBIA DEPARTAMENTO DEL HUILA
B3: =#REF! -> #REF!
B5: FACTOR MULTIPLICADOR INTERVENTORÍA
G6: A | H6: 71479200 | I6: VR. CONTRATO ( SMMLV)
B7: 1 | C7: SALARIOS | E7: 1 | G7: B | H7: =+H6*0.34 -> 24302928 | I7: VR. PERSONAL (SALARIOS) 34%
B9: 2 | C9: PRESTACIONES SOCIALES | E9: =ROUND(SUM(D10:D19),2) -> 0.62
B10: 2.01 | C10: Cesantia | D10: 0.083333333
B11: 2.02 | C11: Intereses de cesantías | D11: 0.0121
B12: 2.03 | C12: Prima | D12: 0.083333333
B13: 2.04 | C13: Vacaciones | D13: 0.0411
B14: 2.05 | C14: Seguridad Social (salud) | D14: 0.12
B15: 2.06 | C15: Seguridad Social (pensión) | D15: 0.145
B16: 2.07 | C16: Aseguradora de Riesgos Laborales | D16: 0.0696
B17: 2.08 | C17: Subsidio Familiar | D17: 0.04
B18: 2.09 | C18: Subsidio de Transporte | D18: 0.0046
B19: 2.1 | C19: Dotación | D19: 0.02
B21: 3 | C21: GASTOS GENERALES | E21: =ROUND(SUM(D22:D38),2) -> 0.49
B22: 3.01 | C22: Arriendo de oficina, administración y servicios públicos | D22: 0.034 | H22: 3 smmlv | I22: =+#REF!*3 -> #REF! | J22: =+I22/H6 -> #REF!
B23: 3.02 | C23: Servicios públicos | D23: 0.005
B24: 3.03 | C24: Seguridad industrial de oficina del consultor | D24: 0.00013
B25: 3.04 | C25: Preparación de Propuesta | D25: 0.015
B26: 3.05 | C26: Asesoria Contable Tributaria y Juridica | D26: 0.15
B27: 3.06 | C27: Equipos y mantenimiento Oficina (Aseo) | D27: 0.02
B28: 3.07 | C28: Gastos de vehículo | D28: 0.01
B29: 3.08 | C29: Seguros de robo e incendio | D29: 0.005
B30: 3.09 | C30: Documentación Técnica | D30: 0.05
B31: 3.1 | C31: Papelería y útiles de oficina | D31: 0.03
B32: 3.11 | C32: Personal Administrativo no facturado | D32: 0.03
B33: 3.12 | C33: Personal Profesional no facturado | D33: 0.03
B34: 3.13 | C34: Depreciación de muebles y equipos | D34: 0.005
... B38: 3.18 | C38: Gastos de Representación | D38: 0.025
B40: 4 | C40: COSTOS DE PERFECCIONAMIENTO (PÓLIZAS) | E40: =+ROUND(SUM(D41:D44),2) -> 0.01 | G40: =SUM(G41:G44) -> 0.012647059 | I40: FÓRMULA PORCENTUAL
B41: 4.01 | C41: Póliza de calidad | D41: =ROUND(+G41,4) -> 0.0035 | G41: =+H41/$H$7 -> 0.0035294118 | H41: =+$H$6*0.3*0.004 -> 85775.04
B42: 4.02 | C42: Póliza de cumplimiento | D42: =ROUND(+G42,4) -> 0.0035 | G42: =+H42/$H$7 -> 0.0035294118 | H42: =+$H$6*0.3*0.004 -> 85775.04
B43: 4.03 | C43: Póliza de salarios y prestaciones sociales | D43: =ROUND(+G43,4) -> 0.0012 | G43: =+H43/$H$7 -> 0.0011764706 | H43: =+H6*0.1*0.004 -> 28591.68
B44: 4.04 | C44: Garantía Responsabilidad Civíl Extracontractual | D44: =ROUND(+G44,4) -> 0.0044 | G44: =+H44/$H$7 -> 0.0044117647 | H44: =+H6*0.3*0.005 -> 107218.8
B46: 5 | C46: IMPREVISTOS 1% DE (1+2+3+4) | E46: =ROUND(1%*(E7+E9+E21+E40),2) -> 0.02
B48: 6 | C48: HONORARIOS (UTILIDADES) 10% DE (1+2+3+4) | E48: =+ROUND(10%*(E7+E9+E21+E40),2) -> 0.21
C50: TOTAL FACTOR MULTIPLICADOR | E50: =+E7+E9+E21+E40+E46+E48 -> 2.35 | G50: 2.35
B54: ING. ALIRIO LLANOS TRUJILLO
...

Sheet DISCRIMINACION INTER
A1: REPUBLICA DE COLOMBIA DEPARTAMENTO DEL HUILA
A3: =#REF! -> #REF!
A5: PRESUPUESTO INTERVENTORIA
B7: CARGO / OFICIO | C7: SUELDO Y/O JORNAL MENSUAL | D7: CANT. | E7: % PARTICIPACIÓN | F7: TIEMPO DE EJECUCIÓN (MESES) | G7: VALOR PARCIAL ($)
B8: COSTOS DIRECTOS DE PERSONAL
B9: PERSONAL PROFESIONAL
B10: Director | C10: 4500000 | D10: 1 | E10: 0.4 | F10: 12 | G10: =C10*E10*F10 -> 21600000
B11: Ingeniero Residente de Interventoría | C11: 3000000 | D11: 2 | E11: 1 | F11: 12 | G11: =C11*E11*F11*D11 -> 72000000
B12: Ingeniero Especialista en Pavimentos | C12: 4000000 | D12: 1 | E12: 0.4 | F12: 12 | G12: =C12*E12*F12 -> 19200000
B13: Profesional Aseguramiento de la Calidad | C13: 4000000 | D13: 1 | E13: 0.4 | F13: 12 | G13: =C13*E13*F13 -> 19200000
B14: PERSONAL TÉCNICO
B15: Auxiliar de ingeniería | C15: 1400000 | D15: 2 | E15: 1 | F15: 12 | G15: =C15*E15*F15*D15 -> 33600000
B16: Inspector | C16: 1200000 | D16: 2 | E16: 1 | F16: 12 | G16: =C16*E16*F16*D16 -> 28800000
B17: Comisión de topografía (topógrafo + cadenero) | C17: 3500000 | D17: 1 | E17: 1 | F17: 12 | G17: =C17*E17*F17 -> 42000000
B18: Laboratorista de suelos y concreto | C18: 1400000 | D18: 1 | E18: 0.5 | F18: 12 | G18: =C18*E18*F18 -> 8400000
B19: PERSONAL ADMINISTRATIVO
B20: Secretaría | C20: 800000 | D20: 1 | E20: 1 | F20: 12 | G20: =C20*E20*F20 -> 9600000
B21: Contador Público | C21: 2500000 | D21: 1 | E21: 0.6 | F21: 12 | G21: =C21*E21*F21 -> 18000000
B22: PERSONAL AUXILIAR TÉCNICO
B23: Conductor | C23: 800000 | D23: 1 | E23: 1 | F23: 12 | G23: =C23*E23*F23 -> 9600000
B24: SUBTOTAL COSTO DE PERSONAL | G24: =SUM(G10:G23) -> 282000000
B25: FACTOR MULTIPLICADOR | G25: 2.35
B26: TOTAL COSTO DE PERSONAL | G26: =G24*G25 -> 662700000
B27: CONCEPTO | C27: UNIDAD | E27: COSTO ($) | F27: CANTIDAD POR MES | G27: VALOR PARCIAL ($)
B28: OTROS COSTOS DIRECTOS
B29: COSTO DE ALQUILER DE EQUIPOS
B30: Vehiculo >2000 cc | C30: MES | D30: 2 | E30: 6000000 | F30: 12 | G30: =E30*F30*D30 -> 144000000
B31: Equipo completo de topografía (incluye estación, nivel y elementos complementarios) | C31: MES | D31: 1 | E31: 5800000 | F31: 12 | G31: =E31*F31 -> 69600000
B32: Equipo de laboratorio de suelos y concreto | C32: MES | D32: 1 | E32: =4570000+2866.52 -> 4572866.5 | F32: 12 | G32: =E32*F32 -> 54874398
B33: TOTAL OTROS COSTOS DIRECTOS | G33: =SUM(G30:G32) -> 2.684744e+08
B35: TOTAL COSTOS DE PERSONAL + OTROS COSTOS DIRECTOS | G35: =G26+G33 -> 9.311744e+08
B36: IVA = 19% | G36: =G35*0.19 -> 1.7692314e+08
B37: COSTO TOTAL | G37: =ROUND(SUM(G35:G36),0) -> 1108097534
B45: ALIRIO LLANOS TRUJILLO
B46: M.P. No. 70202173879 TLM

Sheet DISCRIMINACIÓN AIU.
A1: REPUBLICA DE COLOMBIA DEPARTAMENTO DEL HUILA
A2: ANALISIS DE LOS GASTOS DE ADMINISTRACION, IMPREVISTOS Y UTILIDAD
C4: COSTOS DIRECTOS: | H4: 12559008777
C5: COSTOS OBRA: | H5: 15829964771
A6: ='DISCRIMINACION INTER'!A3:G3 -> #REF!
A8: ITEM | B8: DESCRIPCIÓN | C8: CANTIDAD | D8: V.M./BASE | E8: FACT PREST. (%) | F8: DEDICACIÓN (%) | G8: DURACIÓN (MESES) | H8: VR. PARCIAL
A9: 1 | B9: ADMINISTRACION (A)
B10: PERSONAL
A11: 1.1 | B11: Ingeniero Director de Obra | C11: 1 | D11: 4500000 | E11: 0.6 | F11: 0.5 | G11: 12 | H11: =D11*(E11+1)*F11*G11*C11 -> 43200000
A12: 1.2 | B12: Ingeniero Residente de Obra | C12: 2 | D12: 3000000 | E12: 0.6 | F12: 1 | G12: 12 | H12: =D12*(E12+1)*F12*G12*C12 -> 115200000
A13: 1.3 | B13: Inspector de Obra | C13: 2 | D13: 1200000 | E13: 0.6 | F13: 1 | G13: 12 | H13: =D13*(E13+1)*F13*G13*C13 -> 46080000
A14: 1.4 | B14: Auxiliar de Ingenieria | C14: 2 | D14: 1400000 | E14: 0.6 | F14: 1 | G14: 12 | H14: =D14*(E14+1)*F14*G14*C14 -> 53760000
A15: 1.5 | B15: Almacenista | C15: 1 | D15: 800000 | E15: 0.6 | F15: 1 | G15: 12 | H15: =D15*(E15+1)*F15*G15 -> 15360000
A16: 1.6 | B16: Asesor en sistemas de Calidad | C16: 1 | D16: 2700000 | E16: 0.6 | F16: 0.3 | G16: 12 | H16: =D16*(E16+1)*F16*G16 -> 15552000
A17: 1.7 | B17: Asesor en Seguridad Industrial | C17: 1 | D17: 2700000 | E17: 0.6 | F17: 0.3 | G17: 12 | H17: =D17*(E17+1)*F17*G17 -> 15552000
A18: 1.8 | B18: Asesor Ambiental | C18: 1 | D18: 2700000 | E18: 0.6 | F18: 0.3 | G18: 12 | H18: =D18*(E18+1)*F18*G18 -> 15552000
A19: 1.9 | B19: Trabajador Social | C19: 1 | D19: 1200000 | E19: 0.6 | F19: 0.3 | G19: 12 | H19: =D19*(E19+1)*F19*G19 -> 6912000
A20: 1.1 | B20: Secretaria | C20: 1 | D20: 800000 | E20: 0.6 | F20: 1 | G20: 12 | H20: =D20*(E20+1)*F20*G20 -> 15360000
A21: 1.11 | B21: Vigilante | C21: 2 | D21: 800000 | E21: 0.6 | F21: 1 | G21: 12 | H21: =D21*(E21+1)*F21*G21*C21 -> 30720000
A22: 1.12 | B22: Especialista en Vias, Pavimentos y Geotecnia | C22: 1 | D22: 4000000 | E22: 0.6 | F22: 0.4 | G22: 12 | H22: =D22*(E22+1)*F22*G22 -> 30720000
A23: 1.13 | B23: Laboratorista | C23: 1 | D23: 1400000 | E23: 0.6 | F23: 0.6 | G23: 12 | H23: =D23*(E23+1)*F23*G23 -> 16128000
B24: SUBTOTAL | H24: =SUM(H11:H23) -> 420096000
B25: GASTOS OPERACIONALES
A26: 1.15 | B26: Alquiler computadores, impresora | C26: 1 | D26: 1500000 | F26: 1 | G26: 12 | H26: =D26*F26*G26 -> 18000000
A27: 1.16 | B27: Papeleria | C27: 1 | D27: 1000000 | F27: 1 | G27: 12 | H27: =D27*F27*G27 -> 12000000
A28: 1.17 | B28: Seguridad industrial y dotación | C28: 1 | D28: 4500000 | F28: 1 | G28: 12 | H28: =D28*F28*G28 -> 54000000
A29: 1.18 | B29: Transportes | C29: 1 | D29: 6000000 | F29: 1 | G29: 12 | H29: =D29*F29*G29 -> 72000000
A30: 1.19 | B30: Almacenamiento | C30: 1 | D30: 2000000 | F30: 1 | G30: 12 | H30: =D30*F30*G30 -> 24000000
A31: 1.2 | B31: Mantenimiento equipos y herramientas | C31: 1 | D31: 3500000 | F31: 1 | G31: 12 | H31: =D31*F31*G31 -> 42000000
A32: 1.21 | B32: Arriendo de oficina y administración | C32: 1 | D32: 2000000 | F32: 1 | G32: 12 | H32: =D32*F32*G32 -> 24000000
A33: 1.22 | B33: Servicios públicos | C33: 1 | D33: 1000000 | F33: 1 | G33: 12 | H33: =D33*F33*G33 -> 12000000
A34: 1.23 | B34: Registro fotografico/videos/informes | C34: 1 | D34: 1000000 | F34: 1 | G34: 12 | H34: =D34*F34*G34 -> 12000000
A35: 1.24 | B35: Ensayos de control de calidad | C35: 1 | D35: 2800000 | F35: 1 | G35: 12 | H35: =D35*F35*G35 -> 33600000
A36: 1.25 | B36: Plan de manejo de tránsito y señalización | C36: 1 | D36: 5600000 | F36: 1 | G36: 12 | H36: =C36*D36*G36 -> 67200000
A37: 1.26 | B37: Programa de adaptación de guías ambientales | C37: 1 | D37: 9400000 | F37: 1 | G37: 12 | H37: =C37*D37*G37 -> 112800000
A38: 1.27 | B38: Campamento | C38: 1 | D38: 5600000 | F38: 1 | G38: 1 | H38: =D38*F38*G38*C38 -> 5600000
A39: 1.28 | B39: Registro y elaboración de planos record | C39: 1 | D39: 3200000 | F39: 1 | G39: 1 | H39: =D39*F39*G39 -> 3200000
A40: 1.29 | B40: Valla | C40: 5 | D40: 725641 | F40: 1 | G40: 1 | H40: =D40*F40*G40*C40 -> 3628205
B41: SUBTOTAL | H41: =SUM(H26:H40) -> 496028205
B42: PUBLICACIÓN EN GACETA, POLIZAS E IMPUESTOS
...

Sheet CARACTERIZACIÓN
B1: REPUBLICA DE COLOMBIA DEPARTAMENTO DEL HUILA MUNICIPIO DE PITALITO
B2: MEJORAMIENTO DE VIAS TERCIARIAS MEDIANTE EL USO DE PLACA HUELLA EN MUNICIPIOS DEL SUR DEL DEPARTAMENTO DEL HUILA
B5: ANÁLISIS DE PRESUPUESTO DE CARACTERIZACIÓN VÍAL
D8: Longitud a caracterizar (km) | F8: 1
B10: CONCEPTO | C10: V.M./BASE | D10: Dedicación | E10: Duración (mes) | F10: V.PARCIAL
B11: Ingeniero SIG | C11: 3000000 | D11: 0.8 | E11: 0.07 | F11: =E11*D11*C11 -> 168000
B12: Ingeniero de levantamiento de campo | C12: 2500000 | D12: 0.7 | E12: =$E$11 -> 0.07 | F12: =E12*D12*C12 -> 122500
B13: Conductor | C13: 800000 | D13: 0.7 | E13: =$E$11 -> 0.07 | F13: =E13*D13*C13 -> 39200
B14: GASTOS PERSONAL | F14: =SUM(F11:F13) -> 329700
B16: Alquiler GPS y equipos topográficos | C16: 2000000 | D16: 0.4 | E16: =$E$11 -> 0.07 | F16: =E16*D16*C16 -> 56000
B17: Computador Portátil | C17: 1500000 | D17: 0.6 | E17: =$E$11 -> 0.07 | F17: =E17*D17*C17 -> 63000
B18: Cámara | C18: 700000 | D18: 0.3 | E18: =$E$11 -> 0.07 | F18: =E18*D18*C18 -> 14700
B19: Transportes | C19: 500000 | D19: 0.8 | E19: =$E$11 -> 0.07 | F19: =E19*D19*C19 -> 28000
B20: GASTOS OPERACIONALES | F20: =SUM(F16:F19) -> 161700
B22: COSTO TOTAL * km | F22: =F20+F14 -> 491400
B23: NUMERO DE KILOMETROS
B24: COSTO TOTAL
B29: ING. ALIRIO LLANOS TRUJILLO
B30: M.P. 70202173879 TLM

Sheet PRESUPUESTO
A1: MANTENIMIENTO Y MEJORAMIENTO DE 11,3 KILOMETROS EN LOS TRAMOS CRÍTICOS DE LA VIAS TERCIARIAS LAS MORAS - CRUCE VEREDA LA ARGENTINA, VEREDA GUAYABITO - VEREDA PRIMAVERA Y VEREDA EL NEME - VEREDA BUENOS AIRES CRUCE HACIA SECTOR QUEBRADILLAS DEL MUNICIPIO DE SALADOBLANCO DEPARTAMENTO DEL HUILA
A3: ÍTEM | B3: DESCRIPCIÓN | C3: CONTRATADAS
C4: UNID | D4: CANT | E4: VR/UNITARIO | F4: VR/TOTAL
A6: 1 | B6: CONFORMACIÓN DE CALZADA EXISTENTE, INCLUYE PERFILADA Y CUNETEADA | C6: M2 | D6: =11.3*4000 -> 45200 | E6: 1120 | F6: =+ROUND((D6*E6),2) -> 50624000
A7: 2 | B7: AFIRMADO CON RECEBO (INCLUYE SUMINISTRO, EXTENDIDO, NIVELACIÓN Y COMPACTACION) | C7: M3 | D7: =+D6/20 -> 2260 | E7: 25615 | F7: =+ROUND((D7*E7),0) -> 57889900
A8: 3 | B8: TRANSPORTE DE MATERIALES EN TERRENO ONDULADO | C8: M3/KM | D8: =+D7*3 -> 6780 | E8: 1023 | F8: =+ROUND((D8*E8),0) -> 6935940
C9: SUBTOTAL OBRAS | F9: =+F6+F7+F8 -> 115449840
B11: Administración 23% | F11: =+F9*0.23 -> 26553463
B12: Utilidad 5% | F12: =+F9*0.05 -> 5772492
B13: Imprevistos 2% | F13: =+F9*0.02 -> 2308996.8
B14: VALOR TOTAL | F14: =SUM(F9:F13) -> 150084792

Sheet 1 Conformación 
A1: MANTENIMIENTO Y MEJORAMIENTO DE 11,3 KILOMETROS EN LOS TRAMOS CRÍTICOS DE LA VIAS TERCIARIAS LAS MORAS - CRUCE VEREDA LA ARGENTINA, VEREDA GUAYABITO - VEREDA PRIMAVERA Y VEREDA EL NEME - VEREDA BUENOS AIRES CRUCE HACIA SECTOR QUEBRADILLAS DEL MUNICIPIO DE SALADOBLANCO DEPARTAMENTO DEL HUILA
A2: DEPARTAMENTO DEL HUILA | C2: ='[3]HOJA MATRIZ'!C2:G3 -> ANÁLISIS DE PRECIOS UNITARIOS
A3: =+'[3]HOJA MATRIZ'!A3:B3 -> MUNICIPIO DE SALADOBLANCO
A5: ITEM | B5: ='[3]PPTO VIAS'!B5 -> 1 | C5: CONFORMACIÒN DE CALZADA EXISTENTE, INCLUYE PERFILADA Y CUNETEADA
D7: UNIDAD: | E7: ='[3]PPTO VIAS'!D5 -> M2
D8: ='[3]HOJA MATRIZ'!D8 -> ITEM DE PAGO: | E8: 1
A9: I. EQUIPO
A10: Descripción | C10: Tipo | D10: Tarifa/Hora | E10: Rendimiento | F10: Valor-Unit.
A11: ='[3]INSUMOS-EQUIPO'!C18 -> MOTONIVELADORA >120 HP. | D11: 180000 | E11: 200 | F11: =ROUND(D11/E11,0) -> 900
A12: ='[3]INSUMOS-EQUIPO'!C26 -> TANQUE CAP. 500L IRRIGADOR DE AGUA ACCIONADO CON TIRO. | D12: 99000 | E12: 450 | F12: =ROUND(D12/E12,0) -> 220
D13: Sub-Total | F13: =SUM(F11:F12) -> 1120
A14: II. MATERIALES
A15: Descripción | C15: Unidad | D15: Precio-Unit. | E15: Cantidad | F15: Valor-Unit.
D18: Sub-Total | F18: =SUM(F16:F17) -> 0
A19: III. TRANSPORTES
A20: Material | B20: Vol-peso ó Cant. | C20: Distancia | D20: M3-Km | E20: Tarifa | F20: Valor-Unit.
F21: =+E21*D21 -> 0
D22: Sub-Total | F22: =SUM(F21:F21) -> 0
A23: IV. MANO DE OBRA
A24: Trabajador | B24: Jornal/H-H | C24: Prestaciones | D24: Jornal Total | E24: Rendimiento | F24: Valor-Unit.
D26: Sub-Total | F26: =SUM(F25:F25) -> 0
C28: Total Costo Directo | F28: =ROUND(SUM(F13+F18+F22+F26),0) -> 1120
A29: V. COSTOS INDIRECTOS
A30: Descripción | E30: Porcentaje | F30: Valor Total
A31: Administración | E31: 0.23 | F31: =ROUND($F$28*E31,0) -> 258
A32: Utilidad | E32: 0.05 | F32: =ROUND($F$28*E32,0) -> 56
A33: Imprevistos | E33: 0.02 | F33: =ROUND($F$28*E33,0) -> 22
D34: Sub-Total | F34: =(SUM(F31:F33)) -> 336
B36: Precio unitario total aproximado al peso | F36: =ROUND((F28+F34),0) -> 1456

Sheet 2 Afirmado
A1: MANTENIMIENTO Y MEJORAMIENTO DE 11,3 KILOMETROS EN LOS TRAMOS CRÍTICOS DE LA VIAS TERCIARIAS LAS MORAS - CRUCE VEREDA LA ARGENTINA, VEREDA GUAYABITO - VEREDA PRIMAVERA Y VEREDA EL NEME - VEREDA BUENOS AIRES CRUCE HACIA SECTOR QUEBRADILLAS DEL MUNICIPIO DE SALADOBLANCO DEPARTAMENTO DEL HUILA
A2: DEPARTAMENTO DEL HUILA | C2: ='[3]HOJA MATRIZ'!C2:G3 -> ANÁLISIS DE PRECIOS UNITARIOS | G2: INDICE
A3: =+'[3]1 Conformación '!A3:B3 -> MUNICIPIO DE SALADOBLANCO
A5: ITEM | B5: =+'[3]PPTO VIAS'!B6 -> 2 | C5: AFIRMADO CON RECEBO (INCLUYE SUMINISTRO, EXTENDIDO Y NIVELACIÒN)
D7: UNIDAD: | E7: M3
D8: ='[3]HOJA MATRIZ'!D8 -> ITEM DE PAGO: | E8: 2
A9: I. EQUIPO
A10: Descripción | C10: Tipo | D10: Tarifa/Hora | E10: Rendimiento | F10: Valor-Unit.
A11: ='[3]INSUMOS-EQUIPO'!C18 -> MOTONIVELADORA >120 HP. | D11: 180000 | E11: 20 | F11: =ROUND(D11/E11,0) -> 9000
A12: ='[3]INSUMOS-EQUIPO'!C19 -> VIBROCOMPACTADOR DYNAPAC C-15 O SIMILAR | D12: 102800 | E12: 25 | F12: =ROUND(D12/E12,0) -> 4112
A13: ='[3]INSUMOS-EQUIPO'!C26 -> TANQUE CAP. 500L IRRIGADOR DE AGUA ACCIONADO CON TIRO. | D13: 12375 | E13: 30 | F13: =ROUND(D13/E13,0) -> 413
D14: Sub-Total | F14: =SUM(F11:F13) -> 13525
A15: II. MATERIALES
A16: Descripción | C16: Unidad | D16: Precio-Unit. | E16: Cantidad | F16: Valor-Unit.
A17: =+'[3]INSUMOS-MATERIALES'!C58 -> RECEBO COMÚN PROVENIENTE DE MATERIAL DE PRESTAMO I.P.<15%; T.M.=3". | C17: ='[3]INSUMOS-MATERIALES'!D21 -> M3 | D17: 9300 | E17: 1.3 | F17: =D17*E17 -> 12090
D18: Sub-Total | F18: =SUM(F17:F17) -> 12090
A19: III. TRANSPORTES
A20: Material | B20: Vol-peso ó Cant. | C20: Distancia | D20: M3-Km | E20: Tarifa | F20: Valor-Unit.
F21: =D21*E21 -> 0
D22: Sub-Total | F22: =SUM(F21:F21) -> 0
A23: IV. MANO DE OBRA
A24: Trabajador | B24: Jornal/H-C | C24: Prestaciones | D24: Jornal Total | E24: Rendimiento | F24: Valor-Unit.
D26: Sub-Total | F26: =SUM(F25:F25) -> 0
C28: Total Costo Directo | F28: =ROUND(SUM(F14+F18+F22+F26),0) -> 25615
A29: V. COSTOS INDIRECTOS
A30: Descripción | E30: Porcentaje | F30: Valor Total
A31: Administración | E31: 0.23 | F31: =$F$28*E31 -> 5891.45
A32: Utilidad | E32: =+'[3]1 Conformación '!E34 -> 0.05 | F32: =$F$28*E32 -> 1280.75
A33: Imprevistos | E33: 0.02 | F33: =$F$28*E33 -> 512.3
D34: Sub-Total | F34: =ROUND(SUM(F31:F33),0) -> 7685
B36: Precio unitario total aproximado al peso | F36: =ROUND((F28+F34),0) -> 33300

Sheet 3 Transporte
A1: MANTENIMIENTO Y MEJORAMIENTO DE 11,3 KILOMETROS EN LOS TRAMOS CRÍTICOS DE LA VIAS TERCIARIAS LAS MORAS - CRUCE VEREDA LA ARGENTINA, VEREDA GUAYABITO - VEREDA PRIMAVERA Y VEREDA EL NEME - VEREDA BUENOS AIRES CRUCE HACIA SECTOR QUEBRADILLAS DEL MUNICIPIO DE SALADOBLANCO DEPARTAMENTO DEL HUILA
A2: DEPARTAMENTO DEL HUILA | C2: ='[3]HOJA MATRIZ'!C2:G3 -> ANÁLISIS DE PRECIOS UNITARIOS
A3: ='[3]2 AFIRMADO'!A3:B3 -> MUNICIPIO DE SALADOBLANCO
A5: ITEM | B5: 3 | C5: TRANSPORTE DE MATERIALES EN TERRENO ONDULADO
A7: ='[3]2 AFIRMADO'!A8 -> 0 | D7: UNIDAD: | E7: =+'[3]PPTO VIAS'!D7 -> M3/KM
D8: ='[3]HOJA MATRIZ'!D8 -> ITEM DE PAGO:
A9: I. EQUIPO
A10: Descripción | C10: Tipo | D10: Tarifa | E10: Rendimiento | F10: Valor-Unit.
A11: VOLQUETA 6 M3 | D11: 300000 | E11: 293 | F11: =+TRUNC((D11/E11),0) -> 1023
D12: Sub-Total | F12: =SUM(F11:F11) -> 1023
A13: II. MATERIALES
A14: Descripción | C14: Unidad | D14: Precio-Unit. | E14: Cantidad | F14: Valor-Unit.
D16: Sub-Total | F16: =SUM(F15:F15) -> 0
A17: III. TRANSPORTES
A18: Material | B18: Vol-peso ó Cant. | C18: Distancia | D18: M3-Km | E18: Tarifa | F18: Valor-Unit.
B19: 0 | C19: 0 | D19: =B19*C19 -> 0 | F19: =D19*E19 -> 0
B20: 0 | C20: 0 | D20: =B20*C20 -> 0 | F20: =D20*E20 -> 0
D21: Sub-Total | F21: =SUM(F19:F20) -> 0
A22: IV. MANO DE OBRA
A23: Trabajador | B23: Jornal/H-C. | C23: Prestaciones | D23: Jornal Total | E23: Rendimiento | F23: Valor-Unit.
F24: 0
D25: Sub-Total | F25: =SUM(F24:F24) -> 0
D27: Total Costo Directo | F27: =ROUND(SUM(F12+F16+F21+F25),0) -> 1023
A28: V. COSTOS INDIRECTOS
A29: Descripción | E29: Porcentaje | F29: Valor Total
A30: Administración | E30: 0.23 | F30: =$F$27*E30 -> 235.29
A31: Utilidad | E31: 0.05 | F31: =$F$27*E31 -> 51.15
A32: Imprevistos | E32: 0.02 | F32: =$F$27*E32 -> 20.46
D33: Sub-Total | F33: =ROUND(SUM(F30:F32),0) -> 307
B35: Precio unitario total aproximado al peso | F35: =ROUND((F27+F33),0) -> 1330

Sheet CANTIDADES
A1: MANTENIMIENTO Y MEJORAMIENTO DE 11,3 KILOMETROS EN LOS TRAMOS CRÍTICOS DE LA VIAS TERCIARIAS LAS MORAS - CRUCE VEREDA LA ARGENTINA, VEREDA GUAYABITO - VEREDA PRIMAVERA Y VEREDA EL NEME - VEREDA BUENOS AIRES CRUCE HACIA SECTOR QUEBRADILLAS DEL MUNICIPIO DE SALADOBLANCO DEPARTAMENTO DEL HUILA
A6: MEMORIAS DE CALCULO DE CANTIDADES DE OBRA
A9: ITEM | B9: DESCRIPCION | C9: UNIDAD | D9: LONGITUD (m) | E9: ANCHO (m) | F9: ESPESOR (m) | G9: LONG/AREA/VOL | H9: CANT. EJEC.
A10: =+'[3]PPTO VIAS'!B5 -> 1 | B10: CONFORMACIÒN DE CALZADA EXIXTNTE, INCLUYE PERFILADA Y CUNETEADA | H10: =SUM(G11:G11) -> 45200
C11: m2 | D11: 11300 | E11: 4 | G11: =ROUND(+D11*E11,2) -> 45200
A12: =+'[3]PPTO VIAS'!B6 -> 2 | B12: AFIRMADO CON RECEBO (INCLUYE SUMINISTRO, EXTENDIDO Y NIVELACIÒN) | H12: =SUM(G13:G13) -> 2260
C13: m3 | D13: =+D11 -> 11300 | E13: =+E11 -> 4 | F13: 0.05 | G13: =ROUND(+D13*E13*F13,2) -> 2260
A14: =+'[3]PPTO VIAS'!B7 -> 3 | B14: TRANSPORTE DE MATERIALES EN TERRENO ALTA MONTAÑA | D14: KM | E14: M3 | H14: =SUM(G15:G15) -> 6780
C15: m3/km | D15: 3 | E15: =+H12 -> 2260 | G15: =+D15*E15 -> 6780

Sheet PROPUESTA ECONOMICA
A1: MANTENIMIENTO Y MEJORAMIENTO DE 11,3 KILOMETROS EN LOS TRAMOS CRÍTICOS DE LA VIAS TERCIARIAS LAS MORAS - CRUCE VEREDA LA ARGENTINA, VEREDA GUAYABITO - VEREDA PRIMAVERA Y VEREDA EL NEME - VEREDA BUENOS AIRES CRUCE HACIA SECTOR QUEBRADILLAS DEL MUNICIPIO DE SALADOBLANCO DEPARTAMENTO DEL HUILA
A3: ÍTEM | B3: DESCRIPCIÓN | C3: CONTRATADAS
C4: UNID | D4: CANT | E4: VR/UNITARIO | F4: VR/TOTAL
A6: 1 | B6: CONFORMACIÓN DE CALZADA EXISTENTE, INCLUYE PERFILADA Y CUNETEADA | C6: M2 | D6: =11.3*4000 -> 45200 | F6: =+ROUND((D6*E6),2) -> 0
A7: 2 | B7: AFIRMADO CON RECEBO (INCLUYE SUMINISTRO, EXTENDIDO, NIVELACIÓN Y COMPACTACION) | C7: M3 | D7: =+D6/20 -> 2260 | F7: =+ROUND((D7*E7),0) -> 0
A8: 3 | B8: TRANSPORTE DE MATERIALES EN TERRENO ONDULADO | C8: M3/KM | D8: =+D7*3 -> 6780 | F8: =+ROUND((D8*E8),0) -> 0
C9: SUBTOTAL OBRAS | F9: =+F6+F7+F8 -> 0
B11: Administración 23% | F11: =+F9*0.23 -> 0
B12: Utilidad 5% | F12: =+F9*0.05 -> 0
B13: Imprevistos 2% | F13: =+F9*0.02 -> 0
B14: VALOR TOTAL | F14: =SUM(F9:F13) -> 0

Sheet 2,8
F2: MEMORIAS DE CANTIDADES | N2: Página 1 de 2
N3: Código: F-GIN-103 Versión: 1 Fecha: 31/Jul/2015
F4: PROYECTO: | G4: PLACA HUELLAS EN EL SUR DEL HUILA | K4: CONTRATISTA: CONSORCIO VIAS HUILA
F5: CORREGIMIENTO | G5: =#REF! -> #REF!
F6: VEREDA - ZONA | G6: =#REF! -> #REF!
C7: Objeto: “MEJORAMIENTO DE VIAS TERCIARIAS MEDIANTE EL USO DE PLACA HUELLA EN LOS MUNICIPIOS DEL SUR DEL DEPARTAMENTO DEL HUILA”
C8: =#REF! -> #REF! | G8: Contrato de interventoría No. | H8: =#REF! -> #REF! | K8: Contrato de Obra No. 861 DEL 2018
K9: Vigencia del contrato | O9: 12 MESES
C11: CAPITULO: | G11: DESCRIPCIÓN ÍTEM
C12: ITEM Nº. | D12: UNIDAD | E12: ACTA PARCIAL No | G12: =C13 -> #REF! | H12: =#REF! -> #REF! | O12: =D13 -> #REF!
C13: =#REF! -> #REF! | D13: =#REF! -> #REF! | E13: 1
C14: 1. REGISTRO TIPOGRAFICO | G14: LOCALIZACIÓN | K14: MEDIDAS | N14: PESO KG | O14: TOTAL
G15: =G4 -> PLACA HUELLAS EN EL SUR DEL HUILA | H15: 2. ESQUEMAS | I15: DIAMETRO | J15: LONGITUD | K15: CANTIDAD | L15: No DE MODULOS | M15: No DE OBRAS
G17: Placa Huella | I17: 1/2" | J17: 3.3 | K17: 6 | L17: 94 | M17: 2 | N17: 0.994 | O17: =J17*K17*L17*M17*N17 -> 3700.0656
I18: 1/4" | J18: 0.8 | K18: 10 | L18: 94 | M18: 2 | N18: 0.25 | O18: =J18*K18*L18*M18*N18 -> 376
G19: riostra | I19: 1/2" | J19: =4.5-0.1 -> 4.4 | K19: 4 | L19: 95 | M19: 1 | N19: 0.994 | O19: =J19*K19*L19*M19*N19 -> 1661.968
I20: 1/4" | J20: 0.78 | K20: 27 | L20: 95 | M20: 1 | N20: 0.25 | O20: =J20*K20*L20*M20*N20 -> 500.175
G21: cuneta | I21: 1/2" | J21: 3.3 | K21: 5 | L21: 94 | M21: 2 | N21: 0.994 | O21: =J21*K21*L21*M21*N21 -> 3083.388
I22: 1/4" | J22: 1 | K22: 10 | L22: 94 | M22: 2 | N22: 0.25 | O22: =J22*K22*L22*M22*N22 -> 470
G23: bordillo | I23: 3/8" | J23: 0.6 | K23: 934 | L23: 2 | M23: 1 | N23: 0.56 | O23: =J23*K23*L23*M23*N23 -> 627.648
I24: 1/4" | J24: 280 | K24: 2 | L24: 1 | M24: 1 | N24: 0.25 | O24: =J24*K24*L24*M24*N24 -> 140
N31: SUBTOTAL | O31: =SUM(O17:O30) -> 10559.245
G33: CANT. A PAGAR | O33: =SUM(O31) -> 10559.245
G34: ESQUEMAS
C52: 3. OBSERVACIOS
D60: VoBo. RESIDENTE CONTRATISTA | K60: VoBo. RESIDENTE INTERVENTORÍA

Sheet 1.1
A1: ANÁLISIS DE PRECIOS UNITARIOS
B3: MEJORAMIENTO DE VIAS TERCIARIAS MEDIANTE EL USO DE PLACA HUELLA EN MUNICIPIOS DEL SUR DEL DEPARTAMENTO DEL HUILA
A6: ITEM: 1.1 | B6: Localización y replanteo | G6: UNIDAD : | H6: m2
A8: I. EQUIPO
A9: Descripción | D9: Unidad | E9: Tarifa/Hora | F9: Rend. | G9: Valor-Unit.
A10: HERRAMIENTA MENOR 10%M.O. | G10: =H33*0.1 -> 27.675
A11: Equipo de topografia | E11: =EQUIPO!D18 -> 12000 | F11: 100 | G11: =E11/F11 -> 120
G14: Sub-Total | H14: =SUM(G10:G13) -> 147.675
A15: II. MATERIALES EN OBRA
A16: Descripción | D16: Unidad | E16: Precio-Unit. | F16: Cantidad | G16: Valor-Unit.
A17: Alambre negro No. 18 | D17: kg | E17: ='Despiece de Insumos'!D14 -> 3400 | F17: 0.01 | G17: =E17*F17 -> 34
A18: Durmiente ordinario 4*4cm | D18: m | E18: 2046 | F18: 0.5 | G18: =E18*F18 -> 1023
A19: Puntilla de 1" | D19: lb | E19: ='Despiece de Insumos'!D8 -> 2500 | F19: 0.01 | G19: =E19*F19 -> 25
G22: Sub-Total | H22: =SUM(G17:G21) -> 1082
A23: III. TRANSPORTES
A24: Material | C24: Vol. Peso ó Cant. | D24: Distancia | E24: M3-Km | F24: Tarifa | G24: Valor-Unit.
G28: Sub-Total | H28: =SUM(G25:G27) -> 0
A29: IV. MANO DE OBRA
A30: Trabajador | C30: Jornal | D30: Prestaciones | E30: Jornal Total | F30: Rend. | G30: Valor-Unit.
A31: Topografo | C31: 55000 | D31: 1.8 | E31: =+D31*C31 -> 99000 | F31: 800 | G31: =+E31/F31 -> 123.75
A32: Cadenero | B32: 2 | C32: 34000 | D32: 1.8 | E32: =+D32*C32*B32 -> 122400 | F32: 800 | G32: =+E32/F32 -> 153
G33: Sub-Total | H33: =SUM(G31:G32) -> 276.75
E35: Total Costo Directo | H35: =ROUND(H14+H22+H28+H33,0) -> 1506
A39: ING. ALIRIO LLANOS TRUJILLO
A40: M.P. 70202173879 TLM

Sheet 2.1
A1: ANÁLISIS DE PRECIOS UNITARIOS
B3: MEJORAMIENTO DE VIAS TERCIARIAS MEDIANTE EL USO DE PLACA HUELLA EN MUNICIPIOS DEL SUR DEL DEPARTAMENTO DEL HUILA
A6: ITEM: 2.1 | B6: Excavaciónes a maquina (incluye retiro de sobrantes, transporte hasta escombrera) | G6: UNIDAD : | H6: M3
A8: I. EQUIPO
A9: Descripción | D9: Tipo | E9: Tarifa/Hora | F9: Rendimiento | G9: Valor-Unit.
A10: RETROEXCAVADORA DE LLANTAS | E10: =EQUIPO!D17 -> 100000 | F10: 0.045 | G10: =E10*F10 -> 4500
A11: BULLDOZER 100-140 HP | E11: =EQUIPO!D15 -> 115000 | F11: 0.025 | G11: =E11*F11 -> 2875
A12: HERRAMIENTA MENOR 10%M.O. | G12: =H33*0.1 -> 71.7
G14: Sub-Total | H14: =SUM(G10:G12) -> 7446.7
A15: II. MATERIALES EN OBRA
A16: Descripción | D16: Unidad | E16: Precio-Unit. | F16: Cantidad | G16: Valor-Unit.
G22: Sub-Total | H22: =SUM(G17:G21) -> 0
A23: III. TRANSPORTES
A24: Material | C24: Vol. Peso ó Cant. | D24: Distancia | E24: M3-Km | F24: Tarifa | G24: Valor-Unit.
A25: Material excavado | C25: 1.3 | D25: 5 | E25: =C25*D25 -> 6.5 | F25: =TRANSPORTE!H33 -> 1500 | G25: =E25*F25 -> 9750
G28: Sub-Total | H28: =SUM(G25:G27) -> 9750
A29: IV. MANO DE OBRA
A30: Trabajador | C30: Jornal | D30: Prestaciones | E30: Jornal Total | F30: Rendimiento | G30: Valor-Unit.
A31: Obrero | B31: 1 | C31: 31874 | D31: 1.8 | E31: =+D31*C31*B31 -> 57373.2 | F31: 80 | G31: =+E31/F31 -> 717.165
G33: Sub-Total | H33: =ROUND(G31+G32,0) -> 717
E35: Total Costo Directo | H35: =ROUND(H14+H22+H28+H33,0) -> 17914
A41: ING. ALIRIO LLANOS TRUJILLO
A42: M.P. 70202173879 TLM

Sheet 2.2
A1: ANÁLISIS DE PRECIOS UNITARIOS
B3: MEJORAMIENTO DE VIAS TERCIARIAS MEDIANTE EL USO DE PLACA HUELLA EN MUNICIPIOS DEL SUR DEL DEPARTAMENTO DEL HUILA
A6: ITEM: 2.2 | B6: Conformación de la calzada existente | G6: UNIDAD : | H6: M2
A8: I. EQUIPO
A9: Descripción | D9: Tipo | E9: Tarifa/Hora | F9: Rendimiento | G9: Valor-Unit.
A10: CARROTANQUE DE AGUA (1000 GALONES) | E10: =EQUIPO!D11 -> 50000 | F10: 0.002 | G10: =F10*E10 -> 100
A11: =EQUIPO!B12 -> MOTONIVELADORA 120 HP | E11: =EQUIPO!D12 -> 120000 | F11: 0.002 | G11: =F11*E11 -> 240
A12: VIBROCOMPACTADOR DINA C15 | E12: =EQUIPO!D13 -> 100000 | F12: 0.002 | G12: =F12*E12 -> 200
A13: HERRAMIENTA MENOR 10%M.O. | G13: =H36*0.1 -> 22.3119
G16: Sub-Total | H16: =SUM(G10:G15) -> 562.3119
A17: II. MATERIALES EN OBRA
A18: Descripción | D18: Unidad | E18: Precio-Unit. | F18: Cantidad | G18: Valor-Unit.
A19: AGUA | D19: LT | E19: ='Despiece de Insumos'!D9 -> 15 | F19: 4 | G19: =F19*E19 -> 60
G24: Sub-Total | H24: =SUM(G19:G23) -> 60
A25: III. TRANSPORTES
A26: Material | C26: Vol. Peso ó Cant. | D26: Distancia | E26: M3-Km | F26: Tarifa | G26: Valor-Unit.
G30: Sub-Total | H30: =SUM(G27:G29) -> 0
A31: IV. MANO DE OBRA
A32: Trabajador | C32: Jornal | D32: Prestaciones | E32: Jornal Total | F32: Rendimiento | G32: Valor-Unit.
A33: oficial | B33: 1 | C33: 42499 | D33: 1.8 | E33: =C33*D33 -> 76498.2 | F33: 600 | G33: =E33/F33 -> 127.497
A34: obrero | B34: 1 | C34: 31874 | D34: 1.8 | E34: =C34*D34 -> 57373.2 | F34: 600 | G34: =E34/F34 -> 95.622
G36: Sub-Total | H36: =SUM(G33:G35) -> 223.119
E38: Total Costo Directo | H38: =ROUND(H16+H24+H30+H36,0) -> 845
A43: ING. ALIRIO LLANOS TRUJILLO
A44: M.P. 70202173879 TLM

Sheet 2.3
A1: ANÁLISIS DE PRECIOS UNITARIOS
B3: MEJORAMIENTO DE VIAS TERCIARIAS MEDIANTE EL USO DE PLACA HUELLA EN MUNICIPIOS DEL SUR DEL DEPARTAMENTO DEL HUILA
A6: ITEM: 2.3 | B6: RELLENO CON MATERIAL SELECCIONADO PROVENIENTE DE LA EXCAVACIÓN. | G6: UNIDAD : | H6: M3
A8: I. EQUIPO
A9: Descripción | D9: Tipo | E9: Tarifa/Hora | F9: Rendimiento | G9: Valor-Unit.
A10: CARROTANQUE DE AGUA (1000 GALONES) | E10: =EQUIPO!D11 -> 50000 | F10: 0.068 | G10: =F10*E10 -> 3400
A11: =EQUIPO!B12 -> MOTONIVELADORA 120 HP | E11: =EQUIPO!D12 -> 120000 | F11: 0.068 | G11: =F11*E11 -> 8160
A12: VIBROCOMPACTADOR DINA C15 | E12: =EQUIPO!D13 -> 100000 | F12: 0.068 | G12: =F12*E12 -> 6800
A13: HERRAMIENTA MENOR 10%M.O. | G13: =H38*0.1 -> 382.4892
G14: Sub-Total | H14: =SUM(G10:G13) -> 18742.489
A15: II. MATERIALES EN OBRA
A16: Descripción | D16: Unidad | E16: Precio-Unit. | F16: Cantidad | G16: Valor-Unit.
A17: AGUA | D17: LT | E17: ='Despiece de Insumos'!D9 -> 15 | F17: 5 | G17: =F17*E17 -> 75
G24: Sub-Total | H24: =SUM(G17:G23) -> 75
A25: III. TRANSPORTES
A26: Material | C26: Vol. Peso ó Cant. | D26: Distancia | E26: M3-Km | F26: Tarifa | G26: Valor-Unit.
G30: Sub-Total | H30: =SUM(G27:G29) -> 0
A31: IV. MANO DE OBRA
A32: Trabajador | C32: Jornal | D32: Prestaciones | E32: Jornal Total | F32: Rendimiento | G32: Valor-Unit.
A33: OFICIAL | B33: 1 | C33: 42499 | D33: 1.8 | E33: =+D33*C33 -> 76498.2 | F33: 50 | G33: =+E33/F33 -> 1529.964
A34: OBREROS | B34: 2 | C34: 31874 | D34: 1.8 | E34: =+D34*C34*B34 -> 114746.4 | F34: 50 | G34: =+E34/F34 -> 2294.928
G38: Sub-Total | H38: =SUM(G33:G37) -> 3824.892
E40: Total Costo Directo | H40: =ROUND(H14+H24+H30+H38,0) -> 22642
A45: ING. ALIRIO LLANOS TRUJILLO
A46: M.P. 70202173879 TLM

Sheet 2.4.
A1: ANÁLISIS DE PRECIOS UNITARIOS
B3: MEJORAMIENTO DE VIAS TERCIARIAS MEDIANTE EL USO DE PLACA HUELLA EN MUNICIPIOS DEL SUR DEL DEPARTAMENTO DEL HUILA
A6: ITEM: 2.4 | B6: Suministro e instalación de subbase granular. Esp. 320-07 INV. | G6: UNIDAD : | H6: M3
A8: I. EQUIPO
A9: Descripción | D9: Tipo | E9: Tarifa/Hora | F9: Rendimiento | G9: Valor-Unit.
A10: CARROTANQUE DE AGUA (1000 GALONES) | E10: =EQUIPO!D11 -> 50000 | F10: 0.027 | G10: =F10*E10 -> 1350
A11: =EQUIPO!B12 -> MOTONIVELADORA 120 HP | E11: =EQUIPO!D12 -> 120000 | F11: 0.027 | G11: =F11*E11 -> 3240
A12: VIBROCOMPACTADOR DINA C15 | E12: =EQUIPO!D13 -> 100000 | F12: 0.027 | G12: =F12*E12 -> 2700
A13: HERRAMIENTA MENOR 10%M.O. | G13: =H38*0.1 -> 191.2446
G14: Sub-Total | H14: =SUM(G10:G13) -> 7481.2446
A15: II. MATERIALES EN OBRA
A16: Descripción | D16: Unidad | E16: Precio-Unit. | F16: Cantidad | G16: Valor-Unit.
A17: SUBBASE GRANULAR CBR=40% | D17: M3 | E17: ='Despiece de Insumos'!D22 -> 72000 | F17: 1.3 | G17: =F17*E17 -> 93600
A18: AGUA | D18: LT | E18: ='Despiece de Insumos'!D9 -> 15 | F18: 5 | G18: =F18*E18 -> 75
G24: Sub-Total | H24: =SUM(G17:G23) -> 93675
A25: III. TRANSPORTES
A26: Material | C26: Vol. Peso ó Cant. | D26: Distancia | E26: M3-Km | F26: Tarifa | G26: Valor-Unit.
A27: TRANSPORTE MAT. | C27: 1.3 | D27: 22 | E27: =C27*D27 -> 28.6 | F27: =TRANSPORTE!H33 -> 1500 | G27: =F27*E27 -> 42900
G30: Sub-Total | H30: =SUM(G27:G29) -> 42900
A31: IV. MANO DE OBRA
A32: Trabajador | C32: Jornal | D32: Prestaciones | E32: Jornal Total | F32: Rendimiento | G32: Valor-Unit.
A33: OFICIAL | B33: 1 | C33: 42499 | D33: 1.8 | E33: =+D33*C33 -> 76498.2 | F33: 100 | G33: =+E33/F33 -> 764.982
A34: OBREROS | B34: 2 | C34: 31874 | D34: 1.8 | E34: =+D34*C34*B34 -> 114746.4 | F34: 100 | G34: =+E34/F34 -> 1147.464
G38: Sub-Total | H38: =SUM(G33:G37) -> 1912.446
E40: Total Costo Directo | H40: =ROUND(H14+H24+H30+H38,0) -> 145969
A45: ING. ALIRIO LLANOS TRUJILLO
A46: M.P. 70202173879 TLM

Sheet 2.5.
A1: ANÁLISIS DE PRECIOS UNITARIOS
B3: MEJORAMIENTO DE VIAS TERCIARIAS MEDIANTE EL USO DE PLACA HUELLA EN MUNICIPIOS DEL SUR DEL DEPARTAMENTO DEL HUILA
A6: ITEM: 2.5 | B6: Excavación manual h= 0.3 m y a= 0.20 m para riostras de placa huella, incluye retiro de sobrantes. | G6: UNIDAD : | H6: M3
A8: I. EQUIPO
A9: Descripción | D9: Tipo | E9: Tarifa/Hora | F9: Rendimiento | G9: Valor-Unit.
A10: HERRAMIENTA MENOR 10%M.O. | G10: =H33*0.1 -> 1912.4
G14: Sub-Total | H14: =ROUND(G10,0) -> 1912
A15: II. MATERIALES EN OBRA
A16: Descripción | D16: Unidad | E16: Precio-Unit. | F16: Cantidad | G16: Valor-Unit.
G22: Sub-Total | H22: =SUM(G17:G21) -> 0
A23: III. TRANSPORTES
A24: Material | C24: Vol. Peso ó Cant. | D24: Distancia | E24: M3-Km | F24: Tarifa | G24: Valor-Unit.
A25: Material excavado | C25: 1.3 | D25: 5 | E25: =C25*D25 -> 6.5 | F25: =TRANSPORTE!H33 -> 1500 | G25: =E25*F25 -> 9750
G28: Sub-Total | H28: =SUM(G25:G27) -> 9750
A29: IV. MANO DE OBRA
A30: Trabajador | C30: Jornal | D30: Prestaciones | E30: Jornal Total | F30: Rendimiento | G30: Valor-Unit.
A31: Obrero | B31: 1 | C31: 31874 | D31: 1.8 | E31: =+D31*C31*B31 -> 57373.2 | F31: 3 | G31: =+E31/F31 -> 19124.4
G33: Sub-Total | H33: =ROUND(G31+G32,0) -> 19124
E35: Total Costo Directo | H35: =ROUND(H14+H22+H28+H33,0) -> 30786
A41: ING. ALIRIO LLANOS TRUJILLO
A42: M.P. 70202173879 TLM

Sheet 2.6.
A1: ANÁLISIS DE PRECIOS UNITARIOS
B3: MEJORAMIENTO DE VIAS TERCIARIAS MEDIANTE EL USO DE PLACA HUELLA EN MUNICIPIOS DEL SUR DEL DEPARTAMENTO DEL HUILA
A6: ITEM: 2.6 | B6: Concreto 3000 PSI para huellas, berma cuneta, bordillo, riostras, sobreanchos y dentellones. | G6: UNIDAD : | H6: M3
A8: I. EQUIPO
A9: Descripción | D9: Tipo | E9: Tarifa/Hora | F9: Rendimiento | G9: Valor-Unit.
A10: HERRAMIENTA MENOR 10%M.O. | G10: =H38*0.1 -> 5552.2742
A11: =EQUIPO!B8 -> REGLA VIBRATORIA DE CONCRETO | D11: =EQUIPO!C8 -> Hora | E11: =EQUIPO!D8 -> 4500 | F11: 1 | G11: =EQUIPO!D8 -> 4500
G14: Sub-Total | H14: =SUM(G10:G13) -> 10052.274
A15: II. MATERIALES EN OBRA
A16: Descripción | D16: Unidad | E16: Precio-Unit. | F16: Cantidad | G16: Valor-Unit.
A17: CONCRETO CLASE E DE 3000 PSI | D17: =+'Despiece de Insumos'!C10 -> M3 | E17: ='Cto 3000'!H39 -> 433561 | F17: 1 | G17: =+E17*F17 -> 433561
A18: ='Despiece de Insumos'!B29 -> FORMALETA METALICA( trapezoidal) Y/O DE MADERA (INC. ALAMBRE Y ESTACAS) | D18: UND | E18: ='Despiece de Insumos'!D29 -> 50000 | F18: 0.33 | G18: =+E18*F18 -> 16500
A19: ESTOPA PARA MICROTEXTURIZADO | D19: UND | E19: 133 | F19: 1 | G19: =E19*F19 -> 133
A20: ESCOBA Y RASTRILO PARA ESTRIADO ( ESPINA DE PESCADO) | D20: UND | E20: 20000 | F20: 75 | G20: =E20/F20 -> 266.66667
A21: ANTISOL | D21: KG | E21: ='Despiece de Insumos'!D13 -> 15000 | F21: 1.4 | G21: =E21*F21 -> 21000
G23: Sub-Total | H23: =SUM(G17:G22) -> 471460.67
A24: III. TRANSPORTES
A25: Material | C25: Vol. Peso ó Cant. | D25: Distancia | E25: M3-Km | F25: Tarifa | G25: Valor-Unit.
G29: Sub-Total | H29: =SUM(G26:G28) -> 0
A30: IV. MANO DE OBRA
A31: Trabajador | C31: Jornal | D31: Prestaciones | E31: Jornal Total | F31: Rendimiento | G31: Valor-Unit.
A32: Maestro | B32: 1 | C32: 53124 | D32: 1.8 | E32: =+D32*C32 -> 95623.2 | F32: 6.2 | G32: =+E32/F32 -> 15423.097
A33: Oficial | B33: 1 | C33: 42499 | D33: 1.8 | E33: =+D33*C33 -> 76498.2 | F33: 6.2 | G33: =+E33/F33 -> 12338.419
A34: Obrero | B34: 3 | C34: 31874 | D34: 1.8 | E34: =+D34*C34*B34 -> 172119.6 | F34: 6.2 | G34: =+E34/F34 -> 27761.226
G38: Sub-Total | H38: =SUM(G32:G37) -> 55522.742
E40: Total Costo Directo | H40: =ROUND(H14+H23+H29+H38,0) -> 537036
A45: ING. ALIRIO LLANOS TRUJILLO
A46: M.P. 70202173879 TLM

Sheet 2.7.
A1: ANÁLISIS DE PRECIOS UNITARIOS
B3: MEJORAMIENTO DE VIAS TERCIARIAS MEDIANTE EL USO DE PLACA HUELLA EN MUNICIPIOS DEL SUR DEL DEPARTAMENTO DEL HUILA
A6: ITEM: 2.7 | B6: Concreto ciclopeo (40% piedra media zonga + 60% concreto simple 3.000 PSI). | G6: UNIDAD : | H6: M3
A8: I. EQUIPO
A9: Descripción | D9: Tipo | E9: Tarifa/Hora | F9: Rendimiento | G9: Valor-Unit.
A10: HERRAMIENTA MENOR 10%M.O. | G10: =H38*0.1 -> 4917.7286
G14: Sub-Total | H14: =SUM(G10:G13) -> 4917.7286
A15: II. MATERIALES EN OBRA
A16: Descripción | D16: Unidad | E16: Precio-Unit. | F16: Cantidad | G16: Valor-Unit.
A17: CONCRETO SIMPLE 3000 PSI | D17: =+'Despiece de Insumos'!C10 -> M3 | E17: ='Cto 3000'!H39 -> 433561 | F17: 0.6 | G17: =+E17*F17 -> 260136.6
A18: PIEDRA MEDIA ZONGA | D18: ='Despiece de Insumos'!C11 -> M3 | E18: ='Despiece de Insumos'!D11 -> 70000 | F18: 0.4 | G18: =+E18*F18 -> 28000
A19: =+'Despiece de Insumos'!B9 -> AGUA | D19: =+'Despiece de Insumos'!C9 -> Litro | E19: =+'Despiece de Insumos'!D9 -> 15 | F19: 50 | G19: =+E19*F19 -> 750
G24: Sub-Total | H24: =SUM(G17:G23) -> 288886.6
A25: III. TRANSPORTES
A26: Material | C26: Vol. Peso ó Cant. | D26: Distancia | E26: M3-Km | F26: Tarifa | G26: Valor-Unit.
A27: Transporte de piedra media zonga | C27: 0.4 | D27: 22 | E27: =C27*D27 -> 8.8 | F27: =TRANSPORTE!H33 -> 1500 | G27: =E27*F27 -> 13200
G30: Sub-Total | H30: =SUM(G27:G29) -> 13200
A31: IV. MANO DE OBRA
A32: Trabajador | C32: Jornal | D32: Prestaciones | E32: Jornal Total | F32: Rendimiento | G32: Valor-Unit.
A33: Maestro | B33: 1 | C33: 53124 | D33: 1.8 | E33: =+D33*C33 -> 95623.2 | F33: 7 | G33: =+E33/F33 -> 13660.457
A34: Oficial | B34: 1 | C34: 42499 | D34: 1.8 | E34: =+D34*C34 -> 76498.2 | F34: 7 | G34: =+E34/F34 -> 10928.314
A35: Obrero | B35: 3 | C35: 31874 | D35: 1.8 | E35: =+D35*C35*B35 -> 172119.6 | F35: 7 | G35: =+E35/F35 -> 24588.514
G38: Sub-Total | H38: =SUM(G33:G37) -> 49177.286
E40: Total Costo Directo | H40: =ROUND(H14+H24+H30+H38,0) -> 356182
A45: ING. ALIRIO LLANOS TRUJILLO
A46: M.P. 70202173879 TLM

Sheet 2.8.
A1: ANÁLISIS DE PRECIOS UNITARIOS
B3: MEJORAMIENTO DE VIAS TERCIARIAS MEDIANTE EL USO DE PLACA HUELLA EN MUNICIPIOS DEL SUR DEL DEPARTAMENTO DEL HUILA
A6: ITEM: 2.8 | B6: Acero de refuerzo 4.200 kg/cm² (60.000 psi). ESP. 640 - 07 INV. | G6: UNIDAD : | H6: Kg
A8: I. EQUIPO
A9: Descripción | D9: Tipo | E9: Tarifa/Hora | F9: Rendimiento | G9: Valor-Unit.
A10: =+EQUIPO!B10 -> CIZALLA | E10: 1250 | F10: 20 | G10: =E10/F10 -> 62.5
A11: HERRAMIENTA MENOR 10%M.O. | G11: =H39*0.1 -> 89.2476
G14: Sub-Total | H14: =SUM(G10:G13) -> 151.7476
A15: II. MATERIALES EN OBRA
A16: Descripción | D16: Unidad | E16: Precio-Unit. | F16: Cantidad | G16: Valor-Unit.
A17: ACERO DE 60.000 PSI | D17: =+'Despiece de Insumos'!C15 -> Kg | E17: ='Despiece de Insumos'!D18 -> 2490 | F17: 1.05 | G17: =+E17*F17 -> 2614.5
A18: =+'Despiece de Insumos'!B14 -> ALAMBRE NEGRO | D18: =+'Despiece de Insumos'!C14 -> Kg | E18: =+'Despiece de Insumos'!D14 -> 3400 | F18: 0.03 | G18: =E18*F18 -> 102
G25: Sub-Total | H25: =SUM(G17:G24) -> 2716.5
A26: III. TRANSPORTES
A27: Material | C27: Vol. Peso ó Cant. | D27: Distancia | E27: KG-Km | F27: Tarifa | G27: Valor-Unit.
C28: 1.05 | D28: 6 | E28: =C28*D28 -> 6.3 | F28: 7 | G28: =E28*F28 -> 44.1
G31: Sub-Total | H31: =SUM(G28:G30) -> 44.1
A32: IV. MANO DE OBRA
A33: Trabajador | C33: Jornal | D33: Prestaciones | E33: Jornal Total | F33: Rendimiento | G33: Valor-Unit.
A34: Oficial | B34: 1 | C34: 42499 | D34: 1.8 | E34: =+D34*C34 -> 76498.2 | F34: 150 | G34: =+E34/F34 -> 509.988
A35: Obrero | B35: 1 | C35: 31874 | D35: 1.8 | E35: =+D35*C35*B35 -> 57373.2 | F35: 150 | G35: =+E35/F35 -> 382.488
G38: 0
G39: Sub-Total | H39: =G34+G35 -> 892.476
E41: Total Costo Directo | H41: =ROUND(H14+H25+H31+H39,0) -> 3805
A46: ING. ALIRIO LLANOS TRUJILLO
A47: M.P. 70202173879 TLM

Sheet 2.9
A1: ANÁLISIS DE PRECIOS UNITARIOS
B3: MEJORAMIENTO DE VIAS TERCIARIAS MEDIANTE EL USO DE PLACA HUELLA EN MUNICIPIOS DEL SUR DEL DEPARTAMENTO DEL HUILA
A6: ITEM: 2.9 | B6: Sellado de juntas (incluye limpieza, suministro e instalación de fondo y sellante). | G6: UNIDAD : | H6: M
A8: I. EQUIPO
A9: Descripción | D9: Tipo | E9: Tarifa/Hora | F9: Rendimiento | G9: Valor-Unit.
A10: HERRAMIENTA MENOR 10% M.O. | G10: =H38*0.1 -> 14.3433
A11: Compresor (barrido y soplado) | D11: =EQUIPO!C6 -> Hora | E11: 83300 | F11: 0.022 | G11: =E11*F11 -> 1832.6
G14: Sub-Total | H14: =SUM(G10:G13) -> 1846.9433
A15: II. MATERIALES EN OBRA
A16: Descripción | D16: Unidad | E16: Precio-Unit. | F16: Cantidad | G16: Valor-Unit.
A17: SELLANTE ELASTOMERICO CON BASE EN POLIURETANO | D17: GL | E17: 142000 | F17: 0.01 | G17: =E17*F17 -> 1420
A18: FONDE EN ESPUMA DE 10 mm | D18: M | E18: 620 | F18: 1.05 | G18: =E18*F18 -> 651
G24: Sub-Total | H24: =SUM(G17:G23) -> 2071
A25: III. TRANSPORTES
A26: Material | C26: Vol. Peso ó Cant. | D26: Distancia | E26: M3-Km | F26: Tarifa | G26: Valor-Unit.
G30: Sub-Total | H30: =SUM(G27:G29) -> 0
A31: IV. MANO DE OBRA
A32: Trabajador | C32: Jornal | D32: Prestaciones | E32: Jornal Total | F32: Rendimiento | G32: Valor-Unit.
A34: OBREROS | B34: 1 | C34: 31874 | D34: 1.8 | E34: =+D34*C34 -> 57373.2 | F34: 400 | G34: =+E34/F34 -> 143.433
G38: Sub-Total | H38: =SUM(G33:G37) -> 143.433
E40: Total Costo Directo | H40: =ROUND(H14+H24+H30+H38,0) -> 4061
A45: ING. ALIRIO LLANOS TRUJILLO
A46: M.P. 70202173879 TLM

Sheet 3.1
A1: ANÁLISIS DE PRECIOS UNITARIOS
B3: MEJORAMIENTO DE VIAS TERCIARIAS MEDIANTE EL USO DE PLACA HUELLA EN MUNICIPIOS DEL SUR DEL DEPARTAMENTO DEL HUILA
A6: ITEM: 3.1 | B6: Excavación manual, incluye retiro de sobrantes. | G6: UNIDAD : | H6: M3
A8: I. EQUIPO
A9: Descripción | D9: Tipo | E9: Tarifa/Hora | F9: Rendimiento | G9: Valor-Unit.
A10: HERRAMIENTA MENOR 10%M.O. | G10: =H33*0.1 -> 1912.4
G14: Sub-Total | H14: =ROUND(G10,0) -> 1912
A15: II. MATERIALES EN OBRA
A16: Descripción | D16: Unidad | E16: Precio-Unit. | F16: Cantidad | G16: Valor-Unit.
G22: Sub-Total | H22: =SUM(G17:G21) -> 0
A23: III. TRANSPORTES
A24: Material | C24: Vol. Peso ó Cant. | D24: Distancia | E24: M3-Km | F24: Tarifa | G24: Valor-Unit.
A25: Material excavado | C25: 1.3 | D25: 5 | E25: =C25*D25 -> 6.5 | F25: =TRANSPORTE!H33 -> 1500 | G25: =E25*F25 -> 9750
G28: Sub-Total | H28: =SUM(G25:G27) -> 9750
A29: IV. MANO DE OBRA
A30: Trabajador | C30: Jornal | D30: Prestaciones | E30: Jornal Total | F30: Rendimiento | G30: Valor-Unit.
A31: Obrero | B31: 1 | C31: 31874 | D31: 1.8 | E31: =+D31*C31*B31 -> 57373.2 | F31: 3 | G31: =+E31/F31 -> 19124.4
G33: Sub-Total | H33: =ROUND(G31+G32,0) -> 19124
E35: Total Costo Directo | H35: =ROUND(H14+H22+H28+H33,0) -> 30786
A41: ING. ALIRIO LLANOS TRUJILLO
A42: M.P. 70202173879 TLM

Sheet 3.2
A1: ANÁLISIS DE PRECIOS UNITARIOS
B3: MEJORAMIENTO DE VIAS TERCIARIAS MEDIANTE EL USO DE PLACA HUELLA EN MUNICIPIOS DEL SUR DEL DEPARTAMENTO DEL HUILA
A7: ITEM: 3.2 | B7: Concreto 2.000 PSI para solado. Esp. 630 – 07. INV. | G7: UNIDAD : | H7: M3
A9: I. EQUIPO
A10: Descripción | D10: Tipo | E10: Tarifa/Hora | F10: Rendimiento | G10: Valor-Unit.
A11: HERRAMIENTA MENOR 10%M.O. | G11: =H38*0.1 -> 4781.13
G15: Sub-Total | H15: =SUM(G11:G14) -> 4781.13
A16: II. MATERIALES EN OBRA
A17: Descripción | D17: Unidad | E17: Precio-Unit. | F17: Cantidad | G17: Valor-Unit.
A18: CONCRETO 2000 PSI | D18: =+'Despiece de Insumos'!C10 -> M3 | E18: ='Cto 2000'!H40 -> 388547 | F18: 1 | G18: =+E18*F18 -> 388547
G23: Sub-Total | H23: =SUM(G18:G22) -> 388547
A24: III. TRANSPORTES
A25: Material | C25: Vol. Peso ó Cant. | D25: Distancia | E25: M3-Km | F25: Tarifa | G25: Valor-Unit.
G29: Sub-Total | H29: =SUM(G26:G28) -> 0
A30: IV. MANO DE OBRA
A31: Trabajador | C31: Jornal | D31: Prestaciones | E31: Jornal Total | F31: Rendimiento | G31: Valor-Unit.
A32: =+'MANO DE OBRA'!B34 -> Maestro | C32: 53124 | D32: 1.8 | E32: =+D32*C32 -> 95623.2 | F32: 6 | G32: =+E32/F32 -> 15937.2
A33: =+'MANO DE OBRA'!B35 -> Oficial | C33: 42499 | D33: 1.8 | E33: =+D33*C33 -> 76498.2 | F33: 6 | G33: =+E33/F33 -> 12749.7
A34: =+'MANO DE OBRA'!B36 -> Obrero | B34: 2 | C34: 31874 | D34: 1.8 | E34: =+D34*C34*B34 -> 114746.4 | F34: 6 | G34: =+E34/F34 -> 19124.4
G38: Sub-Total | H38: =SUM(G32:G37) -> 47811.3
E40: Total Costo Directo | H40: =ROUND(H15+H23+H29+H38,0) -> 441139
A45: ING. ALIRIO LLANOS TRUJILLO
A46: M.P. 70202173879 TLM

Sheet 3.3
A1: ANÁLISIS DE PRECIOS UNITARIOS
B3: MEJORAMIENTO DE VIAS TERCIARIAS MEDIANTE EL USO DE PLACA HUELLA EN MUNICIPIOS DEL SUR DEL DEPARTAMENTO DEL HUILA
A6: ITEM: 3.3 | B6: Concreto 3.000 PSI para cajas y cabezales. Esp. 630 – 07 INV. | G6: UNIDAD : | H6: M3
A8: I. EQUIPO
A9: Descripción | D9: Tipo | E9: Tarifa/Hora | F9: Rendimiento | G9: Valor-Unit.
A10: ANDAMIO TUBULAR DE 1.5 m (6 secciones) | E10: 6500 | F10: 2 | G10: =E10/F10 -> 3250
A11: ='Despiece de Insumos'!B27 -> VIBRADOR DE CONCRETO | E11: =EQUIPO!D9 -> 8000 | F11: 1 | G11: =E11/F11 -> 8000
A12: HERRAMIENTA MENOR 10%M.O. | G12: =H37*0.1 -> 6258.9273
G15: Sub-Total | H15: =SUM(G10:G14) -> 17508.927
A16: II. MATERIALES EN OBRA
A17: Descripción | D17: Unidad | E17: Precio-Unit. | F17: Cantidad | G17: Valor-Unit.
A18: CONCRETO 3000 PSI | D18: =+'Despiece de Insumos'!C10 -> M3 | E18: ='Cto 3000'!H39 -> 433561 | F18: 1 | G18: =+E18*F18 -> 433561
A19: FORMALETA EN MADERA | D19: =+'Despiece de Insumos'!C11 -> M3 | E19: ='Despiece de Insumos'!D30 -> 225000 | F19: 0.3 | G19: =+E19*F19 -> 67500
G23: Sub-Total | H23: =SUM(G18:G22) -> 501061
A24: III. TRANSPORTES
A25: Material | C25: Vol. Peso ó Cant. | D25: Distancia | E25: M3-Km | F25: Tarifa | G25: Valor-Unit.
G28: Sub-Total | H28: =SUM(G26:G27) -> 0
A29: IV. MANO DE OBRA
A30: Trabajador | C30: Jornal | D30: Prestaciones | E30: Jornal Total | F30: Rendimiento | G30: Valor-Unit.
A31: MAESTRO | C31: 53124 | D31: 1.8 | E31: =+D31*C31 -> 95623.2 | F31: 5.5 | G31: =+E31/F31 -> 17386.036
A32: OFICIAL | C32: 42499 | D32: 1.8 | E32: =+D32*C32 -> 76498.2 | F32: 5.5 | G32: =+E32/F32 -> 13908.764
A33: OBREROS | B33: 3 | C33: 31874 | D33: 1.8 | E33: =+D33*C33*B33 -> 172119.6 | F33: 5.5 | G33: =+E33/F33 -> 31294.473
G37: Sub-Total | H37: =SUM(G31:G36) -> 62589.273
E39: Total Costo Directo | H39: =ROUND(H15+H23+H28+H37,0) -> 581159
A44: ING. ALIRIO LLANOS TRUJILLO
A45: M.P. 70202173879 TLM

Sheet 3.4
A1: ANÁLISIS DE PRECIOS UNITARIOS
B3: MEJORAMIENTO DE VIAS TERCIARIAS MEDIANTE EL USO DE PLACA HUELLA EN MUNICIPIOS DEL SUR DEL DEPARTAMENTO DEL HUILA
A7: ITEM: 3.4 | B7: Tubería de concreto reforzado 1mX36" Esp. 661-07 INV. | G7: UNIDAD : | H7: Ml
A9: I. EQUIPO
A10: Descripción | D10: Tipo | E10: Tarifa/Hora | F10: Rendimiento | G10: Valor-Unit.
A11: MALACATE O DIFERENCIAL 2 TON. | E11: 4500 | F11: 1 | G11: =E11*F11 -> 4500
A12: HERRAMIENTA MENOR 10%M.O. | G12: =H36*0.1 -> 4143.63
G15: Sub-Total | H15: =SUM(G11:G14) -> 8643.63
A16: II. MATERIALES EN OBRA
A17: Descripción | D17: Unidad | E17: Precio-Unit. | F17: Cantidad | G17: Valor-Unit.
A18: Tubo de 36" en concreto. Reforzado f´c=28 mpa
A19: especificaciones AASHTO M-170M y NTC 401 | D19: Unidad | E19: ='Despiece de Insumos'!D24 -> 280000 | F19: 1 | G19: =E19*F19 -> 280000
A20: Subproducto mortero 1:3 | D20: M3 | E20: 390000 | F20: 0.03 | G20: =E20*F20 -> 11700
A21: Agua | D21: lt | E21: 15 | F21: 25 | G21: =E21*F21 -> 375
G22: Sub-Total | H22: =SUM(G18:G21) -> 292075
A23: III. TRANSPORTES
A24: Material | C24: Vol. Peso ó Cant. | D24: Distancia | E24: M3-Km | F24: Tarifa | G24: Valor-Unit.
A25: TRANSPORTE DE TUBERIA | C25: 1 | D25: 6 | E25: =C25*D25 -> 6 | F25: =TRANSPORTE!H33 -> 1500 | G25: =E25*F25 -> 9000
G28: Sub-Total | H28: =SUM(G25:G27) -> 9000
A29: IV. MANO DE OBRA
A30: Trabajador | C30: Jornal | D30: Prestaciones | E30: Jornal Total | F30: Rendimiento | G30: Valor-Unit.
A31: Oficial | C31: 42499 | D31: 1.8 | E31: =+D31*C31 -> 76498.2 | F31: 6 | G31: =+E31/F31 -> 12749.7
A32: Obrero | B32: 3 | C32: 31874 | D32: 1.8 | E32: =+D32*C32*B32 -> 172119.6 | F32: 6 | G32: =+E32/F32 -> 28686.6
G36: Sub-Total | H36: =SUM(G31:G35) -> 41436.3
E38: Total Costo Directo | H38: =ROUND(H15+H22+H28+H36,0) -> 351155
A43: ING. ALIRIO LLANOS TRUJILLO
A44: M.P. 70202173879 TLM

Sheet 3.5.
A1: ANÁLISIS DE PRECIOS UNITARIOS
B3: MEJORAMIENTO DE VIAS TERCIARIAS MEDIANTE EL USO DE PLACA HUELLA EN MUNICIPIOS DEL SUR DEL DEPARTAMENTO DEL HUILA
A6: ITEM: 3.5 | B6: Concreto ciclopeo (40% piedra media zonga + 60% concreto simple 3.000 PSI). | G6: UNIDAD : | H6: M3
A8: I. EQUIPO
A9: Descripción | D9: Tipo | E9: Tarifa/Hora | F9: Rendimiento | G9: Valor-Unit.
A10: HERRAMIENTA MENOR 10%M.O. | G10: =H38*0.1 -> 4917.7286
G14: Sub-Total | H14: =SUM(G10:G13) -> 4917.7286
A15: II. MATERIALES EN OBRA
A16: Descripción | D16: Unidad | E16: Precio-Unit. | F16: Cantidad | G16: Valor-Unit.
A17: CONCRETO SIMPLE 3000 PSI | D17: =+'Despiece de Insumos'!C10 -> M3 | E17: ='Cto 3000'!H39 -> 433561 | F17: 0.6 | G17: =+E17*F17 -> 260136.6
A18: PIEDRA MEDIA ZONGA | D18: ='Despiece de Insumos'!C11 -> M3 | E18: ='Despiece de Insumos'!D11 -> 70000 | F18: 0.4 | G18: =+E18*F18 -> 28000
A19: =+'Despiece de Insumos'!B9 -> AGUA | D19: =+'Despiece de Insumos'!C9 -> Litro | E19: =+'Despiece de Insumos'!D9 -> 15 | F19: 50 | G19: =+E19*F19 -> 750
G24: Sub-Total | H24: =SUM(G17:G23) -> 288886.6
A25: III. TRANSPORTES
A26: Material | C26: Vol. Peso ó Cant. | D26: Distancia | E26: M3-Km | F26: Tarifa | G26: Valor-Unit.
A27: Transporte de piedra media zonga | C27: 0.4 | D27: 22 | E27: =C27*D27 -> 8.8 | F27: =TRANSPORTE!H33 -> 1500 | G27: =E27*F27 -> 13200
G30: Sub-Total | H30: =SUM(G27:G29) -> 13200
A31: IV. MANO DE OBRA
A32: Trabajador | C32: Jornal | D32: Prestaciones | E32: Jornal Total | F32: Rendimiento | G32: Valor-Unit.
A33: Maestro | B33: 1 | C33: 53124 | D33: 1.8 | E33: =+D33*C33 -> 95623.2 | F33: 7 | G33: =+E33/F33 -> 13660.457
A34: Oficial | B34: 1 | C34: 42499 | D34: 1.8 | E34: =+D34*C34 -> 76498.2 | F34: 7 | G34: =+E34/F34 -> 10928.314
A35: Obrero | B35: 3 | C35: 31874 | D35: 1.8 | E35: =+D35*C35*B35 -> 172119.6 | F35: 7 | G35: =+E35/F35 -> 24588.514
G38: Sub-Total | H38: =SUM(G33:G37) -> 49177.286
E40: Total Costo Directo | H40: =ROUND(H14+H24+H30+H38,0) -> 356182
A45: ING. ALIRIO LLANOS TRUJILLO
A46: M.P. 70202173879 TLM

Sheet 3.6
A1: ANÁLISIS DE PRECIOS UNITARIOS
B3: MEJORAMIENTO DE VIAS TERCIARIAS MEDIANTE EL USO DE PLACA HUELLA EN MUNICIPIOS DEL SUR DEL DEPARTAMENTO DEL HUILA
A6: ITEM: 3.6 | B6: Relleno compactado en recebo común IP<=9 vibrocompactado al 95% PM. | G6: UNIDAD : | H6: M3
A8: I. EQUIPO
A9: Descripción | D9: Tipo | E9: Tarifa/Hora | F9: Rendimiento | G9: Valor-Unit.
A10: HERRAMIENTA MENOR 10%M.O. | G10: =H38*0.1 -> 573.732
A11: =EQUIPO!B6 -> COMPACTADOR MANUAL (RANA) | D11: =EQUIPO!C6 -> Hora | E11: =EQUIPO!D6 -> 7000 | F11: 1.25 | G11: =E11/F11 -> 5600
G14: Sub-Total | H14: =SUM(G10:G13) -> 6173.732
A15: II. MATERIALES EN OBRA
A16: Descripción | D16: Unidad | E16: Precio-Unit. | F16: Cantidad | G16: Valor-Unit.
A17: ='Despiece de Insumos'!B21 -> RECEBO COMUN IP<=9 INCLUYE IVA | D17: M3 | E17: ='Despiece de Insumos'!D21 -> 14000 | F17: 1.3 | G17: =E17*F17 -> 18200
G24: Sub-Total | H24: =SUM(G17:G23) -> 18200
A25: III. TRANSPORTES
A26: Material | C26: Vol. Peso ó Cant. | D26: Distancia | E26: M3-Km | F26: Tarifa | G26: Valor-Unit.
A27: TRANSPORTE MAT. | C27: 1.3 | D27: 22 | E27: =C27*D27 -> 28.6 | F27: 1500 | G27: =E27*F27 -> 42900
G30: Sub-Total | H30: =SUM(G27:G29) -> 42900
A31: IV. MANO DE OBRA
A32: Trabajador | C32: Jornal | D32: Prestaciones | E32: Jornal Total | F32: Rendimiento | G32: Valor-Unit.
A34: OBREROS | B34: 1 | C34: 31874 | D34: 1.8 | E34: =+D34*C34*B34 -> 57373.2 | F34: 10 | G34: =+E34/F34 -> 5737.32
G38: Sub-Total | H38: =SUM(G33:G37) -> 5737.32
E40: Total Costo Directo | H40: =ROUND(H14+H24+H30+H38,0) -> 73011
A45: ING. ALIRIO LLANOS TRUJILLO
A46: M.P. 70202173879 TLM

Sheet 3.7
A1: ANÁLISIS DE PRECIOS UNITARIOS
B3: MEJORAMIENTO DE VIAS TERCIARIAS MEDIANTE EL USO DE PLACA HUELLA EN MUNICIPIOS DEL SUR DEL DEPARTAMENTO DEL HUILA
A6: ITEM: 3.7 | B6: Filtro de 0.40x0.60m, incluye material granular filtrante y geotextil. Esp. 673.2 INV. | G6: UNIDAD : | H6: ML
A8: I. EQUIPO
A9: Descripción | D9: Tipo | E9: Tarifa/Hora | F9: Rendimiento | G9: Valor-Unit.
