Workbook

Sheet PROMEDIO
C1: PROCESO PLANEACIÓN ESTRATÉGICA FORMATO VALIDACIÓN PRECIOS UNITARIOS DE REFERENCIA | AE1: Código: FOR-PE-081
AE2: Versión: 0
AE3: Fecha: Memo I2025024171 -21/07/2025
AE4: Pagina: 1 de 3
A6: CRITERIOS | E6: COTIZACIONES | Y6: PROCESO FORMULACIÓN | AD6: RECHAZO POR RANGO | AI6: PRECIO UNITARIOS DE REFERENCIA
A7: # | B7: ELEMENTO | C7: DESCRIPCIÓN DEL ELEMENTO | D7: UNIDAD DE MEDIDA | E7: VALOR ANTES DE IVA | F7: =+E7 -> VALOR ANTES DE IVA | G7: NOMBRE EMPRESA 1 | H7: NIT DE LA EMPRESA | I7: VALOR ANTES DE IVA | J7: =+I7 -> VALOR ANTES DE IVA | K7: NOMBRE EMPRESA 2 | L7: NIT DE LA EMPRESA | M7: VALOR ANTES DE IVA | N7: =+M7 -> VALOR ANTES DE IVA | O7: NOMBRE EMPRESA 3 | P7: NIT DE LA EMPRESA | Q7: VALOR ANTES DE IVA | R7: =+Q7 -> VALOR ANTES DE IVA | S7: NOMBRE EMPRESA 4 | T7: NIT DE LA EMPRESA | U7: VALOR ANTES DE IVA | V7: =+U7 -> VALOR ANTES DE IVA | W7: NOMBRE EMPRESA 5 | X7: NIT DE LA EMPRESA | Y7: PROMEDIO | Z7: DESVIACIÓN | AA7: % DISPERSIÓN | AB7: TECHO - TUNEL ALTO | AC7: PISO - TUNEL BAJO | AD7: PRECIO 1 | AE7: PRECIO 2 | AF7: PRECIO 3 | AG7: PRECIO 4 | AH7: PRECIO 5 | AI7: PROMEDIO ANTES DE IVA | AJ7: DESVIACIÓN | AK7: % DISPERSIÓN
A8: 1 | B8: ABRAZADERA METÁLICA DE 1" | C8: INCLUYE SUMINISTRO E INSTALACION DE ABRAZADERA METÁLICA DE 1" | D8: UN | E8: 6378 | F8: 6378 | G8: INGENIERIA MONTAJES & CONSTRUCCION S.A.S. | H8: 900327815-15 | I8: 50000 | J8: 50000 | K8: INGENIERIA DE BOMBAS Y PLANTAS SAS | L8: 900152368-1 | M8: 6832 | N8: 6832 | O8: CGI INDUSTRY AND CONSTRUCTION GROUP SAS BIC | P8: 901666309-7 | Q8: 7857 | R8: 7857 | S8: GRUPO BERAKA SAS | T8: 901152951-1 | U8: 8428 | V8: 8428 | W8: SMI ELECTRÓNICA SAS | X8: 830090131-2 | Y8: =+AVERAGE(F8,J8,N8,R8,V8) -> 15899 | Z8: =+STDEV(F8,J8,N8,R8,V8) -> 19080.276 | AA8: =Z8/Y8 -> 1.2000928 | AB8: =+Y8+Z8 -> 34979.276 | AC8: =Y8-Z8 -> -3181.276 | AD8: =IF(((IF(AND(F8<=$AB8,F8>=$AC8),F8,""))<=0),"",(IF(AND(F8<=$AB8,F8>=$AC8),F8,""))) -> 6378 | AE8: =IF(((IF(AND(J8<=$AB8,J8>=$AC8),J8,""))<=0),"",(IF(AND(J8<=$AB8,J8>=$AC8),J8,""))) | AF8: =IF(((IF(AND(N8<=$AB8,N8>=$AC8),N8,""))<=0),"",(IF(AND(N8<=$AB8,N8>=$AC8),N8,""))) -> 6832 | AG8: =IF(((IF(AND(R8<=$AB8,R8>=$AC8),R8,""))<=0),"",(IF(AND(R8<=$AB8,R8>=$AC8),R8,""))) -> 7857 | AH8: =IF(((IF(AND(V8<=$AB8,V8>=$AC8),V8,""))<=0),"",(IF(AND(V8<=$AB8,V8>=$AC8),V8,""))) -> 8428 | AI8: =AVERAGE(AD8:AH8) -> 7373.75 | AJ8: =+STDEV(AD8:AH8) -> 936.30208 | AK8: =+AJ8/AI8 -> 0.12697774
A9: 2 | B9: ABRAZADERA METÁLICA DE 1/2" | C9: INCLUYE SUMINISTRO E INSTALACION DE ABRAZADERA METÁLICA DE 1/2" | D9: UN | E9: 3431 | F9: 3431 | G9: INGENIERIA MONTAJES & CONSTRUCCION S.A.S. | H9: 900327815-15 | I9: 40000 | J9: 40000 | K9: INGENIERIA DE BOMBAS Y PLANTAS SAS | L9: 900152368-1 | M9: 3675 | N9: 3675 | O9: CGI INDUSTRY AND CONSTRUCTION GROUP SAS BIC | P9: 901666309-7 | Q9: 4226 | R9: 4226 | S9: GRUPO BERAKA SAS | T9: 901152951-1 | U9: 4533 | V9: 4533 | W9: SMI ELECTRÓNICA SAS | X9: 830090131-2 | Y9: =+AVERAGE(F9,J9,N9,R9,V9) -> 11173 | Z9: =+STDEV(F9,J9,N9,R9,V9) -> 16120.677 | AA9: =Z9/Y9 -> 1.4428244 | AB9: =+Y9+Z9 -> 27293.677 | AC9: =Y9-Z9 -> -4947.677 | AD9: =IF(((IF(AND(F9<=$AB9,F9>=$AC9),F9,""))<=0),"",(IF(AND(F9<=$AB9,F9>=$AC9),F9,""))) -> 3431 | AE9: =IF(((IF(AND(J9<=$AB9,J9>=$AC9),J9,""))<=0),"",(IF(AND(J9<=$AB9,J9>=$AC9),J9,""))) | AF9: =IF(((IF(AND(N9<=$AB9,N9>=$AC9),N9,""))<=0),"",(IF(AND(N9<=$AB9,N9>=$AC9),N9,""))) -> 3675 | AG9: =IF(((IF(AND(R9<=$AB9,R9>=$AC9),R9,""))<=0),"",(IF(AND(R9<=$AB9,R9>=$AC9),R9,""))) -> 4226 | AH9: =IF(((IF(AND(V9<=$AB9,V9>=$AC9),V9,""))<=0),"",(IF(AND(V9<=$AB9,V9>=$AC9),V9,""))) -> 4533 | AI9: =AVERAGE(AD9:AH9) -> 3966.25 | AJ9: =+STDEV(AD9:AH9) -> 503.32056 | AK9: =+AJ9/AI9 -> 0.12690087
A10: 3 | B10: ABRAZADERA METÁLICA DE 1-1/2" | C10: INCLUYE SUMINISTRO E INSTALACION DE ABRAZADERA METÁLICA DE 1-1/2" | D10: UN | E10: 10291 | F10: 10291 | G10: INGENIERIA MONTAJES & CONSTRUCCION S.A.S. | H10: 900327815-15 | I10: 60000 | J10: 60000 | K10: INGENIERIA DE BOMBAS Y PLANTAS SAS | L10: 900152368-1 | M10: 11022 | N10: 11022 | O10: CGI INDUSTRY AND CONSTRUCTION GROUP SAS BIC | P10: 901666309-7 | Q10: 12675 | R10: 12675 | S10: GRUPO BERAKA SAS | T10: 901152951-1 | U10: 13597 | V10: 13597 | W10: SMI ELECTRÓNICA SAS | X10: 830090131-2 | Y10: =+AVERAGE(F10,J10,N10,R10,V10) -> 21517 | Z10: =+STDEV(F10,J10,N10,R10,V10) -> 21552.359 | AA10: =Z10/Y10 -> 1.0016433 | AB10: =+Y10+Z10 -> 43069.359 | AC10: =Y10-Z10 -> -35.359233 | AD10: =IF(((IF(AND(F10<=$AB10,F10>=$AC10),F10,""))<=0),"",(IF(AND(F10<=$AB10,F10>=$AC10),F10,""))) -> 10291 | AE10: =IF(((IF(AND(J10<=$AB10,J10>=$AC10),J10,""))<=0),"",(IF(AND(J10<=$AB10,J10>=$AC10),J10,""))) | AF10: =IF(((IF(AND(N10<=$AB10,N10>=$AC10),N10,""))<=0),"",(IF(AND(N10<=$AB10,N10>=$AC10),N10,""))) -> 11022 | AG10: =IF(((IF(AND(R10<=$AB10,R10>=$AC10),R10,""))<=0),"",(IF(AND(R10<=$AB10,R10>=$AC10),R10,""))) -> 12675 | AH10: =IF(((IF(AND(V10<=$AB10,V10>=$AC10),V10,""))<=0),"",(IF(AND(V10<=$AB10,V10>=$AC10),V10,""))) -> 13597 | AI10: =AVERAGE(AD10:AH10) -> 11896.25 | AJ10: =+STDEV(AD10:AH10) -> 1509.9826 | AK10: =+AJ10/AI10 -> 0.1269293
A11: 4 | B11: ABRAZADERA METÁLICA DE 1-1/4" | C11: INCLUYE SUMINISTRO E INSTALACION DE ABRAZADERA METÁLICA DE 1-1/4" | D11: UN | E11: 19818 | F11: 19818 | G11: INGENIERIA MONTAJES & CONSTRUCCION S.A.S. | H11: 900327815-15 | I11: 45000 | J11: 45000 | K11: INGENIERIA DE BOMBAS Y PLANTAS SAS | L11: 900152368-1 | M11: 21226 | N11: 21226 | O11: CGI INDUSTRY AND CONSTRUCTION GROUP SAS BIC | P11: 901666309-7 | Q11: 24409 | R11: 24409 | S11: GRUPO BERAKA SAS | T11: 901152951-1 | U11: 26185 | V11: 26185 | W11: SMI ELECTRÓNICA SAS | X11: 830090131-2 | Y11: =+AVERAGE(F11,J11,N11,R11,V11) -> 27327.6 | Z11: =+STDEV(F11,J11,N11,R11,V11) -> 10195.11 | AA11: =Z11/Y11 -> 0.37307009 | AB11: =+Y11+Z11 -> 37522.71 | AC11: =Y11-Z11 -> 17132.49 | AD11: =IF(((IF(AND(F11<=$AB11,F11>=$AC11),F11,""))<=0),"",(IF(AND(F11<=$AB11,F11>=$AC11),F11,""))) -> 19818 | AE11: =IF(((IF(AND(J11<=$AB11,J11>=$AC11),J11,""))<=0),"",(IF(AND(J11<=$AB11,J11>=$AC11),J11,""))) | AF11: =IF(((IF(AND(N11<=$AB11,N11>=$AC11),N11,""))<=0),"",(IF(AND(N11<=$AB11,N11>=$AC11),N11,""))) -> 21226 | AG11: =IF(((IF(AND(R11<=$AB11,R11>=$AC11),R11,""))<=0),"",(IF(AND(R11<=$AB11,R11>=$AC11),R11,""))) -> 24409 | AH11: =IF(((IF(AND(V11<=$AB11,V11>=$AC11),V11,""))<=0),"",(IF(AND(V11<=$AB11,V11>=$AC11),V11,""))) -> 26185 | AI11: =AVERAGE(AD11:AH11) -> 22909.5 | AJ11: =+STDEV(AD11:AH11) -> 2907.9744 | AK11: =+AJ11/AI11 -> 0.12693312
A12: 5 | B12: ABRAZADERA METÁLICA DE 2" | C12: INCLUYE SUMINISTRO E INSTALACION DE ABRAZADERA METÁLICA DE 2" | D12: UN | E12: 9289 | F12: 9289 | G12: INGENIERIA MONTAJES & CONSTRUCCION S.A.S. | H12: 900327815-15 | I12: 80000 | J12: 80000 | K12: INGENIERIA DE BOMBAS Y PLANTAS SAS | L12: 900152368-1 | M12: 9949 | N12: 9949 | O12: CGI INDUSTRY AND CONSTRUCTION GROUP SAS BIC | P12: 901666309-7 | Q12: 11442 | R12: 11442 | S12: GRUPO BERAKA SAS | T12: 901152951-1 | U12: 12274 | V12: 12274 | W12: SMI ELECTRÓNICA SAS | X12: 830090131-2 | Y12: =+AVERAGE(F12,J12,N12,R12,V12) -> 24590.8 | Z12: =+STDEV(F12,J12,N12,R12,V12) -> 30997.183 | AA12: =Z12/Y12 -> 1.2605195 | AB12: =+Y12+Z12 -> 55587.983 | AC12: =Y12-Z12 -> -6406.3827 | AD12: =IF(((IF(AND(F12<=$AB12,F12>=$AC12),F12,""))<=0),"",(IF(AND(F12<=$AB12,F12>=$AC12),F12,""))) -> 9289 | AE12: =IF(((IF(AND(J12<=$AB12,J12>=$AC12),J12,""))<=0),"",(IF(AND(J12<=$AB12,J12>=$AC12),J12,""))) | AF12: =IF(((IF(AND(N12<=$AB12,N12>=$AC12),N12,""))<=0),"",(IF(AND(N12<=$AB12,N12>=$AC12),N12,""))) -> 9949 | AG12: =IF(((IF(AND(R12<=$AB12,R12>=$AC12),R12,""))<=0),"",(IF(AND(R12<=$AB12,R12>=$AC12),R12,""))) -> 11442 | AH12: =IF(((IF(AND(V12<=$AB12,V12>=$AC12),V12,""))<=0),"",(IF(AND(V12<=$AB12,V12>=$AC12),V12,""))) -> 12274 | AI12: =AVERAGE(AD12:AH12) -> 10738.5 | AJ12: =+STDEV(AD12:AH12) -> 1363.4555 | AK12: =+AJ12/AI12 -> 0.1269689
A13: 6 | B13: ABRAZADERA METÁLICA DE 3/4" | C13: INCLUYE SUMINISTRO E INSTALACION DE ABRAZADERA METÁLICA DE 3/4" | D13: UN | E13: 6597 | F13: 6597 | G13: INGENIERIA MONTAJES & CONSTRUCCION S.A.S. | H13: 900327815-15 | I13: 30000 | J13: 30000 | K13: INGENIERIA DE BOMBAS Y PLANTAS SAS | L13: 900152368-1 | M13: 7066 | N13: 7066 | O13: CGI INDUSTRY AND CONSTRUCTION GROUP SAS BIC | P13: 901666309-7 | Q13: 8125 | R13: 8125 | S13: GRUPO BERAKA SAS | T13: 901152951-1 | U13: 8716 | V13: 8716 | W13: SMI ELECTRÓNICA SAS | X13: 830090131-2 | Y13: =+AVERAGE(F13,J13,N13,R13,V13) -> 12100.8 | Z13: =+STDEV(F13,J13,N13,R13,V13) -> 10040.994 | AA13: =Z13/Y13 -> 0.82977935 | AB13: =+Y13+Z13 -> 22141.794 | AC13: =Y13-Z13 -> 2059.806 | AD13: =IF(((IF(AND(F13<=$AB13,F13>=$AC13),F13,""))<=0),"",(IF(AND(F13<=$AB13,F13>=$AC13),F13,""))) -> 6597 | AE13: =IF(((IF(AND(J13<=$AB13,J13>=$AC13),J13,""))<=0),"",(IF(AND(J13<=$AB13,J13>=$AC13),J13,""))) | AF13: =IF(((IF(AND(N13<=$AB13,N13>=$AC13),N13,""))<=0),"",(IF(AND(N13<=$AB13,N13>=$AC13),N13,""))) -> 7066 | AG13: =IF(((IF(AND(R13<=$AB13,R13>=$AC13),R13,""))<=0),"",(IF(AND(R13<=$AB13,R13>=$AC13),R13,""))) -> 8125 | AH13: =IF(((IF(AND(V13<=$AB13,V13>=$AC13),V13,""))<=0),"",(IF(AND(V13<=$AB13,V13>=$AC13),V13,""))) -> 8716 | AI13: =AVERAGE(AD13:AH13) -> 7626 | AJ13: =+STDEV(AD13:AH13) -> 967.73653 | AK13: =+AJ13/AI13 -> 0.12689962
A14: 7 | B14: ACEITE DIELECTRICO X 1/4 GALON PARA MOTOBOMBA SUMERGIBLES | C14: INCLUYE SUMINISTRO E INSTALACION DE ACEITE DIELECTRICO X 1/4 GALON PARA MOTOBOMBA SUMERGIBLES | D14: UN | E14: 67192 | F14: 67192 | G14: INGENIERIA MONTAJES & CONSTRUCCION S.A.S. | H14: 900327815-15 | I14: 350000 | J14: 350000 | K14: INGENIERIA DE BOMBAS Y PLANTAS SAS | L14: 900152368-1 | M14: 71963 | N14: 71963 | O14: CGI INDUSTRY AND CONSTRUCTION GROUP SAS BIC | P14: 901666309-7 | Q14: 82758 | R14: 82758 | S14: GRUPO BERAKA SAS | T14: 901152951-1 | U14: 88777 | V14: 88777 | W14: SMI ELECTRÓNICA SAS | X14: 830090131-2 | Y14: =+AVERAGE(F14,J14,N14,R14,V14) -> 132138 | Z14: =+STDEV(F14,J14,N14,R14,V14) -> 122087.49 | AA14: =Z14/Y14 -> 0.92393933 | AB14: =+Y14+Z14 -> 254225.49 | AC14: =Y14-Z14 -> 10050.505 | AD14: =IF(((IF(AND(F14<=$AB14,F14>=$AC14),F14,""))<=0),"",(IF(AND(F14<=$AB14,F14>=$AC14),F14,""))) -> 67192 | AE14: =IF(((IF(AND(J14<=$AB14,J14>=$AC14),J14,""))<=0),"",(IF(AND(J14<=$AB14,J14>=$AC14),J14,""))) | AF14: =IF(((IF(AND(N14<=$AB14,N14>=$AC14),N14,""))<=0),"",(IF(AND(N14<=$AB14,N14>=$AC14),N14,""))) -> 71963 | AG14: =IF(((IF(AND(R14<=$AB14,R14>=$AC14),R14,""))<=0),"",(IF(AND(R14<=$AB14,R14>=$AC14),R14,""))) -> 82758 | AH14: =IF(((IF(AND(V14<=$AB14,V14>=$AC14),V14,""))<=0),"",(IF(AND(V14<=$AB14,V14>=$AC14),V14,""))) -> 88777 | AI14: =AVERAGE(AD14:AH14) -> 77672.5 | AJ14: =+STDEV(AD14:AH14) -> 9859.2005 | AK14: =+AJ14/AI14 -> 0.12693296
A15: 8 | B15: ACOPLE FLEXIBLE RANURADO 4 | C15: INCLUYE SUMINISTRO E INSTALACION DE ACOPLE FLEXIBLE RANURADO 4 | D15: UN | E15: 28918 | F15: 28918 | G15: INGENIERIA MONTAJES & CONSTRUCCION S.A.S. | H15: 900327815-15 | I15: 350000 | J15: 350000 | K15: INGENIERIA DE BOMBAS Y PLANTAS SAS | L15: 900152368-1 | M15: 30972 | N15: 30972 | O15: CGI INDUSTRY AND CONSTRUCTION GROUP SAS BIC | P15: 901666309-7 | Q15: 35617 | R15: 35617 | S15: GRUPO BERAKA SAS | T15: 901152951-1 | U15: 38208 | V15: 38208 | W15: SMI ELECTRÓNICA SAS | X15: 830090131-2 | Y15: =+AVERAGE(F15,J15,N15,R15,V15) -> 96743 | Z15: =+STDEV(F15,J15,N15,R15,V15) -> 141622.65 | AA15: =Z15/Y15 -> 1.4639059 | AB15: =+Y15+Z15 -> 238365.65 | AC15: =Y15-Z15 -> -44879.648 | AD15: =IF(((IF(AND(F15<=$AB15,F15>=$AC15),F15,""))<=0),"",(IF(AND(F15<=$AB15,F15>=$AC15),F15,""))) -> 28918 | AE15: =IF(((IF(AND(J15<=$AB15,J15>=$AC15),J15,""))<=0),"",(IF(AND(J15<=$AB15,J15>=$AC15),J15,""))) | AF15: =IF(((IF(AND(N15<=$AB15,N15>=$AC15),N15,""))<=0),"",(IF(AND(N15<=$AB15,N15>=$AC15),N15,""))) -> 30972 | AG15: =IF(((IF(AND(R15<=$AB15,R15>=$AC15),R15,""))<=0),"",(IF(AND(R15<=$AB15,R15>=$AC15),R15,""))) -> 35617 | AH15: =IF(((IF(AND(V15<=$AB15,V15>=$AC15),V15,""))<=0),"",(IF(AND(V15<=$AB15,V15>=$AC15),V15,""))) -> 38208 | AI15: =AVERAGE(AD15:AH15) -> 33428.75 | AJ15: =+STDEV(AD15:AH15) -> 4243.1181 | AK15: =+AJ15/AI15 -> 0.12693021
A16: 9 | B16: ADAPTADOR HEMBRA DE 1 " PVCP | C16: INCLUYE SUMINISTRO E INSTALACION DE ADAPTADOR HEMBRA DE 1 " PVCP | D16: UN | E16: 6361 | F16: 6361 | G16: INGENIERIA MONTAJES & CONSTRUCCION S.A.S. | H16: 900327815-15 | I16: 10000 | J16: 10000 | K16: INGENIERIA DE BOMBAS Y PLANTAS SAS | L16: 900152368-1 | M16: 6813 | N16: 6813 | O16: CGI INDUSTRY AND CONSTRUCTION GROUP SAS BIC | P16: 901666309-7 | Q16: 7835 | R16: 7835 | S16: GRUPO BERAKA SAS | T16: 901152951-1 | U16: 8405 | V16: 8405 | W16: SMI ELECTRÓNICA SAS | X16: 830090131-2 | Y16: =+AVERAGE(F16,J16,N16,R16,V16) -> 7882.8 | Z16: =+STDEV(F16,J16,N16,R16,V16) -> 1433.3406 | AA16: =Z16/Y16 -> 0.1818314 | AB16: =+Y16+Z16 -> 9316.1406 | AC16: =Y16-Z16 -> 6449.4594 | AD16: =IF(((IF(AND(F16<=$AB16,F16>=$AC16),F16,""))<=0),"",(IF(AND(F16<=$AB16,F16>=$AC16),F16,""))) | AE16: =IF(((IF(AND(J16<=$AB16,J16>=$AC16),J16,""))<=0),"",(IF(AND(J16<=$AB16,J16>=$AC16),J16,""))) | AF16: =IF(((IF(AND(N16<=$AB16,N16>=$AC16),N16,""))<=0),"",(IF(AND(N16<=$AB16,N16>=$AC16),N16,""))) -> 6813 | AG16: =IF(((IF(AND(R16<=$AB16,R16>=$AC16),R16,""))<=0),"",(IF(AND(R16<=$AB16,R16>=$AC16),R16,""))) -> 7835 | AH16: =IF(((IF(AND(V16<=$AB16,V16>=$AC16),V16,""))<=0),"",(IF(AND(V16<=$AB16,V16>=$AC16),V16,""))) -> 8405 | AI16: =AVERAGE(AD16:AH16) -> 7684.3333 | AJ16: =+STDEV(AD16:AH16) -> 806.62341 | AK16: =+AJ16/AI16 -> 0.10496986
A17: 10 | B17: ADAPTADOR HEMBRA DE 1/2" PVCP | C17: INCLUYE SUMINISTRO E INSTALACION DE ADAPTADOR HEMBRA DE 1/2" PVCP | D17: UN | E17: 8034 | F17: 8034 | G17: INGENIERIA MONTAJES & CONSTRUCCION S.A.S. | H17: 900327815-15 | I17: 8000 | J17: 8000 | K17: INGENIERIA DE BOMBAS Y PLANTAS SAS | L17: 900152368-1 | M17: 8604 | N17: 8604 | O17: CGI INDUSTRY AND CONSTRUCTION GROUP SAS BIC | P17: 901666309-7 | Q17: 9895 | R17: 9895 | S17: GRUPO BERAKA SAS | T17: 901152951-1 | U17: 10614 | V17: 10614 | W17: SMI ELECTRÓNICA SAS | X17: 830090131-2 | Y17: =+AVERAGE(F17,J17,N17,R17,V17) -> 9029.4 | Z17: =+STDEV(F17,J17,N17,R17,V17) -> 1171.7158 | AA17: =Z17/Y17 -> 0.12976673 | AB17: =+Y17+Z17 -> 10201.116 | AC17: =Y17-Z17 -> 7857.6842 | AD17: =IF(((IF(AND(F17<=$AB17,F17>=$AC17),F17,""))<=0),"",(IF(AND(F17<=$AB17,F17>=$AC17),F17,""))) -> 8034 | AE17: =IF(((IF(AND(J17<=$AB17,J17>=$AC17),J17,""))<=0),"",(IF(AND(J17<=$AB17,J17>=$AC17),J17,""))) -> 8000 | AF17: =IF(((IF(AND(N17<=$AB17,N17>=$AC17),N17,""))<=0),"",(IF(AND(N17<=$AB17,N17>=$AC17),N17,""))) -> 8604 | AG17: =IF(((IF(AND(R17<=$AB17,R17>=$AC17),R17,""))<=0),"",(IF(AND(R17<=$AB17,R17>=$AC17),R17,""))) -> 9895 | AH17: =IF(((IF(AND(V17<=$AB17,V17>=$AC17),V17,""))<=0),"",(IF(AND(V17<=$AB17,V17>=$AC17),V17,""))) | AI17: =AVERAGE(AD17:AH17) -> 8633.25 | AJ17: =+STDEV(AD17:AH17) -> 885.6212 | AK17: =+AJ17/AI17 -> 0.1025826
A18: 11 | B18: ADAPTADOR HEMBRA DE 1-1/2" PVCP | C18: INCLUYE SUMINISTRO E INSTALACION DE ADAPTADOR HEMBRA DE 1-1/2" PVCP | D18: UN | E18: 20009 | F18: 20009 | G18: INGENIERIA MONTAJES & CONSTRUCCION S.A.S. | H18: 900327815-15 | I18: 12000 | J18: 12000 | K18: INGENIERIA DE BOMBAS Y PLANTAS SAS | L18: 900152368-1 | M18: 21430 | N18: 21430 | O18: CGI INDUSTRY AND CONSTRUCTION GROUP SAS BIC | P18: 901666309-7 | Q18: 24644 | R18: 24644 | S18: GRUPO BERAKA SAS | T18: 901152951-1 | U18: 26437 | V18: 26437 | W18: SMI ELECTRÓNICA SAS | X18: 830090131-2 | Y18: =+AVERAGE(F18,J18,N18,R18,V18) -> 20904 | Z18: =+STDEV(F18,J18,N18,R18,V18) -> 5589.289 | AA18: =Z18/Y18 -> 0.26737892 | AB18: =+Y18+Z18 -> 26493.289 | AC18: =Y18-Z18 -> 15314.711 | AD18: =IF(((IF(AND(F18<=$AB18,F18>=$AC18),F18,""))<=0),"",(IF(AND(F18<=$AB18,F18>=$AC18),F18,""))) -> 20009 | AE18: =IF(((IF(AND(J18<=$AB18,J18>=$AC18),J18,""))<=0),"",(IF(AND(J18<=$AB18,J18>=$AC18),J18,""))) | AF18: =IF(((IF(AND(N18<=$AB18,N18>=$AC18),N18,""))<=0),"",(IF(AND(N18<=$AB18,N18>=$AC18),N18,""))) -> 21430 | AG18: =IF(((IF(AND(R18<=$AB18,R18>=$AC18),R18,""))<=0),"",(IF(AND(R18<=$AB18,R18>=$AC18),R18,""))) -> 24644 | AH18: =IF(((IF(AND(V18<=$AB18,V18>=$AC18),V18,""))<=0),"",(IF(AND(V18<=$AB18,V18>=$AC18),V18,""))) -> 26437 | AI18: =AVERAGE(AD18:AH18) -> 23130 | AJ18: =+STDEV(AD18:AH18) -> 2935.9318 | AK18: =+AJ18/AI18 -> 0.12693177
A19: 12 | B19: ADAPTADOR HEMBRA DE 1-1/4" PVCP | C19: INCLUYE SUMINISTRO E INSTALACION DE ADAPTADOR HEMBRA DE 1-1/4" PVCP | D19: UN | E19: 14802 | F19: 14802 | G19: INGENIERIA MONTAJES & CONSTRUCCION S.A.S. | H19: 900327815-15 | I19: 11000 | J19: 11000 | K19: INGENIERIA DE BOMBAS Y PLANTAS SAS | L19: 900152368-1 | M19: 15854 | N19: 15854 | O19: CGI INDUSTRY AND CONSTRUCTION GROUP SAS BIC | P19: 901666309-7 | Q19: 18232 | R19: 18232 | S19: GRUPO BERAKA SAS | T19: 901152951-1 | U19: 19558 | V19: 19558 | W19: SMI ELECTRÓNICA SAS | X19: 830090131-2 | Y19: =+AVERAGE(F19,J19,N19,R19,V19) -> 15889.2 | Z19: =+STDEV(F19,J19,N19,R19,V19) -> 3317.9936 | AA19: =Z19/Y19 -> 0.20882068 | AB19: =+Y19+Z19 -> 19207.194 | AC19: =Y19-Z19 -> 12571.206 | AD19: =IF(((IF(AND(F19<=$AB19,F19>=$AC19),F19,""))<=0),"",(IF(AND(F19<=$AB19,F19>=$AC19),F19,""))) -> 14802 | AE19: =IF(((IF(AND(J19<=$AB19,J19>=$AC19),J19,""))<=0),"",(IF(AND(J19<=$AB19,J19>=$AC19),J19,""))) | AF19: =IF(((IF(AND(N19<=$AB19,N19>=$AC19),N19,""))<=0),"",(IF(AND(N19<=$AB19,N19>=$AC19),N19,""))) -> 15854 | AG19: =IF(((IF(AND(R19<=$AB19,R19>=$AC19),R19,""))<=0),"",(IF(AND(R19<=$AB19,R19>=$AC19),R19,""))) -> 18232 | AH19: =IF(((IF(AND(V19<=$AB19,V19>=$AC19),V19,""))<=0),"",(IF(AND(V19<=$AB19,V19>=$AC19),V19,""))) | AI19: =AVERAGE(AD19:AH19) -> 16296 | AJ19: =+STDEV(AD19:AH19) -> 1757.1989 | AK19: =+AJ19/AI19 -> 0.10783008
... A22: 15 | B22: ADAPTADOR HEMBRA DE 3" PVCP | C22: INCLUYE SUMINISTRO E INSTALACION DE ADAPTADOR HEMBRA DE 3" PVCP | D22: UN | E22: 34451 | F22: 34451 | G22: INGENIERIA MONTAJES & CONSTRUCCION S.A.S. | H22: 900327815-15 | I22: 70000 | J22: 70000 | K22: INGENIERIA DE BOMBAS Y PLANTAS SAS | L22: 900152368-1 | M22: 36897 | N22: 36897 | O22: CGI INDUSTRY AND CONSTRUCTION GROUP SAS BIC | P22: 901666309-7 | Q22: 42432 | R22: 42432 | S22: GRUPO BERAKA SAS | T22: 901152951-1 | U22: 45518 | V22: 45518 | W22: SMI ELECTRÓNICA SAS | X22: 830090131-2 | Y22: =+AVERAGE(F22,J22,N22,R22,V22) -> 45859.6 | Z22: =+STDEV(F22,J22,N22,R22,V22) -> 14187.216 | AA22: =Z22/Y22 -> 0.30936197 | AB22: =+Y22+Z22 -> 60046.816 | AC22: =Y22-Z22 -> 31672.384 | AD22: =IF(((IF(AND(F22<=$AB22,F22>=$AC22),F22,""))<=0),"",(IF(AND(F22<=$AB22,F22>=$AC22),F22,""))) -> 34451 | AE22: =IF(((IF(AND(J22<=$AB22,J22>=$AC22),J22,""))<=0),"",(IF(AND(J22<=$AB22,J22>=$AC22),J22,""))) | AF22: =IF(((IF(AND(N22<=$AB22,N22>=$AC22),N22,""))<=0),"",(IF(AND(N22<=$AB22,N22>=$AC22),N22,""))) -> 36897 | AG22: =IF(((IF(AND(R22<=$AB22,R22>=$AC22),R22,""))<=0),"",(IF(AND(R22<=$AB22,R22>=$AC22),R22,""))) -> 42432 | AH22: =IF(((IF(AND(V22<=$AB22,V22>=$AC22),V22,""))<=0),"",(IF(AND(V22<=$AB22,V22>=$AC22),V22,""))) -> 45518 | AI22: =AVERAGE(AD22:AH22) -> 39824.5 | AJ22: =+STDEV(AD22:AH22) -> 5055.0225 | AK22: =+AJ22/AI22 -> 0.12693248
A23: 16 | B23: ADAPTADOR HEMBRA DE 4" PVCP | C23: INCLUYE SUMINISTRO E INSTALACION DE ADAPTADOR HEMBRA DE 4" PVCP | D23: UN | G23: INGENIERIA MONTAJES & CONSTRUCCION S.A.S. | H23: 900327815-15 | I23: 150000 | J23: 150000 | K23: INGENIERIA DE BOMBAS Y PLANTAS SAS | L23: 900152368-1 | M23: 102720 | N23: 102720 | O23: CGI INDUSTRY AND CONSTRUCTION GROUP SAS BIC | P23: 901666309-7 | Q23: 118128 | R23: 118128 | S23: GRUPO BERAKA SAS | T23: 901152951-1 | U23: 123900 | V23: 123900 | W23: SMI ELECTRÓNICA SAS | X23: 830090131-2 | Y23: =+AVERAGE(F23,J23,N23,R23,V23) -> 123687 | Z23: =+STDEV(F23,J23,N23,R23,V23) -> 19688.718 | AA23: =Z23/Y23 -> 0.15918179 | AB23: =+Y23+Z23 -> 143375.72 | AC23: =Y23-Z23 -> 103998.28 | AD23: =IF(((IF(AND(F23<=$AB23,F23>=$AC23),F23,""))<=0),"",(IF(AND(F23<=$AB23,F23>=$AC23),F23,""))) | AE23: =IF(((IF(AND(J23<=$AB23,J23>=$AC23),J23,""))<=0),"",(IF(AND(J23<=$AB23,J23>=$AC23),J23,""))) | AF23: =IF(((IF(AND(N23<=$AB23,N23>=$AC23),N23,""))<=0),"",(IF(AND(N23<=$AB23,N23>=$AC23),N23,""))) | AG23: =IF(((IF(AND(R23<=$AB23,R23>=$AC23),R23,""))<=0),"",(IF(AND(R23<=$AB23,R23>=$AC23),R23,""))) -> 118128 | AH23: =IF(((IF(AND(V23<=$AB23,V23>=$AC23),V23,""))<=0),"",(IF(AND(V23<=$AB23,V23>=$AC23),V23,""))) -> 123900 | AI23: =AVERAGE(AD23:AH23) -> 121014 | AJ23: =+STDEV(AD23:AH23) -> 4081.4203 | AK23: =+AJ23/AI23 -> 0.033726844
A24: 17 | B24: ADAPTADOR HEMBRA DE 6" PVCP | C24: INCLUYE SUMINISTRO E INSTALACION DE ADAPTADOR HEMBRA DE 6" PVCP | D24: UN | G24: INGENIERIA MONTAJES & CONSTRUCCION S.A.S. | H24: 900327815-15 | I24: 500000 | J24: 500000 | K24: INGENIERIA DE BOMBAS Y PLANTAS SAS | L24: 900152368-1 | M24: 155150 | N24: 155150 | O24: CGI INDUSTRY AND CONSTRUCTION GROUP SAS BIC | P24: 901666309-7 | Q24: 178423 | R24: 178423 | S24: GRUPO BERAKA SAS | T24: 901152951-1 | U24: 156500 | V24: 156500 | W24: SMI ELECTRÓNICA SAS | X24: 830090131-2 | Y24: =+AVERAGE(F24,J24,N24,R24,V24) -> 247518.25 | Z24: =+STDEV(F24,J24,N24,R24,V24) -> 168658.83 | AA24: =Z24/Y24 -> 0.68139957 | AB24: =+Y24+Z24 -> 416177.08 | AC24: =Y24-Z24 -> 78859.42 | AD24: =IF(((IF(AND(F24<=$AB24,F24>=$AC24),F24,""))<=0),"",(IF(AND(F24<=$AB24,F24>=$AC24),F24,""))) | AE24: =IF(((IF(AND(J24<=$AB24,J24>=$AC24),J24,""))<=0),"",(IF(AND(J24<=$AB24,J24>=$AC24),J24,""))) | AF24: =IF(((IF(AND(N24<=$AB24,N24>=$AC24),N24,""))<=0),"",(IF(AND(N24<=$AB24,N24>=$AC24),N24,""))) -> 155150 | AG24: =IF(((IF(AND(R24<=$AB24,R24>=$AC24),R24,""))<=0),"",(IF(AND(R24<=$AB24,R24>=$AC24),R24,""))) -> 178423 | AH24: =IF(((IF(AND(V24<=$AB24,V24>=$AC24),V24,""))<=0),"",(IF(AND(V24<=$AB24,V24>=$AC24),V24,""))) -> 156500 | AI24: =AVERAGE(AD24:AH24) -> 163357.67 | AJ24: =+STDEV(AD24:AH24) -> 13064.411 | AK24: =+AJ24/AI24 -> 0.079974273
A25: 18 | B25: ADAPTADOR MACHO DE 2-1/2" PVCP | C25: INCLUYE SUMINISTRO E INSTALACION DE ADAPTADOR MACHO DE 2-1/2" PVCP | D25: UN | E25: 55193 | F25: 55193 | G25: INGENIERIA MONTAJES & CONSTRUCCION S.A.S. | H25: 900327815-15 | I25: 120000 | J25: 120000 | K25: INGENIERIA DE BOMBAS Y PLANTAS SAS | L25: 900152368-1 | M25: 59113 | N25: 59113 | O25: CGI INDUSTRY AND CONSTRUCTION GROUP SAS BIC | P25: 901666309-7 | Q25: 67980 | R25: 67980 | S25: GRUPO BERAKA SAS | T25: 901152951-1 | U25: 72925 | V25: 72925 | W25: SMI ELECTRÓNICA SAS | X25: 830090131-2 | Y25: =+AVERAGE(F25,J25,N25,R25,V25) -> 75042.2 | Z25: =+STDEV(F25,J25,N25,R25,V25) -> 26092.581 | AA25: =Z25/Y25 -> 0.34770544 | AB25: =+Y25+Z25 -> 101134.78 | AC25: =Y25-Z25 -> 48949.619 | AD25: =IF(((IF(AND(F25<=$AB25,F25>=$AC25),F25,""))<=0),"",(IF(AND(F25<=$AB25,F25>=$AC25),F25,""))) -> 55193 | AE25: =IF(((IF(AND(J25<=$AB25,J25>=$AC25),J25,""))<=0),"",(IF(AND(J25<=$AB25,J25>=$AC25),J25,""))) | AF25: =IF(((IF(AND(N25<=$AB25,N25>=$AC25),N25,""))<=0),"",(IF(AND(N25<=$AB25,N25>=$AC25),N25,""))) -> 59113 | AG25: =IF(((IF(AND(R25<=$AB25,R25>=$AC25),R25,""))<=0),"",(IF(AND(R25<=$AB25,R25>=$AC25),R25,""))) -> 67980 | AH25: =IF(((IF(AND(V25<=$AB25,V25>=$AC25),V25,""))<=0),"",(IF(AND(V25<=$AB25,V25>=$AC25),V25,""))) -> 72925 | AI25: =AVERAGE(AD25:AH25) -> 63802.75 | AJ25: =+STDEV(AD25:AH25) -> 8099.1031 | AK25: =+AJ25/AI25 -> 0.12693972
A26: 19 | B26: ADAPTADOR MACHO DE 1" PVCP | C26: INCLUYE SUMINISTRO E INSTALACION DE ADAPTADOR MACHO DE 1" PVCP | D26: UN | E26: 5975 | F26: 5975 | G26: INGENIERIA MONTAJES & CONSTRUCCION S.A.S. | H26: 900327815-15 | I26: 12000 | J26: 12000 | K26: INGENIERIA DE BOMBAS Y PLANTAS SAS | L26: 900152368-1 | M26: 6399 | N26: 6399 | O26: CGI INDUSTRY AND CONSTRUCTION GROUP SAS BIC | P26: 901666309-7 | Q26: 7359 | R26: 7359 | S26: GRUPO BERAKA SAS | T26: 901152951-1 | U26: 7894 | V26: 7894 | W26: SMI ELECTRÓNICA SAS | X26: 830090131-2 | Y26: =+AVERAGE(F26,J26,N26,R26,V26) -> 7925.4 | Z26: =+STDEV(F26,J26,N26,R26,V26) -> 2400.9434 | AA26: =Z26/Y26 -> 0.30294287 | AB26: =+Y26+Z26 -> 10326.343 | AC26: =Y26-Z26 -> 5524.4566 | AD26: =IF(((IF(AND(F26<=$AB26,F26>=$AC26),F26,""))<=0),"",(IF(AND(F26<=$AB26,F26>=$AC26),F26,""))) -> 5975 | AE26: =IF(((IF(AND(J26<=$AB26,J26>=$AC26),J26,""))<=0),"",(IF(AND(J26<=$AB26,J26>=$AC26),J26,""))) | AF26: =IF(((IF(AND(N26<=$AB26,N26>=$AC26),N26,""))<=0),"",(IF(AND(N26<=$AB26,N26>=$AC26),N26,""))) -> 6399 | AG26: =IF(((IF(AND(R26<=$AB26,R26>=$AC26),R26,""))<=0),"",(IF(AND(R26<=$AB26,R26>=$AC26),R26,""))) -> 7359 | AH26: =IF(((IF(AND(V26<=$AB26,V26>=$AC26),V26,""))<=0),"",(IF(AND(V26<=$AB26,V26>=$AC26),V26,""))) -> 7894 | AI26: =AVERAGE(AD26:AH26) -> 6906.75 | AJ26: =+STDEV(AD26:AH26) -> 876.57682 | AK26: =+AJ26/AI26 -> 0.12691596
A27: 20 | B27: ADAPTADOR MACHO DE 1/2" PVCP | C27: INCLUYE SUMINISTRO E INSTALACION DE ADAPTADOR MACHO DE 1/2" PVCP | D27: UN | E27: 7925 | F27: 7925 | G27: INGENIERIA MONTAJES & CONSTRUCCION S.A.S. | H27: 900327815-15 | I27: 10000 | J27: 10000 | K27: INGENIERIA DE BOMBAS Y PLANTAS SAS | L27: 900152368-1 | M27: 8488 | N27: 8488 | O27: CGI INDUSTRY AND CONSTRUCTION GROUP SAS BIC | P27: 901666309-7 | Q27: 9761 | R27: 9761 | S27: GRUPO BERAKA SAS | T27: 901152951-1 | U27: 10471 | V27: 10471 | W27: SMI ELECTRÓNICA SAS | X27: 830090131-2 | Y27: =+AVERAGE(F27,J27,N27,R27,V27) -> 9329 | Z27: =+STDEV(F27,J27,N27,R27,V27) -> 1074.6541 | AA27: =Z27/Y27 -> 0.115195 | AB27: =+Y27+Z27 -> 10403.654 | AC27: =Y27-Z27 -> 8254.3459 | AD27: =IF(((IF(AND(F27<=$AB27,F27>=$AC27),F27,""))<=0),"",(IF(AND(F27<=$AB27,F27>=$AC27),F27,""))) | AE27: =IF(((IF(AND(J27<=$AB27,J27>=$AC27),J27,""))<=0),"",(IF(AND(J27<=$AB27,J27>=$AC27),J27,""))) -> 10000 | AF27: =IF(((IF(AND(N27<=$AB27,N27>=$AC27),N27,""))<=0),"",(IF(AND(N27<=$AB27,N27>=$AC27),N27,""))) -> 8488 | AG27: =IF(((IF(AND(R27<=$AB27,R27>=$AC27),R27,""))<=0),"",(IF(AND(R27<=$AB27,R27>=$AC27),R27,""))) -> 9761 | AH27: =IF(((IF(AND(V27<=$AB27,V27>=$AC27),V27,""))<=0),"",(IF(AND(V27<=$AB27,V27>=$AC27),V27,""))) | AI27: =AVERAGE(AD27:AH27) -> 9416.3333 | AJ27: =+STDEV(AD27:AH27) -> 812.79292 | AK27: =+AJ27/AI27 -> 0.086317348
A28: 21 | B28: ADAPTADOR MACHO DE 1-1/2" PVCP | C28: INCLUYE SUMINISTRO E INSTALACION DE ADAPTADOR MACHO DE 1-1/2" PVCP | D28: UN | E28: 18733 | F28: 18733 | G28: INGENIERIA MONTAJES & CONSTRUCCION S.A.S. | H28: 900327815-15 | I28: 15000 | J28: 15000 | K28: INGENIERIA DE BOMBAS Y PLANTAS SAS | L28: 900152368-1 | M28: 20064 | N28: 20064 | O28: CGI INDUSTRY AND CONSTRUCTION GROUP SAS BIC | P28: 901666309-7 | Q28: 23073 | R28: 23073 | S28: GRUPO BERAKA SAS | T28: 901152951-1 | U28: 24752 | V28: 24752 | W28: SMI ELECTRÓNICA SAS | X28: 830090131-2 | Y28: =+AVERAGE(F28,J28,N28,R28,V28) -> 20324.4 | Z28: =+STDEV(F28,J28,N28,R28,V28) -> 3811.4315 | AA28: =Z28/Y28 -> 0.18752984 | AB28: =+Y28+Z28 -> 24135.832 | AC28: =Y28-Z28 -> 16512.968 | AD28: =IF(((IF(AND(F28<=$AB28,F28>=$AC28),F28,""))<=0),"",(IF(AND(F28<=$AB28,F28>=$AC28),F28,""))) -> 18733 | AE28: =IF(((IF(AND(J28<=$AB28,J28>=$AC28),J28,""))<=0),"",(IF(AND(J28<=$AB28,J28>=$AC28),J28,""))) | AF28: =IF(((IF(AND(N28<=$AB28,N28>=$AC28),N28,""))<=0),"",(IF(AND(N28<=$AB28,N28>=$AC28),N28,""))) -> 20064 | AG28: =IF(((IF(AND(R28<=$AB28,R28>=$AC28),R28,""))<=0),"",(IF(AND(R28<=$AB28,R28>=$AC28),R28,""))) -> 23073 | AH28: =IF(((IF(AND(V28<=$AB28,V28>=$AC28),V28,""))<=0),"",(IF(AND(V28<=$AB28,V28>=$AC28),V28,""))) | AI28: =AVERAGE(AD28:AH28) -> 20623.333 | AJ28: =+STDEV(AD28:AH28) -> 2223.4074 | AK28: =+AJ28/AI28 -> 0.10781028
A29: 22 | B29: ADAPTADOR MACHO DE 1-1/4" PVCP | C29: INCLUYE SUMINISTRO E INSTALACION DE ADAPTADOR MACHO DE 1-1/4" PVCP | D29: UN | E29: 13210 | F29: 13210 | G29: INGENIERIA MONTAJES & CONSTRUCCION S.A.S. | H29: 900327815-15 | I29: 14000 | J29: 14000 | K29: INGENIERIA DE BOMBAS Y PLANTAS SAS | L29: 900152368-1 | M29: 14148 | N29: 14148 | O29: CGI INDUSTRY AND CONSTRUCTION GROUP SAS BIC | P29: 901666309-7 | Q29: 16271 | R29: 16271 | S29: GRUPO BERAKA SAS | T29: 901152951-1 | U29: 17454 | V29: 17454 | W29: SMI ELECTRÓNICA SAS | X29: 830090131-2 | Y29: =+AVERAGE(F29,J29,N29,R29,V29) -> 15016.6 | Z29: =+STDEV(F29,J29,N29,R29,V29) -> 1772.4406 | AA29: =Z29/Y29 -> 0.11803209 | AB29: =+Y29+Z29 -> 16789.041 | AC29: =Y29-Z29 -> 13244.159 | AD29: =IF(((IF(AND(F29<=$AB29,F29>=$AC29),F29,""))<=0),"",(IF(AND(F29<=$AB29,F29>=$AC29),F29,""))) | AE29: =IF(((IF(AND(J29<=$AB29,J29>=$AC29),J29,""))<=0),"",(IF(AND(J29<=$AB29,J29>=$AC29),J29,""))) -> 14000 | AF29: =IF(((IF(AND(N29<=$AB29,N29>=$AC29),N29,""))<=0),"",(IF(AND(N29<=$AB29,N29>=$AC29),N29,""))) -> 14148 | AG29: =IF(((IF(AND(R29<=$AB29,R29>=$AC29),R29,""))<=0),"",(IF(AND(R29<=$AB29,R29>=$AC29),R29,""))) -> 16271 | AH29: =IF(((IF(AND(V29<=$AB29,V29>=$AC29),V29,""))<=0),"",(IF(AND(V29<=$AB29,V29>=$AC29),V29,""))) | AI29: =AVERAGE(AD29:AH29) -> 14806.333 | AJ29: =+STDEV(AD29:AH29) -> 1270.5953 | AK29: =+AJ29/AI29 -> 0.085814309
A30: 23 | B30: ADAPTADOR MACHO DE 2" PVCP | C30: INCLUYE SUMINISTRO E INSTALACION DE ADAPTADOR MACHO DE 2" PVCP | D30: UN | E30: 16465 | F30: 16465 | G30: INGENIERIA MONTAJES & CONSTRUCCION S.A.S. | H30: 900327815-15 | I30: 20000 | J30: 20000 | K30: INGENIERIA DE BOMBAS Y PLANTAS SAS | L30: 900152368-1 | M30: 17634 | N30: 17634 | O30: CGI INDUSTRY AND CONSTRUCTION GROUP SAS BIC | P30: 901666309-7 | Q30: 20279 | R30: 20279 | S30: GRUPO BERAKA SAS | T30: 901152951-1 | U30: 21754 | V30: 21754 | W30: SMI ELECTRÓNICA SAS | X30: 830090131-2 | Y30: =+AVERAGE(F30,J30,N30,R30,V30) -> 19226.4 | Z30: =+STDEV(F30,J30,N30,R30,V30) -> 2136.3668 | AA30: =Z30/Y30 -> 0.11111632 | AB30: =+Y30+Z30 -> 21362.767 | AC30: =Y30-Z30 -> 17090.033 | AD30: =IF(((IF(AND(F30<=$AB30,F30>=$AC30),F30,""))<=0),"",(IF(AND(F30<=$AB30,F30>=$AC30),F30,""))) | AE30: =IF(((IF(AND(J30<=$AB30,J30>=$AC30),J30,""))<=0),"",(IF(AND(J30<=$AB30,J30>=$AC30),J30,""))) -> 20000 | AF30: =IF(((IF(AND(N30<=$AB30,N30>=$AC30),N30,""))<=0),"",(IF(AND(N30<=$AB30,N30>=$AC30),N30,""))) -> 17634 | AG30: =IF(((IF(AND(R30<=$AB30,R30>=$AC30),R30,""))<=0),"",(IF(AND(R30<=$AB30,R30>=$AC30),R30,""))) -> 20279 | AH30: =IF(((IF(AND(V30<=$AB30,V30>=$AC30),V30,""))<=0),"",(IF(AND(V30<=$AB30,V30>=$AC30),V30,""))) | AI30: =AVERAGE(AD30:AH30) -> 19304.333 | AJ30: =+STDEV(AD30:AH30) -> 1453.262 | AK30: =+AJ30/AI30 -> 0.075281645
A31: 24 | B31: ADAPTADOR MACHO DE 3" PVCP | C31: INCLUYE SUMINISTRO E INSTALACION DE ADAPTADOR MACHO DE 3" PVCP | D31: UN | E31: 58958 | F31: 58958 | G31: INGENIERIA MONTAJES & CONSTRUCCION S.A.S. | H31: 900327815-15 | I31: 150000 | J31: 150000 | K31: INGENIERIA DE BOMBAS Y PLANTAS SAS | L31: 900152368-1 | M31: 63145 | N31: 63145 | O31: CGI INDUSTRY AND CONSTRUCTION GROUP SAS BIC | P31: 901666309-7 | Q31: 72617 | R31: 72617 | S31: GRUPO BERAKA SAS | T31: 901152951-1 | U31: 77899 | V31: 77899 | W31: SMI ELECTRÓNICA SAS | X31: 830090131-2 | Y31: =+AVERAGE(F31,J31,N31,R31,V31) -> 84523.8 | Z31: =+STDEV(F31,J31,N31,R31,V31) -> 37361.263 | AA31: =Z31/Y31 -> 0.44202062 | AB31: =+Y31+Z31 -> 121885.06 | AC31: =Y31-Z31 -> 47162.537 | AD31: =IF(((IF(AND(F31<=$AB31,F31>=$AC31),F31,""))<=0),"",(IF(AND(F31<=$AB31,F31>=$AC31),F31,""))) -> 58958 | AE31: =IF(((IF(AND(J31<=$AB31,J31>=$AC31),J31,""))<=0),"",(IF(AND(J31<=$AB31,J31>=$AC31),J31,""))) | AF31: =IF(((IF(AND(N31<=$AB31,N31>=$AC31),N31,""))<=0),"",(IF(AND(N31<=$AB31,N31>=$AC31),N31,""))) -> 63145 | AG31: =IF(((IF(AND(R31<=$AB31,R31>=$AC31),R31,""))<=0),"",(IF(AND(R31<=$AB31,R31>=$AC31),R31,""))) -> 72617 | AH31: =IF(((IF(AND(V31<=$AB31,V31>=$AC31),V31,""))<=0),"",(IF(AND(V31<=$AB31,V31>=$AC31),V31,""))) -> 77899 | AI31: =AVERAGE(AD31:AH31) -> 68154.75 | AJ31: =+STDEV(AD31:AH31) -> 8651.3947 | AK31: =+AJ31/AI31 -> 0.12693752
A32: 25 | B32: ADAPTADOR MACHO DE 4" PVCP | C32: INCLUYE SUMINISTRO E INSTALACION DE ADAPTADOR MACHO DE 4" PVCP | D32: UN | E32: 83490 | F32: 83490 | G32: INGENIERIA MONTAJES & CONSTRUCCION S.A.S. | H32: 900327815-15 | I32: 280000 | J32: 280000 | K32: INGENIERIA DE BOMBAS Y PLANTAS SAS | L32: 900152368-1 | M32: 89334 | N32: 89334 | O32: CGI INDUSTRY AND CONSTRUCTION GROUP SAS BIC | P32: 901666309-7 | Q32: 102734 | R32: 102734 | S32: GRUPO BERAKA SAS | T32: 901152951-1 | U32: 110207 | V32: 110207 | W32: SMI ELECTRÓNICA SAS | X32: 830090131-2 | Y32: =+AVERAGE(F32,J32,N32,R32,V32) -> 133153 | Z32: =+STDEV(F32,J32,N32,R32,V32) -> 82768.343 | AA32: =Z32/Y32 -> 0.62160329 | AB32: =+Y32+Z32 -> 215921.34 | AC32: =Y32-Z32 -> 50384.657 | AD32: =IF(((IF(AND(F32<=$AB32,F32>=$AC32),F32,""))<=0),"",(IF(AND(F32<=$AB32,F32>=$AC32),F32,""))) -> 83490 | AE32: =IF(((IF(AND(J32<=$AB32,J32>=$AC32),J32,""))<=0),"",(IF(AND(J32<=$AB32,J32>=$AC32),J32,""))) | AF32: =IF(((IF(AND(N32<=$AB32,N32>=$AC32),N32,""))<=0),"",(IF(AND(N32<=$AB32,N32>=$AC32),N32,""))) -> 89334 | AG32: =IF(((IF(AND(R32<=$AB32,R32>=$AC32),R32,""))<=0),"",(IF(AND(R32<=$AB32,R32>=$AC32),R32,""))) -> 102734 | AH32: =IF(((IF(AND(V32<=$AB32,V32>=$AC32),V32,""))<=0),"",(IF(AND(V32<=$AB32,V32>=$AC32),V32,""))) -> 110207 | AI32: =AVERAGE(AD32:AH32) -> 96441.25 | AJ32: =+STDEV(AD32:AH32) -> 12211.231 | AK32: =+AJ32/AI32 -> 0.12661834
A33: 26 | B33: ADAPTADOR MACHO DE 6" PVCP | C33: INCLUYE SUMINISTRO E INSTALACION DE ADAPTADOR MACHO DE 6" PVCP | D33: UN | E33: 254605 | F33: 254605 | G33: INGENIERIA MONTAJES & CONSTRUCCION S.A.S. | H33: 900327815-15 | I33: 550000 | J33: 550000 | K33: INGENIERIA DE BOMBAS Y PLANTAS SAS | L33: 900152368-1 | M33: 272427 | N33: 272427 | O33: CGI INDUSTRY AND CONSTRUCTION GROUP SAS BIC | P33: 901666309-7 | Q33: 313291 | R33: 313291 | S33: GRUPO BERAKA SAS | T33: 901152951-1 | W33: SMI ELECTRÓNICA SAS | X33: 830090131-2 | Y33: =+AVERAGE(F33,J33,N33,R33,V33) -> 347580.75 | Z33: =+STDEV(F33,J33,N33,R33,V33) -> 137164.03 | AA33: =Z33/Y33 -> 0.39462494 | AB33: =+Y33+Z33 -> 484744.78 | AC33: =Y33-Z33 -> 210416.72 | AD33: =IF(((IF(AND(F33<=$AB33,F33>=$AC33),F33,""))<=0),"",(IF(AND(F33<=$AB33,F33>=$AC33),F33,""))) -> 254605 | AE33: =IF(((IF(AND(J33<=$AB33,J33>=$AC33),J33,""))<=0),"",(IF(AND(J33<=$AB33,J33>=$AC33),J33,""))) | AF33: =IF(((IF(AND(N33<=$AB33,N33>=$AC33),N33,""))<=0),"",(IF(AND(N33<=$AB33,N33>=$AC33),N33,""))) -> 272427 | AG33: =IF(((IF(AND(R33<=$AB33,R33>=$AC33),R33,""))<=0),"",(IF(AND(R33<=$AB33,R33>=$AC33),R33,""))) -> 313291 | AH33: =IF(((IF(AND(V33<=$AB33,V33>=$AC33),V33,""))<=0),"",(IF(AND(V33<=$AB33,V33>=$AC33),V33,""))) | AI33: =AVERAGE(AD33:AH33) -> 280107.67 | AJ33: =+STDEV(AD33:AH33) -> 30087.475 | AK33: =+AJ33/AI33 -> 0.10741396
A34: 27 | B34: ADAPTADOR MACHO DE 3/4" PVCP | C34: INCLUYE SUMINISTRO E INSTALACION DE ADAPTADOR MACHO DE 3/4" PVCP | D34: UN | E34: 5833 | F34: 5833 | G34: INGENIERIA MONTAJES & CONSTRUCCION S.A.S. | H34: 900327815-15 | I34: 5000 | J34: 5000 | K34: INGENIERIA DE BOMBAS Y PLANTAS SAS | L34: 900152368-1 | M34: 6247 | N34: 6247 | O34: CGI INDUSTRY AND CONSTRUCTION GROUP SAS BIC | P34: 901666309-7 | Q34: 7184 | R34: 7184 | S34: GRUPO BERAKA SAS | T34: 901152951-1 | U34: 7707 | V34: 7707 | W34: SMI ELECTRÓNICA SAS | X34: 830090131-2 | Y34: =+AVERAGE(F34,J34,N34,R34,V34) -> 6394.2 | Z34: =+STDEV(F34,J34,N34,R34,V34) -> 1075.5969 | AA34: =Z34/Y34 -> 0.16821446 | AB34: =+Y34+Z34 -> 7469.7969 | AC34: =Y34-Z34 -> 5318.6031 | AD34: =IF(((IF(AND(F34<=$AB34,F34>=$AC34),F34,""))<=0),"",(IF(AND(F34<=$AB34,F34>=$AC34),F34,""))) -> 5833 | AE34: =IF(((IF(AND(J34<=$AB34,J34>=$AC34),J34,""))<=0),"",(IF(AND(J34<=$AB34,J34>=$AC34),J34,""))) | AF34: =IF(((IF(AND(N34<=$AB34,N34>=$AC34),N34,""))<=0),"",(IF(AND(N34<=$AB34,N34>=$AC34),N34,""))) -> 6247 | AG34: =IF(((IF(AND(R34<=$AB34,R34>=$AC34),R34,""))<=0),"",(IF(AND(R34<=$AB34,R34>=$AC34),R34,""))) -> 7184 | AH34: =IF(((IF(AND(V34<=$AB34,V34>=$AC34),V34,""))<=0),"",(IF(AND(V34<=$AB34,V34>=$AC34),V34,""))) | AI34: =AVERAGE(AD34:AH34) -> 6421.3333 | AJ34: =+STDEV(AD34:AH34) -> 692.16641 | AK34: =+AJ34/AI34 -> 0.1077917
A35: 28 | B35: ARENA DE SILICE PARA FILTRO; BULTO 50 KG | C35: INCLUYE SUMINISTRO E INSTALACION DE ARENA DE SILICE PARA FILTRO; BULTO 50 KG | D35: UN | E35: 128331 | F35: 128331 | G35: INGENIERIA MONTAJES & CONSTRUCCION S.A.S. | H35: 900327815-15 | I35: 1500000 | J35: 1500000 | K35: INGENIERIA DE BOMBAS Y PLANTAS SAS | L35: 900152368-1 | M35: 137445 | N35: 137445 | O35: CGI INDUSTRY AND CONSTRUCTION GROUP SAS BIC | P35: 901666309-7 | Q35: 158061 | R35: 158061 | S35: GRUPO BERAKA SAS | T35: 901152951-1 | U35: 169558 | V35: 169558 | W35: SMI ELECTRÓNICA SAS | X35: 830090131-2 | Y35: =+AVERAGE(F35,J35,N35,R35,V35) -> 418679 | Z35: =+STDEV(F35,J35,N35,R35,V35) -> 604696.75 | AA35: =Z35/Y35 -> 1.4442968 | AB35: =+Y35+Z35 -> 1023375.8 | AC35: =Y35-Z35 -> -186017.75 | AD35: =IF(((IF(AND(F35<=$AB35,F35>=$AC35),F35,""))<=0),"",(IF(AND(F35<=$AB35,F35>=$AC35),F35,""))) -> 128331 | AE35: =IF(((IF(AND(J35<=$AB35,J35>=$AC35),J35,""))<=0),"",(IF(AND(J35<=$AB35,J35>=$AC35),J35,""))) | AF35: =IF(((IF(AND(N35<=$AB35,N35>=$AC35),N35,""))<=0),"",(IF(AND(N35<=$AB35,N35>=$AC35),N35,""))) -> 137445 | AG35: =IF(((IF(AND(R35<=$AB35,R35>=$AC35),R35,""))<=0),"",(IF(AND(R35<=$AB35,R35>=$AC35),R35,""))) -> 158061 | AH35: =IF(((IF(AND(V35<=$AB35,V35>=$AC35),V35,""))<=0),"",(IF(AND(V35<=$AB35,V35>=$AC35),V35,""))) -> 169558 | AI35: =AVERAGE(AD35:AH35) -> 148348.75 | AJ35: =+STDEV(AD35:AH35) -> 18830.491 | AK35: =+AJ35/AI35 -> 0.12693394
A36: 29 | B36: ARRANCADOR DIRECTO PARA MOTOBOMBA DE 1 HP | C36: INCLUYE SUMINISTRO E INSTALACION DE ARRANCADOR DIRECTO PARA MOTOBOMBA DE 1 HP | D36: UN | E36: 823848 | F36: 823848 | G36: INGENIERIA MONTAJES & CONSTRUCCION S.A.S. | H36: 900327815-15 | I36: 1300000 | J36: 1300000 | K36: INGENIERIA DE BOMBAS Y PLANTAS SAS | L36: 900152368-1 | M36: 882356 | N36: 882356 | O36: CGI INDUSTRY AND CONSTRUCTION GROUP SAS BIC | P36: 901666309-7 | Q36: 1014710 | R36: 1014710 | S36: GRUPO BERAKA SAS | T36: 901152951-1 | U36: 1088514 | V36: 1088514 | W36: SMI ELECTRÓNICA SAS | X36: 830090131-2 | Y36: =+AVERAGE(F36,J36,N36,R36,V36) -> 1021885.6 | Z36: =+STDEV(F36,J36,N36,R36,V36) -> 187433.89 | AA36: =Z36/Y36 -> 0.18341964 | AB36: =+Y36+Z36 -> 1209319.5 | AC36: =Y36-Z36 -> 834451.71 | AD36: =IF(((IF(AND(F36<=$AB36,F36>=$AC36),F36,""))<=0),"",(IF(AND(F36<=$AB36,F36>=$AC36),F36,""))) | AE36: =IF(((IF(AND(J36<=$AB36,J36>=$AC36),J36,""))<=0),"",(IF(AND(J36<=$AB36,J36>=$AC36),J36,""))) | AF36: =IF(((IF(AND(N36<=$AB36,N36>=$AC36),N36,""))<=0),"",(IF(AND(N36<=$AB36,N36>=$AC36),N36,""))) -> 882356 | AG36: =IF(((IF(AND(R36<=$AB36,R36>=$AC36),R36,""))<=0),"",(IF(AND(R36<=$AB36,R36>=$AC36),R36,""))) -> 1014710 | AH36: =IF(((IF(AND(V36<=$AB36,V36>=$AC36),V36,""))<=0),"",(IF(AND(V36<=$AB36,V36>=$AC36),V36,""))) -> 1088514 | AI36: =AVERAGE(AD36:AH36) -> 995193.33 | AJ36: =+STDEV(AD36:AH36) -> 104455.52 | AK36: =+AJ36/AI36 -> 0.10496003
A37: 30 | B37: BASE. MOTOBOMBA HASTA 15 HP EN ÁNGULO CAL 3,16 CON ANCLAJES DE FIJACIÓN: PINTURA ANTICORROSIVO. | C37: INCLUYE SUMINISTRO E INSTALACION DE BASE. MOTOBOMBA HASTA 15 HP EN ÁNGULO CAL 3,16 CON ANCLAJES DE FIJACIÓN: PINTURA ANTICORROSIVO. | D37: UN | E37: 808442 | F37: 808442 | G37: INGENIERIA MONTAJES & CONSTRUCCION S.A.S. | H37: 900327815-15 | I37: 1800000 | J37: 1800000 | K37: INGENIERIA DE BOMBAS Y PLANTAS SAS | L37: 900152368-1 | M37: 865856 | N37: 865856 | O37: CGI INDUSTRY AND CONSTRUCTION GROUP SAS BIC | P37: 901666309-7 | Q37: 995734 | R37: 995734 | S37: GRUPO BERAKA SAS | T37: 901152951-1 | U37: 1068158 | V37: 1068158 | W37: SMI ELECTRÓNICA SAS | X37: 830090131-2 | Y37: =+AVERAGE(F37,J37,N37,R37,V37) -> 1107638 | Z37: =+STDEV(F37,J37,N37,R37,V37) -> 400444.47 | AA37: =Z37/Y37 -> 0.36153009 | AB37: =+Y37+Z37 -> 1508082.5 | AC37: =Y37-Z37 -> 707193.53 | AD37: =IF(((IF(AND(F37<=$AB37,F37>=$AC37),F37,""))<=0),"",(IF(AND(F37<=$AB37,F37>=$AC37),F37,""))) -> 808442 | AE37: =IF(((IF(AND(J37<=$AB37,J37>=$AC37),J37,""))<=0),"",(IF(AND(J37<=$AB37,J37>=$AC37),J37,""))) | AF37: =IF(((IF(AND(N37<=$AB37,N37>=$AC37),N37,""))<=0),"",(IF(AND(N37<=$AB37,N37>=$AC37),N37,""))) -> 865856 | AG37: =IF(((IF(AND(R37<=$AB37,R37>=$AC37),R37,""))<=0),"",(IF(AND(R37<=$AB37,R37>=$AC37),R37,""))) -> 995734 | AH37: =IF(((IF(AND(V37<=$AB37,V37>=$AC37),V37,""))<=0),"",(IF(AND(V37<=$AB37,V37>=$AC37),V37,""))) -> 1068158 | AI37: =AVERAGE(AD37:AH37) -> 934547.5 | AJ37: =+STDEV(AD37:AH37) -> 118626.41 | AK37: =+AJ37/AI37 -> 0.12693459
A38: 31 | B38: BASE. MOTOBOMBA HASTA 3,6 HP EN ÁNGULO CAL 3,16 CON ANCLAJES DE FIJACIÓN: PINTURA ANTICORROSIVO. | C38: INCLUYE SUMINISTRO E INSTALACION DE BASE. MOTOBOMBA HASTA 3,6 HP EN ÁNGULO CAL 3,16 CON ANCLAJES DE FIJACIÓN: PINTURA ANTICORROSIVO. | D38: UN | E38: 470386 | F38: 470386 | G38: INGENIERIA MONTAJES & CONSTRUCCION S.A.S. | H38: 900327815-15 | I38: 1750000 | J38: 1750000 | K38: INGENIERIA DE BOMBAS Y PLANTAS SAS | L38: 900152368-1 | M38: 503792 | N38: 503792 | O38: CGI INDUSTRY AND CONSTRUCTION GROUP SAS BIC | P38: 901666309-7 | Q38: 579361 | R38: 579361 | S38: GRUPO BERAKA SAS | T38: 901152951-1 | U38: 621500 | V38: 621500 | W38: SMI ELECTRÓNICA SAS | X38: 830090131-2 | Y38: =+AVERAGE(F38,J38,N38,R38,V38) -> 785007.8 | Z38: =+STDEV(F38,J38,N38,R38,V38) -> 542748.69 | AA38: =Z38/Y38 -> 0.69139273 | AB38: =+Y38+Z38 -> 1327756.5 | AC38: =Y38-Z38 -> 242259.11 | AD38: =IF(((IF(AND(F38<=$AB38,F38>=$AC38),F38,""))<=0),"",(IF(AND(F38<=$AB38,F38>=$AC38),F38,""))) -> 470386 | AE38: =IF(((IF(AND(J38<=$AB38,J38>=$AC38),J38,""))<=0),"",(IF(AND(J38<=$AB38,J38>=$AC38),J38,""))) | AF38: =IF(((IF(AND(N38<=$AB38,N38>=$AC38),N38,""))<=0),"",(IF(AND(N38<=$AB38,N38>=$AC38),N38,""))) -> 503792 | AG38: =IF(((IF(AND(R38<=$AB38,R38>=$AC38),R38,""))<=0),"",(IF(AND(R38<=$AB38,R38>=$AC38),R38,""))) -> 579361 | AH38: =IF(((IF(AND(V38<=$AB38,V38>=$AC38),V38,""))<=0),"",(IF(AND(V38<=$AB38,V38>=$AC38),V38,""))) -> 621500 | AI38: =AVERAGE(AD38:AH38) -> 543759.75 | AJ38: =+STDEV(AD38:AH38) -> 69022.034 | AK38: =+AJ38/AI38 -> 0.1269348
A39: 32 | B39: BASE. MOTOBOMBA HASTA 30 HP EN ÁNGULO CAL 3,16 CON ANCLAJES DE FIJACIÓN: PINTURA ANTICORROSIVO. | C39: INCLUYE SUMINISTRO E INSTALACION DE BASE. MOTOBOMBA HASTA 30 HP EN ÁNGULO CAL 3,16 CON ANCLAJES DE FIJACIÓN: PINTURA ANTICORROSIVO. | D39: UN | E39: 1112030 | F39: 1112030 | G39: INGENIERIA MONTAJES & CONSTRUCCION S.A.S. | H39: 900327815-15 | I39: 1900000 | J39: 1900000 | K39: INGENIERIA DE BOMBAS Y PLANTAS SAS | L39: 900152368-1 | M39: 1191004 | N39: 1191004 | O39: CGI INDUSTRY AND CONSTRUCTION GROUP SAS BIC | P39: 901666309-7 | Q39: 1369655 | R39: 1369655 | S39: GRUPO BERAKA SAS | T39: 901152951-1 | U39: 1469276 | V39: 1469276 | W39: SMI ELECTRÓNICA SAS | X39: 830090131-2 | Y39: =+AVERAGE(F39,J39,N39,R39,V39) -> 1408393 | Z39: =+STDEV(F39,J39,N39,R39,V39) -> 309020.15 | AA39: =Z39/Y39 -> 0.2194133 | AB39: =+Y39+Z39 -> 1717413.2 | AC39: =Y39-Z39 -> 1099372.8 | AD39: =IF(((IF(AND(F39<=$AB39,F39>=$AC39),F39,""))<=0),"",(IF(AND(F39<=$AB39,F39>=$AC39),F39,""))) -> 1112030 | AE39: =IF(((IF(AND(J39<=$AB39,J39>=$AC39),J39,""))<=0),"",(IF(AND(J39<=$AB39,J39>=$AC39),J39,""))) | AF39: =IF(((IF(AND(N39<=$AB39,N39>=$AC39),N39,""))<=0),"",(IF(AND(N39<=$AB39,N39>=$AC39),N39,""))) -> 1191004 | AG39: =IF(((IF(AND(R39<=$AB39,R39>=$AC39),R39,""))<=0),"",(IF(AND(R39<=$AB39,R39>=$AC39),R39,""))) -> 1369655 | AH39: =IF(((IF(AND(V39<=$AB39,V39>=$AC39),V39,""))<=0),"",(IF(AND(V39<=$AB39,V39>=$AC39),V39,""))) -> 1469276 | AI39: =AVERAGE(AD39:AH39) -> 1285491.2 | AJ39: =+STDEV(AD39:AH39) -> 163173.75 | AK39: =+AJ39/AI39 -> 0.12693494
A40: 33 | B40: BASE. MOTOBOMBA HASTA 7,5 HP EN ÁNGULO CAL 3,16 CON ANCLAJES DE FIJACIÓN: PINTURA ANTICORROSIVO. | C40: INCLUYE SUMINISTRO E INSTALACION DE BASE. MOTOBOMBA HASTA 7,5 HP EN ÁNGULO CAL 3,16 CON ANCLAJES DE FIJACIÓN: PINTURA ANTICORROSIVO. | D40: UN | E40: 645185 | F40: 645185 | G40: INGENIERIA MONTAJES & CONSTRUCCION S.A.S. | H40: 900327815-15 | I40: 1700000 | J40: 1700000 | K40: INGENIERIA DE BOMBAS Y PLANTAS SAS | L40: 900152368-1 | M40: 691005 | N40: 691005 | O40: CGI INDUSTRY AND CONSTRUCTION GROUP SAS BIC | P40: 901666309-7 | Q40: 794656 | R40: 794656 | S40: GRUPO BERAKA SAS | T40: 901152951-1 | U40: 852455 | V40: 852455 | W40: SMI ELECTRÓNICA SAS | X40: 830090131-2 | Y40: =+AVERAGE(F40,J40,N40,R40,V40) -> 936660.2 | Z40: =+STDEV(F40,J40,N40,R40,V40) -> 434524.92 | AA40: =Z40/Y40 -> 0.46390881 | AB40: =+Y40+Z40 -> 1371185.1 | AC40: =Y40-Z40 -> 502135.28 | AD40: =IF(((IF(AND(F40<=$AB40,F40>=$AC40),F40,""))<=0),"",(IF(AND(F40<=$AB40,F40>=$AC40),F40,""))) -> 645185 | AE40: =IF(((IF(AND(J40<=$AB40,J40>=$AC40),J40,""))<=0),"",(IF(AND(J40<=$AB40,J40>=$AC40),J40,""))) | AF40: =IF(((IF(AND(N40<=$AB40,N40>=$AC40),N40,""))<=0),"",(IF(AND(N40<=$AB40,N40>=$AC40),N40,""))) -> 691005 | AG40: =IF(((IF(AND(R40<=$AB40,R40>=$AC40),R40,""))<=0),"",(IF(AND(R40<=$AB40,R40>=$AC40),R40,""))) -> 794656 | AH40: =IF(((IF(AND(V40<=$AB40,V40>=$AC40),V40,""))<=0),"",(IF(AND(V40<=$AB40,V40>=$AC40),V40,""))) -> 852455 | AI40: =AVERAGE(AD40:AH40) -> 745825.25 | AJ40: =+STDEV(AD40:AH40) -> 94671.477 | AK40: =+AJ40/AI40 -> 0.1269352
A41: 34 | B41: BLOQUE AUXILIAR PARA CONTACTOR | C41: INCLUYE SUMINISTRO E INSTALACION DE BLOQUE AUXILIAR PARA CONTACTOR | D41: UN | E41: 159275 | F41: 159275 | G41: INGENIERIA MONTAJES & CONSTRUCCION S.A.S. | H41: 900327815-15 | I41: 350000 | J41: 350000 | K41: INGENIERIA DE BOMBAS Y PLANTAS SAS | L41: 900152368-1 | M41: 170587 | N41: 170587 | O41: CGI INDUSTRY AND CONSTRUCTION GROUP SAS BIC | P41: 901666309-7 | Q41: 196175 | R41: 196175 | S41: GRUPO BERAKA SAS | T41: 901152951-1 | U41: 210443 | V41: 210443 | W41: SMI ELECTRÓNICA SAS | X41: 830090131-2 | Y41: =+AVERAGE(F41,J41,N41,R41,V41) -> 217296 | Z41: =+STDEV(F41,J41,N41,R41,V41) -> 76895.349 | AA41: =Z41/Y41 -> 0.35387375 | AB41: =+Y41+Z41 -> 294191.35 | AC41: =Y41-Z41 -> 140400.65 | AD41: =IF(((IF(AND(F41<=$AB41,F41>=$AC41),F41,""))<=0),"",(IF(AND(F41<=$AB41,F41>=$AC41),F41,""))) -> 159275 | AE41: =IF(((IF(AND(J41<=$AB41,J41>=$AC41),J41,""))<=0),"",(IF(AND(J41<=$AB41,J41>=$AC41),J41,""))) | AF41: =IF(((IF(AND(N41<=$AB41,N41>=$AC41),N41,""))<=0),"",(IF(AND(N41<=$AB41,N41>=$AC41),N41,""))) -> 170587 | AG41: =IF(((IF(AND(R41<=$AB41,R41>=$AC41),R41,""))<=0),"",(IF(AND(R41<=$AB41,R41>=$AC41),R41,""))) -> 196175 | AH41: =IF(((IF(AND(V41<=$AB41,V41>=$AC41),V41,""))<=0),"",(IF(AND(V41<=$AB41,V41>=$AC41),V41,""))) -> 210443 | AI41: =AVERAGE(AD41:AH41) -> 184120 | AJ41: =+STDEV(AD41:AH41) -> 23371.204 | AK41: =+AJ41/AI41 -> 0.12693463
A42: 35 | B42: BLOQUE AUXILIAR PARA SELECTOR | C42: INCLUYE SUMINISTRO E INSTALACION DE BLOQUE AUXILIAR PARA SELECTOR | D42: UN | E42: 37179 | F42: 37179 | G42: INGENIERIA MONTAJES & CONSTRUCCION S.A.S. | H42: 900327815-15 | I42: 250000 | J42: 250000 | K42: INGENIERIA DE BOMBAS Y PLANTAS SAS | L42: 900152368-1 | M42: 39819 | N42: 39819 | O42: CGI INDUSTRY AND CONSTRUCTION GROUP SAS BIC | P42: 901666309-7 | Q42: 45792 | R42: 45792 | S42: GRUPO BERAKA SAS | T42: 901152951-1 | U42: 49123 | V42: 49123 | W42: SMI ELECTRÓNICA SAS | X42: 830090131-2 | Y42: =+AVERAGE(F42,J42,N42,R42,V42) -> 84382.6 | Z42: =+STDEV(F42,J42,N42,R42,V42) -> 92703.413 | AA42: =Z42/Y42 -> 1.0986082 | AB42: =+Y42+Z42 -> 177086.01 | AC42: =Y42-Z42 -> -8320.8132 | AD42: =IF(((IF(AND(F42<=$AB42,F42>=$AC42),F42,""))<=0),"",(IF(AND(F42<=$AB42,F42>=$AC42),F42,""))) -> 37179 | AE42: =IF(((IF(AND(J42<=$AB42,J42>=$AC42),J42,""))<=0),"",(IF(AND(J42<=$AB42,J42>=$AC42),J42,""))) | AF42: =IF(((IF(AND(N42<=$AB42,N42>=$AC42),N42,""))<=0),"",(IF(AND(N42<=$AB42,N42>=$AC42),N42,""))) -> 39819 | AG42: =IF(((IF(AND(R42<=$AB42,R42>=$AC42),R42,""))<=0),"",(IF(AND(R42<=$AB42,R42>=$AC42),R42,""))) -> 45792 | AH42: =IF(((IF(AND(V42<=$AB42,V42>=$AC42),V42,""))<=0),"",(IF(AND(V42<=$AB42,V42>=$AC42),V42,""))) -> 49123 | AI42: =AVERAGE(AD42:AH42) -> 42978.25 | AJ42: =+STDEV(AD42:AH42) -> 5455.4958 | AK42: =+AJ42/AI42 -> 0.1269362
A43: 36 | B43: BOMBA DE CAUDAL PARA AGUA POTABLE CON MOTOR DE 10 HP 220 V, 3 FASES. | C43: INCLUYE SUMINISTRO E INSTALACION DE BOMBA DE CAUDAL PARA AGUA POTABLE CON MOTOR DE 10 HP 220 V, 3 FASES. | D43: UN | E43: 8042215 | F43: 8042215 | G43: INGENIERIA MONTAJES & CONSTRUCCION S.A.S. | H43: 900327815-15 | I43: 9000000 | J43: 9000000 | K43: INGENIERIA DE BOMBAS Y PLANTAS SAS | L43: 900152368-1 | M43: 8613358 | N43: 8613358 | O43: CGI INDUSTRY AND CONSTRUCTION GROUP SAS BIC | P43: 901666309-7 | Q43: 9905362 | R43: 9905362 | S43: GRUPO BERAKA SAS | T43: 901152951-1 | U43: 10625825 | V43: 10625825 | W43: SMI ELECTRÓNICA SAS | X43: 830090131-2 | Y43: =+AVERAGE(F43,J43,N43,R43,V43) -> 9237352 | Z43: =+STDEV(F43,J43,N43,R43,V43) -> 1030552.2 | AA43: =Z43/Y43 -> 0.1115636 | AB43: =+Y43+Z43 -> 10267904 | AC43: =Y43-Z43 -> 8206799.8 | AD43: =IF(((IF(AND(F43<=$AB43,F43>=$AC43),F43,""))<=0),"",(IF(AND(F43<=$AB43,F43>=$AC43),F43,""))) | AE43: =IF(((IF(AND(J43<=$AB43,J43>=$AC43),J43,""))<=0),"",(IF(AND(J43<=$AB43,J43>=$AC43),J43,""))) -> 9000000 | AF43: =IF(((IF(AND(N43<=$AB43,N43>=$AC43),N43,""))<=0),"",(IF(AND(N43<=$AB43,N43>=$AC43),N43,""))) -> 8613358 | AG43: =IF(((IF(AND(R43<=$AB43,R43>=$AC43),R43,""))<=0),"",(IF(AND(R43<=$AB43,R43>=$AC43),R43,""))) -> 9905362 | AH43: =IF(((IF(AND(V43<=$AB43,V43>=$AC43),V43,""))<=0),"",(IF(AND(V43<=$AB43,V43>=$AC43),V43,""))) | AI43: =AVERAGE(AD43:AH43) -> 9172906.7 | AJ43: =+STDEV(AD43:AH43) -> 663129.79 | AK43: =+AJ43/AI43 -> 0.072292221
...

Sheet MEDIANA
C1: PROCESO PLANEACIÓN ESTRATÉGICA FORMATO VALIDACIÓN PRECIOS UNITARIOS DE REFERENCIA | AE1: Código: FOR-PE-081
AE2: Versión: 0
AE3: Fecha: Memo I2025024171 -21/07/2025
AE4: Pagina: 2 de 3
A6: CRITERIOS | E6: COTIZACIONES | Y6: PROCESO FORMULACIÓN | AD6: RECHAZO POR RANGO | AI6: PRECIO UNITARIOS DE REFERENCIA
A7: # | B7: ELEMENTO | C7: DESCRIPCIÓN DEL ELEMENTO | D7: UNIDAD DE MEDIDA | E7: VALOR ANTES DE IVA | F7: =+E7 -> VALOR ANTES DE IVA | G7: NOMBRE EMPRESA 1 | H7: NIT DE LA EMPRESA | I7: VALOR ANTES DE IVA | J7: =+I7 -> VALOR ANTES DE IVA | K7: NOMBRE EMPRESA 2 | L7: NIT DE LA EMPRESA | M7: VALOR ANTES DE IVA | N7: =+M7 -> VALOR ANTES DE IVA | O7: NOMBRE EMPRESA 3 | P7: NIT DE LA EMPRESA | Q7: VALOR ANTES DE IVA | R7: =+Q7 -> VALOR ANTES DE IVA | S7: NOMBRE EMPRESA 4 | T7: NIT DE LA EMPRESA | U7: VALOR ANTES DE IVA | V7: =+U7 -> VALOR ANTES DE IVA | W7: NOMBRE EMPRESA 5 | X7: NIT DE LA EMPRESA | Y7: MEDIANA | Z7: DESVIACIÓN | AA7: % DISPERSIÓN | AB7: TECHO - TUNEL ALTO | AC7: PISO - TUNEL BAJO | AD7: PRECIO 1 | AE7: PRECIO 2 | AF7: PRECIO 3 | AG7: PRECIO 4 | AH7: PRECIO 5 | AI7: MEDIANA ANTES DE IVA | AJ7: DESVIACIÓN | AK7: % DISPERSIÓN
A8: 1 | B8: ABRAZADERA METÁLICA DE 1" | C8: INCLUYE SUMINISTRO E INSTALACION DE ABRAZADERA METÁLICA DE 1" | D8: UN | E8: 6378 | F8: 6378 | G8: INGENIERIA MONTAJES & CONSTRUCCION S.A.S. | H8: 900327815-15 | I8: 50000 | J8: 50000 | K8: INGENIERIA DE BOMBAS Y PLANTAS SAS | L8: 900152368-1 | M8: 6832 | N8: 6832 | O8: CGI INDUSTRY AND CONSTRUCTION GROUP SAS BIC | P8: 901666309-7 | Q8: 7857 | R8: 7857 | S8: GRUPO BERAKA SAS | T8: 901152951-1 | U8: 8428 | V8: 8428 | W8: SMI ELECTRÓNICA SAS | X8: 830090131-2 | Y8: =MEDIAN(F8,J8,N8,R8,V8) -> 7857 | Z8: =+STDEV(F8,J8,N8,R8,V8) -> 19080.276 | AA8: =Z8/Y8 -> 2.4284429 | AB8: =+Y8+Z8 -> 26937.276 | AC8: =Y8-Z8 -> -11223.276 | AD8: =+IF(((IF(AND(F8<=$AB8,F8>=$AC8),F8,""))<=0),"",(IF(AND(F8<=$AB8,F8>=$AC8),F8,""))) -> 6378 | AE8: =+IF(((IF(AND(J8<=$AB8,J8>=$AC8),J8,""))<=0),"",(IF(AND(J8<=$AB8,J8>=$AC8),J8,""))) | AF8: =+IF(((IF(AND(N8<=$AB8,N8>=$AC8),N8,""))<=0),"",(IF(AND(N8<=$AB8,N8>=$AC8),N8,""))) -> 6832 | AG8: =+IF(((IF(AND(R8<=$AB8,R8>=$AC8),R8,""))<=0),"",(IF(AND(R8<=$AB8,R8>=$AC8),R8,""))) -> 7857 | AH8: =+IF(((IF(AND(V8<=$AB8,V8>=$AC8),V8,""))<=0),"",(IF(AND(V8<=$AB8,V8>=$AC8),V8,""))) -> 8428 | AI8: =+MEDIAN(AD8:AH8) -> 7344.5 | AJ8: =+STDEV(AD8:AH8) -> 936.30208 | AK8: =+AJ8/AI8 -> 0.12748343
A9: 2 | B9: ABRAZADERA METÁLICA DE 1/2" | C9: INCLUYE SUMINISTRO E INSTALACION DE ABRAZADERA METÁLICA DE 1/2" | D9: UN | E9: 3431 | F9: 3431 | G9: INGENIERIA MONTAJES & CONSTRUCCION S.A.S. | H9: 900327815-15 | I9: 40000 | J9: 40000 | K9: INGENIERIA DE BOMBAS Y PLANTAS SAS | L9: 900152368-1 | M9: 3675 | N9: 3675 | O9: CGI INDUSTRY AND CONSTRUCTION GROUP SAS BIC | P9: 901666309-7 | Q9: 4226 | R9: 4226 | S9: GRUPO BERAKA SAS | T9: 901152951-1 | U9: 4533 | V9: 4533 | W9: SMI ELECTRÓNICA SAS | X9: 830090131-2 | Y9: =MEDIAN(F9,J9,N9,R9,V9) -> 4226 | Z9: =+STDEV(F9,J9,N9,R9,V9) -> 16120.677 | AA9: =Z9/Y9 -> 3.814642 | AB9: =+Y9+Z9 -> 20346.677 | AC9: =Y9-Z9 -> -11894.677 | AD9: =+IF(((IF(AND(F9<=$AB9,F9>=$AC9),F9,""))<=0),"",(IF(AND(F9<=$AB9,F9>=$AC9),F9,""))) -> 3431 | AE9: =+IF(((IF(AND(J9<=$AB9,J9>=$AC9),J9,""))<=0),"",(IF(AND(J9<=$AB9,J9>=$AC9),J9,""))) | AF9: =+IF(((IF(AND(N9<=$AB9,N9>=$AC9),N9,""))<=0),"",(IF(AND(N9<=$AB9,N9>=$AC9),N9,""))) -> 3675 | AG9: =+IF(((IF(AND(R9<=$AB9,R9>=$AC9),R9,""))<=0),"",(IF(AND(R9<=$AB9,R9>=$AC9),R9,""))) -> 4226 | AH9: =+IF(((IF(AND(V9<=$AB9,V9>=$AC9),V9,""))<=0),"",(IF(AND(V9<=$AB9,V9>=$AC9),V9,""))) -> 4533 | AI9: =+MEDIAN(AD9:AH9) -> 3950.5 | AJ9: =+STDEV(AD9:AH9) -> 503.32056 | AK9: =+AJ9/AI9 -> 0.1274068
A10: 3 | B10: ABRAZADERA METÁLICA DE 1-1/2" | C10: INCLUYE SUMINISTRO E INSTALACION DE ABRAZADERA METÁLICA DE 1-1/2" | D10: UN | E10: 10291 | F10: 10291 | G10: INGENIERIA MONTAJES & CONSTRUCCION S.A.S. | H10: 900327815-15 | I10: 60000 | J10: 60000 | K10: INGENIERIA DE BOMBAS Y PLANTAS SAS | L10: 900152368-1 | M10: 11022 | N10: 11022 | O10: CGI INDUSTRY AND CONSTRUCTION GROUP SAS BIC | P10: 901666309-7 | Q10: 12675 | R10: 12675 | S10: GRUPO BERAKA SAS | T10: 901152951-1 | U10: 13597 | V10: 13597 | W10: SMI ELECTRÓNICA SAS | X10: 830090131-2 | Y10: =MEDIAN(F10,J10,N10,R10,V10) -> 12675 | Z10: =+STDEV(F10,J10,N10,R10,V10) -> 21552.359 | AA10: =Z10/Y10 -> 1.7003834 | AB10: =+Y10+Z10 -> 34227.359 | AC10: =Y10-Z10 -> -8877.3592 | AD10: =+IF(((IF(AND(F10<=$AB10,F10>=$AC10),F10,""))<=0),"",(IF(AND(F10<=$AB10,F10>=$AC10),F10,""))) -> 10291 | AE10: =+IF(((IF(AND(J10<=$AB10,J10>=$AC10),J10,""))<=0),"",(IF(AND(J10<=$AB10,J10>=$AC10),J10,""))) | AF10: =+IF(((IF(AND(N10<=$AB10,N10>=$AC10),N10,""))<=0),"",(IF(AND(N10<=$AB10,N10>=$AC10),N10,""))) -> 11022 | AG10: =+IF(((IF(AND(R10<=$AB10,R10>=$AC10),R10,""))<=0),"",(IF(AND(R10<=$AB10,R10>=$AC10),R10,""))) -> 12675 | AH10: =+IF(((IF(AND(V10<=$AB10,V10>=$AC10),V10,""))<=0),"",(IF(AND(V10<=$AB10,V10>=$AC10),V10,""))) -> 13597 | AI10: =+MEDIAN(AD10:AH10) -> 11848.5 | AJ10: =+STDEV(AD10:AH10) -> 1509.9826 | AK10: =+AJ10/AI10 -> 0.12744083
A11: 4 | B11: ABRAZADERA METÁLICA DE 1-1/4" | C11: INCLUYE SUMINISTRO E INSTALACION DE ABRAZADERA METÁLICA DE 1-1/4" | D11: UN | E11: 19818 | F11: 19818 | G11: INGENIERIA MONTAJES & CONSTRUCCION S.A.S. | H11: 900327815-15 | I11: 45000 | J11: 45000 | K11: INGENIERIA DE BOMBAS Y PLANTAS SAS | L11: 900152368-1 | M11: 21226 | N11: 21226 | O11: CGI INDUSTRY AND CONSTRUCTION GROUP SAS BIC | P11: 901666309-7 | Q11: 24409 | R11: 24409 | S11: GRUPO BERAKA SAS | T11: 901152951-1 | U11: 26185 | V11: 26185 | W11: SMI ELECTRÓNICA SAS | X11: 830090131-2 | Y11: =MEDIAN(F11,J11,N11,R11,V11) -> 24409 | Z11: =+STDEV(F11,J11,N11,R11,V11) -> 10195.11 | AA11: =Z11/Y11 -> 0.41767833 | AB11: =+Y11+Z11 -> 34604.11 | AC11: =Y11-Z11 -> 14213.89 | AD11: =+IF(((IF(AND(F11<=$AB11,F11>=$AC11),F11,""))<=0),"",(IF(AND(F11<=$AB11,F11>=$AC11),F11,""))) -> 19818 | AE11: =+IF(((IF(AND(J11<=$AB11,J11>=$AC11),J11,""))<=0),"",(IF(AND(J11<=$AB11,J11>=$AC11),J11,""))) | AF11: =+IF(((IF(AND(N11<=$AB11,N11>=$AC11),N11,""))<=0),"",(IF(AND(N11<=$AB11,N11>=$AC11),N11,""))) -> 21226 | AG11: =+IF(((IF(AND(R11<=$AB11,R11>=$AC11),R11,""))<=0),"",(IF(AND(R11<=$AB11,R11>=$AC11),R11,""))) -> 24409 | AH11: =+IF(((IF(AND(V11<=$AB11,V11>=$AC11),V11,""))<=0),"",(IF(AND(V11<=$AB11,V11>=$AC11),V11,""))) -> 26185 | AI11: =+MEDIAN(AD11:AH11) -> 22817.5 | AJ11: =+STDEV(AD11:AH11) -> 2907.9744 | AK11: =+AJ11/AI11 -> 0.12744492
A12: 5 | B12: ABRAZADERA METÁLICA DE 2" | C12: INCLUYE SUMINISTRO E INSTALACION DE ABRAZADERA METÁLICA DE 2" | D12: UN | E12: 9289 | F12: 9289 | G12: INGENIERIA MONTAJES & CONSTRUCCION S.A.S. | H12: 900327815-15 | I12: 80000 | J12: 80000 | K12: INGENIERIA DE BOMBAS Y PLANTAS SAS | L12: 900152368-1 | M12: 9949 | N12: 9949 | O12: CGI INDUSTRY AND CONSTRUCTION GROUP SAS BIC | P12: 901666309-7 | Q12: 11442 | R12: 11442 | S12: GRUPO BERAKA SAS | T12: 901152951-1 | U12: 12274 | V12: 12274 | W12: SMI ELECTRÓNICA SAS | X12: 830090131-2 | Y12: =MEDIAN(F12,J12,N12,R12,V12) -> 11442 | Z12: =+STDEV(F12,J12,N12,R12,V12) -> 30997.183 | AA12: =Z12/Y12 -> 2.7090703 | AB12: =+Y12+Z12 -> 42439.183 | AC12: =Y12-Z12 -> -19555.183 | AD12: =+IF(((IF(AND(F12<=$AB12,F12>=$AC12),F12,""))<=0),"",(IF(AND(F12<=$AB12,F12>=$AC12),F12,""))) -> 9289 | AE12: =+IF(((IF(AND(J12<=$AB12,J12>=$AC12),J12,""))<=0),"",(IF(AND(J12<=$AB12,J12>=$AC12),J12,""))) | AF12: =+IF(((IF(AND(N12<=$AB12,N12>=$AC12),N12,""))<=0),"",(IF(AND(N12<=$AB12,N12>=$AC12),N12,""))) -> 9949 | AG12: =+IF(((IF(AND(R12<=$AB12,R12>=$AC12),R12,""))<=0),"",(IF(AND(R12<=$AB12,R12>=$AC12),R12,""))) -> 11442 | AH12: =+IF(((IF(AND(V12<=$AB12,V12>=$AC12),V12,""))<=0),"",(IF(AND(V12<=$AB12,V12>=$AC12),V12,""))) -> 12274 | AI12: =+MEDIAN(AD12:AH12) -> 10695.5 | AJ12: =+STDEV(AD12:AH12) -> 1363.4555 | AK12: =+AJ12/AI12 -> 0.12747936
A13: 6 | B13: ABRAZADERA METÁLICA DE 3/4" | C13: INCLUYE SUMINISTRO E INSTALACION DE ABRAZADERA METÁLICA DE 3/4" | D13: UN | E13: 6597 | F13: 6597 | G13: INGENIERIA MONTAJES & CONSTRUCCION S.A.S. | H13: 900327815-15 | I13: 30000 | J13: 30000 | K13: INGENIERIA DE BOMBAS Y PLANTAS SAS | L13: 900152368-1 | M13: 7066 | N13: 7066 | O13: CGI INDUSTRY AND CONSTRUCTION GROUP SAS BIC | P13: 901666309-7 | Q13: 8125 | R13: 8125 | S13: GRUPO BERAKA SAS | T13: 901152951-1 | U13: 8716 | V13: 8716 | W13: SMI ELECTRÓNICA SAS | X13: 830090131-2 | Y13: =MEDIAN(F13,J13,N13,R13,V13) -> 8125 | Z13: =+STDEV(F13,J13,N13,R13,V13) -> 10040.994 | AA13: =Z13/Y13 -> 1.2358146 | AB13: =+Y13+Z13 -> 18165.994 | AC13: =Y13-Z13 -> -1915.994 | AD13: =+IF(((IF(AND(F13<=$AB13,F13>=$AC13),F13,""))<=0),"",(IF(AND(F13<=$AB13,F13>=$AC13),F13,""))) -> 6597 | AE13: =+IF(((IF(AND(J13<=$AB13,J13>=$AC13),J13,""))<=0),"",(IF(AND(J13<=$AB13,J13>=$AC13),J13,""))) | AF13: =+IF(((IF(AND(N13<=$AB13,N13>=$AC13),N13,""))<=0),"",(IF(AND(N13<=$AB13,N13>=$AC13),N13,""))) -> 7066 | AG13: =+IF(((IF(AND(R13<=$AB13,R13>=$AC13),R13,""))<=0),"",(IF(AND(R13<=$AB13,R13>=$AC13),R13,""))) -> 8125 | AH13: =+IF(((IF(AND(V13<=$AB13,V13>=$AC13),V13,""))<=0),"",(IF(AND(V13<=$AB13,V13>=$AC13),V13,""))) -> 8716 | AI13: =+MEDIAN(AD13:AH13) -> 7595.5 | AJ13: =+STDEV(AD13:AH13) -> 967.73653 | AK13: =+AJ13/AI13 -> 0.12740919
A14: 7 | B14: ACEITE DIELECTRICO X 1/4 GALON PARA MOTOBOMBA SUMERGIBLES | C14: INCLUYE SUMINISTRO E INSTALACION DE ACEITE DIELECTRICO X 1/4 GALON PARA MOTOBOMBA SUMERGIBLES | D14: UN | E14: 67192 | F14: 67192 | G14: INGENIERIA MONTAJES & CONSTRUCCION S.A.S. | H14: 900327815-15 | I14: 350000 | J14: 350000 | K14: INGENIERIA DE BOMBAS Y PLANTAS SAS | L14: 900152368-1 | M14: 71963 | N14: 71963 | O14: CGI INDUSTRY AND CONSTRUCTION GROUP SAS BIC | P14: 901666309-7 | Q14: 82758 | R14: 82758 | S14: GRUPO BERAKA SAS | T14: 901152951-1 | U14: 88777 | V14: 88777 | W14: SMI ELECTRÓNICA SAS | X14: 830090131-2 | Y14: =MEDIAN(F14,J14,N14,R14,V14) -> 82758 | Z14: =+STDEV(F14,J14,N14,R14,V14) -> 122087.49 | AA14: =Z14/Y14 -> 1.475235 | AB14: =+Y14+Z14 -> 204845.49 | AC14: =Y14-Z14 -> -39329.495 | AD14: =+IF(((IF(AND(F14<=$AB14,F14>=$AC14),F14,""))<=0),"",(IF(AND(F14<=$AB14,F14>=$AC14),F14,""))) -> 67192 | AE14: =+IF(((IF(AND(J14<=$AB14,J14>=$AC14),J14,""))<=0),"",(IF(AND(J14<=$AB14,J14>=$AC14),J14,""))) | AF14: =+IF(((IF(AND(N14<=$AB14,N14>=$AC14),N14,""))<=0),"",(IF(AND(N14<=$AB14,N14>=$AC14),N14,""))) -> 71963 | AG14: =+IF(((IF(AND(R14<=$AB14,R14>=$AC14),R14,""))<=0),"",(IF(AND(R14<=$AB14,R14>=$AC14),R14,""))) -> 82758 | AH14: =+IF(((IF(AND(V14<=$AB14,V14>=$AC14),V14,""))<=0),"",(IF(AND(V14<=$AB14,V14>=$AC14),V14,""))) -> 88777 | AI14: =+MEDIAN(AD14:AH14) -> 77360.5 | AJ14: =+STDEV(AD14:AH14) -> 9859.2005 | AK14: =+AJ14/AI14 -> 0.12744489
