Workbook

Sheet PROMEDIO
C1: PROCESO PLANEACIÓN ESTRATÉGICA FORMATO VALIDACIÓN PRECIOS UNITARIOS DE REFERENCIA | AE1: Código: FOR-PE-081
AE2: Versión: 0
AE3: Fecha: Memo I2025024171 -21/07/2025
AE4: Pagina: 1 de 3
A6: CRITERIOS | E6: COTIZACIONES | Y6: PROCESO FORMULACIÓN | AD6: RECHAZO POR RANGO | AI6: PRECIO UNITARIOS DE REFERENCIA
A7: # | B7: ELEMENTO | C7: DESCRIPCIÓN DEL ELEMENTO | D7: UNIDAD DE MEDIDA | E7: VALOR ANTES DE IVA | F7: =+E7 -> VALOR ANTES DE IVA | G7: NOMBRE EMPRESA 1 | H7: NIT DE LA EMPRESA | I7: VALOR ANTES DE IVA | J7: =+I7 -> VALOR ANTES DE IVA | K7: NOMBRE EMPRESA 2 | L7: NIT DE LA EMPRESA | M7: VALOR ANTES DE IVA | N7: =+M7 -> VALOR ANTES DE IVA | O7: NOMBRE EMPRESA 3 | P7: NIT DE LA EMPRESA | Q7: VALOR ANTES DE IVA | R7: =+Q7 -> VALOR ANTES DE IVA | S7: NOMBRE EMPRESA 4 | T7: NIT DE LA EMPRESA | U7: VALOR ANTES DE IVA | V7: =+U7 -> VALOR ANTES DE IVA | W7: NOMBRE EMPRESA 5 | X7: NIT DE LA EMPRESA | Y7: PROMEDIO | Z7: DESVIACIÓN | AA7: % DISPERSIÓN | AB7: TECHO - TUNEL ALTO | AC7: PISO - TUNEL BAJO | AD7: PRECIO 1 | AE7: PRECIO 2 | AF7: PRECIO 3 | AG7: PRECIO 4 | AH7: PRECIO 5 | AI7: PROMEDIO ANTES DE IVA | AJ7: DESVIACIÓN | AK7: % DISPERSIÓN
A8: 1 | B8: ABRAZADERA METÁLICA DE 1" | C8: INCLUYE SUMINISTRO E INSTALACION DE ABRAZADERA METÁLICA DE 1" | D8: UN | E8: 6378 | F8: 6378 | G8: INGENIERIA MONTAJES & CONSTRUCCION S.A.S. | H8: 900327815-15 | I8: 50000 | J8: 50000 | K8: INGENIERIA DE BOMBAS Y PLANTAS SAS | L8: 900152368-1 | M8: 6832 | N8: 6832 | O8: CGI INDUSTRY AND CONSTRUCTION GROUP SAS BIC | P8: 901666309-7 | Q8: 7857 | R8: 7857 | S8: GRUPO BERAKA SAS | T8: 901152951-1 | U8: 8428 | V8: 8428 | W8: SMI ELECTRÓNICA SAS | X8: 830090131-2 | Y8: =+AVERAGE(F8,J8,N8,R8,V8) -> 15899 | Z8: =+STDEV(F8,J8,N8,R8,V8) -> 19080.276 | AA8: =Z8/Y8 -> 1.2000928 | AB8: =+Y8+Z8 -> 34979.276 | AC8: =Y8-Z8 -> -3181.276 | AD8: =IF(((IF(AND(F8<=$AB8,F8>=$AC8),F8,""))<=0),"",(IF(AND(F8<=$AB8,F8>=$AC8),F8,""))) -> 6378 | AE8: =IF(((IF(AND(J8<=$AB8,J8>=$AC8),J8,""))<=0),"",(IF(AND(J8<=$AB8,J8>=$AC8),J8,""))) | AF8: =IF(((IF(AND(N8<=$AB8,N8>=$AC8),N8,""))<=0),"",(IF(AND(N8<=$AB8,N8>=$AC8),N8,""))) -> 6832 | AG8: =IF(((IF(AND(R8<=$AB8,R8>=$AC8),R8,""))<=0),"",(IF(AND(R8<=$AB8,R8>=$AC8),R8,""))) -> 7857 | AH8: =IF(((IF(AND(V8<=$AB8,V8>=$AC8),V8,""))<=0),"",(IF(AND(V8<=$AB8,V8>=$AC8),V8,""))) -> 8428 | AI8: =AVERAGE(AD8:AH8) -> 7373.75 | AJ8: =+STDEV(AD8:AH8) -> 936.30208 | AK8: =+AJ8/AI8 -> 0.12697774
A9: 2 | B9: ABRAZADERA METÁLICA DE 1/2" | C9: INCLUYE SUMINISTRO E INSTALACION DE ABRAZADERA METÁLICA DE 1/2" | D9: UN | E9: 3431 | F9: 3431 | G9: INGENIERIA MONTAJES & CONSTRUCCION S.A.S. | H9: 900327815-15 | I9: 40000 | J9: 40000 | K9: INGENIERIA DE BOMBAS Y PLANTAS SAS | L9: 900152368-1 | M9: 3675 | N9: 3675 | O9: CGI INDUSTRY AND CONSTRUCTION GROUP SAS BIC | P9: 901666309-7 | Q9: 4226 | R9: 4226 | S9: GRUPO BERAKA SAS | T9: 901152951-1 | U9: 4533 | V9: 4533 | W9: SMI ELECTRÓNICA SAS | X9: 830090131-2 | Y9: =+AVERAGE(F9,J9,N9,R9,V9) -> 11173 | Z9: =+STDEV(F9,J9,N9,R9,V9) -> 16120.677 | AA9: =Z9/Y9 -> 1.4428244 | AB9: =+Y9+Z9 -> 27293.677 | AC9: =Y9-Z9 -> -4947.677 | AD9: =IF(((IF(AND(F9<=$AB9,F9>=$AC9),F9,""))<=0),"",(IF(AND(F9<=$AB9,F9>=$AC9),F9,""))) -> 3431 | AE9: =IF(((IF(AND(J9<=$AB9,J9>=$AC9),J9,""))<=0),"",(IF(AND(J9<=$AB9,J9>=$AC9),J9,""))) | AF9: =IF(((IF(AND(N9<=$AB9,N9>=$AC9),N9,""))<=0),"",(IF(AND(N9<=$AB9,N9>=$AC9),N9,""))) -> 3675 | AG9: =IF(((IF(AND(R9<=$AB9,R9>=$AC9),R9,""))<=0),"",(IF(AND(R9<=$AB9,R9>=$AC9),R9,""))) -> 4226 | AH9: =IF(((IF(AND(V9<=$AB9,V9>=$AC9),V9,""))<=0),"",(IF(AND(V9<=$AB9,V9>=$AC9),V9,""))) -> 4533 | AI9: =AVERAGE(AD9:AH9) -> 3966.25 | AJ9: =+STDEV(AD9:AH9) -> 503.32056 | AK9: =+AJ9/AI9 -> 0.12690087
A10: 3 | B10: ABRAZADERA METÁLICA DE 1-1/2" | C10: INCLUYE SUMINISTRO E INSTALACION DE ABRAZADERA METÁLICA DE 1-1/2" | D10: UN | E10: 10291 | F10: 10291 | G10: INGENIERIA MONTAJES & CONSTRUCCION S.A.S. | H10: 900327815-15 | I10: 60000 | J10: 60000 | K10: INGENIERIA DE BOMBAS Y PLANTAS SAS | L10: 900152368-1 | M10: 11022 | N10: 11022 | O10: CGI INDUSTRY AND CONSTRUCTION GROUP SAS BIC | P10: 901666309-7 | Q10: 12675 | R10: 12675 | S10: GRUPO BERAKA SAS | T10: 901152951-1 | U10: 13597 | V10: 13597 | W10: SMI ELECTRÓNICA SAS | X10: 830090131-2 | Y10: =+AVERAGE(F10,J10,N10,R10,V10) -> 21517 | Z10: =+STDEV(F10,J10,N10,R10,V10) -> 21552.359 | AA10: =Z10/Y10 -> 1.0016433 | AB10: =+Y10+Z10 -> 43069.359 | AC10: =Y10-Z10 -> -35.359233 | AD10: =IF(((IF(AND(F10<=$AB10,F10>=$AC10),F10,""))<=0),"",(IF(AND(F10<=$AB10,F10>=$AC10),F10,""))) -> 10291 | AE10: =IF(((IF(AND(J10<=$AB10,J10>=$AC10),J10,""))<=0),"",(IF(AND(J10<=$AB10,J10>=$AC10),J10,""))) | AF10: =IF(((IF(AND(N10<=$AB10,N10>=$AC10),N10,""))<=0),"",(IF(AND(N10<=$AB10,N10>=$AC10),N10,""))) -> 11022 | AG10: =IF(((IF(AND(R10<=$AB10,R10>=$AC10),R10,""))<=0),"",(IF(AND(R10<=$AB10,R10>=$AC10),R10,""))) -> 12675 | AH10: =IF(((IF(AND(V10<=$AB10,V10>=$AC10),V10,""))<=0),"",(IF(AND(V10<=$AB10,V10>=$AC10),V10,""))) -> 13597 | AI10: =AVERAGE(AD10:AH10) -> 11896.25 | AJ10: =+STDEV(AD10:AH10) -> 1509.9826 | AK10: =+AJ10/AI10 -> 0.1269293
A11: 4 | B11: ABRAZADERA METÁLICA DE 1-1/4" | C11: INCLUYE SUMINISTRO E INSTALACION DE ABRAZADERA METÁLICA DE 1-1/4" | D11: UN | E11: 19818 | F11: 19818 | G11: INGENIERIA MONTAJES & CONSTRUCCION S.A.S. | H11: 900327815-15 | I11: 45000 | J11: 45000 | K11: INGENIERIA DE BOMBAS Y PLANTAS SAS | L11: 900152368-1 | M11: 21226 | N11: 21226 | O11: CGI INDUSTRY AND CONSTRUCTION GROUP SAS BIC | P11: 901666309-7 | Q11: 24409 | R11: 24409 | S11: GRUPO BERAKA SAS | T11: 901152951-1 | U11: 26185 | V11: 26185 | W11: SMI ELECTRÓNICA SAS | X11: 830090131-2 | Y11: =+AVERAGE(F11,J11,N11,R11,V11) -> 27327.6 | Z11: =+STDEV(F11,J11,N11,R11,V11) -> 10195.11 | AA11: =Z11/Y11 -> 0.37307009 | AB11: =+Y11+Z11 -> 37522.71 | AC11: =Y11-Z11 -> 17132.49 | AD11: =IF(((IF(AND(F11<=$AB11,F11>=$AC11),F11,""))<=0),"",(IF(AND(F11<=$AB11,F11>=$AC11),F11,""))) -> 19818 | AE11: =IF(((IF(AND(J11<=$AB11,J11>=$AC11),J11,""))<=0),"",(IF(AND(J11<=$AB11,J11>=$AC11),J11,""))) | AF11: =IF(((IF(AND(N11<=$AB11,N11>=$AC11),N11,""))<=0),"",(IF(AND(N11<=$AB11,N11>=$AC11),N11,""))) -> 21226 | AG11: =IF(((IF(AND(R11<=$AB11,R11>=$AC11),R11,""))<=0),"",(IF(AND(R11<=$AB11,R11>=$AC11),R11,""))) -> 24409 | AH11: =IF(((IF(AND(V11<=$AB11,V11>=$AC11),V11,""))<=0),"",(IF(AND(V11<=$AB11,V11>=$AC11),V11,""))) -> 26185 | AI11: =AVERAGE(AD11:AH11) -> 22909.5 | AJ11: =+STDEV(AD11:AH11) -> 2907.9744 | AK11: =+AJ11/AI11 -> 0.12693312
A12: 5 | B12: ABRAZADERA METÁLICA DE 2" | C12: INCLUYE SUMINISTRO E INSTALACION DE ABRAZADERA METÁLICA DE 2" | D12: UN | E12: 9289 | F12: 9289 | G12: INGENIERIA MONTAJES & CONSTRUCCION S.A.S. | H12: 900327815-15 | I12: 80000 | J12: 80000 | K12: INGENIERIA DE BOMBAS Y PLANTAS SAS | L12: 900152368-1 | M12: 9949 | N12: 9949 | O12: CGI INDUSTRY AND CONSTRUCTION GROUP SAS BIC | P12: 901666309-7 | Q12: 11442 | R12: 11442 | S12: GRUPO BERAKA SAS | T12: 901152951-1 | U12: 12274 | V12: 12274 | W12: SMI ELECTRÓNICA SAS | X12: 830090131-2 | Y12: =+AVERAGE(F12,J12,N12,R12,V12) -> 24590.8 | Z12: =+STDEV(F12,J12,N12,R12,V12) -> 30997.183 | AA12: =Z12/Y12 -> 1.2605195 | AB12: =+Y12+Z12 -> 55587.983 | AC12: =Y12-Z12 -> -6406.3827 | AD12: =IF(((IF(AND(F12<=$AB12,F12>=$AC12),F12,""))<=0),"",(IF(AND(F12<=$AB12,F12>=$AC12),F12,""))) -> 9289 | AE12: =IF(((IF(AND(J12<=$AB12,J12>=$AC12),J12,""))<=0),"",(IF(AND(J12<=$AB12,J12>=$AC12),J12,""))) | AF12: =IF(((IF(AND(N12<=$AB12,N12>=$AC12),N12,""))<=0),"",(IF(AND(N12<=$AB12,N12>=$AC12),N12,""))) -> 9949 | AG12: =IF(((IF(AND(R12<=$AB12,R12>=$AC12),R12,""))<=0),"",(IF(AND(R12<=$AB12,R12>=$AC12),R12,""))) -> 11442 | AH12: =IF(((IF(AND(V12<=$AB12,V12>=$AC12),V12,""))<=0),"",(IF(AND(V12<=$AB12,V12>=$AC12),V12,""))) -> 12274 | AI12: =AVERAGE(AD12:AH12) -> 10738.5 | AJ12: =+STDEV(AD12:AH12) -> 1363.4555 | AK12: =+AJ12/AI12 -> 0.1269689
A13: 6 | B13: ABRAZADERA METÁLICA DE 3/4" | C13: INCLUYE SUMINISTRO E INSTALACION DE ABRAZADERA METÁLICA DE 3/4" | D13: UN | E13: 6597 | F13: 6597 | G13: INGENIERIA MONTAJES & CONSTRUCCION S.A.S. | H13: 900327815-15 | I13: 30000 | J13: 30000 | K13: INGENIERIA DE BOMBAS Y PLANTAS SAS | L13: 900152368-1 | M13: 7066 | N13: 7066 | O13: CGI INDUSTRY AND CONSTRUCTION GROUP SAS BIC | P13: 901666309-7 | Q13: 8125 | R13: 8125 | S13: GRUPO BERAKA SAS | T13: 901152951-1 | U13: 8716 | V13: 8716 | W13: SMI ELECTRÓNICA SAS | X13: 830090131-2 | Y13: =+AVERAGE(F13,J13,N13,R13,V13) -> 12100.8 | Z13: =+STDEV(F13,J13,N13,R13,V13) -> 10040.994 | AA13: =Z13/Y13 -> 0.82977935 | AB13: =+Y13+Z13 -> 22141.794 | AC13: =Y13-Z13 -> 2059.806 | AD13: =IF(((IF(AND(F13<=$AB13,F13>=$AC13),F13,""))<=0),"",(IF(AND(F13<=$AB13,F13>=$AC13),F13,""))) -> 6597 | AE13: =IF(((IF(AND(J13<=$AB13,J13>=$AC13),J13,""))<=0),"",(IF(AND(J13<=$AB13,J13>=$AC13),J13,""))) | AF13: =IF(((IF(AND(N13<=$AB13,N13>=$AC13),N13,""))<=0),"",(IF(AND(N13<=$AB13,N13>=$AC13),N13,""))) -> 7066 | AG13: =IF(((IF(AND(R13<=$AB13,R13>=$AC13),R13,""))<=0),"",(IF(AND(R13<=$AB13,R13>=$AC13),R13,""))) -> 8125 | AH13: =IF(((IF(AND(V13<=$AB13,V13>=$AC13),V13,""))<=0),"",(IF(AND(V13<=$AB13,V13>=$AC13),V13,""))) -> 8716 | AI13: =AVERAGE(AD13:AH13) -> 7626 | AJ13: =+STDEV(AD13:AH13) -> 967.73653 | AK13: =+AJ13/AI13 -> 0.12689962
A14: 7 | B14: ACEITE DIELECTRICO X 1/4 GALON PARA MOTOBOMBA SUMERGIBLES | C14: INCLUYE SUMINISTRO E INSTALACION DE ACEITE DIELECTRICO X 1/4 GALON PARA MOTOBOMBA SUMERGIBLES | D14: UN | E14: 67192 | F14: 67192 | G14: INGENIERIA MONTAJES & CONSTRUCCION S.A.S. | H14: 900327815-15 | I14: 350000 | J14: 350000 | K14: INGENIERIA DE BOMBAS Y PLANTAS SAS | L14: 900152368-1 | M14: 71963 | N14: 71963 | O14: CGI INDUSTRY AND CONSTRUCTION GROUP SAS BIC | P14: 901666309-7 | Q14: 82758 | R14: 82758 | S14: GRUPO BERAKA SAS | T14: 901152951-1 | U14: 88777 | V14: 88777 | W14: SMI ELECTRÓNICA SAS | X14: 830090131-2 | Y14: =+AVERAGE(F14,J14,N14,R14,V14) -> 132138 | Z14: =+STDEV(F14,J14,N14,R14,V14) -> 122087.49 | AA14: =Z14/Y14 -> 0.92393933 | AB14: =+Y14+Z14 -> 254225.49 | AC14: =Y14-Z14 -> 10050.505 | AD14: =IF(((IF(AND(F14<=$AB14,F14>=$AC14),F14,""))<=0),"",(IF(AND(F14<=$AB14,F14>=$AC14),F14,""))) -> 67192 | AE14: =IF(((IF(AND(J14<=$AB14,J14>=$AC14),J14,""))<=0),"",(IF(AND(J14<=$AB14,J14>=$AC14),J14,""))) | AF14: =IF(((IF(AND(N14<=$AB14,N14>=$AC14),N14,""))<=0),"",(IF(AND(N14<=$AB14,N14>=$AC14),N14,""))) -> 71963 | AG14: =IF(((IF(AND(R14<=$AB14,R14>=$AC14),R14,""))<=0),"",(IF(AND(R14<=$AB14,R14>=$AC14),R14,""))) -> 82758 | AH14: =IF(((IF(AND(V14<=$AB14,V14>=$AC14),V14,""))<=0),"",(IF(AND(V14<=$AB14,V14>=$AC14),V14,""))) -> 88777 | AI14: =AVERAGE(AD14:AH14) -> 77672.5 | AJ14: =+STDEV(AD14:AH14) -> 9859.2005 | AK14: =+AJ14/AI14 -> 0.12693296
A15: 8 | B15: ACOPLE FLEXIBLE RANURADO 4 | C15: INCLUYE SUMINISTRO E INSTALACION DE ACOPLE FLEXIBLE RANURADO 4 | D15: UN | E15: 28918 | F15: 28918 | G15: INGENIERIA MONTAJES & CONSTRUCCION S.A.S. | H15: 900327815-15 | I15: 350000 | J15: 350000 | K15: INGENIERIA DE BOMBAS Y PLANTAS SAS | L15: 900152368-1 | M15: 30972 | N15: 30972 | O15: CGI INDUSTRY AND CONSTRUCTION GROUP SAS BIC | P15: 901666309-7 | Q15: 35617 | R15: 35617 | S15: GRUPO BERAKA SAS | T15: 901152951-1 | U15: 38208 | V15: 38208 | W15: SMI ELECTRÓNICA SAS | X15: 830090131-2 | Y15: =+AVERAGE(F15,J15,N15,R15,V15) -> 96743 | Z15: =+STDEV(F15,J15,N15,R15,V15) -> 141622.65 | AA15: =Z15/Y15 -> 1.4639059 | AB15: =+Y15+Z15 -> 238365.65 | AC15: =Y15-Z15 -> -44879.648 | AD15: =IF(((IF(AND(F15<=$AB15,F15>=$AC15),F15,""))<=0),"",(IF(AND(F15<=$AB15,F15>=$AC15),F15,""))) -> 28918 | AE15: =IF(((IF(AND(J15<=$AB15,J15>=$AC15),J15,""))<=0),"",(IF(AND(J15<=$AB15,J15>=$AC15),J15,""))) | AF15: =IF(((IF(AND(N15<=$AB15,N15>=$AC15),N15,""))<=0),"",(IF(AND(N15<=$AB15,N15>=$AC15),N15,""))) -> 30972 | AG15: =IF(((IF(AND(R15<=$AB15,R15>=$AC15),R15,""))<=0),"",(IF(AND(R15<=$AB15,R15>=$AC15),R15,""))) -> 35617 | AH15: =IF(((IF(AND(V15<=$AB15,V15>=$AC15),V15,""))<=0),"",(IF(AND(V15<=$AB15,V15>=$AC15),V15,""))) -> 38208 | AI15: =AVERAGE(AD15:AH15) -> 33428.75 | AJ15: =+STDEV(AD15:AH15) -> 4243.1181 | AK15: =+AJ15/AI15 -> 0.12693021
A16: 9 | B16: ADAPTADOR HEMBRA DE 1 " PVCP | C16: INCLUYE SUMINISTRO E INSTALACION DE ADAPTADOR HEMBRA DE 1 " PVCP | D16: UN | E16: 6361 | F16: 6361 | G16: INGENIERIA MONTAJES & CONSTRUCCION S.A.S. | H16: 900327815-15 | I16: 10000 | J16: 10000 | K16: INGENIERIA DE BOMBAS Y PLANTAS SAS | L16: 900152368-1 | M16: 6813 | N16: 6813 | O16: CGI INDUSTRY AND CONSTRUCTION GROUP SAS BIC | P16: 901666309-7 | Q16: 7835 | R16: 7835 | S16: GRUPO BERAKA SAS | T16: 901152951-1 | U16: 8405 | V16: 8405 | W16: SMI ELECTRÓNICA SAS | X16: 830090131-2 | Y16: =+AVERAGE(F16,J16,N16,R16,V16) -> 7882.8 | Z16: =+STDEV(F16,J16,N16,R16,V16) -> 1433.3406 | AA16: =Z16/Y16 -> 0.1818314 | AB16: =+Y16+Z16 -> 9316.1406 | AC16: =Y16-Z16 -> 6449.4594 | AD16: =IF(((IF(AND(F16<=$AB16,F16>=$AC16),F16,""))<=0),"",(IF(AND(F16<=$AB16,F16>=$AC16),F16,""))) | AE16: =IF(((IF(AND(J16<=$AB16,J16>=$AC16),J16,""))<=0),"",(IF(AND(J16<=$AB16,J16>=$AC16),J16,""))) | AF16: =IF(((IF(AND(N16<=$AB16,N16>=$AC16),N16,""))<=0),"",(IF(AND(N16<=$AB16,N16>=$AC16),N16,""))) -> 6813 | AG16: =IF(((IF(AND(R16<=$AB16,R16>=$AC16),R16,""))<=0),"",(IF(AND(R16<=$AB16,R16>=$AC16),R16,""))) -> 7835 | AH16: =IF(((IF(AND(V16<=$AB16,V16>=$AC16),V16,""))<=0),"",(IF(AND(V16<=$AB16,V16>=$AC16),V16,""))) -> 8405 | AI16: =AVERAGE(AD16:AH16) -> 7684.3333 | AJ16: =+STDEV(AD16:AH16) -> 806.62341 | AK16: =+AJ16/AI16 -> 0.10496986
A17: 10 | B17: ADAPTADOR HEMBRA DE 1/2" PVCP | C17: INCLUYE SUMINISTRO E INSTALACION DE ADAPTADOR HEMBRA DE 1/2" PVCP | D17: UN | E17: 8034 | F17: 8034 | G17: INGENIERIA MONTAJES & CONSTRUCCION S.A.S. | H17: 900327815-15 | I17: 8000 | J17: 8000 | K17: INGENIERIA DE BOMBAS Y PLANTAS SAS | L17: 900152368-1 | M17: 8604 | N17: 8604 | O17: CGI INDUSTRY AND CONSTRUCTION GROUP SAS BIC | P17: 901666309-7 | Q17: 9895 | R17: 9895 | S17: GRUPO BERAKA SAS | T17: 901152951-1 | U17: 10614 | V17: 10614 | W17: SMI ELECTRÓNICA SAS | X17: 830090131-2 | Y17: =+AVERAGE(F17,J17,N17,R17,V17) -> 9029.4 | Z17: =+STDEV(F17,J17,N17,R17,V17) -> 1171.7158 | AA17: =Z17/Y17 -> 0.12976673 | AB17: =+Y17+Z17 -> 10201.116 | AC17: =Y17-Z17 -> 7857.6842 | AD17: =IF(((IF(AND(F17<=$AB17,F17>=$AC17),F17,""))<=0),"",(IF(AND(F17<=$AB17,F17>=$AC17),F17,""))) -> 8034 | AE17: =IF(((IF(AND(J17<=$AB17,J17>=$AC17),J17,""))<=0),"",(IF(AND(J17<=$AB17,J17>=$AC17),J17,""))) -> 8000 | AF17: =IF(((IF(AND(N17<=$AB17,N17>=$AC17),N17,""))<=0),"",(IF(AND(N17<=$AB17,N17>=$AC17),N17,""))) -> 8604 | AG17: =IF(((IF(AND(R17<=$AB17,R17>=$AC17),R17,""))<=0),"",(IF(AND(R17<=$AB17,R17>=$AC17),R17,""))) -> 9895 | AH17: =IF(((IF(AND(V17<=$AB17,V17>=$AC17),V17,""))<=0),"",(IF(AND(V17<=$AB17,V17>=$AC17),V17,""))) | AI17: =AVERAGE(AD17:AH17) -> 8633.25 | AJ17: =+STDEV(AD17:AH17) -> 885.6212 | AK17: =+AJ17/AI17 -> 0.1025826
A18: 11 | B18: ADAPTADOR HEMBRA DE 1-1/2" PVCP | C18: INCLUYE SUMINISTRO E INSTALACION DE ADAPTADOR HEMBRA DE 1-1/2" PVCP | D18: UN | E18: 20009 | F18: 20009 | G18: INGENIERIA MONTAJES & CONSTRUCCION S.A.S. | H18: 900327815-15 | I18: 12000 | J18: 12000 | K18: INGENIERIA DE BOMBAS Y PLANTAS SAS | L18: 900152368-1 | M18: 21430 | N18: 21430 | O18: CGI INDUSTRY AND CONSTRUCTION GROUP SAS BIC | P18: 901666309-7 | Q18: 24644 | R18: 24644 | S18: GRUPO BERAKA SAS | T18: 901152951-1 | U18: 26437 | V18: 26437 | W18: SMI ELECTRÓNICA SAS | X18: 830090131-2 | Y18: =+AVERAGE(F18,J18,N18,R18,V18) -> 20904 | Z18: =+STDEV(F18,J18,N18,R18,V18) -> 5589.289 | AA18: =Z18/Y18 -> 0.26737892 | AB18: =+Y18+Z18 -> 26493.289 | AC18: =Y18-Z18 -> 15314.711 | AD18: =IF(((IF(AND(F18<=$AB18,F18>=$AC18),F18,""))<=0),"",(IF(AND(F18<=$AB18,F18>=$AC18),F18,""))) -> 20009 | AE18: =IF(((IF(AND(J18<=$AB18,J18>=$AC18),J18,""))<=0),"",(IF(AND(J18<=$AB18,J18>=$AC18),J18,""))) | AF18: =IF(((IF(AND(N18<=$AB18,N18>=$AC18),N18,""))<=0),"",(IF(AND(N18<=$AB18,N18>=$AC18),N18,""))) -> 21430 | AG18: =IF(((IF(AND(R18<=$AB18,R18>=$AC18),R18,""))<=0),"",(IF(AND(R18<=$AB18,R18>=$AC18),R18,""))) -> 24644 | AH18: =IF(((IF(AND(V18<=$AB18,V18>=$AC18),V18,""))<=0),"",(IF(AND(V18<=$AB18,V18>=$AC18),V18,""))) -> 26437 | AI18: =AVERAGE(AD18:AH18) -> 23130 | AJ18: =+STDEV(AD18:AH18) -> 2935.9318 | AK18: =+AJ18/AI18 -> 0.12693177
A19: 12 | B19: ADAPTADOR HEMBRA DE 1-1/4" PVCP | C19: INCLUYE SUMINISTRO E INSTALACION DE ADAPTADOR HEMBRA DE 1-1/4" PVCP | D19: UN | E19: 14802 | F19: 14802 | G19: INGENIERIA MONTAJES & CONSTRUCCION S.A.S. | H19: 900327815-15 | I19: 11000 | J19: 11000 | K19: INGENIERIA DE BOMBAS Y PLANTAS SAS | L19: 900152368-1 | M19: 15854 | N19: 15854 | O19: CGI INDUSTRY AND CONSTRUCTION GROUP SAS BIC | P19: 901666309-7 | Q19: 18232 | R19: 18232 | S19: GRUPO BERAKA SAS | T19: 901152951-1 | U19: 19558 | V19: 19558 | W19: SMI ELECTRÓNICA SAS | X19: 830090131-2 | Y19: =+AVERAGE(F19,J19,N19,R19,V19) -> 15889.2 | Z19: =+STDEV(F19,J19,N19,R19,V19) -> 3317.9936 | AA19: =Z19/Y19 -> 0.20882068 | AB19: =+Y19+Z19 -> 19207.194 | AC19: =Y19-Z19 -> 12571.206 | AD19: =IF(((IF(AND(F19<=$AB19,F19>=$AC19),F19,""))<=0),"",(IF(AND(F19<=$AB19,F19>=$AC19),F19,""))) -> 14802 | AE19: =IF(((IF(AND(J19<=$AB19,J19>=$AC19),J19,""))<=0),"",(IF(AND(J19<=$AB19,J19>=$AC19),J19,""))) | AF19: =IF(((IF(AND(N19<=$AB19,N19>=$AC19),N19,""))<=0),"",(IF(AND(N19<=$AB19,N19>=$AC19),N19,""))) -> 15854 | AG19: =IF(((IF(AND(R19<=$AB19,R19>=$AC19),R19,""))<=0),"",(IF(AND(R19<=$AB19,R19>=$AC19),R19,""))) -> 18232 | AH19: =IF(((IF(AND(V19<=$AB19,V19>=$AC19),V19,""))<=0),"",(IF(AND(V19<=$AB19,V19>=$AC19),V19,""))) | AI19: =AVERAGE(AD19:AH19) -> 16296 | AJ19: =+STDEV(AD19:AH19) -> 1757.1989 | AK19: =+AJ19/AI19 -> 0.10783008
... A22: 15 | B22: ADAPTADOR HEMBRA DE 3" PVCP | C22: INCLUYE SUMINISTRO E INSTALACION DE ADAPTADOR HEMBRA DE 3" PVCP | D22: UN | E22: 34451 | F22: 34451 | G22: INGENIERIA MONTAJES & CONSTRUCCION S.A.S. | H22: 900327815-15 | I22: 70000 | J22: 70000 | K22: INGENIERIA DE BOMBAS Y PLANTAS SAS | L22: 900152368-1 | M22: 36897 | N22: 36897 | O22: CGI INDUSTRY AND CONSTRUCTION GROUP SAS BIC | P22: 901666309-7 | Q22: 42432 | R22: 42432 | S22: GRUPO BERAKA SAS | T22: 901152951-1 | U22: 45518 | V22: 45518 | W22: SMI ELECTRÓNICA SAS | X22: 830090131-2 | Y22: =+AVERAGE(F22,J22,N22,R22,V22) -> 45859.6 | Z22: =+STDEV(F22,J22,N22,R22,V22) -> 14187.216 | AA22: =Z22/Y22 -> 0.30936197 | AB22: =+Y22+Z22 -> 60046.816 | AC22: =Y22-Z22 -> 31672.384 | AD22: =IF(((IF(AND(F22<=$AB22,F22>=$AC22),F22,""))<=0),"",(IF(AND(F22<=$AB22,F22>=$AC22),F22,""))) -> 34451 | AE22: =IF(((IF(AND(J22<=$AB22,J22>=$AC22),J22,""))<=0),"",(IF(AND(J22<=$AB22,J22>=$AC22),J22,""))) | AF22: =IF(((IF(AND(N22<=$AB22,N22>=$AC22),N22,""))<=0),"",(IF(AND(N22<=$AB22,N22>=$AC22),N22,""))) -> 36897 | AG22: =IF(((IF(AND(R22<=$AB22,R22>=$AC22),R22,""))<=0),"",(IF(AND(R22<=$AB22,R22>=$AC22),R22,""))) -> 42432 | AH22: =IF(((IF(AND(V22<=$AB22,V22>=$AC22),V22,""))<=0),"",(IF(AND(V22<=$AB22,V22>=$AC22),V22,""))) -> 45518 | AI22: =AVERAGE(AD22:AH22) -> 39824.5 | AJ22: =+STDEV(AD22:AH22) -> 5055.0225 | AK22: =+AJ22/AI22 -> 0.12693248
A23: 16 | B23: ADAPTADOR HEMBRA DE 4" PVCP | C23: INCLUYE SUMINISTRO E INSTALACION DE ADAPTADOR HEMBRA DE 4" PVCP | D23: UN | G23: INGENIERIA MONTAJES & CONSTRUCCION S.A.S. | H23: 900327815-15 | I23: 150000 | J23: 150000 | K23: INGENIERIA DE BOMBAS Y PLANTAS SAS | L23: 900152368-1 | M23: 102720 | N23: 102720 | O23: CGI INDUSTRY AND CONSTRUCTION GROUP SAS BIC | P23: 901666309-7 | Q23: 118128 | R23: 118128 | S23: GRUPO BERAKA SAS | T23: 901152951-1 | U23: 123900 | V23: 123900 | W23: SMI ELECTRÓNICA SAS | X23: 830090131-2 | Y23: =+AVERAGE(F23,J23,N23,R23,V23) -> 123687 | Z23: =+STDEV(F23,J23,N23,R23,V23) -> 19688.718 | AA23: =Z23/Y23 -> 0.15918179 | AB23: =+Y23+Z23 -> 143375.72 | AC23: =Y23-Z23 -> 103998.28 | AD23: =IF(((IF(AND(F23<=$AB23,F23>=$AC23),F23,""))<=0),"",(IF(AND(F23<=$AB23,F23>=$AC23),F23,""))) | AE23: =IF(((IF(AND(J23<=$AB23,J23>=$AC23),J23,""))<=0),"",(IF(AND(J23<=$AB23,J23>=$AC23),J23,""))) | AF23: =IF(((IF(AND(N23<=$AB23,N23>=$AC23),N23,""))<=0),"",(IF(AND(N23<=$AB23,N23>=$AC23),N23,""))) | AG23: =IF(((IF(AND(R23<=$AB23,R23>=$AC23),R23,""))<=0),"",(IF(AND(R23<=$AB23,R23>=$AC23),R23,""))) -> 118128 | AH23: =IF(((IF(AND(V23<=$AB23,V23>=$AC23),V23,""))<=0),"",(IF(AND(V23<=$AB23,V23>=$AC23),V23,""))) -> 123900 | AI23: =AVERAGE(AD23:AH23) -> 121014 | AJ23: =+STDEV(AD23:AH23) -> 4081.4203 | AK23: =+AJ23/AI23 -> 0.033726844
A24: 17 | B24: ADAPTADOR HEMBRA DE 6" PVCP | C24: INCLUYE SUMINISTRO E INSTALACION DE ADAPTADOR HEMBRA DE 6" PVCP | D24: UN | G24: INGENIERIA MONTAJES & CONSTRUCCION S.A.S. | H24: 900327815-15 | I24: 500000 | J24: 500000 | K24: INGENIERIA DE BOMBAS Y PLANTAS SAS | L24: 900152368-1 | M24: 155150 | N24: 155150 | O24: CGI INDUSTRY AND CONSTRUCTION GROUP SAS BIC | P24: 901666309-7 | Q24: 178423 | R24: 178423 | S24: GRUPO BERAKA SAS | T24: 901152951-1 | U24: 156500 | V24: 156500 | W24: SMI ELECTRÓNICA SAS | X24: 830090131-2 | Y24: =+AVERAGE(F24,J24,N24,R24,V24) -> 247518.25 | Z24: =+STDEV(F24,J24,N24,R24,V24) -> 168658.83 | AA24: =Z24/Y24 -> 0.68139957 | AB24: =+Y24+Z24 -> 416177.08 | AC24: =Y24-Z24 -> 78859.42 | AD24: =IF(((IF(AND(F24<=$AB24,F24>=$AC24),F24,""))<=0),"",(IF(AND(F24<=$AB24,F24>=$AC24),F24,""))) | AE24: =IF(((IF(AND(J24<=$AB24,J24>=$AC24),J24,""))<=0),"",(IF(AND(J24<=$AB24,J24>=$AC24),J24,""))) | AF24: =IF(((IF(AND(N24<=$AB24,N24>=$AC24),N24,""))<=0),"",(IF(AND(N24<=$AB24,N24>=$AC24),N24,""))) -> 155150 | AG24: =IF(((IF(AND(R24<=$AB24,R24>=$AC24),R24,""))<=0),"",(IF(AND(R24<=$AB24,R24>=$AC24),R24,""))) -> 178423 | AH24: =IF(((IF(AND(V24<=$AB24,V24>=$AC24),V24,""))<=0),"",(IF(AND(V24<=$AB24,V24>=$AC24),V24,""))) -> 156500 | AI24: =AVERAGE(AD24:AH24) -> 163357.67 | AJ24: =+STDEV(AD24:AH24) -> 13064.411 | AK24: =+AJ24/AI24 -> 0.079974273
A25: 18 | B25: ADAPTADOR MACHO DE 2-1/2" PVCP | C25: INCLUYE SUMINISTRO E INSTALACION DE ADAPTADOR MACHO DE 2-1/2" PVCP | D25: UN | E25: 55193 | F25: 55193 | G25: INGENIERIA MONTAJES & CONSTRUCCION S.A.S. | H25: 900327815-15 | I25: 120000 | J25: 120000 | K25: INGENIERIA DE BOMBAS Y PLANTAS SAS | L25: 900152368-1 | M25: 59113 | N25: 59113 | O25: CGI INDUSTRY AND CONSTRUCTION GROUP SAS BIC | P25: 901666309-7 | Q25: 67980 | R25: 67980 | S25: GRUPO BERAKA SAS | T25: 901152951-1 | U25: 72925 | V25: 72925 | W25: SMI ELECTRÓNICA SAS | X25: 830090131-2 | Y25: =+AVERAGE(F25,J25,N25,R25,V25) -> 75042.2 | Z25: =+STDEV(F25,J25,N25,R25,V25) -> 26092.581 | AA25: =Z25/Y25 -> 0.34770544 | AB25: =+Y25+Z25 -> 101134.78 | AC25: =Y25-Z25 -> 48949.619 | AD25: =IF(((IF(AND(F25<=$AB25,F25>=$AC25),F25,""))<=0),"",(IF(AND(F25<=$AB25,F25>=$AC25),F25,""))) -> 55193 | AE25: =IF(((IF(AND(J25<=$AB25,J25>=$AC25),J25,""))<=0),"",(IF(AND(J25<=$AB25,J25>=$AC25),J25,""))) | AF25: =IF(((IF(AND(N25<=$AB25,N25>=$AC25),N25,""))<=0),"",(IF(AND(N25<=$AB25,N25>=$AC25),N25,""))) -> 59113 | AG25: =IF(((IF(AND(R25<=$AB25,R25>=$AC25),R25,""))<=0),"",(IF(AND(R25<=$AB25,R25>=$AC25),R25,""))) -> 67980 | AH25: =IF(((IF(AND(V25<=$AB25,V25>=$AC25),V25,""))<=0),"",(IF(AND(V25<=$AB25,V25>=$AC25),V25,""))) -> 72925 | AI25: =AVERAGE(AD25:AH25) -> 63802.75 | AJ25: =+STDEV(AD25:AH25) -> 8099.1031 | AK25: =+AJ25/AI25 -> 0.12693972
A26: 19 | B26: ADAPTADOR MACHO DE 1" PVCP | C26: INCLUYE SUMINISTRO E INSTALACION DE ADAPTADOR MACHO DE 1" PVCP | D26: UN | E26: 5975 | F26: 5975 | G26: INGENIERIA MONTAJES & CONSTRUCCION S.A.S. | H26: 900327815-15 | I26: 12000 | J26: 12000 | K26: INGENIERIA DE BOMBAS Y PLANTAS SAS | L26: 900152368-1 | M26: 6399 | N26: 6399 | O26: CGI INDUSTRY AND CONSTRUCTION GROUP SAS BIC | P26: 901666309-7 | Q26: 7359 | R26: 7359 | S26: GRUPO BERAKA SAS | T26: 901152951-1 | U26: 7894 | V26: 7894 | W26: SMI ELECTRÓNICA SAS | X26: 830090131-2 | Y26: =+AVERAGE(F26,J26,N26,R26,V26) -> 7925.4 | Z26: =+STDEV(F26,J26,N26,R26,V26) -> 2400.9434 | AA26: =Z26/Y26 -> 0.30294287 | AB26: =+Y26+Z26 -> 10326.343 | AC26: =Y26-Z26 -> 5524.4566 | AD26: =IF(((IF(AND(F26<=$AB26,F26>=$AC26),F26,""))<=0),"",(IF(AND(F26<=$AB26,F26>=$AC26),F26,""))) -> 5975 | AE26: =IF(((IF(AND(J26<=$AB26,J26>=$AC26),J26,""))<=0),"",(IF(AND(J26<=$AB26,J26>=$AC26),J26,""))) | AF26: =IF(((IF(AND(N26<=$AB26,N26>=$AC26),N26,""))<=0),"",(IF(AND(N26<=$AB26,N26>=$AC26),N26,""))) -> 6399 | AG26: =IF(((IF(AND(R26<=$AB26,R26>=$AC26),R26,""))<=0),"",(IF(AND(R26<=$AB26,R26>=$AC26),R26,""))) -> 7359 | AH26: =IF(((IF(AND(V26<=$AB26,V26>=$AC26),V26,""))<=0),"",(IF(AND(V26<=$AB26,V26>=$AC26),V26,""))) -> 7894 | AI26: =AVERAGE(AD26:AH26) -> 6906.75 | AJ26: =+STDEV(AD26:AH26) -> 876.57682 | AK26: =+AJ26/AI26 -> 0.12691596
A27: 20 | B27: ADAPTADOR MACHO DE 1/2" PVCP | C27: INCLUYE SUMINISTRO E INSTALACION DE ADAPTADOR MACHO DE 1/2" PVCP | D27: UN | E27: 7925 | F27: 7925 | G27: INGENIERIA MONTAJES & CONSTRUCCION S.A.S. | H27: 900327815-15 | I27: 10000 | J27: 10000 | K27: INGENIERIA DE BOMBAS Y PLANTAS SAS | L27: 900152368-1 | M27: 8488 | N27: 8488 | O27: CGI INDUSTRY AND CONSTRUCTION GROUP SAS BIC | P27: 901666309-7 | Q27: 9761 | R27: 9761 | S27: GRUPO BERAKA SAS | T27: 901152951-1 | U27: 10471 | V27: 10471 | W27: SMI ELECTRÓNICA SAS | X27: 830090131-2 | Y27: =+AVERAGE(F27,J27,N27,R27,V27) -> 9329 | Z27: =+STDEV(F27,J27,N27,R27,V27) -> 1074.6541 | AA27: =Z27/Y27 -> 0.115195 | AB27: =+Y27+Z27 -> 10403.654 | AC27: =Y27-Z27 -> 8254.3459 | AD27: =IF(((IF(AND(F27<=$AB27,F27>=$AC27),F27,""))<=0),"",(IF(AND(F27<=$AB27,F27>=$AC27),F27,""))) | AE27: =IF(((IF(AND(J27<=$AB27,J27>=$AC27),J27,""))<=0),"",(IF(AND(J27<=$AB27,J27>=$AC27),J27,""))) -> 10000 | AF27: =IF(((IF(AND(N27<=$AB27,N27>=$AC27),N27,""))<=0),"",(IF(AND(N27<=$AB27,N27>=$AC27),N27,""))) -> 8488 | AG27: =IF(((IF(AND(R27<=$AB27,R27>=$AC27),R27,""))<=0),"",(IF(AND(R27<=$AB27,R27>=$AC27),R27,""))) -> 9761 | AH27: =IF(((IF(AND(V27<=$AB27,V27>=$AC27),V27,""))<=0),"",(IF(AND(V27<=$AB27,V27>=$AC27),V27,""))) | AI27: =AVERAGE(AD27:AH27) -> 9416.3333 | AJ27: =+STDEV(AD27:AH27) -> 812.79292 | AK27: =+AJ27/AI27 -> 0.086317348
A28: 21 | B28: ADAPTADOR MACHO DE 1-1/2" PVCP | C28: INCLUYE SUMINISTRO E INSTALACION DE ADAPTADOR MACHO DE 1-1/2" PVCP | D28: UN | E28: 18733 | F28: 18733 | G28: INGENIERIA MONTAJES & CONSTRUCCION S.A.S. | H28: 900327815-15 | I28: 15000 | J28: 15000 | K28: INGENIERIA DE BOMBAS Y PLANTAS SAS | L28: 900152368-1 | M28: 20064 | N28: 20064 | O28: CGI INDUSTRY AND CONSTRUCTION GROUP SAS BIC | P28: 901666309-7 | Q28: 23073 | R28: 23073 | S28: GRUPO BERAKA SAS | T28: 901152951-1 | U28: 24752 | V28: 24752 | W28: SMI ELECTRÓNICA SAS | X28: 830090131-2 | Y28: =+AVERAGE(F28,J28,N28,R28,V28) -> 20324.4 | Z28: =+STDEV(F28,J28,N28,R28,V28) -> 3811.4315 | AA28: =Z28/Y28 -> 0.18752984 | AB28: =+Y28+Z28 -> 24135.832 | AC28: =Y28-Z28 -> 16512.968 | AD28: =IF(((IF(AND(F28<=$AB28,F28>=$AC28),F28,""))<=0),"",(IF(AND(F28<=$AB28,F28>=$AC28),F28,""))) -> 18733 | AE28: =IF(((IF(AND(J28<=$AB28,J28>=$AC28),J28,""))<=0),"",(IF(AND(J28<=$AB28,J28>=$AC28),J28,""))) | AF28: =IF(((IF(AND(N28<=$AB28,N28>=$AC28),N28,""))<=0),"",(IF(AND(N28<=$AB28,N28>=$AC28),N28,""))) -> 20064 | AG28: =IF(((IF(AND(R28<=$AB28,R28>=$AC28),R28,""))<=0),"",(IF(AND(R28<=$AB28,R28>=$AC28),R28,""))) -> 23073 | AH28: =IF(((IF(AND(V28<=$AB28,V28>=$AC28),V28,""))<=0),"",(IF(AND(V28<=$AB28,V28>=$AC28),V28,""))) | AI28: =AVERAGE(AD28:AH28) -> 20623.333 | AJ28: =+STDEV(AD28:AH28) -> 2223.4074 | AK28: =+AJ28/AI28 -> 0.10781028
A29: 22 | B29: ADAPTADOR MACHO DE 1-1/4" PVCP | C29: INCLUYE SUMINISTRO E INSTALACION DE ADAPTADOR MACHO DE 1-1/4" PVCP | D29: UN | E29: 13210 | F29: 13210 | G29: INGENIERIA MONTAJES & CONSTRUCCION S.A.S. | H29: 900327815-15 | I29: 14000 | J29: 14000 | K29: INGENIERIA DE BOMBAS Y PLANTAS SAS | L29: 900152368-1 | M29: 14148 | N29: 14148 | O29: CGI INDUSTRY AND CONSTRUCTION GROUP SAS BIC | P29: 901666309-7 | Q29: 16271 | R29: 16271 | S29: GRUPO BERAKA SAS | T29: 901152951-1 | U29: 17454 | V29: 17454 | W29: SMI ELECTRÓNICA SAS | X29: 830090131-2 | Y29: =+AVERAGE(F29,J29,N29,R29,V29) -> 15016.6 | Z29: =+STDEV(F29,J29,N29,R29,V29) -> 1772.4406 | AA29: =Z29/Y29 -> 0.11803209 | AB29: =+Y29+Z29 -> 16789.041 | AC29: =Y29-Z29 -> 13244.159 | AD29: =IF(((IF(AND(F29<=$AB29,F29>=$AC29),F29,""))<=0),"",(IF(AND(F29<=$AB29,F29>=$AC29),F29,""))) | AE29: =IF(((IF(AND(J29<=$AB29,J29>=$AC29),J29,""))<=0),"",(IF(AND(J29<=$AB29,J29>=$AC29),J29,""))) -> 14000 | AF29: =IF(((IF(AND(N29<=$AB29,N29>=$AC29),N29,""))<=0),"",(IF(AND(N29<=$AB29,N29>=$AC29),N29,""))) -> 14148 | AG29: =IF(((IF(AND(R29<=$AB29,R29>=$AC29),R29,""))<=0),"",(IF(AND(R29<=$AB29,R29>=$AC29),R29,""))) -> 16271 | AH29: =IF(((IF(AND(V29<=$AB29,V29>=$AC29),V29,""))<=0),"",(IF(AND(V29<=$AB29,V29>=$AC29),V29,""))) | AI29: =AVERAGE(AD29:AH29) -> 14806.333 | AJ29: =+STDEV(AD29:AH29) -> 1270.5953 | AK29: =+AJ29/AI29 -> 0.085814309
A30: 23 | B30: ADAPTADOR MACHO DE 2" PVCP | C30: INCLUYE SUMINISTRO E INSTALACION DE ADAPTADOR MACHO DE 2" PVCP | D30: UN | E30: 16465 | F30: 16465 | G30: INGENIERIA MONTAJES & CONSTRUCCION S.A.S. | H30: 900327815-15 | I30: 20000 | J30: 20000 | K30: INGENIERIA DE BOMBAS Y PLANTAS SAS | L30: 900152368-1 | M30: 17634 | N30: 17634 | O30: CGI INDUSTRY AND CONSTRUCTION GROUP SAS BIC | P30: 901666309-7 | Q30: 20279 | R30: 20279 | S30: GRUPO BERAKA SAS | T30: 901152951-1 | U30: 21754 | V30: 21754 | W30: SMI ELECTRÓNICA SAS | X30: 830090131-2 | Y30: =+AVERAGE(F30,J30,N30,R30,V30) -> 19226.4 | Z30: =+STDEV(F30,J30,N30,R30,V30) -> 2136.3668 | AA30: =Z30/Y30 -> 0.11111632 | AB30: =+Y30+Z30 -> 21362.767 | AC30: =Y30-Z30 -> 17090.033 | AD30: =IF(((IF(AND(F30<=$AB30,F30>=$AC30),F30,""))<=0),"",(IF(AND(F30<=$AB30,F30>=$AC30),F30,""))) | AE30: =IF(((IF(AND(J30<=$AB30,J30>=$AC30),J30,""))<=0),"",(IF(AND(J30<=$AB30,J30>=$AC30),J30,""))) -> 20000 | AF30: =IF(((IF(AND(N30<=$AB30,N30>=$AC30),N30,""))<=0),"",(IF(AND(N30<=$AB30,N30>=$AC30),N30,""))) -> 17634 | AG30: =IF(((IF(AND(R30<=$AB30,R30>=$AC30),R30,""))<=0),"",(IF(AND(R30<=$AB30,R30>=$AC30),R30,""))) -> 20279 | AH30: =IF(((IF(AND(V30<=$AB30,V30>=$AC30),V30,""))<=0),"",(IF(AND(V30<=$AB30,V30>=$AC30),V30,""))) | AI30: =AVERAGE(AD30:AH30) -> 19304.333 | AJ30: =+STDEV(AD30:AH30) -> 1453.262 | AK30: =+AJ30/AI30 -> 0.075281645
A31: 24 | B31: ADAPTADOR MACHO DE 3" PVCP | C31: INCLUYE SUMINISTRO E INSTALACION DE ADAPTADOR MACHO DE 3" PVCP | D31: UN | E31: 58958 | F31: 58958 | G31: INGENIERIA MONTAJES & CONSTRUCCION S.A.S. | H31: 900327815-15 | I31: 150000 | J31: 150000 | K31: INGENIERIA DE BOMBAS Y PLANTAS SAS | L31: 900152368-1 | M31: 63145 | N31: 63145 | O31: CGI INDUSTRY AND CONSTRUCTION GROUP SAS BIC | P31: 901666309-7 | Q31: 72617 | R31: 72617 | S31: GRUPO BERAKA SAS | T31: 901152951-1 | U31: 77899 | V31: 77899 | W31: SMI ELECTRÓNICA SAS | X31: 830090131-2 | Y31: =+AVERAGE(F31,J31,N31,R31,V31) -> 84523.8 | Z31: =+STDEV(F31,J31,N31,R31,V31) -> 37361.263 | AA31: =Z31/Y31 -> 0.44202062 | AB31: =+Y31+Z31 -> 121885.06 | AC31: =Y31-Z31 -> 47162.537 | AD31: =IF(((IF(AND(F31<=$AB31,F31>=$AC31),F31,""))<=0),"",(IF(AND(F31<=$AB31,F31>=$AC31),F31,""))) -> 58958 | AE31: =IF(((IF(AND(J31<=$AB31,J31>=$AC31),J31,""))<=0),"",(IF(AND(J31<=$AB31,J31>=$AC31),J31,""))) | AF31: =IF(((IF(AND(N31<=$AB31,N31>=$AC31),N31,""))<=0),"",(IF(AND(N31<=$AB31,N31>=$AC31),N31,""))) -> 63145 | AG31: =IF(((IF(AND(R31<=$AB31,R31>=$AC31),R31,""))<=0),"",(IF(AND(R31<=$AB31,R31>=$AC31),R31,""))) -> 72617 | AH31: =IF(((IF(AND(V31<=$AB31,V31>=$AC31),V31,""))<=0),"",(IF(AND(V31<=$AB31,V31>=$AC31),V31,""))) -> 77899 | AI31: =AVERAGE(AD31:AH31) -> 68154.75 | AJ31: =+STDEV(AD31:AH31) -> 8651.3947 | AK31: =+AJ31/AI31 -> 0.12693752
A32: 25 | B32: ADAPTADOR MACHO DE 4" PVCP | C32: INCLUYE SUMINISTRO E INSTALACION DE ADAPTADOR MACHO DE 4" PVCP | D32: UN | E32: 83490 | F32: 83490 | G32: INGENIERIA MONTAJES & CONSTRUCCION S.A.S. | H32: 900327815-15 | I32: 280000 | J32: 280000 | K32: INGENIERIA DE BOMBAS Y PLANTAS SAS | L32: 900152368-1 | M32: 89334 | N32: 89334 | O32: CGI INDUSTRY AND CONSTRUCTION GROUP SAS BIC | P32: 901666309-7 | Q32: 102734 | R32: 102734 | S32: GRUPO BERAKA SAS | T32: 901152951-1 | U32: 110207 | V32: 110207 | W32: SMI ELECTRÓNICA SAS | X32: 830090131-2 | Y32: =+AVERAGE(F32,J32,N32,R32,V32) -> 133153 | Z32: =+STDEV(F32,J32,N32,R32,V32) -> 82768.343 | AA32: =Z32/Y32 -> 0.62160329 | AB32: =+Y32+Z32 -> 215921.34 | AC32: =Y32-Z32 -> 50384.657 | AD32: =IF(((IF(AND(F32<=$AB32,F32>=$AC32),F32,""))<=0),"",(IF(AND(F32<=$AB32,F32>=$AC32),F32,""))) -> 83490 | AE32: =IF(((IF(AND(J32<=$AB32,J32>=$AC32),J32,""))<=0),"",(IF(AND(J32<=$AB32,J32>=$AC32),J32,""))) | AF32: =IF(((IF(AND(N32<=$AB32,N32>=$AC32),N32,""))<=0),"",(IF(AND(N32<=$AB32,N32>=$AC32),N32,""))) -> 89334 | AG32: =IF(((IF(AND(R32<=$AB32,R32>=$AC32),R32,""))<=0),"",(IF(AND(R32<=$AB32,R32>=$AC32),R32,""))) -> 102734 | AH32: =IF(((IF(AND(V32<=$AB32,V32>=$AC32),V32,""))<=0),"",(IF(AND(V32<=$AB32,V32>=$AC32),V32,""))) -> 110207 | AI32: =AVERAGE(AD32:AH32) -> 96441.25 | AJ32: =+STDEV(AD32:AH32) -> 12211.231 | AK32: =+AJ32/AI32 -> 0.12661834
A33: 26 | B33: ADAPTADOR MACHO DE 6" PVCP | C33: INCLUYE SUMINISTRO E INSTALACION DE ADAPTADOR MACHO DE 6" PVCP | D33: UN | E33: 254605 | F33: 254605 | G33: INGENIERIA MONTAJES & CONSTRUCCION S.A.S. | H33: 900327815-15 | I33: 550000 | J33: 550000 | K33: INGENIERIA DE BOMBAS Y PLANTAS SAS | L33: 900152368-1 | M33: 272427 | N33: 272427 | O33: CGI INDUSTRY AND CONSTRUCTION GROUP SAS BIC | P33: 901666309-7 | Q33: 313291 | R33: 313291 | S33: GRUPO BERAKA SAS | T33: 901152951-1 | W33: SMI ELECTRÓNICA SAS | X33: 830090131-2 | Y33: =+AVERAGE(F33,J33,N33,R33,V33) -> 347580.75 | Z33: =+STDEV(F33,J33,N33,R33,V33) -> 137164.03 | AA33: =Z33/Y33 -> 0.39462494 | AB33: =+Y33+Z33 -> 484744.78 | AC33: =Y33-Z33 -> 210416.72 | AD33: =IF(((IF(AND(F33<=$AB33,F33>=$AC33),F33,""))<=0),"",(IF(AND(F33<=$AB33,F33>=$AC33),F33,""))) -> 254605 | AE33: =IF(((IF(AND(J33<=$AB33,J33>=$AC33),J33,""))<=0),"",(IF(AND(J33<=$AB33,J33>=$AC33),J33,""))) | AF33: =IF(((IF(AND(N33<=$AB33,N33>=$AC33),N33,""))<=0),"",(IF(AND(N33<=$AB33,N33>=$AC33),N33,""))) -> 272427 | AG33: =IF(((IF(AND(R33<=$AB33,R33>=$AC33),R33,""))<=0),"",(IF(AND(R33<=$AB33,R33>=$AC33),R33,""))) -> 313291 | AH33: =IF(((IF(AND(V33<=$AB33,V33>=$AC33),V33,""))<=0),"",(IF(AND(V33<=$AB33,V33>=$AC33),V33,""))) | AI33: =AVERAGE(AD33:AH33) -> 280107.67 | AJ33: =+STDEV(AD33:AH33) -> 30087.475 | AK33: =+AJ33/AI33 -> 0.10741396
A34: 27 | B34: ADAPTADOR MACHO DE 3/4" PVCP | C34: INCLUYE SUMINISTRO E INSTALACION DE ADAPTADOR MACHO DE 3/4" PVCP | D34: UN | E34: 5833 | F34: 5833 | G34: INGENIERIA MONTAJES & CONSTRUCCION S.A.S. | H34: 900327815-15 | I34: 5000 | J34: 5000 | K34: INGENIERIA DE BOMBAS Y PLANTAS SAS | L34: 900152368-1 | M34: 6247 | N34: 6247 | O34: CGI INDUSTRY AND CONSTRUCTION GROUP SAS BIC | P34: 901666309-7 | Q34: 7184 | R34: 7184 | S34: GRUPO BERAKA SAS | T34: 901152951-1 | U34: 7707 | V34: 7707 | W34: SMI ELECTRÓNICA SAS | X34: 830090131-2 | Y34: =+AVERAGE(F34,J34,N34,R34,V34) -> 6394.2 | Z34: =+STDEV(F34,J34,N34,R34,V34) -> 1075.5969 | AA34: =Z34/Y34 -> 0.16821446 | AB34: =+Y34+Z34 -> 7469.7969 | AC34: =Y34-Z34 -> 5318.6031 | AD34: =IF(((IF(AND(F34<=$AB34,F34>=$AC34),F34,""))<=0),"",(IF(AND(F34<=$AB34,F34>=$AC34),F34,""))) -> 5833 | AE34: =IF(((IF(AND(J34<=$AB34,J34>=$AC34),J34,""))<=0),"",(IF(AND(J34<=$AB34,J34>=$AC34),J34,""))) | AF34: =IF(((IF(AND(N34<=$AB34,N34>=$AC34),N34,""))<=0),"",(IF(AND(N34<=$AB34,N34>=$AC34),N34,""))) -> 6247 | AG34: =IF(((IF(AND(R34<=$AB34,R34>=$AC34),R34,""))<=0),"",(IF(AND(R34<=$AB34,R34>=$AC34),R34,""))) -> 7184 | AH34: =IF(((IF(AND(V34<=$AB34,V34>=$AC34),V34,""))<=0),"",(IF(AND(V34<=$AB34,V34>=$AC34),V34,""))) | AI34: =AVERAGE(AD34:AH34) -> 6421.3333 | AJ34: =+STDEV(AD34:AH34) -> 692.16641 | AK34: =+AJ34/AI34 -> 0.1077917
A35: 28 | B35: ARENA DE SILICE PARA FILTRO; BULTO 50 KG | C35: INCLUYE SUMINISTRO E INSTALACION DE ARENA DE SILICE PARA FILTRO; BULTO 50 KG | D35: UN | E35: 128331 | F35: 128331 | G35: INGENIERIA MONTAJES & CONSTRUCCION S.A.S. | H35: 900327815-15 | I35: 1500000 | J35: 1500000 | K35: INGENIERIA DE BOMBAS Y PLANTAS SAS | L35: 900152368-1 | M35: 137445 | N35: 137445 | O35: CGI INDUSTRY AND CONSTRUCTION GROUP SAS BIC | P35: 901666309-7 | Q35: 158061 | R35: 158061 | S35: GRUPO BERAKA SAS | T35: 901152951-1 | U35: 169558 | V35: 169558 | W35: SMI ELECTRÓNICA SAS | X35: 830090131-2 | Y35: =+AVERAGE(F35,J35,N35,R35,V35) -> 418679 | Z35: =+STDEV(F35,J35,N35,R35,V35) -> 604696.75 | AA35: =Z35/Y35 -> 1.4442968 | AB35: =+Y35+Z35 -> 1023375.8 | AC35: =Y35-Z35 -> -186017.75 | AD35: =IF(((IF(AND(F35<=$AB35,F35>=$AC35),F35,""))<=0),"",(IF(AND(F35<=$AB35,F35>=$AC35),F35,""))) -> 128331 | AE35: =IF(((IF(AND(J35<=$AB35,J35>=$AC35),J35,""))<=0),"",(IF(AND(J35<=$AB35,J35>=$AC35),J35,""))) | AF35: =IF(((IF(AND(N35<=$AB35,N35>=$AC35),N35,""))<=0),"",(IF(AND(N35<=$AB35,N35>=$AC35),N35,""))) -> 137445 | AG35: =IF(((IF(AND(R35<=$AB35,R35>=$AC35),R35,""))<=0),"",(IF(AND(R35<=$AB35,R35>=$AC35),R35,""))) -> 158061 | AH35: =IF(((IF(AND(V35<=$AB35,V35>=$AC35),V35,""))<=0),"",(IF(AND(V35<=$AB35,V35>=$AC35),V35,""))) -> 169558 | AI35: =AVERAGE(AD35:AH35) -> 148348.75 | AJ35: =+STDEV(AD35:AH35) -> 18830.491 | AK35: =+AJ35/AI35 -> 0.12693394
A36: 29 | B36: ARRANCADOR DIRECTO PARA MOTOBOMBA DE 1 HP | C36: INCLUYE SUMINISTRO E INSTALACION DE ARRANCADOR DIRECTO PARA MOTOBOMBA DE 1 HP | D36: UN | E36: 823848 | F36: 823848 | G36: INGENIERIA MONTAJES & CONSTRUCCION S.A.S. | H36: 900327815-15 | I36: 1300000 | J36: 1300000 | K36: INGENIERIA DE BOMBAS Y PLANTAS SAS | L36: 900152368-1 | M36: 882356 | N36: 882356 | O36: CGI INDUSTRY AND CONSTRUCTION GROUP SAS BIC | P36: 901666309-7 | Q36: 1014710 | R36: 1014710 | S36: GRUPO BERAKA SAS | T36: 901152951-1 | U36: 1088514 | V36: 1088514 | W36: SMI ELECTRÓNICA SAS | X36: 830090131-2 | Y36: =+AVERAGE(F36,J36,N36,R36,V36) -> 1021885.6 | Z36: =+STDEV(F36,J36,N36,R36,V36) -> 187433.89 | AA36: =Z36/Y36 -> 0.18341964 | AB36: =+Y36+Z36 -> 1209319.5 | AC36: =Y36-Z36 -> 834451.71 | AD36: =IF(((IF(AND(F36<=$AB36,F36>=$AC36),F36,""))<=0),"",(IF(AND(F36<=$AB36,F36>=$AC36),F36,""))) | AE36: =IF(((IF(AND(J36<=$AB36,J36>=$AC36),J36,""))<=0),"",(IF(AND(J36<=$AB36,J36>=$AC36),J36,""))) | AF36: =IF(((IF(AND(N36<=$AB36,N36>=$AC36),N36,""))<=0),"",(IF(AND(N36<=$AB36,N36>=$AC36),N36,""))) -> 882356 | AG36: =IF(((IF(AND(R36<=$AB36,R36>=$AC36),R36,""))<=0),"",(IF(AND(R36<=$AB36,R36>=$AC36),R36,""))) -> 1014710 | AH36: =IF(((IF(AND(V36<=$AB36,V36>=$AC36),V36,""))<=0),"",(IF(AND(V36<=$AB36,V36>=$AC36),V36,""))) -> 1088514 | AI36: =AVERAGE(AD36:AH36) -> 995193.33 | AJ36: =+STDEV(AD36:AH36) -> 104455.52 | AK36: =+AJ36/AI36 -> 0.10496003
A37: 30 | B37: BASE. MOTOBOMBA HASTA 15 HP EN ÁNGULO CAL 3,16 CON ANCLAJES DE FIJACIÓN: PINTURA ANTICORROSIVO. | C37: INCLUYE SUMINISTRO E INSTALACION DE BASE. MOTOBOMBA HASTA 15 HP EN ÁNGULO CAL 3,16 CON ANCLAJES DE FIJACIÓN: PINTURA ANTICORROSIVO. | D37: UN | E37: 808442 | F37: 808442 | G37: INGENIERIA MONTAJES & CONSTRUCCION S.A.S. | H37: 900327815-15 | I37: 1800000 | J37: 1800000 | K37: INGENIERIA DE BOMBAS Y PLANTAS SAS | L37: 900152368-1 | M37: 865856 | N37: 865856 | O37: CGI INDUSTRY AND CONSTRUCTION GROUP SAS BIC | P37: 901666309-7 | Q37: 995734 | R37: 995734 | S37: GRUPO BERAKA SAS | T37: 901152951-1 | U37: 1068158 | V37: 1068158 | W37: SMI ELECTRÓNICA SAS | X37: 830090131-2 | Y37: =+AVERAGE(F37,J37,N37,R37,V37) -> 1107638 | Z37: =+STDEV(F37,J37,N37,R37,V37) -> 400444.47 | AA37: =Z37/Y37 -> 0.36153009 | AB37: =+Y37+Z37 -> 1508082.5 | AC37: =Y37-Z37 -> 707193.53 | AD37: =IF(((IF(AND(F37<=$AB37,F37>=$AC37),F37,""))<=0),"",(IF(AND(F37<=$AB37,F37>=$AC37),F37,""))) -> 808442 | AE37: =IF(((IF(AND(J37<=$AB37,J37>=$AC37),J37,""))<=0),"",(IF(AND(J37<=$AB37,J37>=$AC37),J37,""))) | AF37: =IF(((IF(AND(N37<=$AB37,N37>=$AC37),N37,""))<=0),"",(IF(AND(N37<=$AB37,N37>=$AC37),N37,""))) -> 865856 | AG37: =IF(((IF(AND(R37<=$AB37,R37>=$AC37),R37,""))<=0),"",(IF(AND(R37<=$AB37,R37>=$AC37),R37,""))) -> 995734 | AH37: =IF(((IF(AND(V37<=$AB37,V37>=$AC37),V37,""))<=0),"",(IF(AND(V37<=$AB37,V37>=$AC37),V37,""))) -> 1068158 | AI37: =AVERAGE(AD37:AH37) -> 934547.5 | AJ37: =+STDEV(AD37:AH37) -> 118626.41 | AK37: =+AJ37/AI37 -> 0.12693459
A38: 31 | B38: BASE. MOTOBOMBA HASTA 3,6 HP EN ÁNGULO CAL 3,16 CON ANCLAJES DE FIJACIÓN: PINTURA ANTICORROSIVO. | C38: INCLUYE SUMINISTRO E INSTALACION DE BASE. MOTOBOMBA HASTA 3,6 HP EN ÁNGULO CAL 3,16 CON ANCLAJES DE FIJACIÓN: PINTURA ANTICORROSIVO. | D38: UN | E38: 470386 | F38: 470386 | G38: INGENIERIA MONTAJES & CONSTRUCCION S.A.S. | H38: 900327815-15 | I38: 1750000 | J38: 1750000 | K38: INGENIERIA DE BOMBAS Y PLANTAS SAS | L38: 900152368-1 | M38: 503792 | N38: 503792 | O38: CGI INDUSTRY AND CONSTRUCTION GROUP SAS BIC | P38: 901666309-7 | Q38: 579361 | R38: 579361 | S38: GRUPO BERAKA SAS | T38: 901152951-1 | U38: 621500 | V38: 621500 | W38: SMI ELECTRÓNICA SAS | X38: 830090131-2 | Y38: =+AVERAGE(F38,J38,N38,R38,V38) -> 785007.8 | Z38: =+STDEV(F38,J38,N38,R38,V38) -> 542748.69 | AA38: =Z38/Y38 -> 0.69139273 | AB38: =+Y38+Z38 -> 1327756.5 | AC38: =Y38-Z38 -> 242259.11 | AD38: =IF(((IF(AND(F38<=$AB38,F38>=$AC38),F38,""))<=0),"",(IF(AND(F38<=$AB38,F38>=$AC38),F38,""))) -> 470386 | AE38: =IF(((IF(AND(J38<=$AB38,J38>=$AC38),J38,""))<=0),"",(IF(AND(J38<=$AB38,J38>=$AC38),J38,""))) | AF38: =IF(((IF(AND(N38<=$AB38,N38>=$AC38),N38,""))<=0),"",(IF(AND(N38<=$AB38,N38>=$AC38),N38,""))) -> 503792 | AG38: =IF(((IF(AND(R38<=$AB38,R38>=$AC38),R38,""))<=0),"",(IF(AND(R38<=$AB38,R38>=$AC38),R38,""))) -> 579361 | AH38: =IF(((IF(AND(V38<=$AB38,V38>=$AC38),V38,""))<=0),"",(IF(AND(V38<=$AB38,V38>=$AC38),V38,""))) -> 621500 | AI38: =AVERAGE(AD38:AH38) -> 543759.75 | AJ38: =+STDEV(AD38:AH38) -> 69022.034 | AK38: =+AJ38/AI38 -> 0.1269348
A39: 32 | B39: BASE. MOTOBOMBA HASTA 30 HP EN ÁNGULO CAL 3,16 CON ANCLAJES DE FIJACIÓN: PINTURA ANTICORROSIVO. | C39: INCLUYE SUMINISTRO E INSTALACION DE BASE. MOTOBOMBA HASTA 30 HP EN ÁNGULO CAL 3,16 CON ANCLAJES DE FIJACIÓN: PINTURA ANTICORROSIVO. | D39: UN | E39: 1112030 | F39: 1112030 | G39: INGENIERIA MONTAJES & CONSTRUCCION S.A.S. | H39: 900327815-15 | I39: 1900000 | J39: 1900000 | K39: INGENIERIA DE BOMBAS Y PLANTAS SAS | L39: 900152368-1 | M39: 1191004 | N39: 1191004 | O39: CGI INDUSTRY AND CONSTRUCTION GROUP SAS BIC | P39: 901666309-7 | Q39: 1369655 | R39: 1369655 | S39: GRUPO BERAKA SAS | T39: 901152951-1 | U39: 1469276 | V39: 1469276 | W39: SMI ELECTRÓNICA SAS | X39: 830090131-2 | Y39: =+AVERAGE(F39,J39,N39,R39,V39) -> 1408393 | Z39: =+STDEV(F39,J39,N39,R39,V39) -> 309020.15 | AA39: =Z39/Y39 -> 0.2194133 | AB39: =+Y39+Z39 -> 1717413.2 | AC39: =Y39-Z39 -> 1099372.8 | AD39: =IF(((IF(AND(F39<=$AB39,F39>=$AC39),F39,""))<=0),"",(IF(AND(F39<=$AB39,F39>=$AC39),F39,""))) -> 1112030 | AE39: =IF(((IF(AND(J39<=$AB39,J39>=$AC39),J39,""))<=0),"",(IF(AND(J39<=$AB39,J39>=$AC39),J39,""))) | AF39: =IF(((IF(AND(N39<=$AB39,N39>=$AC39),N39,""))<=0),"",(IF(AND(N39<=$AB39,N39>=$AC39),N39,""))) -> 1191004 | AG39: =IF(((IF(AND(R39<=$AB39,R39>=$AC39),R39,""))<=0),"",(IF(AND(R39<=$AB39,R39>=$AC39),R39,""))) -> 1369655 | AH39: =IF(((IF(AND(V39<=$AB39,V39>=$AC39),V39,""))<=0),"",(IF(AND(V39<=$AB39,V39>=$AC39),V39,""))) -> 1469276 | AI39: =AVERAGE(AD39:AH39) -> 1285491.2 | AJ39: =+STDEV(AD39:AH39) -> 163173.75 | AK39: =+AJ39/AI39 -> 0.12693494
A40: 33 | B40: BASE. MOTOBOMBA HASTA 7,5 HP EN ÁNGULO CAL 3,16 CON ANCLAJES DE FIJACIÓN: PINTURA ANTICORROSIVO. | C40: INCLUYE SUMINISTRO E INSTALACION DE BASE. MOTOBOMBA HASTA 7,5 HP EN ÁNGULO CAL 3,16 CON ANCLAJES DE FIJACIÓN: PINTURA ANTICORROSIVO. | D40: UN | E40: 645185 | F40: 645185 | G40: INGENIERIA MONTAJES & CONSTRUCCION S.A.S. | H40: 900327815-15 | I40: 1700000 | J40: 1700000 | K40: INGENIERIA DE BOMBAS Y PLANTAS SAS | L40: 900152368-1 | M40: 691005 | N40: 691005 | O40: CGI INDUSTRY AND CONSTRUCTION GROUP SAS BIC | P40: 901666309-7 | Q40: 794656 | R40: 794656 | S40: GRUPO BERAKA SAS | T40: 901152951-1 | U40: 852455 | V40: 852455 | W40: SMI ELECTRÓNICA SAS | X40: 830090131-2 | Y40: =+AVERAGE(F40,J40,N40,R40,V40) -> 936660.2 | Z40: =+STDEV(F40,J40,N40,R40,V40) -> 434524.92 | AA40: =Z40/Y40 -> 0.46390881 | AB40: =+Y40+Z40 -> 1371185.1 | AC40: =Y40-Z40 -> 502135.28 | AD40: =IF(((IF(AND(F40<=$AB40,F40>=$AC40),F40,""))<=0),"",(IF(AND(F40<=$AB40,F40>=$AC40),F40,""))) -> 645185 | AE40: =IF(((IF(AND(J40<=$AB40,J40>=$AC40),J40,""))<=0),"",(IF(AND(J40<=$AB40,J40>=$AC40),J40,""))) | AF40: =IF(((IF(AND(N40<=$AB40,N40>=$AC40),N40,""))<=0),"",(IF(AND(N40<=$AB40,N40>=$AC40),N40,""))) -> 691005 | AG40: =IF(((IF(AND(R40<=$AB40,R40>=$AC40),R40,""))<=0),"",(IF(AND(R40<=$AB40,R40>=$AC40),R40,""))) -> 794656 | AH40: =IF(((IF(AND(V40<=$AB40,V40>=$AC40),V40,""))<=0),"",(IF(AND(V40<=$AB40,V40>=$AC40),V40,""))) -> 852455 | AI40: =AVERAGE(AD40:AH40) -> 745825.25 | AJ40: =+STDEV(AD40:AH40) -> 94671.477 | AK40: =+AJ40/AI40 -> 0.1269352
A41: 34 | B41: BLOQUE AUXILIAR PARA CONTACTOR | C41: INCLUYE SUMINISTRO E INSTALACION DE BLOQUE AUXILIAR PARA CONTACTOR | D41: UN | E41: 159275 | F41: 159275 | G41: INGENIERIA MONTAJES & CONSTRUCCION S.A.S. | H41: 900327815-15 | I41: 350000 | J41: 350000 | K41: INGENIERIA DE BOMBAS Y PLANTAS SAS | L41: 900152368-1 | M41: 170587 | N41: 170587 | O41: CGI INDUSTRY AND CONSTRUCTION GROUP SAS BIC | P41: 901666309-7 | Q41: 196175 | R41: 196175 | S41: GRUPO BERAKA SAS | T41: 901152951-1 | U41: 210443 | V41: 210443 | W41: SMI ELECTRÓNICA SAS | X41: 830090131-2 | Y41: =+AVERAGE(F41,J41,N41,R41,V41) -> 217296 | Z41: =+STDEV(F41,J41,N41,R41,V41) -> 76895.349 | AA41: =Z41/Y41 -> 0.35387375 | AB41: =+Y41+Z41 -> 294191.35 | AC41: =Y41-Z41 -> 140400.65 | AD41: =IF(((IF(AND(F41<=$AB41,F41>=$AC41),F41,""))<=0),"",(IF(AND(F41<=$AB41,F41>=$AC41),F41,""))) -> 159275 | AE41: =IF(((IF(AND(J41<=$AB41,J41>=$AC41),J41,""))<=0),"",(IF(AND(J41<=$AB41,J41>=$AC41),J41,""))) | AF41: =IF(((IF(AND(N41<=$AB41,N41>=$AC41),N41,""))<=0),"",(IF(AND(N41<=$AB41,N41>=$AC41),N41,""))) -> 170587 | AG41: =IF(((IF(AND(R41<=$AB41,R41>=$AC41),R41,""))<=0),"",(IF(AND(R41<=$AB41,R41>=$AC41),R41,""))) -> 196175 | AH41: =IF(((IF(AND(V41<=$AB41,V41>=$AC41),V41,""))<=0),"",(IF(AND(V41<=$AB41,V41>=$AC41),V41,""))) -> 210443 | AI41: =AVERAGE(AD41:AH41) -> 184120 | AJ41: =+STDEV(AD41:AH41) -> 23371.204 | AK41: =+AJ41/AI41 -> 0.12693463
A42: 35 | B42: BLOQUE AUXILIAR PARA SELECTOR | C42: INCLUYE SUMINISTRO E INSTALACION DE BLOQUE AUXILIAR PARA SELECTOR | D42: UN | E42: 37179 | F42: 37179 | G42: INGENIERIA MONTAJES & CONSTRUCCION S.A.S. | H42: 900327815-15 | I42: 250000 | J42: 250000 | K42: INGENIERIA DE BOMBAS Y PLANTAS SAS | L42: 900152368-1 | M42: 39819 | N42: 39819 | O42: CGI INDUSTRY AND CONSTRUCTION GROUP SAS BIC | P42: 901666309-7 | Q42: 45792 | R42: 45792 | S42: GRUPO BERAKA SAS | T42: 901152951-1 | U42: 49123 | V42: 49123 | W42: SMI ELECTRÓNICA SAS | X42: 830090131-2 | Y42: =+AVERAGE(F42,J42,N42,R42,V42) -> 84382.6 | Z42: =+STDEV(F42,J42,N42,R42,V42) -> 92703.413 | AA42: =Z42/Y42 -> 1.0986082 | AB42: =+Y42+Z42 -> 177086.01 | AC42: =Y42-Z42 -> -8320.8132 | AD42: =IF(((IF(AND(F42<=$AB42,F42>=$AC42),F42,""))<=0),"",(IF(AND(F42<=$AB42,F42>=$AC42),F42,""))) -> 37179 | AE42: =IF(((IF(AND(J42<=$AB42,J42>=$AC42),J42,""))<=0),"",(IF(AND(J42<=$AB42,J42>=$AC42),J42,""))) | AF42: =IF(((IF(AND(N42<=$AB42,N42>=$AC42),N42,""))<=0),"",(IF(AND(N42<=$AB42,N42>=$AC42),N42,""))) -> 39819 | AG42: =IF(((IF(AND(R42<=$AB42,R42>=$AC42),R42,""))<=0),"",(IF(AND(R42<=$AB42,R42>=$AC42),R42,""))) -> 45792 | AH42: =IF(((IF(AND(V42<=$AB42,V42>=$AC42),V42,""))<=0),"",(IF(AND(V42<=$AB42,V42>=$AC42),V42,""))) -> 49123 | AI42: =AVERAGE(AD42:AH42) -> 42978.25 | AJ42: =+STDEV(AD42:AH42) -> 5455.4958 | AK42: =+AJ42/AI42 -> 0.1269362
A43: 36 | B43: BOMBA DE CAUDAL PARA AGUA POTABLE CON MOTOR DE 10 HP 220 V, 3 FASES. | C43: INCLUYE SUMINISTRO E INSTALACION DE BOMBA DE CAUDAL PARA AGUA POTABLE CON MOTOR DE 10 HP 220 V, 3 FASES. | D43: UN | E43: 8042215 | F43: 8042215 | G43: INGENIERIA MONTAJES & CONSTRUCCION S.A.S. | H43: 900327815-15 | I43: 9000000 | J43: 9000000 | K43: INGENIERIA DE BOMBAS Y PLANTAS SAS | L43: 900152368-1 | M43: 8613358 | N43: 8613358 | O43: CGI INDUSTRY AND CONSTRUCTION GROUP SAS BIC | P43: 901666309-7 | Q43: 9905362 | R43: 9905362 | S43: GRUPO BERAKA SAS | T43: 901152951-1 | U43: 10625825 | V43: 10625825 | W43: SMI ELECTRÓNICA SAS | X43: 830090131-2 | Y43: =+AVERAGE(F43,J43,N43,R43,V43) -> 9237352 | Z43: =+STDEV(F43,J43,N43,R43,V43) -> 1030552.2 | AA43: =Z43/Y43 -> 0.1115636 | AB43: =+Y43+Z43 -> 10267904 | AC43: =Y43-Z43 -> 8206799.8 | AD43: =IF(((IF(AND(F43<=$AB43,F43>=$AC43),F43,""))<=0),"",(IF(AND(F43<=$AB43,F43>=$AC43),F43,""))) | AE43: =IF(((IF(AND(J43<=$AB43,J43>=$AC43),J43,""))<=0),"",(IF(AND(J43<=$AB43,J43>=$AC43),J43,""))) -> 9000000 | AF43: =IF(((IF(AND(N43<=$AB43,N43>=$AC43),N43,""))<=0),"",(IF(AND(N43<=$AB43,N43>=$AC43),N43,""))) -> 8613358 | AG43: =IF(((IF(AND(R43<=$AB43,R43>=$AC43),R43,""))<=0),"",(IF(AND(R43<=$AB43,R43>=$AC43),R43,""))) -> 9905362 | AH43: =IF(((IF(AND(V43<=$AB43,V43>=$AC43),V43,""))<=0),"",(IF(AND(V43<=$AB43,V43>=$AC43),V43,""))) | AI43: =AVERAGE(AD43:AH43) -> 9172906.7 | AJ43: =+STDEV(AD43:AH43) -> 663129.79 | AK43: =+AJ43/AI43 -> 0.072292221
A44: 37 | B44: BOMBA DE CAUDAL PARA AGUA POTABLE CON MOTOR DE 15 HP 220 V, 3 FASES. | C44: INCLUYE SUMINISTRO E INSTALACION DE BOMBA DE CAUDAL PARA AGUA POTABLE CON MOTOR DE 15 HP 220 V, 3 FASES. | D44: UN | E44: 13315047 | F44: 13315047 | G44: INGENIERIA MONTAJES & CONSTRUCCION S.A.S. | H44: 900327815-15 | I44: 16000000 | J44: 16000000 | K44: INGENIERIA DE BOMBAS Y PLANTAS SAS | L44: 900152368-1 | M44: 14260655 | N44: 14260655 | O44: CGI INDUSTRY AND CONSTRUCTION GROUP SAS BIC | P44: 901666309-7 | Q44: 16399753 | R44: 16399753 | S44: GRUPO BERAKA SAS | T44: 901152951-1 | U44: 17592584 | V44: 17592584 | W44: SMI ELECTRÓNICA SAS | X44: 830090131-2 | Y44: =+AVERAGE(F44,J44,N44,R44,V44) -> 15513608 | Z44: =+STDEV(F44,J44,N44,R44,V44) -> 1713733.7 | AA44: =Z44/Y44 -> 0.11046648 | AB44: =+Y44+Z44 -> 17227342 | AC44: =Y44-Z44 -> 13799874 | AD44: =IF(((IF(AND(F44<=$AB44,F44>=$AC44),F44,""))<=0),"",(IF(AND(F44<=$AB44,F44>=$AC44),F44,""))) | AE44: =IF(((IF(AND(J44<=$AB44,J44>=$AC44),J44,""))<=0),"",(IF(AND(J44<=$AB44,J44>=$AC44),J44,""))) -> 16000000 | AF44: =IF(((IF(AND(N44<=$AB44,N44>=$AC44),N44,""))<=0),"",(IF(AND(N44<=$AB44,N44>=$AC44),N44,""))) -> 14260655 | AG44: =IF(((IF(AND(R44<=$AB44,R44>=$AC44),R44,""))<=0),"",(IF(AND(R44<=$AB44,R44>=$AC44),R44,""))) -> 16399753 | AH44: =IF(((IF(AND(V44<=$AB44,V44>=$AC44),V44,""))<=0),"",(IF(AND(V44<=$AB44,V44>=$AC44),V44,""))) | AI44: =AVERAGE(AD44:AH44) -> 15553469 | AJ44: =+STDEV(AD44:AH44) -> 1137311.4 | AK44: =+AJ44/AI44 -> 0.073122684
A45: 38 | B45: BOMBA DE PRESIÓN PARA AGUA POTABLE CON MOTOR DE 1 HP 110/ 220 V. | C45: INCLUYE SUMINISTRO E INSTALACION DE BOMBA DE PRESIÓN PARA AGUA POTABLE CON MOTOR DE 1 HP 110/ 220 V. | D45: UN | E45: 1286816 | F45: 1286816 | G45: INGENIERIA MONTAJES & CONSTRUCCION S.A.S. | H45: 900327815-15 | I45: 3500000 | J45: 3500000 | K45: INGENIERIA DE BOMBAS Y PLANTAS SAS | L45: 900152368-1 | M45: 1378203 | N45: 1378203 | O45: CGI INDUSTRY AND CONSTRUCTION GROUP SAS BIC | P45: 901666309-7 | Q45: 1584934 | R45: 1584934 | S45: GRUPO BERAKA SAS | T45: 901152951-1 | U45: 1700213 | V45: 1700213 | W45: SMI ELECTRÓNICA SAS | X45: 830090131-2 | Y45: =+AVERAGE(F45,J45,N45,R45,V45) -> 1890033.2 | Z45: =+STDEV(F45,J45,N45,R45,V45) -> 914733.77 | AA45: =Z45/Y45 -> 0.48397762 | AB45: =+Y45+Z45 -> 2804767 | AC45: =Y45-Z45 -> 975299.43 | AD45: =IF(((IF(AND(F45<=$AB45,F45>=$AC45),F45,""))<=0),"",(IF(AND(F45<=$AB45,F45>=$AC45),F45,""))) -> 1286816 | AE45: =IF(((IF(AND(J45<=$AB45,J45>=$AC45),J45,""))<=0),"",(IF(AND(J45<=$AB45,J45>=$AC45),J45,""))) | AF45: =IF(((IF(AND(N45<=$AB45,N45>=$AC45),N45,""))<=0),"",(IF(AND(N45<=$AB45,N45>=$AC45),N45,""))) -> 1378203 | AG45: =IF(((IF(AND(R45<=$AB45,R45>=$AC45),R45,""))<=0),"",(IF(AND(R45<=$AB45,R45>=$AC45),R45,""))) -> 1584934 | AH45: =IF(((IF(AND(V45<=$AB45,V45>=$AC45),V45,""))<=0),"",(IF(AND(V45<=$AB45,V45>=$AC45),V45,""))) -> 1700213 | AI45: =AVERAGE(AD45:AH45) -> 1487541.5 | AJ45: =+STDEV(AD45:AH45) -> 188820.99 | AK45: =+AJ45/AI45 -> 0.12693494
... A50: 43 | B50: BOMBA DE PRESIÓN PARA AGUA POTABLE CON MOTOR DE 5 HP 220 V, 3 FASES. | C50: INCLUYE SUMINISTRO E INSTALACION DE BOMBA DE PRESIÓN PARA AGUA POTABLE CON MOTOR DE 5 HP 220 V, 3 FASES. | D50: UN | E50: 4016782 | F50: 4016782 | G50: INGENIERIA MONTAJES & CONSTRUCCION S.A.S. | H50: 900327815-15 | I50: 5000000 | J50: 5000000 | K50: INGENIERIA DE BOMBAS Y PLANTAS SAS | L50: 900152368-1 | M50: 4302046 | N50: 4302046 | O50: CGI INDUSTRY AND CONSTRUCTION GROUP SAS BIC | P50: 901666309-7 | Q50: 4947352 | R50: 4947352 | S50: GRUPO BERAKA SAS | T50: 901152951-1 | U50: 5307196 | V50: 5307196 | W50: SMI ELECTRÓNICA SAS | X50: 830090131-2 | Y50: =+AVERAGE(F50,J50,N50,R50,V50) -> 4714675.2 | Z50: =+STDEV(F50,J50,N50,R50,V50) -> 534777.39 | AA50: =Z50/Y50 -> 0.11342826 | AB50: =+Y50+Z50 -> 5249452.6 | AC50: =Y50-Z50 -> 4179897.8 | AD50: =IF(((IF(AND(F50<=$AB50,F50>=$AC50),F50,""))<=0),"",(IF(AND(F50<=$AB50,F50>=$AC50),F50,""))) | AE50: =IF(((IF(AND(J50<=$AB50,J50>=$AC50),J50,""))<=0),"",(IF(AND(J50<=$AB50,J50>=$AC50),J50,""))) -> 5000000 | AF50: =IF(((IF(AND(N50<=$AB50,N50>=$AC50),N50,""))<=0),"",(IF(AND(N50<=$AB50,N50>=$AC50),N50,""))) -> 4302046 | AG50: =IF(((IF(AND(R50<=$AB50,R50>=$AC50),R50,""))<=0),"",(IF(AND(R50<=$AB50,R50>=$AC50),R50,""))) -> 4947352 | AH50: =IF(((IF(AND(V50<=$AB50,V50>=$AC50),V50,""))<=0),"",(IF(AND(V50<=$AB50,V50>=$AC50),V50,""))) | AI50: =AVERAGE(AD50:AH50) -> 4749799.3 | AJ50: =+STDEV(AD50:AH50) -> 388658.25 | AK50: =+AJ50/AI50 -> 0.081826247
A51: 44 | B51: BOMBA DE PRESIÓN PARA AGUA POTABLE CON MOTOR DE 6 HP 220 V, 3 FASES. | C51: INCLUYE SUMINISTRO E INSTALACION DE BOMBA DE PRESIÓN PARA AGUA POTABLE CON MOTOR DE 6 HP 220 V, 3 FASES. | D51: UN | E51: 4440591 | F51: 4440591 | G51: INGENIERIA MONTAJES & CONSTRUCCION S.A.S. | H51: 900327815-15 | I51: 6000000 | J51: 6000000 | K51: INGENIERIA DE BOMBAS Y PLANTAS SAS | L51: 900152368-1 | M51: 4755953 | N51: 4755953 | O51: CGI INDUSTRY AND CONSTRUCTION GROUP SAS BIC | P51: 901666309-7 | Q51: 5469346 | R51: 5469346 | S51: GRUPO BERAKA SAS | T51: 901152951-1 | W51: SMI ELECTRÓNICA SAS | X51: 830090131-2 | Y51: =+AVERAGE(F51,J51,N51,R51,V51) -> 5166472.5 | Z51: =+STDEV(F51,J51,N51,R51,V51) -> 702834.89 | AA51: =Z51/Y51 -> 0.13603767 | AB51: =+Y51+Z51 -> 5869307.4 | AC51: =Y51-Z51 -> 4463637.6 | AD51: =IF(((IF(AND(F51<=$AB51,F51>=$AC51),F51,""))<=0),"",(IF(AND(F51<=$AB51,F51>=$AC51),F51,""))) | AE51: =IF(((IF(AND(J51<=$AB51,J51>=$AC51),J51,""))<=0),"",(IF(AND(J51<=$AB51,J51>=$AC51),J51,""))) | AF51: =IF(((IF(AND(N51<=$AB51,N51>=$AC51),N51,""))<=0),"",(IF(AND(N51<=$AB51,N51>=$AC51),N51,""))) -> 4755953 | AG51: =IF(((IF(AND(R51<=$AB51,R51>=$AC51),R51,""))<=0),"",(IF(AND(R51<=$AB51,R51>=$AC51),R51,""))) -> 5469346 | AH51: =IF(((IF(AND(V51<=$AB51,V51>=$AC51),V51,""))<=0),"",(IF(AND(V51<=$AB51,V51>=$AC51),V51,""))) | AI51: =AVERAGE(AD51:AH51) -> 5112649.5 | AJ51: =+STDEV(AD51:AH51) -> 504445.03 | AK51: =+AJ51/AI51 -> 0.098666069
A52: 45 | B52: BOMBA DE PRESIÓN PARA AGUA POTABLE CON MOTOR DE 7.5 HP 220 V, 3 FASES. | C52: INCLUYE SUMINISTRO E INSTALACION DE BOMBA DE PRESIÓN PARA AGUA POTABLE CON MOTOR DE 7.5 HP 220 V, 3 FASES. | D52: UN | E52: 4121741 | F52: 4121741 | G52: INGENIERIA MONTAJES & CONSTRUCCION S.A.S. | H52: 900327815-15 | I52: 7000000 | J52: 7000000 | K52: INGENIERIA DE BOMBAS Y PLANTAS SAS | L52: 900152368-1 | M52: 4414459 | N52: 4414459 | O52: CGI INDUSTRY AND CONSTRUCTION GROUP SAS BIC | P52: 901666309-7 | Q52: 5076628 | R52: 5076628 | S52: GRUPO BERAKA SAS | T52: 901152951-1 | U52: 5445875 | V52: 5445875 | W52: SMI ELECTRÓNICA SAS | X52: 830090131-2 | Y52: =+AVERAGE(F52,J52,N52,R52,V52) -> 5211740.6 | Z52: =+STDEV(F52,J52,N52,R52,V52) -> 1128572.4 | AA52: =Z52/Y52 -> 0.21654425 | AB52: =+Y52+Z52 -> 6340313 | AC52: =Y52-Z52 -> 4083168.2 | AD52: =IF(((IF(AND(F52<=$AB52,F52>=$AC52),F52,""))<=0),"",(IF(AND(F52<=$AB52,F52>=$AC52),F52,""))) -> 4121741 | AE52: =IF(((IF(AND(J52<=$AB52,J52>=$AC52),J52,""))<=0),"",(IF(AND(J52<=$AB52,J52>=$AC52),J52,""))) | AF52: =IF(((IF(AND(N52<=$AB52,N52>=$AC52),N52,""))<=0),"",(IF(AND(N52<=$AB52,N52>=$AC52),N52,""))) -> 4414459 | AG52: =IF(((IF(AND(R52<=$AB52,R52>=$AC52),R52,""))<=0),"",(IF(AND(R52<=$AB52,R52>=$AC52),R52,""))) -> 5076628 | AH52: =IF(((IF(AND(V52<=$AB52,V52>=$AC52),V52,""))<=0),"",(IF(AND(V52<=$AB52,V52>=$AC52),V52,""))) -> 5445875 | AI52: =AVERAGE(AD52:AH52) -> 4764675.8 | AJ52: =+STDEV(AD52:AH52) -> 604803.96 | AK52: =+AJ52/AI52 -> 0.12693497
A53: 46 | B53: BOMBA EYECTORA PARA AGUA LLUVIA SUMERGIBLE DE 1 HP, 220 V. | C53: INCLUYE SUMINISTRO E INSTALACION DE BOMBA EYECTORA PARA AGUA LLUVIA SUMERGIBLE DE 1 HP, 220 V. | D53: UN | E53: 3065760 | F53: 3065760 | G53: INGENIERIA MONTAJES & CONSTRUCCION S.A.S. | H53: 900327815-15 | I53: 4500000 | J53: 4500000 | K53: INGENIERIA DE BOMBAS Y PLANTAS SAS | L53: 900152368-1 | M53: 3283485 | N53: 3283485 | O53: CGI INDUSTRY AND CONSTRUCTION GROUP SAS BIC | P53: 901666309-7 | Q53: 3776007 | R53: 3776007 | S53: GRUPO BERAKA SAS | T53: 901152951-1 | U53: 4050654 | V53: 4050654 | W53: SMI ELECTRÓNICA SAS | X53: 830090131-2 | Y53: =+AVERAGE(F53,J53,N53,R53,V53) -> 3735181.2 | Z53: =+STDEV(F53,J53,N53,R53,V53) -> 578422.82 | AA53: =Z53/Y53 -> 0.15485803 | AB53: =+Y53+Z53 -> 4313604 | AC53: =Y53-Z53 -> 3156758.4 | AD53: =IF(((IF(AND(F53<=$AB53,F53>=$AC53),F53,""))<=0),"",(IF(AND(F53<=$AB53,F53>=$AC53),F53,""))) | AE53: =IF(((IF(AND(J53<=$AB53,J53>=$AC53),J53,""))<=0),"",(IF(AND(J53<=$AB53,J53>=$AC53),J53,""))) | AF53: =IF(((IF(AND(N53<=$AB53,N53>=$AC53),N53,""))<=0),"",(IF(AND(N53<=$AB53,N53>=$AC53),N53,""))) -> 3283485 | AG53: =IF(((IF(AND(R53<=$AB53,R53>=$AC53),R53,""))<=0),"",(IF(AND(R53<=$AB53,R53>=$AC53),R53,""))) -> 3776007 | AH53: =IF(((IF(AND(V53<=$AB53,V53>=$AC53),V53,""))<=0),"",(IF(AND(V53<=$AB53,V53>=$AC53),V53,""))) -> 4050654 | AI53: =AVERAGE(AD53:AH53) -> 3703382 | AJ53: =+STDEV(AD53:AH53) -> 388706.65 | AK53: =+AJ53/AI53 -> 0.10495991
A54: 47 | B54: BOMBA EYECTORA PARA AGUA LLUVIA SUMERGIBLE DE 2 HP, 220 V, 3 FASES. | C54: INCLUYE SUMINISTRO E INSTALACION DE BOMBA EYECTORA PARA AGUA LLUVIA SUMERGIBLE DE 2 HP, 220 V, 3 FASES. | D54: UN | E54: 5729559 | F54: 5729559 | G54: INGENIERIA MONTAJES & CONSTRUCCION S.A.S. | H54: 900327815-15 | I54: 6000000 | J54: 6000000 | K54: INGENIERIA DE BOMBAS Y PLANTAS SAS | L54: 900152368-1 | M54: 6136462 | N54: 6136462 | O54: CGI INDUSTRY AND CONSTRUCTION GROUP SAS BIC | P54: 901666309-7 | Q54: 7056931 | R54: 7056931 | S54: GRUPO BERAKA SAS | T54: 901152951-1 | U54: 7570214 | V54: 7570214 | W54: SMI ELECTRÓNICA SAS | X54: 830090131-2 | Y54: =+AVERAGE(F54,J54,N54,R54,V54) -> 6498633.2 | Z54: =+STDEV(F54,J54,N54,R54,V54) -> 779624.91 | AA54: =Z54/Y54 -> 0.11996752 | AB54: =+Y54+Z54 -> 7278258.1 | AC54: =Y54-Z54 -> 5719008.3 | AD54: =IF(((IF(AND(F54<=$AB54,F54>=$AC54),F54,""))<=0),"",(IF(AND(F54<=$AB54,F54>=$AC54),F54,""))) -> 5729559 | AE54: =IF(((IF(AND(J54<=$AB54,J54>=$AC54),J54,""))<=0),"",(IF(AND(J54<=$AB54,J54>=$AC54),J54,""))) -> 6000000 | AF54: =IF(((IF(AND(N54<=$AB54,N54>=$AC54),N54,""))<=0),"",(IF(AND(N54<=$AB54,N54>=$AC54),N54,""))) -> 6136462 | AG54: =IF(((IF(AND(R54<=$AB54,R54>=$AC54),R54,""))<=0),"",(IF(AND(R54<=$AB54,R54>=$AC54),R54,""))) -> 7056931 | AH54: =IF(((IF(AND(V54<=$AB54,V54>=$AC54),V54,""))<=0),"",(IF(AND(V54<=$AB54,V54>=$AC54),V54,""))) | AI54: =AVERAGE(AD54:AH54) -> 6230738 | AJ54: =+STDEV(AD54:AH54) -> 576166.43 | AK54: =+AJ54/AI54 -> 0.092471618
A55: 48 | B55: BOMBA EYECTORA PARA AGUA RESIDUAL SUMERGIBLE DE 1 HP, 220 V. | C55: INCLUYE SUMINISTRO E INSTALACION DE BOMBA EYECTORA PARA AGUA RESIDUAL SUMERGIBLE DE 1 HP, 220 V. | D55: UN | E55: 3299996 | F55: 3299996 | G55: INGENIERIA MONTAJES & CONSTRUCCION S.A.S. | H55: 900327815-15 | I55: 4500000 | J55: 4500000 | K55: INGENIERIA DE BOMBAS Y PLANTAS SAS | L55: 900152368-1 | M55: 3534356 | N55: 3534356 | O55: CGI INDUSTRY AND CONSTRUCTION GROUP SAS BIC | P55: 901666309-7 | S55: GRUPO BERAKA SAS | T55: 901152951-1 | U55: 4360140 | V55: 4360140 | W55: SMI ELECTRÓNICA SAS | X55: 830090131-2 | Y55: =+AVERAGE(F55,J55,N55,R55,V55) -> 3923623 | Z55: =+STDEV(F55,J55,N55,R55,V55) -> 595314.19 | AA55: =Z55/Y55 -> 0.15172564 | AB55: =+Y55+Z55 -> 4518937.2 | AC55: =Y55-Z55 -> 3328308.8 | AD55: =IF(((IF(AND(F55<=$AB55,F55>=$AC55),F55,""))<=0),"",(IF(AND(F55<=$AB55,F55>=$AC55),F55,""))) | AE55: =IF(((IF(AND(J55<=$AB55,J55>=$AC55),J55,""))<=0),"",(IF(AND(J55<=$AB55,J55>=$AC55),J55,""))) -> 4500000 | AF55: =IF(((IF(AND(N55<=$AB55,N55>=$AC55),N55,""))<=0),"",(IF(AND(N55<=$AB55,N55>=$AC55),N55,""))) -> 3534356 | AG55: =IF(((IF(AND(R55<=$AB55,R55>=$AC55),R55,""))<=0),"",(IF(AND(R55<=$AB55,R55>=$AC55),R55,""))) | AH55: =IF(((IF(AND(V55<=$AB55,V55>=$AC55),V55,""))<=0),"",(IF(AND(V55<=$AB55,V55>=$AC55),V55,""))) -> 4360140 | AI55: =AVERAGE(AD55:AH55) -> 4131498.7 | AJ55: =+STDEV(AD55:AH55) -> 521847.42 | AK55: =+AJ55/AI55 -> 0.12630947
A56: 49 | B56: BOMBA EYECTORA PARA AGUA RESIDUAL SUMERGIBLE DE 2 HP, 220 V, 3 FASES. | C56: INCLUYE SUMINISTRO E INSTALACION DE BOMBA EYECTORA PARA AGUA RESIDUAL SUMERGIBLE DE 2 HP, 220 V, 3 FASES. | D56: UN | E56: 5983948 | F56: 5983948 | G56: INGENIERIA MONTAJES & CONSTRUCCION S.A.S. | H56: 900327815-15 | I56: 6000000 | J56: 6000000 | K56: INGENIERIA DE BOMBAS Y PLANTAS SAS | L56: 900152368-1 | M56: 6408916 | N56: 6408916 | O56: CGI INDUSTRY AND CONSTRUCTION GROUP SAS BIC | P56: 901666309-7 | Q56: 7370253 | R56: 7370253 | S56: GRUPO BERAKA SAS | T56: 901152951-1 | U56: 7906326 | V56: 7906326 | W56: SMI ELECTRÓNICA SAS | X56: 830090131-2 | Y56: =+AVERAGE(F56,J56,N56,R56,V56) -> 6733888.6 | Z56: =+STDEV(F56,J56,N56,R56,V56) -> 864028.31 | AA56: =Z56/Y56 -> 0.12831045 | AB56: =+Y56+Z56 -> 7597916.9 | AC56: =Y56-Z56 -> 5869860.3 | AD56: =IF(((IF(AND(F56<=$AB56,F56>=$AC56),F56,""))<=0),"",(IF(AND(F56<=$AB56,F56>=$AC56),F56,""))) -> 5983948 | AE56: =IF(((IF(AND(J56<=$AB56,J56>=$AC56),J56,""))<=0),"",(IF(AND(J56<=$AB56,J56>=$AC56),J56,""))) -> 6000000 | AF56: =IF(((IF(AND(N56<=$AB56,N56>=$AC56),N56,""))<=0),"",(IF(AND(N56<=$AB56,N56>=$AC56),N56,""))) -> 6408916 | AG56: =IF(((IF(AND(R56<=$AB56,R56>=$AC56),R56,""))<=0),"",(IF(AND(R56<=$AB56,R56>=$AC56),R56,""))) -> 7370253 | AH56: =IF(((IF(AND(V56<=$AB56,V56>=$AC56),V56,""))<=0),"",(IF(AND(V56<=$AB56,V56>=$AC56),V56,""))) | AI56: =AVERAGE(AD56:AH56) -> 6440779.2 | AJ56: =+STDEV(AD56:AH56) -> 650107.13 | AK56: =+AJ56/AI56 -> 0.1009361
A57: 50 | B57: BOMBA EYECTORA PARA AGUA RESIDUAL SUMERGIBLE TIPO TRITURADORA DE 1 HP, 220 V. | C57: INCLUYE SUMINISTRO E INSTALACION DE BOMBA EYECTORA PARA AGUA RESIDUAL SUMERGIBLE TIPO TRITURADORA DE 1 HP, 220 V. | D57: UN | E57: 3815395 | F57: 3815395 | G57: INGENIERIA MONTAJES & CONSTRUCCION S.A.S. | H57: 900327815-15 | I57: 8000000 | J57: 8000000 | K57: INGENIERIA DE BOMBAS Y PLANTAS SAS | L57: 900152368-1 | M57: 4082473 | N57: 4082473 | O57: CGI INDUSTRY AND CONSTRUCTION GROUP SAS BIC | P57: 901666309-7 | Q57: 4694843 | R57: 4694843 | S57: GRUPO BERAKA SAS | T57: 901152951-1 | W57: SMI ELECTRÓNICA SAS | X57: 830090131-2 | Y57: =+AVERAGE(F57,J57,N57,R57,V57) -> 5148177.8 | Z57: =+STDEV(F57,J57,N57,R57,V57) -> 1936529.5 | AA57: =Z57/Y57 -> 0.37615824 | AB57: =+Y57+Z57 -> 7084707.2 | AC57: =Y57-Z57 -> 3211648.3 | AD57: =IF(((IF(AND(F57<=$AB57,F57>=$AC57),F57,""))<=0),"",(IF(AND(F57<=$AB57,F57>=$AC57),F57,""))) -> 3815395 | AE57: =IF(((IF(AND(J57<=$AB57,J57>=$AC57),J57,""))<=0),"",(IF(AND(J57<=$AB57,J57>=$AC57),J57,""))) | AF57: =IF(((IF(AND(N57<=$AB57,N57>=$AC57),N57,""))<=0),"",(IF(AND(N57<=$AB57,N57>=$AC57),N57,""))) -> 4082473 | AG57: =IF(((IF(AND(R57<=$AB57,R57>=$AC57),R57,""))<=0),"",(IF(AND(R57<=$AB57,R57>=$AC57),R57,""))) -> 4694843 | AH57: =IF(((IF(AND(V57<=$AB57,V57>=$AC57),V57,""))<=0),"",(IF(AND(V57<=$AB57,V57>=$AC57),V57,""))) | AI57: =AVERAGE(AD57:AH57) -> 4197570.3 | AJ57: =+STDEV(AD57:AH57) -> 450879.97 | AK57: =+AJ57/AI57 -> 0.10741451
A58: 51 | B58: BOMBA EYECTORA PARA AGUA RESIDUAL SUMERGIBLE TIPO TRITURADORA DE 2 HP, 220 V; 3 FASES | C58: INCLUYE SUMINISTRO E INSTALACION DE BOMBA EYECTORA PARA AGUA RESIDUAL SUMERGIBLE TIPO TRITURADORA DE 2 HP, 220 V; 3 FASES | D58: UN | E58: 7418824 | F58: 7418824 | G58: INGENIERIA MONTAJES & CONSTRUCCION S.A.S. | H58: 900327815-15 | I58: 15000000 | J58: 15000000 | K58: INGENIERIA DE BOMBAS Y PLANTAS SAS | L58: 900152368-1 | M58: 7938142 | N58: 7938142 | O58: CGI INDUSTRY AND CONSTRUCTION GROUP SAS BIC | P58: 901666309-7 | Q58: 9128863 | R58: 9128863 | S58: GRUPO BERAKA SAS | T58: 901152951-1 | U58: 9792848 | V58: 9792848 | W58: SMI ELECTRÓNICA SAS | X58: 830090131-2 | Y58: =+AVERAGE(F58,J58,N58,R58,V58) -> 9855735.4 | Z58: =+STDEV(F58,J58,N58,R58,V58) -> 3025370.2 | AA58: =Z58/Y58 -> 0.30696544 | AB58: =+Y58+Z58 -> 12881106 | AC58: =Y58-Z58 -> 6830365.2 | AD58: =IF(((IF(AND(F58<=$AB58,F58>=$AC58),F58,""))<=0),"",(IF(AND(F58<=$AB58,F58>=$AC58),F58,""))) -> 7418824 | AE58: =IF(((IF(AND(J58<=$AB58,J58>=$AC58),J58,""))<=0),"",(IF(AND(J58<=$AB58,J58>=$AC58),J58,""))) | AF58: =IF(((IF(AND(N58<=$AB58,N58>=$AC58),N58,""))<=0),"",(IF(AND(N58<=$AB58,N58>=$AC58),N58,""))) -> 7938142 | AG58: =IF(((IF(AND(R58<=$AB58,R58>=$AC58),R58,""))<=0),"",(IF(AND(R58<=$AB58,R58>=$AC58),R58,""))) -> 9128863 | AH58: =IF(((IF(AND(V58<=$AB58,V58>=$AC58),V58,""))<=0),"",(IF(AND(V58<=$AB58,V58>=$AC58),V58,""))) -> 9792848 | AI58: =AVERAGE(AD58:AH58) -> 8569669.2 | AJ58: =+STDEV(AD58:AH58) -> 1085070.7 | AK58: =+AJ58/AI58 -> 0.12661757
A59: 52 | B59: BOMBA EYECTORA PARA AGUA RESIDUAL SUMERGIBLE TIPO TRITURADORA DE 3 HP, 220 V; 3 FASES | C59: INCLUYE SUMINISTRO E INSTALACION DE BOMBA EYECTORA PARA AGUA RESIDUAL SUMERGIBLE TIPO TRITURADORA DE 3 HP, 220 V; 3 FASES | D59: UN | E59: 14795077 | F59: 14795077 | G59: INGENIERIA MONTAJES & CONSTRUCCION S.A.S. | H59: 900327815-15 | I59: 20000000 | J59: 20000000 | K59: INGENIERIA DE BOMBAS Y PLANTAS SAS | L59: 900152368-1 | M59: 15830733 | N59: 15830733 | O59: CGI INDUSTRY AND CONSTRUCTION GROUP SAS BIC | P59: 901666309-7 | Q59: 18205343 | R59: 18205343 | S59: GRUPO BERAKA SAS | T59: 901152951-1 | U59: 14529502 | V59: 14529502 | W59: SMI ELECTRÓNICA SAS | X59: 830090131-2 | Y59: =+AVERAGE(F59,J59,N59,R59,V59) -> 16672131 | Z59: =+STDEV(F59,J59,N59,R59,V59) -> 2358367.7 | AA59: =Z59/Y59 -> 0.14145568 | AB59: =+Y59+Z59 -> 19030499 | AC59: =Y59-Z59 -> 14313763 | AD59: =IF(((IF(AND(F59<=$AB59,F59>=$AC59),F59,""))<=0),"",(IF(AND(F59<=$AB59,F59>=$AC59),F59,""))) -> 14795077 | AE59: =IF(((IF(AND(J59<=$AB59,J59>=$AC59),J59,""))<=0),"",(IF(AND(J59<=$AB59,J59>=$AC59),J59,""))) | AF59: =IF(((IF(AND(N59<=$AB59,N59>=$AC59),N59,""))<=0),"",(IF(AND(N59<=$AB59,N59>=$AC59),N59,""))) -> 15830733 | AG59: =IF(((IF(AND(R59<=$AB59,R59>=$AC59),R59,""))<=0),"",(IF(AND(R59<=$AB59,R59>=$AC59),R59,""))) -> 18205343 | AH59: =IF(((IF(AND(V59<=$AB59,V59>=$AC59),V59,""))<=0),"",(IF(AND(V59<=$AB59,V59>=$AC59),V59,""))) -> 14529502 | AI59: =AVERAGE(AD59:AH59) -> 15840164 | AJ59: =+STDEV(AD59:AH59) -> 1673738.6 | AK59: =+AJ59/AI59 -> 0.10566422
A60: 53 | B60: SISTEMA DE ANCLAJE DE AUTOACOPLAMIENTO GUIADO, CONEXIONES 2″ X 2″, HIERRO FUNDIDO, PARA BOMBAS SUMERGIBLES DE HASTA 1 HP | C60: INCLUYE SUMINISTRO E INSTALACION DE SISTEMA DE ANCLAJE DE AUTOACOPLAMIENTO GUIADO, CONEXIONES 2″ X 2″, HIERRO FUNDIDO, PARA BOMBAS SUMERGIBLES. (ML) | D60: UN | E60: 1413109 | F60: 1413109 | G60: INGENIERIA MONTAJES & CONSTRUCCION S.A.S. | H60: 900327815-15 | K60: INGENIERIA DE BOMBAS Y PLANTAS SAS | L60: 900152368-1 | M60: 1512027 | N60: 1512027 | O60: CGI INDUSTRY AND CONSTRUCTION GROUP SAS BIC | P60: 901666309-7 | Q60: 1738831 | R60: 1738831 | S60: GRUPO BERAKA SAS | T60: 901152951-1 | U60: 2565304 | V60: 2565304 | W60: SMI ELECTRÓNICA SAS | X60: 830090131-2 | Y60: =+AVERAGE(F60,J60,N60,R60,V60) -> 1807317.8 | Z60: =+STDEV(F60,J60,N60,R60,V60) -> 523396.2 | AA60: =Z60/Y60 -> 0.28959833 | AB60: =+Y60+Z60 -> 2330714 | AC60: =Y60-Z60 -> 1283921.5 | AD60: =IF(((IF(AND(F60<=$AB60,F60>=$AC60),F60,""))<=0),"",(IF(AND(F60<=$AB60,F60>=$AC60),F60,""))) -> 1413109 | AE60: =IF(((IF(AND(J60<=$AB60,J60>=$AC60),J60,""))<=0),"",(IF(AND(J60<=$AB60,J60>=$AC60),J60,""))) | AF60: =IF(((IF(AND(N60<=$AB60,N60>=$AC60),N60,""))<=0),"",(IF(AND(N60<=$AB60,N60>=$AC60),N60,""))) -> 1512027 | AG60: =IF(((IF(AND(R60<=$AB60,R60>=$AC60),R60,""))<=0),"",(IF(AND(R60<=$AB60,R60>=$AC60),R60,""))) -> 1738831 | AH60: =IF(((IF(AND(V60<=$AB60,V60>=$AC60),V60,""))<=0),"",(IF(AND(V60<=$AB60,V60>=$AC60),V60,""))) | AI60: =AVERAGE(AD60:AH60) -> 1554655.7 | AJ60: =+STDEV(AD60:AH60) -> 166992.84 | AK60: =+AJ60/AI60 -> 0.10741468
A61: 54 | B61: SISTEMA DE ANCLAJE DE AUTOACOPLAMIENTO GUIADO, CONEXIONES 2″ X 2″, HIERRO FUNDIDO, PARA BOMBAS SUMERGIBLES DE HASTA 2 HP | C61: INCLUYE SUMINISTRO E INSTALACION DE SISTEMA DE ANCLAJE DE AUTOACOPLAMIENTO GUIADO, CONEXIONES 2″ X 2″, HIERRO FUNDIDO, PARA BOMBAS SUMERGIBLES. (ML) | D61: UN | E61: 3179496 | F61: 3179496 | G61: INGENIERIA MONTAJES & CONSTRUCCION S.A.S. | H61: 900327815-15 | I61: 1500000 | J61: 1500000 | K61: INGENIERIA DE BOMBAS Y PLANTAS SAS | L61: 900152368-1 | M61: 3402061 | N61: 3402061 | O61: CGI INDUSTRY AND CONSTRUCTION GROUP SAS BIC | P61: 901666309-7 | Q61: 3912370 | R61: 3912370 | S61: GRUPO BERAKA SAS | T61: 901152951-1 | U61: 4196934 | V61: 4196934 | W61: SMI ELECTRÓNICA SAS | X61: 830090131-2 | Y61: =+AVERAGE(F61,J61,N61,R61,V61) -> 3238172.2 | Z61: =+STDEV(F61,J61,N61,R61,V61) -> 1051821.3 | AA61: =Z61/Y61 -> 0.32481944 | AB61: =+Y61+Z61 -> 4289993.5 | AC61: =Y61-Z61 -> 2186350.9 | AD61: =IF(((IF(AND(F61<=$AB61,F61>=$AC61),F61,""))<=0),"",(IF(AND(F61<=$AB61,F61>=$AC61),F61,""))) -> 3179496 | AE61: =IF(((IF(AND(J61<=$AB61,J61>=$AC61),J61,""))<=0),"",(IF(AND(J61<=$AB61,J61>=$AC61),J61,""))) | AF61: =IF(((IF(AND(N61<=$AB61,N61>=$AC61),N61,""))<=0),"",(IF(AND(N61<=$AB61,N61>=$AC61),N61,""))) -> 3402061 | AG61: =IF(((IF(AND(R61<=$AB61,R61>=$AC61),R61,""))<=0),"",(IF(AND(R61<=$AB61,R61>=$AC61),R61,""))) -> 3912370 | AH61: =IF(((IF(AND(V61<=$AB61,V61>=$AC61),V61,""))<=0),"",(IF(AND(V61<=$AB61,V61>=$AC61),V61,""))) -> 4196934 | AI61: =AVERAGE(AD61:AH61) -> 3672715.2 | AJ61: =+STDEV(AD61:AH61) -> 465029.98 | AK61: =+AJ61/AI61 -> 0.12661749
A62: 55 | B62: SISTEMA DE ANCLAJE DE AUTOACOPLAMIENTO GUIADO, CONEXIONES 2″ X 2″, HIERRO FUNDIDO, PARA BOMBAS SUMERGIBLES DE HASTA 3 HP | C62: INCLUYE SUMINISTRO E INSTALACION DE SISTEMA DE ANCLAJE DE AUTOACOPLAMIENTO GUIADO, CONEXIONES 2″ X 2″, HIERRO FUNDIDO, PARA BOMBAS SUMERGIBLES. (ML) | D62: UN | E62: 3886050 | F62: 3886050 | G62: INGENIERIA MONTAJES & CONSTRUCCION S.A.S. | H62: 900327815-15 | I62: 2000000 | J62: 2000000 | K62: INGENIERIA DE BOMBAS Y PLANTAS SAS | L62: 900152368-1 | M62: 4158074 | N62: 4158074 | O62: CGI INDUSTRY AND CONSTRUCTION GROUP SAS BIC | P62: 901666309-7 | Q62: 4781785 | R62: 4781785 | S62: GRUPO BERAKA SAS | T62: 901152951-1 | U62: 5129587 | V62: 5129587 | W62: SMI ELECTRÓNICA SAS | X62: 830090131-2 | Y62: =+AVERAGE(F62,J62,N62,R62,V62) -> 3991099.2 | Z62: =+STDEV(F62,J62,N62,R62,V62) -> 1217038.5 | AA62: =Z62/Y62 -> 0.30493816 | AB62: =+Y62+Z62 -> 5208137.7 | AC62: =Y62-Z62 -> 2774060.7 | AD62: =IF(((IF(AND(F62<=$AB62,F62>=$AC62),F62,""))<=0),"",(IF(AND(F62<=$AB62,F62>=$AC62),F62,""))) -> 3886050 | AE62: =IF(((IF(AND(J62<=$AB62,J62>=$AC62),J62,""))<=0),"",(IF(AND(J62<=$AB62,J62>=$AC62),J62,""))) | AF62: =IF(((IF(AND(N62<=$AB62,N62>=$AC62),N62,""))<=0),"",(IF(AND(N62<=$AB62,N62>=$AC62),N62,""))) -> 4158074 | AG62: =IF(((IF(AND(R62<=$AB62,R62>=$AC62),R62,""))<=0),"",(IF(AND(R62<=$AB62,R62>=$AC62),R62,""))) -> 4781785 | AH62: =IF(((IF(AND(V62<=$AB62,V62>=$AC62),V62,""))<=0),"",(IF(AND(V62<=$AB62,V62>=$AC62),V62,""))) -> 5129587 | AI62: =AVERAGE(AD62:AH62) -> 4488874 | AJ62: =+STDEV(AD62:AH62) -> 568370.6 | AK62: =+AJ62/AI62 -> 0.12661763
A63: 56 | B63: BORNERA PARA MOTOR DE HASTA 1 HP. | C63: INCLUYE SUMINISTRO E INSTALACION DE BORNERA PARA MOTOR DE HASTA 1 HP. | D63: UN | E63: 60969 | F63: 60969 | G63: INGENIERIA MONTAJES & CONSTRUCCION S.A.S. | H63: 900327815-15 | I63: 120000 | J63: 120000 | K63: INGENIERIA DE BOMBAS Y PLANTAS SAS | L63: 900152368-1 | M63: 65299 | N63: 65299 | O63: CGI INDUSTRY AND CONSTRUCTION GROUP SAS BIC | P63: 901666309-7 | Q63: 75094 | R63: 75094 | S63: GRUPO BERAKA SAS | T63: 901152951-1 | U63: 80555 | V63: 80555 | W63: SMI ELECTRÓNICA SAS | X63: 830090131-2 | Y63: =+AVERAGE(F63,J63,N63,R63,V63) -> 80383.4 | Z63: =+STDEV(F63,J63,N63,R63,V63) -> 23462.418 | AA63: =Z63/Y63 -> 0.29188138 | AB63: =+Y63+Z63 -> 103845.82 | AC63: =Y63-Z63 -> 56920.982 | AD63: =IF(((IF(AND(F63<=$AB63,F63>=$AC63),F63,""))<=0),"",(IF(AND(F63<=$AB63,F63>=$AC63),F63,""))) -> 60969 | AE63: =IF(((IF(AND(J63<=$AB63,J63>=$AC63),J63,""))<=0),"",(IF(AND(J63<=$AB63,J63>=$AC63),J63,""))) | AF63: =IF(((IF(AND(N63<=$AB63,N63>=$AC63),N63,""))<=0),"",(IF(AND(N63<=$AB63,N63>=$AC63),N63,""))) -> 65299 | AG63: =IF(((IF(AND(R63<=$AB63,R63>=$AC63),R63,""))<=0),"",(IF(AND(R63<=$AB63,R63>=$AC63),R63,""))) -> 75094 | AH63: =IF(((IF(AND(V63<=$AB63,V63>=$AC63),V63,""))<=0),"",(IF(AND(V63<=$AB63,V63>=$AC63),V63,""))) -> 80555 | AI63: =AVERAGE(AD63:AH63) -> 70479.25 | AJ63: =+STDEV(AD63:AH63) -> 8946.0699 | AK63: =+AJ63/AI63 -> 0.12693197
A64: 57 | B64: BORNERA PARA MOTOR DE HASTA 2,5 HP | C64: INCLUYE SUMINISTRO E INSTALACION DE BORNERA PARA MOTOR DE HASTA 2,5 HP | D64: UN | E64: 51026 | F64: 51026 | G64: INGENIERIA MONTAJES & CONSTRUCCION S.A.S. | H64: 900327815-15 | I64: 130000 | J64: 130000 | K64: INGENIERIA DE BOMBAS Y PLANTAS SAS | L64: 900152368-1 | M64: 54650 | N64: 54650 | O64: CGI INDUSTRY AND CONSTRUCTION GROUP SAS BIC | P64: 901666309-7 | Q64: 62848 | R64: 62848 | S64: GRUPO BERAKA SAS | T64: 901152951-1 | U64: 67419 | V64: 67419 | W64: SMI ELECTRÓNICA SAS | X64: 830090131-2 | Y64: =+AVERAGE(F64,J64,N64,R64,V64) -> 73188.6 | Z64: =+STDEV(F64,J64,N64,R64,V64) -> 32413.778 | AA64: =Z64/Y64 -> 0.44288015 | AB64: =+Y64+Z64 -> 105602.38 | AC64: =Y64-Z64 -> 40774.822 | AD64: =IF(((IF(AND(F64<=$AB64,F64>=$AC64),F64,""))<=0),"",(IF(AND(F64<=$AB64,F64>=$AC64),F64,""))) -> 51026 | AE64: =IF(((IF(AND(J64<=$AB64,J64>=$AC64),J64,""))<=0),"",(IF(AND(J64<=$AB64,J64>=$AC64),J64,""))) | AF64: =IF(((IF(AND(N64<=$AB64,N64>=$AC64),N64,""))<=0),"",(IF(AND(N64<=$AB64,N64>=$AC64),N64,""))) -> 54650 | AG64: =IF(((IF(AND(R64<=$AB64,R64>=$AC64),R64,""))<=0),"",(IF(AND(R64<=$AB64,R64>=$AC64),R64,""))) -> 62848 | AH64: =IF(((IF(AND(V64<=$AB64,V64>=$AC64),V64,""))<=0),"",(IF(AND(V64<=$AB64,V64>=$AC64),V64,""))) -> 67419 | AI64: =AVERAGE(AD64:AH64) -> 58985.75 | AJ64: =+STDEV(AD64:AH64) -> 7487.6126 | AK64: =+AJ64/AI64 -> 0.12693935
A65: 58 | B65: BORNERA PARA MOTOR HASTA 10 HP | C65: INCLUYE SUMINISTRO E INSTALACION DE BORNERA PARA MOTOR HASTA 10 HP | D65: UN | E65: 147159 | F65: 147159 | G65: INGENIERIA MONTAJES & CONSTRUCCION S.A.S. | H65: 900327815-15 | I65: 150000 | J65: 150000 | K65: INGENIERIA DE BOMBAS Y PLANTAS SAS | L65: 900152368-1 | M65: 157610 | N65: 157610 | O65: CGI INDUSTRY AND CONSTRUCTION GROUP SAS BIC | P65: 901666309-7 | Q65: 181252 | R65: 181252 | S65: GRUPO BERAKA SAS | T65: 901152951-1 | U65: 194435 | V65: 194435 | W65: SMI ELECTRÓNICA SAS | X65: 830090131-2 | Y65: =+AVERAGE(F65,J65,N65,R65,V65) -> 166091.2 | Z65: =+STDEV(F65,J65,N65,R65,V65) -> 20751.545 | AA65: =Z65/Y65 -> 0.12494067 | AB65: =+Y65+Z65 -> 186842.75 | AC65: =Y65-Z65 -> 145339.65 | AD65: =IF(((IF(AND(F65<=$AB65,F65>=$AC65),F65,""))<=0),"",(IF(AND(F65<=$AB65,F65>=$AC65),F65,""))) -> 147159 | AE65: =IF(((IF(AND(J65<=$AB65,J65>=$AC65),J65,""))<=0),"",(IF(AND(J65<=$AB65,J65>=$AC65),J65,""))) -> 150000 | AF65: =IF(((IF(AND(N65<=$AB65,N65>=$AC65),N65,""))<=0),"",(IF(AND(N65<=$AB65,N65>=$AC65),N65,""))) -> 157610 | AG65: =IF(((IF(AND(R65<=$AB65,R65>=$AC65),R65,""))<=0),"",(IF(AND(R65<=$AB65,R65>=$AC65),R65,""))) -> 181252 | AH65: =IF(((IF(AND(V65<=$AB65,V65>=$AC65),V65,""))<=0),"",(IF(AND(V65<=$AB65,V65>=$AC65),V65,""))) | AI65: =AVERAGE(AD65:AH65) -> 159005.25 | AJ65: =+STDEV(AD65:AH65) -> 15473.556 | AK65: =+AJ65/AI65 -> 0.097314747
A66: 59 | B66: BORNERA PARA MOTOR HASTA 12,5 HP | C66: INCLUYE SUMINISTRO E INSTALACION DE BORNERA PARA MOTOR HASTA 12,5 HP | D66: UN | E66: 172554 | F66: 172554 | G66: INGENIERIA MONTAJES & CONSTRUCCION S.A.S. | H66: 900327815-15 | I66: 200000 | J66: 200000 | K66: INGENIERIA DE BOMBAS Y PLANTAS SAS | L66: 900152368-1 | M66: 184809 | N66: 184809 | O66: CGI INDUSTRY AND CONSTRUCTION GROUP SAS BIC | P66: 901666309-7 | Q66: 212530 | R66: 212530 | S66: GRUPO BERAKA SAS | T66: 901152951-1 | U66: 227988 | V66: 227988 | W66: SMI ELECTRÓNICA SAS | X66: 830090131-2 | Y66: =+AVERAGE(F66,J66,N66,R66,V66) -> 199576.2 | Z66: =+STDEV(F66,J66,N66,R66,V66) -> 21928.751 | AA66: =Z66/Y66 -> 0.10987658 | AB66: =+Y66+Z66 -> 221504.95 | AC66: =Y66-Z66 -> 177647.45 | AD66: =IF(((IF(AND(F66<=$AB66,F66>=$AC66),F66,""))<=0),"",(IF(AND(F66<=$AB66,F66>=$AC66),F66,""))) | AE66: =IF(((IF(AND(J66<=$AB66,J66>=$AC66),J66,""))<=0),"",(IF(AND(J66<=$AB66,J66>=$AC66),J66,""))) -> 200000 | AF66: =IF(((IF(AND(N66<=$AB66,N66>=$AC66),N66,""))<=0),"",(IF(AND(N66<=$AB66,N66>=$AC66),N66,""))) -> 184809 | AG66: =IF(((IF(AND(R66<=$AB66,R66>=$AC66),R66,""))<=0),"",(IF(AND(R66<=$AB66,R66>=$AC66),R66,""))) -> 212530 | AH66: =IF(((IF(AND(V66<=$AB66,V66>=$AC66),V66,""))<=0),"",(IF(AND(V66<=$AB66,V66>=$AC66),V66,""))) | AI66: =AVERAGE(AD66:AH66) -> 199113 | AJ66: =+STDEV(AD66:AH66) -> 13881.77 | AK66: =+AJ66/AI66 -> 0.069718049
A67: 60 | B67: BORNERA PARA MOTOR HASTA 15 HP | C67: INCLUYE SUMINISTRO E INSTALACION DE BORNERA PARA MOTOR HASTA 15 HP | D67: UN | E67: 208167 | F67: 208167 | G67: INGENIERIA MONTAJES & CONSTRUCCION S.A.S. | H67: 900327815-15 | I67: 250000 | J67: 250000 | K67: INGENIERIA DE BOMBAS Y PLANTAS SAS | L67: 900152368-1 | M67: 222950 | N67: 222950 | O67: CGI INDUSTRY AND CONSTRUCTION GROUP SAS BIC | P67: 901666309-7 | Q67: 256393 | R67: 256393 | S67: GRUPO BERAKA SAS | T67: 901152951-1 | U67: 275041 | V67: 275041 | W67: SMI ELECTRÓNICA SAS | X67: 830090131-2 | Y67: =+AVERAGE(F67,J67,N67,R67,V67) -> 242510.2 | Z67: =+STDEV(F67,J67,N67,R67,V67) -> 26782.172 | AA67: =Z67/Y67 -> 0.1104373 | AB67: =+Y67+Z67 -> 269292.37 | AC67: =Y67-Z67 -> 215728.03 | AD67: =IF(((IF(AND(F67<=$AB67,F67>=$AC67),F67,""))<=0),"",(IF(AND(F67<=$AB67,F67>=$AC67),F67,""))) | AE67: =IF(((IF(AND(J67<=$AB67,J67>=$AC67),J67,""))<=0),"",(IF(AND(J67<=$AB67,J67>=$AC67),J67,""))) -> 250000 | AF67: =IF(((IF(AND(N67<=$AB67,N67>=$AC67),N67,""))<=0),"",(IF(AND(N67<=$AB67,N67>=$AC67),N67,""))) -> 222950 | AG67: =IF(((IF(AND(R67<=$AB67,R67>=$AC67),R67,""))<=0),"",(IF(AND(R67<=$AB67,R67>=$AC67),R67,""))) -> 256393 | AH67: =IF(((IF(AND(V67<=$AB67,V67>=$AC67),V67,""))<=0),"",(IF(AND(V67<=$AB67,V67>=$AC67),V67,""))) | AI67: =AVERAGE(AD67:AH67) -> 243114.33 | AJ67: =+STDEV(AD67:AH67) -> 17752.968 | AK67: =+AJ67/AI67 -> 0.073023123
A68: 61 | B68: BORNERA PARA MOTOR HASTA 20 HP | C68: INCLUYE SUMINISTRO E INSTALACION DE BORNERA PARA MOTOR HASTA 20 HP | D68: UN | E68: 270036 | F68: 270036 | G68: INGENIERIA MONTAJES & CONSTRUCCION S.A.S. | H68: 900327815-15 | I68: 300000 | J68: 300000 | K68: INGENIERIA DE BOMBAS Y PLANTAS SAS | L68: 900152368-1 | M68: 289214 | N68: 289214 | O68: CGI INDUSTRY AND CONSTRUCTION GROUP SAS BIC | P68: 901666309-7 | Q68: 332596 | R68: 332596 | S68: GRUPO BERAKA SAS | T68: 901152951-1 | U68: 356787 | V68: 356787 | W68: SMI ELECTRÓNICA SAS | X68: 830090131-2 | Y68: =+AVERAGE(F68,J68,N68,R68,V68) -> 309726.6 | Z68: =+STDEV(F68,J68,N68,R68,V68) -> 34743.373 | AA68: =Z68/Y68 -> 0.11217433 | AB68: =+Y68+Z68 -> 344469.97 | AC68: =Y68-Z68 -> 274983.23 | AD68: =IF(((IF(AND(F68<=$AB68,F68>=$AC68),F68,""))<=0),"",(IF(AND(F68<=$AB68,F68>=$AC68),F68,""))) | AE68: =IF(((IF(AND(J68<=$AB68,J68>=$AC68),J68,""))<=0),"",(IF(AND(J68<=$AB68,J68>=$AC68),J68,""))) -> 300000 | AF68: =IF(((IF(AND(N68<=$AB68,N68>=$AC68),N68,""))<=0),"",(IF(AND(N68<=$AB68,N68>=$AC68),N68,""))) -> 289214 | AG68: =IF(((IF(AND(R68<=$AB68,R68>=$AC68),R68,""))<=0),"",(IF(AND(R68<=$AB68,R68>=$AC68),R68,""))) -> 332596 | AH68: =IF(((IF(AND(V68<=$AB68,V68>=$AC68),V68,""))<=0),"",(IF(AND(V68<=$AB68,V68>=$AC68),V68,""))) | AI68: =AVERAGE(AD68:AH68) -> 307270 | AJ68: =+STDEV(AD68:AH68) -> 22586.26 | AK68: =+AJ68/AI68 -> 0.073506233
A69: 62 | B69: BORNERA PARA MOTOR HASTA 25 HP | C69: INCLUYE SUMINISTRO E INSTALACION DE BORNERA PARA MOTOR HASTA 25 HP | D69: UN | E69: 289442 | F69: 289442 | G69: INGENIERIA MONTAJES & CONSTRUCCION S.A.S. | H69: 900327815-15 | I69: 350000 | J69: 350000 | K69: INGENIERIA DE BOMBAS Y PLANTAS SAS | L69: 900152368-1 | M69: 309998 | N69: 309998 | O69: CGI INDUSTRY AND CONSTRUCTION GROUP SAS BIC | P69: 901666309-7 | Q69: 356498 | R69: 356498 | S69: GRUPO BERAKA SAS | T69: 901152951-1 | U69: 382427 | V69: 382427 | W69: SMI ELECTRÓNICA SAS | X69: 830090131-2 | Y69: =+AVERAGE(F69,J69,N69,R69,V69) -> 337673 | Z69: =+STDEV(F69,J69,N69,R69,V69) -> 37421.221 | AA69: =Z69/Y69 -> 0.11082089 | AB69: =+Y69+Z69 -> 375094.22 | AC69: =Y69-Z69 -> 300251.78 | AD69: =IF(((IF(AND(F69<=$AB69,F69>=$AC69),F69,""))<=0),"",(IF(AND(F69<=$AB69,F69>=$AC69),F69,""))) | AE69: =IF(((IF(AND(J69<=$AB69,J69>=$AC69),J69,""))<=0),"",(IF(AND(J69<=$AB69,J69>=$AC69),J69,""))) -> 350000 | AF69: =IF(((IF(AND(N69<=$AB69,N69>=$AC69),N69,""))<=0),"",(IF(AND(N69<=$AB69,N69>=$AC69),N69,""))) -> 309998 | AG69: =IF(((IF(AND(R69<=$AB69,R69>=$AC69),R69,""))<=0),"",(IF(AND(R69<=$AB69,R69>=$AC69),R69,""))) -> 356498 | AH69: =IF(((IF(AND(V69<=$AB69,V69>=$AC69),V69,""))<=0),"",(IF(AND(V69<=$AB69,V69>=$AC69),V69,""))) | AI69: =AVERAGE(AD69:AH69) -> 338832 | AJ69: =+STDEV(AD69:AH69) -> 25181.455 | AK69: =+AJ69/AI69 -> 0.074318408
A70: 63 | B70: BORNERA PARA MOTOR HASTA 3,6 HP | C70: INCLUYE SUMINISTRO E INSTALACION DE BORNERA PARA MOTOR HASTA 3,6 HP | D70: UN | E70: 53419 | F70: 53419 | G70: INGENIERIA MONTAJES & CONSTRUCCION S.A.S. | H70: 900327815-15 | I70: 150000 | J70: 150000 | K70: INGENIERIA DE BOMBAS Y PLANTAS SAS | L70: 900152368-1 | M70: 57213 | N70: 57213 | O70: CGI INDUSTRY AND CONSTRUCTION GROUP SAS BIC | P70: 901666309-7 | Q70: 65795 | R70: 65795 | S70: GRUPO BERAKA SAS | T70: 901152951-1 | U70: 70580 | V70: 70580 | W70: SMI ELECTRÓNICA SAS | X70: 830090131-2 | Y70: =+AVERAGE(F70,J70,N70,R70,V70) -> 79401.4 | Z70: =+STDEV(F70,J70,N70,R70,V70) -> 40045.361 | AA70: =Z70/Y70 -> 0.50434074 | AB70: =+Y70+Z70 -> 119446.76 | AC70: =Y70-Z70 -> 39356.039 | AD70: =IF(((IF(AND(F70<=$AB70,F70>=$AC70),F70,""))<=0),"",(IF(AND(F70<=$AB70,F70>=$AC70),F70,""))) -> 53419 | AE70: =IF(((IF(AND(J70<=$AB70,J70>=$AC70),J70,""))<=0),"",(IF(AND(J70<=$AB70,J70>=$AC70),J70,""))) | AF70: =IF(((IF(AND(N70<=$AB70,N70>=$AC70),N70,""))<=0),"",(IF(AND(N70<=$AB70,N70>=$AC70),N70,""))) -> 57213 | AG70: =IF(((IF(AND(R70<=$AB70,R70>=$AC70),R70,""))<=0),"",(IF(AND(R70<=$AB70,R70>=$AC70),R70,""))) -> 65795 | AH70: =IF(((IF(AND(V70<=$AB70,V70>=$AC70),V70,""))<=0),"",(IF(AND(V70<=$AB70,V70>=$AC70),V70,""))) -> 70580 | AI70: =AVERAGE(AD70:AH70) -> 61751.75 | AJ70: =+STDEV(AD70:AH70) -> 7838.3851 | AK70: =+AJ70/AI70 -> 0.12693381
A71: 64 | B71: BORNERA PARA MOTOR HASTA 30 HP | C71: INCLUYE SUMINISTRO E INSTALACION DE BORNERA PARA MOTOR HASTA 30 HP | D71: UN | E71: 368519 | F71: 368519 | G71: INGENIERIA MONTAJES & CONSTRUCCION S.A.S. | H71: 900327815-15 | I71: 350000 | J71: 350000 | K71: INGENIERIA DE BOMBAS Y PLANTAS SAS | L71: 900152368-1 | M71: 394691 | N71: 394691 | O71: CGI INDUSTRY AND CONSTRUCTION GROUP SAS BIC | P71: 901666309-7 | Q71: 453894 | R71: 453894 | S71: GRUPO BERAKA SAS | T71: 901152951-1 | U71: 486908 | V71: 486908 | W71: SMI ELECTRÓNICA SAS | X71: 830090131-2 | Y71: =+AVERAGE(F71,J71,N71,R71,V71) -> 410802.4 | Z71: =+STDEV(F71,J71,N71,R71,V71) -> 57864.806 | AA71: =Z71/Y71 -> 0.140858 | AB71: =+Y71+Z71 -> 468667.21 | AC71: =Y71-Z71 -> 352937.59 | AD71: =IF(((IF(AND(F71<=$AB71,F71>=$AC71),F71,""))<=0),"",(IF(AND(F71<=$AB71,F71>=$AC71),F71,""))) -> 368519 | AE71: =IF(((IF(AND(J71<=$AB71,J71>=$AC71),J71,""))<=0),"",(IF(AND(J71<=$AB71,J71>=$AC71),J71,""))) | AF71: =IF(((IF(AND(N71<=$AB71,N71>=$AC71),N71,""))<=0),"",(IF(AND(N71<=$AB71,N71>=$AC71),N71,""))) -> 394691 | AG71: =IF(((IF(AND(R71<=$AB71,R71>=$AC71),R71,""))<=0),"",(IF(AND(R71<=$AB71,R71>=$AC71),R71,""))) -> 453894 | AH71: =IF(((IF(AND(V71<=$AB71,V71>=$AC71),V71,""))<=0),"",(IF(AND(V71<=$AB71,V71>=$AC71),V71,""))) | AI71: =AVERAGE(AD71:AH71) -> 405701.33 | AJ71: =+STDEV(AD71:AH71) -> 43739.493 | AK71: =+AJ71/AI71 -> 0.10781205
A72: 65 | B72: BORNERA PARA MOTOR HASTA 5,5 HP | C72: INCLUYE SUMINISTRO E INSTALACION DE BORNERA PARA MOTOR HASTA 5,5 HP | D72: UN | E72: 65703 | F72: 65703 | G72: INGENIERIA MONTAJES & CONSTRUCCION S.A.S. | H72: 900327815-15 | I72: 150000 | J72: 150000 | K72: INGENIERIA DE BOMBAS Y PLANTAS SAS | L72: 900152368-1 | M72: 70369 | N72: 70369 | O72: CGI INDUSTRY AND CONSTRUCTION GROUP SAS BIC | P72: 901666309-7 | Q72: 80925 | R72: 80925 | S72: GRUPO BERAKA SAS | T72: 901152951-1 | U72: 86811 | V72: 86811 | W72: SMI ELECTRÓNICA SAS | X72: 830090131-2 | Y72: =+AVERAGE(F72,J72,N72,R72,V72) -> 90761.6 | Z72: =+STDEV(F72,J72,N72,R72,V72) -> 34151.667 | AA72: =Z72/Y72 -> 0.37627882 | AB72: =+Y72+Z72 -> 124913.27 | AC72: =Y72-Z72 -> 56609.933 | AD72: =IF(((IF(AND(F72<=$AB72,F72>=$AC72),F72,""))<=0),"",(IF(AND(F72<=$AB72,F72>=$AC72),F72,""))) -> 65703 | AE72: =IF(((IF(AND(J72<=$AB72,J72>=$AC72),J72,""))<=0),"",(IF(AND(J72<=$AB72,J72>=$AC72),J72,""))) | AF72: =IF(((IF(AND(N72<=$AB72,N72>=$AC72),N72,""))<=0),"",(IF(AND(N72<=$AB72,N72>=$AC72),N72,""))) -> 70369 | AG72: =IF(((IF(AND(R72<=$AB72,R72>=$AC72),R72,""))<=0),"",(IF(AND(R72<=$AB72,R72>=$AC72),R72,""))) -> 80925 | AH72: =IF(((IF(AND(V72<=$AB72,V72>=$AC72),V72,""))<=0),"",(IF(AND(V72<=$AB72,V72>=$AC72),V72,""))) -> 86811 | AI72: =AVERAGE(AD72:AH72) -> 75952 | AJ72: =+STDEV(AD72:AH72) -> 9641.2395 | AK72: =+AJ72/AI72 -> 0.12693859
... A434: 431 | B434: ROSCA PARA NIPLE DE 6" EN ACERO GALVANIZADO | C434: CONSISTE EN REALIZAR ROSCA PARA NIPLE DE 6" EN ACERO GALVANIZADO | D434: UN | E434: 1059832 | F434: 1059832 | G434: INGENIERIA MONTAJES & CONSTRUCCION S.A.S. | H434: 900327815-15 | I434: 450000 | J434: 450000 | K434: INGENIERIA DE BOMBAS Y PLANTAS SAS | L434: 900152368-1 | M434: 1134020 | N434: 1134020 | O434: CGI INDUSTRY AND CONSTRUCTION GROUP SAS BIC | P434: 901666309-7 | Q434: 1304123 | R434: 1304123 | S434: GRUPO BERAKA SAS | T434: 901152951-1 | U434: 186000 | V434: 186000 | W434: SMI ELECTRÓNICA SAS | X434: 830090131-2 | Y434: =+AVERAGE(F434,J434,N434,R434,V434) -> 826795 | Z434: =+STDEV(F434,J434,N434,R434,V434) -> 481956.47 | AA434: =Z434/Y434 -> 0.58292137 | AB434: =+Y434+Z434 -> 1308751.5 | AC434: =Y434-Z434 -> 344838.53 | AD434: =IF(((IF(AND(F434<=$AB434,F434>=$AC434),F434,""))<=0),"",(IF(AND(F434<=$AB434,F434>=$AC434),F434,""))) -> 1059832 | AE434: =IF(((IF(AND(J434<=$AB434,J434>=$AC434),J434,""))<=0),"",(IF(AND(J434<=$AB434,J434>=$AC434),J434,""))) -> 450000 | AF434: =IF(((IF(AND(N434<=$AB434,N434>=$AC434),N434,""))<=0),"",(IF(AND(N434<=$AB434,N434>=$AC434),N434,""))) -> 1134020 | AG434: =IF(((IF(AND(R434<=$AB434,R434>=$AC434),R434,""))<=0),"",(IF(AND(R434<=$AB434,R434>=$AC434),R434,""))) -> 1304123 | AH434: =IF(((IF(AND(V434<=$AB434,V434>=$AC434),V434,""))<=0),"",(IF(AND(V434<=$AB434,V434>=$AC434),V434,""))) | AI434: =AVERAGE(AD434:AH434) -> 986993.75 | AJ434: =+STDEV(AD434:AH434) -> 372315 | AK434: =+AJ434/AI434 -> 0.37722123
A435: 432 | B435: ROSCA PARA NIPLE DE 4" EN ACERO INOXIDABLE | C435: CONSISTE EN REALIZAR ROSCA PARA NIPLE DE 4" EN ACERO INOXIDABLE | D435: UN | E435: 51765 | F435: 51765 | G435: INGENIERIA MONTAJES & CONSTRUCCION S.A.S. | H435: 900327815-15 | I435: 300000 | J435: 300000 | K435: INGENIERIA DE BOMBAS Y PLANTAS SAS | L435: 900152368-1 | M435: 55441 | N435: 55441 | O435: CGI INDUSTRY AND CONSTRUCTION GROUP SAS BIC | P435: 901666309-7 | Q435: 63757 | R435: 63757 | S435: GRUPO BERAKA SAS | T435: 901152951-1 | W435: SMI ELECTRÓNICA SAS | X435: 830090131-2 | Y435: =+AVERAGE(F435,J435,N435,R435,V435) -> 117740.75 | Z435: =+STDEV(F435,J435,N435,R435,V435) -> 121609.67 | AA435: =Z435/Y435 -> 1.0328597 | AB435: =+Y435+Z435 -> 239350.42 | AC435: =Y435-Z435 -> -3868.9233 | AD435: =IF(((IF(AND(F435<=$AB435,F435>=$AC435),F435,""))<=0),"",(IF(AND(F435<=$AB435,F435>=$AC435),F435,""))) -> 51765 | AE435: =IF(((IF(AND(J435<=$AB435,J435>=$AC435),J435,""))<=0),"",(IF(AND(J435<=$AB435,J435>=$AC435),J435,""))) | AF435: =IF(((IF(AND(N435<=$AB435,N435>=$AC435),N435,""))<=0),"",(IF(AND(N435<=$AB435,N435>=$AC435),N435,""))) -> 55441 | AG435: =IF(((IF(AND(R435<=$AB435,R435>=$AC435),R435,""))<=0),"",(IF(AND(R435<=$AB435,R435>=$AC435),R435,""))) -> 63757 | AH435: =IF(((IF(AND(V435<=$AB435,V435>=$AC435),V435,""))<=0),"",(IF(AND(V435<=$AB435,V435>=$AC435),V435,""))) | AI435: =AVERAGE(AD435:AH435) -> 56987.667 | AJ435: =+STDEV(AD435:AH435) -> 6143.7895 | AK435: =+AJ435/AI435 -> 0.10780911
A436: 433 | B436: ROSCA PARA NIPLE DE 6" EN ACERO INOXIDABLE | C436: CONSISTE EN REALIZAR ROSCA PARA NIPLE DE 6" EN ACERO INOXIDABLE | D436: UN | E436: 1678067 | F436: 1678067 | G436: INGENIERIA MONTAJES & CONSTRUCCION S.A.S. | H436: 900327815-15 | I436: 450000 | J436: 450000 | K436: INGENIERIA DE BOMBAS Y PLANTAS SAS | L436: 900152368-1 | M436: 1795532 | N436: 1795532 | O436: CGI INDUSTRY AND CONSTRUCTION GROUP SAS BIC | P436: 901666309-7 | Q436: 2064862 | R436: 2064862 | S436: GRUPO BERAKA SAS | T436: 901152951-1 | U436: 230000 | V436: 230000 | W436: SMI ELECTRÓNICA SAS | X436: 830090131-2 | Y436: =+AVERAGE(F436,J436,N436,R436,V436) -> 1243692.2 | Z436: =+STDEV(F436,J436,N436,R436,V436) -> 840393.9 | AA436: =Z436/Y436 -> 0.67572499 | AB436: =+Y436+Z436 -> 2084086.1 | AC436: =Y436-Z436 -> 403298.3 | AD436: =IF(((IF(AND(F436<=$AB436,F436>=$AC436),F436,""))<=0),"",(IF(AND(F436<=$AB436,F436>=$AC436),F436,""))) -> 1678067 | AE436: =IF(((IF(AND(J436<=$AB436,J436>=$AC436),J436,""))<=0),"",(IF(AND(J436<=$AB436,J436>=$AC436),J436,""))) -> 450000 | AF436: =IF(((IF(AND(N436<=$AB436,N436>=$AC436),N436,""))<=0),"",(IF(AND(N436<=$AB436,N436>=$AC436),N436,""))) -> 1795532 | AG436: =IF(((IF(AND(R436<=$AB436,R436>=$AC436),R436,""))<=0),"",(IF(AND(R436<=$AB436,R436>=$AC436),R436,""))) -> 2064862 | AH436: =IF(((IF(AND(V436<=$AB436,V436>=$AC436),V436,""))<=0),"",(IF(AND(V436<=$AB436,V436>=$AC436),V436,""))) | AI436: =AVERAGE(AD436:AH436) -> 1497115.2 | AJ436: =+STDEV(AD436:AH436) -> 716608.4 | AK436: =+AJ436/AI436 -> 0.47865948
A437: 434 | B437: SELLO MECÁNICO PARA MOTOBOMBA | C437: INCLUYE SUMINISTRO E INSTALACION DE SELLO MECÁNICO PARA MOTOBOMBA | D437: UN | E437: 529879 | F437: 529879 | G437: INGENIERIA MONTAJES & CONSTRUCCION S.A.S. | H437: 900327815-15 | I437: 400000 | J437: 400000 | K437: INGENIERIA DE BOMBAS Y PLANTAS SAS | L437: 900152368-1 | M437: 567510 | N437: 567510 | O437: CGI INDUSTRY AND CONSTRUCTION GROUP SAS BIC | P437: 901666309-7 | Q437: 652637 | R437: 652637 | S437: GRUPO BERAKA SAS | T437: 901152951-1 | U437: 500106 | V437: 500106 | W437: SMI ELECTRÓNICA SAS | X437: 830090131-2 | Y437: =+AVERAGE(F437,J437,N437,R437,V437) -> 530026.4 | Z437: =+STDEV(F437,J437,N437,R437,V437) -> 92520.939 | AA437: =Z437/Y437 -> 0.17455911 | AB437: =+Y437+Z437 -> 622547.34 | AC437: =Y437-Z437 -> 437505.46 | AD437: =IF(((IF(AND(F437<=$AB437,F437>=$AC437),F437,""))<=0),"",(IF(AND(F437<=$AB437,F437>=$AC437),F437,""))) -> 529879 | AE437: =IF(((IF(AND(J437<=$AB437,J437>=$AC437),J437,""))<=0),"",(IF(AND(J437<=$AB437,J437>=$AC437),J437,""))) | AF437: =IF(((IF(AND(N437<=$AB437,N437>=$AC437),N437,""))<=0),"",(IF(AND(N437<=$AB437,N437>=$AC437),N437,""))) -> 567510 | AG437: =IF(((IF(AND(R437<=$AB437,R437>=$AC437),R437,""))<=0),"",(IF(AND(R437<=$AB437,R437>=$AC437),R437,""))) | AH437: =IF(((IF(AND(V437<=$AB437,V437>=$AC437),V437,""))<=0),"",(IF(AND(V437<=$AB437,V437>=$AC437),V437,""))) -> 500106 | AI437: =AVERAGE(AD437:AH437) -> 532498.33 | AJ437: =+STDEV(AD437:AH437) -> 33778.255 | AK437: =+AJ437/AI437 -> 0.063433541
A438: 435 | B438: SEMICODO DE 1-1/2" PVCP | C438: INCLUYE SUMINISTRO E INSTALACION DE SEMICODO DE 1-1/2" PVCP | D438: UN | E438: 11886 | F438: 11886 | G438: INGENIERIA MONTAJES & CONSTRUCCION S.A.S. | H438: 900327815-15 | I438: 50000 | J438: 50000 | K438: INGENIERIA DE BOMBAS Y PLANTAS SAS | L438: 900152368-1 | M438: 12730 | N438: 12730 | O438: CGI INDUSTRY AND CONSTRUCTION GROUP SAS BIC | P438: 901666309-7 | Q438: 14640 | R438: 14640 | S438: GRUPO BERAKA SAS | T438: 901152951-1 | U438: 15705 | V438: 15705 | W438: SMI ELECTRÓNICA SAS | X438: 830090131-2 | Y438: =+AVERAGE(F438,J438,N438,R438,V438) -> 20992.2 | Z438: =+STDEV(F438,J438,N438,R438,V438) -> 16286.069 | AA438: =Z438/Y438 -> 0.77581527 | AB438: =+Y438+Z438 -> 37278.269 | AC438: =Y438-Z438 -> 4706.1307 | AD438: =IF(((IF(AND(F438<=$AB438,F438>=$AC438),F438,""))<=0),"",(IF(AND(F438<=$AB438,F438>=$AC438),F438,""))) -> 11886 | AE438: =IF(((IF(AND(J438<=$AB438,J438>=$AC438),J438,""))<=0),"",(IF(AND(J438<=$AB438,J438>=$AC438),J438,""))) | AF438: =IF(((IF(AND(N438<=$AB438,N438>=$AC438),N438,""))<=0),"",(IF(AND(N438<=$AB438,N438>=$AC438),N438,""))) -> 12730 | AG438: =IF(((IF(AND(R438<=$AB438,R438>=$AC438),R438,""))<=0),"",(IF(AND(R438<=$AB438,R438>=$AC438),R438,""))) -> 14640 | AH438: =IF(((IF(AND(V438<=$AB438,V438>=$AC438),V438,""))<=0),"",(IF(AND(V438<=$AB438,V438>=$AC438),V438,""))) -> 15705 | AI438: =AVERAGE(AD438:AH438) -> 13740.25 | AJ438: =+STDEV(AD438:AH438) -> 1744.3854 | AK438: =+AJ438/AI438 -> 0.12695441
A439: 436 | B439: SERVICIO DE MANTENIMIENTO PREVENTIVO EVENTUAL DE LOS SISTEMAS HIDRONEUMATICOS Y/O BOMBEO, ACORDE A LAS RUTINAS ESTABLECIDAS EN LA FICHA TECNICA (PARA DOS SISTEMAS HIDRONEUMÁTICOS); NO INCLUYE REPUESTOS. | C439: EL SERVICIO INCLUYE LA REALIZACION DE LAS ACTIVIDADES DESCRITAS EN LA RUTINA DEL ANEXO O FICHA TECNICA DEL PROCESO | D439: UN | E439: 2581607 | F439: 2581607 | G439: INGENIERIA MONTAJES & CONSTRUCCION S.A.S. | H439: 900327815-15 | I439: 1500000 | J439: 1500000 | K439: INGENIERIA DE BOMBAS Y PLANTAS SAS | L439: 900152368-1 | M439: 2764947 | N439: 2764947 | O439: CGI INDUSTRY AND CONSTRUCTION GROUP SAS BIC | P439: 901666309-7 | Q439: 3179690 | R439: 3179690 | S439: GRUPO BERAKA SAS | T439: 901152951-1 | U439: 3159000 | V439: 3159000 | W439: SMI ELECTRÓNICA SAS | X439: 830090131-2 | Y439: =+AVERAGE(F439,J439,N439,R439,V439) -> 2637048.8 | Z439: =+STDEV(F439,J439,N439,R439,V439) -> 685420.35 | AA439: =Z439/Y439 -> 0.25991948 | AB439: =+Y439+Z439 -> 3322469.2 | AC439: =Y439-Z439 -> 1951628.4 | AD439: =IF(((IF(AND(F439<=$AB439,F439>=$AC439),F439,""))<=0),"",(IF(AND(F439<=$AB439,F439>=$AC439),F439,""))) -> 2581607 | AE439: =IF(((IF(AND(J439<=$AB439,J439>=$AC439),J439,""))<=0),"",(IF(AND(J439<=$AB439,J439>=$AC439),J439,""))) | AF439: =IF(((IF(AND(N439<=$AB439,N439>=$AC439),N439,""))<=0),"",(IF(AND(N439<=$AB439,N439>=$AC439),N439,""))) -> 2764947 | AG439: =IF(((IF(AND(R439<=$AB439,R439>=$AC439),R439,""))<=0),"",(IF(AND(R439<=$AB439,R439>=$AC439),R439,""))) -> 3179690 | AH439: =IF(((IF(AND(V439<=$AB439,V439>=$AC439),V439,""))<=0),"",(IF(AND(V439<=$AB439,V439>=$AC439),V439,""))) -> 3159000 | AI439: =AVERAGE(AD439:AH439) -> 2921311 | AJ439: =+STDEV(AD439:AH439) -> 296144.26 | AK439: =+AJ439/AI439 -> 0.10137375
A440: 437 | B440: SERVICIO DE MANTENIMIENTO PREVENTIVO EVENTUAL DE LOS SISTEMAS HIDRONEUMATICOS Y/O BOMBEO, ACORDE A LAS RUTINAS ESTABLECIDAS EN LA FICHA TECNICA (PARA TRES O MÁS SISTEMAS HIDRONEUMÁTICOS ); NO INCLUYE REPUESTOS. | C440: EL SERVICIO INCLUYE LA REALIZACION DE LAS ACTIVIDADES DESCRITAS EN LA RUTINA DEL ANEXO O FICHA TECNICA DEL PROCESO | D440: UN | E440: 4093996 | F440: 4093996 | G440: INGENIERIA MONTAJES & CONSTRUCCION S.A.S. | H440: 900327815-15 | I440: 1500000 | J440: 1500000 | K440: INGENIERIA DE BOMBAS Y PLANTAS SAS | L440: 900152368-1 | M440: 4384743 | N440: 4384743 | O440: CGI INDUSTRY AND CONSTRUCTION GROUP SAS BIC | P440: 901666309-7 | Q440: 5042455 | R440: 5042455 | S440: GRUPO BERAKA SAS | T440: 901152951-1 | U440: 5409216 | V440: 5409216 | W440: SMI ELECTRÓNICA SAS | X440: 830090131-2 | Y440: =+AVERAGE(F440,J440,N440,R440,V440) -> 4086082 | Z440: =+STDEV(F440,J440,N440,R440,V440) -> 1536425.6 | AA440: =Z440/Y440 -> 0.37601437 | AB440: =+Y440+Z440 -> 5622507.6 | AC440: =Y440-Z440 -> 2549656.4 | AD440: =IF(((IF(AND(F440<=$AB440,F440>=$AC440),F440,""))<=0),"",(IF(AND(F440<=$AB440,F440>=$AC440),F440,""))) -> 4093996 | AE440: =IF(((IF(AND(J440<=$AB440,J440>=$AC440),J440,""))<=0),"",(IF(AND(J440<=$AB440,J440>=$AC440),J440,""))) | AF440: =IF(((IF(AND(N440<=$AB440,N440>=$AC440),N440,""))<=0),"",(IF(AND(N440<=$AB440,N440>=$AC440),N440,""))) -> 4384743 | AG440: =IF(((IF(AND(R440<=$AB440,R440>=$AC440),R440,""))<=0),"",(IF(AND(R440<=$AB440,R440>=$AC440),R440,""))) -> 5042455 | AH440: =IF(((IF(AND(V440<=$AB440,V440>=$AC440),V440,""))<=0),"",(IF(AND(V440<=$AB440,V440>=$AC440),V440,""))) -> 5409216 | AI440: =AVERAGE(AD440:AH440) -> 4732602.5 | AJ440: =+STDEV(AD440:AH440) -> 600732.58 | AK440: =+AJ440/AI440 -> 0.12693493
A441: 438 | B441: SERVICIO DE MANTENIMIENTO PREVENTIVO EVENTUAL DE LOS SISTEMAS HIDRONEUMATICOS Y/O BOMBEO, ACORDE A LAS RUTINAS ESTABLECIDAS EN LA FICHA TECNICA (PARA UN SOLO SISTEMA HIDRONEUMÁTICO ); NO INCLUYE REPUESTOS. | C441: EL SERVICIO INCLUYE LA REALIZACION DE LAS ACTIVIDADES DESCRITAS EN LA RUTINA DEL ANEXO O FICHA TECNICA DEL PROCESO | D441: UN | E441: 1566048 | F441: 1566048 | G441: INGENIERIA MONTAJES & CONSTRUCCION S.A.S. | H441: 900327815-15 | I441: 1500000 | J441: 1500000 | K441: INGENIERIA DE BOMBAS Y PLANTAS SAS | L441: 900152368-1 | M441: 1677266 | N441: 1677266 | O441: CGI INDUSTRY AND CONSTRUCTION GROUP SAS BIC | P441: 901666309-7 | Q441: 1928856 | R441: 1928856 | S441: GRUPO BERAKA SAS | T441: 901152951-1 | U441: 1890000 | V441: 1890000 | W441: SMI ELECTRÓNICA SAS | X441: 830090131-2 | Y441: =+AVERAGE(F441,J441,N441,R441,V441) -> 1712434 | Z441: =+STDEV(F441,J441,N441,R441,V441) -> 191155.71 | AA441: =Z441/Y441 -> 0.11162807 | AB441: =+Y441+Z441 -> 1903589.7 | AC441: =Y441-Z441 -> 1521278.3 | AD441: =IF(((IF(AND(F441<=$AB441,F441>=$AC441),F441,""))<=0),"",(IF(AND(F441<=$AB441,F441>=$AC441),F441,""))) -> 1566048 | AE441: =IF(((IF(AND(J441<=$AB441,J441>=$AC441),J441,""))<=0),"",(IF(AND(J441<=$AB441,J441>=$AC441),J441,""))) | AF441: =IF(((IF(AND(N441<=$AB441,N441>=$AC441),N441,""))<=0),"",(IF(AND(N441<=$AB441,N441>=$AC441),N441,""))) -> 1677266 | AG441: =IF(((IF(AND(R441<=$AB441,R441>=$AC441),R441,""))<=0),"",(IF(AND(R441<=$AB441,R441>=$AC441),R441,""))) | AH441: =IF(((IF(AND(V441<=$AB441,V441>=$AC441),V441,""))<=0),"",(IF(AND(V441<=$AB441,V441>=$AC441),V441,""))) -> 1890000 | AI441: =AVERAGE(AD441:AH441) -> 1711104.7 | AJ441: =+STDEV(AD441:AH441) -> 164605.64 | AK441: =+AJ441/AI441 -> 0.096198462
A442: 439 | B442: SOPORTE PARA RIEL CHANNEL DE 1" A 2" | C442: INCLUYE SUMINISTRO E INSTALACION DE SOPORTE PARA RIEL CHANNEL DE 1" A 2". (ML) | D442: UN | E442: 13149 | F442: 13149 | G442: INGENIERIA MONTAJES & CONSTRUCCION S.A.S. | H442: 900327815-15 | I442: 150000 | J442: 150000 | K442: INGENIERIA DE BOMBAS Y PLANTAS SAS | L442: 900152368-1 | M442: 14083 | N442: 14083 | O442: CGI INDUSTRY AND CONSTRUCTION GROUP SAS BIC | P442: 901666309-7 | Q442: 16195 | R442: 16195 | S442: GRUPO BERAKA SAS | T442: 901152951-1 | U442: 17373 | V442: 17373 | W442: SMI ELECTRÓNICA SAS | X442: 830090131-2 | Y442: =+AVERAGE(F442,J442,N442,R442,V442) -> 42160 | Z442: =+STDEV(F442,J442,N442,R442,V442) -> 60307.541 | AA442: =Z442/Y442 -> 1.4304445 | AB442: =+Y442+Z442 -> 102467.54 | AC442: =Y442-Z442 -> -18147.541 | AD442: =IF(((IF(AND(F442<=$AB442,F442>=$AC442),F442,""))<=0),"",(IF(AND(F442<=$AB442,F442>=$AC442),F442,""))) -> 13149 | AE442: =IF(((IF(AND(J442<=$AB442,J442>=$AC442),J442,""))<=0),"",(IF(AND(J442<=$AB442,J442>=$AC442),J442,""))) | AF442: =IF(((IF(AND(N442<=$AB442,N442>=$AC442),N442,""))<=0),"",(IF(AND(N442<=$AB442,N442>=$AC442),N442,""))) -> 14083 | AG442: =IF(((IF(AND(R442<=$AB442,R442>=$AC442),R442,""))<=0),"",(IF(AND(R442<=$AB442,R442>=$AC442),R442,""))) -> 16195 | AH442: =IF(((IF(AND(V442<=$AB442,V442>=$AC442),V442,""))<=0),"",(IF(AND(V442<=$AB442,V442>=$AC442),V442,""))) -> 17373 | AI442: =AVERAGE(AD442:AH442) -> 15200 | AJ442: =+STDEV(AD442:AH442) -> 1929.2696 | AK442: =+AJ442/AI442 -> 0.12692563
A443: 440 | B443: STRAP 1 1/2 X 1/2 RAN-ROSCADO | C443: INCLUYE SUMINISTRO E INSTALACION DE STRAP 1 1/2 X 1/2 RAN-ROSCADO | D443: UN | E443: 41213 | F443: 41213 | G443: INGENIERIA MONTAJES & CONSTRUCCION S.A.S. | H443: 900327815-15 | I443: 200000 | J443: 200000 | K443: INGENIERIA DE BOMBAS Y PLANTAS SAS | L443: 900152368-1 | M443: 44141 | N443: 44141 | O443: CGI INDUSTRY AND CONSTRUCTION GROUP SAS BIC | P443: 901666309-7 | Q443: 50762 | R443: 50762 | S443: GRUPO BERAKA SAS | T443: 901152951-1 | U443: 54454 | V443: 54454 | W443: SMI ELECTRÓNICA SAS | X443: 830090131-2 | Y443: =+AVERAGE(F443,J443,N443,R443,V443) -> 78114 | Z443: =+STDEV(F443,J443,N443,R443,V443) -> 68337.349 | AA443: =Z443/Y443 -> 0.87484124 | AB443: =+Y443+Z443 -> 146451.35 | AC443: =Y443-Z443 -> 9776.6511 | AD443: =IF(((IF(AND(F443<=$AB443,F443>=$AC443),F443,""))<=0),"",(IF(AND(F443<=$AB443,F443>=$AC443),F443,""))) -> 41213 | AE443: =IF(((IF(AND(J443<=$AB443,J443>=$AC443),J443,""))<=0),"",(IF(AND(J443<=$AB443,J443>=$AC443),J443,""))) | AF443: =IF(((IF(AND(N443<=$AB443,N443>=$AC443),N443,""))<=0),"",(IF(AND(N443<=$AB443,N443>=$AC443),N443,""))) -> 44141 | AG443: =IF(((IF(AND(R443<=$AB443,R443>=$AC443),R443,""))<=0),"",(IF(AND(R443<=$AB443,R443>=$AC443),R443,""))) -> 50762 | AH443: =IF(((IF(AND(V443<=$AB443,V443>=$AC443),V443,""))<=0),"",(IF(AND(V443<=$AB443,V443>=$AC443),V443,""))) -> 54454 | AI443: =AVERAGE(AD443:AH443) -> 47642.5 | AJ443: =+STDEV(AD443:AH443) -> 6047.776 | AK443: =+AJ443/AI443 -> 0.12694078
A444: 441 | B444: TANQUE HIDRO ACUMULADOR DE 100 LTS, METÁLICO CON MEMBRANA | C444: INCLUYE SUMINISTRO E INSTALACION DE SUMINISTRO E INSTALACIÓN DE TANQUE HIDRO ACUMULADOR DE 100 LTS, METÁLICO CON MEMBRANA | D444: UN | E444: 2472941 | F444: 2472941 | G444: INGENIERIA MONTAJES & CONSTRUCCION S.A.S. | H444: 900327815-15 | I444: 2500000 | J444: 2500000 | K444: INGENIERIA DE BOMBAS Y PLANTAS SAS | L444: 900152368-1 | M444: 2486124 | N444: 2486124 | O444: CGI INDUSTRY AND CONSTRUCTION GROUP SAS BIC | P444: 901666309-7 | Q444: 2859043 | R444: 2859043 | S444: GRUPO BERAKA SAS | T444: 901152951-1 | U444: 3066994 | V444: 3066994 | W444: SMI ELECTRÓNICA SAS | X444: 830090131-2 | Y444: =+AVERAGE(F444,J444,N444,R444,V444) -> 2677020.4 | Z444: =+STDEV(F444,J444,N444,R444,V444) -> 271402.7 | AA444: =Z444/Y444 -> 0.10138238 | AB444: =+Y444+Z444 -> 2948423.1 | AC444: =Y444-Z444 -> 2405617.7 | AD444: =IF(((IF(AND(F444<=$AB444,F444>=$AC444),F444,""))<=0),"",(IF(AND(F444<=$AB444,F444>=$AC444),F444,""))) -> 2472941 | AE444: =IF(((IF(AND(J444<=$AB444,J444>=$AC444),J444,""))<=0),"",(IF(AND(J444<=$AB444,J444>=$AC444),J444,""))) -> 2500000 | AF444: =IF(((IF(AND(N444<=$AB444,N444>=$AC444),N444,""))<=0),"",(IF(AND(N444<=$AB444,N444>=$AC444),N444,""))) -> 2486124 | AG444: =IF(((IF(AND(R444<=$AB444,R444>=$AC444),R444,""))<=0),"",(IF(AND(R444<=$AB444,R444>=$AC444),R444,""))) -> 2859043 | AH444: =IF(((IF(AND(V444<=$AB444,V444>=$AC444),V444,""))<=0),"",(IF(AND(V444<=$AB444,V444>=$AC444),V444,""))) | AI444: =AVERAGE(AD444:AH444) -> 2579527 | AJ444: =+STDEV(AD444:AH444) -> 186671.22 | AK444: =+AJ444/AI444 -> 0.072366453
A445: 442 | B445: TANQUE HIDRO ACUMULADOR DE 100 LTS, METÁLICO HI PRESS | C445: INCLUYE SUMINISTRO E INSTALACION DE SUMINISTRO E INSTALACIÓN DE TANQUE HIDRO ACUMULADOR DE 100 LTS, METÁLICO HI PRESS | D445: UN | E445: 4404009 | F445: 4404009 | G445: INGENIERIA MONTAJES & CONSTRUCCION S.A.S. | H445: 900327815-15 | I445: 2800000 | J445: 2800000 | K445: INGENIERIA DE BOMBAS Y PLANTAS SAS | L445: 900152368-1 | M445: 4716773 | N445: 4716773 | O445: CGI INDUSTRY AND CONSTRUCTION GROUP SAS BIC | P445: 901666309-7 | Q445: 5424289 | R445: 5424289 | S445: GRUPO BERAKA SAS | T445: 901152951-1 | U445: 2818823 | V445: 2818823 | W445: SMI ELECTRÓNICA SAS | X445: 830090131-2 | Y445: =+AVERAGE(F445,J445,N445,R445,V445) -> 4032778.8 | Z445: =+STDEV(F445,J445,N445,R445,V445) -> 1176370.8 | AA445: =Z445/Y445 -> 0.29170228 | AB445: =+Y445+Z445 -> 5209149.6 | AC445: =Y445-Z445 -> 2856408 | AD445: =IF(((IF(AND(F445<=$AB445,F445>=$AC445),F445,""))<=0),"",(IF(AND(F445<=$AB445,F445>=$AC445),F445,""))) -> 4404009 | AE445: =IF(((IF(AND(J445<=$AB445,J445>=$AC445),J445,""))<=0),"",(IF(AND(J445<=$AB445,J445>=$AC445),J445,""))) | AF445: =IF(((IF(AND(N445<=$AB445,N445>=$AC445),N445,""))<=0),"",(IF(AND(N445<=$AB445,N445>=$AC445),N445,""))) -> 4716773 | AG445: =IF(((IF(AND(R445<=$AB445,R445>=$AC445),R445,""))<=0),"",(IF(AND(R445<=$AB445,R445>=$AC445),R445,""))) | AH445: =IF(((IF(AND(V445<=$AB445,V445>=$AC445),V445,""))<=0),"",(IF(AND(V445<=$AB445,V445>=$AC445),V445,""))) | AI445: =AVERAGE(AD445:AH445) -> 4560391 | AJ445: =+STDEV(AD445:AH445) -> 221157.55 | AK445: =+AJ445/AI445 -> 0.048495303
A446: 443 | B446: TANQUE HIDRO ACUMULADOR DE 200 LTS, METÁLICO CON MEMBRANA | C446: INCLUYE SUMINISTRO E INSTALACION DE SUMINISTRO E INSTALACIÓN DE TANQUE HIDRO ACUMULADOR DE 200 LTS, METÁLICO CON MEMBRANA | D446: UN | E446: 2865388 | F446: 2865388 | G446: INGENIERIA MONTAJES & CONSTRUCCION S.A.S. | H446: 900327815-15 | I446: 2800000 | J446: 2800000 | K446: INGENIERIA DE BOMBAS Y PLANTAS SAS | L446: 900152368-1 | M446: 3068882 | N446: 3068882 | O446: CGI INDUSTRY AND CONSTRUCTION GROUP SAS BIC | P446: 901666309-7 | Q446: 3529215 | R446: 3529215 | S446: GRUPO BERAKA SAS | T446: 901152951-1 | U446: 3785911 | V446: 3785911 | W446: SMI ELECTRÓNICA SAS | X446: 830090131-2 | Y446: =+AVERAGE(F446,J446,N446,R446,V446) -> 3209879.2 | Z446: =+STDEV(F446,J446,N446,R446,V446) -> 430216.03 | AA446: =Z446/Y446 -> 0.13402873 | AB446: =+Y446+Z446 -> 3640095.2 | AC446: =Y446-Z446 -> 2779663.2 | AD446: =IF(((IF(AND(F446<=$AB446,F446>=$AC446),F446,""))<=0),"",(IF(AND(F446<=$AB446,F446>=$AC446),F446,""))) -> 2865388 | AE446: =IF(((IF(AND(J446<=$AB446,J446>=$AC446),J446,""))<=0),"",(IF(AND(J446<=$AB446,J446>=$AC446),J446,""))) -> 2800000 | AF446: =IF(((IF(AND(N446<=$AB446,N446>=$AC446),N446,""))<=0),"",(IF(AND(N446<=$AB446,N446>=$AC446),N446,""))) -> 3068882 | AG446: =IF(((IF(AND(R446<=$AB446,R446>=$AC446),R446,""))<=0),"",(IF(AND(R446<=$AB446,R446>=$AC446),R446,""))) -> 3529215 | AH446: =IF(((IF(AND(V446<=$AB446,V446>=$AC446),V446,""))<=0),"",(IF(AND(V446<=$AB446,V446>=$AC446),V446,""))) | AI446: =AVERAGE(AD446:AH446) -> 3065871.2 | AJ446: =+STDEV(AD446:AH446) -> 329432.62 | AK446: =+AJ446/AI446 -> 0.10745155
A447: 444 | B447: TANQUE HIDRO ACUMULADOR DE 200 LTS, METÁLICO HI PRESS | C447: INCLUYE SUMINISTRO E INSTALACION DE SUMINISTRO E INSTALACIÓN DE TANQUE HIDRO ACUMULADOR DE 200 LTS, METÁLICO HI PRESS | D447: UN | E447: 3468460 | F447: 3468460 | G447: INGENIERIA MONTAJES & CONSTRUCCION S.A.S. | H447: 900327815-15 | I447: 3500000 | J447: 3500000 | K447: INGENIERIA DE BOMBAS Y PLANTAS SAS | L447: 900152368-1 | M447: 3714783 | N447: 3714783 | O447: CGI INDUSTRY AND CONSTRUCTION GROUP SAS BIC | P447: 901666309-7 | Q447: 4272000 | R447: 4272000 | S447: GRUPO BERAKA SAS | T447: 901152951-1 | U447: 4582723 | V447: 4582723 | W447: SMI ELECTRÓNICA SAS | X447: 830090131-2 | Y447: =+AVERAGE(F447,J447,N447,R447,V447) -> 3907593.2 | Z447: =+STDEV(F447,J447,N447,R447,V447) -> 496169.96 | AA447: =Z447/Y447 -> 0.12697585 | AB447: =+Y447+Z447 -> 4403763.2 | AC447: =Y447-Z447 -> 3411423.2 | AD447: =IF(((IF(AND(F447<=$AB447,F447>=$AC447),F447,""))<=0),"",(IF(AND(F447<=$AB447,F447>=$AC447),F447,""))) -> 3468460 | AE447: =IF(((IF(AND(J447<=$AB447,J447>=$AC447),J447,""))<=0),"",(IF(AND(J447<=$AB447,J447>=$AC447),J447,""))) -> 3500000 | AF447: =IF(((IF(AND(N447<=$AB447,N447>=$AC447),N447,""))<=0),"",(IF(AND(N447<=$AB447,N447>=$AC447),N447,""))) -> 3714783 | AG447: =IF(((IF(AND(R447<=$AB447,R447>=$AC447),R447,""))<=0),"",(IF(AND(R447<=$AB447,R447>=$AC447),R447,""))) -> 4272000 | AH447: =IF(((IF(AND(V447<=$AB447,V447>=$AC447),V447,""))<=0),"",(IF(AND(V447<=$AB447,V447>=$AC447),V447,""))) | AI447: =AVERAGE(AD447:AH447) -> 3738810.8 | AJ447: =+STDEV(AD447:AH447) -> 371926.61 | AK447: =+AJ447/AI447 -> 0.09947725
... A628: 625 | B628: UNIVERSAL DE 6" EN ACERO GALVANIZADO | C628: INCLUYE SUMINISTRO E INSTALACION DE UNIVERSAL DE 6" EN ACERO GALVANIZADO | D628: UN | E628: 618235 | F628: 618235 | G628: INGENIERIA MONTAJES & CONSTRUCCION S.A.S. | H628: 900327815-15 | I628: 1500000 | J628: 1500000 | K628: INGENIERIA DE BOMBAS Y PLANTAS SAS | L628: 900152368-1 | M628: 661512 | N628: 661512 | O628: CGI INDUSTRY AND CONSTRUCTION GROUP SAS BIC | P628: 901666309-7 | Q628: 760739 | R628: 760739 | S628: GRUPO BERAKA SAS | T628: 901152951-1 | U628: 1216071 | V628: 1216071 | W628: SMI ELECTRÓNICA SAS | X628: 830090131-2 | Y628: =+AVERAGE(F628,J628,N628,R628,V628) -> 951311.4 | Z628: =+STDEV(F628,J628,N628,R628,V628) -> 388071.59 | AA628: =Z628/Y628 -> 0.40793329 | AB628: =+Y628+Z628 -> 1339383 | AC628: =Y628-Z628 -> 563239.81 | AD628: =IF(((IF(AND(F628<=$AB628,F628>=$AC628),F628,""))<=0),"",(IF(AND(F628<=$AB628,F628>=$AC628),F628,""))) -> 618235 | AE628: =IF(((IF(AND(J628<=$AB628,J628>=$AC628),J628,""))<=0),"",(IF(AND(J628<=$AB628,J628>=$AC628),J628,""))) | AF628: =IF(((IF(AND(N628<=$AB628,N628>=$AC628),N628,""))<=0),"",(IF(AND(N628<=$AB628,N628>=$AC628),N628,""))) -> 661512 | AG628: =IF(((IF(AND(R628<=$AB628,R628>=$AC628),R628,""))<=0),"",(IF(AND(R628<=$AB628,R628>=$AC628),R628,""))) -> 760739 | AH628: =IF(((IF(AND(V628<=$AB628,V628>=$AC628),V628,""))<=0),"",(IF(AND(V628<=$AB628,V628>=$AC628),V628,""))) -> 1216071 | AI628: =AVERAGE(AD628:AH628) -> 814139.25 | AJ628: =+STDEV(AD628:AH628) -> 274514.28 | AK628: =+AJ628/AI628 -> 0.33718345
A629: 626 | B629: UNIVERSAL DE 4" EN ACERO INOXIDABLE | C629: INCLUYE SUMINISTRO E INSTALACION DE UNIVERSAL DE 4" EN ACERO INOXIDABLE | D629: UN | E629: 424862 | F629: 424862 | G629: INGENIERIA MONTAJES & CONSTRUCCION S.A.S. | H629: 900327815-15 | I629: 1800000 | J629: 1800000 | K629: INGENIERIA DE BOMBAS Y PLANTAS SAS | L629: 900152368-1 | M629: 455035 | N629: 455035 | O629: CGI INDUSTRY AND CONSTRUCTION GROUP SAS BIC | P629: 901666309-7 | Q629: 523290 | R629: 523290 | S629: GRUPO BERAKA SAS | T629: 901152951-1 | W629: SMI ELECTRÓNICA SAS | X629: 830090131-2 | Y629: =+AVERAGE(F629,J629,N629,R629,V629) -> 800796.75 | Z629: =+STDEV(F629,J629,N629,R629,V629) -> 667406.74 | AA629: =Z629/Y629 -> 0.83342838 | AB629: =+Y629+Z629 -> 1468203.5 | AC629: =Y629-Z629 -> 133390.01 | AD629: =IF(((IF(AND(F629<=$AB629,F629>=$AC629),F629,""))<=0),"",(IF(AND(F629<=$AB629,F629>=$AC629),F629,""))) -> 424862 | AE629: =IF(((IF(AND(J629<=$AB629,J629>=$AC629),J629,""))<=0),"",(IF(AND(J629<=$AB629,J629>=$AC629),J629,""))) | AF629: =IF(((IF(AND(N629<=$AB629,N629>=$AC629),N629,""))<=0),"",(IF(AND(N629<=$AB629,N629>=$AC629),N629,""))) -> 455035 | AG629: =IF(((IF(AND(R629<=$AB629,R629>=$AC629),R629,""))<=0),"",(IF(AND(R629<=$AB629,R629>=$AC629),R629,""))) -> 523290 | AH629: =IF(((IF(AND(V629<=$AB629,V629>=$AC629),V629,""))<=0),"",(IF(AND(V629<=$AB629,V629>=$AC629),V629,""))) | AI629: =AVERAGE(AD629:AH629) -> 467729 | AJ629: =+STDEV(AD629:AH629) -> 50426.888 | AK629: =+AJ629/AI629 -> 0.10781219
A630: 627 | B630: UNIVERSAL DE 6" EN ACERO INOXIDABLE | C630: INCLUYE SUMINISTRO E INSTALACION DE UNIVERSAL DE 6" EN ACERO INOXIDABLE | D630: UN | E630: 883193 | F630: 883193 | G630: INGENIERIA MONTAJES & CONSTRUCCION S.A.S. | H630: 900327815-15 | I630: 3500000 | J630: 3500000 | K630: INGENIERIA DE BOMBAS Y PLANTAS SAS | L630: 900152368-1 | M630: 945017 | N630: 945017 | O630: CGI INDUSTRY AND CONSTRUCTION GROUP SAS BIC | P630: 901666309-7 | Q630: 1086769 | R630: 1086769 | S630: GRUPO BERAKA SAS | T630: 901152951-1 | W630: SMI ELECTRÓNICA SAS | X630: 830090131-2 | Y630: =+AVERAGE(F630,J630,N630,R630,V630) -> 1603744.8 | Z630: =+STDEV(F630,J630,N630,R630,V630) -> 1267039.2 | AA630: =Z630/Y630 -> 0.79005041 | AB630: =+Y630+Z630 -> 2870783.9 | AC630: =Y630-Z630 -> 336705.55 | AD630: =IF(((IF(AND(F630<=$AB630,F630>=$AC630),F630,""))<=0),"",(IF(AND(F630<=$AB630,F630>=$AC630),F630,""))) -> 883193 | AE630: =IF(((IF(AND(J630<=$AB630,J630>=$AC630),J630,""))<=0),"",(IF(AND(J630<=$AB630,J630>=$AC630),J630,""))) | AF630: =IF(((IF(AND(N630<=$AB630,N630>=$AC630),N630,""))<=0),"",(IF(AND(N630<=$AB630,N630>=$AC630),N630,""))) -> 945017 | AG630: =IF(((IF(AND(R630<=$AB630,R630>=$AC630),R630,""))<=0),"",(IF(AND(R630<=$AB630,R630>=$AC630),R630,""))) -> 1086769 | AH630: =IF(((IF(AND(V630<=$AB630,V630>=$AC630),V630,""))<=0),"",(IF(AND(V630<=$AB630,V630>=$AC630),V630,""))) | AI630: =AVERAGE(AD630:AH630) -> 971659.67 | AJ630: =+STDEV(AD630:AH630) -> 104370.35 | AK630: =+AJ630/AI630 -> 0.10741452
A631: 628 | B631: UNIVERSAL DE 4" PVC PRESIÓN | C631: INCLUYE SUMINISTRO E INSTALACION DE UNIVERSAL DE 4" PVC PRESIÓN | D631: UN | E631: 153916 | F631: 153916 | G631: INGENIERIA MONTAJES & CONSTRUCCION S.A.S. | H631: 900327815-15 | I631: 400000 | J631: 400000 | K631: INGENIERIA DE BOMBAS Y PLANTAS SAS | L631: 900152368-1 | M631: 164847 | N631: 164847 | O631: CGI INDUSTRY AND CONSTRUCTION GROUP SAS BIC | P631: 901666309-7 | Q631: 189574 | R631: 189574 | S631: GRUPO BERAKA SAS | T631: 901152951-1 | U631: 203362 | V631: 203362 | W631: SMI ELECTRÓNICA SAS | X631: 830090131-2 | Y631: =+AVERAGE(F631,J631,N631,R631,V631) -> 222339.8 | Z631: =+STDEV(F631,J631,N631,R631,V631) -> 101222.7 | AA631: =Z631/Y631 -> 0.45526127 | AB631: =+Y631+Z631 -> 323562.5 | AC631: =Y631-Z631 -> 121117.1 | AD631: =IF(((IF(AND(F631<=$AB631,F631>=$AC631),F631,""))<=0),"",(IF(AND(F631<=$AB631,F631>=$AC631),F631,""))) -> 153916 | AE631: =IF(((IF(AND(J631<=$AB631,J631>=$AC631),J631,""))<=0),"",(IF(AND(J631<=$AB631,J631>=$AC631),J631,""))) | AF631: =IF(((IF(AND(N631<=$AB631,N631>=$AC631),N631,""))<=0),"",(IF(AND(N631<=$AB631,N631>=$AC631),N631,""))) -> 164847 | AG631: =IF(((IF(AND(R631<=$AB631,R631>=$AC631),R631,""))<=0),"",(IF(AND(R631<=$AB631,R631>=$AC631),R631,""))) -> 189574 | AH631: =IF(((IF(AND(V631<=$AB631,V631>=$AC631),V631,""))<=0),"",(IF(AND(V631<=$AB631,V631>=$AC631),V631,""))) -> 203362 | AI631: =AVERAGE(AD631:AH631) -> 177924.75 | AJ631: =+STDEV(AD631:AH631) -> 22584.702 | AK631: =+AJ631/AI631 -> 0.12693401
A632: 629 | B632: UNIVERSAL DE 6" PVC PRESIÓN | C632: INCLUYE SUMINISTRO E INSTALACION DE UNIVERSAL DE 4" PVC PRESIÓN | D632: UN | E632: 353277 | F632: 353277 | G632: INGENIERIA MONTAJES & CONSTRUCCION S.A.S. | H632: 900327815-15 | I632: 950000 | J632: 950000 | K632: INGENIERIA DE BOMBAS Y PLANTAS SAS | L632: 900152368-1 | M632: 378007 | N632: 378007 | O632: CGI INDUSTRY AND CONSTRUCTION GROUP SAS BIC | P632: 901666309-7 | Q632: 434708 | R632: 434708 | S632: GRUPO BERAKA SAS | T632: 901152951-1 | U632: 466326 | V632: 466326 | W632: SMI ELECTRÓNICA SAS | X632: 830090131-2 | Y632: =+AVERAGE(F632,J632,N632,R632,V632) -> 516463.6 | Z632: =+STDEV(F632,J632,N632,R632,V632) -> 246450.64 | AA632: =Z632/Y632 -> 0.47718878 | AB632: =+Y632+Z632 -> 762914.24 | AC632: =Y632-Z632 -> 270012.96 | AD632: =IF(((IF(AND(F632<=$AB632,F632>=$AC632),F632,""))<=0),"",(IF(AND(F632<=$AB632,F632>=$AC632),F632,""))) -> 353277 | AE632: =IF(((IF(AND(J632<=$AB632,J632>=$AC632),J632,""))<=0),"",(IF(AND(J632<=$AB632,J632>=$AC632),J632,""))) | AF632: =IF(((IF(AND(N632<=$AB632,N632>=$AC632),N632,""))<=0),"",(IF(AND(N632<=$AB632,N632>=$AC632),N632,""))) -> 378007 | AG632: =IF(((IF(AND(R632<=$AB632,R632>=$AC632),R632,""))<=0),"",(IF(AND(R632<=$AB632,R632>=$AC632),R632,""))) -> 434708 | AH632: =IF(((IF(AND(V632<=$AB632,V632>=$AC632),V632,""))<=0),"",(IF(AND(V632<=$AB632,V632>=$AC632),V632,""))) -> 466326 | AI632: =AVERAGE(AD632:AH632) -> 408079.5 | AJ632: =+STDEV(AD632:AH632) -> 51670.111 | AK632: =+AJ632/AI632 -> 0.12661776
A633: 630 | B633: UNIVERSAL EN ACERO GALVANIZADO DE 3" | C633: INCLUYE SUMINISTRO E INSTALACION DE UNIVERSAL EN ACERO GALVANIZADO DE 3" | D633: UN | E633: 127144 | F633: 127144 | G633: INGENIERIA MONTAJES & CONSTRUCCION S.A.S. | H633: 900327815-15 | I633: 500000 | J633: 500000 | K633: INGENIERIA DE BOMBAS Y PLANTAS SAS | L633: 900152368-1 | M633: 136173 | N633: 136173 | O633: CGI INDUSTRY AND CONSTRUCTION GROUP SAS BIC | P633: 901666309-7 | Q633: 156599 | R633: 156599 | S633: GRUPO BERAKA SAS | T633: 901152951-1 | U633: 167989 | V633: 167989 | W633: SMI ELECTRÓNICA SAS | X633: 830090131-2 | Y633: =+AVERAGE(F633,J633,N633,R633,V633) -> 217581 | Z633: =+STDEV(F633,J633,N633,R633,V633) -> 158701.59 | AA633: =Z633/Y633 -> 0.72939084 | AB633: =+Y633+Z633 -> 376282.59 | AC633: =Y633-Z633 -> 58879.412 | AD633: =IF(((IF(AND(F633<=$AB633,F633>=$AC633),F633,""))<=0),"",(IF(AND(F633<=$AB633,F633>=$AC633),F633,""))) -> 127144 | AE633: =IF(((IF(AND(J633<=$AB633,J633>=$AC633),J633,""))<=0),"",(IF(AND(J633<=$AB633,J633>=$AC633),J633,""))) | AF633: =IF(((IF(AND(N633<=$AB633,N633>=$AC633),N633,""))<=0),"",(IF(AND(N633<=$AB633,N633>=$AC633),N633,""))) -> 136173 | AG633: =IF(((IF(AND(R633<=$AB633,R633>=$AC633),R633,""))<=0),"",(IF(AND(R633<=$AB633,R633>=$AC633),R633,""))) -> 156599 | AH633: =IF(((IF(AND(V633<=$AB633,V633>=$AC633),V633,""))<=0),"",(IF(AND(V633<=$AB633,V633>=$AC633),V633,""))) -> 167989 | AI633: =AVERAGE(AD633:AH633) -> 146976.25 | AJ633: =+STDEV(AD633:AH633) -> 18656.199 | AK633: =+AJ633/AI633 -> 0.12693343
A634: 631 | B634: VÁLVULA DE MARIPOSA UNIÓN CON BRIDAS DE 6" DE DIÁMETRO | C634: INCLUYE SUMINISTRO E INSTALACION DE VÁLVULA DE MARIPOSA UNIÓN CON BRIDAS DE 6" DE DIÁMETRO | D634: UN | E634: 1772122 | F634: 1772122 | G634: INGENIERIA MONTAJES & CONSTRUCCION S.A.S. | H634: 900327815-15 | I634: 4500000 | J634: 4500000 | K634: INGENIERIA DE BOMBAS Y PLANTAS SAS | L634: 900152368-1 | M634: 1897975 | N634: 1897975 | O634: CGI INDUSTRY AND CONSTRUCTION GROUP SAS BIC | P634: 901666309-7 | Q634: 2182671 | R634: 2182671 | S634: GRUPO BERAKA SAS | T634: 901152951-1 | U634: 2341427 | V634: 2341427 | W634: SMI ELECTRÓNICA SAS | X634: 830090131-2 | Y634: =+AVERAGE(F634,J634,N634,R634,V634) -> 2538839 | Z634: =+STDEV(F634,J634,N634,R634,V634) -> 1119211.9 | AA634: =Z634/Y634 -> 0.44083611 | AB634: =+Y634+Z634 -> 3658050.9 | AC634: =Y634-Z634 -> 1419627.1 | AD634: =IF(((IF(AND(F634<=$AB634,F634>=$AC634),F634,""))<=0),"",(IF(AND(F634<=$AB634,F634>=$AC634),F634,""))) -> 1772122 | AE634: =IF(((IF(AND(J634<=$AB634,J634>=$AC634),J634,""))<=0),"",(IF(AND(J634<=$AB634,J634>=$AC634),J634,""))) | AF634: =IF(((IF(AND(N634<=$AB634,N634>=$AC634),N634,""))<=0),"",(IF(AND(N634<=$AB634,N634>=$AC634),N634,""))) -> 1897975 | AG634: =IF(((IF(AND(R634<=$AB634,R634>=$AC634),R634,""))<=0),"",(IF(AND(R634<=$AB634,R634>=$AC634),R634,""))) -> 2182671 | AH634: =IF(((IF(AND(V634<=$AB634,V634>=$AC634),V634,""))<=0),"",(IF(AND(V634<=$AB634,V634>=$AC634),V634,""))) -> 2341427 | AI634: =AVERAGE(AD634:AH634) -> 2048548.8 | AJ634: =+STDEV(AD634:AH634) -> 260032.47 | AK634: =+AJ634/AI634 -> 0.12693497
A635: 632 | B635: VÁLVULA DE PIE DE 1” EN BRONCE CON CANASTILLA PLÁSTICA TIPO HAVP | C635: INCLUYE SUMINISTRO E INSTALACION DE VÁLVULA DE PIE DE 1” EN BRONCE CON CANASTILLA PLÁSTICA TIPO HAVP | D635: UN | E635: 186130 | F635: 186130 | G635: INGENIERIA MONTAJES & CONSTRUCCION S.A.S. | H635: 900327815-15 | I635: 300000 | J635: 300000 | K635: INGENIERIA DE BOMBAS Y PLANTAS SAS | L635: 900152368-1 | M635: 199349 | N635: 199349 | O635: CGI INDUSTRY AND CONSTRUCTION GROUP SAS BIC | P635: 901666309-7 | Q635: 229251 | R635: 229251 | S635: GRUPO BERAKA SAS | T635: 901152951-1 | U635: 245926 | V635: 245926 | W635: SMI ELECTRÓNICA SAS | X635: 830090131-2 | Y635: =+AVERAGE(F635,J635,N635,R635,V635) -> 232131.2 | Z635: =+STDEV(F635,J635,N635,R635,V635) -> 44708.917 | AA635: =Z635/Y635 -> 0.19260193 | AB635: =+Y635+Z635 -> 276840.12 | AC635: =Y635-Z635 -> 187422.28 | AD635: =IF(((IF(AND(F635<=$AB635,F635>=$AC635),F635,""))<=0),"",(IF(AND(F635<=$AB635,F635>=$AC635),F635,""))) | AE635: =IF(((IF(AND(J635<=$AB635,J635>=$AC635),J635,""))<=0),"",(IF(AND(J635<=$AB635,J635>=$AC635),J635,""))) | AF635: =IF(((IF(AND(N635<=$AB635,N635>=$AC635),N635,""))<=0),"",(IF(AND(N635<=$AB635,N635>=$AC635),N635,""))) -> 199349 | AG635: =IF(((IF(AND(R635<=$AB635,R635>=$AC635),R635,""))<=0),"",(IF(AND(R635<=$AB635,R635>=$AC635),R635,""))) -> 229251 | AH635: =IF(((IF(AND(V635<=$AB635,V635>=$AC635),V635,""))<=0),"",(IF(AND(V635<=$AB635,V635>=$AC635),V635,""))) -> 245926 | AI635: =AVERAGE(AD635:AH635) -> 224842 | AJ635: =+STDEV(AD635:AH635) -> 23599.443 | AK635: =+AJ635/AI635 -> 0.10496012
A636: 633 | B636: VÁLVULA DE PIE DE 1-1/2” EN BRONCE CON CANASTILLA PLÁSTICA TIPO HAVP | C636: INCLUYE SUMINISTRO E INSTALACION DE VÁLVULA DE PIE DE 1-1/2” EN BRONCE CON CANASTILLA PLÁSTICA TIPO HAVP | D636: UN | E636: 428844 | F636: 428844 | G636: INGENIERIA MONTAJES & CONSTRUCCION S.A.S. | H636: 900327815-15 | I636: 450000 | J636: 450000 | K636: INGENIERIA DE BOMBAS Y PLANTAS SAS | L636: 900152368-1 | M636: 459300 | N636: 459300 | O636: CGI INDUSTRY AND CONSTRUCTION GROUP SAS BIC | P636: 901666309-7 | Q636: 528195 | R636: 528195 | S636: GRUPO BERAKA SAS | T636: 901152951-1 | U636: 566613 | V636: 566613 | W636: SMI ELECTRÓNICA SAS | X636: 830090131-2 | Y636: =+AVERAGE(F636,J636,N636,R636,V636) -> 486590.4 | Z636: =+STDEV(F636,J636,N636,R636,V636) -> 58208.31 | AA636: =Z636/Y636 -> 0.11962486 | AB636: =+Y636+Z636 -> 544798.71 | AC636: =Y636-Z636 -> 428382.09 | AD636: =IF(((IF(AND(F636<=$AB636,F636>=$AC636),F636,""))<=0),"",(IF(AND(F636<=$AB636,F636>=$AC636),F636,""))) -> 428844 | AE636: =IF(((IF(AND(J636<=$AB636,J636>=$AC636),J636,""))<=0),"",(IF(AND(J636<=$AB636,J636>=$AC636),J636,""))) -> 450000 | AF636: =IF(((IF(AND(N636<=$AB636,N636>=$AC636),N636,""))<=0),"",(IF(AND(N636<=$AB636,N636>=$AC636),N636,""))) -> 459300 | AG636: =IF(((IF(AND(R636<=$AB636,R636>=$AC636),R636,""))<=0),"",(IF(AND(R636<=$AB636,R636>=$AC636),R636,""))) -> 528195 | AH636: =IF(((IF(AND(V636<=$AB636,V636>=$AC636),V636,""))<=0),"",(IF(AND(V636<=$AB636,V636>=$AC636),V636,""))) | AI636: =AVERAGE(AD636:AH636) -> 466584.75 | AJ636: =+STDEV(AD636:AH636) -> 43005.072 | AK636: =+AJ636/AI636 -> 0.092169905
A637: 634 | B637: VÁLVULA DE PIE DE 1-1/4” EN BRONCE CON CANASTILLA PLÁSTICA TIPO HAVP | C637: INCLUYE SUMINISTRO E INSTALACION DE VÁLVULA DE PIE DE 1-1/4” EN BRONCE CON CANASTILLA PLÁSTICA TIPO HAVP | D637: UN | E637: 317384 | F637: 317384 | G637: INGENIERIA MONTAJES & CONSTRUCCION S.A.S. | H637: 900327815-15 | I637: 430000 | J637: 430000 | K637: INGENIERIA DE BOMBAS Y PLANTAS SAS | L637: 900152368-1 | M637: 339925 | N637: 339925 | O637: CGI INDUSTRY AND CONSTRUCTION GROUP SAS BIC | P637: 901666309-7 | Q637: 390913 | R637: 390913 | S637: GRUPO BERAKA SAS | T637: 901152951-1 | U637: 419346 | V637: 419346 | W637: SMI ELECTRÓNICA SAS | X637: 830090131-2 | Y637: =+AVERAGE(F637,J637,N637,R637,V637) -> 379513.6 | Z637: =+STDEV(F637,J637,N637,R637,V637) -> 49225.977 | AA637: =Z637/Y637 -> 0.12970807 | AB637: =+Y637+Z637 -> 428739.58 | AC637: =Y637-Z637 -> 330287.62 | AD637: =IF(((IF(AND(F637<=$AB637,F637>=$AC637),F637,""))<=0),"",(IF(AND(F637<=$AB637,F637>=$AC637),F637,""))) | AE637: =IF(((IF(AND(J637<=$AB637,J637>=$AC637),J637,""))<=0),"",(IF(AND(J637<=$AB637,J637>=$AC637),J637,""))) | AF637: =IF(((IF(AND(N637<=$AB637,N637>=$AC637),N637,""))<=0),"",(IF(AND(N637<=$AB637,N637>=$AC637),N637,""))) -> 339925 | AG637: =IF(((IF(AND(R637<=$AB637,R637>=$AC637),R637,""))<=0),"",(IF(AND(R637<=$AB637,R637>=$AC637),R637,""))) -> 390913 | AH637: =IF(((IF(AND(V637<=$AB637,V637>=$AC637),V637,""))<=0),"",(IF(AND(V637<=$AB637,V637>=$AC637),V637,""))) -> 419346 | AI637: =AVERAGE(AD637:AH637) -> 383394.67 | AJ637: =+STDEV(AD637:AH637) -> 40240.748 | AK637: =+AJ637/AI637 -> 0.10495907
A638: 635 | B638: VÁLVULA DE PIE DE 2” EN BRONCE CON CANASTILLA PLÁSTICA TIPO HAVP | C638: INCLUYE SUMINISTRO E INSTALACION DE VÁLVULA DE PIE DE 2” EN BRONCE CON CANASTILLA PLÁSTICA TIPO HAVP | D638: UN | E638: 408479 | F638: 408479 | G638: INGENIERIA MONTAJES & CONSTRUCCION S.A.S. | H638: 900327815-15 | I638: 750000 | J638: 750000 | K638: INGENIERIA DE BOMBAS Y PLANTAS SAS | L638: 900152368-1 | M638: 437488 | N638: 437488 | O638: CGI INDUSTRY AND CONSTRUCTION GROUP SAS BIC | P638: 901666309-7 | Q638: 503111 | R638: 503111 | S638: GRUPO BERAKA SAS | T638: 901152951-1 | U638: 539705 | V638: 539705 | W638: SMI ELECTRÓNICA SAS | X638: 830090131-2 | Y638: =+AVERAGE(F638,J638,N638,R638,V638) -> 527756.6 | Z638: =+STDEV(F638,J638,N638,R638,V638) -> 134645.71 | AA638: =Z638/Y638 -> 0.25512842 | AB638: =+Y638+Z638 -> 662402.31 | AC638: =Y638-Z638 -> 393110.89 | AD638: =IF(((IF(AND(F638<=$AB638,F638>=$AC638),F638,""))<=0),"",(IF(AND(F638<=$AB638,F638>=$AC638),F638,""))) -> 408479 | AE638: =IF(((IF(AND(J638<=$AB638,J638>=$AC638),J638,""))<=0),"",(IF(AND(J638<=$AB638,J638>=$AC638),J638,""))) | AF638: =IF(((IF(AND(N638<=$AB638,N638>=$AC638),N638,""))<=0),"",(IF(AND(N638<=$AB638,N638>=$AC638),N638,""))) -> 437488 | AG638: =IF(((IF(AND(R638<=$AB638,R638>=$AC638),R638,""))<=0),"",(IF(AND(R638<=$AB638,R638>=$AC638),R638,""))) -> 503111 | AH638: =IF(((IF(AND(V638<=$AB638,V638>=$AC638),V638,""))<=0),"",(IF(AND(V638<=$AB638,V638>=$AC638),V638,""))) -> 539705 | AI638: =AVERAGE(AD638:AH638) -> 472195.75 | AJ638: =+STDEV(AD638:AH638) -> 59938.034 | AK638: =+AJ638/AI638 -> 0.12693472
A639: 636 | B639: VÁLVULA DE PIE DE 2-1/2” EN BRONCE CON CANASTILLA PLÁSTICA TIPO HAVP | C639: INCLUYE SUMINISTRO E INSTALACION DE VÁLVULA DE PIE DE 2-1/2” EN BRONCE CON CANASTILLA PLÁSTICA TIPO HAVP | D639: UN | E639: 418249 | F639: 418249 | G639: INGENIERIA MONTAJES & CONSTRUCCION S.A.S. | H639: 900327815-15 | I639: 950000 | J639: 950000 | K639: INGENIERIA DE BOMBAS Y PLANTAS SAS | L639: 900152368-1 | M639: 447952 | N639: 447952 | O639: CGI INDUSTRY AND CONSTRUCTION GROUP SAS BIC | P639: 901666309-7 | Q639: 515145 | R639: 515145 | S639: GRUPO BERAKA SAS | T639: 901152951-1 | U639: 552614 | V639: 552614 | W639: SMI ELECTRÓNICA SAS | X639: 830090131-2 | Y639: =+AVERAGE(F639,J639,N639,R639,V639) -> 576792 | Z639: =+STDEV(F639,J639,N639,R639,V639) -> 215293.27 | AA639: =Z639/Y639 -> 0.37325981 | AB639: =+Y639+Z639 -> 792085.27 | AC639: =Y639-Z639 -> 361498.73 | AD639: =IF(((IF(AND(F639<=$AB639,F639>=$AC639),F639,""))<=0),"",(IF(AND(F639<=$AB639,F639>=$AC639),F639,""))) -> 418249 | AE639: =IF(((IF(AND(J639<=$AB639,J639>=$AC639),J639,""))<=0),"",(IF(AND(J639<=$AB639,J639>=$AC639),J639,""))) | AF639: =IF(((IF(AND(N639<=$AB639,N639>=$AC639),N639,""))<=0),"",(IF(AND(N639<=$AB639,N639>=$AC639),N639,""))) -> 447952 | AG639: =IF(((IF(AND(R639<=$AB639,R639>=$AC639),R639,""))<=0),"",(IF(AND(R639<=$AB639,R639>=$AC639),R639,""))) -> 515145 | AH639: =IF(((IF(AND(V639<=$AB639,V639>=$AC639),V639,""))<=0),"",(IF(AND(V639<=$AB639,V639>=$AC639),V639,""))) -> 552614 | AI639: =AVERAGE(AD639:AH639) -> 483490 | AJ639: =+STDEV(AD639:AH639) -> 61371.828 | AK639: =+AJ639/AI639 -> 0.12693505
A640: 637 | B640: VÁLVULA DE PIE DE 3” ANTI GOLPE DE ARIETE EN BRONCE SELLO NITRILO | C640: INCLUYE SUMINISTRO E INSTALACION DE VÁLVULA DE PIE DE 3” ANTI GOLPE DE ARIETE EN BRONCE SELLO NITRILO | D640: UN | E640: 647260 | F640: 647260 | G640: INGENIERIA MONTAJES & CONSTRUCCION S.A.S. | H640: 900327815-15 | I640: 1500000 | J640: 1500000 | K640: INGENIERIA DE BOMBAS Y PLANTAS SAS | L640: 900152368-1 | M640: 693227 | N640: 693227 | O640: CGI INDUSTRY AND CONSTRUCTION GROUP SAS BIC | P640: 901666309-7 | Q640: 797211 | R640: 797211 | S640: GRUPO BERAKA SAS | T640: 901152951-1 | U640: 855196 | V640: 855196 | W640: SMI ELECTRÓNICA SAS | X640: 830090131-2 | Y640: =+AVERAGE(F640,J640,N640,R640,V640) -> 898578.8 | Z640: =+STDEV(F640,J640,N640,R640,V640) -> 346119.73 | AA640: =Z640/Y640 -> 0.38518572 | AB640: =+Y640+Z640 -> 1244698.5 | AC640: =Y640-Z640 -> 552459.07 | AD640: =IF(((IF(AND(F640<=$AB640,F640>=$AC640),F640,""))<=0),"",(IF(AND(F640<=$AB640,F640>=$AC640),F640,""))) -> 647260 | AE640: =IF(((IF(AND(J640<=$AB640,J640>=$AC640),J640,""))<=0),"",(IF(AND(J640<=$AB640,J640>=$AC640),J640,""))) | AF640: =IF(((IF(AND(N640<=$AB640,N640>=$AC640),N640,""))<=0),"",(IF(AND(N640<=$AB640,N640>=$AC640),N640,""))) -> 693227 | AG640: =IF(((IF(AND(R640<=$AB640,R640>=$AC640),R640,""))<=0),"",(IF(AND(R640<=$AB640,R640>=$AC640),R640,""))) -> 797211 | AH640: =IF(((IF(AND(V640<=$AB640,V640>=$AC640),V640,""))<=0),"",(IF(AND(V640<=$AB640,V640>=$AC640),V640,""))) -> 855196 | AI640: =AVERAGE(AD640:AH640) -> 748223.5 | AJ640: =+STDEV(AD640:AH640) -> 94975.671 | AK640: =+AJ640/AI640 -> 0.12693489
A641: 638 | B641: VÁLVULA DE PIE DE 4” ANTI GOLPE DE ARIETE EN BRONCE CON CANASTILLA PLÁSTICA TIPO HBVP | C641: INCLUYE SUMINISTRO E INSTALACION DE VÁLVULA DE PIE DE 4” ANTI GOLPE DE ARIETE EN BRONCE CON CANASTILLA PLÁSTICA TIPO HBVP | D641: UN | E641: 1199406 | F641: 1199406 | G641: INGENIERIA MONTAJES & CONSTRUCCION S.A.S. | H641: 900327815-15 | I641: 3500000 | J641: 3500000 | K641: INGENIERIA DE BOMBAS Y PLANTAS SAS | L641: 900152368-1 | M641: 1284585 | N641: 1284585 | O641: CGI INDUSTRY AND CONSTRUCTION GROUP SAS BIC | P641: 901666309-7 | Q641: 1477273 | R641: 1477273 | S641: GRUPO BERAKA SAS | T641: 901152951-1 | W641: SMI ELECTRÓNICA SAS | X641: 830090131-2 | Y641: =+AVERAGE(F641,J641,N641,R641,V641) -> 1865316 | Z641: =+STDEV(F641,J641,N641,R641,V641) -> 1095970.5 | AA641: =Z641/Y641 -> 0.58755217 | AB641: =+Y641+Z641 -> 2961286.5 | AC641: =Y641-Z641 -> 769345.54 | AD641: =IF(((IF(AND(F641<=$AB641,F641>=$AC641),F641,""))<=0),"",(IF(AND(F641<=$AB641,F641>=$AC641),F641,""))) -> 1199406 | AE641: =IF(((IF(AND(J641<=$AB641,J641>=$AC641),J641,""))<=0),"",(IF(AND(J641<=$AB641,J641>=$AC641),J641,""))) | AF641: =IF(((IF(AND(N641<=$AB641,N641>=$AC641),N641,""))<=0),"",(IF(AND(N641<=$AB641,N641>=$AC641),N641,""))) -> 1284585 | AG641: =IF(((IF(AND(R641<=$AB641,R641>=$AC641),R641,""))<=0),"",(IF(AND(R641<=$AB641,R641>=$AC641),R641,""))) -> 1477273 | AH641: =IF(((IF(AND(V641<=$AB641,V641>=$AC641),V641,""))<=0),"",(IF(AND(V641<=$AB641,V641>=$AC641),V641,""))) | AI641: =AVERAGE(AD641:AH641) -> 1320421.3 | AJ641: =+STDEV(AD641:AH641) -> 142357.65 | AK641: =+AJ641/AI641 -> 0.10781229
A642: 639 | B642: VÁLVULA DE PIE DE 6” ANTI GOLPE DE ARIETE EN BRONCE CON CANASTILLA PLÁSTICA TIPO HBVP | C642: INCLUYE SUMINISTRO E INSTALACION DE VÁLVULA DE PIE DE 6” ANTI GOLPE DE ARIETE EN BRONCE CON CANASTILLA PLÁSTICA TIPO HBVP | D642: UN | E642: 3002857 | F642: 3002857 | G642: INGENIERIA MONTAJES & CONSTRUCCION S.A.S. | H642: 900327815-15 | I642: 4500000 | J642: 4500000 | K642: INGENIERIA DE BOMBAS Y PLANTAS SAS | L642: 900152368-1 | M642: 3213057 | N642: 3213057 | O642: CGI INDUSTRY AND CONSTRUCTION GROUP SAS BIC | P642: 901666309-7 | Q642: 3695016 | R642: 3695016 | S642: GRUPO BERAKA SAS | T642: 901152951-1 | U642: 2963771 | V642: 2963771 | W642: SMI ELECTRÓNICA SAS | X642: 830090131-2 | Y642: =+AVERAGE(F642,J642,N642,R642,V642) -> 3474940.2 | Z642: =+STDEV(F642,J642,N642,R642,V642) -> 642635.25 | AA642: =Z642/Y642 -> 0.18493419 | AB642: =+Y642+Z642 -> 4117575.5 | AC642: =Y642-Z642 -> 2832304.9 | AD642: =IF(((IF(AND(F642<=$AB642,F642>=$AC642),F642,""))<=0),"",(IF(AND(F642<=$AB642,F642>=$AC642),F642,""))) -> 3002857 | AE642: =IF(((IF(AND(J642<=$AB642,J642>=$AC642),J642,""))<=0),"",(IF(AND(J642<=$AB642,J642>=$AC642),J642,""))) | AF642: =IF(((IF(AND(N642<=$AB642,N642>=$AC642),N642,""))<=0),"",(IF(AND(N642<=$AB642,N642>=$AC642),N642,""))) -> 3213057 | AG642: =IF(((IF(AND(R642<=$AB642,R642>=$AC642),R642,""))<=0),"",(IF(AND(R642<=$AB642,R642>=$AC642),R642,""))) -> 3695016 | AH642: =IF(((IF(AND(V642<=$AB642,V642>=$AC642),V642,""))<=0),"",(IF(AND(V642<=$AB642,V642>=$AC642),V642,""))) -> 2963771 | AI642: =AVERAGE(AD642:AH642) -> 3218675.2 | AJ642: =+STDEV(AD642:AH642) -> 335899.67 | AK642: =+AJ642/AI642 -> 0.1043596
A643: 640 | B643: VÁLVULA REDUCTORA DE PRESION DE 1/2" | C643: INCLUYE EL SUMINISTRO E INSTALACION DE VÁLVULA REDUCTORA DE PRESION DE 1/2" | D643: UN | E643: 529916 | F643: 529916 | G643: INGENIERIA MONTAJES & CONSTRUCCION S.A.S. | H643: 900327815-15 | I643: 150000 | J643: 150000 | K643: INGENIERIA DE BOMBAS Y PLANTAS SAS | L643: 900152368-1 | M643: 567010 | N643: 567010 | O643: CGI INDUSTRY AND CONSTRUCTION GROUP SAS BIC | P643: 901666309-7 | Q643: 652062 | R643: 652062 | S643: GRUPO BERAKA SAS | T643: 901152951-1 | U643: 699489 | V643: 699489 | W643: SMI ELECTRÓNICA SAS | X643: 830090131-2 | Y643: =+AVERAGE(F643,J643,N643,R643,V643) -> 519695.4 | Z643: =+STDEV(F643,J643,N643,R643,V643) -> 217292.7 | AA643: =Z643/Y643 -> 0.4181155 | AB643: =+Y643+Z643 -> 736988.1 | AC643: =Y643-Z643 -> 302402.7 | AD643: =IF(((IF(AND(F643<=$AB643,F643>=$AC643),F643,""))<=0),"",(IF(AND(F643<=$AB643,F643>=$AC643),F643,""))) -> 529916 | AE643: =IF(((IF(AND(J643<=$AB643,J643>=$AC643),J643,""))<=0),"",(IF(AND(J643<=$AB643,J643>=$AC643),J643,""))) | AF643: =IF(((IF(AND(N643<=$AB643,N643>=$AC643),N643,""))<=0),"",(IF(AND(N643<=$AB643,N643>=$AC643),N643,""))) -> 567010 | AG643: =IF(((IF(AND(R643<=$AB643,R643>=$AC643),R643,""))<=0),"",(IF(AND(R643<=$AB643,R643>=$AC643),R643,""))) -> 652062 | AH643: =IF(((IF(AND(V643<=$AB643,V643>=$AC643),V643,""))<=0),"",(IF(AND(V643<=$AB643,V643>=$AC643),V643,""))) -> 699489 | AI643: =AVERAGE(AD643:AH643) -> 612119.25 | AJ643: =+STDEV(AD643:AH643) -> 77505.086 | AK643: =+AJ643/AI643 -> 0.12661763
A644: 641 | B644: VÁLVULA REDUCTORA DE PRESION DE 3/4" | C644: INCLUYE EL SUMINISTRO E INSTALACION DE VÁLVULA REDUCTORA DE PRESION DE 3/4" | D644: UN | E644: 406269 | F644: 406269 | G644: INGENIERIA MONTAJES & CONSTRUCCION S.A.S. | H644: 900327815-15 | I644: 170000 | J644: 170000 | K644: INGENIERIA DE BOMBAS Y PLANTAS SAS | L644: 900152368-1 | M644: 434708 | N644: 434708 | O644: CGI INDUSTRY AND CONSTRUCTION GROUP SAS BIC | P644: 901666309-7 | Q644: 499914 | R644: 499914 | S644: GRUPO BERAKA SAS | T644: 901152951-1 | U644: 536275 | V644: 536275 | W644: SMI ELECTRÓNICA SAS | X644: 830090131-2 | Y644: =+AVERAGE(F644,J644,N644,R644,V644) -> 409433.2 | Z644: =+STDEV(F644,J644,N644,R644,V644) -> 143398.66 | AA644: =Z644/Y644 -> 0.35023701 | AB644: =+Y644+Z644 -> 552831.86 | AC644: =Y644-Z644 -> 266034.54 | AD644: =IF(((IF(AND(F644<=$AB644,F644>=$AC644),F644,""))<=0),"",(IF(AND(F644<=$AB644,F644>=$AC644),F644,""))) -> 406269 | AE644: =IF(((IF(AND(J644<=$AB644,J644>=$AC644),J644,""))<=0),"",(IF(AND(J644<=$AB644,J644>=$AC644),J644,""))) | AF644: =IF(((IF(AND(N644<=$AB644,N644>=$AC644),N644,""))<=0),"",(IF(AND(N644<=$AB644,N644>=$AC644),N644,""))) -> 434708 | AG644: =IF(((IF(AND(R644<=$AB644,R644>=$AC644),R644,""))<=0),"",(IF(AND(R644<=$AB644,R644>=$AC644),R644,""))) -> 499914 | AH644: =IF(((IF(AND(V644<=$AB644,V644>=$AC644),V644,""))<=0),"",(IF(AND(V644<=$AB644,V644>=$AC644),V644,""))) -> 536275 | AI644: =AVERAGE(AD644:AH644) -> 469291.5 | AJ644: =+STDEV(AD644:AH644) -> 59420.481 | AK644: =+AJ644/AI644 -> 0.12661742
A645: 642 | B645: VÁLVULA REDUCTORA DE PRESION DE 1" | C645: INCLUYE EL SUMINISTRO E INSTALACION DE VÁLVULA REDUCTORA DE PRESION DE 1" | D645: UN | E645: 600571 | F645: 600571 | G645: INGENIERIA MONTAJES & CONSTRUCCION S.A.S. | H645: 900327815-15 | I645: 200000 | J645: 200000 | K645: INGENIERIA DE BOMBAS Y PLANTAS SAS | L645: 900152368-1 | M645: 642611 | N645: 642611 | O645: CGI INDUSTRY AND CONSTRUCTION GROUP SAS BIC | P645: 901666309-7 | Q645: 739002 | R645: 739002 | S645: GRUPO BERAKA SAS | T645: 901152951-1 | U645: 792753 | V645: 792753 | W645: SMI ELECTRÓNICA SAS | X645: 830090131-2 | Y645: =+AVERAGE(F645,J645,N645,R645,V645) -> 594987.4 | Z645: =+STDEV(F645,J645,N645,R645,V645) -> 233541.04 | AA645: =Z645/Y645 -> 0.39251426 | AB645: =+Y645+Z645 -> 828528.44 | AC645: =Y645-Z645 -> 361446.36 | AD645: =IF(((IF(AND(F645<=$AB645,F645>=$AC645),F645,""))<=0),"",(IF(AND(F645<=$AB645,F645>=$AC645),F645,""))) -> 600571 | AE645: =IF(((IF(AND(J645<=$AB645,J645>=$AC645),J645,""))<=0),"",(IF(AND(J645<=$AB645,J645>=$AC645),J645,""))) | AF645: =IF(((IF(AND(N645<=$AB645,N645>=$AC645),N645,""))<=0),"",(IF(AND(N645<=$AB645,N645>=$AC645),N645,""))) -> 642611 | AG645: =IF(((IF(AND(R645<=$AB645,R645>=$AC645),R645,""))<=0),"",(IF(AND(R645<=$AB645,R645>=$AC645),R645,""))) -> 739002 | AH645: =IF(((IF(AND(V645<=$AB645,V645>=$AC645),V645,""))<=0),"",(IF(AND(V645<=$AB645,V645>=$AC645),V645,""))) -> 792753 | AI645: =AVERAGE(AD645:AH645) -> 693734.25 | AJ645: =+STDEV(AD645:AH645) -> 87838.602 | AK645: =+AJ645/AI645 -> 0.12661708
A646: 643 | B646: VÁLVULA REDUCTORA DE PRESION DE 1 1/2" | C646: INCLUYE EL SUMINISTRO E INSTALACION DE VÁLVULA REDUCTORA DE PRESION DE 1 1/2" | D646: UN | E646: 697723 | F646: 697723 | G646: INGENIERIA MONTAJES & CONSTRUCCION S.A.S. | H646: 900327815-15 | I646: 250000 | J646: 250000 | K646: INGENIERIA DE BOMBAS Y PLANTAS SAS | L646: 900152368-1 | M646: 746563 | N646: 746563 | O646: CGI INDUSTRY AND CONSTRUCTION GROUP SAS BIC | P646: 901666309-7 | Q646: 858548 | R646: 858548 | S646: GRUPO BERAKA SAS | T646: 901152951-1 | U646: 920994 | V646: 920994 | W646: SMI ELECTRÓNICA SAS | X646: 830090131-2 | Y646: =+AVERAGE(F646,J646,N646,R646,V646) -> 694765.6 | Z646: =+STDEV(F646,J646,N646,R646,V646) -> 263871.24 | AA646: =Z646/Y646 -> 0.37979894 | AB646: =+Y646+Z646 -> 958636.84 | AC646: =Y646-Z646 -> 430894.36 | AD646: =IF(((IF(AND(F646<=$AB646,F646>=$AC646),F646,""))<=0),"",(IF(AND(F646<=$AB646,F646>=$AC646),F646,""))) -> 697723 | AE646: =IF(((IF(AND(J646<=$AB646,J646>=$AC646),J646,""))<=0),"",(IF(AND(J646<=$AB646,J646>=$AC646),J646,""))) | AF646: =IF(((IF(AND(N646<=$AB646,N646>=$AC646),N646,""))<=0),"",(IF(AND(N646<=$AB646,N646>=$AC646),N646,""))) -> 746563 | AG646: =IF(((IF(AND(R646<=$AB646,R646>=$AC646),R646,""))<=0),"",(IF(AND(R646<=$AB646,R646>=$AC646),R646,""))) -> 858548 | AH646: =IF(((IF(AND(V646<=$AB646,V646>=$AC646),V646,""))<=0),"",(IF(AND(V646<=$AB646,V646>=$AC646),V646,""))) -> 920994 | AI646: =AVERAGE(AD646:AH646) -> 805957 | AJ646: =+STDEV(AD646:AH646) -> 102048.31 | AK646: =+AJ646/AI646 -> 0.12661756
A647: 644 | B647: VÁLVULA REDUCTORA DE PRESION DE 2" | C647: INCLUYE EL SUMINISTRO E INSTALACION DE VÁLVULA REDUCTORA DE PRESION DE 2" | D647: UN | E647: 1059832 | F647: 1059832 | G647: INGENIERIA MONTAJES & CONSTRUCCION S.A.S. | H647: 900327815-15 | I647: 300000 | J647: 300000 | K647: INGENIERIA DE BOMBAS Y PLANTAS SAS | L647: 900152368-1 | M647: 1134020 | N647: 1134020 | O647: CGI INDUSTRY AND CONSTRUCTION GROUP SAS BIC | P647: 901666309-7 | Q647: 1304123 | R647: 1304123 | S647: GRUPO BERAKA SAS | T647: 901152951-1 | U647: 1398978 | V647: 1398978 | W647: SMI ELECTRÓNICA SAS | X647: 830090131-2 | Y647: =+AVERAGE(F647,J647,N647,R647,V647) -> 1039390.6 | Z647: =+STDEV(F647,J647,N647,R647,V647) -> 434585.25 | AA647: =Z647/Y647 -> 0.41811544 | AB647: =+Y647+Z647 -> 1473975.9 | AC647: =Y647-Z647 -> 604805.35 | AD647: =IF(((IF(AND(F647<=$AB647,F647>=$AC647),F647,""))<=0),"",(IF(AND(F647<=$AB647,F647>=$AC647),F647,""))) -> 1059832 | AE647: =IF(((IF(AND(J647<=$AB647,J647>=$AC647),J647,""))<=0),"",(IF(AND(J647<=$AB647,J647>=$AC647),J647,""))) | AF647: =IF(((IF(AND(N647<=$AB647,N647>=$AC647),N647,""))<=0),"",(IF(AND(N647<=$AB647,N647>=$AC647),N647,""))) -> 1134020 | AG647: =IF(((IF(AND(R647<=$AB647,R647>=$AC647),R647,""))<=0),"",(IF(AND(R647<=$AB647,R647>=$AC647),R647,""))) -> 1304123 | AH647: =IF(((IF(AND(V647<=$AB647,V647>=$AC647),V647,""))<=0),"",(IF(AND(V647<=$AB647,V647>=$AC647),V647,""))) -> 1398978 | AI647: =AVERAGE(AD647:AH647) -> 1224238.2 | AJ647: =+STDEV(AD647:AH647) -> 155010 | AK647: =+AJ647/AI647 -> 0.12661751
A648: 645 | B648: VÁLVULA REDUCTORA DE PRESION DE 2 1/2" | C648: INCLUYE EL SUMINISTRO E INSTALACION DE VÁLVULA REDUCTORA DE PRESION DE 2 1/2" | D648: UN | E648: 1589748 | F648: 1589748 | G648: INGENIERIA MONTAJES & CONSTRUCCION S.A.S. | H648: 900327815-15 | I648: 400000 | J648: 400000 | K648: INGENIERIA DE BOMBAS Y PLANTAS SAS | L648: 900152368-1 | M648: 1701030 | N648: 1701030 | O648: CGI INDUSTRY AND CONSTRUCTION GROUP SAS BIC | P648: 901666309-7 | Q648: 1956185 | R648: 1956185 | S648: GRUPO BERAKA SAS | T648: 901152951-1 | U648: 2098467 | V648: 2098467 | W648: SMI ELECTRÓNICA SAS | X648: 830090131-2 | Y648: =+AVERAGE(F648,J648,N648,R648,V648) -> 1549086 | Z648: =+STDEV(F648,J648,N648,R648,V648) -> 673180.53 | AA648: =Z648/Y648 -> 0.43456627 | AB648: =+Y648+Z648 -> 2222266.5 | AC648: =Y648-Z648 -> 875905.47 | AD648: =IF(((IF(AND(F648<=$AB648,F648>=$AC648),F648,""))<=0),"",(IF(AND(F648<=$AB648,F648>=$AC648),F648,""))) -> 1589748 | AE648: =IF(((IF(AND(J648<=$AB648,J648>=$AC648),J648,""))<=0),"",(IF(AND(J648<=$AB648,J648>=$AC648),J648,""))) | AF648: =IF(((IF(AND(N648<=$AB648,N648>=$AC648),N648,""))<=0),"",(IF(AND(N648<=$AB648,N648>=$AC648),N648,""))) -> 1701030 | AG648: =IF(((IF(AND(R648<=$AB648,R648>=$AC648),R648,""))<=0),"",(IF(AND(R648<=$AB648,R648>=$AC648),R648,""))) -> 1956185 | AH648: =IF(((IF(AND(V648<=$AB648,V648>=$AC648),V648,""))<=0),"",(IF(AND(V648<=$AB648,V648>=$AC648),V648,""))) -> 2098467 | AI648: =AVERAGE(AD648:AH648) -> 1836357.5 | AJ648: =+STDEV(AD648:AH648) -> 232515.09 | AK648: =+AJ648/AI648 -> 0.12661755
...

Sheet MEDIANA
C1: PROCESO PLANEACIÓN ESTRATÉGICA FORMATO VALIDACIÓN PRECIOS UNITARIOS DE REFERENCIA | AE1: Código: FOR-PE-081
AE2: Versión: 0
AE3: Fecha: Memo I2025024171 -21/07/2025
AE4: Pagina: 2 de 3
A6: CRITERIOS | E6: COTIZACIONES | Y6: PROCESO FORMULACIÓN | AD6: RECHAZO POR RANGO | AI6: PRECIO UNITARIOS DE REFERENCIA
A7: # | B7: ELEMENTO | C7: DESCRIPCIÓN DEL ELEMENTO | D7: UNIDAD DE MEDIDA | E7: VALOR ANTES DE IVA | F7: =+E7 -> VALOR ANTES DE IVA | G7: NOMBRE EMPRESA 1 | H7: NIT DE LA EMPRESA | I7: VALOR ANTES DE IVA | J7: =+I7 -> VALOR ANTES DE IVA | K7: NOMBRE EMPRESA 2 | L7: NIT DE LA EMPRESA | M7: VALOR ANTES DE IVA | N7: =+M7 -> VALOR ANTES DE IVA | O7: NOMBRE EMPRESA 3 | P7: NIT DE LA EMPRESA | Q7: VALOR ANTES DE IVA | R7: =+Q7 -> VALOR ANTES DE IVA | S7: NOMBRE EMPRESA 4 | T7: NIT DE LA EMPRESA | U7: VALOR ANTES DE IVA | V7: =+U7 -> VALOR ANTES DE IVA | W7: NOMBRE EMPRESA 5 | X7: NIT DE LA EMPRESA | Y7: MEDIANA | Z7: DESVIACIÓN | AA7: % DISPERSIÓN | AB7: TECHO - TUNEL ALTO | AC7: PISO - TUNEL BAJO | AD7: PRECIO 1 | AE7: PRECIO 2 | AF7: PRECIO 3 | AG7: PRECIO 4 | AH7: PRECIO 5 | AI7: MEDIANA ANTES DE IVA | AJ7: DESVIACIÓN | AK7: % DISPERSIÓN
A8: 1 | B8: ABRAZADERA METÁLICA DE 1" | C8: INCLUYE SUMINISTRO E INSTALACION DE ABRAZADERA METÁLICA DE 1" | D8: UN | E8: 6378 | F8: 6378 | G8: INGENIERIA MONTAJES & CONSTRUCCION S.A.S. | H8: 900327815-15 | I8: 50000 | J8: 50000 | K8: INGENIERIA DE BOMBAS Y PLANTAS SAS | L8: 900152368-1 | M8: 6832 | N8: 6832 | O8: CGI INDUSTRY AND CONSTRUCTION GROUP SAS BIC | P8: 901666309-7 | Q8: 7857 | R8: 7857 | S8: GRUPO BERAKA SAS | T8: 901152951-1 | U8: 8428 | V8: 8428 | W8: SMI ELECTRÓNICA SAS | X8: 830090131-2 | Y8: =MEDIAN(F8,J8,N8,R8,V8) -> 7857 | Z8: =+STDEV(F8,J8,N8,R8,V8) -> 19080.276 | AA8: =Z8/Y8 -> 2.4284429 | AB8: =+Y8+Z8 -> 26937.276 | AC8: =Y8-Z8 -> -11223.276 | AD8: =+IF(((IF(AND(F8<=$AB8,F8>=$AC8),F8,""))<=0),"",(IF(AND(F8<=$AB8,F8>=$AC8),F8,""))) -> 6378 | AE8: =+IF(((IF(AND(J8<=$AB8,J8>=$AC8),J8,""))<=0),"",(IF(AND(J8<=$AB8,J8>=$AC8),J8,""))) | AF8: =+IF(((IF(AND(N8<=$AB8,N8>=$AC8),N8,""))<=0),"",(IF(AND(N8<=$AB8,N8>=$AC8),N8,""))) -> 6832 | AG8: =+IF(((IF(AND(R8<=$AB8,R8>=$AC8),R8,""))<=0),"",(IF(AND(R8<=$AB8,R8>=$AC8),R8,""))) -> 7857 | AH8: =+IF(((IF(AND(V8<=$AB8,V8>=$AC8),V8,""))<=0),"",(IF(AND(V8<=$AB8,V8>=$AC8),V8,""))) -> 8428 | AI8: =+MEDIAN(AD8:AH8) -> 7344.5 | AJ8: =+STDEV(AD8:AH8) -> 936.30208 | AK8: =+AJ8/AI8 -> 0.12748343
A9: 2 | B9: ABRAZADERA METÁLICA DE 1/2" | C9: INCLUYE SUMINISTRO E INSTALACION DE ABRAZADERA METÁLICA DE 1/2" | D9: UN | E9: 3431 | F9: 3431 | G9: INGENIERIA MONTAJES & CONSTRUCCION S.A.S. | H9: 900327815-15 | I9: 40000 | J9: 40000 | K9: INGENIERIA DE BOMBAS Y PLANTAS SAS | L9: 900152368-1 | M9: 3675 | N9: 3675 | O9: CGI INDUSTRY AND CONSTRUCTION GROUP SAS BIC | P9: 901666309-7 | Q9: 4226 | R9: 4226 | S9: GRUPO BERAKA SAS | T9: 901152951-1 | U9: 4533 | V9: 4533 | W9: SMI ELECTRÓNICA SAS | X9: 830090131-2 | Y9: =MEDIAN(F9,J9,N9,R9,V9) -> 4226 | Z9: =+STDEV(F9,J9,N9,R9,V9) -> 16120.677 | AA9: =Z9/Y9 -> 3.814642 | AB9: =+Y9+Z9 -> 20346.677 | AC9: =Y9-Z9 -> -11894.677 | AD9: =+IF(((IF(AND(F9<=$AB9,F9>=$AC9),F9,""))<=0),"",(IF(AND(F9<=$AB9,F9>=$AC9),F9,""))) -> 3431 | AE9: =+IF(((IF(AND(J9<=$AB9,J9>=$AC9),J9,""))<=0),"",(IF(AND(J9<=$AB9,J9>=$AC9),J9,""))) | AF9: =+IF(((IF(AND(N9<=$AB9,N9>=$AC9),N9,""))<=0),"",(IF(AND(N9<=$AB9,N9>=$AC9),N9,""))) -> 3675 | AG9: =+IF(((IF(AND(R9<=$AB9,R9>=$AC9),R9,""))<=0),"",(IF(AND(R9<=$AB9,R9>=$AC9),R9,""))) -> 4226 | AH9: =+IF(((IF(AND(V9<=$AB9,V9>=$AC9),V9,""))<=0),"",(IF(AND(V9<=$AB9,V9>=$AC9),V9,""))) -> 4533 | AI9: =+MEDIAN(AD9:AH9) -> 3950.5 | AJ9: =+STDEV(AD9:AH9) -> 503.32056 | AK9: =+AJ9/AI9 -> 0.1274068
A10: 3 | B10: ABRAZADERA METÁLICA DE 1-1/2" | C10: INCLUYE SUMINISTRO E INSTALACION DE ABRAZADERA METÁLICA DE 1-1/2" | D10: UN | E10: 10291 | F10: 10291 | G10: INGENIERIA MONTAJES & CONSTRUCCION S.A.S. | H10: 900327815-15 | I10: 60000 | J10: 60000 | K10: INGENIERIA DE BOMBAS Y PLANTAS SAS | L10: 900152368-1 | M10: 11022 | N10: 11022 | O10: CGI INDUSTRY AND CONSTRUCTION GROUP SAS BIC | P10: 901666309-7 | Q10: 12675 | R10: 12675 | S10: GRUPO BERAKA SAS | T10: 901152951-1 | U10: 13597 | V10: 13597 | W10: SMI ELECTRÓNICA SAS | X10: 830090131-2 | Y10: =MEDIAN(F10,J10,N10,R10,V10) -> 12675 | Z10: =+STDEV(F10,J10,N10,R10,V10) -> 21552.359 | AA10: =Z10/Y10 -> 1.7003834 | AB10: =+Y10+Z10 -> 34227.359 | AC10: =Y10-Z10 -> -8877.3592 | AD10: =+IF(((IF(AND(F10<=$AB10,F10>=$AC10),F10,""))<=0),"",(IF(AND(F10<=$AB10,F10>=$AC10),F10,""))) -> 10291 | AE10: =+IF(((IF(AND(J10<=$AB10,J10>=$AC10),J10,""))<=0),"",(IF(AND(J10<=$AB10,J10>=$AC10),J10,""))) | AF10: =+IF(((IF(AND(N10<=$AB10,N10>=$AC10),N10,""))<=0),"",(IF(AND(N10<=$AB10,N10>=$AC10),N10,""))) -> 11022 | AG10: =+IF(((IF(AND(R10<=$AB10,R10>=$AC10),R10,""))<=0),"",(IF(AND(R10<=$AB10,R10>=$AC10),R10,""))) -> 12675 | AH10: =+IF(((IF(AND(V10<=$AB10,V10>=$AC10),V10,""))<=0),"",(IF(AND(V10<=$AB10,V10>=$AC10),V10,""))) -> 13597 | AI10: =+MEDIAN(AD10:AH10) -> 11848.5 | AJ10: =+STDEV(AD10:AH10) -> 1509.9826 | AK10: =+AJ10/AI10 -> 0.12744083
A11: 4 | B11: ABRAZADERA METÁLICA DE 1-1/4" | C11: INCLUYE SUMINISTRO E INSTALACION DE ABRAZADERA METÁLICA DE 1-1/4" | D11: UN | E11: 19818 | F11: 19818 | G11: INGENIERIA MONTAJES & CONSTRUCCION S.A.S. | H11: 900327815-15 | I11: 45000 | J11: 45000 | K11: INGENIERIA DE BOMBAS Y PLANTAS SAS | L11: 900152368-1 | M11: 21226 | N11: 21226 | O11: CGI INDUSTRY AND CONSTRUCTION GROUP SAS BIC | P11: 901666309-7 | Q11: 24409 | R11: 24409 | S11: GRUPO BERAKA SAS | T11: 901152951-1 | U11: 26185 | V11: 26185 | W11: SMI ELECTRÓNICA SAS | X11: 830090131-2 | Y11: =MEDIAN(F11,J11,N11,R11,V11) -> 24409 | Z11: =+STDEV(F11,J11,N11,R11,V11) -> 10195.11 | AA11: =Z11/Y11 -> 0.41767833 | AB11: =+Y11+Z11 -> 34604.11 | AC11: =Y11-Z11 -> 14213.89 | AD11: =+IF(((IF(AND(F11<=$AB11,F11>=$AC11),F11,""))<=0),"",(IF(AND(F11<=$AB11,F11>=$AC11),F11,""))) -> 19818 | AE11: =+IF(((IF(AND(J11<=$AB11,J11>=$AC11),J11,""))<=0),"",(IF(AND(J11<=$AB11,J11>=$AC11),J11,""))) | AF11: =+IF(((IF(AND(N11<=$AB11,N11>=$AC11),N11,""))<=0),"",(IF(AND(N11<=$AB11,N11>=$AC11),N11,""))) -> 21226 | AG11: =+IF(((IF(AND(R11<=$AB11,R11>=$AC11),R11,""))<=0),"",(IF(AND(R11<=$AB11,R11>=$AC11),R11,""))) -> 24409 | AH11: =+IF(((IF(AND(V11<=$AB11,V11>=$AC11),V11,""))<=0),"",(IF(AND(V11<=$AB11,V11>=$AC11),V11,""))) -> 26185 | AI11: =+MEDIAN(AD11:AH11) -> 22817.5 | AJ11: =+STDEV(AD11:AH11) -> 2907.9744 | AK11: =+AJ11/AI11 -> 0.12744492
A12: 5 | B12: ABRAZADERA METÁLICA DE 2" | C12: INCLUYE SUMINISTRO E INSTALACION DE ABRAZADERA METÁLICA DE 2" | D12: UN | E12: 9289 | F12: 9289 | G12: INGENIERIA MONTAJES & CONSTRUCCION S.A.S. | H12: 900327815-15 | I12: 80000 | J12: 80000 | K12: INGENIERIA DE BOMBAS Y PLANTAS SAS | L12: 900152368-1 | M12: 9949 | N12: 9949 | O12: CGI INDUSTRY AND CONSTRUCTION GROUP SAS BIC | P12: 901666309-7 | Q12: 11442 | R12: 11442 | S12: GRUPO BERAKA SAS | T12: 901152951-1 | U12: 12274 | V12: 12274 | W12: SMI ELECTRÓNICA SAS | X12: 830090131-2 | Y12: =MEDIAN(F12,J12,N12,R12,V12) -> 11442 | Z12: =+STDEV(F12,J12,N12,R12,V12) -> 30997.183 | AA12: =Z12/Y12 -> 2.7090703 | AB12: =+Y12+Z12 -> 42439.183 | AC12: =Y12-Z12 -> -19555.183 | AD12: =+IF(((IF(AND(F12<=$AB12,F12>=$AC12),F12,""))<=0),"",(IF(AND(F12<=$AB12,F12>=$AC12),F12,""))) -> 9289 | AE12: =+IF(((IF(AND(J12<=$AB12,J12>=$AC12),J12,""))<=0),"",(IF(AND(J12<=$AB12,J12>=$AC12),J12,""))) | AF12: =+IF(((IF(AND(N12<=$AB12,N12>=$AC12),N12,""))<=0),"",(IF(AND(N12<=$AB12,N12>=$AC12),N12,""))) -> 9949 | AG12: =+IF(((IF(AND(R12<=$AB12,R12>=$AC12),R12,""))<=0),"",(IF(AND(R12<=$AB12,R12>=$AC12),R12,""))) -> 11442 | AH12: =+IF(((IF(AND(V12<=$AB12,V12>=$AC12),V12,""))<=0),"",(IF(AND(V12<=$AB12,V12>=$AC12),V12,""))) -> 12274 | AI12: =+MEDIAN(AD12:AH12) -> 10695.5 | AJ12: =+STDEV(AD12:AH12) -> 1363.4555 | AK12: =+AJ12/AI12 -> 0.12747936
A13: 6 | B13: ABRAZADERA METÁLICA DE 3/4" | C13: INCLUYE SUMINISTRO E INSTALACION DE ABRAZADERA METÁLICA DE 3/4" | D13: UN | E13: 6597 | F13: 6597 | G13: INGENIERIA MONTAJES & CONSTRUCCION S.A.S. | H13: 900327815-15 | I13: 30000 | J13: 30000 | K13: INGENIERIA DE BOMBAS Y PLANTAS SAS | L13: 900152368-1 | M13: 7066 | N13: 7066 | O13: CGI INDUSTRY AND CONSTRUCTION GROUP SAS BIC | P13: 901666309-7 | Q13: 8125 | R13: 8125 | S13: GRUPO BERAKA SAS | T13: 901152951-1 | U13: 8716 | V13: 8716 | W13: SMI ELECTRÓNICA SAS | X13: 830090131-2 | Y13: =MEDIAN(F13,J13,N13,R13,V13) -> 8125 | Z13: =+STDEV(F13,J13,N13,R13,V13) -> 10040.994 | AA13: =Z13/Y13 -> 1.2358146 | AB13: =+Y13+Z13 -> 18165.994 | AC13: =Y13-Z13 -> -1915.994 | AD13: =+IF(((IF(AND(F13<=$AB13,F13>=$AC13),F13,""))<=0),"",(IF(AND(F13<=$AB13,F13>=$AC13),F13,""))) -> 6597 | AE13: =+IF(((IF(AND(J13<=$AB13,J13>=$AC13),J13,""))<=0),"",(IF(AND(J13<=$AB13,J13>=$AC13),J13,""))) | AF13: =+IF(((IF(AND(N13<=$AB13,N13>=$AC13),N13,""))<=0),"",(IF(AND(N13<=$AB13,N13>=$AC13),N13,""))) -> 7066 | AG13: =+IF(((IF(AND(R13<=$AB13,R13>=$AC13),R13,""))<=0),"",(IF(AND(R13<=$AB13,R13>=$AC13),R13,""))) -> 8125 | AH13: =+IF(((IF(AND(V13<=$AB13,V13>=$AC13),V13,""))<=0),"",(IF(AND(V13<=$AB13,V13>=$AC13),V13,""))) -> 8716 | AI13: =+MEDIAN(AD13:AH13) -> 7595.5 | AJ13: =+STDEV(AD13:AH13) -> 967.73653 | AK13: =+AJ13/AI13 -> 0.12740919
A14: 7 | B14: ACEITE DIELECTRICO X 1/4 GALON PARA MOTOBOMBA SUMERGIBLES | C14: INCLUYE SUMINISTRO E INSTALACION DE ACEITE DIELECTRICO X 1/4 GALON PARA MOTOBOMBA SUMERGIBLES | D14: UN | E14: 67192 | F14: 67192 | G14: INGENIERIA MONTAJES & CONSTRUCCION S.A.S. | H14: 900327815-15 | I14: 350000 | J14: 350000 | K14: INGENIERIA DE BOMBAS Y PLANTAS SAS | L14: 900152368-1 | M14: 71963 | N14: 71963 | O14: CGI INDUSTRY AND CONSTRUCTION GROUP SAS BIC | P14: 901666309-7 | Q14: 82758 | R14: 82758 | S14: GRUPO BERAKA SAS | T14: 901152951-1 | U14: 88777 | V14: 88777 | W14: SMI ELECTRÓNICA SAS | X14: 830090131-2 | Y14: =MEDIAN(F14,J14,N14,R14,V14) -> 82758 | Z14: =+STDEV(F14,J14,N14,R14,V14) -> 122087.49 | AA14: =Z14/Y14 -> 1.475235 | AB14: =+Y14+Z14 -> 204845.49 | AC14: =Y14-Z14 -> -39329.495 | AD14: =+IF(((IF(AND(F14<=$AB14,F14>=$AC14),F14,""))<=0),"",(IF(AND(F14<=$AB14,F14>=$AC14),F14,""))) -> 67192 | AE14: =+IF(((IF(AND(J14<=$AB14,J14>=$AC14),J14,""))<=0),"",(IF(AND(J14<=$AB14,J14>=$AC14),J14,""))) | AF14: =+IF(((IF(AND(N14<=$AB14,N14>=$AC14),N14,""))<=0),"",(IF(AND(N14<=$AB14,N14>=$AC14),N14,""))) -> 71963 | AG14: =+IF(((IF(AND(R14<=$AB14,R14>=$AC14),R14,""))<=0),"",(IF(AND(R14<=$AB14,R14>=$AC14),R14,""))) -> 82758 | AH14: =+IF(((IF(AND(V14<=$AB14,V14>=$AC14),V14,""))<=0),"",(IF(AND(V14<=$AB14,V14>=$AC14),V14,""))) -> 88777 | AI14: =+MEDIAN(AD14:AH14) -> 77360.5 | AJ14: =+STDEV(AD14:AH14) -> 9859.2005 | AK14: =+AJ14/AI14 -> 0.12744489
A15: 8 | B15: ACOPLE FLEXIBLE RANURADO 4 | C15: INCLUYE SUMINISTRO E INSTALACION DE ACOPLE FLEXIBLE RANURADO 4 | D15: UN | E15: 28918 | F15: 28918 | G15: INGENIERIA MONTAJES & CONSTRUCCION S.A.S. | H15: 900327815-15 | I15: 350000 | J15: 350000 | K15: INGENIERIA DE BOMBAS Y PLANTAS SAS | L15: 900152368-1 | M15: 30972 | N15: 30972 | O15: CGI INDUSTRY AND CONSTRUCTION GROUP SAS BIC | P15: 901666309-7 | Q15: 35617 | R15: 35617 | S15: GRUPO BERAKA SAS | T15: 901152951-1 | U15: 38208 | V15: 38208 | W15: SMI ELECTRÓNICA SAS | X15: 830090131-2 | Y15: =MEDIAN(F15,J15,N15,R15,V15) -> 35617 | Z15: =+STDEV(F15,J15,N15,R15,V15) -> 141622.65 | AA15: =Z15/Y15 -> 3.9762655 | AB15: =+Y15+Z15 -> 177239.65 | AC15: =Y15-Z15 -> -106005.65 | AD15: =+IF(((IF(AND(F15<=$AB15,F15>=$AC15),F15,""))<=0),"",(IF(AND(F15<=$AB15,F15>=$AC15),F15,""))) -> 28918 | AE15: =+IF(((IF(AND(J15<=$AB15,J15>=$AC15),J15,""))<=0),"",(IF(AND(J15<=$AB15,J15>=$AC15),J15,""))) | AF15: =+IF(((IF(AND(N15<=$AB15,N15>=$AC15),N15,""))<=0),"",(IF(AND(N15<=$AB15,N15>=$AC15),N15,""))) -> 30972 | AG15: =+IF(((IF(AND(R15<=$AB15,R15>=$AC15),R15,""))<=0),"",(IF(AND(R15<=$AB15,R15>=$AC15),R15,""))) -> 35617 | AH15: =+IF(((IF(AND(V15<=$AB15,V15>=$AC15),V15,""))<=0),"",(IF(AND(V15<=$AB15,V15>=$AC15),V15,""))) -> 38208 | AI15: =+MEDIAN(AD15:AH15) -> 33294.5 | AJ15: =+STDEV(AD15:AH15) -> 4243.1181 | AK15: =+AJ15/AI15 -> 0.12744201
A16: 9 | B16: ADAPTADOR HEMBRA DE 1 " PVCP | C16: INCLUYE SUMINISTRO E INSTALACION DE ADAPTADOR HEMBRA DE 1 " PVCP | D16: UN | E16: 6361 | F16: 6361 | G16: INGENIERIA MONTAJES & CONSTRUCCION S.A.S. | H16: 900327815-15 | I16: 10000 | J16: 10000 | K16: INGENIERIA DE BOMBAS Y PLANTAS SAS | L16: 900152368-1 | M16: 6813 | N16: 6813 | O16: CGI INDUSTRY AND CONSTRUCTION GROUP SAS BIC | P16: 901666309-7 | Q16: 7835 | R16: 7835 | S16: GRUPO BERAKA SAS | T16: 901152951-1 | U16: 8405 | V16: 8405 | W16: SMI ELECTRÓNICA SAS | X16: 830090131-2 | Y16: =MEDIAN(F16,J16,N16,R16,V16) -> 7835 | Z16: =+STDEV(F16,J16,N16,R16,V16) -> 1433.3406 | AA16: =Z16/Y16 -> 0.18294072 | AB16: =+Y16+Z16 -> 9268.3406 | AC16: =Y16-Z16 -> 6401.6594 | AD16: =+IF(((IF(AND(F16<=$AB16,F16>=$AC16),F16,""))<=0),"",(IF(AND(F16<=$AB16,F16>=$AC16),F16,""))) | AE16: =+IF(((IF(AND(J16<=$AB16,J16>=$AC16),J16,""))<=0),"",(IF(AND(J16<=$AB16,J16>=$AC16),J16,""))) | AF16: =+IF(((IF(AND(N16<=$AB16,N16>=$AC16),N16,""))<=0),"",(IF(AND(N16<=$AB16,N16>=$AC16),N16,""))) -> 6813 | AG16: =+IF(((IF(AND(R16<=$AB16,R16>=$AC16),R16,""))<=0),"",(IF(AND(R16<=$AB16,R16>=$AC16),R16,""))) -> 7835 | AH16: =+IF(((IF(AND(V16<=$AB16,V16>=$AC16),V16,""))<=0),"",(IF(AND(V16<=$AB16,V16>=$AC16),V16,""))) -> 8405 | AI16: =+MEDIAN(AD16:AH16) -> 7835 | AJ16: =+STDEV(AD16:AH16) -> 806.62341 | AK16: =+AJ16/AI16 -> 0.1029513
A17: 10 | B17: ADAPTADOR HEMBRA DE 1/2" PVCP | C17: INCLUYE SUMINISTRO E INSTALACION DE ADAPTADOR HEMBRA DE 1/2" PVCP | D17: UN | E17: 8034 | F17: 8034 | G17: INGENIERIA MONTAJES & CONSTRUCCION S.A.S. | H17: 900327815-15 | I17: 8000 | J17: 8000 | K17: INGENIERIA DE BOMBAS Y PLANTAS SAS | L17: 900152368-1 | M17: 8604 | N17: 8604 | O17: CGI INDUSTRY AND CONSTRUCTION GROUP SAS BIC | P17: 901666309-7 | Q17: 9895 | R17: 9895 | S17: GRUPO BERAKA SAS | T17: 901152951-1 | U17: 10614 | V17: 10614 | W17: SMI ELECTRÓNICA SAS | X17: 830090131-2 | Y17: =MEDIAN(F17,J17,N17,R17,V17) -> 8604 | Z17: =+STDEV(F17,J17,N17,R17,V17) -> 1171.7158 | AA17: =Z17/Y17 -> 0.13618268 | AB17: =+Y17+Z17 -> 9775.7158 | AC17: =Y17-Z17 -> 7432.2842 | AD17: =+IF(((IF(AND(F17<=$AB17,F17>=$AC17),F17,""))<=0),"",(IF(AND(F17<=$AB17,F17>=$AC17),F17,""))) -> 8034 | AE17: =+IF(((IF(AND(J17<=$AB17,J17>=$AC17),J17,""))<=0),"",(IF(AND(J17<=$AB17,J17>=$AC17),J17,""))) -> 8000 | AF17: =+IF(((IF(AND(N17<=$AB17,N17>=$AC17),N17,""))<=0),"",(IF(AND(N17<=$AB17,N17>=$AC17),N17,""))) -> 8604 | AG17: =+IF(((IF(AND(R17<=$AB17,R17>=$AC17),R17,""))<=0),"",(IF(AND(R17<=$AB17,R17>=$AC17),R17,""))) | AH17: =+IF(((IF(AND(V17<=$AB17,V17>=$AC17),V17,""))<=0),"",(IF(AND(V17<=$AB17,V17>=$AC17),V17,""))) | AI17: =+MEDIAN(AD17:AH17) -> 8034 | AJ17: =+STDEV(AD17:AH17) -> 339.33071 | AK17: =+AJ17/AI17 -> 0.042236833
A18: 11 | B18: ADAPTADOR HEMBRA DE 1-1/2" PVCP | C18: INCLUYE SUMINISTRO E INSTALACION DE ADAPTADOR HEMBRA DE 1-1/2" PVCP | D18: UN | E18: 20009 | F18: 20009 | G18: INGENIERIA MONTAJES & CONSTRUCCION S.A.S. | H18: 900327815-15 | I18: 12000 | J18: 12000 | K18: INGENIERIA DE BOMBAS Y PLANTAS SAS | L18: 900152368-1 | M18: 21430 | N18: 21430 | O18: CGI INDUSTRY AND CONSTRUCTION GROUP SAS BIC | P18: 901666309-7 | Q18: 24644 | R18: 24644 | S18: GRUPO BERAKA SAS | T18: 901152951-1 | U18: 26437 | V18: 26437 | W18: SMI ELECTRÓNICA SAS | X18: 830090131-2 | Y18: =MEDIAN(F18,J18,N18,R18,V18) -> 21430 | Z18: =+STDEV(F18,J18,N18,R18,V18) -> 5589.289 | AA18: =Z18/Y18 -> 0.2608161 | AB18: =+Y18+Z18 -> 27019.289 | AC18: =Y18-Z18 -> 15840.711 | AD18: =+IF(((IF(AND(F18<=$AB18,F18>=$AC18),F18,""))<=0),"",(IF(AND(F18<=$AB18,F18>=$AC18),F18,""))) -> 20009 | AE18: =+IF(((IF(AND(J18<=$AB18,J18>=$AC18),J18,""))<=0),"",(IF(AND(J18<=$AB18,J18>=$AC18),J18,""))) | AF18: =+IF(((IF(AND(N18<=$AB18,N18>=$AC18),N18,""))<=0),"",(IF(AND(N18<=$AB18,N18>=$AC18),N18,""))) -> 21430 | AG18: =+IF(((IF(AND(R18<=$AB18,R18>=$AC18),R18,""))<=0),"",(IF(AND(R18<=$AB18,R18>=$AC18),R18,""))) -> 24644 | AH18: =+IF(((IF(AND(V18<=$AB18,V18>=$AC18),V18,""))<=0),"",(IF(AND(V18<=$AB18,V18>=$AC18),V18,""))) -> 26437 | AI18: =+MEDIAN(AD18:AH18) -> 23037 | AJ18: =+STDEV(AD18:AH18) -> 2935.9318 | AK18: =+AJ18/AI18 -> 0.12744419
A19: 12 | B19: ADAPTADOR HEMBRA DE 1-1/4" PVCP | C19: INCLUYE SUMINISTRO E INSTALACION DE ADAPTADOR HEMBRA DE 1-1/4" PVCP | D19: UN | E19: 14802 | F19: 14802 | G19: INGENIERIA MONTAJES & CONSTRUCCION S.A.S. | H19: 900327815-15 | I19: 11000 | J19: 11000 | K19: INGENIERIA DE BOMBAS Y PLANTAS SAS | L19: 900152368-1 | M19: 15854 | N19: 15854 | O19: CGI INDUSTRY AND CONSTRUCTION GROUP SAS BIC | P19: 901666309-7 | Q19: 18232 | R19: 18232 | S19: GRUPO BERAKA SAS | T19: 901152951-1 | U19: 19558 | V19: 19558 | W19: SMI ELECTRÓNICA SAS | X19: 830090131-2 | Y19: =MEDIAN(F19,J19,N19,R19,V19) -> 15854 | Z19: =+STDEV(F19,J19,N19,R19,V19) -> 3317.9936 | AA19: =Z19/Y19 -> 0.20928432 | AB19: =+Y19+Z19 -> 19171.994 | AC19: =Y19-Z19 -> 12536.006 | AD19: =+IF(((IF(AND(F19<=$AB19,F19>=$AC19),F19,""))<=0),"",(IF(AND(F19<=$AB19,F19>=$AC19),F19,""))) -> 14802 | AE19: =+IF(((IF(AND(J19<=$AB19,J19>=$AC19),J19,""))<=0),"",(IF(AND(J19<=$AB19,J19>=$AC19),J19,""))) | AF19: =+IF(((IF(AND(N19<=$AB19,N19>=$AC19),N19,""))<=0),"",(IF(AND(N19<=$AB19,N19>=$AC19),N19,""))) -> 15854 | AG19: =+IF(((IF(AND(R19<=$AB19,R19>=$AC19),R19,""))<=0),"",(IF(AND(R19<=$AB19,R19>=$AC19),R19,""))) -> 18232 | AH19: =+IF(((IF(AND(V19<=$AB19,V19>=$AC19),V19,""))<=0),"",(IF(AND(V19<=$AB19,V19>=$AC19),V19,""))) | AI19: =+MEDIAN(AD19:AH19) -> 15854 | AJ19: =+STDEV(AD19:AH19) -> 1757.1989 | AK19: =+AJ19/AI19 -> 0.11083631
... A22: 15 | B22: ADAPTADOR HEMBRA DE 3" PVCP | C22: INCLUYE SUMINISTRO E INSTALACION DE ADAPTADOR HEMBRA DE 3" PVCP | D22: UN | E22: 34451 | F22: 34451 | G22: INGENIERIA MONTAJES & CONSTRUCCION S.A.S. | H22: 900327815-15 | I22: 70000 | J22: 70000 | K22: INGENIERIA DE BOMBAS Y PLANTAS SAS | L22: 900152368-1 | M22: 36897 | N22: 36897 | O22: CGI INDUSTRY AND CONSTRUCTION GROUP SAS BIC | P22: 901666309-7 | Q22: 42432 | R22: 42432 | S22: GRUPO BERAKA SAS | T22: 901152951-1 | U22: 45518 | V22: 45518 | W22: SMI ELECTRÓNICA SAS | X22: 830090131-2 | Y22: =MEDIAN(F22,J22,N22,R22,V22) -> 42432 | Z22: =+STDEV(F22,J22,N22,R22,V22) -> 14187.216 | AA22: =Z22/Y22 -> 0.33435181 | AB22: =+Y22+Z22 -> 56619.216 | AC22: =Y22-Z22 -> 28244.784 | AD22: =+IF(((IF(AND(F22<=$AB22,F22>=$AC22),F22,""))<=0),"",(IF(AND(F22<=$AB22,F22>=$AC22),F22,""))) -> 34451 | AE22: =+IF(((IF(AND(J22<=$AB22,J22>=$AC22),J22,""))<=0),"",(IF(AND(J22<=$AB22,J22>=$AC22),J22,""))) | AF22: =+IF(((IF(AND(N22<=$AB22,N22>=$AC22),N22,""))<=0),"",(IF(AND(N22<=$AB22,N22>=$AC22),N22,""))) -> 36897 | AG22: =+IF(((IF(AND(R22<=$AB22,R22>=$AC22),R22,""))<=0),"",(IF(AND(R22<=$AB22,R22>=$AC22),R22,""))) -> 42432 | AH22: =+IF(((IF(AND(V22<=$AB22,V22>=$AC22),V22,""))<=0),"",(IF(AND(V22<=$AB22,V22>=$AC22),V22,""))) -> 45518 | AI22: =+MEDIAN(AD22:AH22) -> 39664.5 | AJ22: =+STDEV(AD22:AH22) -> 5055.0225 | AK22: =+AJ22/AI22 -> 0.1274445
A23: 16 | B23: ADAPTADOR HEMBRA DE 4" PVCP | C23: INCLUYE SUMINISTRO E INSTALACION DE ADAPTADOR HEMBRA DE 4" PVCP | D23: UN | G23: INGENIERIA MONTAJES & CONSTRUCCION S.A.S. | H23: 900327815-15 | I23: 150000 | J23: 150000 | K23: INGENIERIA DE BOMBAS Y PLANTAS SAS | L23: 900152368-1 | M23: 102720 | N23: 102720 | O23: CGI INDUSTRY AND CONSTRUCTION GROUP SAS BIC | P23: 901666309-7 | Q23: 118128 | R23: 118128 | S23: GRUPO BERAKA SAS | T23: 901152951-1 | U23: 123900 | V23: 123900 | W23: SMI ELECTRÓNICA SAS | X23: 830090131-2 | Y23: =MEDIAN(F23,J23,N23,R23,V23) -> 121014 | Z23: =+STDEV(F23,J23,N23,R23,V23) -> 19688.718 | AA23: =Z23/Y23 -> 0.16269786 | AB23: =+Y23+Z23 -> 140702.72 | AC23: =Y23-Z23 -> 101325.28 | AD23: =+IF(((IF(AND(F23<=$AB23,F23>=$AC23),F23,""))<=0),"",(IF(AND(F23<=$AB23,F23>=$AC23),F23,""))) | AE23: =+IF(((IF(AND(J23<=$AB23,J23>=$AC23),J23,""))<=0),"",(IF(AND(J23<=$AB23,J23>=$AC23),J23,""))) | AF23: =+IF(((IF(AND(N23<=$AB23,N23>=$AC23),N23,""))<=0),"",(IF(AND(N23<=$AB23,N23>=$AC23),N23,""))) -> 102720 | AG23: =+IF(((IF(AND(R23<=$AB23,R23>=$AC23),R23,""))<=0),"",(IF(AND(R23<=$AB23,R23>=$AC23),R23,""))) -> 118128 | AH23: =+IF(((IF(AND(V23<=$AB23,V23>=$AC23),V23,""))<=0),"",(IF(AND(V23<=$AB23,V23>=$AC23),V23,""))) -> 123900 | AI23: =+MEDIAN(AD23:AH23) -> 118128 | AJ23: =+STDEV(AD23:AH23) -> 10949.238 | AK23: =+AJ23/AI23 -> 0.092689606
A24: 17 | B24: ADAPTADOR HEMBRA DE 6" PVCP | C24: INCLUYE SUMINISTRO E INSTALACION DE ADAPTADOR HEMBRA DE 6" PVCP | D24: UN | G24: INGENIERIA MONTAJES & CONSTRUCCION S.A.S. | H24: 900327815-15 | I24: 500000 | J24: 500000 | K24: INGENIERIA DE BOMBAS Y PLANTAS SAS | L24: 900152368-1 | M24: 155150 | N24: 155150 | O24: CGI INDUSTRY AND CONSTRUCTION GROUP SAS BIC | P24: 901666309-7 | Q24: 178423 | R24: 178423 | S24: GRUPO BERAKA SAS | T24: 901152951-1 | U24: 156500 | V24: 156500 | W24: SMI ELECTRÓNICA SAS | X24: 830090131-2 | Y24: =MEDIAN(F24,J24,N24,R24,V24) -> 167461.5 | Z24: =+STDEV(F24,J24,N24,R24,V24) -> 168658.83 | AA24: =Z24/Y24 -> 1.0071499 | AB24: =+Y24+Z24 -> 336120.33 | AC24: =Y24-Z24 -> -1197.3303 | AD24: =+IF(((IF(AND(F24<=$AB24,F24>=$AC24),F24,""))<=0),"",(IF(AND(F24<=$AB24,F24>=$AC24),F24,""))) | AE24: =+IF(((IF(AND(J24<=$AB24,J24>=$AC24),J24,""))<=0),"",(IF(AND(J24<=$AB24,J24>=$AC24),J24,""))) | AF24: =+IF(((IF(AND(N24<=$AB24,N24>=$AC24),N24,""))<=0),"",(IF(AND(N24<=$AB24,N24>=$AC24),N24,""))) -> 155150 | AG24: =+IF(((IF(AND(R24<=$AB24,R24>=$AC24),R24,""))<=0),"",(IF(AND(R24<=$AB24,R24>=$AC24),R24,""))) -> 178423 | AH24: =+IF(((IF(AND(V24<=$AB24,V24>=$AC24),V24,""))<=0),"",(IF(AND(V24<=$AB24,V24>=$AC24),V24,""))) -> 156500 | AI24: =+MEDIAN(AD24:AH24) -> 156500 | AJ24: =+STDEV(AD24:AH24) -> 13064.411 | AK24: =+AJ24/AI24 -> 0.083478662
A25: 18 | B25: ADAPTADOR MACHO DE 2-1/2" PVCP | C25: INCLUYE SUMINISTRO E INSTALACION DE ADAPTADOR MACHO DE 2-1/2" PVCP | D25: UN | E25: 55193 | F25: 55193 | G25: INGENIERIA MONTAJES & CONSTRUCCION S.A.S. | H25: 900327815-15 | I25: 120000 | J25: 120000 | K25: INGENIERIA DE BOMBAS Y PLANTAS SAS | L25: 900152368-1 | M25: 59113 | N25: 59113 | O25: CGI INDUSTRY AND CONSTRUCTION GROUP SAS BIC | P25: 901666309-7 | Q25: 67980 | R25: 67980 | S25: GRUPO BERAKA SAS | T25: 901152951-1 | U25: 72925 | V25: 72925 | W25: SMI ELECTRÓNICA SAS | X25: 830090131-2 | Y25: =MEDIAN(F25,J25,N25,R25,V25) -> 67980 | Z25: =+STDEV(F25,J25,N25,R25,V25) -> 26092.581 | AA25: =Z25/Y25 -> 0.38382732 | AB25: =+Y25+Z25 -> 94072.581 | AC25: =Y25-Z25 -> 41887.419 | AD25: =+IF(((IF(AND(F25<=$AB25,F25>=$AC25),F25,""))<=0),"",(IF(AND(F25<=$AB25,F25>=$AC25),F25,""))) -> 55193 | AE25: =+IF(((IF(AND(J25<=$AB25,J25>=$AC25),J25,""))<=0),"",(IF(AND(J25<=$AB25,J25>=$AC25),J25,""))) | AF25: =+IF(((IF(AND(N25<=$AB25,N25>=$AC25),N25,""))<=0),"",(IF(AND(N25<=$AB25,N25>=$AC25),N25,""))) -> 59113 | AG25: =+IF(((IF(AND(R25<=$AB25,R25>=$AC25),R25,""))<=0),"",(IF(AND(R25<=$AB25,R25>=$AC25),R25,""))) -> 67980 | AH25: =+IF(((IF(AND(V25<=$AB25,V25>=$AC25),V25,""))<=0),"",(IF(AND(V25<=$AB25,V25>=$AC25),V25,""))) -> 72925 | AI25: =+MEDIAN(AD25:AH25) -> 63546.5 | AJ25: =+STDEV(AD25:AH25) -> 8099.1031 | AK25: =+AJ25/AI25 -> 0.1274516
A26: 19 | B26: ADAPTADOR MACHO DE 1" PVCP | C26: INCLUYE SUMINISTRO E INSTALACION DE ADAPTADOR MACHO DE 1" PVCP | D26: UN | E26: 5975 | F26: 5975 | G26: INGENIERIA MONTAJES & CONSTRUCCION S.A.S. | H26: 900327815-15 | I26: 12000 | J26: 12000 | K26: INGENIERIA DE BOMBAS Y PLANTAS SAS | L26: 900152368-1 | M26: 6399 | N26: 6399 | O26: CGI INDUSTRY AND CONSTRUCTION GROUP SAS BIC | P26: 901666309-7 | Q26: 7359 | R26: 7359 | S26: GRUPO BERAKA SAS | T26: 901152951-1 | U26: 7894 | V26: 7894 | W26: SMI ELECTRÓNICA SAS | X26: 830090131-2 | Y26: =MEDIAN(F26,J26,N26,R26,V26) -> 7359 | Z26: =+STDEV(F26,J26,N26,R26,V26) -> 2400.9434 | AA26: =Z26/Y26 -> 0.32625947 | AB26: =+Y26+Z26 -> 9759.9434 | AC26: =Y26-Z26 -> 4958.0566 | AD26: =+IF(((IF(AND(F26<=$AB26,F26>=$AC26),F26,""))<=0),"",(IF(AND(F26<=$AB26,F26>=$AC26),F26,""))) -> 5975 | AE26: =+IF(((IF(AND(J26<=$AB26,J26>=$AC26),J26,""))<=0),"",(IF(AND(J26<=$AB26,J26>=$AC26),J26,""))) | AF26: =+IF(((IF(AND(N26<=$AB26,N26>=$AC26),N26,""))<=0),"",(IF(AND(N26<=$AB26,N26>=$AC26),N26,""))) -> 6399 | AG26: =+IF(((IF(AND(R26<=$AB26,R26>=$AC26),R26,""))<=0),"",(IF(AND(R26<=$AB26,R26>=$AC26),R26,""))) -> 7359 | AH26: =+IF(((IF(AND(V26<=$AB26,V26>=$AC26),V26,""))<=0),"",(IF(AND(V26<=$AB26,V26>=$AC26),V26,""))) -> 7894 | AI26: =+MEDIAN(AD26:AH26) -> 6879 | AJ26: =+STDEV(AD26:AH26) -> 876.57682 | AK26: =+AJ26/AI26 -> 0.12742794
A27: 20 | B27: ADAPTADOR MACHO DE 1/2" PVCP | C27: INCLUYE SUMINISTRO E INSTALACION DE ADAPTADOR MACHO DE 1/2" PVCP | D27: UN | E27: 7925 | F27: 7925 | G27: INGENIERIA MONTAJES & CONSTRUCCION S.A.S. | H27: 900327815-15 | I27: 10000 | J27: 10000 | K27: INGENIERIA DE BOMBAS Y PLANTAS SAS | L27: 900152368-1 | M27: 8488 | N27: 8488 | O27: CGI INDUSTRY AND CONSTRUCTION GROUP SAS BIC | P27: 901666309-7 | Q27: 9761 | R27: 9761 | S27: GRUPO BERAKA SAS | T27: 901152951-1 | U27: 10471 | V27: 10471 | W27: SMI ELECTRÓNICA SAS | X27: 830090131-2 | Y27: =MEDIAN(F27,J27,N27,R27,V27) -> 9761 | Z27: =+STDEV(F27,J27,N27,R27,V27) -> 1074.6541 | AA27: =Z27/Y27 -> 0.11009672 | AB27: =+Y27+Z27 -> 10835.654 | AC27: =Y27-Z27 -> 8686.3459 | AD27: =+IF(((IF(AND(F27<=$AB27,F27>=$AC27),F27,""))<=0),"",(IF(AND(F27<=$AB27,F27>=$AC27),F27,""))) | AE27: =+IF(((IF(AND(J27<=$AB27,J27>=$AC27),J27,""))<=0),"",(IF(AND(J27<=$AB27,J27>=$AC27),J27,""))) -> 10000 | AF27: =+IF(((IF(AND(N27<=$AB27,N27>=$AC27),N27,""))<=0),"",(IF(AND(N27<=$AB27,N27>=$AC27),N27,""))) | AG27: =+IF(((IF(AND(R27<=$AB27,R27>=$AC27),R27,""))<=0),"",(IF(AND(R27<=$AB27,R27>=$AC27),R27,""))) -> 9761 | AH27: =+IF(((IF(AND(V27<=$AB27,V27>=$AC27),V27,""))<=0),"",(IF(AND(V27<=$AB27,V27>=$AC27),V27,""))) -> 10471 | AI27: =+MEDIAN(AD27:AH27) -> 10000 | AJ27: =+STDEV(AD27:AH27) -> 361.26214 | AK27: =+AJ27/AI27 -> 0.036126214
A28: 21 | B28: ADAPTADOR MACHO DE 1-1/2" PVCP | C28: INCLUYE SUMINISTRO E INSTALACION DE ADAPTADOR MACHO DE 1-1/2" PVCP | D28: UN | E28: 18733 | F28: 18733 | G28: INGENIERIA MONTAJES & CONSTRUCCION S.A.S. | H28: 900327815-15 | I28: 15000 | J28: 15000 | K28: INGENIERIA DE BOMBAS Y PLANTAS SAS | L28: 900152368-1 | M28: 20064 | N28: 20064 | O28: CGI INDUSTRY AND CONSTRUCTION GROUP SAS BIC | P28: 901666309-7 | Q28: 23073 | R28: 23073 | S28: GRUPO BERAKA SAS | T28: 901152951-1 | U28: 24752 | V28: 24752 | W28: SMI ELECTRÓNICA SAS | X28: 830090131-2 | Y28: =MEDIAN(F28,J28,N28,R28,V28) -> 20064 | Z28: =+STDEV(F28,J28,N28,R28,V28) -> 3811.4315 | AA28: =Z28/Y28 -> 0.18996369 | AB28: =+Y28+Z28 -> 23875.432 | AC28: =Y28-Z28 -> 16252.568 | AD28: =+IF(((IF(AND(F28<=$AB28,F28>=$AC28),F28,""))<=0),"",(IF(AND(F28<=$AB28,F28>=$AC28),F28,""))) -> 18733 | AE28: =+IF(((IF(AND(J28<=$AB28,J28>=$AC28),J28,""))<=0),"",(IF(AND(J28<=$AB28,J28>=$AC28),J28,""))) | AF28: =+IF(((IF(AND(N28<=$AB28,N28>=$AC28),N28,""))<=0),"",(IF(AND(N28<=$AB28,N28>=$AC28),N28,""))) -> 20064 | AG28: =+IF(((IF(AND(R28<=$AB28,R28>=$AC28),R28,""))<=0),"",(IF(AND(R28<=$AB28,R28>=$AC28),R28,""))) -> 23073 | AH28: =+IF(((IF(AND(V28<=$AB28,V28>=$AC28),V28,""))<=0),"",(IF(AND(V28<=$AB28,V28>=$AC28),V28,""))) | AI28: =+MEDIAN(AD28:AH28) -> 20064 | AJ28: =+STDEV(AD28:AH28) -> 2223.4074 | AK28: =+AJ28/AI28 -> 0.11081576
A29: 22 | B29: ADAPTADOR MACHO DE 1-1/4" PVCP | C29: INCLUYE SUMINISTRO E INSTALACION DE ADAPTADOR MACHO DE 1-1/4" PVCP | D29: UN | E29: 13210 | F29: 13210 | G29: INGENIERIA MONTAJES & CONSTRUCCION S.A.S. | H29: 900327815-15 | I29: 14000 | J29: 14000 | K29: INGENIERIA DE BOMBAS Y PLANTAS SAS | L29: 900152368-1 | M29: 14148 | N29: 14148 | O29: CGI INDUSTRY AND CONSTRUCTION GROUP SAS BIC | P29: 901666309-7 | Q29: 16271 | R29: 16271 | S29: GRUPO BERAKA SAS | T29: 901152951-1 | U29: 17454 | V29: 17454 | W29: SMI ELECTRÓNICA SAS | X29: 830090131-2 | Y29: =MEDIAN(F29,J29,N29,R29,V29) -> 14148 | Z29: =+STDEV(F29,J29,N29,R29,V29) -> 1772.4406 | AA29: =Z29/Y29 -> 0.12527853 | AB29: =+Y29+Z29 -> 15920.441 | AC29: =Y29-Z29 -> 12375.559 | AD29: =+IF(((IF(AND(F29<=$AB29,F29>=$AC29),F29,""))<=0),"",(IF(AND(F29<=$AB29,F29>=$AC29),F29,""))) -> 13210 | AE29: =+IF(((IF(AND(J29<=$AB29,J29>=$AC29),J29,""))<=0),"",(IF(AND(J29<=$AB29,J29>=$AC29),J29,""))) -> 14000 | AF29: =+IF(((IF(AND(N29<=$AB29,N29>=$AC29),N29,""))<=0),"",(IF(AND(N29<=$AB29,N29>=$AC29),N29,""))) -> 14148 | AG29: =+IF(((IF(AND(R29<=$AB29,R29>=$AC29),R29,""))<=0),"",(IF(AND(R29<=$AB29,R29>=$AC29),R29,""))) | AH29: =+IF(((IF(AND(V29<=$AB29,V29>=$AC29),V29,""))<=0),"",(IF(AND(V29<=$AB29,V29>=$AC29),V29,""))) | AI29: =+MEDIAN(AD29:AH29) -> 14000 | AJ29: =+STDEV(AD29:AH29) -> 504.2896 | AK29: =+AJ29/AI29 -> 0.036020686
A30: 23 | B30: ADAPTADOR MACHO DE 2" PVCP | C30: INCLUYE SUMINISTRO E INSTALACION DE ADAPTADOR MACHO DE 2" PVCP | D30: UN | E30: 16465 | F30: 16465 | G30: INGENIERIA MONTAJES & CONSTRUCCION S.A.S. | H30: 900327815-15 | I30: 20000 | J30: 20000 | K30: INGENIERIA DE BOMBAS Y PLANTAS SAS | L30: 900152368-1 | M30: 17634 | N30: 17634 | O30: CGI INDUSTRY AND CONSTRUCTION GROUP SAS BIC | P30: 901666309-7 | Q30: 20279 | R30: 20279 | S30: GRUPO BERAKA SAS | T30: 901152951-1 | U30: 21754 | V30: 21754 | W30: SMI ELECTRÓNICA SAS | X30: 830090131-2 | Y30: =MEDIAN(F30,J30,N30,R30,V30) -> 20000 | Z30: =+STDEV(F30,J30,N30,R30,V30) -> 2136.3668 | AA30: =Z30/Y30 -> 0.10681834 | AB30: =+Y30+Z30 -> 22136.367 | AC30: =Y30-Z30 -> 17863.633 | AD30: =+IF(((IF(AND(F30<=$AB30,F30>=$AC30),F30,""))<=0),"",(IF(AND(F30<=$AB30,F30>=$AC30),F30,""))) | AE30: =+IF(((IF(AND(J30<=$AB30,J30>=$AC30),J30,""))<=0),"",(IF(AND(J30<=$AB30,J30>=$AC30),J30,""))) -> 20000 | AF30: =+IF(((IF(AND(N30<=$AB30,N30>=$AC30),N30,""))<=0),"",(IF(AND(N30<=$AB30,N30>=$AC30),N30,""))) | AG30: =+IF(((IF(AND(R30<=$AB30,R30>=$AC30),R30,""))<=0),"",(IF(AND(R30<=$AB30,R30>=$AC30),R30,""))) -> 20279 | AH30: =+IF(((IF(AND(V30<=$AB30,V30>=$AC30),V30,""))<=0),"",(IF(AND(V30<=$AB30,V30>=$AC30),V30,""))) -> 21754 | AI30: =+MEDIAN(AD30:AH30) -> 20279 | AJ30: =+STDEV(AD30:AH30) -> 942.51278 | AK30: =+AJ30/AI30 -> 0.046477281
A31: 24 | B31: ADAPTADOR MACHO DE 3" PVCP | C31: INCLUYE SUMINISTRO E INSTALACION DE ADAPTADOR MACHO DE 3" PVCP | D31: UN | E31: 58958 | F31: 58958 | G31: INGENIERIA MONTAJES & CONSTRUCCION S.A.S. | H31: 900327815-15 | I31: 150000 | J31: 150000 | K31: INGENIERIA DE BOMBAS Y PLANTAS SAS | L31: 900152368-1 | M31: 63145 | N31: 63145 | O31: CGI INDUSTRY AND CONSTRUCTION GROUP SAS BIC | P31: 901666309-7 | Q31: 72617 | R31: 72617 | S31: GRUPO BERAKA SAS | T31: 901152951-1 | U31: 77899 | V31: 77899 | W31: SMI ELECTRÓNICA SAS | X31: 830090131-2 | Y31: =MEDIAN(F31,J31,N31,R31,V31) -> 72617 | Z31: =+STDEV(F31,J31,N31,R31,V31) -> 37361.263 | AA31: =Z31/Y31 -> 0.51449747 | AB31: =+Y31+Z31 -> 109978.26 | AC31: =Y31-Z31 -> 35255.737 | AD31: =+IF(((IF(AND(F31<=$AB31,F31>=$AC31),F31,""))<=0),"",(IF(AND(F31<=$AB31,F31>=$AC31),F31,""))) -> 58958 | AE31: =+IF(((IF(AND(J31<=$AB31,J31>=$AC31),J31,""))<=0),"",(IF(AND(J31<=$AB31,J31>=$AC31),J31,""))) | AF31: =+IF(((IF(AND(N31<=$AB31,N31>=$AC31),N31,""))<=0),"",(IF(AND(N31<=$AB31,N31>=$AC31),N31,""))) -> 63145 | AG31: =+IF(((IF(AND(R31<=$AB31,R31>=$AC31),R31,""))<=0),"",(IF(AND(R31<=$AB31,R31>=$AC31),R31,""))) -> 72617 | AH31: =+IF(((IF(AND(V31<=$AB31,V31>=$AC31),V31,""))<=0),"",(IF(AND(V31<=$AB31,V31>=$AC31),V31,""))) -> 77899 | AI31: =+MEDIAN(AD31:AH31) -> 67881 | AJ31: =+STDEV(AD31:AH31) -> 8651.3947 | AK31: =+AJ31/AI31 -> 0.12744943
A32: 25 | B32: ADAPTADOR MACHO DE 4" PVCP | C32: INCLUYE SUMINISTRO E INSTALACION DE ADAPTADOR MACHO DE 4" PVCP | D32: UN | E32: 83490 | F32: 83490 | G32: INGENIERIA MONTAJES & CONSTRUCCION S.A.S. | H32: 900327815-15 | I32: 280000 | J32: 280000 | K32: INGENIERIA DE BOMBAS Y PLANTAS SAS | L32: 900152368-1 | M32: 89334 | N32: 89334 | O32: CGI INDUSTRY AND CONSTRUCTION GROUP SAS BIC | P32: 901666309-7 | Q32: 102734 | R32: 102734 | S32: GRUPO BERAKA SAS | T32: 901152951-1 | U32: 110207 | V32: 110207 | W32: SMI ELECTRÓNICA SAS | X32: 830090131-2 | Y32: =MEDIAN(F32,J32,N32,R32,V32) -> 102734 | Z32: =+STDEV(F32,J32,N32,R32,V32) -> 82768.343 | AA32: =Z32/Y32 -> 0.80565677 | AB32: =+Y32+Z32 -> 185502.34 | AC32: =Y32-Z32 -> 19965.657 | AD32: =+IF(((IF(AND(F32<=$AB32,F32>=$AC32),F32,""))<=0),"",(IF(AND(F32<=$AB32,F32>=$AC32),F32,""))) -> 83490 | AE32: =+IF(((IF(AND(J32<=$AB32,J32>=$AC32),J32,""))<=0),"",(IF(AND(J32<=$AB32,J32>=$AC32),J32,""))) | AF32: =+IF(((IF(AND(N32<=$AB32,N32>=$AC32),N32,""))<=0),"",(IF(AND(N32<=$AB32,N32>=$AC32),N32,""))) -> 89334 | AG32: =+IF(((IF(AND(R32<=$AB32,R32>=$AC32),R32,""))<=0),"",(IF(AND(R32<=$AB32,R32>=$AC32),R32,""))) -> 102734 | AH32: =+IF(((IF(AND(V32<=$AB32,V32>=$AC32),V32,""))<=0),"",(IF(AND(V32<=$AB32,V32>=$AC32),V32,""))) -> 110207 | AI32: =+MEDIAN(AD32:AH32) -> 96034 | AJ32: =+STDEV(AD32:AH32) -> 12211.231 | AK32: =+AJ32/AI32 -> 0.12715528
A33: 26 | B33: ADAPTADOR MACHO DE 6" PVCP | C33: INCLUYE SUMINISTRO E INSTALACION DE ADAPTADOR MACHO DE 6" PVCP | D33: UN | E33: 254605 | F33: 254605 | G33: INGENIERIA MONTAJES & CONSTRUCCION S.A.S. | H33: 900327815-15 | I33: 550000 | J33: 550000 | K33: INGENIERIA DE BOMBAS Y PLANTAS SAS | L33: 900152368-1 | M33: 272427 | N33: 272427 | O33: CGI INDUSTRY AND CONSTRUCTION GROUP SAS BIC | P33: 901666309-7 | Q33: 313291 | R33: 313291 | S33: GRUPO BERAKA SAS | T33: 901152951-1 | W33: SMI ELECTRÓNICA SAS | X33: 830090131-2 | Y33: =MEDIAN(F33,J33,N33,R33,V33) -> 292859 | Z33: =+STDEV(F33,J33,N33,R33,V33) -> 137164.03 | AA33: =Z33/Y33 -> 0.46836202 | AB33: =+Y33+Z33 -> 430023.03 | AC33: =Y33-Z33 -> 155694.97 | AD33: =+IF(((IF(AND(F33<=$AB33,F33>=$AC33),F33,""))<=0),"",(IF(AND(F33<=$AB33,F33>=$AC33),F33,""))) -> 254605 | AE33: =+IF(((IF(AND(J33<=$AB33,J33>=$AC33),J33,""))<=0),"",(IF(AND(J33<=$AB33,J33>=$AC33),J33,""))) | AF33: =+IF(((IF(AND(N33<=$AB33,N33>=$AC33),N33,""))<=0),"",(IF(AND(N33<=$AB33,N33>=$AC33),N33,""))) -> 272427 | AG33: =+IF(((IF(AND(R33<=$AB33,R33>=$AC33),R33,""))<=0),"",(IF(AND(R33<=$AB33,R33>=$AC33),R33,""))) -> 313291 | AH33: =+IF(((IF(AND(V33<=$AB33,V33>=$AC33),V33,""))<=0),"",(IF(AND(V33<=$AB33,V33>=$AC33),V33,""))) | AI33: =+MEDIAN(AD33:AH33) -> 272427 | AJ33: =+STDEV(AD33:AH33) -> 30087.475 | AK33: =+AJ33/AI33 -> 0.11044234
A34: 27 | B34: ADAPTADOR MACHO DE 3/4" PVCP | C34: INCLUYE SUMINISTRO E INSTALACION DE ADAPTADOR MACHO DE 3/4" PVCP | D34: UN | E34: 5833 | F34: 5833 | G34: INGENIERIA MONTAJES & CONSTRUCCION S.A.S. | H34: 900327815-15 | I34: 5000 | J34: 5000 | K34: INGENIERIA DE BOMBAS Y PLANTAS SAS | L34: 900152368-1 | M34: 6247 | N34: 6247 | O34: CGI INDUSTRY AND CONSTRUCTION GROUP SAS BIC | P34: 901666309-7 | Q34: 7184 | R34: 7184 | S34: GRUPO BERAKA SAS | T34: 901152951-1 | U34: 7707 | V34: 7707 | W34: SMI ELECTRÓNICA SAS | X34: 830090131-2 | Y34: =MEDIAN(F34,J34,N34,R34,V34) -> 6247 | Z34: =+STDEV(F34,J34,N34,R34,V34) -> 1075.5969 | AA34: =Z34/Y34 -> 0.17217815 | AB34: =+Y34+Z34 -> 7322.5969 | AC34: =Y34-Z34 -> 5171.4031 | AD34: =+IF(((IF(AND(F34<=$AB34,F34>=$AC34),F34,""))<=0),"",(IF(AND(F34<=$AB34,F34>=$AC34),F34,""))) -> 5833 | AE34: =+IF(((IF(AND(J34<=$AB34,J34>=$AC34),J34,""))<=0),"",(IF(AND(J34<=$AB34,J34>=$AC34),J34,""))) | AF34: =+IF(((IF(AND(N34<=$AB34,N34>=$AC34),N34,""))<=0),"",(IF(AND(N34<=$AB34,N34>=$AC34),N34,""))) -> 6247 | AG34: =+IF(((IF(AND(R34<=$AB34,R34>=$AC34),R34,""))<=0),"",(IF(AND(R34<=$AB34,R34>=$AC34),R34,""))) -> 7184 | AH34: =+IF(((IF(AND(V34<=$AB34,V34>=$AC34),V34,""))<=0),"",(IF(AND(V34<=$AB34,V34>=$AC34),V34,""))) | AI34: =+MEDIAN(AD34:AH34) -> 6247 | AJ34: =+STDEV(AD34:AH34) -> 692.16641 | AK34: =+AJ34/AI34 -> 0.11079981
A35: 28 | B35: ARENA DE SILICE PARA FILTRO; BULTO 50 KG | C35: INCLUYE SUMINISTRO E INSTALACION DE ARENA DE SILICE PARA FILTRO; BULTO 50 KG | D35: UN | E35: 128331 | F35: 128331 | G35: INGENIERIA MONTAJES & CONSTRUCCION S.A.S. | H35: 900327815-15 | I35: 1500000 | J35: 1500000 | K35: INGENIERIA DE BOMBAS Y PLANTAS SAS | L35: 900152368-1 | M35: 137445 | N35: 137445 | O35: CGI INDUSTRY AND CONSTRUCTION GROUP SAS BIC | P35: 901666309-7 | Q35: 158061 | R35: 158061 | S35: GRUPO BERAKA SAS | T35: 901152951-1 | U35: 169558 | V35: 169558 | W35: SMI ELECTRÓNICA SAS | X35: 830090131-2 | Y35: =MEDIAN(F35,J35,N35,R35,V35) -> 158061 | Z35: =+STDEV(F35,J35,N35,R35,V35) -> 604696.75 | AA35: =Z35/Y35 -> 3.8257176 | AB35: =+Y35+Z35 -> 762757.75 | AC35: =Y35-Z35 -> -446635.75 | AD35: =+IF(((IF(AND(F35<=$AB35,F35>=$AC35),F35,""))<=0),"",(IF(AND(F35<=$AB35,F35>=$AC35),F35,""))) -> 128331 | AE35: =+IF(((IF(AND(J35<=$AB35,J35>=$AC35),J35,""))<=0),"",(IF(AND(J35<=$AB35,J35>=$AC35),J35,""))) | AF35: =+IF(((IF(AND(N35<=$AB35,N35>=$AC35),N35,""))<=0),"",(IF(AND(N35<=$AB35,N35>=$AC35),N35,""))) -> 137445 | AG35: =+IF(((IF(AND(R35<=$AB35,R35>=$AC35),R35,""))<=0),"",(IF(AND(R35<=$AB35,R35>=$AC35),R35,""))) -> 158061 | AH35: =+IF(((IF(AND(V35<=$AB35,V35>=$AC35),V35,""))<=0),"",(IF(AND(V35<=$AB35,V35>=$AC35),V35,""))) -> 169558 | AI35: =+MEDIAN(AD35:AH35) -> 147753 | AJ35: =+STDEV(AD35:AH35) -> 18830.491 | AK35: =+AJ35/AI35 -> 0.12744574
A36: 29 | B36: ARRANCADOR DIRECTO PARA MOTOBOMBA DE 1 HP | C36: INCLUYE SUMINISTRO E INSTALACION DE ARRANCADOR DIRECTO PARA MOTOBOMBA DE 1 HP | D36: UN | E36: 823848 | F36: 823848 | G36: INGENIERIA MONTAJES & CONSTRUCCION S.A.S. | H36: 900327815-15 | I36: 1300000 | J36: 1300000 | K36: INGENIERIA DE BOMBAS Y PLANTAS SAS | L36: 900152368-1 | M36: 882356 | N36: 882356 | O36: CGI INDUSTRY AND CONSTRUCTION GROUP SAS BIC | P36: 901666309-7 | Q36: 1014710 | R36: 1014710 | S36: GRUPO BERAKA SAS | T36: 901152951-1 | U36: 1088514 | V36: 1088514 | W36: SMI ELECTRÓNICA SAS | X36: 830090131-2 | Y36: =MEDIAN(F36,J36,N36,R36,V36) -> 1014710 | Z36: =+STDEV(F36,J36,N36,R36,V36) -> 187433.89 | AA36: =Z36/Y36 -> 0.18471671 | AB36: =+Y36+Z36 -> 1202143.9 | AC36: =Y36-Z36 -> 827276.11 | AD36: =+IF(((IF(AND(F36<=$AB36,F36>=$AC36),F36,""))<=0),"",(IF(AND(F36<=$AB36,F36>=$AC36),F36,""))) | AE36: =+IF(((IF(AND(J36<=$AB36,J36>=$AC36),J36,""))<=0),"",(IF(AND(J36<=$AB36,J36>=$AC36),J36,""))) | AF36: =+IF(((IF(AND(N36<=$AB36,N36>=$AC36),N36,""))<=0),"",(IF(AND(N36<=$AB36,N36>=$AC36),N36,""))) -> 882356 | AG36: =+IF(((IF(AND(R36<=$AB36,R36>=$AC36),R36,""))<=0),"",(IF(AND(R36<=$AB36,R36>=$AC36),R36,""))) -> 1014710 | AH36: =+IF(((IF(AND(V36<=$AB36,V36>=$AC36),V36,""))<=0),"",(IF(AND(V36<=$AB36,V36>=$AC36),V36,""))) -> 1088514 | AI36: =+MEDIAN(AD36:AH36) -> 1014710 | AJ36: =+STDEV(AD36:AH36) -> 104455.52 | AK36: =+AJ36/AI36 -> 0.10294125
A37: 30 | B37: BASE. MOTOBOMBA HASTA 15 HP EN ÁNGULO CAL 3,16 CON ANCLAJES DE FIJACIÓN: PINTURA ANTICORROSIVO. | C37: INCLUYE SUMINISTRO E INSTALACION DE BASE. MOTOBOMBA HASTA 15 HP EN ÁNGULO CAL 3,16 CON ANCLAJES DE FIJACIÓN: PINTURA ANTICORROSIVO. | D37: UN | E37: 808442 | F37: 808442 | G37: INGENIERIA MONTAJES & CONSTRUCCION S.A.S. | H37: 900327815-15 | I37: 1800000 | J37: 1800000 | K37: INGENIERIA DE BOMBAS Y PLANTAS SAS | L37: 900152368-1 | M37: 865856 | N37: 865856 | O37: CGI INDUSTRY AND CONSTRUCTION GROUP SAS BIC | P37: 901666309-7 | Q37: 995734 | R37: 995734 | S37: GRUPO BERAKA SAS | T37: 901152951-1 | U37: 1068158 | V37: 1068158 | W37: SMI ELECTRÓNICA SAS | X37: 830090131-2 | Y37: =MEDIAN(F37,J37,N37,R37,V37) -> 995734 | Z37: =+STDEV(F37,J37,N37,R37,V37) -> 400444.47 | AA37: =Z37/Y37 -> 0.40216009 | AB37: =+Y37+Z37 -> 1396178.5 | AC37: =Y37-Z37 -> 595289.53 | AD37: =+IF(((IF(AND(F37<=$AB37,F37>=$AC37),F37,""))<=0),"",(IF(AND(F37<=$AB37,F37>=$AC37),F37,""))) -> 808442 | AE37: =+IF(((IF(AND(J37<=$AB37,J37>=$AC37),J37,""))<=0),"",(IF(AND(J37<=$AB37,J37>=$AC37),J37,""))) | AF37: =+IF(((IF(AND(N37<=$AB37,N37>=$AC37),N37,""))<=0),"",(IF(AND(N37<=$AB37,N37>=$AC37),N37,""))) -> 865856 | AG37: =+IF(((IF(AND(R37<=$AB37,R37>=$AC37),R37,""))<=0),"",(IF(AND(R37<=$AB37,R37>=$AC37),R37,""))) -> 995734 | AH37: =+IF(((IF(AND(V37<=$AB37,V37>=$AC37),V37,""))<=0),"",(IF(AND(V37<=$AB37,V37>=$AC37),V37,""))) -> 1068158 | AI37: =+MEDIAN(AD37:AH37) -> 930795 | AJ37: =+STDEV(AD37:AH37) -> 118626.41 | AK37: =+AJ37/AI37 -> 0.12744633
A38: 31 | B38: BASE. MOTOBOMBA HASTA 3,6 HP EN ÁNGULO CAL 3,16 CON ANCLAJES DE FIJACIÓN: PINTURA ANTICORROSIVO. | C38: INCLUYE SUMINISTRO E INSTALACION DE BASE. MOTOBOMBA HASTA 3,6 HP EN ÁNGULO CAL 3,16 CON ANCLAJES DE FIJACIÓN: PINTURA ANTICORROSIVO. | D38: UN | E38: 470386 | F38: 470386 | G38: INGENIERIA MONTAJES & CONSTRUCCION S.A.S. | H38: 900327815-15 | I38: 1750000 | J38: 1750000 | K38: INGENIERIA DE BOMBAS Y PLANTAS SAS | L38: 900152368-1 | M38: 503792 | N38: 503792 | O38: CGI INDUSTRY AND CONSTRUCTION GROUP SAS BIC | P38: 901666309-7 | Q38: 579361 | R38: 579361 | S38: GRUPO BERAKA SAS | T38: 901152951-1 | U38: 621500 | V38: 621500 | W38: SMI ELECTRÓNICA SAS | X38: 830090131-2 | Y38: =MEDIAN(F38,J38,N38,R38,V38) -> 579361 | Z38: =+STDEV(F38,J38,N38,R38,V38) -> 542748.69 | AA38: =Z38/Y38 -> 0.9368057 | AB38: =+Y38+Z38 -> 1122109.7 | AC38: =Y38-Z38 -> 36612.311 | AD38: =+IF(((IF(AND(F38<=$AB38,F38>=$AC38),F38,""))<=0),"",(IF(AND(F38<=$AB38,F38>=$AC38),F38,""))) -> 470386 | AE38: =+IF(((IF(AND(J38<=$AB38,J38>=$AC38),J38,""))<=0),"",(IF(AND(J38<=$AB38,J38>=$AC38),J38,""))) | AF38: =+IF(((IF(AND(N38<=$AB38,N38>=$AC38),N38,""))<=0),"",(IF(AND(N38<=$AB38,N38>=$AC38),N38,""))) -> 503792 | AG38: =+IF(((IF(AND(R38<=$AB38,R38>=$AC38),R38,""))<=0),"",(IF(AND(R38<=$AB38,R38>=$AC38),R38,""))) -> 579361 | AH38: =+IF(((IF(AND(V38<=$AB38,V38>=$AC38),V38,""))<=0),"",(IF(AND(V38<=$AB38,V38>=$AC38),V38,""))) -> 621500 | AI38: =+MEDIAN(AD38:AH38) -> 541576.5 | AJ38: =+STDEV(AD38:AH38) -> 69022.034 | AK38: =+AJ38/AI38 -> 0.12744651
A39: 32 | B39: BASE. MOTOBOMBA HASTA 30 HP EN ÁNGULO CAL 3,16 CON ANCLAJES DE FIJACIÓN: PINTURA ANTICORROSIVO. | C39: INCLUYE SUMINISTRO E INSTALACION DE BASE. MOTOBOMBA HASTA 30 HP EN ÁNGULO CAL 3,16 CON ANCLAJES DE FIJACIÓN: PINTURA ANTICORROSIVO. | D39: UN | E39: 1112030 | F39: 1112030 | G39: INGENIERIA MONTAJES & CONSTRUCCION S.A.S. | H39: 900327815-15 | I39: 1900000 | J39: 1900000 | K39: INGENIERIA DE BOMBAS Y PLANTAS SAS | L39: 900152368-1 | M39: 1191004 | N39: 1191004 | O39: CGI INDUSTRY AND CONSTRUCTION GROUP SAS BIC | P39: 901666309-7 | Q39: 1369655 | R39: 1369655 | S39: GRUPO BERAKA SAS | T39: 901152951-1 | U39: 1469276 | V39: 1469276 | W39: SMI ELECTRÓNICA SAS | X39: 830090131-2 | Y39: =MEDIAN(F39,J39,N39,R39,V39) -> 1369655 | Z39: =+STDEV(F39,J39,N39,R39,V39) -> 309020.15 | AA39: =Z39/Y39 -> 0.22561897 | AB39: =+Y39+Z39 -> 1678675.2 | AC39: =Y39-Z39 -> 1060634.8 | AD39: =+IF(((IF(AND(F39<=$AB39,F39>=$AC39),F39,""))<=0),"",(IF(AND(F39<=$AB39,F39>=$AC39),F39,""))) -> 1112030 | AE39: =+IF(((IF(AND(J39<=$AB39,J39>=$AC39),J39,""))<=0),"",(IF(AND(J39<=$AB39,J39>=$AC39),J39,""))) | AF39: =+IF(((IF(AND(N39<=$AB39,N39>=$AC39),N39,""))<=0),"",(IF(AND(N39<=$AB39,N39>=$AC39),N39,""))) -> 1191004 | AG39: =+IF(((IF(AND(R39<=$AB39,R39>=$AC39),R39,""))<=0),"",(IF(AND(R39<=$AB39,R39>=$AC39),R39,""))) -> 1369655 | AH39: =+IF(((IF(AND(V39<=$AB39,V39>=$AC39),V39,""))<=0),"",(IF(AND(V39<=$AB39,V39>=$AC39),V39,""))) -> 1469276 | AI39: =+MEDIAN(AD39:AH39) -> 1280329.5 | AJ39: =+STDEV(AD39:AH39) -> 163173.75 | AK39: =+AJ39/AI39 -> 0.12744668
A40: 33 | B40: BASE. MOTOBOMBA HASTA 7,5 HP EN ÁNGULO CAL 3,16 CON ANCLAJES DE FIJACIÓN: PINTURA ANTICORROSIVO. | C40: INCLUYE SUMINISTRO E INSTALACION DE BASE. MOTOBOMBA HASTA 7,5 HP EN ÁNGULO CAL 3,16 CON ANCLAJES DE FIJACIÓN: PINTURA ANTICORROSIVO. | D40: UN | E40: 645185 | F40: 645185 | G40: INGENIERIA MONTAJES & CONSTRUCCION S.A.S. | H40: 900327815-15 | I40: 1700000 | J40: 1700000 | K40: INGENIERIA DE BOMBAS Y PLANTAS SAS | L40: 900152368-1 | M40: 691005 | N40: 691005 | O40: CGI INDUSTRY AND CONSTRUCTION GROUP SAS BIC | P40: 901666309-7 | Q40: 794656 | R40: 794656 | S40: GRUPO BERAKA SAS | T40: 901152951-1 | U40: 852455 | V40: 852455 | W40: SMI ELECTRÓNICA SAS | X40: 830090131-2 | Y40: =MEDIAN(F40,J40,N40,R40,V40) -> 794656 | Z40: =+STDEV(F40,J40,N40,R40,V40) -> 434524.92 | AA40: =Z40/Y40 -> 0.54680883 | AB40: =+Y40+Z40 -> 1229180.9 | AC40: =Y40-Z40 -> 360131.08 | AD40: =+IF(((IF(AND(F40<=$AB40,F40>=$AC40),F40,""))<=0),"",(IF(AND(F40<=$AB40,F40>=$AC40),F40,""))) -> 645185 | AE40: =+IF(((IF(AND(J40<=$AB40,J40>=$AC40),J40,""))<=0),"",(IF(AND(J40<=$AB40,J40>=$AC40),J40,""))) | AF40: =+IF(((IF(AND(N40<=$AB40,N40>=$AC40),N40,""))<=0),"",(IF(AND(N40<=$AB40,N40>=$AC40),N40,""))) -> 691005 | AG40: =+IF(((IF(AND(R40<=$AB40,R40>=$AC40),R40,""))<=0),"",(IF(AND(R40<=$AB40,R40>=$AC40),R40,""))) -> 794656 | AH40: =+IF(((IF(AND(V40<=$AB40,V40>=$AC40),V40,""))<=0),"",(IF(AND(V40<=$AB40,V40>=$AC40),V40,""))) -> 852455 | AI40: =+MEDIAN(AD40:AH40) -> 742830.5 | AJ40: =+STDEV(AD40:AH40) -> 94671.477 | AK40: =+AJ40/AI40 -> 0.12744694
A41: 34 | B41: BLOQUE AUXILIAR PARA CONTACTOR | C41: INCLUYE SUMINISTRO E INSTALACION DE BLOQUE AUXILIAR PARA CONTACTOR | D41: UN | E41: 159275 | F41: 159275 | G41: INGENIERIA MONTAJES & CONSTRUCCION S.A.S. | H41: 900327815-15 | I41: 350000 | J41: 350000 | K41: INGENIERIA DE BOMBAS Y PLANTAS SAS | L41: 900152368-1 | M41: 170587 | N41: 170587 | O41: CGI INDUSTRY AND CONSTRUCTION GROUP SAS BIC | P41: 901666309-7 | Q41: 196175 | R41: 196175 | S41: GRUPO BERAKA SAS | T41: 901152951-1 | U41: 210443 | V41: 210443 | W41: SMI ELECTRÓNICA SAS | X41: 830090131-2 | Y41: =MEDIAN(F41,J41,N41,R41,V41) -> 196175 | Z41: =+STDEV(F41,J41,N41,R41,V41) -> 76895.349 | AA41: =Z41/Y41 -> 0.39197323 | AB41: =+Y41+Z41 -> 273070.35 | AC41: =Y41-Z41 -> 119279.65 | AD41: =+IF(((IF(AND(F41<=$AB41,F41>=$AC41),F41,""))<=0),"",(IF(AND(F41<=$AB41,F41>=$AC41),F41,""))) -> 159275 | AE41: =+IF(((IF(AND(J41<=$AB41,J41>=$AC41),J41,""))<=0),"",(IF(AND(J41<=$AB41,J41>=$AC41),J41,""))) | AF41: =+IF(((IF(AND(N41<=$AB41,N41>=$AC41),N41,""))<=0),"",(IF(AND(N41<=$AB41,N41>=$AC41),N41,""))) -> 170587 | AG41: =+IF(((IF(AND(R41<=$AB41,R41>=$AC41),R41,""))<=0),"",(IF(AND(R41<=$AB41,R41>=$AC41),R41,""))) -> 196175 | AH41: =+IF(((IF(AND(V41<=$AB41,V41>=$AC41),V41,""))<=0),"",(IF(AND(V41<=$AB41,V41>=$AC41),V41,""))) -> 210443 | AI41: =+MEDIAN(AD41:AH41) -> 183381 | AJ41: =+STDEV(AD41:AH41) -> 23371.204 | AK41: =+AJ41/AI41 -> 0.12744616
A42: 35 | B42: BLOQUE AUXILIAR PARA SELECTOR | C42: INCLUYE SUMINISTRO E INSTALACION DE BLOQUE AUXILIAR PARA SELECTOR | D42: UN | E42: 37179 | F42: 37179 | G42: INGENIERIA MONTAJES & CONSTRUCCION S.A.S. | H42: 900327815-15 | I42: 250000 | J42: 250000 | K42: INGENIERIA DE BOMBAS Y PLANTAS SAS | L42: 900152368-1 | M42: 39819 | N42: 39819 | O42: CGI INDUSTRY AND CONSTRUCTION GROUP SAS BIC | P42: 901666309-7 | Q42: 45792 | R42: 45792 | S42: GRUPO BERAKA SAS | T42: 901152951-1 | U42: 49123 | V42: 49123 | W42: SMI ELECTRÓNICA SAS | X42: 830090131-2 | Y42: =MEDIAN(F42,J42,N42,R42,V42) -> 45792 | Z42: =+STDEV(F42,J42,N42,R42,V42) -> 92703.413 | AA42: =Z42/Y42 -> 2.0244456 | AB42: =+Y42+Z42 -> 138495.41 | AC42: =Y42-Z42 -> -46911.413 | AD42: =+IF(((IF(AND(F42<=$AB42,F42>=$AC42),F42,""))<=0),"",(IF(AND(F42<=$AB42,F42>=$AC42),F42,""))) -> 37179 | AE42: =+IF(((IF(AND(J42<=$AB42,J42>=$AC42),J42,""))<=0),"",(IF(AND(J42<=$AB42,J42>=$AC42),J42,""))) | AF42: =+IF(((IF(AND(N42<=$AB42,N42>=$AC42),N42,""))<=0),"",(IF(AND(N42<=$AB42,N42>=$AC42),N42,""))) -> 39819 | AG42: =+IF(((IF(AND(R42<=$AB42,R42>=$AC42),R42,""))<=0),"",(IF(AND(R42<=$AB42,R42>=$AC42),R42,""))) -> 45792 | AH42: =+IF(((IF(AND(V42<=$AB42,V42>=$AC42),V42,""))<=0),"",(IF(AND(V42<=$AB42,V42>=$AC42),V42,""))) -> 49123 | AI42: =+MEDIAN(AD42:AH42) -> 42805.5 | AJ42: =+STDEV(AD42:AH42) -> 5455.4958 | AK42: =+AJ42/AI42 -> 0.12744848
A43: 36 | B43: BOMBA DE CAUDAL PARA AGUA POTABLE CON MOTOR DE 10 HP 220 V, 3 FASES. | C43: INCLUYE SUMINISTRO E INSTALACION DE BOMBA DE CAUDAL PARA AGUA POTABLE CON MOTOR DE 10 HP 220 V, 3 FASES. | D43: UN | E43: 8042215 | F43: 8042215 | G43: INGENIERIA MONTAJES & CONSTRUCCION S.A.S. | H43: 900327815-15 | I43: 9000000 | J43: 9000000 | K43: INGENIERIA DE BOMBAS Y PLANTAS SAS | L43: 900152368-1 | M43: 8613358 | N43: 8613358 | O43: CGI INDUSTRY AND CONSTRUCTION GROUP SAS BIC | P43: 901666309-7 | Q43: 9905362 | R43: 9905362 | S43: GRUPO BERAKA SAS | T43: 901152951-1 | U43: 10625825 | V43: 10625825 | W43: SMI ELECTRÓNICA SAS | X43: 830090131-2 | Y43: =MEDIAN(F43,J43,N43,R43,V43) -> 9000000 | Z43: =+STDEV(F43,J43,N43,R43,V43) -> 1030552.2 | AA43: =Z43/Y43 -> 0.1145058 | AB43: =+Y43+Z43 -> 10030552 | AC43: =Y43-Z43 -> 7969447.8 | AD43: =+IF(((IF(AND(F43<=$AB43,F43>=$AC43),F43,""))<=0),"",(IF(AND(F43<=$AB43,F43>=$AC43),F43,""))) -> 8042215 | AE43: =+IF(((IF(AND(J43<=$AB43,J43>=$AC43),J43,""))<=0),"",(IF(AND(J43<=$AB43,J43>=$AC43),J43,""))) -> 9000000 | AF43: =+IF(((IF(AND(N43<=$AB43,N43>=$AC43),N43,""))<=0),"",(IF(AND(N43<=$AB43,N43>=$AC43),N43,""))) -> 8613358 | AG43: =+IF(((IF(AND(R43<=$AB43,R43>=$AC43),R43,""))<=0),"",(IF(AND(R43<=$AB43,R43>=$AC43),R43,""))) -> 9905362 | AH43: =+IF(((IF(AND(V43<=$AB43,V43>=$AC43),V43,""))<=0),"",(IF(AND(V43<=$AB43,V43>=$AC43),V43,""))) | AI43: =+MEDIAN(AD43:AH43) -> 8806679 | AJ43: =+STDEV(AD43:AH43) -> 782800.52 | AK43: =+AJ43/AI43 -> 0.088887142
A44: 37 | B44: BOMBA DE CAUDAL PARA AGUA POTABLE CON MOTOR DE 15 HP 220 V, 3 FASES. | C44: INCLUYE SUMINISTRO E INSTALACION DE BOMBA DE CAUDAL PARA AGUA POTABLE CON MOTOR DE 15 HP 220 V, 3 FASES. | D44: UN | E44: 13315047 | F44: 13315047 | G44: INGENIERIA MONTAJES & CONSTRUCCION S.A.S. | H44: 900327815-15 | I44: 16000000 | J44: 16000000 | K44: INGENIERIA DE BOMBAS Y PLANTAS SAS | L44: 900152368-1 | M44: 14260655 | N44: 14260655 | O44: CGI INDUSTRY AND CONSTRUCTION GROUP SAS BIC | P44: 901666309-7 | Q44: 16399753 | R44: 16399753 | S44: GRUPO BERAKA SAS | T44: 901152951-1 | U44: 17592584 | V44: 17592584 | W44: SMI ELECTRÓNICA SAS | X44: 830090131-2 | Y44: =MEDIAN(F44,J44,N44,R44,V44) -> 16000000 | Z44: =+STDEV(F44,J44,N44,R44,V44) -> 1713733.7 | AA44: =Z44/Y44 -> 0.10710836 | AB44: =+Y44+Z44 -> 17713734 | AC44: =Y44-Z44 -> 14286266 | AD44: =+IF(((IF(AND(F44<=$AB44,F44>=$AC44),F44,""))<=0),"",(IF(AND(F44<=$AB44,F44>=$AC44),F44,""))) | AE44: =+IF(((IF(AND(J44<=$AB44,J44>=$AC44),J44,""))<=0),"",(IF(AND(J44<=$AB44,J44>=$AC44),J44,""))) -> 16000000 | AF44: =+IF(((IF(AND(N44<=$AB44,N44>=$AC44),N44,""))<=0),"",(IF(AND(N44<=$AB44,N44>=$AC44),N44,""))) | AG44: =+IF(((IF(AND(R44<=$AB44,R44>=$AC44),R44,""))<=0),"",(IF(AND(R44<=$AB44,R44>=$AC44),R44,""))) -> 16399753 | AH44: =+IF(((IF(AND(V44<=$AB44,V44>=$AC44),V44,""))<=0),"",(IF(AND(V44<=$AB44,V44>=$AC44),V44,""))) -> 17592584 | AI44: =+MEDIAN(AD44:AH44) -> 16399753 | AJ44: =+STDEV(AD44:AH44) -> 828550.14 | AK44: =+AJ44/AI44 -> 0.050522111
A45: 38 | B45: BOMBA DE PRESIÓN PARA AGUA POTABLE CON MOTOR DE 1 HP 110/ 220 V. | C45: INCLUYE SUMINISTRO E INSTALACION DE BOMBA DE PRESIÓN PARA AGUA POTABLE CON MOTOR DE 1 HP 110/ 220 V. | D45: UN | E45: 1286816 | F45: 1286816 | G45: INGENIERIA MONTAJES & CONSTRUCCION S.A.S. | H45: 900327815-15 | I45: 3500000 | J45: 3500000 | K45: INGENIERIA DE BOMBAS Y PLANTAS SAS | L45: 900152368-1 | M45: 1378203 | N45: 1378203 | O45: CGI INDUSTRY AND CONSTRUCTION GROUP SAS BIC | P45: 901666309-7 | Q45: 1584934 | R45: 1584934 | S45: GRUPO BERAKA SAS | T45: 901152951-1 | U45: 1700213 | V45: 1700213 | W45: SMI ELECTRÓNICA SAS | X45: 830090131-2 | Y45: =MEDIAN(F45,J45,N45,R45,V45) -> 1584934 | Z45: =+STDEV(F45,J45,N45,R45,V45) -> 914733.77 | AA45: =Z45/Y45 -> 0.57714313 | AB45: =+Y45+Z45 -> 2499667.8 | AC45: =Y45-Z45 -> 670200.23 | AD45: =+IF(((IF(AND(F45<=$AB45,F45>=$AC45),F45,""))<=0),"",(IF(AND(F45<=$AB45,F45>=$AC45),F45,""))) -> 1286816 | AE45: =+IF(((IF(AND(J45<=$AB45,J45>=$AC45),J45,""))<=0),"",(IF(AND(J45<=$AB45,J45>=$AC45),J45,""))) | AF45: =+IF(((IF(AND(N45<=$AB45,N45>=$AC45),N45,""))<=0),"",(IF(AND(N45<=$AB45,N45>=$AC45),N45,""))) -> 1378203 | AG45: =+IF(((IF(AND(R45<=$AB45,R45>=$AC45),R45,""))<=0),"",(IF(AND(R45<=$AB45,R45>=$AC45),R45,""))) -> 1584934 | AH45: =+IF(((IF(AND(V45<=$AB45,V45>=$AC45),V45,""))<=0),"",(IF(AND(V45<=$AB45,V45>=$AC45),V45,""))) -> 1700213 | AI45: =+MEDIAN(AD45:AH45) -> 1481568.5 | AJ45: =+STDEV(AD45:AH45) -> 188820.99 | AK45: =+AJ45/AI45 -> 0.12744668
... A50: 43 | B50: BOMBA DE PRESIÓN PARA AGUA POTABLE CON MOTOR DE 5 HP 220 V, 3 FASES. | C50: INCLUYE SUMINISTRO E INSTALACION DE BOMBA DE PRESIÓN PARA AGUA POTABLE CON MOTOR DE 5 HP 220 V, 3 FASES. | D50: UN | E50: 4016782 | F50: 4016782 | G50: INGENIERIA MONTAJES & CONSTRUCCION S.A.S. | H50: 900327815-15 | I50: 5000000 | J50: 5000000 | K50: INGENIERIA DE BOMBAS Y PLANTAS SAS | L50: 900152368-1 | M50: 4302046 | N50: 4302046 | O50: CGI INDUSTRY AND CONSTRUCTION GROUP SAS BIC | P50: 901666309-7 | Q50: 4947352 | R50: 4947352 | S50: GRUPO BERAKA SAS | T50: 901152951-1 | U50: 5307196 | V50: 5307196 | W50: SMI ELECTRÓNICA SAS | X50: 830090131-2 | Y50: =MEDIAN(F50,J50,N50,R50,V50) -> 4947352 | Z50: =+STDEV(F50,J50,N50,R50,V50) -> 534777.39 | AA50: =Z50/Y50 -> 0.10809366 | AB50: =+Y50+Z50 -> 5482129.4 | AC50: =Y50-Z50 -> 4412574.6 | AD50: =+IF(((IF(AND(F50<=$AB50,F50>=$AC50),F50,""))<=0),"",(IF(AND(F50<=$AB50,F50>=$AC50),F50,""))) | AE50: =+IF(((IF(AND(J50<=$AB50,J50>=$AC50),J50,""))<=0),"",(IF(AND(J50<=$AB50,J50>=$AC50),J50,""))) -> 5000000 | AF50: =+IF(((IF(AND(N50<=$AB50,N50>=$AC50),N50,""))<=0),"",(IF(AND(N50<=$AB50,N50>=$AC50),N50,""))) | AG50: =+IF(((IF(AND(R50<=$AB50,R50>=$AC50),R50,""))<=0),"",(IF(AND(R50<=$AB50,R50>=$AC50),R50,""))) -> 4947352 | AH50: =+IF(((IF(AND(V50<=$AB50,V50>=$AC50),V50,""))<=0),"",(IF(AND(V50<=$AB50,V50>=$AC50),V50,""))) -> 5307196 | AI50: =+MEDIAN(AD50:AH50) -> 5000000 | AJ50: =+STDEV(AD50:AH50) -> 194348.87 | AK50: =+AJ50/AI50 -> 0.038869774
A51: 44 | B51: BOMBA DE PRESIÓN PARA AGUA POTABLE CON MOTOR DE 6 HP 220 V, 3 FASES. | C51: INCLUYE SUMINISTRO E INSTALACION DE BOMBA DE PRESIÓN PARA AGUA POTABLE CON MOTOR DE 6 HP 220 V, 3 FASES. | D51: UN | E51: 4440591 | F51: 4440591 | G51: INGENIERIA MONTAJES & CONSTRUCCION S.A.S. | H51: 900327815-15 | I51: 6000000 | J51: 6000000 | K51: INGENIERIA DE BOMBAS Y PLANTAS SAS | L51: 900152368-1 | M51: 4755953 | N51: 4755953 | O51: CGI INDUSTRY AND CONSTRUCTION GROUP SAS BIC | P51: 901666309-7 | Q51: 5469346 | R51: 5469346 | S51: GRUPO BERAKA SAS | T51: 901152951-1 | W51: SMI ELECTRÓNICA SAS | X51: 830090131-2 | Y51: =MEDIAN(F51,J51,N51,R51,V51) -> 5112649.5 | Z51: =+STDEV(F51,J51,N51,R51,V51) -> 702834.89 | AA51: =Z51/Y51 -> 0.1374698 | AB51: =+Y51+Z51 -> 5815484.4 | AC51: =Y51-Z51 -> 4409814.6 | AD51: =+IF(((IF(AND(F51<=$AB51,F51>=$AC51),F51,""))<=0),"",(IF(AND(F51<=$AB51,F51>=$AC51),F51,""))) -> 4440591 | AE51: =+IF(((IF(AND(J51<=$AB51,J51>=$AC51),J51,""))<=0),"",(IF(AND(J51<=$AB51,J51>=$AC51),J51,""))) | AF51: =+IF(((IF(AND(N51<=$AB51,N51>=$AC51),N51,""))<=0),"",(IF(AND(N51<=$AB51,N51>=$AC51),N51,""))) -> 4755953 | AG51: =+IF(((IF(AND(R51<=$AB51,R51>=$AC51),R51,""))<=0),"",(IF(AND(R51<=$AB51,R51>=$AC51),R51,""))) -> 5469346 | AH51: =+IF(((IF(AND(V51<=$AB51,V51>=$AC51),V51,""))<=0),"",(IF(AND(V51<=$AB51,V51>=$AC51),V51,""))) | AI51: =+MEDIAN(AD51:AH51) -> 4755953 | AJ51: =+STDEV(AD51:AH51) -> 527054.65 | AK51: =+AJ51/AI51 -> 0.11081999
A52: 45 | B52: BOMBA DE PRESIÓN PARA AGUA POTABLE CON MOTOR DE 7.5 HP 220 V, 3 FASES. | C52: INCLUYE SUMINISTRO E INSTALACION DE BOMBA DE PRESIÓN PARA AGUA POTABLE CON MOTOR DE 7.5 HP 220 V, 3 FASES. | D52: UN | E52: 4121741 | F52: 4121741 | G52: INGENIERIA MONTAJES & CONSTRUCCION S.A.S. | H52: 900327815-15 | I52: 7000000 | J52: 7000000 | K52: INGENIERIA DE BOMBAS Y PLANTAS SAS | L52: 900152368-1 | M52: 4414459 | N52: 4414459 | O52: CGI INDUSTRY AND CONSTRUCTION GROUP SAS BIC | P52: 901666309-7 | Q52: 5076628 | R52: 5076628 | S52: GRUPO BERAKA SAS | T52: 901152951-1 | U52: 5445875 | V52: 5445875 | W52: SMI ELECTRÓNICA SAS | X52: 830090131-2 | Y52: =MEDIAN(F52,J52,N52,R52,V52) -> 5076628 | Z52: =+STDEV(F52,J52,N52,R52,V52) -> 1128572.4 | AA52: =Z52/Y52 -> 0.22230749 | AB52: =+Y52+Z52 -> 6205200.4 | AC52: =Y52-Z52 -> 3948055.6 | AD52: =+IF(((IF(AND(F52<=$AB52,F52>=$AC52),F52,""))<=0),"",(IF(AND(F52<=$AB52,F52>=$AC52),F52,""))) -> 4121741 | AE52: =+IF(((IF(AND(J52<=$AB52,J52>=$AC52),J52,""))<=0),"",(IF(AND(J52<=$AB52,J52>=$AC52),J52,""))) | AF52: =+IF(((IF(AND(N52<=$AB52,N52>=$AC52),N52,""))<=0),"",(IF(AND(N52<=$AB52,N52>=$AC52),N52,""))) -> 4414459 | AG52: =+IF(((IF(AND(R52<=$AB52,R52>=$AC52),R52,""))<=0),"",(IF(AND(R52<=$AB52,R52>=$AC52),R52,""))) -> 5076628 | AH52: =+IF(((IF(AND(V52<=$AB52,V52>=$AC52),V52,""))<=0),"",(IF(AND(V52<=$AB52,V52>=$AC52),V52,""))) -> 5445875 | AI52: =+MEDIAN(AD52:AH52) -> 4745543.5 | AJ52: =+STDEV(AD52:AH52) -> 604803.96 | AK52: =+AJ52/AI52 -> 0.12744672
A53: 46 | B53: BOMBA EYECTORA PARA AGUA LLUVIA SUMERGIBLE DE 1 HP, 220 V. | C53: INCLUYE SUMINISTRO E INSTALACION DE BOMBA EYECTORA PARA AGUA LLUVIA SUMERGIBLE DE 1 HP, 220 V. | D53: UN | E53: 3065760 | F53: 3065760 | G53: INGENIERIA MONTAJES & CONSTRUCCION S.A.S. | H53: 900327815-15 | I53: 4500000 | J53: 4500000 | K53: INGENIERIA DE BOMBAS Y PLANTAS SAS | L53: 900152368-1 | M53: 3283485 | N53: 3283485 | O53: CGI INDUSTRY AND CONSTRUCTION GROUP SAS BIC | P53: 901666309-7 | Q53: 3776007 | R53: 3776007 | S53: GRUPO BERAKA SAS | T53: 901152951-1 | U53: 4050654 | V53: 4050654 | W53: SMI ELECTRÓNICA SAS | X53: 830090131-2 | Y53: =MEDIAN(F53,J53,N53,R53,V53) -> 3776007 | Z53: =+STDEV(F53,J53,N53,R53,V53) -> 578422.82 | AA53: =Z53/Y53 -> 0.15318373 | AB53: =+Y53+Z53 -> 4354429.8 | AC53: =Y53-Z53 -> 3197584.2 | AD53: =+IF(((IF(AND(F53<=$AB53,F53>=$AC53),F53,""))<=0),"",(IF(AND(F53<=$AB53,F53>=$AC53),F53,""))) | AE53: =+IF(((IF(AND(J53<=$AB53,J53>=$AC53),J53,""))<=0),"",(IF(AND(J53<=$AB53,J53>=$AC53),J53,""))) | AF53: =+IF(((IF(AND(N53<=$AB53,N53>=$AC53),N53,""))<=0),"",(IF(AND(N53<=$AB53,N53>=$AC53),N53,""))) -> 3283485 | AG53: =+IF(((IF(AND(R53<=$AB53,R53>=$AC53),R53,""))<=0),"",(IF(AND(R53<=$AB53,R53>=$AC53),R53,""))) -> 3776007 | AH53: =+IF(((IF(AND(V53<=$AB53,V53>=$AC53),V53,""))<=0),"",(IF(AND(V53<=$AB53,V53>=$AC53),V53,""))) -> 4050654 | AI53: =+MEDIAN(AD53:AH53) -> 3776007 | AJ53: =+STDEV(AD53:AH53) -> 388706.65 | AK53: =+AJ53/AI53 -> 0.10294119
A54: 47 | B54: BOMBA EYECTORA PARA AGUA LLUVIA SUMERGIBLE DE 2 HP, 220 V, 3 FASES. | C54: INCLUYE SUMINISTRO E INSTALACION DE BOMBA EYECTORA PARA AGUA LLUVIA SUMERGIBLE DE 2 HP, 220 V, 3 FASES. | D54: UN | E54: 5729559 | F54: 5729559 | G54: INGENIERIA MONTAJES & CONSTRUCCION S.A.S. | H54: 900327815-15 | I54: 6000000 | J54: 6000000 | K54: INGENIERIA DE BOMBAS Y PLANTAS SAS | L54: 900152368-1 | M54: 6136462 | N54: 6136462 | O54: CGI INDUSTRY AND CONSTRUCTION GROUP SAS BIC | P54: 901666309-7 | Q54: 7056931 | R54: 7056931 | S54: GRUPO BERAKA SAS | T54: 901152951-1 | U54: 7570214 | V54: 7570214 | W54: SMI ELECTRÓNICA SAS | X54: 830090131-2 | Y54: =MEDIAN(F54,J54,N54,R54,V54) -> 6136462 | Z54: =+STDEV(F54,J54,N54,R54,V54) -> 779624.91 | AA54: =Z54/Y54 -> 0.12704795 | AB54: =+Y54+Z54 -> 6916086.9 | AC54: =Y54-Z54 -> 5356837.1 | AD54: =+IF(((IF(AND(F54<=$AB54,F54>=$AC54),F54,""))<=0),"",(IF(AND(F54<=$AB54,F54>=$AC54),F54,""))) -> 5729559 | AE54: =+IF(((IF(AND(J54<=$AB54,J54>=$AC54),J54,""))<=0),"",(IF(AND(J54<=$AB54,J54>=$AC54),J54,""))) -> 6000000 | AF54: =+IF(((IF(AND(N54<=$AB54,N54>=$AC54),N54,""))<=0),"",(IF(AND(N54<=$AB54,N54>=$AC54),N54,""))) -> 6136462 | AG54: =+IF(((IF(AND(R54<=$AB54,R54>=$AC54),R54,""))<=0),"",(IF(AND(R54<=$AB54,R54>=$AC54),R54,""))) | AH54: =+IF(((IF(AND(V54<=$AB54,V54>=$AC54),V54,""))<=0),"",(IF(AND(V54<=$AB54,V54>=$AC54),V54,""))) | AI54: =+MEDIAN(AD54:AH54) -> 6000000 | AJ54: =+STDEV(AD54:AH54) -> 207095.09 | AK54: =+AJ54/AI54 -> 0.034515849
