Workbook
Name inf: #REF!
Name inf: #REF!

Sheet Sabana Acta Unica
A1: No. DE ORDEN | B1: ESPECIFICACIÓN | D1: DESCRIPCION DE LAS ACTIVIDADES
B3: GRAL. | C3: PART. | D3: DESCRIPCIÓN ÍTEM | E3: UND | F3: CANTIDAD | G3: VALOR UNITARIO | H3: INCREMENTO POR DISTANCIA | I3: VALOR TOTAL
A4: CAPITULO 1 - ZONA DE OFICINA / BODEGA
A5: ACABADOS
A6: 1.01 | B6: 1.03.12 | D6: PAÑETE LISO MUROS 1:4 | E6: M2 | F6: =+'Resumen - Cap 1'!D3 -> 123.35 | G6: 35818.47 | H6: 0.03 | I6: =ROUND(F6*(G6*(1+H6)),2) -> 4550754.5
A7: 1.02 | B7: 1.03.01 | D7: FILOS Y DILATACIONES EN PAÑETES | E7: ML | F7: =+'Resumen - Cap 1'!D4 -> 60 | G7: 12797.41 | H7: 0 | I7: =ROUND(F7*(G7*(1+H7)),2) -> 767844.6
A8: 1.03 | B8: 5.02.21 | D8: SUMINISTRO E INSTALACIÓN DE SISTEMA SÉPTICO PLÁSTICO ANAEROBIO DE 1000L. INCLUYE TUBERÍA, TANQUE, TRAMPA DE GRASAS, FILTRO ANAEROBIO Y DEMÁS ACCESORIOS DE CONEXIÓN). | E8: UND | F8: =+'Resumen - Cap 1'!D5 -> 1 | G8: 3175159.3 | H8: 0.03 | I8: =ROUND(F8*(G8*(1+H8)),2) -> 3270414.1
A9: 1.04 | B9: 2.01.70 | D9: EXCAVACIÓN MANUAL EN MATERIAL COMÚN | E9: M3 | F9: =+'Resumen - Cap 1'!D6 -> 27.6 | G9: 70577.63 | H9: 0.03 | I9: =ROUND(F9*(G9*(1+H9)),2) -> 2006380.9
A10: 1.05 | B10: 2.02.27 | D10: SUMINISTRO E INSTALACIÓN DE TUBERÍA PVC D = 4" PARA DRENAJE SIN FILTRO | E10: ML | F10: =+'Resumen - Cap 1'!D7 -> 12 | G10: 33484.59 | H10: 0.03 | I10: =ROUND(F10*(G10*(1+H10)),2) -> 413869.53
A11: 1.06 | B11: 2.02.02 | D11: CAJAS DE INSPECCIÓN EN LADRILLO DE 0.60 X 0.60 x 0.60 M. (NO INCLUYE TAPA). | E11: UND | F11: =+'Resumen - Cap 1'!D8 -> 1 | G11: 437626.92 | H11: 0.03 | I11: =ROUND(F11*(G11*(1+H11)),2) -> 450755.73
A12: CAPITULO 2 - COMPOSTAJE
A13: PRELIMINARES
A14: 2.01 | B14: 2.01.63 | D14: LOCALIZACIÓN Y REPLANTEO DE OBRA ARQUITECTÓNICA. (NO INCLUYE COMISIÓN TOPOGRÁFICA). | E14: M2 | F14: =+'Resumen Cap 2'!D3 -> 101.97 | G14: 3036.75 | H14: 0 | I14: =ROUND(F14*(G14*(1+H14)),2) -> 309657.4
A15: 2.02 | B15: 3.03.10 | D15: EXCAVACIÓN MANUAL EN MATERIAL COMUN | E15: M3 | F15: =+'Resumen Cap 2'!D4 -> 7.78 | G15: 70577.63 | H15: 0 | I15: =ROUND(F15*(G15*(1+H15)),2) -> 549093.96
A16: 2.03 | B16: 2.05.06 | D16: BASE EN MATERIAL DE AFIRMADO COMPACTADO | E16: M3 | F16: =+'Resumen Cap 2'!D5 -> 13.11 | G16: 92883.83 | H16: 0 | I16: =ROUND(F16*(G16*(1+H16)),2) -> 1217707
A17: ESTRUCTURA
A18: 2.04 | B18: 2.05.10 | D18: CONCRETO PARA ZAPATAS DE 21 MPa (3000 PSI) + FORMALETA MADERA | E18: M3 | F18: =+'Resumen Cap 2'!D6 -> 3.89 | G18: 918406.92 | H18: 0.03 | I18: =ROUND(F18*(G18*(1+H18)),2) -> 3679781
A19: 2.05 | B19: 2.03.33 | D19: COLUMNAS Y PEDESTALES EN CONCRETO DE 21 MPa - (3000 PSI), H < = A 3.0 M. (FORMALETA METALICA). | E19: M3 | F19: =+'Resumen Cap 2'!D7 -> 0.54 | G19: 1308131.2 | H19: 0.03 | I19: =ROUND(F19*(G19*(1+H19)),2) -> 727582.56
A20: 2.06 | B20: 3.10.12 | D20: SUMINISTRO FIGURADO Y ARMADO DE ACERO DE REFUERZO 60000 PSI 420 MP | E20: KG | F20: =+'Resumen Cap 2'!D8 -> 232.01 | G20: 7675.05 | H20: 0.03 | I20: =ROUND(F20*(G20*(1+H20)),2) -> 1834109
A21: 2.07 | B21: 2.08.33 | D21: SUMINISTRO E INSTALACIÓN PERFILERIA METALICA PARA ESTRUCTURA DE CUBIERTA DE EDIFICACIONES. DIMENSIONES Y CALIBRES SEGÚN DISEÑO | E21: KG | F21: =+'Resumen Cap 2'!D9 -> 1525.96 | G21: 22031.72 | H21: 0.03 | I21: =ROUND(F21*(G21*(1+H21)),2) -> 34628109
A22: 2.08 | B22: 2.08.38 | D22: SUMINISTRO E INTALACION CUBIERTA ARQUITECTONICA METALICA TIPO ACESCO O SIMILAR DE 0.73 M. X 3.00 M | E22: M2 | F22: =+'Resumen Cap 2'!D10 -> 105 | G22: 43938.12 | H22: 0.03 | I22: =ROUND(F22*(G22*(1+H22)),2) -> 4751907.7
A23: 2.09 | B23: 2.05.26 | D23: PLACA BASE EN CONCRETO E = 10.0 CM. 17.5 MPa (2500 PSI) | E23: M2 | F23: =+'Resumen Cap 2'!D11 -> 101.97 | G23: 87627.78 | H23: 0.03 | I23: =ROUND(F23*(G23*(1+H23)),2) -> 9203466.9
A24: 2.1 | B24: 3.13.24 | D24: SUMINISTRO E INSTALACIÓN DE MALLA ELECTROSOLDADA | E24: KG | F24: =+'Resumen Cap 2'!D12 -> 210.06 | G24: 7423.82 | H24: 0.03 | I24: =ROUND(F24*(G24*(1+H24)),2) -> 1606231.1
A25: DRENAJE
A26: 2.11 | B26: 2.07.27 | D26: SUMINISTRO E INSTALACIÓN DE TUBERÍA PVC D = 4" PARA DRENAJE SIN FILTRO | E26: ML | F26: =+'Resumen Cap 2'!D13 -> 10.3 | G26: 33484.59 | H26: 0.03 | I26: =ROUND(F26*(G26*(1+H26)),2) -> 355238.02
A27: 2.12 | B27: 2.08.05 | D27: SUMINISTRO E INSTALACIÓN DE BAJANTE PVC DE AGUAS LLUVIA. (REF. RAINGO O SIMILAR) | E27: ML | F27: =+'Resumen Cap 2'!D14 -> 6 | G27: 60215.68 | H27: 0.03 | I27: =ROUND(F27*(G27*(1+H27)),2) -> 372132.9
A28: 2.13 | B28: 2.08.18 | D28: SUMINISTRO E INSTALACIÓN DE CANAL EN LÁMINA GALVANIZADA CALIBRE 23 ANCHO HASTA 0.40M ALTURA HASTA 0.30M . (INCLUYE ANTICORROSIVO PRIMER Y PINTURA). | E28: ML | F28: =+'Resumen Cap 2'!D15 -> 21 | G28: 147623.44 | H28: 0.03 | I28: =ROUND(F28*(G28*(1+H28)),2) -> 3193095
A29: CAPITULO 3 - PLACA DE DESCARGUE
A30: 3.01 | B30: 3.05.01 | D30: CONCRETO PARA PAVIMENTO RIGIDO 24.5 MPa - (3500 PSI). (INCLUYE CORTE Y SELLO DE JUNTAS). | E30: M3 | F30: =+'Resumen Cap 3'!D3 -> 7.2 | G30: 859804.69 | H30: 0.03 | I30: =ROUND(F30*(G30*(1+H30)),2) -> 6376311.6
A31: 3.02 | B31: 3.04.07 | D31: SUMINISTRO, EXTENDIDA Y COMPACTACIÓN DE MATERIAL SELECCIÓNADO PARA SUBBASE GRANULAR (INCLUYE ACARREO LIBRE HASTA 5KM) (**) | E31: M3 | F31: =+'Resumen Cap 3'!D4 -> 7.2 | G31: 140355.91 | H31: 0 | I31: =ROUND(F31*(G31*(1+H31)),2) -> 1010562.6
A32: 3.03 | B32: 2.01.70 | D32: EXCAVACIÓN MANUAL EN MATERIAL COMÚN | E32: M3 | F32: =+'Resumen Cap 3'!D5 -> 10.8 | G32: 70577.63 | H32: 0 | I32: =ROUND(F32*(G32*(1+H32)),2) -> 762238.4
A33: 3.04 | B33: 3.13.24 | D33: SUMINISTRO E INSTALACIÓN DE MALLA ELECTROSOLDADA | E33: KG | F33: =+'Resumen Cap 3'!D6 -> 74.16 | G33: 7423.82 | H33: 0.03 | I33: =ROUND(F33*(G33*(1+H33)),2) -> 567067.01
A34: 3.05 | B34: 2.02.35 | D34: SUMINISTRO, FIGURADA Y AMARRE DE ACERO DE 420 MPa (60000 PSI) | E34: KG | F34: =+'Resumen Cap 3'!D7 -> 114.99 | G34: 7675.05 | H34: 0.03 | I34: =ROUND(F34*(G34*(1+H34)),2) -> 909030.62
A35: CAPITULO 4 - CUBIERTA VERMICOMPOSTAJE
A36: 4.01 | B36: 2.08.33 | D36: SUMINISTRO E INSTALACIÓN PERFILERIA METALICA PARA ESTRUCTURA DE CUBIERTA DE EDIFICACIONES. DIMENSIONES Y CALIBRES SEGÚN DISEÑO | E36: KG | F36: =+'Resumen Cap 4'!D3 -> 519.78 | G36: 22031.72 | H36: 0.03 | I36: =ROUND(F36*(G36*(1+H36)),2) -> 11795197
A37: 4.02 | B37: 2.08.38 | D37: SUMINISTRO E INTALACION CUBIERTA ARQUITECTONICA METALICA TIPO ACESCO O SIMILAR DE 0.73 M. X 3.00 M | E37: M2 | F37: =+'Resumen Cap 4'!D4 -> 89.04 | G37: 43938.12 | H37: 0.03 | I37: =ROUND(F37*(G37*(1+H37)),2) -> 4029617.7
A38: 4.03 | B38: 2.07.27 | D38: SUMINISTRO E INSTALACIÓN DE TUBERÍA PVC D = 4" PARA DRENAJE SIN FILTRO | E38: ML | F38: =+'Resumen Cap 4'!D5 -> 15 | G38: 33484.59 | H38: 0.03 | I38: =ROUND(F38*(G38*(1+H38)),2) -> 517336.92
A39: CAPITULO 5 - INSTALACIÓN DE PORTONES
A40: 5.01 | B40: 2.01.70 | D40: EXCAVACIÓN MANUAL EN MATERIAL COMÚN | E40: M3 | F40: =+'Resumen Cap 5'!D3 -> 2.05 | G40: 70577.63 | H40: 0 | I40: =ROUND(F40*(G40*(1+H40)),2) -> 144684.14
A41: 5.02 | B41: 2.02.13 | D41: CONCRETO PARA VIGA DE AMARRE 21 MPa (3000 PSI) SECCION RECTANGULAR | E41: M3 | F41: =+'Resumen Cap 5'!D4 -> 1.08 | G41: 887295 | H41: 0.03 | I41: =ROUND(F41*(G41*(1+H41)),2) -> 987026.96
...

Sheet Resumen - Cap 1
B2: Item | C2: Descripcion | D2: Cant
B3: 1 | C3: =+'Sabana Acta Unica'!D6 -> PAÑETE LISO MUROS 1:4 | D3: =+'1 (1)'!N78 -> 123.35
B4: 2 | C4: =+'Sabana Acta Unica'!D7 -> FILOS Y DILATACIONES EN PAÑETES | D4: =+'1 (2)'!N54 -> 60
B5: 3 | C5: =+'Sabana Acta Unica'!D8 -> SUMINISTRO E INSTALACIÓN DE SISTEMA SÉPTICO PLÁSTICO ANAEROBIO DE 1000L. INCLUYE TUBERÍA, TANQUE, TRAMPA DE GRASAS, FILTRO ANAEROBIO Y DEMÁS ACCESORIOS DE CONEXIÓN). | D5: =+'1 (3)'!N78 -> 1
B6: 4 | C6: =+'Sabana Acta Unica'!D9 -> EXCAVACIÓN MANUAL EN MATERIAL COMÚN | D6: =+'1 (4)'!N78 -> 27.6
B7: 5 | C7: =+'Sabana Acta Unica'!D10 -> SUMINISTRO E INSTALACIÓN DE TUBERÍA PVC D = 4" PARA DRENAJE SIN FILTRO | D7: =+'1 (5)'!N78 -> 12
B8: 6 | C8: =+'Sabana Acta Unica'!D11 -> CAJAS DE INSPECCIÓN EN LADRILLO DE 0.60 X 0.60 x 0.60 M. (NO INCLUYE TAPA). | D8: =+'1 (6)'!N78 -> 1

Sheet 1 (1)
C3: MUNICIPIO DE TUTA - BOYACÁ | M3: Fecha presente acta
C4: GESTION TÉCNICA | M4: =+'Sabana Acta Unica'!#REF! -> #REF!
C5: MEMORIAS DE CANTIDADES ACTA UNICA DE PAGO
C9: Contrato de obra No.: | D9: =+'Sabana Acta Unica'!#REF! -> #REF!
C10: Objeto: | D10: =+'Sabana Acta Unica'!#REF! -> #REF!
C11: Contratista: | D11: =+'Sabana Acta Unica'!#REF! -> #REF!
C12: NIT: | D12: =+'Sabana Acta Unica'!#REF! -> #REF!
C16: Capitulo: | D16: =+'Sabana Acta Unica'!A4 -> CAPITULO 1 - ZONA DE OFICINA / BODEGA | H16: Item: | I16: =+'Sabana Acta Unica'!A6 -> 1.01 | N16: U.M.
C17: Subcapitulo: | D17: =+'Sabana Acta Unica'!#REF! -> #REF! | H17: Descripción: | I17: =+'Sabana Acta Unica'!D6 -> PAÑETE LISO MUROS 1:4 | N17: =+'Sabana Acta Unica'!E6 -> M2
C19: REGISTRO FOTOGRAFICO | E19: No. | F19: DESCRIPCIÓN | G19: DIMENSIONES | M19: No. Elementos | N19: SUBTOTAL
G20: Longitud (m) | H20: Ancho (m) | I20: Altura (m) | J20: Diametro (m) | K20: Area (m²) | L20: Volumen (m³)
F21: Muro Eje A | G21: 8.2 | I21: 2.16 | K21: =+G21*I21 -> 17.712 | M21: 2 | N21: =+K21*M21 -> 35.424
F22: Descuento Columna Eje A | G22: 0.2 | I22: 2.16 | K22: =+G22*I22 -> 0.432 | M22: -6 | N22: =+K22*M22 -> -2.592
F23: Muro Eje B | G23: 8.2 | I23: 2.16 | K23: =+G23*I23 -> 17.712 | M23: 2 | N23: =+K23*M23 -> 35.424
F24: Descuento Puerta 1 - Oficina | G24: 2 | I24: 0.9 | K24: =+G24*I24 -> 1.8 | M24: -2 | N24: =+K24*M24 -> -3.6
F25: Descuento ventana 1 - Oficina | G25: 1.35 | I25: 0.88 | K25: =+G25*I25 -> 1.188 | M25: -2 | N25: =+K25*M25 -> -2.376
F26: Descuento Puerta 2 - Bodega | G26: 2 | I26: 1 | K26: =+G26*I26 -> 2 | M26: -2 | N26: =+K26*M26 -> -4
F27: Descuento ventana 2 - Bodega | G27: 1.2 | I27: 0.45 | K27: =+G27*I27 -> 0.54 | M27: -2 | N27: =+K27*M27 -> -1.08
F28: Muro Eje 1 | G28: 4 | I28: 2.16 | K28: =+G28*I28 -> 8.64 | M28: 2 | N28: =+K28*M28 -> 17.28
F29: Desciuento ventana baño | G29: 0.63 | I29: 0.43 | K29: =+G29*I29 -> 0.2709 | M29: -2 | N29: =+K29*M29 -> -0.5418
F30: Descuento Columnas Eje 1 | G30: 0.2 | I30: 2.16 | K30: =+G30*I30 -> 0.432 | M30: -4 | N30: =+K30*M30 -> -1.728
F31: Muro eje 2 y 3 | G31: 3.6 | I31: 2.16 | K31: =+G31*I31 -> 7.776 | M31: 4 | N31: =+K31*M31 -> 31.104
F32: Culata Eje A | G32: 7.8 | I32: 0.35 | K32: =+G32*I32 -> 2.73 | M32: 2 | N32: =+K32*M32 -> 5.46
... F36: Descuento puerta | G36: 0.71 | I36: 1.97 | K36: =+G36*I36 -> 1.3987 | M36: -2 | N36: =+K36*M36 -> -2.7974
C78: Observaciones: | J78: Total presente acta | N78: =ROUND(SUM(N21:N77),2) -> 123.35
J79: Cantidad acumulada ejecutada actas anteriores | N79: 0
J80: Total ejecutado | N80: =+N79+N78 -> 123.35
C85: =+#REF! -> #REF! | F85: =+#REF! -> #REF!
C86: =+#REF! -> #REF! | F86: =+#REF! -> #REF!
F87: =+#REF! -> #REF!

Sheet 1 (2)
C3: MUNICIPIO DE TUTA - BOYACÁ | M3: Fecha presente acta
C4: GESTION TÉCNICA | M4: =+'Sabana Acta Unica'!#REF! -> #REF!
C5: MEMORIAS DE CANTIDADES ACTA UNICA DE PAGO
C9: Contrato de obra No.: | D9: =+'Sabana Acta Unica'!#REF! -> #REF!
C10: Objeto: | D10: =+'Sabana Acta Unica'!#REF! -> #REF!
C11: Contratista: | D11: =+'Sabana Acta Unica'!#REF! -> #REF!
C12: NIT: | D12: =+'Sabana Acta Unica'!#REF! -> #REF!
C16: Capitulo: | D16: =+'Sabana Acta Unica'!A4 -> CAPITULO 1 - ZONA DE OFICINA / BODEGA | H16: Item: | I16: =+'Sabana Acta Unica'!A7 -> 1.02 | N16: U.M.
C17: Subcapitulo: | D17: =+'Sabana Acta Unica'!#REF! -> #REF! | H17: Descripción: | I17: =+'Sabana Acta Unica'!D7 -> FILOS Y DILATACIONES EN PAÑETES | N17: =+'Sabana Acta Unica'!E7 -> ML
C19: REGISTRO FOTOGRAFICO | E19: No. | F19: DESCRIPCIÓN | G19: DIMENSIONES | M19: No. Elementos | N19: SUBTOTAL
G20: Longitud (m) | H20: Ancho (m) | I20: Altura (m) | J20: Diametro (m) | K20: Area (m²) | L20: Volumen (m³)
F21: Filos Para Pañetes | G21: 60 | M21: 1 | N21: =+G21*M21 -> 60
C54: Observaciones: | J54: Total presente acta | N54: =ROUND(SUM(N21:N53),2) -> 60
J55: Cantidad acumulada ejecutada actas anteriores | N55: 0
J56: Total ejecutado | N56: =+N55+N54 -> 60
C61: =+#REF! -> #REF! | F61: =+#REF! -> #REF!
C62: =+#REF! -> #REF! | F62: =+#REF! -> #REF!
F63: =+#REF! -> #REF!

Sheet 1 (3)
C3: MUNICIPIO DE TUTA - BOYACÁ | M3: Fecha presente acta
C4: GESTION TÉCNICA | M4: =+'Sabana Acta Unica'!#REF! -> #REF!
C5: MEMORIAS DE CANTIDADES ACTA UNICA DE PAGO
C9: Contrato de obra No.: | D9: =+'Sabana Acta Unica'!#REF! -> #REF!
C10: Objeto: | D10: =+'Sabana Acta Unica'!#REF! -> #REF!
C11: Contratista: | D11: =+'Sabana Acta Unica'!#REF! -> #REF!
C12: NIT: | D12: =+'Sabana Acta Unica'!#REF! -> #REF!
C16: Capitulo: | D16: =+'Sabana Acta Unica'!A4 -> CAPITULO 1 - ZONA DE OFICINA / BODEGA | H16: Item: | I16: =+'Sabana Acta Unica'!A8 -> 1.03 | N16: U.M.
C17: Subcapitulo: | D17: =+'Sabana Acta Unica'!#REF! -> #REF! | H17: Descripción: | I17: =+'Sabana Acta Unica'!D8 -> SUMINISTRO E INSTALACIÓN DE SISTEMA SÉPTICO PLÁSTICO ANAEROBIO DE 1000L. INCLUYE TUBERÍA, TANQUE, TRAMPA DE GRASAS, FILTRO ANAEROBIO Y DEMÁS ACCESORIOS DE CONEXIÓN). | N17: =+'Sabana Acta Unica'!E8 -> UND
C19: REGISTRO FOTOGRAFICO | E19: No. | F19: DESCRIPCIÓN | G19: DIMENSIONES | M19: No. Elementos | N19: SUBTOTAL
G20: Longitud (m) | H20: Ancho (m) | I20: Altura (m) | J20: Peso (kg/m) | K20: Area (m²) | L20: Volumen (m³)
F21: SISTEMA SEPTICO PARA OFICINA | M21: 1 | N21: =+M21 -> 1
Q25: 1404.54
Q26: 51
Q28: =+Q25/Q26 -> 27.54
Q29: 6
Q31: =+Q28/Q29 -> 4.59
Q33: 4.39
C78: Observaciones: | J78: Total presente acta | N78: =ROUND(SUM(N21:N77),2) -> 1
J79: Cantidad acumulada ejecutada actas anteriores | N79: 0
J80: Total ejecutado | N80: =+N79+N78 -> 1
C85: =+#REF! -> #REF! | F85: =+#REF! -> #REF!
C86: =+#REF! -> #REF! | F86: =+#REF! -> #REF!
F87: =+#REF! -> #REF!

Sheet 1 (4)
C3: MUNICIPIO DE TUTA - BOYACÁ | M3: Fecha presente acta
C4: GESTION TÉCNICA | M4: =+'Sabana Acta Unica'!#REF! -> #REF!
C5: MEMORIAS DE CANTIDADES ACTA UNICA DE PAGO
C9: Contrato de obra No.: | D9: =+'Sabana Acta Unica'!#REF! -> #REF!
C10: Objeto: | D10: =+'Sabana Acta Unica'!#REF! -> #REF!
C11: Contratista: | D11: =+'Sabana Acta Unica'!#REF! -> #REF!
C12: NIT: | D12: =+'Sabana Acta Unica'!#REF! -> #REF!
C16: Capitulo: | D16: =+'Sabana Acta Unica'!A4 -> CAPITULO 1 - ZONA DE OFICINA / BODEGA | H16: Item: | I16: =+'Sabana Acta Unica'!A9 -> 1.04 | N16: U.M.
C17: Subcapitulo: | D17: =+'Sabana Acta Unica'!#REF! -> #REF! | H17: Descripción: | I17: =+'Sabana Acta Unica'!D9 -> EXCAVACIÓN MANUAL EN MATERIAL COMÚN | N17: =+'Sabana Acta Unica'!E9 -> M3
C19: REGISTRO FOTOGRAFICO | E19: No. | F19: DESCRIPCIÓN | G19: DIMENSIONES | M19: No. Elementos | N19: SUBTOTAL
G20: Longitud (m) | H20: Ancho (m) | I20: Altura (m) | J20: Peso (kg/m) | K20: Area (m²) | L20: Volumen (m³)
F21: Excavacion para pozo septico | G21: 2 | H21: 2 | I21: 2 | L21: =+G21*H21*I21 -> 8 | M21: 3 | N21: =+L21*M21 -> 24
F23: Excavacion tuberia conexión bañor a pozo septico 4" | G23: =+'1 (5)'!G21 -> 12 | H23: 0.3 | I23: 1 | L23: =+G23*H23*I23 -> 3.6 | M23: 1 | N23: =+L23*M23 -> 3.6
Q25: 1404.54
Q26: 51
Q28: =+Q25/Q26 -> 27.54
Q29: 6
Q31: =+Q28/Q29 -> 4.59
Q33: 4.39
C78: Observaciones: | J78: Total presente acta | N78: =ROUND(SUM(N21:N77),2) -> 27.6
J79: Cantidad acumulada ejecutada actas anteriores | N79: 0
J80: Total ejecutado | N80: =+N79+N78 -> 27.6
C85: =+#REF! -> #REF! | F85: =+#REF! -> #REF!
C86: =+#REF! -> #REF! | F86: =+#REF! -> #REF!
F87: =+#REF! -> #REF!

Sheet 1 (5)
C3: MUNICIPIO DE TUTA - BOYACÁ | M3: Fecha presente acta
C4: GESTION TÉCNICA | M4: =+'Sabana Acta Unica'!#REF! -> #REF!
C5: MEMORIAS DE CANTIDADES ACTA UNICA DE PAGO
C9: Contrato de obra No.: | D9: =+'Sabana Acta Unica'!#REF! -> #REF!
C10: Objeto: | D10: =+'Sabana Acta Unica'!#REF! -> #REF!
C11: Contratista: | D11: =+'Sabana Acta Unica'!#REF! -> #REF!
C12: NIT: | D12: =+'Sabana Acta Unica'!#REF! -> #REF!
C16: Capitulo: | D16: =+'Sabana Acta Unica'!A4 -> CAPITULO 1 - ZONA DE OFICINA / BODEGA | H16: Item: | I16: =+'Sabana Acta Unica'!A10 -> 1.05 | N16: U.M.
C17: Subcapitulo: | D17: =+'Sabana Acta Unica'!#REF! -> #REF! | H17: Descripción: | I17: =+'Sabana Acta Unica'!D10 -> SUMINISTRO E INSTALACIÓN DE TUBERÍA PVC D = 4" PARA DRENAJE SIN FILTRO | N17: =+'Sabana Acta Unica'!E10 -> ML
C19: REGISTRO FOTOGRAFICO | E19: No. | F19: DESCRIPCIÓN | G19: DIMENSIONES | M19: No. Elementos | N19: SUBTOTAL
G20: Longitud (m) | H20: Ancho (m) | I20: Altura (m) | J20: Peso (kg/m) | K20: Area (m²) | L20: Volumen (m³)
F21: Tuberia conexión baño a pozo 4" | G21: 12 | M21: 1 | N21: =+M21*G21 -> 12
Q25: 1404.54
Q26: 51
Q28: =+Q25/Q26 -> 27.54
Q29: 6
Q31: =+Q28/Q29 -> 4.59
Q33: 4.39
C78: Observaciones: | J78: Total presente acta | N78: =ROUND(SUM(N21:N77),2) -> 12
J79: Cantidad acumulada ejecutada actas anteriores | N79: 0
J80: Total ejecutado | N80: =+N79+N78 -> 12
C85: =+#REF! -> #REF! | F85: =+#REF! -> #REF!
C86: =+#REF! -> #REF! | F86: =+#REF! -> #REF!
F87: =+#REF! -> #REF!

Sheet 1 (6)
C3: MUNICIPIO DE TUTA - BOYACÁ | M3: Fecha presente acta
C4: GESTION TÉCNICA | M4: =+'Sabana Acta Unica'!#REF! -> #REF!
C5: MEMORIAS DE CANTIDADES ACTA UNICA DE PAGO
C9: Contrato de obra No.: | D9: =+'Sabana Acta Unica'!#REF! -> #REF!
C10: Objeto: | D10: =+'Sabana Acta Unica'!#REF! -> #REF!
C11: Contratista: | D11: =+'Sabana Acta Unica'!#REF! -> #REF!
C12: NIT: | D12: =+'Sabana Acta Unica'!#REF! -> #REF!
C16: Capitulo: | D16: =+'Sabana Acta Unica'!A4 -> CAPITULO 1 - ZONA DE OFICINA / BODEGA | H16: Item: | I16: =+'Sabana Acta Unica'!A11 -> 1.06 | N16: U.M.
C17: Subcapitulo: | D17: =+'Sabana Acta Unica'!#REF! -> #REF! | H17: Descripción: | I17: =+'Sabana Acta Unica'!D11 -> CAJAS DE INSPECCIÓN EN LADRILLO DE 0.60 X 0.60 x 0.60 M. (NO INCLUYE TAPA). | N17: =+'Sabana Acta Unica'!E11 -> UND
C19: REGISTRO FOTOGRAFICO | E19: No. | F19: DESCRIPCIÓN | G19: DIMENSIONES | M19: No. Elementos | N19: SUBTOTAL
G20: Longitud (m) | H20: Ancho (m) | I20: Altura (m) | J20: Peso (kg/m) | K20: Area (m²) | L20: Volumen (m³)
F21: Caja de inspeccion conexión de baño | M21: 1 | N21: =+M21 -> 1
Q25: 1404.54
Q26: 51
Q28: =+Q25/Q26 -> 27.54
Q29: 6
Q31: =+Q28/Q29 -> 4.59
Q33: 4.39
C78: Observaciones: | J78: Total presente acta | N78: =ROUND(SUM(N21:N77),2) -> 1
J79: Cantidad acumulada ejecutada actas anteriores | N79: 0
J80: Total ejecutado | N80: =+N79+N78 -> 1
C85: =+#REF! -> #REF! | F85: =+#REF! -> #REF!
C86: =+#REF! -> #REF! | F86: =+#REF! -> #REF!
F87: =+#REF! -> #REF!

Sheet Resumen Cap 2
B2: Item | C2: Descripción | D2: Cant
B3: 1 | C3: =+'Sabana Acta Unica'!D14 -> LOCALIZACIÓN Y REPLANTEO DE OBRA ARQUITECTÓNICA. (NO INCLUYE COMISIÓN TOPOGRÁFICA). | D3: =+'2 (1)'!N78 -> 101.97
B4: 2 | C4: =+'Sabana Acta Unica'!D15 -> EXCAVACIÓN MANUAL EN MATERIAL COMUN | D4: =+'2 (2)'!N78 -> 7.78
B5: 3 | C5: =+'Sabana Acta Unica'!D16 -> BASE EN MATERIAL DE AFIRMADO COMPACTADO | D5: =+'2 (3)'!N84 -> 13.11
B6: 4 | C6: =+'Sabana Acta Unica'!D18 -> CONCRETO PARA ZAPATAS DE 21 MPa (3000 PSI) + FORMALETA MADERA | D6: =+'2 (4)'!N78 -> 3.89
B7: 5 | C7: =+'Sabana Acta Unica'!D19 -> COLUMNAS Y PEDESTALES EN CONCRETO DE 21 MPa - (3000 PSI), H < = A 3.0 M. (FORMALETA METALICA). | D7: =+'2 (5)'!N78 -> 0.54
B8: 6 | C8: =+'Sabana Acta Unica'!D20 -> SUMINISTRO FIGURADO Y ARMADO DE ACERO DE REFUERZO 60000 PSI 420 MP | D8: =+'2 (6)'!N78 -> 232.01
B9: 7 | C9: =+'Sabana Acta Unica'!D21 -> SUMINISTRO E INSTALACIÓN PERFILERIA METALICA PARA ESTRUCTURA DE CUBIERTA DE EDIFICACIONES. DIMENSIONES Y CALIBRES SEGÚN DISEÑO | D9: =+'2 (7)'!N79 -> 1525.96
B10: 8 | C10: =+'Sabana Acta Unica'!D22 -> SUMINISTRO E INTALACION CUBIERTA ARQUITECTONICA METALICA TIPO ACESCO O SIMILAR DE 0.73 M. X 3.00 M | D10: =+'2 (8)'!N78 -> 105
B11: 9 | C11: =+'Sabana Acta Unica'!D23 -> PLACA BASE EN CONCRETO E = 10.0 CM. 17.5 MPa (2500 PSI) | D11: =+'2 (9)'!N78 -> 101.97
B12: 10 | C12: =+'Sabana Acta Unica'!D24 -> SUMINISTRO E INSTALACIÓN DE MALLA ELECTROSOLDADA | D12: =+'2 (10)'!N78 -> 210.06
B13: 11 | C13: =+'Sabana Acta Unica'!D26 -> SUMINISTRO E INSTALACIÓN DE TUBERÍA PVC D = 4" PARA DRENAJE SIN FILTRO | D13: =+'2 (11)'!N78 -> 10.3
B14: 12 | C14: =+'Sabana Acta Unica'!D27 -> SUMINISTRO E INSTALACIÓN DE BAJANTE PVC DE AGUAS LLUVIA. (REF. RAINGO O SIMILAR) | D14: =+'2 (12)'!N78 -> 6
B15: 13 | C15: =+'Sabana Acta Unica'!D28 -> SUMINISTRO E INSTALACIÓN DE CANAL EN LÁMINA GALVANIZADA CALIBRE 23 ANCHO HASTA 0.40M ALTURA HASTA 0.30M . (INCLUYE ANTICORROSIVO PRIMER Y PINTURA). | D15: =+'2 (13)'!N78 -> 21

Sheet 2 (1)
C3: MUNICIPIO DE TUTA - BOYACÁ | M3: Fecha presente acta
C4: GESTION TÉCNICA | M4: =+'Sabana Acta Unica'!#REF! -> #REF!
C5: MEMORIAS DE CANTIDADES ACTA UNICA DE PAGO
C9: Contrato de obra No.: | D9: =+'Sabana Acta Unica'!#REF! -> #REF!
C10: Objeto: | D10: =+'Sabana Acta Unica'!#REF! -> #REF!
C11: Contratista: | D11: =+'Sabana Acta Unica'!#REF! -> #REF!
C12: NIT: | D12: =+'Sabana Acta Unica'!#REF! -> #REF!
C16: Capitulo: | D16: =+'Sabana Acta Unica'!A12 -> CAPITULO 2 - COMPOSTAJE | H16: Item: | I16: =+'Sabana Acta Unica'!A14 -> 2.01 | N16: U.M.
C17: Subcapitulo: | D17: =+'Sabana Acta Unica'!A13 -> PRELIMINARES | H17: Descripción: | I17: =+'Sabana Acta Unica'!D14 -> LOCALIZACIÓN Y REPLANTEO DE OBRA ARQUITECTÓNICA. (NO INCLUYE COMISIÓN TOPOGRÁFICA). | N17: =+'Sabana Acta Unica'!E14 -> M2
C19: REGISTRO FOTOGRAFICO | E19: No. | F19: DESCRIPCIÓN | G19: DIMENSIONES | M19: No. Elementos | N19: SUBTOTAL
G20: Longitud (m) | H20: Ancho (m) | I20: Altura (m) | J20: Peso (kg/m) | K20: Area (m²) | L20: Volumen (m³)
F21: Area compostaje | G21: 10.3 | H21: 9.9 | K21: =+G21*H21 -> 101.97 | M21: 1 | N21: =+K21*M21 -> 101.97
Q25: 1404.54
Q26: 51
Q28: =+Q25/Q26 -> 27.54
Q29: 6
Q31: =+Q28/Q29 -> 4.59
Q33: 4.39
C78: Observaciones: | J78: Total presente acta | N78: =ROUND(SUM(N21:N77),2) -> 101.97
J79: Cantidad acumulada ejecutada actas anteriores | N79: 0
J80: Total ejecutado | N80: =+N79+N78 -> 101.97
C85: =+#REF! -> #REF! | F85: =+#REF! -> #REF!
C86: =+#REF! -> #REF! | F86: =+#REF! -> #REF!
F87: =+#REF! -> #REF!

Sheet 2 (2)
C3: MUNICIPIO DE TUTA - BOYACÁ | M3: Fecha presente acta
C4: GESTION TÉCNICA | M4: =+'Sabana Acta Unica'!#REF! -> #REF!
C5: MEMORIAS DE CANTIDADES ACTA UNICA DE PAGO
C9: Contrato de obra No.: | D9: =+'Sabana Acta Unica'!#REF! -> #REF!
C10: Objeto: | D10: =+'Sabana Acta Unica'!#REF! -> #REF!
C11: Contratista: | D11: =+'Sabana Acta Unica'!#REF! -> #REF!
C12: NIT: | D12: =+'Sabana Acta Unica'!#REF! -> #REF!
C16: Capitulo: | D16: =+'Sabana Acta Unica'!A12 -> CAPITULO 2 - COMPOSTAJE | H16: Item: | I16: =+'Sabana Acta Unica'!A15 -> 2.02 | N16: U.M.
C17: Subcapitulo: | D17: =+'Sabana Acta Unica'!A13 -> PRELIMINARES | H17: Descripción: | I17: =+'Sabana Acta Unica'!D15 -> EXCAVACIÓN MANUAL EN MATERIAL COMUN | N17: =+'Sabana Acta Unica'!E15 -> M3
C19: REGISTRO FOTOGRAFICO | E19: No. | F19: DESCRIPCIÓN | G19: DIMENSIONES | M19: No. Elementos | N19: SUBTOTAL
G20: Longitud (m) | H20: Ancho (m) | I20: Altura (m) | J20: Peso (kg/m) | K20: Area (m²) | L20: Volumen (m³)
F21: zapatas zona compostaje | G21: 0.9 | H21: 0.9 | I21: 0.8 | L21: =+G21*H21*I21 -> 0.648 | M21: 12 | N21: =+L21*M21 -> 7.776
Q25: 1404.54
Q26: 51
Q28: =+Q25/Q26 -> 27.54
Q29: 6
Q31: =+Q28/Q29 -> 4.59
Q33: 4.39
C78: Observaciones: | J78: Total presente acta | N78: =ROUND(SUM(N21:N77),2) -> 7.78
J79: Cantidad acumulada ejecutada actas anteriores | N79: 0
J80: Total ejecutado | N80: =+N79+N78 -> 7.78
C85: =+#REF! -> #REF! | F85: =+#REF! -> #REF!
C86: =+#REF! -> #REF! | F86: =+#REF! -> #REF!
F87: =+#REF! -> #REF!

Sheet 2 (3)
C3: MUNICIPIO DE TUTA - BOYACÁ | M3: Fecha presente acta
C4: GESTION TÉCNICA | M4: =+'Sabana Acta Unica'!#REF! -> #REF!
C5: MEMORIAS DE CANTIDADES ACTA UNICA DE PAGO
C9: Contrato de obra No.: | D9: =+'Sabana Acta Unica'!#REF! -> #REF!
C10: Objeto: | D10: =+'Sabana Acta Unica'!#REF! -> #REF!
C11: Contratista: | D11: =+'Sabana Acta Unica'!#REF! -> #REF!
C12: NIT: | D12: =+'Sabana Acta Unica'!#REF! -> #REF!
C16: Capitulo: | D16: =+'Sabana Acta Unica'!A12 -> CAPITULO 2 - COMPOSTAJE | H16: Item: | I16: =+'Sabana Acta Unica'!A16 -> 2.03 | N16: U.M.
C17: Subcapitulo: | D17: =+'Sabana Acta Unica'!A13 -> PRELIMINARES | H17: Descripción: | I17: =+'Sabana Acta Unica'!D16 -> BASE EN MATERIAL DE AFIRMADO COMPACTADO | N17: =+'Sabana Acta Unica'!E16 -> M3
C19: REGISTRO FOTOGRAFICO | E19: No. | F19: DESCRIPCIÓN | G19: DIMENSIONES | M19: No. Elementos | N19: SUBTOTAL
G20: Longitud (m) | H20: Ancho (m) | I20: Altura (m) | J20: Peso (kg/m) | K20: Area (m²) | L20: Volumen (m³)
F21: Zapatas zona compostaje | G21: 0.9 | H21: 0.9 | I21: 0.3 | L21: =+G21*H21*I21 -> 0.243 | M21: 12 | N21: =+L21*M21 -> 2.916
F22: Placa de contrapiso | G22: =+'2 (1)'!G21 -> 10.3 | H22: =+'2 (1)'!H21 -> 9.9 | I22: 0.1 | L22: =+G22*H22*I22 -> 10.197 | M22: 1 | N22: =+L22*M22 -> 10.197
Q25: 1404.54
Q26: 51
Q28: =+Q25/Q26 -> 27.54
Q29: 6
Q31: =+Q28/Q29 -> 4.59
Q33: 4.39
C84: Observaciones: | J84: Total presente acta | N84: =ROUND(SUM(N21:N83),2) -> 13.11
J85: Cantidad acumulada ejecutada actas anteriores | N85: 0
J86: Total ejecutado | N86: =+N85+N84 -> 13.11
C91: =+#REF! -> #REF! | F91: =+#REF! -> #REF!
C92: =+#REF! -> #REF! | F92: =+#REF! -> #REF!
F93: =+#REF! -> #REF!

Sheet 2 (4)
C3: MUNICIPIO DE TUTA - BOYACÁ | M3: Fecha presente acta
C4: GESTION TÉCNICA | M4: =+'Sabana Acta Unica'!#REF! -> #REF!
C5: MEMORIAS DE CANTIDADES ACTA UNICA DE PAGO
C9: Contrato de obra No.: | D9: =+'Sabana Acta Unica'!#REF! -> #REF!
C10: Objeto: | D10: =+'Sabana Acta Unica'!#REF! -> #REF!
C11: Contratista: | D11: =+'Sabana Acta Unica'!#REF! -> #REF!
C12: NIT: | D12: =+'Sabana Acta Unica'!#REF! -> #REF!
C16: Capitulo: | D16: =+'Sabana Acta Unica'!A12 -> CAPITULO 2 - COMPOSTAJE | H16: Item: | I16: =+'Sabana Acta Unica'!A18 -> 2.04 | N16: U.M.
C17: Subcapitulo: | D17: =+'Sabana Acta Unica'!A13 -> PRELIMINARES | H17: Descripción: | I17: =+'Sabana Acta Unica'!D18 -> CONCRETO PARA ZAPATAS DE 21 MPa (3000 PSI) + FORMALETA MADERA | N17: =+'Sabana Acta Unica'!E18 -> M3
C19: REGISTRO FOTOGRAFICO | E19: No. | F19: DESCRIPCIÓN | G19: DIMENSIONES | M19: No. Elementos | N19: SUBTOTAL
G20: Longitud (m) | H20: Ancho (m) | I20: Altura (m) | J20: Peso (kg/m) | K20: Area (m²) | L20: Volumen (m³)
F21: Zapatas zona compostaje | G21: 0.9 | H21: 0.9 | I21: 0.4 | L21: =+G21*H21*I21 -> 0.324 | M21: 12 | N21: =+L21*M21 -> 3.888
Q25: 1404.54
Q26: 51
Q28: =+Q25/Q26 -> 27.54
Q29: 6
Q31: =+Q28/Q29 -> 4.59
Q33: 4.39
C78: Observaciones: | J78: Total presente acta | N78: =ROUND(SUM(N21:N77),2) -> 3.89
J79: Cantidad acumulada ejecutada actas anteriores | N79: 0
J80: Total ejecutado | N80: =+N79+N78 -> 3.89
C85: =+#REF! -> #REF! | F85: =+#REF! -> #REF!
C86: =+#REF! -> #REF! | F86: =+#REF! -> #REF!
F87: =+#REF! -> #REF!

Sheet 2 (5)
C3: MUNICIPIO DE TUTA - BOYACÁ | M3: Fecha presente acta
C4: GESTION TÉCNICA | M4: =+'Sabana Acta Unica'!#REF! -> #REF!
C5: MEMORIAS DE CANTIDADES ACTA UNICA DE PAGO
C9: Contrato de obra No.: | D9: =+'Sabana Acta Unica'!#REF! -> #REF!
C10: Objeto: | D10: =+'Sabana Acta Unica'!#REF! -> #REF!
C11: Contratista: | D11: =+'Sabana Acta Unica'!#REF! -> #REF!
C12: NIT: | D12: =+'Sabana Acta Unica'!#REF! -> #REF!
C16: Capitulo: | D16: =+'Sabana Acta Unica'!A12 -> CAPITULO 2 - COMPOSTAJE | H16: Item: | I16: =+'Sabana Acta Unica'!A19 -> 2.05 | N16: U.M.
C17: Subcapitulo: | D17: =+'Sabana Acta Unica'!A13 -> PRELIMINARES | H17: Descripción: | I17: =+'Sabana Acta Unica'!D19 -> COLUMNAS Y PEDESTALES EN CONCRETO DE 21 MPa - (3000 PSI), H < = A 3.0 M. (FORMALETA METALICA). | N17: =+'Sabana Acta Unica'!E19 -> M3
C19: REGISTRO FOTOGRAFICO | E19: No. | F19: DESCRIPCIÓN | G19: DIMENSIONES | M19: No. Elementos | N19: SUBTOTAL
G20: Longitud (m) | H20: Ancho (m) | I20: Altura (m) | J20: Peso (kg/m) | K20: Area (m²) | L20: Volumen (m³)
F21: Zapatas zona compostaje | G21: 0.3 | H21: 0.3 | I21: 0.5 | L21: =+G21*H21*I21 -> 0.045 | M21: 12 | N21: =+L21*M21 -> 0.54
Q25: 1404.54
Q26: 51
Q28: =+Q25/Q26 -> 27.54
Q29: 6
Q31: =+Q28/Q29 -> 4.59
Q33: 4.39
C78: Observaciones: | J78: Total presente acta | N78: =ROUND(SUM(N21:N77),2) -> 0.54
J79: Cantidad acumulada ejecutada actas anteriores | N79: 0
J80: Total ejecutado | N80: =+N79+N78 -> 0.54
C85: =+#REF! -> #REF! | F85: =+#REF! -> #REF!
C86: =+#REF! -> #REF! | F86: =+#REF! -> #REF!
F87: =+#REF! -> #REF!

Sheet 2 (6)
C3: MUNICIPIO DE TUTA - BOYACÁ | M3: Fecha presente acta
C4: GESTION TÉCNICA | M4: =+'Sabana Acta Unica'!#REF! -> #REF!
C5: MEMORIAS DE CANTIDADES ACTA UNICA DE PAGO
C9: Contrato de obra No.: | D9: =+'Sabana Acta Unica'!#REF! -> #REF!
C10: Objeto: | D10: =+'Sabana Acta Unica'!#REF! -> #REF!
C11: Contratista: | D11: =+'Sabana Acta Unica'!#REF! -> #REF!
C12: NIT: | D12: =+'Sabana Acta Unica'!#REF! -> #REF!
C16: Capitulo: | D16: =+'Sabana Acta Unica'!A12 -> CAPITULO 2 - COMPOSTAJE | H16: Item: | I16: =+'Sabana Acta Unica'!A20 -> 2.06 | N16: U.M.
C17: Subcapitulo: | D17: =+'Sabana Acta Unica'!A13 -> PRELIMINARES | H17: Descripción: | I17: =+'Sabana Acta Unica'!D20 -> SUMINISTRO FIGURADO Y ARMADO DE ACERO DE REFUERZO 60000 PSI 420 MP | N17: =+'Sabana Acta Unica'!E20 -> KG
C19: REGISTRO FOTOGRAFICO | E19: No. | F19: DESCRIPCIÓN | G19: DIMENSIONES | M19: No. Zapatas | N19: SUBTOTAL
G20: Longitud (m) | H20: Ancho (m) | I20: Altura (m) | J20: Peso (kg/m) | K20: Area (m²) | L20: No. Elementos
F21: Acero Zapatas | G21: =0.9-0.15+0.2 -> 0.95 | J21: 0.994 | L21: 12 | M21: 12 | N21: =+M21*J21*G21*L21 -> 135.9792
F22: Acero Longitudinal | G22: 1.1 | J22: 0.994 | L22: 4 | M22: =+M21 -> 12 | N22: =+M22*J22*G22*L22 -> 52.4832
F23: Flejes | G23: =0.22*4+0.2 -> 1.08 | J23: 0.56 | L23: 6 | M23: =+M21 -> 12 | N23: =+M23*J23*G23*L23 -> 43.5456
Q25: 1404.54
Q26: 51
Q28: =+Q25/Q26 -> 27.54
Q29: 6
Q31: =+Q28/Q29 -> 4.59
Q33: 4.39
C78: Observaciones: | J78: Total presente acta | N78: =ROUND(SUM(N21:N77),2) -> 232.01
J79: Cantidad acumulada ejecutada actas anteriores | N79: 0
J80: Total ejecutado | N80: =+N79+N78 -> 232.01
C85: =+#REF! -> #REF! | F85: =+#REF! -> #REF!
C86: =+#REF! -> #REF! | F86: =+#REF! -> #REF!
F87: =+#REF! -> #REF!

Sheet 2 (7)
C3: MUNICIPIO DE TUTA - BOYACÁ | M3: Fecha presente acta
C4: GESTION TÉCNICA | M4: =+'Sabana Acta Unica'!#REF! -> #REF!
C5: MEMORIAS DE CANTIDADES ACTA UNICA DE PAGO
C9: Contrato de obra No.: | D9: =+'Sabana Acta Unica'!#REF! -> #REF!
C10: Objeto: | D10: =+'Sabana Acta Unica'!#REF! -> #REF!
C11: Contratista: | D11: =+'Sabana Acta Unica'!#REF! -> #REF!
C12: NIT: | D12: =+'Sabana Acta Unica'!#REF! -> #REF!
C16: Capitulo: | D16: =+'Sabana Acta Unica'!A12 -> CAPITULO 2 - COMPOSTAJE | H16: Item: | I16: =+'Sabana Acta Unica'!A21 -> 2.07 | N16: U.M.
C17: Subcapitulo: | D17: =+'Sabana Acta Unica'!A13 -> PRELIMINARES | H17: Descripción: | I17: =+'Sabana Acta Unica'!D21 -> SUMINISTRO E INSTALACIÓN PERFILERIA METALICA PARA ESTRUCTURA DE CUBIERTA DE EDIFICACIONES. DIMENSIONES Y CALIBRES SEGÚN DISEÑO | N17: =+'Sabana Acta Unica'!E21 -> KG
C19: REGISTRO FOTOGRAFICO | E19: No. | F19: DESCRIPCIÓN | G19: DIMENSIONES | M19: No. Elementos | N19: SUBTOTAL
G20: Longitud (m) | H20: Ancho (m) | I20: Altura (m) | J20: Peso (kg/m) | K20: Area (m²) | L20: No. Elementos Acero
F21: Cerchas Perfil Tubular 80 x 40 x 2.5 mm
F22: Cordon Inferior | G22: 9.6 | J22: 4.39 | L22: 1 | M22: 4 | N22: =+G22*J22*L22*M22 -> 168.576
F23: Cordon Superior | G23: 4.84 | J23: 4.39 | L23: 2 | M23: =+$M$22 -> 4 | N23: =+G23*J23*L23*M23 -> 169.9808
F24: Elemento No. 1 Vertical Celocia | G24: 0.2 | J24: 4.39 | L24: 2 | M24: =+$M$22 -> 4 | N24: =+G24*J24*L24*M24 -> 7.024
F25: Elemento No. 2 Vertical Celocia | G25: 0.41 | J25: 4.39 | L25: 2 | M25: =+$M$22 -> 4 | N25: =+G25*J25*L25*M25 -> 14.3992 | Q25: 1404.54
F26: Elemento No. 3 Vertical Celocia | G26: 0.62 | J26: 4.39 | L26: 1 | M26: 4 | N26: =+G26*J26*L26*M26 -> 10.8872
F27: Elemento No. 1 Diagonal | G27: 1.61 | J27: 4.39 | L27: 2 | M27: =+$M$22 -> 4 | N27: =+G27*J27*L27*M27 -> 56.5432 | Q27: 51
F28: Elemento No. 2 Diagonal | G28: 1.65 | J28: 4.39 | L28: 2 | M28: =+$M$22 -> 4 | N28: =+G28*J28*L28*M28 -> 57.948
Q29: =+Q25/Q27 -> 27.54
F30: Columnas Perfil Tubular 100 x 100 x 2 mm | Q30: 6
F31: Columnas Visibles + 50 cm embebidas dentro de pedestal | G31: =1.95+0.5 -> 2.45 | J31: 6.21 | L31: 1 | M31: 12 | N31: =+G31*J31*L31*M31 -> 182.574
Q32: =+Q29/Q30 -> 4.59
F33: Correas Perfil tubular 80 x 40 x 2.5mm
F34: Correas Perfil tubular 80 x 40 x 2.5mm | G34: 10 | J34: 4.39 | L34: 1 | M34: 14 | N34: =+G34*J34*L34*M34 -> 614.6 | Q34: 4.39
F36: Vigas Amarre Aereas Perfil Tubular 100 x 100 x 2 mm
F37: Vigas Aereas Amarre de Estructura Eje X | G37: 10 | J37: 6.21 | L37: 1 | M37: 2 | N37: =+G37*J37*L37*M37 -> 124.2
F38: Vigas Aereas Amarre de Estructura Eje Y | G38: 9.6 | J38: 6.21 | L38: 1 | M38: 2 | N38: =+G38*J38*L38*M38 -> 119.232
C79: Observaciones: | J79: Total presente acta | N79: =ROUND(SUM(N21:N78),2) -> 1525.96
J80: Cantidad acumulada ejecutada actas anteriores | N80: 0
J81: Total ejecutado | N81: =+N80+N79 -> 1525.96
C86: =+#REF! -> #REF! | F86: =+#REF! -> #REF!
C87: =+#REF! -> #REF! | F87: =+#REF! -> #REF!
F88: =+#REF! -> #REF!

Sheet 2 (8)
C3: MUNICIPIO DE TUTA - BOYACÁ | M3: Fecha presente acta
C4: GESTION TÉCNICA | M4: =+'Sabana Acta Unica'!#REF! -> #REF!
C5: MEMORIAS DE CANTIDADES ACTA UNICA DE PAGO
C9: Contrato de obra No.: | D9: =+'Sabana Acta Unica'!#REF! -> #REF!
C10: Objeto: | D10: =+'Sabana Acta Unica'!#REF! -> #REF!
C11: Contratista: | D11: =+'Sabana Acta Unica'!#REF! -> #REF!
C12: NIT: | D12: =+'Sabana Acta Unica'!#REF! -> #REF!
C16: Capitulo: | D16: =+'Sabana Acta Unica'!A12 -> CAPITULO 2 - COMPOSTAJE | H16: Item: | I16: =+'Sabana Acta Unica'!A22 -> 2.08 | N16: U.M.
C17: Subcapitulo: | D17: =+'Sabana Acta Unica'!A13 -> PRELIMINARES | H17: Descripción: | I17: =+'Sabana Acta Unica'!D22 -> SUMINISTRO E INTALACION CUBIERTA ARQUITECTONICA METALICA TIPO ACESCO O SIMILAR DE 0.73 M. X 3.00 M | N17: =+'Sabana Acta Unica'!E22 -> M2
C19: REGISTRO FOTOGRAFICO | E19: No. | F19: DESCRIPCIÓN | G19: DIMENSIONES | M19: No. Elementos | N19: SUBTOTAL
G20: Longitud (m) | H20: Ancho (m) | I20: Altura (m) | J20: Peso (kg/m) | K20: Area (m²) | L20: Volumen (m3)
F21: Cubierta Compostaje | G21: 5 | H21: 10.5 | K21: =+G21*H21 -> 52.5 | M21: 2 | N21: =+K21*M21 -> 105
C78: Observaciones: | J78: Total presente acta | N78: =ROUND(SUM(N21:N77),2) -> 105
J79: Cantidad acumulada ejecutada actas anteriores | N79: 0
J80: Total ejecutado | N80: =+N79+N78 -> 105
C85: =+#REF! -> #REF! | F85: =+#REF! -> #REF!
C86: =+#REF! -> #REF! | F86: =+#REF! -> #REF!
F87: =+#REF! -> #REF!

Sheet 2 (9)
C3: MUNICIPIO DE TUTA - BOYACÁ | M3: Fecha presente acta
C4: GESTION TÉCNICA | M4: =+'Sabana Acta Unica'!#REF! -> #REF!
C5: MEMORIAS DE CANTIDADES ACTA UNICA DE PAGO
C9: Contrato de obra No.: | D9: =+'Sabana Acta Unica'!#REF! -> #REF!
C10: Objeto: | D10: =+'Sabana Acta Unica'!#REF! -> #REF!
C11: Contratista: | D11: =+'Sabana Acta Unica'!#REF! -> #REF!
C12: NIT: | D12: =+'Sabana Acta Unica'!#REF! -> #REF!
C16: Capitulo: | D16: =+'Sabana Acta Unica'!A12 -> CAPITULO 2 - COMPOSTAJE | H16: Item: | I16: =+'Sabana Acta Unica'!A23 -> 2.09 | N16: U.M.
C17: Subcapitulo: | D17: =+'Sabana Acta Unica'!A13 -> PRELIMINARES | H17: Descripción: | I17: =+'Sabana Acta Unica'!D23 -> PLACA BASE EN CONCRETO E = 10.0 CM. 17.5 MPa (2500 PSI) | N17: =+'Sabana Acta Unica'!E23 -> M2
C19: REGISTRO FOTOGRAFICO | E19: No. | F19: DESCRIPCIÓN | G19: DIMENSIONES | M19: No. Elementos | N19: SUBTOTAL
G20: Longitud (m) | H20: Ancho (m) | I20: Altura (m) | J20: Peso (kg/m) | K20: Area (m²) | L20: Volumen (m3)
F21: =+'2 (1)'!F21 -> Area compostaje | G21: =+'2 (1)'!G21 -> 10.3 | H21: =+'2 (1)'!H21 -> 9.9 | K21: =+G21*H21 -> 101.97 | M21: 1 | N21: =+K21*M21 -> 101.97
Q25: 1404.54
Q26: 51
Q28: =+Q25/Q26 -> 27.54
Q29: 6
Q31: =+Q28/Q29 -> 4.59
Q33: 4.39
C78: Observaciones: | J78: Total presente acta | N78: =ROUND(SUM(N21:N77),2) -> 101.97
J79: Cantidad acumulada ejecutada actas anteriores | N79: 0
J80: Total ejecutado | N80: =+N79+N78 -> 101.97
C85: =+#REF! -> #REF! | F85: =+#REF! -> #REF!
C86: =+#REF! -> #REF! | F86: =+#REF! -> #REF!
F87: =+#REF! -> #REF!

Sheet 2 (10)
C3: MUNICIPIO DE TUTA - BOYACÁ | M3: Fecha presente acta
C4: GESTION TÉCNICA | M4: =+'Sabana Acta Unica'!#REF! -> #REF!
C5: MEMORIAS DE CANTIDADES ACTA UNICA DE PAGO
C9: Contrato de obra No.: | D9: =+'Sabana Acta Unica'!#REF! -> #REF!
C10: Objeto: | D10: =+'Sabana Acta Unica'!#REF! -> #REF!
C11: Contratista: | D11: =+'Sabana Acta Unica'!#REF! -> #REF!
C12: NIT: | D12: =+'Sabana Acta Unica'!#REF! -> #REF!
C16: Capitulo: | D16: =+'Sabana Acta Unica'!A12 -> CAPITULO 2 - COMPOSTAJE | H16: Item: | I16: =+'Sabana Acta Unica'!A24 -> 2.1 | N16: U.M.
C17: Subcapitulo: | D17: =+'Sabana Acta Unica'!A13 -> PRELIMINARES | H17: Descripción: | I17: =+'Sabana Acta Unica'!D24 -> SUMINISTRO E INSTALACIÓN DE MALLA ELECTROSOLDADA | N17: =+'Sabana Acta Unica'!E24 -> KG
C19: REGISTRO FOTOGRAFICO | E19: No. | F19: DESCRIPCIÓN | G19: DIMENSIONES | M19: No. Elementos | N19: SUBTOTAL
G20: Longitud (m) | H20: Ancho (m) | I20: Altura (m) | J20: Peso (kg/m2) | K20: Area (m²) | L20: Volumen (m3)
F21: =+'2 (1)'!F21 -> Area compostaje | G21: =+'2 (1)'!G21 -> 10.3 | H21: =+'2 (1)'!H21 -> 9.9 | J21: 2.06 | K21: =+G21*H21 -> 101.97 | M21: 1 | N21: =+K21*M21*J21 -> 210.0582
Q25: 1404.54
Q26: 51
Q28: =+Q25/Q26 -> 27.54
Q29: 6
Q31: =+Q28/Q29 -> 4.59
Q33: 4.39
C78: Observaciones: | J78: Total presente acta | N78: =ROUND(SUM(N21:N77),2) -> 210.06
J79: Cantidad acumulada ejecutada actas anteriores | N79: 0
J80: Total ejecutado | N80: =+N79+N78 -> 210.06
C85: =+#REF! -> #REF! | F85: =+#REF! -> #REF!
C86: =+#REF! -> #REF! | F86: =+#REF! -> #REF!
F87: =+#REF! -> #REF!

Sheet 2 (11)
C3: MUNICIPIO DE TUTA - BOYACÁ | M3: Fecha presente acta
C4: GESTION TÉCNICA | M4: =+'Sabana Acta Unica'!#REF! -> #REF!
C5: MEMORIAS DE CANTIDADES ACTA UNICA DE PAGO
C9: Contrato de obra No.: | D9: =+'Sabana Acta Unica'!#REF! -> #REF!
C10: Objeto: | D10: =+'Sabana Acta Unica'!#REF! -> #REF!
C11: Contratista: | D11: =+'Sabana Acta Unica'!#REF! -> #REF!
C12: NIT: | D12: =+'Sabana Acta Unica'!#REF! -> #REF!
C16: Capitulo: | D16: =+'Sabana Acta Unica'!A12 -> CAPITULO 2 - COMPOSTAJE | H16: Item: | I16: =+'Sabana Acta Unica'!A26 -> 2.11 | N16: U.M.
C17: Subcapitulo: | D17: =+'Sabana Acta Unica'!A13 -> PRELIMINARES | H17: Descripción: | I17: =+'Sabana Acta Unica'!D26 -> SUMINISTRO E INSTALACIÓN DE TUBERÍA PVC D = 4" PARA DRENAJE SIN FILTRO | N17: =+'Sabana Acta Unica'!E26 -> ML
C19: REGISTRO FOTOGRAFICO | E19: No. | F19: DESCRIPCIÓN | G19: DIMENSIONES | M19: No. Elementos | N19: SUBTOTAL
G20: Longitud (m) | H20: Ancho (m) | I20: Altura (m) | J20: Peso (kg/m2) | K20: Area (m²) | L20: Volumen (m3)
F21: Tuberia lixiviados | G21: 10.3 | M21: 1 | N21: =+M21*G21 -> 10.3
Q25: 1404.54
Q26: 51
Q28: =+Q25/Q26 -> 27.54
Q29: 6
Q31: =+Q28/Q29 -> 4.59
Q33: 4.39
C78: Observaciones: | J78: Total presente acta | N78: =ROUND(SUM(N21:N77),2) -> 10.3
J79: Cantidad acumulada ejecutada actas anteriores | N79: 0
J80: Total ejecutado | N80: =+N79+N78 -> 10.3
C85: =+#REF! -> #REF! | F85: =+#REF! -> #REF!
C86: =+#REF! -> #REF! | F86: =+#REF! -> #REF!
F87: =+#REF! -> #REF!

Sheet 2 (12)
C3: MUNICIPIO DE TUTA - BOYACÁ | M3: Fecha presente acta
C4: GESTION TÉCNICA | M4: =+'Sabana Acta Unica'!#REF! -> #REF!
C5: MEMORIAS DE CANTIDADES ACTA UNICA DE PAGO
C9: Contrato de obra No.: | D9: =+'Sabana Acta Unica'!#REF! -> #REF!
C10: Objeto: | D10: =+'Sabana Acta Unica'!#REF! -> #REF!
C11: Contratista: | D11: =+'Sabana Acta Unica'!#REF! -> #REF!
C12: NIT: | D12: =+'Sabana Acta Unica'!#REF! -> #REF!
C16: Capitulo: | D16: =+'Sabana Acta Unica'!A12 -> CAPITULO 2 - COMPOSTAJE | H16: Item: | I16: =+'Sabana Acta Unica'!A27 -> 2.12 | N16: U.M.
C17: Subcapitulo: | D17: =+'Sabana Acta Unica'!A13 -> PRELIMINARES | H17: Descripción: | I17: =+'Sabana Acta Unica'!D27 -> SUMINISTRO E INSTALACIÓN DE BAJANTE PVC DE AGUAS LLUVIA. (REF. RAINGO O SIMILAR) | N17: =+'Sabana Acta Unica'!E27 -> ML
C19: REGISTRO FOTOGRAFICO | E19: No. | F19: DESCRIPCIÓN | G19: DIMENSIONES | M19: No. Elementos | N19: SUBTOTAL
G20: Longitud (m) | H20: Ancho (m) | I20: Altura (m) | J20: Peso (kg/m2) | K20: Area (m²) | L20: Volumen (m3)
F21: Tuberia desague Canal Aguas lluvias | G21: 3 | M21: 2 | N21: =+M21*G21 -> 6
Q25: 1404.54
Q26: 51
Q28: =+Q25/Q26 -> 27.54
Q29: 6
Q31: =+Q28/Q29 -> 4.59
Q33: 4.39
C78: Observaciones: | J78: Total presente acta | N78: =ROUND(SUM(N21:N77),2) -> 6
J79: Cantidad acumulada ejecutada actas anteriores | N79: 0
J80: Total ejecutado | N80: =+N79+N78 -> 6
C85: =+#REF! -> #REF! | F85: =+#REF! -> #REF!
C86: =+#REF! -> #REF! | F86: =+#REF! -> #REF!
F87: =+#REF! -> #REF!

Sheet 2 (13)
C3: MUNICIPIO DE TUTA - BOYACÁ | M3: Fecha presente acta
C4: GESTION TÉCNICA | M4: =+'Sabana Acta Unica'!#REF! -> #REF!
C5: MEMORIAS DE CANTIDADES ACTA UNICA DE PAGO
C9: Contrato de obra No.: | D9: =+'Sabana Acta Unica'!#REF! -> #REF!
C10: Objeto: | D10: =+'Sabana Acta Unica'!#REF! -> #REF!
C11: Contratista: | D11: =+'Sabana Acta Unica'!#REF! -> #REF!
C12: NIT: | D12: =+'Sabana Acta Unica'!#REF! -> #REF!
C16: Capitulo: | D16: =+'Sabana Acta Unica'!A12 -> CAPITULO 2 - COMPOSTAJE | H16: Item: | I16: =+'Sabana Acta Unica'!A28 -> 2.13 | N16: U.M.
C17: Subcapitulo: | D17: =+'Sabana Acta Unica'!A13 -> PRELIMINARES | H17: Descripción: | I17: =+'Sabana Acta Unica'!D28 -> SUMINISTRO E INSTALACIÓN DE CANAL EN LÁMINA GALVANIZADA CALIBRE 23 ANCHO HASTA 0.40M ALTURA HASTA 0.30M . (INCLUYE ANTICORROSIVO PRIMER Y PINTURA). | N17: =+'Sabana Acta Unica'!E28 -> ML
C19: REGISTRO FOTOGRAFICO | E19: No. | F19: DESCRIPCIÓN | G19: DIMENSIONES | M19: No. Elementos | N19: SUBTOTAL
G20: Longitud (m) | H20: Ancho (m) | I20: Altura (m) | J20: Peso (kg/m2) | K20: Area (m²) | L20: Volumen (m3)
F21: Canal desague aguas lluvias Lateral | G21: =+'2 (8)'!H21 -> 10.5 | M21: 2 | N21: =+M21*G21 -> 21
Q25: 1404.54
Q26: 51
Q28: =+Q25/Q26 -> 27.54
Q29: 6
Q31: =+Q28/Q29 -> 4.59
Q33: 4.39
C78: Observaciones: | J78: Total presente acta | N78: =ROUND(SUM(N21:N77),2) -> 21
J79: Cantidad acumulada ejecutada actas anteriores | N79: 0
J80: Total ejecutado | N80: =+N79+N78 -> 21
C85: =+#REF! -> #REF! | F85: =+#REF! -> #REF!
C86: =+#REF! -> #REF! | F86: =+#REF! -> #REF!
F87: =+#REF! -> #REF!

Sheet Resumen Cap 3
B2: Item | C2: Descripcion | D2: Cant
B3: 1 | C3: =+'Sabana Acta Unica'!D30 -> CONCRETO PARA PAVIMENTO RIGIDO 24.5 MPa - (3500 PSI). (INCLUYE CORTE Y SELLO DE JUNTAS). | D3: =+'3 (1)'!N78 -> 7.2
B4: 2 | C4: =+'Sabana Acta Unica'!D31 -> SUMINISTRO, EXTENDIDA Y COMPACTACIÓN DE MATERIAL SELECCIÓNADO PARA SUBBASE GRANULAR (INCLUYE ACARREO LIBRE HASTA 5KM) (**) | D4: =+'3 (2)'!N70 -> 7.2
B5: 3 | C5: =+'Sabana Acta Unica'!D32 -> EXCAVACIÓN MANUAL EN MATERIAL COMÚN | D5: =+'3 (3)'!N78 -> 10.8
B6: 4 | C6: =+'Sabana Acta Unica'!D33 -> SUMINISTRO E INSTALACIÓN DE MALLA ELECTROSOLDADA | D6: =+'3 (4)'!N78 -> 74.16
B7: 5 | C7: =+'Sabana Acta Unica'!D34 -> SUMINISTRO, FIGURADA Y AMARRE DE ACERO DE 420 MPa (60000 PSI) | D7: =+'3 (5)'!N80 -> 114.99

Sheet 3 (1)
C3: MUNICIPIO DE TUTA - BOYACÁ | M3: Fecha presente acta
C4: GESTION TÉCNICA | M4: =+'Sabana Acta Unica'!#REF! -> #REF!
C5: MEMORIAS DE CANTIDADES ACTA UNICA DE PAGO
C9: Contrato de obra No.: | D9: =+'Sabana Acta Unica'!#REF! -> #REF!
C10: Objeto: | D10: =+'Sabana Acta Unica'!#REF! -> #REF!
C11: Contratista: | D11: =+'Sabana Acta Unica'!#REF! -> #REF!
C12: NIT: | D12: =+'Sabana Acta Unica'!#REF! -> #REF!
C16: Capitulo: | D16: =+'Sabana Acta Unica'!A29 -> CAPITULO 3 - PLACA DE DESCARGUE | H16: Item: | I16: =+'Sabana Acta Unica'!A30 -> 3.01 | N16: U.M.
C17: Subcapitulo: | D17: N/A | H17: Descripción: | I17: =+'Sabana Acta Unica'!D30 -> CONCRETO PARA PAVIMENTO RIGIDO 24.5 MPa - (3500 PSI). (INCLUYE CORTE Y SELLO DE JUNTAS). | N17: =+'Sabana Acta Unica'!E30 -> M3
C19: REGISTRO FOTOGRAFICO | E19: No. | F19: DESCRIPCIÓN | G19: DIMENSIONES | M19: No. Elementos | N19: SUBTOTAL
G20: Longitud (m) | H20: Ancho (m) | I20: Altura (m) | J20: Peso (kg/m2) | K20: Area (m²) | L20: Volumen (m3)
F21: Placa descargue volquetas | G21: 6 | H21: 6 | I21: 0.2 | L21: =+G21*H21*I21 -> 7.2 | M21: 1 | N21: =+L21*M21 -> 7.2
Q25: 1404.54
Q26: 51
Q28: =+Q25/Q26 -> 27.54
Q29: 6
Q31: =+Q28/Q29 -> 4.59
Q33: 4.39
C78: Observaciones: | J78: Total presente acta | N78: =ROUND(SUM(N21:N77),2) -> 7.2
J79: Cantidad acumulada ejecutada actas anteriores | N79: 0
J80: Total ejecutado | N80: =+N79+N78 -> 7.2
C85: =+#REF! -> #REF! | F85: =+#REF! -> #REF!
C86: =+#REF! -> #REF! | F86: =+#REF! -> #REF!
F87: =+#REF! -> #REF!

Sheet 3 (2)
C3: MUNICIPIO DE TUTA - BOYACÁ | M3: Fecha presente acta
C4: GESTION TÉCNICA | M4: =+'Sabana Acta Unica'!#REF! -> #REF!
C5: MEMORIAS DE CANTIDADES ACTA UNICA DE PAGO
C9: Contrato de obra No.: | D9: =+'Sabana Acta Unica'!#REF! -> #REF!
C10: Objeto: | D10: =+'Sabana Acta Unica'!#REF! -> #REF!
C11: Contratista: | D11: =+'Sabana Acta Unica'!#REF! -> #REF!
C12: NIT: | D12: =+'Sabana Acta Unica'!#REF! -> #REF!
C16: Capitulo: | D16: =+'Sabana Acta Unica'!A29 -> CAPITULO 3 - PLACA DE DESCARGUE | H16: Item: | I16: =+'Sabana Acta Unica'!A31 -> 3.02 | N16: U.M.
C17: Subcapitulo: | D17: N/A | H17: Descripción: | I17: =+'Sabana Acta Unica'!D31 -> SUMINISTRO, EXTENDIDA Y COMPACTACIÓN DE MATERIAL SELECCIÓNADO PARA SUBBASE GRANULAR (INCLUYE ACARREO LIBRE HASTA 5KM) (**) | N17: =+'Sabana Acta Unica'!E31 -> M3
C19: REGISTRO FOTOGRAFICO | E19: No. | F19: DESCRIPCIÓN | G19: DIMENSIONES | M19: No. Elementos | N19: SUBTOTAL
G20: Longitud (m) | H20: Ancho (m) | I20: Altura (m) | J20: Peso (kg/m2) | K20: Area (m²) | L20: Volumen (m3)
F21: Placa descargue volquetas | G21: =+'3 (1)'!G21 -> 6 | H21: =+'3 (1)'!H21 -> 6 | I21: 0.2 | L21: =+G21*H21*I21 -> 7.2 | M21: 1 | N21: =+L21*M21 -> 7.2
Q25: 1404.54
Q26: 51
Q28: =+Q25/Q26 -> 27.54
Q29: 6
Q31: =+Q28/Q29 -> 4.59
Q33: 4.39
C70: Observaciones: | J70: Total presente acta | N70: =ROUND(SUM(N21:N69),2) -> 7.2
J71: Cantidad acumulada ejecutada actas anteriores | N71: 0
J72: Total ejecutado | N72: =+N71+N70 -> 7.2
C77: =+#REF! -> #REF! | F77: =+#REF! -> #REF!
C78: =+#REF! -> #REF! | F78: =+#REF! -> #REF!
F79: =+#REF! -> #REF!

Sheet 3 (3)
C3: MUNICIPIO DE TUTA - BOYACÁ | M3: Fecha presente acta
C4: GESTION TÉCNICA | M4: =+'Sabana Acta Unica'!#REF! -> #REF!
C5: MEMORIAS DE CANTIDADES ACTA UNICA DE PAGO
C9: Contrato de obra No.: | D9: =+'Sabana Acta Unica'!#REF! -> #REF!
C10: Objeto: | D10: =+'Sabana Acta Unica'!#REF! -> #REF!
C11: Contratista: | D11: =+'Sabana Acta Unica'!#REF! -> #REF!
C12: NIT: | D12: =+'Sabana Acta Unica'!#REF! -> #REF!
C16: Capitulo: | D16: =+'Sabana Acta Unica'!A29 -> CAPITULO 3 - PLACA DE DESCARGUE | H16: Item: | I16: =+'Sabana Acta Unica'!A32 -> 3.03 | N16: U.M.
C17: Subcapitulo: | D17: N/A | H17: Descripción: | I17: =+'Sabana Acta Unica'!D32 -> EXCAVACIÓN MANUAL EN MATERIAL COMÚN | N17: =+'Sabana Acta Unica'!E32 -> M3
C19: REGISTRO FOTOGRAFICO | E19: No. | F19: DESCRIPCIÓN | G19: DIMENSIONES | M19: No. Elementos | N19: SUBTOTAL
G20: Longitud (m) | H20: Ancho (m) | I20: Altura (m) | J20: Peso (kg/m2) | K20: Area (m²) | L20: Volumen (m3)
F21: Placa descargue volquetas | G21: =+'3 (1)'!G21 -> 6 | H21: =+'3 (1)'!H21 -> 6 | I21: 0.3 | L21: =+G21*H21*I21 -> 10.8 | M21: 1 | N21: =+L21*M21 -> 10.8
Q25: 1404.54
Q26: 51
Q28: =+Q25/Q26 -> 27.54
Q29: 6
Q31: =+Q28/Q29 -> 4.59
Q33: 4.39
C78: Observaciones: | J78: Total presente acta | N78: =ROUND(SUM(N21:N77),2) -> 10.8
J79: Cantidad acumulada ejecutada actas anteriores | N79: 0
J80: Total ejecutado | N80: =+N79+N78 -> 10.8
C85: =+#REF! -> #REF! | F85: =+#REF! -> #REF!
C86: =+#REF! -> #REF! | F86: =+#REF! -> #REF!
F87: =+#REF! -> #REF!

Sheet 3 (4)
C3: MUNICIPIO DE TUTA - BOYACÁ | M3: Fecha presente acta
C4: GESTION TÉCNICA | M4: =+'Sabana Acta Unica'!#REF! -> #REF!
C5: MEMORIAS DE CANTIDADES ACTA UNICA DE PAGO
C9: Contrato de obra No.: | D9: =+'Sabana Acta Unica'!#REF! -> #REF!
C10: Objeto: | D10: =+'Sabana Acta Unica'!#REF! -> #REF!
C11: Contratista: | D11: =+'Sabana Acta Unica'!#REF! -> #REF!
C12: NIT: | D12: =+'Sabana Acta Unica'!#REF! -> #REF!
C16: Capitulo: | D16: =+'Sabana Acta Unica'!A29 -> CAPITULO 3 - PLACA DE DESCARGUE | H16: Item: | I16: =+'Sabana Acta Unica'!A33 -> 3.04 | N16: U.M.
C17: Subcapitulo: | D17: N/A | H17: Descripción: | I17: =+'Sabana Acta Unica'!D33 -> SUMINISTRO E INSTALACIÓN DE MALLA ELECTROSOLDADA | N17: =+'Sabana Acta Unica'!E33 -> KG
C19: REGISTRO FOTOGRAFICO | E19: No. | F19: DESCRIPCIÓN | G19: DIMENSIONES | M19: No. Elementos | N19: SUBTOTAL
G20: Longitud (m) | H20: Ancho (m) | I20: Altura (m) | J20: Peso (kg/m2) | K20: Area (m²) | L20: Volumen (m3)
F21: Refuerzo en malla para placa descargue | G21: =+'3 (1)'!G21 -> 6 | H21: =+'3 (1)'!H21 -> 6 | J21: 2.06 | K21: =+G21*H21 -> 36 | M21: 1 | N21: =+K21*M21*J21 -> 74.16
Q25: 1404.54
Q26: 51
Q28: =+Q25/Q26 -> 27.54
Q29: 6
Q31: =+Q28/Q29 -> 4.59
Q33: 4.39
C78: Observaciones: | J78: Total presente acta | N78: =ROUND(SUM(N21:N77),2) -> 74.16
J79: Cantidad acumulada ejecutada actas anteriores | N79: 0
J80: Total ejecutado | N80: =+N79+N78 -> 74.16
C85: =+#REF! -> #REF! | F85: =+#REF! -> #REF!
C86: =+#REF! -> #REF! | F86: =+#REF! -> #REF!
F87: =+#REF! -> #REF!

Sheet 3 (5)
C3: MUNICIPIO DE TUTA - BOYACÁ | M3: Fecha presente acta
C4: GESTION TÉCNICA | M4: =+'Sabana Acta Unica'!#REF! -> #REF!
C5: MEMORIAS DE CANTIDADES ACTA UNICA DE PAGO
C9: Contrato de obra No.: | D9: =+'Sabana Acta Unica'!#REF! -> #REF!
C10: Objeto: | D10: =+'Sabana Acta Unica'!#REF! -> #REF!
C11: Contratista: | D11: =+'Sabana Acta Unica'!#REF! -> #REF!
C12: NIT: | D12: =+'Sabana Acta Unica'!#REF! -> #REF!
C16: Capitulo: | D16: =+'Sabana Acta Unica'!A29 -> CAPITULO 3 - PLACA DE DESCARGUE | H16: Item: | I16: =+'Sabana Acta Unica'!A34 -> 3.05 | N16: U.M.
C17: Subcapitulo: | D17: N/A | H17: Descripción: | I17: =+'Sabana Acta Unica'!D34 -> SUMINISTRO, FIGURADA Y AMARRE DE ACERO DE 420 MPa (60000 PSI) | N17: =+'Sabana Acta Unica'!E34 -> KG
C19: REGISTRO FOTOGRAFICO | E19: No. | F19: DESCRIPCIÓN | G19: DIMENSIONES | M19: No. Elementos | N19: SUBTOTAL
G20: Longitud (m) | H20: Ancho (m) | I20: Altura (m) | J20: Peso (kg/m) | K20: Peso (kg) | L20: Volumen (m3)
F21: Pasadores 7/8" | G21: 0.35 | J21: 3.042 | K21: =+G21*J21 -> 1.0647 | M21: =300*0.36 -> 108 | N21: =+K21*M21 -> 114.9876
Q25: 1404.54
Q26: 51
Q28: =+Q25/Q26 -> 27.54
Q29: 6
Q31: =+Q28/Q29 -> 4.59
Q33: 4.39
C78: Observaciones: | J78: Total presente acta | N78: =ROUND(SUM(N21:N77),2) -> 114.99
J79: Cantidad acumulada ejecutada actas anteriores | N79: 0
J80: Total ejecutado | N80: =+N79+N78 -> 114.99
C85: =+#REF! -> #REF! | F85: =+#REF! -> #REF!
C86: =+#REF! -> #REF! | F86: =+#REF! -> #REF!
F87: =+#REF! -> #REF!

Sheet Resumen Cap 4
B2: Item | C2: Descripcion | D2: Cant
B3: 1 | C3: =+'Sabana Acta Unica'!D36 -> SUMINISTRO E INSTALACIÓN PERFILERIA METALICA PARA ESTRUCTURA DE CUBIERTA DE EDIFICACIONES. DIMENSIONES Y CALIBRES SEGÚN DISEÑO | D3: =+'4 (1)'!N78 -> 519.78
B4: 2 | C4: =+'Sabana Acta Unica'!D37 -> SUMINISTRO E INTALACION CUBIERTA ARQUITECTONICA METALICA TIPO ACESCO O SIMILAR DE 0.73 M. X 3.00 M | D4: =+'4 (2)'!N80 -> 89.04
B5: 3 | C5: SUMINISTRO E INSTALACIÓN DE TUBERÍA PVC D = 4" PARA DRENAJE SIN FILTRO | D5: =+'4 (3)'!N78 -> 15

Sheet 4 (1)
C3: MUNICIPIO DE TUTA - BOYACÁ | M3: Fecha presente acta
C4: GESTION TÉCNICA | M4: =+'Sabana Acta Unica'!#REF! -> #REF!
C5: MEMORIAS DE CANTIDADES ACTA UNICA DE PAGO
C9: Contrato de obra No.: | D9: =+'Sabana Acta Unica'!#REF! -> #REF!
C10: Objeto: | D10: =+'Sabana Acta Unica'!#REF! -> #REF!
C11: Contratista: | D11: =+'Sabana Acta Unica'!#REF! -> #REF!
C12: NIT: | D12: =+'Sabana Acta Unica'!#REF! -> #REF!
C16: Capitulo: | D16: =+'Sabana Acta Unica'!A35 -> CAPITULO 4 - CUBIERTA VERMICOMPOSTAJE | H16: Item: | I16: =+'Sabana Acta Unica'!A36 -> 4.01 | N16: U.M.
C17: Subcapitulo: | D17: N/A | H17: Descripción: | I17: =+'Sabana Acta Unica'!D36 -> SUMINISTRO E INSTALACIÓN PERFILERIA METALICA PARA ESTRUCTURA DE CUBIERTA DE EDIFICACIONES. DIMENSIONES Y CALIBRES SEGÚN DISEÑO | N17: =+'Sabana Acta Unica'!E36 -> KG
C19: REGISTRO FOTOGRAFICO | E19: No. | F19: DESCRIPCIÓN | G19: DIMENSIONES | M19: No. Elementos | N19: SUBTOTAL
G20: Longitud (m) | H20: Ancho (m) | I20: Altura (m) | J20: Peso (kg/m) | K20: Area (m²) | L20: Peso (kg)
F21: Perfil Tubular 80 x 40 x 2.5 mm
F22: Perfiles Cerchas | G22: =+'4 (2)'!H21 -> 4.2 | J22: 4.39 | L22: =+G22*J22 -> 18.438 | M22: 8 | N22: =+L22*M22 -> 147.504
F23: Perfiles Correas | G23: =+'4 (2)'!G21 -> 21.2 | J23: =+J22 -> 4.39 | L23: =+G23*J23 -> 93.068 | M23: 4 | N23: =+L23*M23 -> 372.272
Q25: 1404.54
Q26: 51
Q28: =+Q25/Q26 -> 27.54
Q29: 6
Q31: =+Q28/Q29 -> 4.59
Q33: 4.39
C78: Observaciones: | J78: Total presente acta | N78: =ROUND(SUM(N21:N77),2) -> 519.78
J79: Cantidad acumulada ejecutada actas anteriores | N79: 0
J80: Total ejecutado | N80: =+N79+N78 -> 519.78
C85: =+#REF! -> #REF! | F85: =+#REF! -> #REF!
C86: =+#REF! -> #REF! | F86: =+#REF! -> #REF!
F87: =+#REF! -> #REF!

Sheet 4 (2)
C3: MUNICIPIO DE TUTA - BOYACÁ | M3: Fecha presente acta
C4: GESTION TÉCNICA | M4: =+'Sabana Acta Unica'!#REF! -> #REF!
C5: MEMORIAS DE CANTIDADES ACTA UNICA DE PAGO
C9: Contrato de obra No.: | D9: =+'Sabana Acta Unica'!#REF! -> #REF!
C10: Objeto: | D10: =+'Sabana Acta Unica'!#REF! -> #REF!
C11: Contratista: | D11: =+'Sabana Acta Unica'!#REF! -> #REF!
C12: NIT: | D12: =+'Sabana Acta Unica'!#REF! -> #REF!
C16: Capitulo: | D16: =+'Sabana Acta Unica'!A35 -> CAPITULO 4 - CUBIERTA VERMICOMPOSTAJE | H16: Item: | I16: =+'Sabana Acta Unica'!A37 -> 4.02 | N16: U.M.
C17: Subcapitulo: | D17: N/A | H17: Descripción: | I17: =+'Sabana Acta Unica'!D37 -> SUMINISTRO E INTALACION CUBIERTA ARQUITECTONICA METALICA TIPO ACESCO O SIMILAR DE 0.73 M. X 3.00 M | N17: =+'Sabana Acta Unica'!E37 -> M2
C19: REGISTRO FOTOGRAFICO | E19: No. | F19: DESCRIPCIÓN | G19: DIMENSIONES | M19: No. Elementos | N19: SUBTOTAL
G20: Longitud (m) | H20: Ancho (m) | I20: Altura (m) | J20: Peso (kg/m2) | K20: Area (m²) | L20: Volumen (m3)
F21: Area de Teja | G21: =20+1.2 -> 21.2 | H21: =3+1.2 -> 4.2 | K21: =+G21*H21 -> 89.04 | M21: 1 | N21: =+K21*M21 -> 89.04
Q25: 1404.54
Q26: 51
Q28: =+Q25/Q26 -> 27.54
Q29: 6
Q31: =+Q28/Q29 -> 4.59
Q33: 4.39
C78: Observaciones: | J78: Total presente acta | N78: =ROUND(SUM(N21:N77),2) -> 89.04
J79: Cantidad acumulada ejecutada actas anteriores | N79: 0
J80: Total ejecutado | N80: =+N79+N78 -> 89.04
C85: =+#REF! -> #REF! | F85: =+#REF! -> #REF!
C86: =+#REF! -> #REF! | F86: =+#REF! -> #REF!
F87: =+#REF! -> #REF!

Sheet 4 (3)
C3: MUNICIPIO DE TUTA - BOYACÁ | M3: Fecha presente acta
C4: GESTION TÉCNICA | M4: =+'Sabana Acta Unica'!#REF! -> #REF!
C5: MEMORIAS DE CANTIDADES ACTA UNICA DE PAGO
C9: Contrato de obra No.: | D9: =+'Sabana Acta Unica'!#REF! -> #REF!
C10: Objeto: | D10: =+'Sabana Acta Unica'!#REF! -> #REF!
C11: Contratista: | D11: =+'Sabana Acta Unica'!#REF! -> #REF!
C12: NIT: | D12: =+'Sabana Acta Unica'!#REF! -> #REF!
C16: Capitulo: | D16: =+'Sabana Acta Unica'!A35 -> CAPITULO 4 - CUBIERTA VERMICOMPOSTAJE | H16: Item: | I16: =+'Sabana Acta Unica'!A38 -> 4.03 | N16: U.M.
C17: Subcapitulo: | D17: N/A | H17: Descripción: | I17: =+'Sabana Acta Unica'!D38 -> SUMINISTRO E INSTALACIÓN DE TUBERÍA PVC D = 4" PARA DRENAJE SIN FILTRO | N17: =+'Sabana Acta Unica'!E38 -> ML
C19: REGISTRO FOTOGRAFICO | E19: No. | F19: DESCRIPCIÓN | G19: DIMENSIONES | M19: No. Elementos | N19: SUBTOTAL
G20: Longitud (m) | H20: Ancho (m) | I20: Altura (m) | J20: Peso (kg/m2) | K20: Area (m²) | L20: Volumen (m3)
F21: Tuberia Drenaje de Agua Lluvia Canal | G21: 15 | M21: 1 | N21: =+G21*M21 -> 15
Q25: 1404.54
Q26: 51
Q28: =+Q25/Q26 -> 27.54
Q29: 6
Q31: =+Q28/Q29 -> 4.59
Q33: 4.39
C78: Observaciones: | J78: Total presente acta | N78: =ROUND(SUM(N21:N77),2) -> 15
J79: Cantidad acumulada ejecutada actas anteriores | N79: 0
J80: Total ejecutado | N80: =+N79+N78 -> 15
C85: =+#REF! -> #REF! | F85: =+#REF! -> #REF!
C86: =+#REF! -> #REF! | F86: =+#REF! -> #REF!
F87: =+#REF! -> #REF!

Sheet Resumen Cap 5
B2: Item | C2: Descripcion | D2: Cant
B3: 1 | C3: =+'Sabana Acta Unica'!D40 -> EXCAVACIÓN MANUAL EN MATERIAL COMÚN | D3: =+'5 (1)'!N80 -> 2.05
B4: 2 | C4: =+'Sabana Acta Unica'!D41 -> CONCRETO PARA VIGA DE AMARRE 21 MPa (3000 PSI) SECCION RECTANGULAR | D4: =+'5 (2)'!N78 -> 1.08
B5: 3 | C5: =+'Sabana Acta Unica'!D42 -> COLUMNAS Y PEDESTALES EN CONCRETO DE 21 MPa - (3000 PSI), H < 3.00 M. (FORMALETA MADERA) | D5: =+'5 (3)'!N80 -> 1.08
B6: 4 | C6: =+'Sabana Acta Unica'!D43 -> SUMINISTRO, FIGURADA Y AMARRE DE ACERO DE 420 MPa (60000 PSI) | D6: =+'5 (4)'!N76 -> 148.45
B7: 5 | C7: =+'Sabana Acta Unica'!D44 -> CONCRETO PARA ZAPATAS DE 21 MPa (3000 PSI) + FORMALETA MADERA | D7: =+'5 (5)'!N78 -> 0.97
B8: 6 | C8: =+'Sabana Acta Unica'!D45 -> CERRAMIENTO EN MALLA ESLABONADA CAL 10 (INCLUYE TUBO AGUA NEGRA DE 2" Y ANGULO 1" X 1" X 1/8") | D8: =+'5 (6)'!N80 -> 30

Sheet 5 (1)
C3: MUNICIPIO DE TUTA - BOYACÁ | M3: Fecha presente acta
C4: GESTION TÉCNICA | M4: =+'Sabana Acta Unica'!#REF! -> #REF!
C5: MEMORIAS DE CANTIDADES ACTA UNICA DE PAGO
C9: Contrato de obra No.: | D9: =+'Sabana Acta Unica'!#REF! -> #REF!
C10: Objeto: | D10: =+'Sabana Acta Unica'!#REF! -> #REF!
C11: Contratista: | D11: =+'Sabana Acta Unica'!#REF! -> #REF!
C12: NIT: | D12: =+'Sabana Acta Unica'!#REF! -> #REF!
C16: Capitulo: | D16: =+'Sabana Acta Unica'!A39 -> CAPITULO 5 - INSTALACIÓN DE PORTONES | H16: Item: | I16: =+'Sabana Acta Unica'!A40 -> 5.01 | N16: U.M.
C17: Subcapitulo: | D17: N/A | H17: Descripción: | I17: =+'Sabana Acta Unica'!D40 -> EXCAVACIÓN MANUAL EN MATERIAL COMÚN | N17: =+'Sabana Acta Unica'!E40 -> M3
C19: REGISTRO FOTOGRAFICO | E19: No. | F19: DESCRIPCIÓN | G19: DIMENSIONES | M19: No. Elementos | N19: SUBTOTAL
G20: Longitud (m) | H20: Ancho (m) | I20: Altura (m) | J20: Peso (kg/m) | K20: Area (m²) | L20: Volumen (m3)
F21: Excavacion de Zapatas | G21: =+'5 (5)'!G21 -> 0.9 | H21: =+'5 (5)'!H21 -> 0.9 | I21: =+'5 (5)'!I21 -> 0.3 | L21: =+G21*H21*I21 -> 0.243 | M21: 4 | N21: =+L21*M21 -> 0.972
F22: Excavación para vigas costado inferior | G22: =+'5 (2)'!G21 -> 6 | H22: =+'5 (2)'!H21 -> 0.3 | I22: =+'5 (2)'!I21 -> 0.3 | L22: =+G22*H22*I22 -> 0.54 | M22: 1 | N22: =+L22*M22 -> 0.54
F23: Excavación para vigas costado superior | G23: =+'5 (2)'!G22 -> 6 | H23: =+'5 (2)'!H22 -> 0.3 | I23: =+'5 (2)'!I22 -> 0.3 | L23: =+G23*H23*I23 -> 0.54 | M23: 1 | N23: =+L23*M23 -> 0.54
Q25: 1404.54
Q26: 51
Q28: =+Q25/Q26 -> 27.54
Q29: 6
Q31: =+Q28/Q29 -> 4.59
Q33: 4.39
C78: Observaciones: | J78: Total presente acta | N78: =ROUND(SUM(N21:N77),2) -> 2.05
J79: Cantidad acumulada ejecutada actas anteriores | N79: 0
J80: Total ejecutado | N80: =+N79+N78 -> 2.05
C85: =+#REF! -> #REF! | F85: =+#REF! -> #REF!
C86: =+#REF! -> #REF! | F86: =+#REF! -> #REF!
F87: =+#REF! -> #REF!

Sheet 5 (2)
C3: MUNICIPIO DE TUTA - BOYACÁ | M3: Fecha presente acta
C4: GESTION TÉCNICA | M4: =+'Sabana Acta Unica'!#REF! -> #REF!
C5: MEMORIAS DE CANTIDADES ACTA UNICA DE PAGO
C9: Contrato de obra No.: | D9: =+'Sabana Acta Unica'!#REF! -> #REF!
C10: Objeto: | D10: =+'Sabana Acta Unica'!#REF! -> #REF!
C11: Contratista: | D11: =+'Sabana Acta Unica'!#REF! -> #REF!
C12: NIT: | D12: =+'Sabana Acta Unica'!#REF! -> #REF!
C16: Capitulo: | D16: =+'Sabana Acta Unica'!A39 -> CAPITULO 5 - INSTALACIÓN DE PORTONES | H16: Item: | I16: =+'Sabana Acta Unica'!A41 -> 5.02 | N16: U.M.
C17: Subcapitulo: | D17: N/A | H17: Descripción: | I17: =+'Sabana Acta Unica'!D41 -> CONCRETO PARA VIGA DE AMARRE 21 MPa (3000 PSI) SECCION RECTANGULAR | N17: =+'Sabana Acta Unica'!E41 -> M3
C19: REGISTRO FOTOGRAFICO | E19: No. | F19: DESCRIPCIÓN | G19: DIMENSIONES | M19: No. Elementos | N19: SUBTOTAL
G20: Longitud (m) | H20: Ancho (m) | I20: Altura (m) | J20: Peso (kg/m) | K20: Area (m²) | L20: Volumen (m3)
F21: Viga porton costado inferior | G21: =+'5 (6)'!G21 -> 6 | H21: 0.3 | I21: 0.3 | L21: =+G21*H21*I21 -> 0.54 | M21: 1 | N21: =+L21*M21 -> 0.54
F22: Viga porton costado superior | G22: =+'5 (6)'!G22 -> 6 | H22: 0.3 | I22: 0.3 | L22: =+G22*H22*I22 -> 0.54 | M22: 1 | N22: =+L22*M22 -> 0.54
Q25: 1404.54
Q26: 51
Q28: =+Q25/Q26 -> 27.54
Q29: 6
Q31: =+Q28/Q29 -> 4.59
Q33: 4.39
C78: Observaciones: | J78: Total presente acta | N78: =ROUND(SUM(N21:N77),2) -> 1.08
J79: Cantidad acumulada ejecutada actas anteriores | N79: 0
J80: Total ejecutado | N80: =+N79+N78 -> 1.08
C85: =+#REF! -> #REF! | F85: =+#REF! -> #REF!
C86: =+#REF! -> #REF! | F86: =+#REF! -> #REF!
F87: =+#REF! -> #REF!

