Workbook

Sheet H1
B7: PROYECTO: ADECUACIÓN Y MEJORAMIENTO DEL PARQUE DEL CAFE, CORREGIMIENTO DE SAN JOSE ORIENTE, MUNICIPIO DE LA PAZ, CESAR
B8: ALCALDIA MUNICIPAL DE LA PAZ - CESAR
B9: SECRETARIA DE PLANEACION Y DESARROLLO TERRIRORIAL
A21: CRONOGRAMA DE ACTIVIDADES

Sheet CRONOGRAMA
B1: =+'H1'!B7:E7 -> PROYECTO: ADECUACIÓN Y MEJORAMIENTO DEL PARQUE DEL CAFE, CORREGIMIENTO DE SAN JOSE ORIENTE, MUNICIPIO DE LA PAZ, CESAR
B2: ALCALDIA MUNICIPAL DE LA PAZ - CESAR
B3: SECRETARIA DE PLANEACION Y DESARROLLO TERRIRORIAL
B4: CONTIENE: CRONOGRAMA DE ACTIVIDADES
A6: ITEM | B6: DESCRIPCION | C6: VR. TOTAL | D6: PERIODO DE TIEMPO
D7: SEMANA 1 | E7: SEMANA 2 | F7: SEMANA 3 | G7: SEMANA 4 | H7: SEMANA 5 | I7: SEMANA 6 | J7: SEMANA 7 | K7: SEMANA 8 | L7: SEMANA 9 | M7: SEMANA 10 | N7: SEMANA 11 | O7: SEMANA 12 | P7: SEMANA 13 | Q7: SEMANA 14 | R7: SEMANA 15 | S7: SEMANA 16
A8: item | B8: DESCRIPCION DE OBJETO | C8: Valor Total
A9: ETAPA PRECONTRACTUAL
A10: =PRESUPUESTO!A7 -> 1.1 | B10: =PRESUPUESTO!B7 -> ACABADO SUPERFICIAL DE CANCHA DEPORTIVA CON PINTURA ACRÍLICA TEXTURIZADA PARA TRÁFICO PESADO. INCLUYE PREPARACIÓN DE LA SUPERFICIE, APLICACIÓN DE IMPRIMANTE, DOS MANOS DE PINTURA DE ACABADO, DEMARCACIÓN REGLAMENTARIA, MANO DE OBRA, EQUIPOS, HERRAMIENTAS Y LIMPIEZA FINAL. | C10: =PRESUPUESTO!F7+(PRESUPUESTO!F7*30%) -> 23243096
A11: =PRESUPUESTO!A8 -> 1.2 | B11: =PRESUPUESTO!B8 -> APLICACIÓN PINTURA VINILO 3 MANOS, PINTURA TIPO 1 EN SOBRE MUROS | C11: =PRESUPUESTO!F8+(PRESUPUESTO!F8*30%) -> 34145950
A12: =PRESUPUESTO!A10 -> 2.1 | B12: =PRESUPUESTO!B10 -> MANTENIMIENTO Y ARREGLO LOCATIVO DE BATERIAS SANITARIAS. INCLUYE ZONDEO Y DESTAPONAMIENTO DE TUBERIA SANITARIA | C12: =PRESUPUESTO!F10+(PRESUPUESTO!F10*30%) -> 8858778.3
A13: =PRESUPUESTO!A12 -> 3.1 | B13: =PRESUPUESTO!B12 -> SUMINISTRO, TRANSPORTE E INSTALACIÓN DE PARQUE INFANTIL, INCLUYE: 1 RODADERO DOBLE, 1 TOBOGÁN, 1 SILLA DE DESCANSO, 1 BARRA DE EQUILIBRIO, ESCALERAS, TABLEROS Y FIGURAS DECORATIVAS. (VER IMAGEN DE REFERENCIA EN LA ESPECIFICACIÓN TENCNICA) | C13: =PRESUPUESTO!F12+(PRESUPUESTO!F12*30%) -> 29829029
B14: CIERRE
A16: TOTAL | C16: =SUM(C10:C14) -> 96076853
B18: Elaboró:
P20: =16/4 -> 4
B22: LEONARDO IVÁN OÑATE LÓPEZ
B23: INGENIERO CIVIL
B24: M.P 20202-36795656 CES
B25: C.C 1.067.815.106
D49: EQUI | E49: TRANS
D50: 5 | E50: 5 | F50: =SUM(D50:E50) -> 10
D51: =#REF!*D50% -> #REF! | E51: =#REF!*E50% -> #REF!
D52: =D51*30%+D51 -> #REF! | E52: =E51*30%+E51 -> #REF!
D54: EQUI | E54: TRANS
D55: 5 | E55: 5 | F55: =SUM(D55:E55) -> 10
D56: =#REF!*D55% -> #REF! | E56: =#REF!*E55% -> #REF!
D57: =D56*30%+D56 -> #REF! | E57: =E56*30%+E56 -> #REF!
D59: EQUI | E59: TRANS
D60: 5 | E60: 5 | F60: =SUM(D60:E60) -> 10
D61: =#REF!*D60% -> #REF! | E61: =#REF!*E60% -> #REF!
D62: =D61*30%+D61 -> #REF! | E62: =E61*30%+E61 -> #REF!
D64: EQUI | E64: TRANS
D65: 5 | E65: 5 | F65: =SUM(D65:E65) -> 10
D66: =#REF!*D65% -> #REF! | E66: =#REF!*E65% -> #REF!
D67: =D66*30%+D66 -> #REF! | E67: =E66*30%+E66 -> #REF!

Sheet H6
B7: =CRONOGRAMA!B1 -> PROYECTO: ADECUACIÓN Y MEJORAMIENTO DEL PARQUE DEL CAFE, CORREGIMIENTO DE SAN JOSE ORIENTE, MUNICIPIO DE LA PAZ, CESAR
B8: ALCALDIA MUNICIPAL DE LA PAZ - CESAR
B9: SECRETARIA DE PLANEACION Y DESARROLLO TERRIRORIAL
A17: CALCULO DE AIU

Sheet AIU
C1: =CRONOGRAMA!B1 -> PROYECTO: ADECUACIÓN Y MEJORAMIENTO DEL PARQUE DEL CAFE, CORREGIMIENTO DE SAN JOSE ORIENTE, MUNICIPIO DE LA PAZ, CESAR
C2: ALCALDIA MUNICIPAL DE LA PAZ, DEPARTAMENTO DEL CESAR
C3: CONTIENE: CALCULO DE AIU
A6: VALOR COSTOS DIRECTOS | C6: =PRESUPUESTO!F14 -> 73905271
A7: TIEMPO DE EJECUCION FISICA DE LA OBRA | C7: 2 MESES
A8: TIEMPO DE EJECUCION FINANCIERA DE LA OBRA DE LA OBRA | C8: 2 MESES
A9: AIU CALCULADO | C9: =G37 -> 22171582
A12: ITEM | B12: DESCRIPCION | C12: UNIDAD | D12: CANTIDAD | E12: % DE PARTICIPACIÓN | F12: VALOR UNITARIO ($) | G12: FACTOR % PRESTACIONAL | H12: VALOR CON PRESTACIONES ($) | I12: MESES | J12: VALOR TOTAL ($)
A13: 1. PERSONAL DE OBRA (incluye prestaciones sociales) SE CONTEMPLAN
A14: 1.1 | B14: Inspector de Obra | C14: mes | D14: 1 | E14: 60 | F14: 2600000 | G14: 0.71102 | H14: =F14*G14 -> 1848652 | I14: 2 | J14: =I14*(F14+H14)*E14% -> 5338382.4
A15: 1. TOTAL PERSONAL DE OBRA | J15: =SUM(J14:J14) -> 5338382.4
B17: 2. OFICINA, PAPELERIA Y OTROS
A18: 2.1 | B18: Papeleria, impresiones | C18: mes | D18: 1 | F18: 278418.22 | I18: 1 | J18: =F18*I18*D18 -> 278418.22
A19: 2. TOTAL OFICINA, PAPELERIA Y OTROS | J19: =SUM(J18:J18) -> 278418.22
A21: 3. OTROS - GASTOS GENERALES
A23: 3. TOTAL OTROS - GASTOS GENERALES: | J23: =SUM(J22:J22) -> 0
A25: 4. COSTOS DE LEGALIZACION DEL CONTRATO
A26: 4.1 | B26: Pólizas | C26: un | D26: 1 | E26: 0.9 | F26: =C6*E26/100 -> 665147.44 | J26: =+D26*F26 -> 665147.44
A27: 4.2 | B27: Impuestos municipales | C27: un | D27: 1 | E27: 17.5 | F27: =C6*E27/100 -> 12933422 | J27: =+F27 -> 12933422
A28: 4. TOTAL COSTOS DE LEGALIZACION DEL CONTRATO: | J28: =SUM(J26:J27) -> 13598570
B31: TOTAL ADMINISTRACION | F31: 0.26 | G31: =J28+J23+J19+J15 -> 19215371
B33: IMPREVISTOS | F33: 0.01 | G33: =ROUND((F33*C6),0) -> 739053
B35: UTILIDAD | F35: 0.03 | G35: =ROUND((F35*C6),0) -> 2217158
B37: TOTAL AIU | F37: =F31+F33+F35 -> 0.3 | G37: =+G31+G33+G35 -> 22171582
B40: Elaboró:
B44: LEONARDO IVÁN OÑATE LÓPEZ
B45: INGENIERO CIVIL
B46: M.P 20202-36795656 CES
B47: C.C 1.067.815.106

Sheet PRESUPUESTO
B1: =CRONOGRAMA!B1 -> PROYECTO: ADECUACIÓN Y MEJORAMIENTO DEL PARQUE DEL CAFE, CORREGIMIENTO DE SAN JOSE ORIENTE, MUNICIPIO DE LA PAZ, CESAR
B2: ALCALDIA MUNICIPAL DE LA PAZ, DEPARTAMENTO DEL CESAR
B3: CONTIENE: PRESUPUESTO OFICIAL
A5: ITEM | B5: DESCRIPCION | C5: UNIDAD | D5: CANTIDAD | E5: VALOR UNITARIO | F5: VALOR PARCIAL | S5: 20 | T5: 35 | U5: 17 | V5: 15 | W5: 13 | Z5: =SUM(S5:Y5) -> 100
A6: 1 | B6: ACABADOS Y ARREGLOS LOCATIVOS | P6: =+F7+F8 -> 44145419 | Q6: =P6*30% -> 13243626 | R6: =+Q6+P6 -> 57389045 | S6: =R6*20% -> 11477809 | T6: =R6*35% -> 20086166 | U6: =R6*17% -> 9756137.7 | V6: =R6*15% -> 8608356.8 | W6: =R6*13% -> 7460575.9 | Z6: =+W6+V6+U6+T6+S6 -> 57389045
A7: 1.1 | B7: ACABADO SUPERFICIAL DE CANCHA DEPORTIVA CON PINTURA ACRÍLICA TEXTURIZADA PARA TRÁFICO PESADO. INCLUYE PREPARACIÓN DE LA SUPERFICIE, APLICACIÓN DE IMPRIMANTE, DOS MANOS DE PINTURA DE ACABADO, DEMARCACIÓN REGLAMENTARIA, MANO DE OBRA, EQUIPOS, HERRAMIENTAS Y LIMPIEZA FINAL. | C7: M2 | D7: =28*18 -> 504 | E7: ='APU (PARQUE)'!F10 -> 35474.81 | F7: =E7*D7 -> 17879304
A8: 1.2 | B8: APLICACIÓN PINTURA VINILO 3 MANOS, PINTURA TIPO 1 EN SOBRE MUROS | C8: M2 | D8: 820 | E8: ='APU (PARQUE)'!F19 -> 32031.848 | F8: =E8*D8 -> 26266115
A9: 2 | B9: BAÑOS
A10: 2.1 | B10: MANTENIMIENTO Y ARREGLO LOCATIVO DE BATERIAS SANITARIAS. INCLUYE ZONDEO Y DESTAPONAMIENTO DE TUBERIA SANITARIA | C10: UND | D10: 1 | E10: ='APU (PARQUE)'!F33 -> 6814444.8 | F10: =E10*D10 -> 6814444.8 | P10: =+F10 -> 6814444.8 | Q10: =P10*30% -> 2044333.5 | R10: =+Q10+P10 -> 8858778.3 | S10: =R10*20% -> 1771755.7 | T10: =R10*35% -> 3100572.4 | U10: =R10*17% -> 1505992.3 | V10: =R10*15% -> 1328816.7 | W10: =R10*13% -> 1151641.2 | Z10: =+W10+V10+U10+T10+S10 -> 8858778.3
A11: 3 | B11: PARQUE INFANTIL
A12: 3.1 | B12: SUMINISTRO, TRANSPORTE E INSTALACIÓN DE PARQUE INFANTIL, INCLUYE: 1 RODADERO DOBLE, 1 TOBOGÁN, 1 SILLA DE DESCANSO, 1 BARRA DE EQUILIBRIO, ESCALERAS, TABLEROS Y FIGURAS DECORATIVAS. (VER IMAGEN DE REFERENCIA EN LA ESPECIFICACIÓN TENCNICA) | C12: UND | D12: 1 | E12: ='APU (PARQUE)'!F46 -> 22945407 | F12: =D12*E12 -> 22945407 | P12: =+F12 -> 22945407 | Q12: =P12*30% -> 6883622.1 | R12: =+Q12+P12 -> 29829029 | S12: =R12*20% -> 5965805.8 | T12: =R12*35% -> 10440160 | U12: =R12*17% -> 5070934.9 | V12: =R12*15% -> 4474354.4 | W12: =R12*13% -> 3877773.8 | Z12: =+W12+V12+U12+T12+S12 -> 29829029
C14: COSTO DIRECTO | F14: =F7+F8+F10+F12 -> 73905271
C15: ADMINISTRACION | E15: 0.26 | F15: =(F14*E15) -> 19215371
C16: IMPREVISTOS | E16: 0.01 | F16: =(F14*E16) -> 739052.71
C17: UTILIDAD | E17: 0.03 | F17: =(F14*E17) -> 2217158.1
C18: TOTAL AIU | E18: =SUM(E15:E17) -> 0.3 | F18: =((F15+F16+F17)) -> 22171581
C19: TOTAL PROYECTO | F19: =ROUND((F18+F14),0) -> 96076853 | R19: =+R12+R10+R6 -> 96076853
B21: Elaboró: | F21: 96076853
F22: =F19-F21 -> 0.40000001
B23: LEONARDO IVÁN OÑATE LÓPEZ
B24: INGENIERO CIVIL
B25: M.P 20202-36795656 CES

Sheet H4
B7: =AIU!C1 -> PROYECTO: ADECUACIÓN Y MEJORAMIENTO DEL PARQUE DEL CAFE, CORREGIMIENTO DE SAN JOSE ORIENTE, MUNICIPIO DE LA PAZ, CESAR
B8: ALCALDIA MUNICIPAL DE LA PAZ - CESAR
B9: SECRETARIA DE PLANEACION Y DESARROLLO TERRIRORIAL
A19: ANALISIS DE PRECIOS UNITARIOS - JULIO 2026

Sheet APU (PARQUE)
B1: =PRESUPUESTO!B1 -> PROYECTO: ADECUACIÓN Y MEJORAMIENTO DEL PARQUE DEL CAFE, CORREGIMIENTO DE SAN JOSE ORIENTE, MUNICIPIO DE LA PAZ, CESAR
B2: ALCALDIA MUNICIPAL DE LA PAZ, DEPARTAMENTO DEL CESAR
B3: CONTIENE: ANALISIS DE PRECIOS UNITARIOS
A5: SECRETARIA DE PLANEACION Y DESARROLLO Y TERRITORIAL | D5: ANÁLISIS DE PRECIOS UNITARIOS
D7: JULIO | F7: 2026
A9: PROYECTO: | B9: =B1 -> PROYECTO: ADECUACIÓN Y MEJORAMIENTO DEL PARQUE DEL CAFE, CORREGIMIENTO DE SAN JOSE ORIENTE, MUNICIPIO DE LA PAZ, CESAR
A10: =PRESUPUESTO!A7 -> 1.1 | B10: =PRESUPUESTO!B7 -> ACABADO SUPERFICIAL DE CANCHA DEPORTIVA CON PINTURA ACRÍLICA TEXTURIZADA PARA TRÁFICO PESADO. INCLUYE PREPARACIÓN DE LA SUPERFICIE, APLICACIÓN DE IMPRIMANTE, DOS MANOS DE PINTURA DE ACABADO, DEMARCACIÓN REGLAMENTARIA, MANO DE OBRA, EQUIPOS, HERRAMIENTAS Y LIMPIEZA FINAL. | C10: M2 | D10: CANTIDAD | E10: VALOR UNITARIO | F10: =SUM(F11:F17) -> 35474.81
B11: Pintura acrílica de alto trafico texturizada y materiales complementarios | C11: m2 | D11: 1 | E11: 22000 | F11: =+E11*D11 -> 22000
B12: Compresor (barrido y soplado) | C12: HR | D12: 0.05 | E12: 31610 | F12: =+E12*D12 -> 1580.5
B13: ADITIVOS PARA PINTURAS (THINNER) | C13: GL/M2 | D13: 0.1 | E13: 21000 | F13: =+E13*D13 -> 2100
B14: CINTA DE ENMASCARAR | C14: HR | D14: 1 | E14: 30 | F14: =+E14*D14 -> 30
B15: Herramientas menores | C15: HR | D15: 0.3 | E15: 5000 | F15: =+E15*D15 -> 1500
B16: cuadrilla d-d | C16: HH | D16: 0.1 | E16: ='MANO DE OBRA'!G78 -> 77143.105 | F16: =+E16*D16 -> 7714.3105
B17: transporte | C17: m3-km | D17: 0.5 | E17: 1100 | F17: =+E17*D17 -> 550
A19: 1.2 | B19: =PRESUPUESTO!B8 -> APLICACIÓN PINTURA VINILO 3 MANOS, PINTURA TIPO 1 EN SOBRE MUROS | C19: M2 | D19: CANTIDAD | E19: VALOR UNITARIO | F19: =SUM(F20:F31) -> 32031.848
B20: PINTURA VINILO TIPO 1 | C20: GAL | D20: 0.06 | E20: 88900 | F20: =+E20*D20 -> 5334
B21: Compresor (barrido y soplado) | C21: HR | D21: 0.05 | E21: 31610 | F21: =+E21*D21 -> 1580.5
B22: RODILLO DE FELPA 9" | C22: UN | D22: 0.008 | E22: 10492 | F22: =+E22*D22 -> 83.936
B23: RODILLO DE ESPUMA 9" | C23: UN | D23: 0.004 | E23: 7300 | F23: =+E23*D23 -> 29.2
B24: BROCHA CHINA 2 1/2 | C24: UN | D24: 0.004 | E24: 8428 | F24: =+E24*D24 -> 33.712
B25: CINTA ENMASCARAR 24MM X 40 M | C25: UN | D25: 0.02 | E25: 6530 | F25: =+E25*D25 -> 130.6
B26: LIJA AGUA FANDELI N° 150 | C26: UN | D26: 0.12 | E26: 1094 | F26: =+E26*D26 -> 131.28
B27: DESPERDICIO | C27: % | D27: 0.05 | E27: 5742.73 | F27: =+E27*D27 -> 287.1365
B28: ANDAMIO TUBULAR | C28: d | D28: 0.5 | E28: 1500 | F28: =+E28*D28 -> 750
B29: Herramientas menores | C29: d | D29: 0.3 | E29: 4000 | F29: =+E29*D29 -> 1200
B30: cuadrilla d-d | C30: HH | D30: 0.22 | E30: ='MANO DE OBRA'!G78 -> 77143.105 | F30: =+E30*D30 -> 16971.483
B31: transporte | C31: m3-km | D31: 5 | E31: 1100 | F31: =+E31*D31 -> 5500
A33: =PRESUPUESTO!A10 -> 2.1 | B33: =PRESUPUESTO!B10 -> MANTENIMIENTO Y ARREGLO LOCATIVO DE BATERIAS SANITARIAS. INCLUYE ZONDEO Y DESTAPONAMIENTO DE TUBERIA SANITARIA | C33: UND | D33: CANTIDAD | E33: VALOR UNITARIO | F33: =SUM(F34:F44) -> 6814444.8
B34: Arreglo de puertas metalicas. INCLUYE PINTURA | C34: und | D34: 4 | E34: 110000 | F34: =+E34*D34 -> 440000
B35: Arreglo de griferia | C35: und | D35: 12 | E35: 37000 | F35: =+E35*D35 -> 444000
B36: Enchape ceramico. Incluye pegante y boquilla | C36: m2 | D36: 37 | E36: 65000 | F36: =+E36*D36 -> 2405000
B37: Arreglo de puntos sanitarios | C37: und | D37: 14 | E37: 33000 | F37: =+E37*D37 -> 462000
B38: Bombillo led 10w | C38: und | D38: 12 | E38: 9800 | F38: =+E38*D38 -> 117600
B39: Sika-1 Aditivo Impermeabilizante Para Morteros 20 Kg | C39: und | D39: 1 | E39: 298700 | F39: =+E39*D39 -> 298700
B40: Division-puerta metalica | C40: und | D40: 6 | E40: 290000 | F40: =+E40*D40 -> 1740000
B41: Productos de aseo | C41: und | D41: 6 | E41: 23000 | F41: =+E41*D41 -> 138000
B42: Herramientas menores | C42: HR | D42: 4 | E42: 5000 | F42: =+E42*D42 -> 20000
B43: cuadrilla d-d | C43: HH | D43: 8 | E43: ='MANO DE OBRA'!G78 -> 77143.105 | F43: =+E43*D43 -> 617144.84
B44: transporte | C44: m3-km | D44: 120 | E44: 1100 | F44: =+E44*D44 -> 132000
A46: 3.1 | B46: =PRESUPUESTO!B12 -> SUMINISTRO, TRANSPORTE E INSTALACIÓN DE PARQUE INFANTIL, INCLUYE: 1 RODADERO DOBLE, 1 TOBOGÁN, 1 SILLA DE DESCANSO, 1 BARRA DE EQUILIBRIO, ESCALERAS, TABLEROS Y FIGURAS DECORATIVAS. (VER IMAGEN DE REFERENCIA EN LA ESPECIFICACIÓN TENCNICA) | C46: UND | D46: CANTIDAD | E46: VALOR UNITARIO | F46: =SUM(F47:F51) -> 22945407
...

Sheet H5
B7: ADECUACIÓN Y MEJORAMIENTO DEL PARQUE DEL CAFE, CORREGIMIENTO DE SAN JOSE ORIENTE, MUNICIPIO DE LA PAZ, CESAR
B8: ALCALDIA MUNICIPAL DE LA PAZ - CESAR
B9: SECRETARIA DE PLANEACION Y DESARROLLO TERRIRORIAL
A17: ANALISIS DE PRECIOS DE CUADRILLAS - 2026

Sheet MANO DE OBRA
B1: ADECUACIÓN Y MEJORAMIENTO DEL PARQUE DEL CAFE, CORREGIMIENTO DE SAN JOSE ORIENTE, MUNICIPIO DE LA PAZ, CESAR
B2: ALCALDIA MUNICIPAL DE LA PAZ, DEPARTAMENTO DEL CESAR
B3: CONTIENE: ANALISIS DE PRECIOS DE CUADRILLAS
C5: FACTOR
A6: 1 AYUDANTE A | B6: SALARIO | C6: ='[1]FACTOR PRESTACIONAL'!K37 -> 71.102 | D6: día
A7: 2026 | B7: 1750905 | C7: =B7*C6% -> 1244928.5 | D7: =(+C7+B7)/30 -> 99861.116
A9: 1 AYUDANTE B | B9: SALARIO | C9: ='[1]FACTOR PRESTACIONAL'!K37 -> 71.102 | D9: día
A10: =+A7 -> 2026 | B10: =1750905+30000 -> 1780905 | C10: =B10*C9% -> 1266259.1 | D10: =(+C10+B10)/30 -> 101572.14
A12: 1 OFICIAL A | B12: SALARIO | C12: ='[1]FACTOR PRESTACIONAL'!K37 -> 71.102 | D12: día
A13: =+A7 -> 2026 | B13: =1750905+50000 -> 1800905 | C13: =B13*C12% -> 1280479.5 | D13: =(+C13+B13)/30 -> 102712.82
A15: 1 OFICIAL B | C15: ='[1]FACTOR PRESTACIONAL'!K37 -> 71.102 | D15: día
A16: =+A13 -> 2026 | B16: =1750905+70000 -> 1820905 | C16: =B16*C15% -> 1294699.9 | D16: =(+C16+B16)/30 -> 103853.5
A19: 1 OPERADOR DE MAQUINA AMARILLA | B19: SALARIO | C19: ='[1]FACTOR PRESTACIONAL'!K37 -> 71.102 | D19: día
A20: =+A16 -> 2026 | B20: =1750905+90000 -> 1840905 | C20: =B20*C19% -> 1308920.3 | D20: =(+C20+B20)/30 -> 104994.18
A23: CALCULO DE CUADRILLAS 2026
A25: Clave | C25: Descripción | D25: Unidad | E25: Cantidad | F25: Precio con | G25: Total
F26: prestaciones
A28: O00050 | C28: Cuadrilla AA (Albañilería) 1Of y 1 Ay | D28: HR
A29: O00001 | C29: Ayudante A | D29: jor | E29: 0.125 | F29: =+$D$7 -> 99861.116 | G29: =+E29*F29 -> 12482.639
A30: O00002 | C30: Oficial A | D30: jor | E30: 0.125 | F30: =+$D$13 -> 102712.82 | G30: =+E30*F30 -> 12839.102
C31: Subtotal | G31: =SUM(G29:G30) -> 25321.741 | I31: =G32/2 -> 8713.2112
A32: O00901 | C32: Factor prestacional de ingreso por hora efectiva / base hora laboral | D32: % | E32: =+(0.7008+0.6756)/2 -> 0.6882 | G32: =+G31*E32 -> 17426.422
C33: Total | G33: =+G31+G32 -> 42748.164
A35: O00051 | C35: Cuadrilla AA 1Of+2Ay (Albañilería) | D35: HR
A36: O00001 | C36: Ayudante A | D36: jor | E36: 0.25 | F36: =+$D$7 -> 99861.116 | G36: =+E36*F36 -> 24965.279
A37: O00002 | C37: Oficial A | D37: jor | E37: 0.125 | F37: =+$D$13 -> 102712.82 | G37: =+E37*F37 -> 12839.102
C38: Subtotal | G38: =SUM(G36:G37) -> 37804.381
A39: O00901 | C39: Factor prestacional de ingreso por hora efectiva / base hora laboral | D39: % | E39: =+((0.7008*2)+0.6756)/3 -> 0.6924 | G39: =+G38*E39 -> 26175.753
C40: Total | G40: =SUM(G38:G39) -> 63980.134
A42: O00050 | C42: Cuadrilla AA (Albañilería) 1 Ay | D42: HR
A43: O00001 | C43: Ayudante A | D43: jor | E43: 0.125 | F43: =+$D$7 -> 99861.116 | G43: =+E43*F43 -> 12482.639
A44: O00002 | C44: Oficial A | D44: jor | E44: 0 | F44: =+$D$13 -> 102712.82 | G44: =+E44*F44 -> 0
C45: Subtotal | G45: =SUM(G43:G44) -> 12482.639
A46: O00901 | C46: Factor prestacional de ingreso por hora efectiva / base hora laboral | D46: % | E46: =0.7008 -> 0.7008 | G46: =+G45*E46 -> 8747.8337
C47: Total | G47: =+G45+G46 -> 21230.473
A49: O00050 | C49: Cuadrilla AA (Albañilería) 1 Oficial | D49: HR
A50: O00001 | C50: Ayudante A | D50: jor | E50: 0 | F50: =+$D$7 -> 99861.116 | G50: =+E50*F50 -> 0
A51: O00002 | C51: Oficial A | D51: jor | E51: 0.125 | F51: =+$D$13 -> 102712.82 | G51: =+E51*F51 -> 12839.102
C52: Subtotal | G52: =SUM(G50:G51) -> 12839.102
A53: O00901 | C53: Factor prestacional de ingreso por hora efectiva / base hora laboral | D53: % | E53: =0.6756 -> 0.6756 | G53: =+G52*E53 -> 8674.0973
...

Sheet H7
B7: =+'H6'!B7:E7 -> PROYECTO: ADECUACIÓN Y MEJORAMIENTO DEL PARQUE DEL CAFE, CORREGIMIENTO DE SAN JOSE ORIENTE, MUNICIPIO DE LA PAZ, CESAR
B8: ALCALDIA MUNICIPAL DE LA PAZ - CESAR
B9: SECRETARIA DE PLANEACION Y DESARROLLO TERRIRORIAL
A17: ANALISIS FACTOR PRESTACIONAL

Sheet FACTOR PRESTACIONAL
E1: ADECUACIÓN LOCATIVA EN LA INSTITUCIÓN EDUCATIVA AGROPECUARIA SEDE EL MIRADOR, EN EL CORREGIMIENTO DE SAN JOSÉ DE ORIENTE, MUNICIPIO DE LA PAZ, DEPARTAMENTO DEL CESAR
E2: ALCALDIA MUNICIPAL DE LA PAZ, DEPARTAMENTO DEL CESAR
E3: CONTIENE: ANALISIS FACTOR PRESTACIONAL
A8: FACTOR PRESTACIONAL < 2SMMLV | M8: FACTOR PRESTACIONAL > 2 SMMLV
A9: DESCRIPCIÓN | M9: DESCRIPCIÓN
A11: A. SALARIO | K11: 1 | M11: A. SALARIO | W11: 1
A13: B. PRESTACIONES SOCIALES Y APORTES PARAFISCALES | M13: B. PRESTACIONES SOCIALES Y APORTES PARAFISCALES
C15: Subsidio de transporte | K15: 11.96 | O15: Subsidio de transporte
C16: Cesantía | K16: 8.33 | O16: Cesantía | W16: 8.33
C17: Intereses Cesantía | K17: 1 | O17: Intereses Cesantía | W17: 1
C18: Prima Legal | K18: 8.33 | O18: Prima Legal | W18: 8.33
C19: Vacaciones | K19: 4.16 | O19: Vacaciones | W19: 4.16
C20: Salud | K20: 8.5 | O20: Salud | W20: 8.5
C21: Pensiones | K21: 12 | O21: Pensiones | W21: 12
C22: Riesgos Profesionales | K22: 0.522 | O22: Riesgos Profesionales | W22: 6.96
C23: Dotacion | K23: 3 | O23: Dotacion
C24: Exámenes de ingreso y egreso | K24: 1.3 | O24: Exámenes de ingreso y egreso | W24: 1.3
C25: FIC | K25: 1 | O25: FIC | W25: 1
C26: Otros (ausencias justificadas, Indemnizaciones, etc. ) | K26: 1 | O26: Otros (ausencias justificadas, Indemnizaciones, etc. ) | W26: 1
C28: PARAFISCALES | O28: PARAFISCALES
C29: Caja de compensacion Familiar | K29: 4 | O29: Caja de compensacion Familiar | W29: 4
C30: Sena | K30: 2 | O30: Sena | W30: 2
C31: ICBF | K31: 3 | O31: ICBF | W31: 3
E33: SUB-TOTAL B | K33: =SUM(K15:K31) -> 70.102 | Q33: SUB-TOTAL B | W33: =SUM(W15:W31) -> 61.58
A37: FACTOR PRESTACIONAL ADOPTADO | K37: =+K33+K11 -> 71.102 | M37: FACTOR PRESTACIONAL ADOPTADO | W37: =+W33+W11 -> 62.58
B42: Elaboró:
B46: LEONARDO IVÁN OÑATE LÓPEZ
B47: INGENIERO CIVIL
B48: M.P 20202-36795656 CES
B49: C.C 1.067.815.106
