Workbook
Name \0: '[1]CRA.MODI'!#REF!
Name \0: #REF!
Name \a: [2]PJ!#REF!
Name \A: #REF!
Name \b: #REF!
Name \c: #REF!
Name \c: #REF!
Name \d: #REF!
Name \e: #REF!
Name \e: #REF!
Name \f: #REF!
Name \f: #REF!
Name \g: #REF!
Name \h: #REF!
Name \i: #REF!
Name \i: #REF!
Name \k: #REF!
Name \L: #REF!
Name \m: #REF!
Name \M: #REF!
Name \n: #REF!
Name \P: #REF!
Name \p: #REF!
Name \q: #N/A
Name \r: #REF!
Name \R: #REF!
Name \s: #REF!
Name \s: #REF!
Name \sa: #REF!
Name \t: #REF!
Name \u: #REF!
Name \V: #REF!
Name \w: #N/A
Name \X: CONCRETOS!ERR
Name \x: [0]!err
Name \y: #REF!
Name \Z: CONCRETOS!ERR
Name \z: [0]!err
Name _: #REF!
Name _: #REF!
Name _________________________________________________AFC1: #REF!
Name _________________________________________________AFC3: #REF!
Name _________________________________________________AFC5: #REF!
Name _________________________________________________BGC1: #REF!
Name _________________________________________________BGC3: #REF!
Name _________________________________________________BGC5: #REF!
Name _________________________________________________CAC1: #REF!
Name _________________________________________________CAC3: #REF!
Name _________________________________________________CAC5: #REF!
Name _________________________________________________i1: #REF!
Name _________________________________________________SBC1: #REF!
Name _________________________________________________SBC3: #REF!
Name _________________________________________________SBC5: #REF!
Name ________________________________________________AFC1: #REF!
Name ________________________________________________AFC3: #REF!
Name ________________________________________________AFC5: #REF!
Name ________________________________________________BGC1: #REF!
Name ________________________________________________BGC3: #REF!
Name ________________________________________________BGC5: #REF!
Name ________________________________________________CAC1: #REF!

Sheet P. Obras Civiles
B2: PRESUPUESTO PARA LA ADECUACIÓN MENOR DEL PUESTO DE SALUD CEDRO DE RONCESVALLES, TOLIMA Ministerio de Salud y Protección Social Subdirección de Infraestructura en Salud
B3: Nombre Entidad : MUNICIPIO DE RONCESVALLES
B4: Sede: | C4: CENTRO DE SALUD CEDRO | F4: Valor mt2: 71.76 | I4: 4 meses
B5: ÍTEM | C5: ACTIVIDADES | D5: UNIDAD | E5: CANTIDAD | F5: VR UNITARIO | G5: VALOR TOTAL
B6: 1 | C6: PRELIMINARES
B7: 1.1 | C7: Cerramiento | D7: ml | E7: 28.44 | F7: =+'APUS Obras Civiles'!I37 -> 17306 | G7: =ROUND(Tabla13[[#This Row],[VR UNITARIO]]*Tabla13[[#This Row],[CANTIDAD]],0) -> 492183
B8: 1.2 | C8: Desmonte de cubierta en teja termo acústica color rojo. Incluye: maquinaria, equipos y la mano de obra necesaria para el correcto funcionamiento | D8: m2 | E8: 58.0517 | F8: =+'APUS Obras Civiles'!I82 -> 62095 | G8: =ROUND(Tabla13[[#This Row],[VR UNITARIO]]*Tabla13[[#This Row],[CANTIDAD]],0) -> 3604720
B9: 1.3 | C9: Desmonte de caballete en teja termo acústica color rojo, Incluye: maquinaria, equipos y la mano de obra necesaria para el correcto funcionamiento | D9: ml | E9: 6.53 | F9: =+'APUS Obras Civiles'!$I$127 -> 37382 | G9: =ROUND(Tabla13[[#This Row],[VR UNITARIO]]*Tabla13[[#This Row],[CANTIDAD]],0) -> 244104
B10: 1.4 | C10: Desmonte de luminarias, tomacorriente e interruptores. Incluye: maquinaria, equipos y la mano de obra necesaria para el correcto funcionamiento | D10: und | E10: 21 | F10: =+'APUS Obras Civiles'!I173 -> 34611 | G10: =ROUND(Tabla13[[#This Row],[VR UNITARIO]]*Tabla13[[#This Row],[CANTIDAD]],0) -> 726831
B11: 1.5 | C11: Desmonte de aparatos sanitarios. Incluye: maquinaria, equipos y la mano de obra necesaria para el correcto funcionamiento, trasiego y retiro. | D11: und | E11: 3 | F11: =+'APUS Obras Civiles'!I218 -> 91160 | G11: =ROUND(Tabla13[[#This Row],[VR UNITARIO]]*Tabla13[[#This Row],[CANTIDAD]],0) -> 273480
B12: 1.6 | C12: Desmonte de puertas, ventanas, divisiones. Incluye: maquinaria, equipos y la mano de obra necesaria para el correcto funcionamiento, trasiego y retiro. | D12: und | E12: 6 | F12: =+'APUS Obras Civiles'!I263 -> 75967 | G12: =ROUND(Tabla13[[#This Row],[VR UNITARIO]]*Tabla13[[#This Row],[CANTIDAD]],0) -> 455802
B13: 1.7 | C13: Demolición lavadero área de aseo, Incluye: maquinaria, equipos y la mano de obra necesaria para el correcto funcionamiento | D13: und | E13: 1 | F13: =+'APUS Obras Civiles'!I308 -> 46291 | G13: =ROUND(Tabla13[[#This Row],[VR UNITARIO]]*Tabla13[[#This Row],[CANTIDAD]],0) -> 46291
B14: 1.8 | C14: Demolición enchape muros y piso baño, Incluye: maquinaria, equipos y la mano de obra necesaria para el correcto funcionamiento | D14: m2 | E14: 10.7595 | F14: =+'APUS Obras Civiles'!I353 -> 43374 | G14: =ROUND(Tabla13[[#This Row],[VR UNITARIO]]*Tabla13[[#This Row],[CANTIDAD]],0) -> 466683
B15: 1.9 | C15: Demolición de muros. Incluye: maquinaria, equipos y la mano de obra necesaria para el correcto funcionamiento | D15: m2 | E15: 19.355 | F15: =+'APUS Obras Civiles'!I398 -> 58804 | G15: =ROUND(Tabla13[[#This Row],[VR UNITARIO]]*Tabla13[[#This Row],[CANTIDAD]],0) -> 1138151
B16: 1.1 | C16: Demolición manual de concreto. Incluye: maquinaria, equipos y la mano de obra necesaria para el correcto funcionamiento | D16: m3 | E16: 2.0802 | F16: =+'APUS Obras Civiles'!I443 -> 50041 | G16: =ROUND(Tabla13[[#This Row],[VR UNITARIO]]*Tabla13[[#This Row],[CANTIDAD]],0) -> 104095
B17: 1.11 | C17: Descapote de material natural a mano E:0.20m | D17: m2 | E17: 36.5267 | F17: =+'APUS Obras Civiles'!I488 -> 9385 | G17: =ROUND(Tabla13[[#This Row],[VR UNITARIO]]*Tabla13[[#This Row],[CANTIDAD]],0) -> 342803
B18: 1.12 | C18: Retiro de escombros y del material sobrante con su disposición final en botaderos autorizados por la entdad ambiental correspondiente | D18: m3 | E18: 48.220211 | F18: =+'APUS Obras Civiles'!I534 -> 57384 | G18: =ROUND(Tabla13[[#This Row],[VR UNITARIO]]*Tabla13[[#This Row],[CANTIDAD]],0) -> 2767069 | K18: =+SUM(G7:G18) -> 10662212 | L18: =+K18*1.3 -> 13860876
B19: 2 | C19: EXCAVACIONES Y RELLENOS
B20: 2.1 | C20: Excavación manual en material común | D20: m3 | E20: 14.5074 | F20: =+'APUS Obras Civiles'!I579 -> 75081 | G20: =ROUND(Tabla13[[#This Row],[VR UNITARIO]]*Tabla13[[#This Row],[CANTIDAD]],0) -> 1089230
B21: 2.2 | C21: Relleno en recebo común compactado mecánicamente | D21: m3 | E21: 40.838746 | F21: =+'APUS Obras Civiles'!I624 -> 294322 | G21: =ROUND(Tabla13[[#This Row],[VR UNITARIO]]*Tabla13[[#This Row],[CANTIDAD]],0) -> 12019741
B22: 2.3 | C22: Suministro e Instalacion Lecho en Arena Para Tuberia | D22: m3 | E22: 3.1632 | F22: =+'APUS Obras Civiles'!I669 -> 176347 | G22: =ROUND(Tabla13[[#This Row],[VR UNITARIO]]*Tabla13[[#This Row],[CANTIDAD]],0) -> 557821 | K22: =+SUM(G20:G22) -> 13666792 | L22: =+K22*1.3 -> 17766830
B23: 3 | C23: CONCRETOS
B24: 3.1 | C24: Viga de cimentación para soporte de muros de 20x30 en concreto de 3000 PSI con refuerzo incluido e impermeabilizada con imprimante bituminoso SIKA IGOL | D24: ml | E24: 30.91 | F24: ='APUS Obras Civiles'!I716 -> 205943.42 | G24: =ROUND(Tabla13[[#This Row],[VR UNITARIO]]*Tabla13[[#This Row],[CANTIDAD]],0) -> 6365711
B25: 3.2 | C25: Viga aérea para soporte de muros de 20x15 en concreto de 3000 PSI con refuerzo incluido | D25: ml | E25: 30.91 | F25: ='APUS Obras Civiles'!I765 -> 177049.82 | G25: =ROUND(Tabla13[[#This Row],[VR UNITARIO]]*Tabla13[[#This Row],[CANTIDAD]],0) -> 5472610
B26: 3.3 | C26: Escalones en concreto de 3000 PSI. Incluye acero de refuerzo | D26: m3 | E26: 1.908 | F26: ='APUS Obras Civiles'!I813 -> 1955836 | G26: =ROUND(Tabla13[[#This Row],[VR UNITARIO]]*Tabla13[[#This Row],[CANTIDAD]],0) -> 3731735 | K26: =+SUM(G24:G26) -> 15570056 | L26: =+K26*1.3 -> 20241073
B27: 4 | C27: OBRAS DE URBANISMO
B28: 4.1 | C28: Andén en concreto de 3000 PSI. Incluye acero de refuerzo | D28: m2 | E28: 3.975 | F28: ='APUS Obras Civiles'!I860 -> 171393.8 | G28: =ROUND(Tabla13[[#This Row],[VR UNITARIO]]*Tabla13[[#This Row],[CANTIDAD]],0) -> 681290
B29: 4.2 | C29: Rampa en concreto de 3000 PSI. Incluye acero de refuerzo | D29: m2 | E29: 5.43 | F29: ='APUS Obras Civiles'!I908 -> 209488.5 | G29: =ROUND(Tabla13[[#This Row],[VR UNITARIO]]*Tabla13[[#This Row],[CANTIDAD]],0) -> 1137523 | K29: =+SUM(G28:G29) -> 1818813 | L29: =+K29*1.3 -> 2364456.9
B30: 5 | C30: OBRAS EN CUBIERTA
B31: 5.1 | C31: Suministro e instalación de Teja arquitectónica C26 color azul. Incluye set de fijacion tornillo autoperforante tipo sombrilla de 2-1/2 | D31: m2 | E31: 74.393025 | F31: =+'APUS Obras Civiles'!I953 -> 122790 | G31: =ROUND(Tabla13[[#This Row],[VR UNITARIO]]*Tabla13[[#This Row],[CANTIDAD]],0) -> 9134720
B32: 5.2 | C32: Suministro e instalación de Caballete para teja arquitectónica CL 26. Incluye accesorios de instalación | D32: ml | E32: 6.8565 | F32: =+'APUS Obras Civiles'!I998 -> 96803 | G32: =ROUND(Tabla13[[#This Row],[VR UNITARIO]]*Tabla13[[#This Row],[CANTIDAD]],0) -> 663730
B33: 5.3 | C33: Suministro e instalación canal en lámina galvanizada C18, fachada principal y posterior, incluye accesorios y tornillería para asegurar las tejas y pintura | D33: ml | E33: 13.06 | F33: =+'APUS Obras Civiles'!I1044 -> 169767 | G33: =ROUND(Tabla13[[#This Row],[VR UNITARIO]]*Tabla13[[#This Row],[CANTIDAD]],0) -> 2217157
B34: 5.4 | C34: Suministro e instalación de correas en perfilería metálica para cubierta 80 x 40 x 2.00 mm estructural HR50 | D34: ml | E34: 130.6 | F34: ='APUS Obras Civiles'!I1090 -> 73222 | G34: =ROUND(Tabla13[[#This Row],[VR UNITARIO]]*Tabla13[[#This Row],[CANTIDAD]],0) -> 9562793
B35: 5.5 | C35: Suministro e instalación de correas en perfilería metálica para cubierta 100 x 40 x 2.00 mm estructural HR50 | D35: ml | E35: 54.25 | F35: ='APUS Obras Civiles'!I1136 -> 93556 | G35: =ROUND(Tabla13[[#This Row],[VR UNITARIO]]*Tabla13[[#This Row],[CANTIDAD]],0) -> 5075413 | K35: =+SUM(G31:G35) -> 26653813 | L35: =+K35*1.3 -> 34649957
B36: 6 | C36: MAMPOSTERÍA Y PINTURA
B37: 6.1 | C37: Muro en ladrillo estructural e:0.15m | D37: m2 | E37: 72.5918 | F37: ='APUS Obras Civiles'!I1182 -> 134115.77 | G37: =ROUND(Tabla13[[#This Row],[VR UNITARIO]]*Tabla13[[#This Row],[CANTIDAD]],0) -> 9735705
B38: 6.2 | C38: Columneta 15x15 en concreto de 3000 PSI. Incluye acero de refuerzo | D38: ml | E38: 18.91 | F38: =+'APUS Obras Civiles'!I1230 -> 121517.44 | G38: =ROUND(Tabla13[[#This Row],[VR UNITARIO]]*Tabla13[[#This Row],[CANTIDAD]],0) -> 2297895
B39: 6.3 | C39: Resane y pintura sobre muros internos: masillado, Pintura acrilica de alta asepsia N+0.00 A Cieloraso. (acabado superficie homogenea alisada) | D39: m2 | E39: 176.513 | F39: =+'APUS Obras Civiles'!I1275 -> 49277 | G39: =ROUND(Tabla13[[#This Row],[VR UNITARIO]]*Tabla13[[#This Row],[CANTIDAD]],0) -> 8698031
B40: 6.4 | C40: Muro + dintel Eje A2- A3 en ladrillo estructural e:0.15m. Incluye Pañete y todos los accesorios para su buen funcionamiento | D40: m2 | E40: 7.272 | F40: =+'APUS Obras Civiles'!I1323 -> 157399.64 | G40: =ROUND(Tabla13[[#This Row],[VR UNITARIO]]*Tabla13[[#This Row],[CANTIDAD]],0) -> 1144610
B41: 6.5 | C41: Pañete 1:4 E=0.03m, Incluye filos y dilataciones. | D41: m2 | E41: 156.00387 | F41: =+'APUS Obras Civiles'!I1369 -> 44780 | G41: =ROUND(Tabla13[[#This Row],[VR UNITARIO]]*Tabla13[[#This Row],[CANTIDAD]],0) -> 6985853
...

Sheet APUS Obras Civiles
C1: ANALISIS DE PRECIOS UNITARIOS
C2: PROPONENTE | D2: CENTRO DE SALUD EL CEDRO | H2: FECHA | I2: 45961
C3: OBRA | F3: DESCRIPCION
C4: ADECUACIONES EN INFRAESTRUCTURA FISICA | F4: =+'P. Obras Civiles'!C7 -> Cerramiento
C5: UNIDAD : ML | D5: ITEM : | E5: =+'P. Obras Civiles'!B7 -> 1.1
C6: CANTIDAD EN EL PROYECTO : | E6: =+'P. Obras Civiles'!E7 -> 28.44
C7: I.- EQUIPOS Y HERRAMIENTAS
C8: TIPO INSUMO | E8: HH/DD/MES | F8: RENDIM. o % | G8: V-UNITARIO | H8: VALOR PARCIAL | I8: V. PARCIAL TOTAL
A9: E100015 | C9: =+VLOOKUP(A9,'Herramientas y Equipos'!$B$4:$E$46,2,FALSE) -> Herramienta menor E, Gral. Obra | E9: =+VLOOKUP(A9,'Herramientas y Equipos'!$B$4:$E$46,3,FALSE) -> % | F9: =+VLOOKUP(A9,'Herramientas y Equipos'!$B$4:$E$46,4,FALSE) -> 0.04 | G9: =+I35 -> 7888 | H9: =ROUND(SUM(G9*F9),0) -> 316
H12: SUB TOTAL EQUIPOS | I12: =SUM(H9:H11) -> 316
C13: II.-MATERIALES DE OBRA
C14: TIPO INSUMO | E14: UN | F14: CANTIDAD | G14: DESPERD. % | H14: V. UNITARIO | I14: V. PARCIAL TOTAL
A15: =+Insumos!B22 -> I100064 | C15: =+VLOOKUP(A15,Insumos!$B$4:$E$27,2,FALSE) -> Puntilla con cabeza 2" | E15: =+VLOOKUP(A15,Insumos!$B$4:$E$27,3,FALSE) -> LB | F15: 0.09 | G15: 0.05 | H15: =+VLOOKUP(A15,Insumos!$B$4:$E$27,4,FALSE) -> 5457 | I15: =+ROUND((F15*H15)+(G15*F15*H15),0) -> 516
A16: =+Insumos!B23 -> I100065 | C16: =+VLOOKUP(A16,Insumos!$B$4:$E$27,2,FALSE) -> Durmiente 4CM X 4CM X 2.9M | E16: =+VLOOKUP(A16,Insumos!$B$4:$E$27,3,FALSE) -> UND | F16: 0.33 | G16: 0.05 | H16: =+VLOOKUP(A16,Insumos!$B$4:$E$27,4,FALSE) -> 14280 | I16: =+ROUND((F16*H16)+(G16*F16*H16),0) -> 4948
A17: =+Insumos!B24 -> I100066 | C17: =+VLOOKUP(A17,Insumos!$B$4:$E$27,2,FALSE) -> Polisombra | E17: =+VLOOKUP(A17,Insumos!$B$4:$E$27,3,FALSE) -> M2 | F17: 1 | G17: 0.05 | H17: =+VLOOKUP(A17,Insumos!$B$4:$E$27,4,FALSE) -> 2274 | I17: =+ROUND((F17*H17)+(G17*F17*H17),0) -> 2388
G24: SUB TOTAL MATERIALES | I24: =SUM(I15:I23) -> 7852
C25: III.-TRANSPORTES DE MATERIALES
C26: TIPO INSUMO | E26: VOL-PES-DIST | F26: RENDIMIENTO | G26: TARIFA | H26: V. UNITARIO | I26: V. PARCIAL TOTAL
C27: Transporte de material (Ton) | E27: 0.005 | F27: 1 | G27: 250000 | H27: =+ROUND(E27*F27*G27,0) -> 1250
G29: SUB TOTAL TRANSPORTE | I29: =SUM(H27:H28) -> 1250
C30: IV.- MANO DE OBRA
C31: TIPO INSUMO | E31: UNIDAD | F31: CANTIDAD | G31: V. UNITARIO | H31: RENDIMIENTO | I31: V. PARCIAL TOTAL
C32: =+'Mano de Obra'!$B$135 -> Cuadrilla General de obra | E32: hora | F32: 8 | G32: =+'Mano de Obra'!$F$143 -> 2310190.1 | H32: 0.027314 | I32: =ROUND(SUM(G32/F32)*H32,0) -> 7888
I33: =SUM(G33*F33)*H33 -> 0
I34: =SUM(G34*F34)*H34 -> 0
G35: SUB TOTAL MANO DE OBRA | I35: =I32 -> 7888
F37: TOTAL COSTO DIRECTO | I37: =SUM(I12+I24+I29+I35) -> 17306
C38: V.- COSTOS INDIRECTO
C39: FIRMA No. T.P. A1485552010-59313786 | E39: DESCRIPCION | G39: % | H39: VALOR
E40: ADMINISTRACION | G40: 0.23 | H40: =ROUND($I$37*G40,0) -> 3980
E41: IMPREVISTOS | G41: 0.02 | H41: =ROUND($I$37*G41,0) -> 346
E42: UTILIDAD | G42: 0.05 | H42: =ROUND($I$37*G42,0) -> 865
E43: TOTAL COSTO INDIRECTO | I43: =SUM(H40:H42) -> 5191
E44: PRECIO UNITARIO TOTAL | H44: =SUM(I37+I43) -> 22497
C46: ANALISIS DE PRECIOS UNITARIOS
C47: PROPONENTE | D47: CENTRO DE SALUD EL CEDRO | H47: FECHA | I47: 45961
C48: OBRA | F48: DESCRIPCION
C49: ADECUACIONES EN INFRAESTRUCTURA FISICA | F49: =+'P. Obras Civiles'!C8 -> Desmonte de cubierta en teja termo acústica color rojo. Incluye: maquinaria, equipos y la mano de obra necesaria para el correcto funcionamiento
C50: UNIDAD : M2 | D50: ITEM : | E50: =+'P. Obras Civiles'!B8 -> 1.2
C51: CANTIDAD EN EL PROYECTO : | E51: =+'P. Obras Civiles'!E8 -> 58.0517
...

Sheet P. Mobiliario Consultorios
B2: PRESUPUESTO PARA LA ADECUACIÓN MENOR DEL PUESTO DE SALUD CEDRO DE RONCESVALLES, TOLIMA Ministerio de Salud y Protección Social Subdirección de Infraestructura en Salud
B3: Nombre Entidad : MUNICIPIO DE RONCESVALLES
B4: Sede: | C4: CENTRO DE SALUD CEDRO | F4: Valor mt2: 71.76 | I4: 4 meses
B5: ÍTEM | C5: ACTIVIDADES | D5: UNIDAD | E5: CANTIDAD | F5: VR UNITARIO | G5: VALOR TOTAL
B6: 1 | C6: SUMINISTRO E INSTALACIÓN DE CARPINTERÍA
B7: 1.1 | C7: Suministro e instalación de mueble en madera con mesón en acero inoxidable y poceta con su respectiva grifería. Cuenta con sistema de anclaje a muro y todos los accesorios necesarios para su buen funcionamiento. Dim: 1.70x0.85x0.50. (área consultorio medico). | D7: Und | E7: 1 | F7: =+'APUS Mobiliario'!I37 -> 4580854 | G7: =ROUND(Tabla133[[#This Row],[VR UNITARIO]]*Tabla133[[#This Row],[CANTIDAD]],0) -> 4580854
B8: 1.2 | C8: Suministro e instalación de mueble en madera. Modulo inferior con mesón en acero inoxidable y poceta con su respectiva grifería. Dim: 1.28x0.88x0.55. Modulo superior con puertas, entrepaño y divisiones lisas en madera aglomerada tipo RH, resistentes a la humedad, rayado y abrasión, color según diseño. Dim: 1.28x0.80x0.35. Cuenta con sistema de anclaje a muro y todos los accesorios necesarios para su buen funcionamiento (Cafetín) | D8: Und | E8: 1 | F8: =+'APUS Mobiliario'!I80 -> 4090100 | G8: =ROUND(Tabla133[[#This Row],[VR UNITARIO]]*Tabla133[[#This Row],[CANTIDAD]],0) -> 4090100
B9: 1.3 | C9: Escritorio para áreas de atención al usuario - sala de espera | D9: Und | E9: 1 | F9: =+'APUS Mobiliario'!I125 -> 1531400 | G9: =ROUND(Tabla133[[#This Row],[VR UNITARIO]]*Tabla133[[#This Row],[CANTIDAD]],0) -> 1531400
B10: 1.4 | C10: Escritorio y sillas para áreas de atención al usuario - consultorios | D10: Und | E10: 3 | F10: =+'APUS Mobiliario'!I170 -> 1338237 | G10: =ROUND(Tabla133[[#This Row],[VR UNITARIO]]*Tabla133[[#This Row],[CANTIDAD]],0) -> 4014711 | K10: =+SUM(G7:G10) -> 14217065 | L10: =+K10*1.3 -> 18482184 | T10: cafetin
B11: 2 | C11: EQUIPOS FIJOS DE USO HOSPITALARIO
B12: 2.1 | C12: Sillas Tándem de 3 puestos para sala de espera | D12: Und | E12: 2 | F12: =+'APUS Mobiliario'!I216 -> 630750 | G12: =ROUND(Tabla133[[#This Row],[VR UNITARIO]]*Tabla133[[#This Row],[CANTIDAD]],0) -> 1261500
B13: 2.2 | C13: Camillas tipo Divan para consultorios | D13: Und | E13: 2 | F13: =+'APUS Mobiliario'!I261 -> 508750 | G13: =ROUND(Tabla133[[#This Row],[VR UNITARIO]]*Tabla133[[#This Row],[CANTIDAD]],0) -> 1017500
B14: 2.3 | C14: Mesa para examen ginecológico | D14: Und | E14: 1 | F14: =+'APUS Mobiliario'!I306 -> 2365000 | G14: =ROUND(Tabla133[[#This Row],[VR UNITARIO]]*Tabla133[[#This Row],[CANTIDAD]],0) -> 2365000
B15: 2.4 | C15: Estante móvil de medicina para área de vacunación | D15: Und | E15: 1 | F15: =+'APUS Mobiliario'!I351 -> 1417750 | G15: =ROUND(Tabla133[[#This Row],[VR UNITARIO]]*Tabla133[[#This Row],[CANTIDAD]],0) -> 1417750
B16: 2.5 | C16: Báscula Mecánica con Tallímetro CAP 200KG RGTA 200 | D16: Und | E16: 3 | F16: =+'APUS Mobiliario'!I396 -> 933000 | G16: =ROUND(Tabla133[[#This Row],[VR UNITARIO]]*Tabla133[[#This Row],[CANTIDAD]],0) -> 2799000
C19: TOTAL COSTOS DIRECTOS - MOBILIARIO CONSULTORIOS | G19: =SUM(Tabla133[[ VALOR TOTAL]]) -> 23077815
C25: Realizó
C26: Nombre: ARQ. ÁNGELA MILENA ARCOS ORDOÑEZ
C27: No. T.P. A1485552010-59313786
C28: Firma:
F43: madera y camillas
G44: 20 millones
U45: toma de muestras y consultorio

Sheet APUS Mobiliario
C1: ANALISIS DE PRECIOS UNITARIOS
C2: PROPONENTE | D2: CENTRO DE SALUD EL CEDRO | H2: FECHA | I2: 45961
C3: OBRA | F3: DESCRIPCION
C4: ADECUACIONES EN INFRAESTRUCTURA FISICA | F4: =+'P. Mobiliario Consultorios'!C7 -> Suministro e instalación de mueble en madera con mesón en acero inoxidable y poceta con su respectiva grifería. Cuenta con sistema de anclaje a muro y todos los accesorios necesarios para su buen funcionamiento. Dim: 1.70x0.85x0.50. (área consultorio medico).
C5: UNIDAD : UND | D5: ITEM : | E5: =+'P. Mobiliario Consultorios'!B7 -> 1.1
C6: CANTIDAD EN EL PROYECTO : | E6: =+'P. Mobiliario Consultorios'!E7 -> 1
C7: I.- EQUIPOS Y HERRAMIENTAS
C8: TIPO INSUMO | E8: HH/DD/MES | F8: RENDIM. o % | G8: V-UNITARIO | H8: VALOR PARCIAL | I8: V. PARCIAL TOTAL
A9: E100015
H12: SUB TOTAL EQUIPOS | I12: =SUM(H9:H11) -> 0
C13: II.-MATERIALES DE OBRA
C14: TIPO INSUMO | E14: UN | F14: CANTIDAD | G14: DESPERD. % | H14: V. UNITARIO | I14: V. PARCIAL TOTAL
A15: =+'Insumos Mobiliario'!B4 -> IM100001 | C15: =+VLOOKUP(A15,'Insumos Mobiliario'!$B$4:$E$15,2,FALSE) -> Suministro e instalación de mueble en madera con mesón en acero inoxidable y poceta con su respectiva grifería. Cuenta con sistema de anclaje a muro y todos los accesorios necesarios para su buen funcionamiento. Dim: 1.70x0.85x0.50. | E15: =+VLOOKUP(A15,'Insumos Mobiliario'!$B$4:$E$15,3,FALSE) -> UND | F15: 1 | H15: =+VLOOKUP(A15,'Insumos Mobiliario'!$B$4:$E$15,4,FALSE) -> 4574604 | I15: =+ROUND((F15*H15)+(G15*F15*H15),0) -> 4574604
G24: SUB TOTAL MATERIALES | I24: =SUM(I15:I23) -> 4574604
C25: III.-TRANSPORTES DE MATERIALES
C26: TIPO INSUMO | E26: VOL-PES-DIST | F26: RENDIMIENTO | G26: TARIFA | H26: V. UNITARIO | I26: V. PARCIAL TOTAL
C27: Transporte de material (Ton) | E27: 0.025 | G27: 250000 | H27: =+ROUND(E27*G27,0) -> 6250
G29: SUB TOTAL TRANSPORTE | I29: =SUM(H27:H28) -> 6250
C30: IV.- MANO DE OBRA
C31: TIPO INSUMO | E31: UNIDAD | F31: CANTIDAD | G31: V. UNITARIO | H31: RENDIMIENTO | I31: V. PARCIAL TOTAL
I33: =SUM(G33*F33)*H33 -> 0
I34: =SUM(G34*F34)*H34 -> 0
G35: SUB TOTAL MANO DE OBRA | I35: =I32 -> 0
F37: TOTAL COSTO DIRECTO | I37: =SUM(I12+I24+I29+I35) -> 4580854
C38: V.- COSTOS INDIRECTO
C39: FIRMA No. T.P. A1485552010-59313786 | E39: DESCRIPCION | G39: % | H39: VALOR
E40: ADMINISTRACION | G40: 0.23 | H40: =ROUND($I$37*G40,0) -> 1053596
E41: IMPREVISTOS | G41: 0.02 | H41: =ROUND($I$37*G41,0) -> 91617
E42: UTILIDAD | G42: 0.05 | H42: =ROUND($I$37*G42,0) -> 229043
E43: TOTAL COSTO INDIRECTO | I43: =SUM(H40:H42) -> 1374256
E44: PRECIO UNITARIO TOTAL | H44: =SUM(I37+I43) -> 5955110
C46: ANALISIS DE PRECIOS UNITARIOS
C47: PROPONENTE | D47: CENTRO DE SALUD EL CEDRO | H47: FECHA | I47: 45961
C48: OBRA | F48: DESCRIPCION
C49: ADECUACIONES EN INFRAESTRUCTURA FISICA | F49: =+'P. Mobiliario Consultorios'!C8 -> Suministro e instalación de mueble en madera. Modulo inferior con mesón en acero inoxidable y poceta con su respectiva grifería. Dim: 1.28x0.88x0.55. Modulo superior con puertas, entrepaño y divisiones lisas en madera aglomerada tipo RH, resistentes a la humedad, rayado y abrasión, color según diseño. Dim: 1.28x0.80x0.35. Cuenta con sistema de anclaje a muro y todos los accesorios necesarios para su buen funcionamiento (Cafetín)
C50: UNIDAD : UND | D50: ITEM : | E50: =+'P. Mobiliario Consultorios'!B8 -> 1.2
C51: CANTIDAD EN EL PROYECTO : | E51: =+'P. Mobiliario Consultorios'!E8 -> 1
C52: I.- EQUIPOS Y HERRAMIENTAS
C53: TIPO INSUMO | E53: HH/DD/MES | F53: RENDIM. o % | G53: V-UNITARIO | H53: VALOR PARCIAL | I53: V. PARCIAL TOTAL
A55: E100002
...

Sheet CONCRETOS
A2: CONCRETO CICLOPEO | I2: Material Planta | J2: Transporte M3/Km - Bto | K2: Transporte | L2: Total | M2: Distancia Fuente
A3: MATERIAL | B3: UNIDAD | C3: CANTIDAD | D3: VALOR UNI | E3: VALOR TOTAL | H3: Triturado 3/4" | I3: =Insumos!E15 -> 90000 | J3: =2500+1500 -> 4000 | K3: =+J3*M3 -> 420000 | L3: =+K3+I3 -> 510000 | M3: 105
A4: Triturado | B4: m3 | C4: =O23*0.6 -> 0.57 | D4: =L3 -> 510000 | E4: =D4*C4 -> 290700 | H4: Arena | I4: =Insumos!E7 -> 55000 | J4: =2500+1500 -> 4000 | K4: =+J4*M4 -> 420000 | L4: =+K4+I4 -> 475000 | M4: 105
A5: Arena | B5: m3 | C5: =N23*0.6 -> 0.288 | D5: =L4 -> 475000 | E5: =D5*C5 -> 136800 | H5: Cemento | I5: =Insumos!E8*50 -> 35600 | J5: =2500+1500 -> 4000 | K5: =+J5*M5 -> 420000 | L5: =+K5+I5 -> 455600 | M5: 105
A6: Piedra | B6: m3 | C6: 0.4 | D6: =L5 -> 455600 | E6: =D6*C6 -> 182240
A7: Cemento | B7: Bto | C7: =M23*0.6 -> 3.6 | D7: =I5 -> 35600 | E7: =D7*C7 -> 128160
A8: Agua | B8: Lt | C8: =+Q20*0.6 -> 108 | D8: 50 | E8: =D8*C8 -> 5400 | H8: COSTO MAQUILA
A9: M.O | B9: Gl/m3 | C9: 1 | D9: =I10 -> 80000 | E9: =D9*C9 -> 80000 | I9: CICLOPEO | J9: SIMPLE 3000 PSI CIMIENTO | K9: SIMPLE ELEVACION
A10: Formaleta y varios | B10: Gl/m3 | C10: 1 | D10: 25000 | E10: =D10*C10 -> 25000 | H10: M.O | I10: 80000 | J10: 100000 | K10: 110000
C11: VALOR TOTAL | E11: =SUM(E4:E10) -> 848300
A13: CONCRETO SIMPLE 3000 PSI | H13: TABLA DE DOSIFICACIÓN / 1 M3 DE CONCRETO
A14: MATERIAL | B14: UNIDAD | C14: CANTIDAD | D14: VALOR UNI | E14: VALOR TOTAL | H14: MEZCLA | I14: RESISTENCIA A LA COMPRESIÓN (Fc) | L14: CEMENTO | N14: ARENA (m3) | O14: GRAVILLA (m3) | P14: LITROS DE AGUA
A15: Triturado | B15: m3 | C15: =O20 -> 0.84 | D15: =L3 -> 510000 | E15: =D15*C15 -> 428400 | I15: Kg/cm2 | J15: PSI | K15: MPa | L15: KILOS | M15: BULTOS | P15: AGREGADO HUMEDO | Q15: AGREGADO SECO
A16: Arena | B16: m3 | C16: =N20 -> 0.56 | D16: =L4 -> 475000 | E16: =D16*C16 -> 266000 | H16: 1:2:2 | I16: 280 | J16: 4000 | K16: 27 | L16: 460 | M16: =+L16/50 -> 9.2 | N16: 0.47 | O16: 0.772 | P16: 180 | Q16: 202.4
A17: Cemento | B17: Bto | C17: =M20 -> 7 | D17: =I5 -> 35600 | E17: =D17*C17 -> 249200 | H17: 1:2:2 1/2 | I17: 249 | J17: 3555 | K17: 24 | L17: 380 | M17: 7.5 | N17: 0.6 | O17: 0.76 | P17: 170 | Q17: 190
A18: =+A8 -> Agua | B18: =+B8 -> Lt | C18: =+Q20 -> 180 | D18: 50 | E18: =D18*C18 -> 9000 | H18: 1:2:3 | I18: 226 | J18: 3224 | K18: 22 | L18: 350 | M18: 7 | N18: 0.55 | O18: 0.84 | P18: 160 | Q18: 180
A19: M.O Maquila | B19: Gl/m3 | C19: 1 | D19: 50000 | E19: =D19*C19 -> 50000
A20: Formaleta y varios | B20: Gl/m3 | C20: 1 | D20: 10000 | E20: =D20*C20 -> 10000 | H20: 1:2:3 1/2 | I20: 210 | J20: 3000 | K20: 20 | L20: 350 | M20: =L20/50 -> 7 | N20: 0.56 | O20: 0.84 | P20: 180 | Q20: 180
H21: 1:2:4 | I21: 200 | J21: 2850 | K21: 19 | L21: 300 | M21: 6 | N21: 0.48 | O21: 0.95 | P21: 145 | Q21: 170
C22: VALOR TOTAL | E22: =SUM(E15:E21) -> 1012600 | H22: 1:2 1/2:4 | I22: 189 | J22: 2700 | K22: 18 | L22: 280 | M22: 5.3 | N22: 0.55 | O22: 0.89 | P22: 145 | Q22: 170
H23: 1:2: 1/2:4 1/2 | I23: 179 | J23: 2560 | K23: 17 | L23: 300 | M23: =L23/50 -> 6 | N23: 0.48 | O23: 0.95 | P23: 140 | Q23: 170
H24: 1:3:3 | I24: 168 | J24: 2400 | K24: 16 | L24: 300 | M24: 6 | N24: 0.72 | O24: 0.72 | P24: 145 | Q24: 170
A25: MORTERO 1:2 | H25: 1:3:4 | I25: 159 | J25: 2275 | K25: 15 | L25: 260 | M25: 6.3 | N25: 0.63 | O25: 0.83 | P25: 140 | Q25: 185
A26: MATERIAL | B26: UNIDAD | C26: CANTIDAD | D26: VALOR UNI | E26: VALOR TOTAL | H26: 1:3:5 | I26: 140 | J26: 2000 | K26: 14 | L26: 260 | M26: =L26/50 -> 5.2 | N26: 0.63 | O26: 0.84 | P26: 135 | Q26: 170
A27: Arena | B27: m3 | C27: =N35 -> 0.97 | D27: =L4 -> 475000 | E27: =D27*C27 -> 460750 | H27: 1:3:6 | I27: 119 | J27: 1700 | K27: 12 | L27: 210 | M27: 4 | N27: 0.5 | O27: 1 | P27: 130 | Q27: 155
A28: Cemento | B28: Bto | C28: =M35 -> 12.5 | D28: =I5 -> 35600 | E28: =D28*C28 -> 445000 | H28: 1:4:7 | I28: 109 | J28: 1560 | K28: 11 | L28: 175 | M28: 3.5 | N28: 0.55 | O28: 0.98 | P28: 120 | Q28: 145
A29: Agua | B29: Lt | C29: =+P35 -> 250 | D29: 50 | E29: =D29*C29 -> 12500
A30: M.O + Aplic. Pañete | B30: Gl/m3 | C30: 1 | D30: 120000 | E30: =D30*C30 -> 120000 | H30: 1:4:8 | I30: 99 | J30: 1420 | K30: 10 | L30: 160 | M30: 3.3 | N30: 0.65 | O30: 1.03 | P30: 110 | Q30: 140
A31: Formaleta y varios | B31: Gl/m3 | C31: 1 | D31: 90000 | E31: =D31*C31 -> 90000
H32: TABLA DE DOSIFICACIÓN / 1 M3 DE MORTERO
C33: VALOR TOTAL | E33: =SUM(E27:E32) -> 1128250 | H33: MEZCLA | I33: RESISTENCIA A LA COMPRESIÓN (Fc) | L33: CEMENTO | N33: ARENA (M3) | O33: LITROS DE AGUA
I34: Kg/Cm2 | J34: PSI | K34: MPA | L34: KILOS | M34: BULTOS | O34: AGREGADO HUMEDO | P34: AGRGADO SECO
H35: 1:2 | I35: 310 | J35: 4400 | K35: 30 | L35: 610 | M35: 12.5 | N35: 0.97 | O35: 220 | P35: 250
A36: CONCRETO MR 38 | H36: 1:3 | I36: 280 | J36: 3980 | K36: 27 | L36: 454 | M36: =L36/50 -> 9.08 | N36: 1.09 | O36: 185 | P36: 240
A37: MATERIAL | B37: UNIDAD | C37: CANTIDAD | D37: VALOR UNI | E37: VALOR TOTAL | H37: 1:4 | I37: 240 | J37: 3400 | K37: 23 | L37: 364 | M37: 7.3 | N37: 1.16 | O37: 170 | P37: 220
A38: Triturado | B38: m3 | C38: =+O17 -> 0.76 | D38: =+L3 -> 510000 | E38: =D38*C38 -> 387600
A39: Arena | B39: m3 | C39: =+N17 -> 0.6 | D39: =+L4 -> 475000 | E39: =D39*C39 -> 285000 | H39: 1:5 | I39: 200 | J39: 2850 | K39: 19 | L39: 302 | M39: 6 | N39: 1.18 | O39: 150 | P39: 170
A40: Cemento | B40: Bto | C40: =+M17 -> 7.5 | D40: =+I5 -> 35600 | E40: =D40*C40 -> 267000 | H40: 1:6 | I40: 160 | J40: 1280 | K40: 16 | L40: 260 | M40: 5.3 | N40: 1.2 | O40: 140 | P40: 150
A41: =+A53 -> M.O MAQUILA | B41: Gl/m3 | E41: 60000 | H41: 1:7 | I41: 120 | J41: 1700 | K41: 12 | L41: 228 | M41: 4.5 | N41: 1.25 | O41: 130 | P41: 140
C44: VALOR TOTAL | E44: =SUM(E38:E43) -> 999600
...

Sheet Insumos
B2: INSUMOS
B3: ITEM | C3: DESCRIPCION DEL MATERIAL | D3: UND | E3: VR. UNITARIO
B4: I100001 | C4: Acero de refuerzo | D4: KG | E4: 4406
B5: I100002 | C5: Agua | D5: LT | E5: 70
B6: I100003 | C6: Alambre negro no. 18 | D6: KG | E6: 7222
B7: I100004 | C7: Arena | D7: M3 | E7: 55000
B8: I100005 | C8: Cemento | D8: KG | E8: 712
B9: I100006 | C9: Limpiador 1/4" | D9: GL | E9: 72505
B10: I100007 | C10: Malla electrosoldada 15*15 5mm | D10: M2 | E10: 11550.005
B11: I100008 | C11: Masilla supermastick 28kg | D11: UND | E11: 66990
B12: I100009 | C12: Recebo | D12: M3 | E12: 20000
B13: I100010 | C13: Plastocrete | D13: KG | E13: 22090
B14: I100011 | C14: Soldadura 1/4" | D14: GL | E14: 150369
B15: I100012 | C15: Triturado 3/4" | D15: M3 | E15: 90000
... B32: I100074 | C32: Lámina galvanizada C 18 | D32: M2 | E32: 64500
B33: I100075 | C33: Tapa - Accesorios para fijación de canal metálico | D33: UND | E33: 8120 | I33: =+'P. Obras Civiles'!G131 -> 285781458
B34: I100076 | C34: Boquilla - Accesorios para fijación de canal metálico | D34: UND | E34: 6463
B35: I100077 | C35: Soporte - Accesorios para fijación de canal metálico | D35: UND | E35: 16055
B36: I100078 | C36: Electrodo 6013 x 1/8 kilo | D36: KG | E36: 28490
B37: I100079 | C37: Pintura Acrílica para Interior Alta Asepsia | D37: GAL | E37: 137390
B38: I100085 | C38: Tornillo Lámina Pan Philips Zincado 8X1-1/2 | D38: und | E38: 150
B39: I100088 | C39: Vinilo Tipo 2 Blanco | D39: GAL | E39: 74793
B40: I100091 | C40: Chazo Plástico de 1/4″ con tornillo | D40: UND | E40: 219
B41: I100094 | C41: Tapa de Inspección Gyplac Panel Yeso 60 x 60 cm | D41: UND | E41: 118762
B42: I100095 | C42: Sikasil-E Silicona Antihongos 280 ML | D42: UND | E42: 26643
B43: I100096 | C43: Segueta de 12 Pulgadas | D43: UND | E43: 20900
B44: I100100 | C44: Piso Cerámico Budapest Gris Cara Única 60x60cm | D44: M2 | E44: 37290
B45: I100101 | C45: Binda boquilla acrílico | D45: KG | E45: 18810
... B163: I100258 | C163: Ventanas en aluminio, referencia 3831, vidrio laminado 3+3 incoloro, batientes, diseñadas en dos hojas, manijas, empaque, felpa. (V1) Dim: 2.05 x 1.00m (área fachada principal) | D163: UND | E163: 2200000
B164: I100259 | C164: Reja fabricada en Cold Rolled, perfilería de 1 ½ x 1 ½ calibre 18 (V1) Dim: 2.05 x 1.00m (área fachada principal) | D164: UND | E164: 1958100 | I164: =+E164-E163 -> -241900
B165: I100260 | C165: Ventanas en aluminio, referencia 3831, vidrio laminado 3+3 incoloro, batientes, diseñadas en dos hojas, manijas, empaque, felpa. Dim: 1.50 x 1.00m (área consultorios y toma de muestras) | D165: UND | E165: 1600000
B166: I100261 | C166: Reja fabricada en Cold Rolled, perfilería de 1 ½ x 1 ½ calibre 18 (V1) Dim: 1.50 x 1.00m (área consultorios y toma de muestras) | D166: UND | E166: 1206830 | I166: =+E165-E166 -> 393170
B167: I100262 | C167: Ventana en aluminio referencia 3831 tipo persiana. Dim: 1.01 x 0.50m (área Baño) | D167: UND | E167: 228000
B168: I100263 | C168: Puerta en madera con marco Dim: 1.00x1.95 m(h) (área Consultorios y toma de muestras) | D168: UND | E168: 1100000 | I168: =+'P. Obras Civiles'!F62 -> 1317717
B169: I100264 | C169: Cielo Raso de PVC e=7mm | D169: M2 | E169: =22900*1.07 -> 24503
B170: I100265 | C170: Ángulo CAL.26 Lámina GALV. 2.44 M | D170: UND | E170: =2900*1.07 -> 3103
B171: I100266 | C171: Chazo plástico 1/4" | D171: UND | E171: 100
B172: I100267 | C172: Perno 1/2" ALT. VEL. 1 3/4" | D172: UND | E172: 850
B173: I100268 | C173: Perfil omega metálico 63 MM X 3,05 M | D173: UND | E173: 9100
B174: I100269 | C174: Perno 1 Clavo Normal | D174: UND | E174: 113
...

Sheet Insumos Mobiliario
B2: INSUMOS MOBILIARIO
B3: ITEM | C3: DESCRIPCION DEL MATERIAL | D3: UND | E3: VR. UNITARIO
B4: IM100001 | C4: Suministro e instalación de mueble en madera con mesón en acero inoxidable y poceta con su respectiva grifería. Cuenta con sistema de anclaje a muro y todos los accesorios necesarios para su buen funcionamiento. Dim: 1.70x0.85x0.50. | D4: UND | E4: =+'Cotizaciones Carpintería'!J4 -> 4574604
B5: IM100002 | C5: Suministro e instalación de mueble en madera con mesón en acero inoxidable y poceta con su respectiva grifería. Dim: 1.54x0.90x0.60. Cuenta con sistema de anclaje a muro y todos los accesorios necesarios para su buen funcionamiento | D5: UND | E5: =+'Cotizaciones Carpintería'!J5 -> 4080100
B6: IM100003 | C6: Escritorio Gerencial en L Tipo C Blanco | D6: UND | E6: 1369000 | H6: https://industriascruz.co/producto/escritorio-gerencial-en-l-tipo-c-blanco
B7: IM100004 | C7: Escritorio Blanco Operativo Okumen | D7: UND | E7: 928537 | H7: https://industriascruz.co/producto/escritorio-blanco-operativo-okumen
B8: IM100005 | C8: Silla interlocutora Novaiso Fija | D8: UND | E8: 124900
B9: IM100006 | C9: Silla de Escritorio | D9: UND | E9: 149900
B10: IM100007 | C10: Sillas Tándem de 3 puestos para sala de espera | D10: UND | E10: 629000 | H10: https://industriascruz.co/producto/tandem-metalico-3-puestos
B11: IM100008 | C11: Camillas tipo Divan para consultorios | D11: UND | E11: 504000 | H11: https://www.pakismedical.com/producto/divan-camilla-fija-sencilla-im/
B12: IM100009 | C12: Mesa para examen ginecológico | D12: UND | E12: 2360000 | H12: https://plusmedica.com.co/products/camilla-ginecologica-portatil?variant=50027793613119&country=CO&currency=COP&utm_medium=product_sync&utm_source=google&utm_content=sag_organic&utm_campaign=sag_organic&srsltid=AfmBOoqZ_SntI0Yk5MwJe3vRoTuCTrhKBenKyKHamgRdfJjgYAknMJvYLmM
B13: IM100010 | C13: Coche Rodable para Preparación de Paquetes Fríos | D13: UND | E13: 959000 | H13: https://santeyconfort.com/carros-hospitalarios/1928-carro-mediano-para-alimentos-con-ruedas-3-niveles.html?srsltid=AfmBOorWQ-8ltSrYq112-iIqQK0qzqmqQSRQLu3BQAVlfMBM6Ytlg7xq3HA
B14: IM100011 | C14: Estante Acanalado para Almacenamiento de Vacunas y Diluyente | D14: UND | E14: 450000
B15: IM100012 | C15: Báscula Mecánica con Tallímetro CAP 200KG RGTA 200 | D15: UND | E15: 923000 | H15: https://www.badecol.com/products/bascula-tallimetro-rgta200?srsltid=AfmBOordkrtRe1K663qnVPTrDwfaDZ41t4YcAY5aXSawmj0a1wZVZnUc
C21: ARQ. ÁNGELA MILENA ARCOS ORDOÑEZ
C22: No. T.P. A1485552010-59313786

Sheet Cotizaciones Carpintería
B2: COTIZACIONES MUEBLES
B3: ITEM | C3: DESCRIPCION DEL MATERIAL | D3: UND | E3: CANTIDAD | F3: ESQUEMA | G3: COTIZACION 1 | H3: COTIZACION 2 | I3: PROMEDIO | J3: VR. UNITARIO
B4: =+'Insumos Mobiliario'!B4 -> IM100001 | C4: =+'Insumos Mobiliario'!C4 -> Suministro e instalación de mueble en madera con mesón en acero inoxidable y poceta con su respectiva grifería. Cuenta con sistema de anclaje a muro y todos los accesorios necesarios para su buen funcionamiento. Dim: 1.70x0.85x0.50. | D4: UND | E4: 1 | G4: 4203744 | H4: 4945463 | I4: =+ROUND(AVERAGE(G4:H4),0) -> 4574604 | J4: =+I4 -> 4574604
B5: =+'Insumos Mobiliario'!B5 -> IM100002 | C5: =+'Insumos Mobiliario'!C5 -> Suministro e instalación de mueble en madera con mesón en acero inoxidable y poceta con su respectiva grifería. Dim: 1.54x0.90x0.60. Cuenta con sistema de anclaje a muro y todos los accesorios necesarios para su buen funcionamiento | D5: UND | E5: 1 | G5: 3910000 | H5: 4250200 | I5: =+AVERAGE(G5:H5) -> 4080100 | J5: =+I5 -> 4080100
C11: ARQ. ÁNGELA MILENA ARCOS ORDOÑEZ
C12: No. T.P. A1485552010-59313786

Sheet AIU
B1: MATRIZ PARA CÁLCULO DE FACTOR DE A.I.U
B3: =+'P. Obras Civiles'!B2 -> PRESUPUESTO PARA LA ADECUACIÓN MENOR DEL PUESTO DE SALUD CEDRO DE RONCESVALLES, TOLIMA Ministerio de Salud y Protección Social Subdirección de Infraestructura en Salud
B6: COSTO DIRECTO TOTAL | G6: =+'P. Obras Civiles'!G105 -> 189677721
B8: COSTOS DE ADMINISTRACION DE OBRA
B9: DESCRIPCION | C9: UNIDAD | D9: CANTIDAD | E9: % DE PARTICIPACIÓN | F9: VALOR UNITARIO | G9: VALOR TOTAL | I9: 0.205 | J9: =8.5+12 -> 20.5
A11: 1 | B11: PERSONAL DE OBRA
A12: 1.1 | B12: Residente de obra | C12: mes | D12: 4 | E12: 1 | F12: 3000000 | G12: =ROUND(D12*E12*F12,0) -> 12000000 | I12: 0.03
B13: TOTAL PERSONAL DE OBRA | G13: =SUM(G12:G12) -> 12000000
A15: 2 | B15: COSTOS OPERACIONALES
A16: 2.1 | B16: Costo proporcional oficina central | C16: mes | D16: 4 | E16: 1 | F16: 450000 | G16: =ROUND(D16*E16*F16,0) -> 1800000 | I16: 0.05
B17: TOTAL COSTOS DE DOTACION CAMPAMENTO: | G17: =SUM(G16:G16) -> 1800000
A19: 3 | B19: OTROS - GASTOS GENERALES
A20: 3.1 | B20: Papelería y empastes | C20: mes | D20: 4 | F20: 300000 | G20: =ROUND(D20*F20,0) -> 1200000
A21: 3.2 | B21: Alquiler camioneta (Incluye combustible, peaje y conductor) | C21: mes | D21: 4 | F21: 2580448.2 | G21: =ROUND(D21*F21,0) -> 10321793
G22: =SUM(G20:G21) -> 11521793
A24: 4 | B24: COSTOS DE LEGALIZACION DEL CONTRATO
A25: 4.1 | B25: Pólizas
A26: 4.1.1 | B26: Responsabilidad civil extracontractual | C26: un | D26: 200 SMLMV | E26: 0.001 | F26: 284700000 | G26: =+F26*E26 -> 284700
A27: 4.2 | B27: Impuestos Municipales
A28: 4.2.1 | B28: Estampilla Pro Bienestar del Adulto Mayor | C28: un | D28: 1 | E28: 0.04 | F28: =+$G$6*E28 -> 7587108.8 | G28: =+F28 -> 7587108.8
A29: 4.2.2 | B29: Estampilla Pro Cultura | C29: un | D29: 1 | E29: 0.015 | F29: =+$G$6*E29 -> 2845165.8 | G29: =+F29 -> 2845165.8
A30: 4.2.3 | B30: Estampilla Pro Justicia | C30: un | D30: 1 | E30: 0.02 | F30: =+$G$6*E30 -> 3793554.4 | G30: =+F30 -> 3793554.4
A31: 4.2.4 | B31: Estampilla Pro Deporte | C31: un | D31: 1 | E31: 0.02 | F31: =+$G$6*E31 -> 3793554.4 | G31: =+F31 -> 3793554.4
G34: =SUM(G25:G33) -> 18304083
B36: TOTAL ADMINISTRACION | F36: =G36/G6 -> 0.23 | G36: =ROUND(SUM(G34+G17+G22+G13),0) -> 43625876 | I36: 0.23
I37: =+'P. Obras Civiles'!G107 -> 43625876 | J37: SUPOSED
B38: IMPREVISTOS | F38: 0.02 | G38: =ROUND(F38*G6,0) -> 3793554 | I38: =+G34+G22+G17+G13 -> 43625876 | J38: HAY
I39: =+I37-I38 -> -0.495 | J39: DIFE
B40: UTILIDAD | F40: 0.05 | G40: =ROUND(F40*G6,0) -> 9483886
B42: TOTAL AIU | F42: =F36+F38+F40 -> 0.3 | G42: =SUM(G36:G41) -> 56903316 | L42: 1270175887
B49: ARQ. ÁNGELA MILENA ARCOS ORDOÑEZ
B50: No. T.P. A1485552010-59313786

Sheet INTERVENTORIA EL CEDRO
B2: INTERVENTORÍA
B3: =+'P. Obras Civiles'!B2 -> PRESUPUESTO PARA LA ADECUACIÓN MENOR DEL PUESTO DE SALUD CEDRO DE RONCESVALLES, TOLIMA Ministerio de Salud y Protección Social Subdirección de Infraestructura en Salud
B4: ITEM | C4: DESCRIPCIÓN | D4: CANT | E4: SALARIO MES | F4: % DEDICACIÓN | H4: VR. MENSUAL | I4: DURACIÓN | K4: VR. PARCIAL
B5: 1 | C5: PERSONAL PROFESIONAL
B6: 1.1 | C6: Residente de Interventoria | D6: 1 | E6: 1500000 | F6: 1 | H6: =+E6*F6*D6 -> 1500000 | I6: 4 | K6: =ROUND(+H6*I6,0) -> 6000000
B7: SUBTOTAL COSTOS PERSONAL | K7: =ROUND(SUM(K6:L6),0) -> 6000000
B8: FACTOR MULTIPLICADOR | K8: =+FM!I45 -> 2.1779733
B9: TOTAL COSTOS PERSONAL | K9: =+ROUND(K7*K8,0) -> 13067840
B11: ITEM | C11: DESCRIPCIÓN | D11: UND | E11: CANT | F11: VR. UNIT | H11: VR. PARCIAL | I11: DURACIÓN | K11: VR. PARCIAL
B12: 3 | C12: COSTOS ADMINISTRATIVOS
B13: 3.2 | C13: Edición de informes, memorias, registro fotográfico | D13: UND | E13: 1 | F13: 120142.02 | H13: =+E13*F13 -> 120142.02 | I13: 4 | K13: =H13*I13 -> 480568.07
B14: SUBTOTAL COSTOS GASTOS ADMINISTRATIVOS | K14: =+SUM(K13:L13) -> 480568.07
B15: SUBTOTAL PROYECTO | K15: =+K14+K9 -> 13548408
B16: IVA (19%) | K16: =+ROUND(K15*0.19,0) -> 2574198
B17: TOTAL INTERVENTORIA | K17: =ROUND(+K15+K16,0) -> 16122606
C27: Nombre: ARQ. ÁNGELA MILENA ARCOS ORDOÑEZ
C28: No. T.P. A1485552010-59313786

Sheet FM
A1: FACTOR MULTIPLICADOR PARA CONTRATOS DE INTERVENTORIA
C2: CONCEPTO | I2: PORCENTAJE
A3: 1. | B3: Salarios y Prestaciones Sociales de Personal Facturable
A4: 1.1. | B4: Salarios | I4: 1
A5: 1.2. | B5: Prima anual (legal) | I5: =1/12 -> 0.083333333
A6: 1.3. | B6: Cesantía | I6: =1/12 -> 0.083333333
A7: 1.4. | B7: Intereses de cesantía | I7: 0.01
A8: 1.5. | B8: Vacaciones | I8: =+I6/2 -> 0.041666667
A9: 1.6. | B9: Seguridad Social (salud + pensión) | I9: 0.205 | J9: =8.5+12 -> 20.5
A10: 1.7. | B10: Caja de Compensación Familiar | I10: 0.04
A11: 1.8. | B11: ARL | I11: 0.0696
A12: 1.9. | B12: Sena | I12: 0.02
A13: 1.10. | B13: ICBF | I13: 0.03
A14: 1.11. | B14: Otros (Auxilios varios, prestaciones extralegales, Incapacidades no cubiertas) | I14: 0.01
A15: 1.12. | B15: Dotación | I15: 0.04
F16: Sub-total | I16: =SUM(I4:I15) -> 1.6329333
A18: 2. | B18: Gastos Directos
A19: 2.1. | B19: Arriendo oficina | I19: 0.015
F20: Sub-total | I20: =SUM(I19:I19) -> 0.015
A22: 3. | B22: Gastos Generales
A23: 3.1 | B23: Preparación de Propuesta | I23: 0.0117
A24: 3.2 | B24: Asesoria Contable Tributaria y Juridica | I24: 0.05
A25: 3.3 | B25: Equipos y mantenimiento Oficina (Aseo) | I25: 0.005
A26: 3.4 | B26: Personal Administrativo no facturado | I26: 0.01
A27: 3.5 | B27: Gastos bancarios | I27: =0.4*1.21% -> 0.00484
A28: 3.6 | B28: Gastos de Representación | I28: 0.005
F29: Sub-total | I29: =SUM(I23:I28) -> 0.08654
A31: 4. | B31: Costos Directos no Reembolsables
A32: 4.1 | B32: Poliza de Calidad | I32: =0.5*1.21% -> 0.00605
A33: 4.2 | B33: Póliza Cumplimiento | I33: 0.0121
A34: 4.3 | B34: Póliza Salarios y prestaciones Sociales | I34: =2.5*1.21% -> 0.03025
A35: 4.4 | B35: Estampillas | I35: 0.095 | K35: =9.66/1000 -> 0.00966 | L35: 0.00966 | M35: =26+L35 -> 26.00966
A36: 4.5 | B36: Impuestos | I36: 0.2601 | K36: =+K35*100 -> 0.966
F37: Sub-total | I37: =SUM(I32:I36) -> 0.4035
A40: 5. | B40: Honorarios (Utilidad del consultor y costos no previstos) | F40: Sub-total | I40: 0.04
A43: F. M T O T A L CALCULADO | I43: =SUM(I40,I37,I29,I20,I16) -> 2.1779733
A45: F. M T O T A L ASUMIDO | I45: =I43 -> 2.1779733
B52: Nombre: ARQ. ÁNGELA MILENA ARCOS ORDOÑEZ
B53: No. T.P. A1485552010-59313786

Sheet Herramientas y Equipos
B2: EQUIPOS Y HERRAMIENTAS
B3: CÓDIGO | C3: HERRAMIENTAS | D3: UND | E3: TARIFA/HORA
B4: E100001 | C4: Afinador de Piso, Tipo Helicoptero | D4: Hora | E4: =75000/8 -> 9375
B5: E100002 | C5: Andamio de seguridad 1,40x2,07 H=2+1 | D5: Hora | E5: 7500
B6: E100003 | C6: Compactador Manual (Saltarín compactador) | D6: Hora | E6: =90000/8 -> 11250
B7: E100004 | C7: Compresor 120 HP, con martillo y punta para pavimento rigido y flexible | D7: Hora | E7: 80000
B8: E100005 | C8: Compresor Eléctrico 65 lb | D8: Hora | E8: =75000/8 -> 9375
B9: E100006 | C9: Cortadora de concreto Diesel | D9: Hora | E9: 20000
B10: E100007 | C10: Equipo de Oxicorte | D10: Hora | E10: =95000/8 -> 11875
B11: E100008 | C11: Equipo de soldadura | D11: Hora | E11: =80000/8 -> 10000
B12: E100009 | C12: Equipo topografico | D12: GLB | E12: 100000
B13: E100010 | C13: Escalera Multiproposito H= 3,55M | D13: Hora | E13: 3500
B14: E100011 | C14: Herramienta menor A, Ornamentación | D14: % | E14: 0.04
B15: E100012 | C15: Herramienta menor B, Campamentos | D15: % | E15: 0.04
B16: E100013 | C16: Herramienta menor C, Instalaciones | D16: % | E16: 0.04
B17: E100014 | C17: Herramienta menor D, Eléctrico | D17: % | E17: 0.04
B18: E100015 | C18: Herramienta menor E, Gral. Obra | D18: % | E18: 0.04
B19: E100016 | C19: Dotacion especial para la actividad Soldadura | D19: % | E19: 0.06
B20: E100017 | C20: Hidrolavadora 1450psi Máx. 6.5Lt/Min | D20: Hora | E20: =50000/8 -> 6250
B21: E100018 | C21: Laboratorio de Densidades (Tipo INVIAS 220-13) | D21: Glb | E21: 800000
B22: E100019 | C22: Laboratorio de Densidades (Tipo INVIAS 230-13) | D22: Glb | E22: 900000
B23: E100020 | C23: Mezcladora cap 1 bulto Diesel | D23: Hora | E23: =75000/8 -> 9375
B24: E100021 | C24: Mezcladora cap 1/2 bulto electrica | D24: Hora | E24: =65000/8 -> 8125
B25: E100022 | C25: Minicargador bobcat | D25: Hora | E25: 110000
B26: E100023 | C26: Molde Multiple-Tipo dado DISTINTOS TIPOS DE CONEXIÓN (Soldadura Exotérmica) | D26: Hora | E26: =45000/8 -> 5625
B27: E100024 | C27: Pinza para soldaduras con molde múltiple MM-053N | D27: Hora | E27: =40000/8 -> 5000
B28: E100025 | C28: Pulidora 2200w 6000 Rpm | D28: Hora | E28: 5000
B29: E100026 | C29: Retroexcavadora, potencia en el volante 78hp 2200 rpm | D29: Hora | E29: 135000
B30: E100027 | C30: Soplete para impermeabilizar | D30: GLB | E30: =134900*1.4 -> 188860
B31: E100028 | C31: Tablero Metálico - Formaleta | D31: M2 | E31: 1300
B32: E100029 | C32: Tronzadora rpm 3800, 14 pulgadas | D32: Hora | E32: =55000/8 -> 6875
B33: E100030 | C33: Vibrador de Concreto electrico | D33: Hora | E33: =85000/8 -> 10625
B34: E100031 | C34: Vibrocompactador de rodillo 8T 83KW | D34: Hora | E34: 125000
B35: E100032 | C35: Taladro percutor 860W | D35: Hora | E35: =60000/8 -> 7500
B36: E100033 | C36: Guadaña | D36: Hora | E36: 6500
B37: E100034 | C37: Rotomartillo | D37: Hora | E37: =70000/8 -> 8750
B38: E100035 | C38: Planta Electrica 12 hp 110-220 V | D38: Hora | E38: 8750
B39: E100036 | C39: Andamio certificado | D39: día | E39: =66188*1.05 -> 69497.4
B40: E100037 | C40: Taladro con sierra copa de 1 1/2" | D40: Hora | E40: 10000
B41: E100038 | C41: Formaleta madera 25 cm x 3 cm x 3m | D41: UND | E41: 24150
...

Sheet Mano de Obra
B3: BALANCE SALARIO PERSONAL REQUERIDO
F5: SMLV | H5: 1423500
F6: Transporte < 2SMLV | H6: 200000
F7: Total | H7: =+H6+H5 -> 1623500
B9: Seguridad Social
B10: Personal | C10: Salario en salarios | D10: Salario | E10: Salud | F10: Riesgo | G10: Pensión | H10: Total
C11: Mínimos | D11: Diario | F11: Profes T V | H11: Seg. Social
B13: Profesional Civil | C13: 4.2 | D13: =+$H$7/30*C13 -> 227290 | E13: =ROUND(D13*0.12*0.75,) -> 20456 | F13: =ROUND(D13*6.96/100,) -> 15819 | G13: =ROUND(D13*0.15*0.75,) -> 25570 | H13: =+E13+F13+G13 -> 61845
B14: Profesional HSE | C14: 3 | D14: =+$H$7/30*C14 -> 162350 | E14: =ROUND(D14*0.12*0.75,) -> 14612 | F14: =ROUND(D14*6.96/100,) -> 11300 | G14: =ROUND(D14*0.15*0.75,) -> 18264 | H14: =+E14+F14+G14 -> 44176
B15: Maestro de Obra | C15: 3 | D15: =+$H$7/30*C15 -> 162350 | E15: =ROUND(D15*0.12*0.75,) -> 14612 | F15: =ROUND(D15*6.96/100,) -> 11300 | G15: =ROUND(D15*0.15*0.75,) -> 18264 | H15: =+E15+F15+G15 -> 44176
B16: Técnico de Obra | C16: 2.5 | D16: =+$H$7/30*C16 -> 135291.67 | E16: =ROUND(D16*0.12*0.75,) -> 12176 | F16: =ROUND(D16*6.96/100,) -> 9416 | G16: =ROUND(D16*0.15*0.75,) -> 15220 | H16: =+E16+F16+G16 -> 36812
B17: Oficial de Obra | C17: 2.3 | D17: =+$H$7/30*C17 -> 124468.33 | E17: =ROUND(D17*0.12*0.75,) -> 11202 | F17: =ROUND(D17*6.96/100,) -> 8663 | G17: =ROUND(D17*0.15*0.75,) -> 14003 | H17: =+E17+F17+G17 -> 33868
B18: Técnico Electricista | C18: 2.5 | D18: =+$H$7/30*C18 -> 135291.67 | E18: =ROUND(D18*0.12*0.75,) -> 12176 | F18: =ROUND(D18*6.96/100,) -> 9416 | G18: =ROUND(D18*0.15*0.75,) -> 15220 | H18: =+E18+F18+G18 -> 36812
B19: Ayudante de Obra | C19: 1.7 | D19: =+$H$7/30*C19 -> 91998.333 | E19: =ROUND(D19*0.12*0.75,) -> 8280 | F19: =ROUND(D19*6.96/100,) -> 6403 | G19: =ROUND(D19*0.15*0.75,) -> 10350 | H19: =+E19+F19+G19 -> 25033
B20: Técnico Instalador Hidrosanitario | C20: 3 | D20: =+$H$7/30*C20 -> 162350 | E20: =ROUND(D20*0.12*0.75,) -> 14612 | F20: =ROUND(D20*6.96/100,) -> 11300 | G20: =ROUND(D20*0.15*0.75,) -> 18264 | H20: =+E20+F20+G20 -> 44176
B21: Topógrafo | C21: 3 | D21: =+$H$7/30*C21 -> 162350 | E21: =ROUND(D21*0.12*0.75,) -> 14612 | F21: =ROUND(D21*6.96/100,) -> 11300 | G21: =ROUND(D21*0.15*0.75,) -> 18264 | H21: =+E21+F21+G21 -> 44176
B22: Ornamentador | C22: 2.5 | D22: =+$H$7/30*C22 -> 135291.67 | E22: =ROUND(D22*0.12*0.75,) -> 12176 | F22: =ROUND(D22*6.96/100,) -> 9416 | G22: =ROUND(D22*0.15*0.75,) -> 15220 | H22: =+E22+F22+G22 -> 36812
B24: Prestaciones Sociales
B25: Personal | C25: Salario | D25: Vacaciones | E25: Prima | F25: Cesantías | G25: Interés de | H25: Total
C26: Diario | G26: Cesantías | H26: Prestac.
B28: Profesional Civil | C28: =D13 -> 227290 | D28: =ROUND(C28*15/365,) -> 9341 | E28: =ROUND(C28*30/365,) -> 18681 | F28: =+E28 -> 18681 | G28: =ROUND(F28*0.12,) -> 2242 | H28: =+G28+F28+E28+D28 -> 48945
B29: Profesional HSE | C29: =D14 -> 162350 | D29: =ROUND(C29*15/365,) -> 6672 | E29: =ROUND(C29*30/365,) -> 13344 | F29: =+E29 -> 13344 | G29: =ROUND(F29*0.12,) -> 1601 | H29: =+G29+F29+E29+D29 -> 34961
B30: Maestro de Obra | C30: =D15 -> 162350 | D30: =ROUND(C30*15/365,) -> 6672 | E30: =ROUND(C30*30/365,) -> 13344 | F30: =+E30 -> 13344 | G30: =ROUND(F30*0.12,) -> 1601 | H30: =+G30+F30+E30+D30 -> 34961
B31: Técnico de Obra | C31: =D16 -> 135291.67 | D31: =ROUND(C31*15/365,) -> 5560 | E31: =ROUND(C31*30/365,) -> 11120 | F31: =+E31 -> 11120 | G31: =ROUND(F31*0.12,) -> 1334 | H31: =+G31+F31+E31+D31 -> 29134
B32: Oficial de Obra | C32: =D17 -> 124468.33 | D32: =ROUND(C32*15/365,) -> 5115 | E32: =ROUND(C32*30/365,) -> 10230 | F32: =+E32 -> 10230 | G32: =ROUND(F32*0.12,) -> 1228 | H32: =+G32+F32+E32+D32 -> 26803
B33: Técnico Electricista | C33: =D18 -> 135291.67 | D33: =ROUND(C33*15/365,) -> 5560 | E33: =ROUND(C33*30/365,) -> 11120 | F33: =+E33 -> 11120 | G33: =ROUND(F33*0.12,) -> 1334 | H33: =+G33+F33+E33+D33 -> 29134
B34: Ayudante de Obra | C34: =D19 -> 91998.333 | D34: =ROUND(C34*15/365,) -> 3781 | E34: =ROUND(C34*30/365,) -> 7562 | F34: =+E34 -> 7562 | G34: =ROUND(F34*0.12,) -> 907 | H34: =+G34+F34+E34+D34 -> 19812
B35: Técnico Instalador Hidrosanitario | C35: =D20 -> 162350 | D35: =ROUND(C35*15/365,) -> 6672 | E35: =ROUND(C35*30/365,) -> 13344 | F35: =+E35 -> 13344 | G35: =ROUND(F35*0.12,) -> 1601 | H35: =+G35+F35+E35+D35 -> 34961
B36: Topógrafo | C36: =+D21 -> 162350 | D36: =ROUND(C36*15/365,) -> 6672 | E36: =ROUND(C36*30/365,) -> 13344 | F36: =+E36 -> 13344 | G36: =ROUND(F36*0.12,) -> 1601 | H36: =+G36+F36+E36+D36 -> 34961
B37: Ornamentador | C37: =D22 -> 135291.67 | D37: =ROUND(C37*15/365,) -> 5560 | E37: =ROUND(C37*30/365,) -> 11120 | F37: =+E37 -> 11120 | G37: =ROUND(F37*0.12,) -> 1334 | H37: =+G37+F37+E37+D37 -> 29134
B39: Parafiscales
B40: Personal | D40: Salario | E40: Caja de | F40: Bienestar | G40: Sena | H40: Total
D41: Diario | E41: Compen. | F41: familiar | H41: Prestac.
B43: Profesional Civil | D43: =C28 -> 227290 | E43: =ROUND(D43*0.04,) -> 9092 | F43: =ROUND(D43*0.03,) -> 6819 | G43: =ROUND(D43*0.02,) -> 4546 | H43: =+E43+F43+G43 -> 20457
B44: Profesional HSE | D44: =C29 -> 162350 | E44: =ROUND(D44*0.04,) -> 6494 | F44: =ROUND(D44*0.03,) -> 4871 | G44: =ROUND(D44*0.02,) -> 3247 | H44: =+E44+F44+G44 -> 14612
B45: Maestro de Obra | D45: =C30 -> 162350 | E45: =ROUND(D45*0.04,) -> 6494 | F45: =ROUND(D45*0.03,) -> 4871 | G45: =ROUND(D45*0.02,) -> 3247 | H45: =+E45+F45+G45 -> 14612
B46: Técnico de Obra | D46: =C31 -> 135291.67 | E46: =ROUND(D46*0.04,) -> 5412 | F46: =ROUND(D46*0.03,) -> 4059 | G46: =ROUND(D46*0.02,) -> 2706 | H46: =+E46+F46+G46 -> 12177
B47: Oficial de Obra | D47: =C32 -> 124468.33 | E47: =ROUND(D47*0.04,) -> 4979 | F47: =ROUND(D47*0.03,) -> 3734 | G47: =ROUND(D47*0.02,) -> 2489 | H47: =+E47+F47+G47 -> 11202
B48: Técnico Electricista | D48: =C33 -> 135291.67 | E48: =ROUND(D48*0.04,) -> 5412 | F48: =ROUND(D48*0.03,) -> 4059 | G48: =ROUND(D48*0.02,) -> 2706 | H48: =+E48+F48+G48 -> 12177
B49: Ayudante de Obra | D49: =C34 -> 91998.333 | E49: =ROUND(D49*0.04,) -> 3680 | F49: =ROUND(D49*0.03,) -> 2760 | G49: =ROUND(D49*0.02,) -> 1840 | H49: =+E49+F49+G49 -> 8280
...

Sheet Señalización
A1: SEÑALES DE SEGURIDAD Y SALUD EN EL TRABAJO
A3: DESCRIPCION | B3: UNIDAD | C3: TARIFA
A4: Cinta de peligro 100 mts | B4: rollo | C4: 19900
A5: Malla de proteccion y prevencion de 1,5x10mts | B5: und | C5: 128900
A6: Señal trabajos o Actividad | B6: und | C6: 350000
A7: Botiquin | B7: gbl | C7: =159900*1.07 -> 171093
A8: Extintor 10 lb | B8: und | C8: 79900
A9: Camilla | B9: und | C9: 344433
A10: Cuello ortopedico | B10: und | C10: 108300
A11: Señales informativas | B11: und | C11: 20000
A12: Carpa | B12: und | C12: 650000
A13: Tablero operativo | B13: und | C13: =35000*1.07 -> 37450
A14: Termo de hidratacion | B14: und | C14: =129900*1.07 -> 138993
A20: Nombre: ARQ. ÁNGELA MILENA ARCOS ORDOÑEZ
A21: No. T.P. A1485552010-59313786
