Workbook

Sheet ANEXO 1
B2: ANEXO 1 - ANÁLISIS DE COTIZACIONES
D3: PRESTAR EL SERVICIO DE MANTENIMIENTO PREVENTIVO Y CORRECTIVO TÉCNICO INTEGRAL ESPECIALIZADO CON SUMINISTRO DE INSUMOS Y BOLSA DE REPUESTOS PARA LAS PLANTAS ELÉCTRICAS DE EMERGENCIA Y LAS TRANSFERENCIAS ELÉCTRICAS AUTOMÁTICAS DE CARGA CON QUE CUENTAN LAS SEDES DEL NIVEL CENTRAL DE LA FISCALÍA GENERAL DE LA NACIÓN.
J5: COTIZACIÓN 1 | AA5: VALORES TOMADOS
B7: MANTENIMIENTOS | J7: PRESUPUESTO TOTAL ASIGNADO 2026 VIGENCIA : 1 MES | O7: PRESUPUESTO TOTAL ASIGNADO VIGENCIA 2027 - 12 MESES | Q7: PORCENTAJE DE INCREMENTO | R7: 0.044 | T7: PRESUPUESTO TOTAL ASIGNADO VIGENCIA 2028 - 11 MESES | V7: PORCENTAJE DE INCREMENTO | W7: 0.03 | Y7: PRESUPUESTO TOTAL ASIGNADO AL PROCESO VIGENCIAS 2026, 2027 Y 2028 MANTENIMIENTOS (24 MESES) | AA7: PRESUPUESTO TOTAL ASIGNADO 2026 VIGENCIA : 1 MES | AF7: PRESUPUESTO TOTAL ASIGNADO VIGENCIA 2027 - 12 MESES | AH7: PORCENTAJE DE INCREMENTO | AI7: 0.044 | AK7: PRESUPUESTO TOTAL ASIGNADO VIGENCIA 2028 - 11 MESES | AM7: PORCENTAJE DE INCREMENTO | AN7: 0.03 | AP7: PRESUPUESTO TOTAL ASIGNADO AL PROCESO VIGENCIAS 2026, 2027 Y 2028 MANTENIMIENTOS (24 MESES)
B8: ITEM | C8: DESCRIPCIÓN | D8: FRECUENCIA | E8: CANTIDAD DE EQUIPOS | F8: CANTIDAD DE MANTENIMIENTOS POR AÑO | J8: VALOR UNITARIO SIN IVA | K8: IVA UNITARIO | L8: VALOR UNITARIO INCLUIDO IVA | M8: VALOR TOTAL INCLUIDO IVA | O8: VALOR UNITARIO SIN IVA | P8: IVA UNITARIO | Q8: VALOR UNITARIO INCLUIDO IVA | R8: VALOR TOTAL INCLUIDO IVA | T8: VALOR UNITARIO SIN IVA | U8: IVA UNITARIO | V8: VALOR UNITARIO INCLUIDO IVA | W8: VALOR TOTAL INCLUIDO IVA | AA8: VALOR UNITARIO SIN IVA | AB8: IVA UNITARIO | AC8: VALOR UNITARIO INCLUIDO IVA | AD8: VALOR TOTAL INCLUIDO IVA | AF8: VALOR UNITARIO SIN IVA | AG8: IVA UNITARIO | AH8: VALOR UNITARIO INCLUIDO IVA | AI8: VALOR TOTAL INCLUIDO IVA | AK8: VALOR UNITARIO SIN IVA | AL8: IVA UNITARIO | AM8: VALOR UNITARIO INCLUIDO IVA | AN8: VALOR TOTAL INCLUIDO IVA
F9: 2026 | G9: 2027 | H9: 2028
B10: 1 | C10: SERVICIO MANTENIMIENTO PREVENTIVO Y CORRECTIVO PLANTA CUMMINS ABC POWER 240 Kw Av. Calle 24 No. 52-01 Ciudad Salitre (SEGÚN ESPECIFICACIONES TÉCNICAS) | D10: MENSUAL | E10: 1 | F10: 1 | G10: 12 | H10: 11 | J10: 2250000 | K10: =ROUND(J10*19%,2) -> 427500 | L10: =ROUND(J10+K10,2) -> 2677500 | M10: =ROUND(L10*$F10,2) -> 2677500 | O10: =ROUND(J10+(J10*$R$7),2) -> 2349000 | P10: =ROUND(O10*19%,2) -> 446310 | Q10: =ROUND(O10+P10,2) -> 2795310 | R10: =ROUND(Q10*$G10,2) -> 33543720 | T10: =ROUND(O10+(O10*$W$7),2) -> 2419470 | U10: =ROUND(T10*19%,2) -> 459699.3 | V10: =ROUND(T10+U10,2) -> 2879169.3 | W10: =ROUND(V10*$H10,2) -> 31670862 | Y10: =ROUND(M10+R10+W10,2) -> 67892082 | AA10: =J10 -> 2250000 | AB10: =ROUND(AA10*19%,2) -> 427500 | AC10: =ROUND(AA10+AB10,2) -> 2677500 | AD10: =ROUND(AC10*$F10,2) -> 2677500 | AF10: =ROUND(AA10+(AA10*$AI$7),2) -> 2349000 | AG10: =ROUND(AF10*19%,2) -> 446310 | AH10: =ROUND(AF10+AG10,2) -> 2795310 | AI10: =ROUND(AH10*$G10,2) -> 33543720 | AK10: =ROUND(AF10+(AF10*$AN$7),2) -> 2419470 | AL10: =ROUND(AK10*19%,2) -> 459699.3 | AM10: =ROUND(AK10+AL10,2) -> 2879169.3 | AN10: =ROUND(AM10*$H10,2) -> 31670862 | AP10: =ROUND(AD10+AI10+AN10,2) -> 67892082
B11: 2 | C11: SERVICIO MANTENIMIENTO PREVENTIVO Y CORRECTIVO PLANTA CUMMINS ONAN 750 KW Av. Calle 24 No. 52-01 Ciudad Salitre (SEGÚN ESPECIFICACIONES TÉCNICAS) | D11: MENSUAL | E11: 1 | F11: 1 | G11: 12 | H11: 11 | J11: 4083333.3 | K11: =ROUND(J11*19%,2) -> 775833.33 | L11: =ROUND(J11+K11,2) -> 4859166.7 | M11: =ROUND(L11*$F11,2) -> 4859166.7 | O11: =ROUND(J11+(J11*$R$7),2) -> 4263000 | P11: =ROUND(O11*19%,2) -> 809970 | Q11: =ROUND(O11+P11,2) -> 5072970 | R11: =ROUND(Q11*$G11,2) -> 60875640 | T11: =ROUND(O11+(O11*$W$7),2) -> 4390890 | U11: =ROUND(T11*19%,2) -> 834269.1 | V11: =ROUND(T11+U11,2) -> 5225159.1 | W11: =ROUND(V11*$H11,2) -> 57476750 | Y11: =ROUND(M11+R11+W11,2) -> 1.2321156e+08 | AA11: =J11 -> 4083333.3 | AB11: =ROUND(AA11*19%,2) -> 775833.33 | AC11: =ROUND(AA11+AB11,2) -> 4859166.7 | AD11: =ROUND(AC11*$F11,2) -> 4859166.7 | AF11: =ROUND(AA11+(AA11*$AI$7),2) -> 4263000 | AG11: =ROUND(AF11*19%,2) -> 809970 | AH11: =ROUND(AF11+AG11,2) -> 5072970 | AI11: =ROUND(AH11*$G11,2) -> 60875640 | AK11: =ROUND(AF11+(AF11*$AN$7),2) -> 4390890 | AL11: =ROUND(AK11*19%,2) -> 834269.1 | AM11: =ROUND(AK11+AL11,2) -> 5225159.1 | AN11: =ROUND(AM11*$H11,2) -> 57476750 | AP11: =ROUND(AD11+AI11+AN11,2) -> 1.2321156e+08
B12: 3 | C12: SERVICIO MANTENIMIENTO PREVENTIVO Y CORRECTIVO PLANTA CUMMINS ONAN 1000 KW Av. Calle 24 No. 52-01 Ciudad Salitre | D12: MENSUAL | E12: 1 | F12: 1 | G12: 12 | H12: 11 | J12: 5250000 | K12: =ROUND(J12*19%,2) -> 997500 | L12: =ROUND(J12+K12,2) -> 6247500 | M12: =ROUND(L12*$F12,2) -> 6247500 | O12: =ROUND(J12+(J12*$R$7),2) -> 5481000 | P12: =ROUND(O12*19%,2) -> 1041390 | Q12: =ROUND(O12+P12,2) -> 6522390 | R12: =ROUND(Q12*$G12,2) -> 78268680 | T12: =ROUND(O12+(O12*$W$7),2) -> 5645430 | U12: =ROUND(T12*19%,2) -> 1072631.7 | V12: =ROUND(T12+U12,2) -> 6718061.7 | W12: =ROUND(V12*$H12,2) -> 73898679 | Y12: =ROUND(M12+R12+W12,2) -> 1.5841486e+08 | AA12: =J12 -> 5250000 | AB12: =ROUND(AA12*19%,2) -> 997500 | AC12: =ROUND(AA12+AB12,2) -> 6247500 | AD12: =ROUND(AC12*$F12,2) -> 6247500 | AF12: =ROUND(AA12+(AA12*$AI$7),2) -> 5481000 | AG12: =ROUND(AF12*19%,2) -> 1041390 | AH12: =ROUND(AF12+AG12,2) -> 6522390 | AI12: =ROUND(AH12*$G12,2) -> 78268680 | AK12: =ROUND(AF12+(AF12*$AN$7),2) -> 5645430 | AL12: =ROUND(AK12*19%,2) -> 1072631.7 | AM12: =ROUND(AK12+AL12,2) -> 6718061.7 | AN12: =ROUND(AM12*$H12,2) -> 73898679 | AP12: =ROUND(AD12+AI12+AN12,2) -> 1.5841486e+08
B13: 4 | C13: SERVICIO MANTENIMIENTO PREVENTIVO Y CORRECTIVO PLANTA PERKINS-SPECTRUM 100 KW Carrera 13 No. 73-50 (SEGÚN ESPECIFICACIONES TÉCNICAS) | D13: MENSUAL | E13: 1 | F13: 1 | G13: 12 | H13: 11 | J13: 1416666.7 | K13: =ROUND(J13*19%,2) -> 269166.67 | L13: =ROUND(J13+K13,2) -> 1685833.3 | M13: =ROUND(L13*$F13,2) -> 1685833.3 | O13: =ROUND(J13+(J13*$R$7),2) -> 1479000 | P13: =ROUND(O13*19%,2) -> 281010 | Q13: =ROUND(O13+P13,2) -> 1760010 | R13: =ROUND(Q13*$G13,2) -> 21120120 | T13: =ROUND(O13+(O13*$W$7),2) -> 1523370 | U13: =ROUND(T13*19%,2) -> 289440.3 | V13: =ROUND(T13+U13,2) -> 1812810.3 | W13: =ROUND(V13*$H13,2) -> 19940913 | Y13: =ROUND(M13+R13+W13,2) -> 42746867 | AA13: =J13 -> 1416666.7 | AB13: =ROUND(AA13*19%,2) -> 269166.67 | AC13: =ROUND(AA13+AB13,2) -> 1685833.3 | AD13: =ROUND(AC13*$F13,2) -> 1685833.3 | AF13: =ROUND(AA13+(AA13*$AI$7),2) -> 1479000 | AG13: =ROUND(AF13*19%,2) -> 281010 | AH13: =ROUND(AF13+AG13,2) -> 1760010 | AI13: =ROUND(AH13*$G13,2) -> 21120120 | AK13: =ROUND(AF13+(AF13*$AN$7),2) -> 1523370 | AL13: =ROUND(AK13*19%,2) -> 289440.3 | AM13: =ROUND(AK13+AL13,2) -> 1812810.3 | AN13: =ROUND(AM13*$H13,2) -> 19940913 | AP13: =ROUND(AD13+AI13+AN13,2) -> 42746867
B14: 5 | C14: SERVICIO MANTENIMIENTO PREVENTIVO Y CORRECTIVO PLANTA PERKINS-GENERALLY 40 KW Carrera 18A No. 39A-33/39 Casona (SEGÚN ESPECIFICACIONES TÉCNICAS) | D14: MENSUAL | E14: 1 | F14: 1 | G14: 12 | H14: 11 | J14: 1083333.3 | K14: =ROUND(J14*19%,2) -> 205833.33 | L14: =ROUND(J14+K14,2) -> 1289166.7 | M14: =ROUND(L14*$F14,2) -> 1289166.7 | O14: =ROUND(J14+(J14*$R$7),2) -> 1131000 | P14: =ROUND(O14*19%,2) -> 214890 | Q14: =ROUND(O14+P14,2) -> 1345890 | R14: =ROUND(Q14*$G14,2) -> 16150680 | T14: =ROUND(O14+(O14*$W$7),2) -> 1164930 | U14: =ROUND(T14*19%,2) -> 221336.7 | V14: =ROUND(T14+U14,2) -> 1386266.7 | W14: =ROUND(V14*$H14,2) -> 15248934 | Y14: =ROUND(M14+R14+W14,2) -> 32688780 | AA14: =J14 -> 1083333.3 | AB14: =ROUND(AA14*19%,2) -> 205833.33 | AC14: =ROUND(AA14+AB14,2) -> 1289166.7 | AD14: =ROUND(AC14*$F14,2) -> 1289166.7 | AF14: =ROUND(AA14+(AA14*$AI$7),2) -> 1131000 | AG14: =ROUND(AF14*19%,2) -> 214890 | AH14: =ROUND(AF14+AG14,2) -> 1345890 | AI14: =ROUND(AH14*$G14,2) -> 16150680 | AK14: =ROUND(AF14+(AF14*$AN$7),2) -> 1164930 | AL14: =ROUND(AK14*19%,2) -> 221336.7 | AM14: =ROUND(AK14+AL14,2) -> 1386266.7 | AN14: =ROUND(AM14*$H14,2) -> 15248934 | AP14: =ROUND(AD14+AI14+AN14,2) -> 32688780
B15: 6 | C15: SERVICIO MANTENIMIENTO PREVENTIVO Y CORRECTIVO PLANTA LISTER PETER 225 KW Carrera 30 No. 13-24 (SEGÚN ESPECIFICACIONES TÉCNICAS) | D15: MENSUAL | E15: 1 | F15: 1 | G15: 12 | H15: 11 | J15: 2083333.3 | K15: =ROUND(J15*19%,2) -> 395833.33 | L15: =ROUND(J15+K15,2) -> 2479166.7 | M15: =ROUND(L15*$F15,2) -> 2479166.7 | O15: =ROUND(J15+(J15*$R$7),2) -> 2175000 | P15: =ROUND(O15*19%,2) -> 413250 | Q15: =ROUND(O15+P15,2) -> 2588250 | R15: =ROUND(Q15*$G15,2) -> 31059000 | T15: =ROUND(O15+(O15*$W$7),2) -> 2240250 | U15: =ROUND(T15*19%,2) -> 425647.5 | V15: =ROUND(T15+U15,2) -> 2665897.5 | W15: =ROUND(V15*$H15,2) -> 29324872 | Y15: =ROUND(M15+R15+W15,2) -> 62863039 | AA15: =J15 -> 2083333.3 | AB15: =ROUND(AA15*19%,2) -> 395833.33 | AC15: =ROUND(AA15+AB15,2) -> 2479166.7 | AD15: =ROUND(AC15*$F15,2) -> 2479166.7 | AF15: =ROUND(AA15+(AA15*$AI$7),2) -> 2175000 | AG15: =ROUND(AF15*19%,2) -> 413250 | AH15: =ROUND(AF15+AG15,2) -> 2588250 | AI15: =ROUND(AH15*$G15,2) -> 31059000 | AK15: =ROUND(AF15+(AF15*$AN$7),2) -> 2240250 | AL15: =ROUND(AK15*19%,2) -> 425647.5 | AM15: =ROUND(AK15+AL15,2) -> 2665897.5 | AN15: =ROUND(AM15*$H15,2) -> 29324872 | AP15: =ROUND(AD15+AI15+AN15,2) -> 62863039
B16: 7 | C16: SERVICIO MANTENIMIENTO PREVENTIVO Y CORRECTIVO PLANTA CUMMINS ONAN 1000 KW Carrera 28 No. 18-64 Paloquemao (SEGÚN ESPECIFICACIONES TÉCNICAS) | D16: MENSUAL | E16: 1 | F16: 1 | G16: 12 | H16: 11 | J16: 5250000 | K16: =ROUND(J16*19%,2) -> 997500 | L16: =ROUND(J16+K16,2) -> 6247500 | M16: =ROUND(L16*$F16,2) -> 6247500 | O16: =ROUND(J16+(J16*$R$7),2) -> 5481000 | P16: =ROUND(O16*19%,2) -> 1041390 | Q16: =ROUND(O16+P16,2) -> 6522390 | R16: =ROUND(Q16*$G16,2) -> 78268680 | T16: =ROUND(O16+(O16*$W$7),2) -> 5645430 | U16: =ROUND(T16*19%,2) -> 1072631.7 | V16: =ROUND(T16+U16,2) -> 6718061.7 | W16: =ROUND(V16*$H16,2) -> 73898679 | Y16: =ROUND(M16+R16+W16,2) -> 1.5841486e+08 | AA16: =J16 -> 5250000 | AB16: =ROUND(AA16*19%,2) -> 997500 | AC16: =ROUND(AA16+AB16,2) -> 6247500 | AD16: =ROUND(AC16*$F16,2) -> 6247500 | AF16: =ROUND(AA16+(AA16*$AI$7),2) -> 5481000 | AG16: =ROUND(AF16*19%,2) -> 1041390 | AH16: =ROUND(AF16+AG16,2) -> 6522390 | AI16: =ROUND(AH16*$G16,2) -> 78268680 | AK16: =ROUND(AF16+(AF16*$AN$7),2) -> 5645430 | AL16: =ROUND(AK16*19%,2) -> 1072631.7 | AM16: =ROUND(AK16+AL16,2) -> 6718061.7 | AN16: =ROUND(AM16*$H16,2) -> 73898679 | AP16: =ROUND(AD16+AI16+AN16,2) -> 1.5841486e+08
B17: 8 | C17: SERVICIO MANTENIMIENTO PREVENTIVO Y CORRECTIVO PLANTA STEWART STEVENSON 145 KW Kilómetro 4 Vía Suba-Cota (SEGÚN ESPECIFICACIONES TÉCNICAS) | D17: MENSUAL | E17: 1 | F17: 1 | G17: 12 | H17: 11 | J17: 1750000 | K17: =ROUND(J17*19%,2) -> 332500 | L17: =ROUND(J17+K17,2) -> 2082500 | M17: =ROUND(L17*$F17,2) -> 2082500 | O17: =ROUND(J17+(J17*$R$7),2) -> 1827000 | P17: =ROUND(O17*19%,2) -> 347130 | Q17: =ROUND(O17+P17,2) -> 2174130 | R17: =ROUND(Q17*$G17,2) -> 26089560 | T17: =ROUND(O17+(O17*$W$7),2) -> 1881810 | U17: =ROUND(T17*19%,2) -> 357543.9 | V17: =ROUND(T17+U17,2) -> 2239353.9 | W17: =ROUND(V17*$H17,2) -> 24632893 | Y17: =ROUND(M17+R17+W17,2) -> 52804953 | AA17: =J17 -> 1750000 | AB17: =ROUND(AA17*19%,2) -> 332500 | AC17: =ROUND(AA17+AB17,2) -> 2082500 | AD17: =ROUND(AC17*$F17,2) -> 2082500 | AF17: =ROUND(AA17+(AA17*$AI$7),2) -> 1827000 | AG17: =ROUND(AF17*19%,2) -> 347130 | AH17: =ROUND(AF17+AG17,2) -> 2174130 | AI17: =ROUND(AH17*$G17,2) -> 26089560 | AK17: =ROUND(AF17+(AF17*$AN$7),2) -> 1881810 | AL17: =ROUND(AK17*19%,2) -> 357543.9 | AM17: =ROUND(AK17+AL17,2) -> 2239353.9 | AN17: =ROUND(AM17*$H17,2) -> 24632893 | AP17: =ROUND(AD17+AI17+AN17,2) -> 52804953
B18: 9 | C18: SERVICIO MANTENIMIENTO PREVENTIVO Y CORRECTIVO PLANTA DEUTZ-STAMFORD 43 KW Av. Calle 24 No. 52-01 Ciudad Salitre (SEGÚN ESPECIFICACIONES TÉCNICAS) | D18: MENSUAL | E18: 1 | F18: 1 | G18: 12 | H18: 11 | J18: 1133333.3 | K18: =ROUND(J18*19%,2) -> 215333.33 | L18: =ROUND(J18+K18,2) -> 1348666.7 | M18: =ROUND(L18*$F18,2) -> 1348666.7 | O18: =ROUND(J18+(J18*$R$7),2) -> 1183200 | P18: =ROUND(O18*19%,2) -> 224808 | Q18: =ROUND(O18+P18,2) -> 1408008 | R18: =ROUND(Q18*$G18,2) -> 16896096 | T18: =ROUND(O18+(O18*$W$7),2) -> 1218696 | U18: =ROUND(T18*19%,2) -> 231552.24 | V18: =ROUND(T18+U18,2) -> 1450248.2 | W18: =ROUND(V18*$H18,2) -> 15952731 | Y18: =ROUND(M18+R18+W18,2) -> 34197493 | AA18: =J18 -> 1133333.3 | AB18: =ROUND(AA18*19%,2) -> 215333.33 | AC18: =ROUND(AA18+AB18,2) -> 1348666.7 | AD18: =ROUND(AC18*$F18,2) -> 1348666.7 | AF18: =ROUND(AA18+(AA18*$AI$7),2) -> 1183200 | AG18: =ROUND(AF18*19%,2) -> 224808 | AH18: =ROUND(AF18+AG18,2) -> 1408008 | AI18: =ROUND(AH18*$G18,2) -> 16896096 | AK18: =ROUND(AF18+(AF18*$AN$7),2) -> 1218696 | AL18: =ROUND(AK18*19%,2) -> 231552.24 | AM18: =ROUND(AK18+AL18,2) -> 1450248.2 | AN18: =ROUND(AM18*$H18,2) -> 15952731 | AP18: =ROUND(AD18+AI18+AN18,2) -> 34197493
B19: 10 | C19: SERVICIO MANTENIMIENTO PREVENTIVO Y CORRECTIVO PLANTA PERKINS-STAMFORD 750 KW Av. Calle 24 No. 52-01 Ciudad Salitre (SEGÚN ESPECIFICACIONES TÉCNICAS) | D19: MENSUAL | E19: 1 | F19: 1 | G19: 12 | H19: 11 | J19: 4083333.3 | K19: =ROUND(J19*19%,2) -> 775833.33 | L19: =ROUND(J19+K19,2) -> 4859166.7 | M19: =ROUND(L19*$F19,2) -> 4859166.7 | O19: =ROUND(J19+(J19*$R$7),2) -> 4263000 | P19: =ROUND(O19*19%,2) -> 809970 | Q19: =ROUND(O19+P19,2) -> 5072970 | R19: =ROUND(Q19*$G19,2) -> 60875640 | T19: =ROUND(O19+(O19*$W$7),2) -> 4390890 | U19: =ROUND(T19*19%,2) -> 834269.1 | V19: =ROUND(T19+U19,2) -> 5225159.1 | W19: =ROUND(V19*$H19,2) -> 57476750 | Y19: =ROUND(M19+R19+W19,2) -> 1.2321156e+08 | AA19: =J19 -> 4083333.3 | AB19: =ROUND(AA19*19%,2) -> 775833.33 | AC19: =ROUND(AA19+AB19,2) -> 4859166.7 | AD19: =ROUND(AC19*$F19,2) -> 4859166.7 | AF19: =ROUND(AA19+(AA19*$AI$7),2) -> 4263000 | AG19: =ROUND(AF19*19%,2) -> 809970 | AH19: =ROUND(AF19+AG19,2) -> 5072970 | AI19: =ROUND(AH19*$G19,2) -> 60875640 | AK19: =ROUND(AF19+(AF19*$AN$7),2) -> 4390890 | AL19: =ROUND(AK19*19%,2) -> 834269.1 | AM19: =ROUND(AK19+AL19,2) -> 5225159.1 | AN19: =ROUND(AM19*$H19,2) -> 57476750 | AP19: =ROUND(AD19+AI19+AN19,2) -> 1.2321156e+08
B20: 11 | C20: SERVICIO MANTENIMIENTO PREVENTIVO Y CORRECTIVO PLANTA PERKINS-STAMFORD 1125 KW Av. Calle 24 No. 52-01 Ciudad Salitre (SEGÚN ESPECIFICACIONES TÉCNICAS) | D20: MENSUAL | E20: 1 | F20: 1 | G20: 12 | H20: 11 | J20: 5750000 | K20: =ROUND(J20*19%,2) -> 1092500 | L20: =ROUND(J20+K20,2) -> 6842500 | M20: =ROUND(L20*$F20,2) -> 6842500 | O20: =ROUND(J20+(J20*$R$7),2) -> 6003000 | P20: =ROUND(O20*19%,2) -> 1140570 | Q20: =ROUND(O20+P20,2) -> 7143570 | R20: =ROUND(Q20*$G20,2) -> 85722840 | T20: =ROUND(O20+(O20*$W$7),2) -> 6183090 | U20: =ROUND(T20*19%,2) -> 1174787.1 | V20: =ROUND(T20+U20,2) -> 7357877.1 | W20: =ROUND(V20*$H20,2) -> 80936648 | Y20: =ROUND(M20+R20+W20,2) -> 1.7350199e+08 | AA20: =J20 -> 5750000 | AB20: =ROUND(AA20*19%,2) -> 1092500 | AC20: =ROUND(AA20+AB20,2) -> 6842500 | AD20: =ROUND(AC20*$F20,2) -> 6842500 | AF20: =ROUND(AA20+(AA20*$AI$7),2) -> 6003000 | AG20: =ROUND(AF20*19%,2) -> 1140570 | AH20: =ROUND(AF20+AG20,2) -> 7143570 | AI20: =ROUND(AH20*$G20,2) -> 85722840 | AK20: =ROUND(AF20+(AF20*$AN$7),2) -> 6183090 | AL20: =ROUND(AK20*19%,2) -> 1174787.1 | AM20: =ROUND(AK20+AL20,2) -> 7357877.1 | AN20: =ROUND(AM20*$H20,2) -> 80936648 | AP20: =ROUND(AD20+AI20+AN20,2) -> 1.7350199e+08
B21: TOTAL MANTENIMIENTOS | M21: =ROUND(SUM(M10:M20),2) -> 40618667 | R21: =ROUND(SUM(R10:R20),2) -> 508870656 | W21: =ROUND(SUM(W10:W20),2) -> 4.8045871e+08 | Y21: =ROUND(SUM(Y10:Y20),2) -> 1.029948e+09 | AD21: =ROUND(SUM(AD10:AD20),2) -> 40618667 | AI21: =ROUND(SUM(AI10:AI20),2) -> 508870656 | AN21: =ROUND(SUM(AN10:AN20),2) -> 4.8045871e+08 | AP21: =ROUND(SUM(AP10:AP20),2) -> 1.029948e+09
B23: LISTA DE REPUESTOS RECURRENTES - VALORES UNITARIOS
B24: ÍTEM | C24: DESCRIPCIÓN DETALLADA REPUESTOS | E24: UNIDAD | H24: CANTIDAD | J24: PRESUPUESTO TOTAL ASIGNADO 2026 VIGENCIA : 1 MES | O24: PRESUPUESTO TOTAL ASIGNADO VIGENCIA 2027 - 12 MESES | R24: 0.044 | T24: PRESUPUESTO TOTAL ASIGNADO VIGENCIA 2028 - 11 MESES | W24: 0.03 | Y24: PRESUPUESTO TOTAL ASIGNADO AL PROCESO VIGENCIAS 2026, 2027 Y 2028 LISTA DE REPUESTOS - VALORES UNITARIOS (24 MESES) | AA24: PRESUPUESTO TOTAL ASIGNADO 2026 VIGENCIA : 1 MES | AF24: PRESUPUESTO TOTAL ASIGNADO VIGENCIA 2027 - 12 MESES | AI24: 0.044 | AK24: PRESUPUESTO TOTAL ASIGNADO VIGENCIA 2028 - 11 MESES | AN24: 0.03 | AP24: PRESUPUESTO TOTAL ASIGNADO AL PROCESO VIGENCIAS 2026, 2027 Y 2028 LISTA DE REPUESTOS - VALORES UNITARIOS (24 MESES)
B25: 1 | C25: ABRAZADERA INDUSTRIAL DE 3" (SEGÚN ESPECIFICACIONES TÉCNICAS) | E25: UNIDAD | H25: 1 | J25: 125000 | K25: =ROUND(J25*19%,2) -> 23750 | L25: =ROUND(J25+K25,2) -> 148750 | M25: =ROUND(L25*$H25,2) -> 148750 | O25: =ROUND(J25+(J25*$R$24),2) -> 130500 | P25: =ROUND(O25*19%,2) -> 24795 | Q25: =ROUND(O25+P25,2) -> 155295 | R25: =ROUND(Q25*$H25,2) -> 155295 | T25: =ROUND(O25+(O25*$W$24),2) -> 134415 | U25: =ROUND(T25*19%,2) -> 25538.85 | V25: =ROUND(T25+U25,2) -> 159953.85 | W25: =ROUND(V25*$H25,2) -> 159953.85 | Y25: =ROUND(M25+R25+W25,2) -> 463998.85 | AA25: =J25 -> 125000 | AB25: =ROUND(AA25*19%,2) -> 23750 | AC25: =ROUND(AA25+AB25,2) -> 148750 | AD25: =ROUND(AC25*$H25,2) -> 148750 | AF25: =ROUND(AA25+(AA25*$AI$24),2) -> 130500 | AG25: =ROUND(AF25*19%,2) -> 24795 | AH25: =ROUND(AF25+AG25,2) -> 155295 | AI25: =ROUND(AH25*$H25,2) -> 155295 | AK25: =ROUND(AF25+(AF25*$AN$24),2) -> 134415 | AL25: =ROUND(AK25*19%,2) -> 25538.85 | AM25: =ROUND(AK25+AL25,2) -> 159953.85 | AN25: =ROUND(AM25*$H25,2) -> 159953.85 | AP25: =ROUND(AD25+AI25+AN25,2) -> 463998.85
B26: 2 | C26: BENDIX DEL MOTOR DE ARRANQUE. (SEGÚN ESPECIFICACIONES TÉCNICAS) | E26: UNIDAD | H26: 1 | J26: 2083333.3 | K26: =ROUND(J26*19%,2) -> 395833.33 | L26: =ROUND(J26+K26,2) -> 2479166.7 | M26: =ROUND(L26*$H26,2) -> 2479166.7 | O26: =ROUND(J26+(J26*$R$24),2) -> 2175000 | P26: =ROUND(O26*19%,2) -> 413250 | Q26: =ROUND(O26+P26,2) -> 2588250 | R26: =ROUND(Q26*$H26,2) -> 2588250 | T26: =ROUND(O26+(O26*$W$24),2) -> 2240250 | U26: =ROUND(T26*19%,2) -> 425647.5 | V26: =ROUND(T26+U26,2) -> 2665897.5 | W26: =ROUND(V26*$H26,2) -> 2665897.5 | Y26: =ROUND(M26+R26+W26,2) -> 7733314.2 | AA26: =J26 -> 2083333.3 | AB26: =ROUND(AA26*19%,2) -> 395833.33 | AC26: =ROUND(AA26+AB26,2) -> 2479166.7 | AD26: =ROUND(AC26*$H26,2) -> 2479166.7 | AF26: =ROUND(AA26+(AA26*$AI$24),2) -> 2175000 | AG26: =ROUND(AF26*19%,2) -> 413250 | AH26: =ROUND(AF26+AG26,2) -> 2588250 | AI26: =ROUND(AH26*$H26,2) -> 2588250 | AK26: =ROUND(AF26+(AF26*$AN$24),2) -> 2240250 | AL26: =ROUND(AK26*19%,2) -> 425647.5 | AM26: =ROUND(AK26+AL26,2) -> 2665897.5 | AN26: =ROUND(AM26*$H26,2) -> 2665897.5 | AP26: =ROUND(AD26+AI26+AN26,2) -> 7733314.2
B27: 3 | C27: BREAKER 30 AMPERIOS (SEGÚN ESPECIFICACIONES TÉCNICAS) | E27: UNIDAD | H27: 1 | J27: 141666.67 | K27: =ROUND(J27*19%,2) -> 26916.67 | L27: =ROUND(J27+K27,2) -> 168583.34 | M27: =ROUND(L27*$H27,2) -> 168583.34 | O27: =ROUND(J27+(J27*$R$24),2) -> 147900 | P27: =ROUND(O27*19%,2) -> 28101 | Q27: =ROUND(O27+P27,2) -> 176001 | R27: =ROUND(Q27*$H27,2) -> 176001 | T27: =ROUND(O27+(O27*$W$24),2) -> 152337 | U27: =ROUND(T27*19%,2) -> 28944.03 | V27: =ROUND(T27+U27,2) -> 181281.03 | W27: =ROUND(V27*$H27,2) -> 181281.03 | Y27: =ROUND(M27+R27+W27,2) -> 525865.37 | AA27: =J27 -> 141666.67 | AB27: =ROUND(AA27*19%,2) -> 26916.67 | AC27: =ROUND(AA27+AB27,2) -> 168583.34 | AD27: =ROUND(AC27*$H27,2) -> 168583.34 | AF27: =ROUND(AA27+(AA27*$AI$24),2) -> 147900 | AG27: =ROUND(AF27*19%,2) -> 28101 | AH27: =ROUND(AF27+AG27,2) -> 176001 | AI27: =ROUND(AH27*$H27,2) -> 176001 | AK27: =ROUND(AF27+(AF27*$AN$24),2) -> 152337 | AL27: =ROUND(AK27*19%,2) -> 28944.03 | AM27: =ROUND(AK27+AL27,2) -> 181281.03 | AN27: =ROUND(AM27*$H27,2) -> 181281.03 | AP27: =ROUND(AD27+AI27+AN27,2) -> 525865.37
B28: 4 | C28: CARGADOR AUTOMATICO CONSTANTE DE BATERIA 15 AMPERIOS A 20 VDC. (SEGÚN ESPECIFICACIONES TÉCNICAS) | E28: UNIDAD | H28: 1 | J28: 3083333.3 | K28: =ROUND(J28*19%,2) -> 585833.33 | L28: =ROUND(J28+K28,2) -> 3669166.7 | M28: =ROUND(L28*$H28,2) -> 3669166.7 | O28: =ROUND(J28+(J28*$R$24),2) -> 3219000 | P28: =ROUND(O28*19%,2) -> 611610 | Q28: =ROUND(O28+P28,2) -> 3830610 | R28: =ROUND(Q28*$H28,2) -> 3830610 | T28: =ROUND(O28+(O28*$W$24),2) -> 3315570 | U28: =ROUND(T28*19%,2) -> 629958.3 | V28: =ROUND(T28+U28,2) -> 3945528.3 | W28: =ROUND(V28*$H28,2) -> 3945528.3 | Y28: =ROUND(M28+R28+W28,2) -> 11445305 | AA28: =J28 -> 3083333.3 | AB28: =ROUND(AA28*19%,2) -> 585833.33 | AC28: =ROUND(AA28+AB28,2) -> 3669166.7 | AD28: =ROUND(AC28*$H28,2) -> 3669166.7 | AF28: =ROUND(AA28+(AA28*$AI$24),2) -> 3219000 | AG28: =ROUND(AF28*19%,2) -> 611610 | AH28: =ROUND(AF28+AG28,2) -> 3830610 | AI28: =ROUND(AH28*$H28,2) -> 3830610 | AK28: =ROUND(AF28+(AF28*$AN$24),2) -> 3315570 | AL28: =ROUND(AK28*19%,2) -> 629958.3 | AM28: =ROUND(AK28+AL28,2) -> 3945528.3 | AN28: =ROUND(AM28*$H28,2) -> 3945528.3 | AP28: =ROUND(AD28+AI28+AN28,2) -> 11445305
B29: 5 | C29: MANGUERAS SILICONADAS DEL SISTEMA DE REFRIGERACION (SEGÚN ESPECIFICACIONES TÉCNICAS) | E29: UNIDAD | H29: 1 | J29: 308333.33 | K29: =ROUND(J29*19%,2) -> 58583.33 | L29: =ROUND(J29+K29,2) -> 366916.66 | M29: =ROUND(L29*$H29,2) -> 366916.66 | O29: =ROUND(J29+(J29*$R$24),2) -> 321900 | P29: =ROUND(O29*19%,2) -> 61161 | Q29: =ROUND(O29+P29,2) -> 383061 | R29: =ROUND(Q29*$H29,2) -> 383061 | T29: =ROUND(O29+(O29*$W$24),2) -> 331557 | U29: =ROUND(T29*19%,2) -> 62995.83 | V29: =ROUND(T29+U29,2) -> 394552.83 | W29: =ROUND(V29*$H29,2) -> 394552.83 | Y29: =ROUND(M29+R29+W29,2) -> 1144530.5 | AA29: =J29 -> 308333.33 | AB29: =ROUND(AA29*19%,2) -> 58583.33 | AC29: =ROUND(AA29+AB29,2) -> 366916.66 | AD29: =ROUND(AC29*$H29,2) -> 366916.66 | AF29: =ROUND(AA29+(AA29*$AI$24),2) -> 321900 | AG29: =ROUND(AF29*19%,2) -> 61161 | AH29: =ROUND(AF29+AG29,2) -> 383061 | AI29: =ROUND(AH29*$H29,2) -> 383061 | AK29: =ROUND(AF29+(AF29*$AN$24),2) -> 331557 | AL29: =ROUND(AK29*19%,2) -> 62995.83 | AM29: =ROUND(AK29+AL29,2) -> 394552.83 | AN29: =ROUND(AM29*$H29,2) -> 394552.83 | AP29: =ROUND(AD29+AI29+AN29,2) -> 1144530.5
B30: 6 | C30: MANGUERAS ENCAUCHETADAS DEL SISTEMA DE REFRIGERACION (SEGÚN ESPECIFICACIONES TÉCNICAS) | E30: UNIDAD | H30: 1 | J30: 158333.33 | K30: =ROUND(J30*19%,2) -> 30083.33 | L30: =ROUND(J30+K30,2) -> 188416.66 | M30: =ROUND(L30*$H30,2) -> 188416.66 | O30: =ROUND(J30+(J30*$R$24),2) -> 165300 | P30: =ROUND(O30*19%,2) -> 31407 | Q30: =ROUND(O30+P30,2) -> 196707 | R30: =ROUND(Q30*$H30,2) -> 196707 | T30: =ROUND(O30+(O30*$W$24),2) -> 170259 | U30: =ROUND(T30*19%,2) -> 32349.21 | V30: =ROUND(T30+U30,2) -> 202608.21 | W30: =ROUND(V30*$H30,2) -> 202608.21 | Y30: =ROUND(M30+R30+W30,2) -> 587731.87 | AA30: =J30 -> 158333.33 | AB30: =ROUND(AA30*19%,2) -> 30083.33 | AC30: =ROUND(AA30+AB30,2) -> 188416.66 | AD30: =ROUND(AC30*$H30,2) -> 188416.66 | AF30: =ROUND(AA30+(AA30*$AI$24),2) -> 165300 | AG30: =ROUND(AF30*19%,2) -> 31407 | AH30: =ROUND(AF30+AG30,2) -> 196707 | AI30: =ROUND(AH30*$H30,2) -> 196707 | AK30: =ROUND(AF30+(AF30*$AN$24),2) -> 170259 | AL30: =ROUND(AK30*19%,2) -> 32349.21 | AM30: =ROUND(AK30+AL30,2) -> 202608.21 | AN30: =ROUND(AM30*$H30,2) -> 202608.21 | AP30: =ROUND(AD30+AI30+AN30,2) -> 587731.87
B31: 7 | C31: MANGUERA SILICONADA 2"X50 CM (SEGÚN ESPECIFICACIONES TÉCNICAS) | E31: UNIDAD | H31: 1 | J31: 533333.33 | K31: =ROUND(J31*19%,2) -> 101333.33 | L31: =ROUND(J31+K31,2) -> 634666.66 | M31: =ROUND(L31*$H31,2) -> 634666.66 | O31: =ROUND(J31+(J31*$R$24),2) -> 556800 | P31: =ROUND(O31*19%,2) -> 105792 | Q31: =ROUND(O31+P31,2) -> 662592 | R31: =ROUND(Q31*$H31,2) -> 662592 | T31: =ROUND(O31+(O31*$W$24),2) -> 573504 | U31: =ROUND(T31*19%,2) -> 108965.76 | V31: =ROUND(T31+U31,2) -> 682469.76 | W31: =ROUND(V31*$H31,2) -> 682469.76 | Y31: =ROUND(M31+R31+W31,2) -> 1979728.4 | AA31: =J31 -> 533333.33 | AB31: =ROUND(AA31*19%,2) -> 101333.33 | AC31: =ROUND(AA31+AB31,2) -> 634666.66 | AD31: =ROUND(AC31*$H31,2) -> 634666.66 | AF31: =ROUND(AA31+(AA31*$AI$24),2) -> 556800 | AG31: =ROUND(AF31*19%,2) -> 105792 | AH31: =ROUND(AF31+AG31,2) -> 662592 | AI31: =ROUND(AH31*$H31,2) -> 662592 | AK31: =ROUND(AF31+(AF31*$AN$24),2) -> 573504 | AL31: =ROUND(AK31*19%,2) -> 108965.76 | AM31: =ROUND(AK31+AL31,2) -> 682469.76 | AN31: =ROUND(AM31*$H31,2) -> 682469.76 | AP31: =ROUND(AD31+AI31+AN31,2) -> 1979728.4
B32: 8 | C32: MANGUERA SILICONADA DE 3"X25CM (SEGÚN ESPECIFICACIONES TÉCNICAS) | E32: UNIDAD | H32: 1 | J32: 600000 | K32: =ROUND(J32*19%,2) -> 114000 | L32: =ROUND(J32+K32,2) -> 714000 | M32: =ROUND(L32*$H32,2) -> 714000 | O32: =ROUND(J32+(J32*$R$24),2) -> 626400 | P32: =ROUND(O32*19%,2) -> 119016 | Q32: =ROUND(O32+P32,2) -> 745416 | R32: =ROUND(Q32*$H32,2) -> 745416 | T32: =ROUND(O32+(O32*$W$24),2) -> 645192 | U32: =ROUND(T32*19%,2) -> 122586.48 | V32: =ROUND(T32+U32,2) -> 767778.48 | W32: =ROUND(V32*$H32,2) -> 767778.48 | Y32: =ROUND(M32+R32+W32,2) -> 2227194.5 | AA32: =J32 -> 600000 | AB32: =ROUND(AA32*19%,2) -> 114000 | AC32: =ROUND(AA32+AB32,2) -> 714000 | AD32: =ROUND(AC32*$H32,2) -> 714000 | AF32: =ROUND(AA32+(AA32*$AI$24),2) -> 626400 | AG32: =ROUND(AF32*19%,2) -> 119016 | AH32: =ROUND(AF32+AG32,2) -> 745416 | AI32: =ROUND(AH32*$H32,2) -> 745416 | AK32: =ROUND(AF32+(AF32*$AN$24),2) -> 645192 | AL32: =ROUND(AK32*19%,2) -> 122586.48 | AM32: =ROUND(AK32+AL32,2) -> 767778.48 | AN32: =ROUND(AM32*$H32,2) -> 767778.48 | AP32: =ROUND(AD32+AI32+AN32,2) -> 2227194.5
B33: 9 | C33: CABLE ENCAUCHETADO No 12 (SEGÚN ESPECIFICACIONES TÉCNICAS) | E33: UNIDAD | H33: 1 | J33: 19166.667 | K33: =ROUND(J33*19%,2) -> 3641.67 | L33: =ROUND(J33+K33,2) -> 22808.34 | M33: =ROUND(L33*$H33,2) -> 22808.34 | O33: =ROUND(J33+(J33*$R$24),2) -> 20010 | P33: =ROUND(O33*19%,2) -> 3801.9 | Q33: =ROUND(O33+P33,2) -> 23811.9 | R33: =ROUND(Q33*$H33,2) -> 23811.9 | T33: =ROUND(O33+(O33*$W$24),2) -> 20610.3 | U33: =ROUND(T33*19%,2) -> 3915.96 | V33: =ROUND(T33+U33,2) -> 24526.26 | W33: =ROUND(V33*$H33,2) -> 24526.26 | Y33: =ROUND(M33+R33+W33,2) -> 71146.5 | AA33: =J33 -> 19166.667 | AB33: =ROUND(AA33*19%,2) -> 3641.67 | AC33: =ROUND(AA33+AB33,2) -> 22808.34 | AD33: =ROUND(AC33*$H33,2) -> 22808.34 | AF33: =ROUND(AA33+(AA33*$AI$24),2) -> 20010 | AG33: =ROUND(AF33*19%,2) -> 3801.9 | AH33: =ROUND(AF33+AG33,2) -> 23811.9 | AI33: =ROUND(AH33*$H33,2) -> 23811.9 | AK33: =ROUND(AF33+(AF33*$AN$24),2) -> 20610.3 | AL33: =ROUND(AK33*19%,2) -> 3915.96 | AM33: =ROUND(AK33+AL33,2) -> 24526.26 | AN33: =ROUND(AM33*$H33,2) -> 24526.26 | AP33: =ROUND(AD33+AI33+AN33,2) -> 71146.5
B34: 10 | C34: PRECALENTADOR DE BOTELLA DE 1500 W 110 VOLTIOS (SEGÚN ESPECIFICACIONES TÉCNICAS) | E34: UNIDAD | H34: 1 | J34: 2416666.7 | K34: =ROUND(J34*19%,2) -> 459166.67 | L34: =ROUND(J34+K34,2) -> 2875833.3 | M34: =ROUND(L34*$H34,2) -> 2875833.3 | O34: =ROUND(J34+(J34*$R$24),2) -> 2523000 | P34: =ROUND(O34*19%,2) -> 479370 | Q34: =ROUND(O34+P34,2) -> 3002370 | R34: =ROUND(Q34*$H34,2) -> 3002370 | T34: =ROUND(O34+(O34*$W$24),2) -> 2598690 | U34: =ROUND(T34*19%,2) -> 493751.1 | V34: =ROUND(T34+U34,2) -> 3092441.1 | W34: =ROUND(V34*$H34,2) -> 3092441.1 | Y34: =ROUND(M34+R34+W34,2) -> 8970644.4 | AA34: =J34 -> 2416666.7 | AB34: =ROUND(AA34*19%,2) -> 459166.67 | AC34: =ROUND(AA34+AB34,2) -> 2875833.3 | AD34: =ROUND(AC34*$H34,2) -> 2875833.3 | AF34: =ROUND(AA34+(AA34*$AI$24),2) -> 2523000 | AG34: =ROUND(AF34*19%,2) -> 479370 | AH34: =ROUND(AF34+AG34,2) -> 3002370 | AI34: =ROUND(AH34*$H34,2) -> 3002370 | AK34: =ROUND(AF34+(AF34*$AN$24),2) -> 2598690 | AL34: =ROUND(AK34*19%,2) -> 493751.1 | AM34: =ROUND(AK34+AL34,2) -> 3092441.1 | AN34: =ROUND(AM34*$H34,2) -> 3092441.1 | AP34: =ROUND(AD34+AI34+AN34,2) -> 8970644.4
B35: 11 | C35: PRECALENTADOR DE CAMISA TIPO HOTSTARS 1500W A 220 VOLTIOS. (SEGÚN ESPECIFICACIONES TÉCNICAS) | E35: UNIDAD | H35: 1 | J35: 3250000 | K35: =ROUND(J35*19%,2) -> 617500 | L35: =ROUND(J35+K35,2) -> 3867500 | M35: =ROUND(L35*$H35,2) -> 3867500 | O35: =ROUND(J35+(J35*$R$24),2) -> 3393000 | P35: =ROUND(O35*19%,2) -> 644670 | Q35: =ROUND(O35+P35,2) -> 4037670 | R35: =ROUND(Q35*$H35,2) -> 4037670 | T35: =ROUND(O35+(O35*$W$24),2) -> 3494790 | U35: =ROUND(T35*19%,2) -> 664010.1 | V35: =ROUND(T35+U35,2) -> 4158800.1 | W35: =ROUND(V35*$H35,2) -> 4158800.1 | Y35: =ROUND(M35+R35+W35,2) -> 12063970 | AA35: =J35 -> 3250000 | AB35: =ROUND(AA35*19%,2) -> 617500 | AC35: =ROUND(AA35+AB35,2) -> 3867500 | AD35: =ROUND(AC35*$H35,2) -> 3867500 | AF35: =ROUND(AA35+(AA35*$AI$24),2) -> 3393000 | AG35: =ROUND(AF35*19%,2) -> 644670 | AH35: =ROUND(AF35+AG35,2) -> 4037670 | AI35: =ROUND(AH35*$H35,2) -> 4037670 | AK35: =ROUND(AF35+(AF35*$AN$24),2) -> 3494790 | AL35: =ROUND(AK35*19%,2) -> 664010.1 | AM35: =ROUND(AK35+AL35,2) -> 4158800.1 | AN35: =ROUND(AM35*$H35,2) -> 4158800.1 | AP35: =ROUND(AD35+AI35+AN35,2) -> 12063970
B36: 12 | C36: SENSOR DE BAJO NIVEL DE REFRIGERACIÓN PLANTA ELECTRICA 1000 KVA (SEGÚN ESPECIFICACIONES TÉCNICAS) | E36: UNIDAD | H36: 1 | J36: 2250000 | K36: =ROUND(J36*19%,2) -> 427500 | L36: =ROUND(J36+K36,2) -> 2677500 | M36: =ROUND(L36*$H36,2) -> 2677500 | O36: =ROUND(J36+(J36*$R$24),2) -> 2349000 | P36: =ROUND(O36*19%,2) -> 446310 | Q36: =ROUND(O36+P36,2) -> 2795310 | R36: =ROUND(Q36*$H36,2) -> 2795310 | T36: =ROUND(O36+(O36*$W$24),2) -> 2419470 | U36: =ROUND(T36*19%,2) -> 459699.3 | V36: =ROUND(T36+U36,2) -> 2879169.3 | W36: =ROUND(V36*$H36,2) -> 2879169.3 | Y36: =ROUND(M36+R36+W36,2) -> 8351979.3 | AA36: =J36 -> 2250000 | AB36: =ROUND(AA36*19%,2) -> 427500 | AC36: =ROUND(AA36+AB36,2) -> 2677500 | AD36: =ROUND(AC36*$H36,2) -> 2677500 | AF36: =ROUND(AA36+(AA36*$AI$24),2) -> 2349000 | AG36: =ROUND(AF36*19%,2) -> 446310 | AH36: =ROUND(AF36+AG36,2) -> 2795310 | AI36: =ROUND(AH36*$H36,2) -> 2795310 | AK36: =ROUND(AF36+(AF36*$AN$24),2) -> 2419470 | AL36: =ROUND(AK36*19%,2) -> 459699.3 | AM36: =ROUND(AK36+AL36,2) -> 2879169.3 | AN36: =ROUND(AM36*$H36,2) -> 2879169.3 | AP36: =ROUND(AD36+AI36+AN36,2) -> 8351979.3
... B38: 14 | C38: CONTACTOR SIEMENS SIRIUS REF RT 1065-6 220 VOLTIOS A 330 AMP A 1000 V (SEGÚN ESPECIFICACIONES TÉCNICAS) | E38: UNIDAD | H38: 1 | J38: 10500000 | K38: =ROUND(J38*19%,2) -> 1995000 | L38: =ROUND(J38+K38,2) -> 12495000 | M38: =ROUND(L38*$H38,2) -> 12495000 | O38: =ROUND(J38+(J38*$R$24),2) -> 10962000 | P38: =ROUND(O38*19%,2) -> 2082780 | Q38: =ROUND(O38+P38,2) -> 13044780 | R38: =ROUND(Q38*$H38,2) -> 13044780 | T38: =ROUND(O38+(O38*$W$24),2) -> 11290860 | U38: =ROUND(T38*19%,2) -> 2145263.4 | V38: =ROUND(T38+U38,2) -> 13436123 | W38: =ROUND(V38*$H38,2) -> 13436123 | Y38: =ROUND(M38+R38+W38,2) -> 38975903 | AA38: =J38 -> 10500000 | AB38: =ROUND(AA38*19%,2) -> 1995000 | AC38: =ROUND(AA38+AB38,2) -> 12495000 | AD38: =ROUND(AC38*$H38,2) -> 12495000 | AF38: =ROUND(AA38+(AA38*$AI$24),2) -> 10962000 | AG38: =ROUND(AF38*19%,2) -> 2082780 | AH38: =ROUND(AF38+AG38,2) -> 13044780 | AI38: =ROUND(AH38*$H38,2) -> 13044780 | AK38: =ROUND(AF38+(AF38*$AN$24),2) -> 11290860 | AL38: =ROUND(AK38*19%,2) -> 2145263.4 | AM38: =ROUND(AK38+AL38,2) -> 13436123 | AN38: =ROUND(AM38*$H38,2) -> 13436123 | AP38: =ROUND(AD38+AI38+AN38,2) -> 38975903
B39: TOTAL VALORES UNITARIOS DE REPUESTOS RECURRENTES | M39: =ROUND(SUM(M25:M38),2) -> 32589142 | R39: =ROUND(SUM(R25:R38),2) -> 34023064 | W39: =ROUND(SUM(W25:W38),2) -> 35043756 | Y39: =SUM(Y25:Y38) -> 1.0165596e+08 | AD39: =ROUND(SUM(AD25:AD38),2) -> 32589142 | AI39: =ROUND(SUM(AI25:AI38),2) -> 34023064 | AN39: =ROUND(SUM(AN25:AN38),2) -> 35043756 | AP39: =SUM(AP25:AP38) -> 1.0165596e+08
B41: TOTAL MANTENIMIENTOS + VALORES UNITARIOS DE REPUESTOS RECURRENTES | M41: =ROUND(M21+M39,2) -> 73207808 | R41: =ROUND(R21+R39,2) -> 5.4289372e+08 | W41: =ROUND(W21+W39,2) -> 5.1550247e+08 | Y41: =ROUND(SUM(Y21+Y39),2) -> 1.131604e+09 | AD41: =ROUND(AD21+AD39,2) -> 73207808 | AI41: =ROUND(AI21+AI39,2) -> 5.4289372e+08 | AN41: =ROUND(AN21+AN39,2) -> 5.1550247e+08 | AP41: =ROUND(SUM(AP21+AP39),2) -> 1.131604e+09
B43: NOTAS
B44: 1) Los porcentajes de incremento para las vigencias futuras 2027 (4,4%) y 2028 (3%) se aplicaron según lo establecido en la "CIRCULAR - N° 30000-00023 DE 2026 de la FGN" acorde con lo dispuesto por el Ministerio de Hacienda y Crédito Público
B45: 2) Se realizó el estudio con una (1) cotización, la cual cumple con lo solicitado por la entidad
B46: 3) Se aplica los valores de referencia de la cotización obtenida.
B47: 4) En el presente análisis se aplicó el procedimiento de aproximación generalmente aceptado por las reglas matemáticas denominado redondeo, que consiste en acercar los valores decimales al número entero más aproximado (esto es, si el tercer decimal es menor que 5, el segundo decimal se mantiene; si el tercer decimal es igual o mayor que 5, el segundo decimal se incrementa en uno).
...

Sheet ANEXO 2
B2: ANEXO 2 - ANÁLISIS DE COSTOS HISTÓRICOS
D3: PRESTAR EL SERVICIO DE MANTENIMIENTO PREVENTIVO Y CORRECTIVO TÉCNICO INTEGRAL ESPECIALIZADO CON SUMINISTRO DE INSUMOS Y BOLSA DE REPUESTOS PARA LAS PLANTAS ELÉCTRICAS DE EMERGENCIA Y LAS TRANSFERENCIAS ELÉCTRICAS AUTOMÁTICAS DE CARGA CON QUE CUENTAN LAS SEDES DEL NIVEL CENTRAL DE LA FISCALÍA GENERAL DE LA NACIÓN.
B5: MANTENIMIENTOS | J5: VALORES MANTENIMIENTO PROCESO FGN-NC-IPSE-0054-2024 | N5: DICIEMBRE 2024 | O5: JULIO 2026 | Q5: ANÁLISIS PROYECCIÓN COSTOS HISTÓRICOS (IPC / Indices - Serie de empalme)
B6: ITEM | C6: DESCRIPCIÓN | D6: FRECUENCIA | E6: CANTIDAD DE EQUIPOS | F6: NECESIDAD PROCESO FGN-NC-IPSE-0054-2024 | J6: VALOR UNITARIO SIN IVA | K6: IVA UNITARIO | L6: VALOR UNITARIO INCLUIDO IVA | N6: 1.4488 | O6: 1.5979 | Q6: VALOR UNITARIO SIN IVA | R6: IVA UNITARIO | S6: VALOR UNITARIO INCLUIDO IVA
B8: 1 | C8: SERVICIO MANTENIMIENTO PREVENTIVO Y CORRECTIVO PLANTA CUMMINS ABC POWER 240 Kw Av. Calle 24 No. 52-01 Ciudad Salitre (SEGÚN ESPECIFICACIONES TÉCNICAS) | D8: MENSUAL | E8: 1 | F8: 20 | J8: 57058.3 | K8: =ROUND(J8*19%,2) -> 10841.08 | L8: =ROUND(J8+K8,2) -> 67899.38 | N8: =($O$6/$N$6)*$J8 -> 62930.327 | Q8: =N8 -> 62930.327 | R8: =ROUND(Q8*19%,2) -> 11956.76 | S8: =ROUND(Q8+R8,2) -> 74887.09
B9: 2 | C9: SERVICIO MANTENIMIENTO PREVENTIVO Y CORRECTIVO PLANTA CUMMINS ONAN 750 KW Av. Calle 24 No. 52-01 Ciudad Salitre (SEGÚN ESPECIFICACIONES TÉCNICAS) | D9: MENSUAL | E9: 1 | F9: 20 | J9: 57058.3 | K9: =ROUND(J9*19%,2) -> 10841.08 | L9: =ROUND(J9+K9,2) -> 67899.38 | N9: =($O$6/$N$6)*$J9 -> 62930.327 | Q9: =N9 -> 62930.327 | R9: =ROUND(Q9*19%,2) -> 11956.76 | S9: =ROUND(Q9+R9,2) -> 74887.09
B10: 3 | C10: SERVICIO MANTENIMIENTO PREVENTIVO Y CORRECTIVO PLANTA CUMMINS ONAN 1000 KW Av. Calle 24 No. 52-01 Ciudad Salitre | D10: MENSUAL | E10: 1 | F10: 20 | J10: 57058.3 | K10: =ROUND(J10*19%,2) -> 10841.08 | L10: =ROUND(J10+K10,2) -> 67899.38 | N10: =($O$6/$N$6)*$J10 -> 62930.327 | Q10: =N10 -> 62930.327 | R10: =ROUND(Q10*19%,2) -> 11956.76 | S10: =ROUND(Q10+R10,2) -> 74887.09
B11: 4 | C11: SERVICIO MANTENIMIENTO PREVENTIVO Y CORRECTIVO PLANTA PERKINS-SPECTRUM 100 KW Carrera 13 No. 73-50 (SEGÚN ESPECIFICACIONES TÉCNICAS) | D11: MENSUAL | E11: 1 | F11: 20 | J11: 57058.3 | K11: =ROUND(J11*19%,2) -> 10841.08 | L11: =ROUND(J11+K11,2) -> 67899.38 | N11: =($O$6/$N$6)*$J11 -> 62930.327 | Q11: =N11 -> 62930.327 | R11: =ROUND(Q11*19%,2) -> 11956.76 | S11: =ROUND(Q11+R11,2) -> 74887.09
B12: 5 | C12: SERVICIO MANTENIMIENTO PREVENTIVO Y CORRECTIVO PLANTA PERKINS-GENERALLY 40 KW Carrera 18A No. 39A-33/39 Casona (SEGÚN ESPECIFICACIONES TÉCNICAS) | D12: MENSUAL | E12: 1 | F12: 20 | J12: 57058.3 | K12: =ROUND(J12*19%,2) -> 10841.08 | L12: =ROUND(J12+K12,2) -> 67899.38 | N12: =($O$6/$N$6)*$J12 -> 62930.327 | Q12: =N12 -> 62930.327 | R12: =ROUND(Q12*19%,2) -> 11956.76 | S12: =ROUND(Q12+R12,2) -> 74887.09
B13: 6 | C13: SERVICIO MANTENIMIENTO PREVENTIVO Y CORRECTIVO PLANTA LISTER PETER 225 KW Carrera 30 No. 13-24 (SEGÚN ESPECIFICACIONES TÉCNICAS) | D13: MENSUAL | E13: 1 | F13: 20 | J13: 57058.3 | K13: =ROUND(J13*19%,2) -> 10841.08 | L13: =ROUND(J13+K13,2) -> 67899.38 | N13: =($O$6/$N$6)*$J13 -> 62930.327 | Q13: =N13 -> 62930.327 | R13: =ROUND(Q13*19%,2) -> 11956.76 | S13: =ROUND(Q13+R13,2) -> 74887.09
B14: 7 | C14: SERVICIO MANTENIMIENTO PREVENTIVO Y CORRECTIVO PLANTA CUMMINS ONAN 1000 KW Carrera 28 No. 18-64 Paloquemao (SEGÚN ESPECIFICACIONES TÉCNICAS) | D14: MENSUAL | E14: 1 | F14: 20 | J14: 57058.3 | K14: =ROUND(J14*19%,2) -> 10841.08 | L14: =ROUND(J14+K14,2) -> 67899.38 | N14: =($O$6/$N$6)*$J14 -> 62930.327 | Q14: =N14 -> 62930.327 | R14: =ROUND(Q14*19%,2) -> 11956.76 | S14: =ROUND(Q14+R14,2) -> 74887.09
B15: 8 | C15: SERVICIO MANTENIMIENTO PREVENTIVO Y CORRECTIVO PLANTA STEWART STEVENSON 145 KW Kilómetro 4 Vía Suba-Cota (SEGÚN ESPECIFICACIONES TÉCNICAS) | D15: MENSUAL | E15: 1 | F15: 20 | J15: 57058.3 | K15: =ROUND(J15*19%,2) -> 10841.08 | L15: =ROUND(J15+K15,2) -> 67899.38 | N15: =($O$6/$N$6)*$J15 -> 62930.327 | Q15: =N15 -> 62930.327 | R15: =ROUND(Q15*19%,2) -> 11956.76 | S15: =ROUND(Q15+R15,2) -> 74887.09
B16: 9 | C16: SERVICIO MANTENIMIENTO PREVENTIVO Y CORRECTIVO PLANTA DEUTZ-STAMFORD 43 KW Av. Calle 24 No. 52-01 Ciudad Salitre (SEGÚN ESPECIFICACIONES TÉCNICAS) | D16: MENSUAL | E16: 1 | F16: 20 | J16: 57058.3 | K16: =ROUND(J16*19%,2) -> 10841.08 | L16: =ROUND(J16+K16,2) -> 67899.38 | N16: =($O$6/$N$6)*$J16 -> 62930.327 | Q16: =N16 -> 62930.327 | R16: =ROUND(Q16*19%,2) -> 11956.76 | S16: =ROUND(Q16+R16,2) -> 74887.09
B17: 10 | C17: SERVICIO MANTENIMIENTO PREVENTIVO Y CORRECTIVO PLANTA PERKINS-STAMFORD 750 KW Av. Calle 24 No. 52-01 Ciudad Salitre (SEGÚN ESPECIFICACIONES TÉCNICAS) | D17: MENSUAL | E17: 1 | F17: 20 | J17: 57058.3 | K17: =ROUND(J17*19%,2) -> 10841.08 | L17: =ROUND(J17+K17,2) -> 67899.38 | N17: =($O$6/$N$6)*$J17 -> 62930.327 | Q17: =N17 -> 62930.327 | R17: =ROUND(Q17*19%,2) -> 11956.76 | S17: =ROUND(Q17+R17,2) -> 74887.09
B18: 11 | C18: SERVICIO MANTENIMIENTO PREVENTIVO Y CORRECTIVO PLANTA PERKINS-STAMFORD 1125 KW Av. Calle 24 No. 52-01 Ciudad Salitre (SEGÚN ESPECIFICACIONES TÉCNICAS) | D18: MENSUAL | E18: 1 | F18: 20 | J18: 57058.3 | K18: =ROUND(J18*19%,2) -> 10841.08 | L18: =ROUND(J18+K18,2) -> 67899.38 | N18: =($O$6/$N$6)*$J18 -> 62930.327 | Q18: =N18 -> 62930.327 | R18: =ROUND(Q18*19%,2) -> 11956.76 | S18: =ROUND(Q18+R18,2) -> 74887.09
B20: LISTA DE REPUESTOS RECURRENTES - VALORES UNITARIOS | J20: VALORES UNITARIOS PROCESO FGN-NC-IPSE-0054-2024 | Q20: ANÁLISIS PROYECCIÓN COSTOS HISTÓRICOS (IPC / Indices - Serie de empalme)
B21: ÍTEM | C21: DESCRIPCIÓN DETALLADA REPUESTOS | E21: UNIDAD | H21: CANTIDAD | J21: VALOR UNITARIO SIN IVA | K21: IVA UNITARIO | L21: VALOR UNITARIO INCLUIDO IVA | Q21: VALOR UNITARIO SIN IVA | R21: IVA UNITARIO | S21: VALOR UNITARIO INCLUIDO IVA
B22: 1 | C22: ABRAZADERA INDUSTRIAL DE 3" (SEGÚN ESPECIFICACIONES TÉCNICAS) | E22: UNIDAD | H22: 1 | J22: 124416.51 | K22: =ROUND(J22*19%,2) -> 23639.14 | L22: =ROUND(J22+K22,2) -> 148055.65 | N22: =($O$6/$N$6)*$J22 -> 137220.56 | Q22: =N22 -> 137220.56 | R22: =ROUND(Q22*19%,2) -> 26071.91 | S22: =ROUND(Q22+R22,2) -> 163292.47
B23: 2 | C23: BENDIX DEL MOTOR DE ARRANQUE. (SEGÚN ESPECIFICACIONES TÉCNICAS) | E23: UNIDAD | H23: 1 | J23: 460616.61 | K23: =ROUND(J23*19%,2) -> 87517.16 | L23: =ROUND(J23+K23,2) -> 548133.77 | N23: =($O$6/$N$6)*$J23 -> 508019.93 | Q23: =N23 -> 508019.93 | R23: =ROUND(Q23*19%,2) -> 96523.79 | S23: =ROUND(Q23+R23,2) -> 604543.72
B24: 3 | C24: BREAKER 30 AMPERIOS (SEGÚN ESPECIFICACIONES TÉCNICAS) | E24: UNIDAD | H24: 1 | J24: 162445.75 | K24: =ROUND(J24*19%,2) -> 30864.69 | L24: =ROUND(J24+K24,2) -> 193310.44 | N24: =($O$6/$N$6)*$J24 -> 179163.49 | Q24: =N24 -> 179163.49 | R24: =ROUND(Q24*19%,2) -> 34041.06 | S24: =ROUND(Q24+R24,2) -> 213204.55
B25: 4 | C25: CARGADOR AUTOMATICO CONSTANTE DE BATERIA 15 AMPERIOS A 20 VDC. (SEGÚN ESPECIFICACIONES TÉCNICAS) | E25: UNIDAD | H25: 1 | J25: 558874.52 | K25: =ROUND(J25*19%,2) -> 106186.16 | L25: =ROUND(J25+K25,2) -> 665060.68 | N25: =($O$6/$N$6)*$J25 -> 616389.84 | Q25: =N25 -> 616389.84 | R25: =ROUND(Q25*19%,2) -> 117114.07 | S25: =ROUND(Q25+R25,2) -> 733503.91
B26: 5 | C26: MANGUERAS SILICONADAS DEL SISTEMA DE REFRIGERACION (SEGÚN ESPECIFICACIONES TÉCNICAS) | E26: UNIDAD | H26: 1 | J26: 656541.51 | K26: =ROUND(J26*19%,2) -> 124742.89 | L26: =ROUND(J26+K26,2) -> 781284.4 | N26: =($O$6/$N$6)*$J26 -> 724108.01 | Q26: =N26 -> 724108.01 | R26: =ROUND(Q26*19%,2) -> 137580.52 | S26: =ROUND(Q26+R26,2) -> 861688.53
B27: 6 | C27: MANGUERAS ENCAUCHETADAS DEL SISTEMA DE REFRIGERACION (SEGÚN ESPECIFICACIONES TÉCNICAS) | E27: UNIDAD | H27: 1 | J27: 715674.9 | K27: =ROUND(J27*19%,2) -> 135978.23 | L27: =ROUND(J27+K27,2) -> 851653.13 | N27: =($O$6/$N$6)*$J27 -> 789326.98 | Q27: =N27 -> 789326.98 | R27: =ROUND(Q27*19%,2) -> 149972.13 | S27: =ROUND(Q27+R27,2) -> 939299.11
B28: 7 | C28: MANGUERA SILICONADA 2"X50 CM (SEGÚN ESPECIFICACIONES TÉCNICAS) | E28: UNIDAD | H28: 1 | J28: 456837.46 | K28: =ROUND(J28*19%,2) -> 86799.12 | L28: =ROUND(J28+K28,2) -> 543636.58 | N28: =($O$6/$N$6)*$J28 -> 503851.86 | Q28: =N28 -> 503851.86 | R28: =ROUND(Q28*19%,2) -> 95731.85 | S28: =ROUND(Q28+R28,2) -> 599583.71
B29: 8 | C29: MANGUERA SILICONADA DE 3"X25CM (SEGÚN ESPECIFICACIONES TÉCNICAS) | E29: UNIDAD | H29: 1 | J29: 506337.46 | K29: =ROUND(J29*19%,2) -> 96204.12 | L29: =ROUND(J29+K29,2) -> 602541.58 | N29: =($O$6/$N$6)*$J29 -> 558446.04 | Q29: =N29 -> 558446.04 | R29: =ROUND(Q29*19%,2) -> 106104.75 | S29: =ROUND(Q29+R29,2) -> 664550.79
B30: 9 | C30: CABLE ENCAUCHETADO No 12 (SEGÚN ESPECIFICACIONES TÉCNICAS) | E30: UNIDAD | H30: 1 | J30: 12715.81 | K30: =ROUND(J30*19%,2) -> 2416 | L30: =ROUND(J30+K30,2) -> 15131.81 | N30: =($O$6/$N$6)*$J30 -> 14024.429 | Q30: =N30 -> 14024.429 | R30: =ROUND(Q30*19%,2) -> 2664.64 | S30: =ROUND(Q30+R30,2) -> 16689.07
B31: 10 | C31: PRECALENTADOR DE BOTELLA DE 1500 W 110 VOLTIOS (SEGÚN ESPECIFICACIONES TÉCNICAS) | E31: UNIDAD | H31: 1 | J31: 979624.52 | K31: =ROUND(J31*19%,2) -> 186128.66 | L31: =ROUND(J31+K31,2) -> 1165753.2 | N31: =($O$6/$N$6)*$J31 -> 1080440.4 | Q31: =N31 -> 1080440.4 | R31: =ROUND(Q31*19%,2) -> 205283.67 | S31: =ROUND(Q31+R31,2) -> 1285724.1
B32: 11 | C32: PRECALENTADOR DE CAMISA TIPO HOTSTARS 1500W A 220 VOLTIOS. (SEGÚN ESPECIFICACIONES TÉCNICAS) | E32: UNIDAD | H32: 1 | J32: 1031199.6 | K32: =ROUND(J32*19%,2) -> 195927.93 | L32: =ROUND(J32+K32,2) -> 1227127.6 | N32: =($O$6/$N$6)*$J32 -> 1137323.2 | Q32: =N32 -> 1137323.2 | R32: =ROUND(Q32*19%,2) -> 216091.41 | S32: =ROUND(Q32+R32,2) -> 1353414.6
B33: 12 | C33: SENSOR DE BAJO NIVEL DE REFRIGERACIÓN PLANTA ELECTRICA 1000 KVA (SEGÚN ESPECIFICACIONES TÉCNICAS) | E33: UNIDAD | H33: 1 | J33: 694333.02 | K33: =ROUND(J33*19%,2) -> 131923.27 | L33: =ROUND(J33+K33,2) -> 826256.29 | N33: =($O$6/$N$6)*$J33 -> 765788.74 | Q33: =N33 -> 765788.74 | R33: =ROUND(Q33*19%,2) -> 145499.86 | S33: =ROUND(Q33+R33,2) -> 911288.6
... B35: 14 | C35: CONTACTOR SIEMENS SIRIUS REF RT 1065-6 220 VOLTIOS A 330 AMP A 1000 V (SEGÚN ESPECIFICACIONES TÉCNICAS) | E35: UNIDAD | H35: 1 | J35: 2254916 | K35: =ROUND(J35*19%,2) -> 428434.05 | L35: =ROUND(J35+K35,2) -> 2683350.1 | N35: =($O$6/$N$6)*$J35 -> 2486975.7 | Q35: =N35 -> 2486975.7 | R35: =ROUND(Q35*19%,2) -> 472525.37 | S35: =ROUND(Q35+R35,2) -> 2959501
B39: NOTAS:
B40: 1) El índice refleja la evolución promedio de los precios de todos los artículos/insumos es decir, se refiere a un promedio tomado sobre la base de todos los productos ofrecidos en el mercado.
B41: 2) Para traer a valor presente los precios unitarios, se toma el índice de serie del mes vigente dividido por el índice de serie del mes y año en que fue efectuada la compra y/o servicio. Este resultado se multiplica por el precio de la misma.
B42: 3) En el presente análisis se aplicó el procedimiento de aproximación generalmente aceptado por las reglas matemáticas denominado redondeo, que consiste en acercar los valores decimales al número entero más aproximado (esto es, si el tercer decimal es menor que 5, el segundo decimal se mantiene; si el tercer decimal es igual o mayor que 5, el segundo decimal se incrementa en uno).
B44: Estudio del Sector 438
B45: Fecha de elaboración: 12/08/2026
B46: Fecha de modificación: 28/08/2026

Sheet ANEXO 3
B2: ANEXO 3 - ANÁLISIS PARA ESTABLECER EL VALOR FINAL
D3: PRESTAR EL SERVICIO DE MANTENIMIENTO PREVENTIVO Y CORRECTIVO TÉCNICO INTEGRAL ESPECIALIZADO CON SUMINISTRO DE INSUMOS Y BOLSA DE REPUESTOS PARA LAS PLANTAS ELÉCTRICAS DE EMERGENCIA Y LAS TRANSFERENCIAS ELÉCTRICAS AUTOMÁTICAS DE CARGA CON QUE CUENTAN LAS SEDES DEL NIVEL CENTRAL DE LA FISCALÍA GENERAL DE LA NACIÓN.
J5: ANÁLISIS PROYECCIÓN COSTOS HISTÓRICOS | O5: VALORES TOMADOS
B7: MANTENIMIENTOS | J7: PRESUPUESTO TOTAL ASIGNADO 2026 VIGENCIA : 1 MES | O7: PRESUPUESTO TOTAL ASIGNADO 2026 VIGENCIA : 1 MES | T7: PRESUPUESTO TOTAL ASIGNADO VIGENCIA 2027 - 12 MESES | V7: PORCENTAJE DE INCREMENTO | W7: 0.044 | Y7: PRESUPUESTO TOTAL ASIGNADO VIGENCIA 2028 - 11 MESES | AA7: PORCENTAJE DE INCREMENTO | AB7: 0.03 | AD7: PRESUPUESTO TOTAL ASIGNADO AL PROCESO VIGENCIAS 2026, 2027 Y 2028 MANTENIMIENTOS (24 MESES)
B8: ITEM | C8: DESCRIPCIÓN | D8: FRECUENCIA | E8: CANTIDAD DE EQUIPOS | F8: CANTIDAD DE MANTENIMIENTOS POR AÑO | J8: VALOR UNITARIO SIN IVA | K8: IVA UNITARIO | L8: VALOR UNITARIO INCLUIDO IVA | M8: VALOR TOTAL INCLUIDO IVA | O8: VALOR UNITARIO SIN IVA | P8: IVA UNITARIO | Q8: VALOR UNITARIO INCLUIDO IVA | R8: VALOR TOTAL INCLUIDO IVA | T8: VALOR UNITARIO SIN IVA | U8: IVA UNITARIO | V8: VALOR UNITARIO INCLUIDO IVA | W8: VALOR TOTAL INCLUIDO IVA | Y8: VALOR UNITARIO SIN IVA | Z8: IVA UNITARIO | AA8: VALOR UNITARIO INCLUIDO IVA | AB8: VALOR TOTAL INCLUIDO IVA
F9: 2026 | G9: 2027 | H9: 2028
B10: 1 | C10: SERVICIO MANTENIMIENTO PREVENTIVO Y CORRECTIVO PLANTA CUMMINS ABC POWER 240 Kw Av. Calle 24 No. 52-01 Ciudad Salitre (SEGÚN ESPECIFICACIONES TÉCNICAS) | D10: MENSUAL | E10: 1 | F10: 1 | G10: 12 | H10: 11 | J10: ='ANEXO 2'!Q8 -> 62930.327 | K10: =ROUND(J10*19%,2) -> 11956.76 | L10: =ROUND(J10+K10,2) -> 74887.09 | M10: =ROUND(L10*$F10,2) -> 74887.09 | O10: =J10 -> 62930.327 | P10: =ROUND(O10*19%,2) -> 11956.76 | Q10: =ROUND(O10+P10,2) -> 74887.09 | R10: =ROUND(Q10*$F10,2) -> 74887.09 | T10: =ROUND(O10+(O10*$W$7),2) -> 65699.26 | U10: =ROUND(T10*19%,2) -> 12482.86 | V10: =ROUND(T10+U10,2) -> 78182.12 | W10: =ROUND(V10*$G10,2) -> 938185.44 | Y10: =ROUND(T10+(T10*$AB$7),2) -> 67670.24 | Z10: =ROUND(Y10*19%,2) -> 12857.35 | AA10: =ROUND(Y10+Z10,2) -> 80527.59 | AB10: =ROUND(AA10*$H10,2) -> 885803.49 | AD10: =ROUND(R10+W10+AB10,2) -> 1898876
B11: 2 | C11: SERVICIO MANTENIMIENTO PREVENTIVO Y CORRECTIVO PLANTA CUMMINS ONAN 750 KW Av. Calle 24 No. 52-01 Ciudad Salitre (SEGÚN ESPECIFICACIONES TÉCNICAS) | D11: MENSUAL | E11: 1 | F11: 1 | G11: 12 | H11: 11 | J11: ='ANEXO 2'!Q9 -> 62930.327 | K11: =ROUND(J11*19%,2) -> 11956.76 | L11: =ROUND(J11+K11,2) -> 74887.09 | M11: =ROUND(L11*$F11,2) -> 74887.09 | O11: =J11 -> 62930.327 | P11: =ROUND(O11*19%,2) -> 11956.76 | Q11: =ROUND(O11+P11,2) -> 74887.09 | R11: =ROUND(Q11*$F11,2) -> 74887.09 | T11: =ROUND(O11+(O11*$W$7),2) -> 65699.26 | U11: =ROUND(T11*19%,2) -> 12482.86 | V11: =ROUND(T11+U11,2) -> 78182.12 | W11: =ROUND(V11*$G11,2) -> 938185.44 | Y11: =ROUND(T11+(T11*$AB$7),2) -> 67670.24 | Z11: =ROUND(Y11*19%,2) -> 12857.35 | AA11: =ROUND(Y11+Z11,2) -> 80527.59 | AB11: =ROUND(AA11*$H11,2) -> 885803.49 | AD11: =ROUND(R11+W11+AB11,2) -> 1898876
B12: 3 | C12: SERVICIO MANTENIMIENTO PREVENTIVO Y CORRECTIVO PLANTA CUMMINS ONAN 1000 KW Av. Calle 24 No. 52-01 Ciudad Salitre | D12: MENSUAL | E12: 1 | F12: 1 | G12: 12 | H12: 11 | J12: ='ANEXO 2'!Q10 -> 62930.327 | K12: =ROUND(J12*19%,2) -> 11956.76 | L12: =ROUND(J12+K12,2) -> 74887.09 | M12: =ROUND(L12*$F12,2) -> 74887.09 | O12: =J12 -> 62930.327 | P12: =ROUND(O12*19%,2) -> 11956.76 | Q12: =ROUND(O12+P12,2) -> 74887.09 | R12: =ROUND(Q12*$F12,2) -> 74887.09 | T12: =ROUND(O12+(O12*$W$7),2) -> 65699.26 | U12: =ROUND(T12*19%,2) -> 12482.86 | V12: =ROUND(T12+U12,2) -> 78182.12 | W12: =ROUND(V12*$G12,2) -> 938185.44 | Y12: =ROUND(T12+(T12*$AB$7),2) -> 67670.24 | Z12: =ROUND(Y12*19%,2) -> 12857.35 | AA12: =ROUND(Y12+Z12,2) -> 80527.59 | AB12: =ROUND(AA12*$H12,2) -> 885803.49 | AD12: =ROUND(R12+W12+AB12,2) -> 1898876
B13: 4 | C13: SERVICIO MANTENIMIENTO PREVENTIVO Y CORRECTIVO PLANTA PERKINS-SPECTRUM 100 KW Carrera 13 No. 73-50 (SEGÚN ESPECIFICACIONES TÉCNICAS) | D13: MENSUAL | E13: 1 | F13: 1 | G13: 12 | H13: 11 | J13: ='ANEXO 2'!Q11 -> 62930.327 | K13: =ROUND(J13*19%,2) -> 11956.76 | L13: =ROUND(J13+K13,2) -> 74887.09 | M13: =ROUND(L13*$F13,2) -> 74887.09 | O13: =J13 -> 62930.327 | P13: =ROUND(O13*19%,2) -> 11956.76 | Q13: =ROUND(O13+P13,2) -> 74887.09 | R13: =ROUND(Q13*$F13,2) -> 74887.09 | T13: =ROUND(O13+(O13*$W$7),2) -> 65699.26 | U13: =ROUND(T13*19%,2) -> 12482.86 | V13: =ROUND(T13+U13,2) -> 78182.12 | W13: =ROUND(V13*$G13,2) -> 938185.44 | Y13: =ROUND(T13+(T13*$AB$7),2) -> 67670.24 | Z13: =ROUND(Y13*19%,2) -> 12857.35 | AA13: =ROUND(Y13+Z13,2) -> 80527.59 | AB13: =ROUND(AA13*$H13,2) -> 885803.49 | AD13: =ROUND(R13+W13+AB13,2) -> 1898876
B14: 5 | C14: SERVICIO MANTENIMIENTO PREVENTIVO Y CORRECTIVO PLANTA PERKINS-GENERALLY 40 KW Carrera 18A No. 39A-33/39 Casona (SEGÚN ESPECIFICACIONES TÉCNICAS) | D14: MENSUAL | E14: 1 | F14: 1 | G14: 12 | H14: 11 | J14: ='ANEXO 2'!Q12 -> 62930.327 | K14: =ROUND(J14*19%,2) -> 11956.76 | L14: =ROUND(J14+K14,2) -> 74887.09 | M14: =ROUND(L14*$F14,2) -> 74887.09 | O14: =J14 -> 62930.327 | P14: =ROUND(O14*19%,2) -> 11956.76 | Q14: =ROUND(O14+P14,2) -> 74887.09 | R14: =ROUND(Q14*$F14,2) -> 74887.09 | T14: =ROUND(O14+(O14*$W$7),2) -> 65699.26 | U14: =ROUND(T14*19%,2) -> 12482.86 | V14: =ROUND(T14+U14,2) -> 78182.12 | W14: =ROUND(V14*$G14,2) -> 938185.44 | Y14: =ROUND(T14+(T14*$AB$7),2) -> 67670.24 | Z14: =ROUND(Y14*19%,2) -> 12857.35 | AA14: =ROUND(Y14+Z14,2) -> 80527.59 | AB14: =ROUND(AA14*$H14,2) -> 885803.49 | AD14: =ROUND(R14+W14+AB14,2) -> 1898876
B15: 6 | C15: SERVICIO MANTENIMIENTO PREVENTIVO Y CORRECTIVO PLANTA LISTER PETER 225 KW Carrera 30 No. 13-24 (SEGÚN ESPECIFICACIONES TÉCNICAS) | D15: MENSUAL | E15: 1 | F15: 1 | G15: 12 | H15: 11 | J15: ='ANEXO 2'!Q13 -> 62930.327 | K15: =ROUND(J15*19%,2) -> 11956.76 | L15: =ROUND(J15+K15,2) -> 74887.09 | M15: =ROUND(L15*$F15,2) -> 74887.09 | O15: =J15 -> 62930.327 | P15: =ROUND(O15*19%,2) -> 11956.76 | Q15: =ROUND(O15+P15,2) -> 74887.09 | R15: =ROUND(Q15*$F15,2) -> 74887.09 | T15: =ROUND(O15+(O15*$W$7),2) -> 65699.26 | U15: =ROUND(T15*19%,2) -> 12482.86 | V15: =ROUND(T15+U15,2) -> 78182.12 | W15: =ROUND(V15*$G15,2) -> 938185.44 | Y15: =ROUND(T15+(T15*$AB$7),2) -> 67670.24 | Z15: =ROUND(Y15*19%,2) -> 12857.35 | AA15: =ROUND(Y15+Z15,2) -> 80527.59 | AB15: =ROUND(AA15*$H15,2) -> 885803.49 | AD15: =ROUND(R15+W15+AB15,2) -> 1898876
B16: 7 | C16: SERVICIO MANTENIMIENTO PREVENTIVO Y CORRECTIVO PLANTA CUMMINS ONAN 1000 KW Carrera 28 No. 18-64 Paloquemao (SEGÚN ESPECIFICACIONES TÉCNICAS) | D16: MENSUAL | E16: 1 | F16: 1 | G16: 12 | H16: 11 | J16: ='ANEXO 2'!Q14 -> 62930.327 | K16: =ROUND(J16*19%,2) -> 11956.76 | L16: =ROUND(J16+K16,2) -> 74887.09 | M16: =ROUND(L16*$F16,2) -> 74887.09 | O16: =J16 -> 62930.327 | P16: =ROUND(O16*19%,2) -> 11956.76 | Q16: =ROUND(O16+P16,2) -> 74887.09 | R16: =ROUND(Q16*$F16,2) -> 74887.09 | T16: =ROUND(O16+(O16*$W$7),2) -> 65699.26 | U16: =ROUND(T16*19%,2) -> 12482.86 | V16: =ROUND(T16+U16,2) -> 78182.12 | W16: =ROUND(V16*$G16,2) -> 938185.44 | Y16: =ROUND(T16+(T16*$AB$7),2) -> 67670.24 | Z16: =ROUND(Y16*19%,2) -> 12857.35 | AA16: =ROUND(Y16+Z16,2) -> 80527.59 | AB16: =ROUND(AA16*$H16,2) -> 885803.49 | AD16: =ROUND(R16+W16+AB16,2) -> 1898876
B17: 8 | C17: SERVICIO MANTENIMIENTO PREVENTIVO Y CORRECTIVO PLANTA STEWART STEVENSON 145 KW Kilómetro 4 Vía Suba-Cota (SEGÚN ESPECIFICACIONES TÉCNICAS) | D17: MENSUAL | E17: 1 | F17: 1 | G17: 12 | H17: 11 | J17: ='ANEXO 2'!Q15 -> 62930.327 | K17: =ROUND(J17*19%,2) -> 11956.76 | L17: =ROUND(J17+K17,2) -> 74887.09 | M17: =ROUND(L17*$F17,2) -> 74887.09 | O17: =J17 -> 62930.327 | P17: =ROUND(O17*19%,2) -> 11956.76 | Q17: =ROUND(O17+P17,2) -> 74887.09 | R17: =ROUND(Q17*$F17,2) -> 74887.09 | T17: =ROUND(O17+(O17*$W$7),2) -> 65699.26 | U17: =ROUND(T17*19%,2) -> 12482.86 | V17: =ROUND(T17+U17,2) -> 78182.12 | W17: =ROUND(V17*$G17,2) -> 938185.44 | Y17: =ROUND(T17+(T17*$AB$7),2) -> 67670.24 | Z17: =ROUND(Y17*19%,2) -> 12857.35 | AA17: =ROUND(Y17+Z17,2) -> 80527.59 | AB17: =ROUND(AA17*$H17,2) -> 885803.49 | AD17: =ROUND(R17+W17+AB17,2) -> 1898876
B18: 9 | C18: SERVICIO MANTENIMIENTO PREVENTIVO Y CORRECTIVO PLANTA DEUTZ-STAMFORD 43 KW Av. Calle 24 No. 52-01 Ciudad Salitre (SEGÚN ESPECIFICACIONES TÉCNICAS) | D18: MENSUAL | E18: 1 | F18: 1 | G18: 12 | H18: 11 | J18: ='ANEXO 2'!Q16 -> 62930.327 | K18: =ROUND(J18*19%,2) -> 11956.76 | L18: =ROUND(J18+K18,2) -> 74887.09 | M18: =ROUND(L18*$F18,2) -> 74887.09 | O18: =J18 -> 62930.327 | P18: =ROUND(O18*19%,2) -> 11956.76 | Q18: =ROUND(O18+P18,2) -> 74887.09 | R18: =ROUND(Q18*$F18,2) -> 74887.09 | T18: =ROUND(O18+(O18*$W$7),2) -> 65699.26 | U18: =ROUND(T18*19%,2) -> 12482.86 | V18: =ROUND(T18+U18,2) -> 78182.12 | W18: =ROUND(V18*$G18,2) -> 938185.44 | Y18: =ROUND(T18+(T18*$AB$7),2) -> 67670.24 | Z18: =ROUND(Y18*19%,2) -> 12857.35 | AA18: =ROUND(Y18+Z18,2) -> 80527.59 | AB18: =ROUND(AA18*$H18,2) -> 885803.49 | AD18: =ROUND(R18+W18+AB18,2) -> 1898876
B19: 10 | C19: SERVICIO MANTENIMIENTO PREVENTIVO Y CORRECTIVO PLANTA PERKINS-STAMFORD 750 KW Av. Calle 24 No. 52-01 Ciudad Salitre (SEGÚN ESPECIFICACIONES TÉCNICAS) | D19: MENSUAL | E19: 1 | F19: 1 | G19: 12 | H19: 11 | J19: ='ANEXO 2'!Q17 -> 62930.327 | K19: =ROUND(J19*19%,2) -> 11956.76 | L19: =ROUND(J19+K19,2) -> 74887.09 | M19: =ROUND(L19*$F19,2) -> 74887.09 | O19: =J19 -> 62930.327 | P19: =ROUND(O19*19%,2) -> 11956.76 | Q19: =ROUND(O19+P19,2) -> 74887.09 | R19: =ROUND(Q19*$F19,2) -> 74887.09 | T19: =ROUND(O19+(O19*$W$7),2) -> 65699.26 | U19: =ROUND(T19*19%,2) -> 12482.86 | V19: =ROUND(T19+U19,2) -> 78182.12 | W19: =ROUND(V19*$G19,2) -> 938185.44 | Y19: =ROUND(T19+(T19*$AB$7),2) -> 67670.24 | Z19: =ROUND(Y19*19%,2) -> 12857.35 | AA19: =ROUND(Y19+Z19,2) -> 80527.59 | AB19: =ROUND(AA19*$H19,2) -> 885803.49 | AD19: =ROUND(R19+W19+AB19,2) -> 1898876
B20: 11 | C20: SERVICIO MANTENIMIENTO PREVENTIVO Y CORRECTIVO PLANTA PERKINS-STAMFORD 1125 KW Av. Calle 24 No. 52-01 Ciudad Salitre (SEGÚN ESPECIFICACIONES TÉCNICAS) | D20: MENSUAL | E20: 1 | F20: 1 | G20: 12 | H20: 11 | J20: ='ANEXO 2'!Q18 -> 62930.327 | K20: =ROUND(J20*19%,2) -> 11956.76 | L20: =ROUND(J20+K20,2) -> 74887.09 | M20: =ROUND(L20*$F20,2) -> 74887.09 | O20: =J20 -> 62930.327 | P20: =ROUND(O20*19%,2) -> 11956.76 | Q20: =ROUND(O20+P20,2) -> 74887.09 | R20: =ROUND(Q20*$F20,2) -> 74887.09 | T20: =ROUND(O20+(O20*$W$7),2) -> 65699.26 | U20: =ROUND(T20*19%,2) -> 12482.86 | V20: =ROUND(T20+U20,2) -> 78182.12 | W20: =ROUND(V20*$G20,2) -> 938185.44 | Y20: =ROUND(T20+(T20*$AB$7),2) -> 67670.24 | Z20: =ROUND(Y20*19%,2) -> 12857.35 | AA20: =ROUND(Y20+Z20,2) -> 80527.59 | AB20: =ROUND(AA20*$H20,2) -> 885803.49 | AD20: =ROUND(R20+W20+AB20,2) -> 1898876
B21: TOTAL MANTENIMIENTOS | M21: =ROUND(SUM(M10:M20),2) -> 823757.99 | R21: =ROUND(SUM(R10:R20),2) -> 823757.99 | W21: =ROUND(SUM(W10:W20),2) -> 10320040 | AB21: =ROUND(SUM(AB10:AB20),2) -> 9743838.4 | AD21: =ROUND(SUM(AD10:AD20),2) -> 20887636
B23: LISTA DE REPUESTOS RECURRENTES - VALORES UNITARIOS
B24: ÍTEM | C24: DESCRIPCIÓN DETALLADA REPUESTOS | E24: UNIDAD | H24: CANTIDAD | J24: PRESUPUESTO TOTAL ASIGNADO 2026 VIGENCIA : 1 MES | O24: PRESUPUESTO TOTAL ASIGNADO 2026 VIGENCIA : 1 MES | T24: PRESUPUESTO TOTAL ASIGNADO VIGENCIA 2027 - 12 MESES | W24: 0.044 | Y24: PRESUPUESTO TOTAL ASIGNADO VIGENCIA 2028 - 11 MESES | AB24: 0.03 | AD24: PRESUPUESTO TOTAL ASIGNADO AL PROCESO VIGENCIAS 2026, 2027 Y 2028 LISTA DE REPUESTOS - VALORES UNITARIOS (24 MESES)
B25: 1 | C25: ABRAZADERA INDUSTRIAL DE 3" (SEGÚN ESPECIFICACIONES TÉCNICAS) | E25: UNIDAD | H25: 1 | J25: ='ANEXO 2'!Q22 -> 137220.56 | K25: =ROUND(J25*19%,2) -> 26071.91 | L25: =ROUND(J25+K25,2) -> 163292.47 | M25: =ROUND(L25*$H25,2) -> 163292.47 | O25: =J25 -> 137220.56 | P25: =ROUND(O25*19%,2) -> 26071.91 | Q25: =ROUND(O25+P25,2) -> 163292.47 | R25: =ROUND(Q25*$H25,2) -> 163292.47 | T25: =ROUND(O25+(O25*$W$24),2) -> 143258.26 | U25: =ROUND(T25*19%,2) -> 27219.07 | V25: =ROUND(T25+U25,2) -> 170477.33 | W25: =ROUND(V25*$H25,2) -> 170477.33 | Y25: =ROUND(T25+(T25*$AB$24),2) -> 147556.01 | Z25: =ROUND(Y25*19%,2) -> 28035.64 | AA25: =ROUND(Y25+Z25,2) -> 175591.65 | AB25: =ROUND(AA25*$H25,2) -> 175591.65 | AD25: =ROUND(R25+W25+AB25,2) -> 509361.45
B26: 2 | C26: BENDIX DEL MOTOR DE ARRANQUE. (SEGÚN ESPECIFICACIONES TÉCNICAS) | E26: UNIDAD | H26: 1 | J26: ='ANEXO 2'!Q23 -> 508019.93 | K26: =ROUND(J26*19%,2) -> 96523.79 | L26: =ROUND(J26+K26,2) -> 604543.72 | M26: =ROUND(L26*$H26,2) -> 604543.72 | O26: =J26 -> 508019.93 | P26: =ROUND(O26*19%,2) -> 96523.79 | Q26: =ROUND(O26+P26,2) -> 604543.72 | R26: =ROUND(Q26*$H26,2) -> 604543.72 | T26: =ROUND(O26+(O26*$W$24),2) -> 530372.81 | U26: =ROUND(T26*19%,2) -> 100770.83 | V26: =ROUND(T26+U26,2) -> 631143.64 | W26: =ROUND(V26*$H26,2) -> 631143.64 | Y26: =ROUND(T26+(T26*$AB$24),2) -> 546283.99 | Z26: =ROUND(Y26*19%,2) -> 103793.96 | AA26: =ROUND(Y26+Z26,2) -> 650077.95 | AB26: =ROUND(AA26*$H26,2) -> 650077.95 | AD26: =ROUND(R26+W26+AB26,2) -> 1885765.3
B27: 3 | C27: BREAKER 30 AMPERIOS (SEGÚN ESPECIFICACIONES TÉCNICAS) | E27: UNIDAD | H27: 1 | J27: ='ANEXO 2'!Q24 -> 179163.49 | K27: =ROUND(J27*19%,2) -> 34041.06 | L27: =ROUND(J27+K27,2) -> 213204.55 | M27: =ROUND(L27*$H27,2) -> 213204.55 | O27: =J27 -> 179163.49 | P27: =ROUND(O27*19%,2) -> 34041.06 | Q27: =ROUND(O27+P27,2) -> 213204.55 | R27: =ROUND(Q27*$H27,2) -> 213204.55 | T27: =ROUND(O27+(O27*$W$24),2) -> 187046.68 | U27: =ROUND(T27*19%,2) -> 35538.87 | V27: =ROUND(T27+U27,2) -> 222585.55 | W27: =ROUND(V27*$H27,2) -> 222585.55 | Y27: =ROUND(T27+(T27*$AB$24),2) -> 192658.08 | Z27: =ROUND(Y27*19%,2) -> 36605.04 | AA27: =ROUND(Y27+Z27,2) -> 229263.12 | AB27: =ROUND(AA27*$H27,2) -> 229263.12 | AD27: =ROUND(R27+W27+AB27,2) -> 665053.22
B28: 4 | C28: CARGADOR AUTOMATICO CONSTANTE DE BATERIA 15 AMPERIOS A 20 VDC. (SEGÚN ESPECIFICACIONES TÉCNICAS) | E28: UNIDAD | H28: 1 | J28: ='ANEXO 2'!Q25 -> 616389.84 | K28: =ROUND(J28*19%,2) -> 117114.07 | L28: =ROUND(J28+K28,2) -> 733503.91 | M28: =ROUND(L28*$H28,2) -> 733503.91 | O28: =J28 -> 616389.84 | P28: =ROUND(O28*19%,2) -> 117114.07 | Q28: =ROUND(O28+P28,2) -> 733503.91 | R28: =ROUND(Q28*$H28,2) -> 733503.91 | T28: =ROUND(O28+(O28*$W$24),2) -> 643510.99 | U28: =ROUND(T28*19%,2) -> 122267.09 | V28: =ROUND(T28+U28,2) -> 765778.08 | W28: =ROUND(V28*$H28,2) -> 765778.08 | Y28: =ROUND(T28+(T28*$AB$24),2) -> 662816.32 | Z28: =ROUND(Y28*19%,2) -> 125935.1 | AA28: =ROUND(Y28+Z28,2) -> 788751.42 | AB28: =ROUND(AA28*$H28,2) -> 788751.42 | AD28: =ROUND(R28+W28+AB28,2) -> 2288033.4
B29: 5 | C29: MANGUERAS SILICONADAS DEL SISTEMA DE REFRIGERACION (SEGÚN ESPECIFICACIONES TÉCNICAS) | E29: UNIDAD | H29: 1 | J29: ='ANEXO 2'!Q26 -> 724108.01 | K29: =ROUND(J29*19%,2) -> 137580.52 | L29: =ROUND(J29+K29,2) -> 861688.53 | M29: =ROUND(L29*$H29,2) -> 861688.53 | O29: =J29 -> 724108.01 | P29: =ROUND(O29*19%,2) -> 137580.52 | Q29: =ROUND(O29+P29,2) -> 861688.53 | R29: =ROUND(Q29*$H29,2) -> 861688.53 | T29: =ROUND(O29+(O29*$W$24),2) -> 755968.76 | U29: =ROUND(T29*19%,2) -> 143634.06 | V29: =ROUND(T29+U29,2) -> 899602.82 | W29: =ROUND(V29*$H29,2) -> 899602.82 | Y29: =ROUND(T29+(T29*$AB$24),2) -> 778647.82 | Z29: =ROUND(Y29*19%,2) -> 147943.09 | AA29: =ROUND(Y29+Z29,2) -> 926590.91 | AB29: =ROUND(AA29*$H29,2) -> 926590.91 | AD29: =ROUND(R29+W29+AB29,2) -> 2687882.3
