Workbook

Sheet FORMATO 7
C2: FORMATO 7
C3: FORMATO 7 - PROPUESTA ECONOMICA
C4: Clave: APOY-9.0-12-014 | D4: Versión: 4 | G4: Fecha de aprobación: 08/07/2022
B5: OBJETO: 63100C1232 ADQUIRIR ELEMENTOS DE PROTECCIÓN PERSONAL PARA LOS SERVIDORES PÚBLICOS Y COLABORADORES DE AERONÁUTICA CIVIL REGIONAL CENTRO SUR
B6: ÍTEM | C6: DESCRIPCIÓN | D6: UND | E6: CANTIDAD | F6: VALOR UNITARIO | G6: VALOR PARCIAL
B7: 1 | C7: PROTECCIÓN CABEZA
B8: 1.1 | C8: GOLIANA O CACHUCHA EN TELA, TIPO SAFARI | D8: UND | E8: =+'PRESUPUESTO OFICIAL'!E8 -> 127 | G8: =+E8*F8 -> 0
B9: 1.2 | C9: CACHUCHA EN TELA BRIGADISTA | D9: UND | E9: =+'PRESUPUESTO OFICIAL'!E9 -> 22 | G9: =+E9*F9 -> 0
B10: 1.3 | C10: CASCO TIPO II CLASE G Y E DIELÉCTRICO | D10: UND | E10: =+'PRESUPUESTO OFICIAL'!E10 -> 38 | G10: =+E10*F10 -> 0
B11: 1.4 | C11: CASCO BRIGADISTA | D11: UND | E11: =+'PRESUPUESTO OFICIAL'!E11 -> 28 | G11: =+E11*F11 -> 0
B12: 2 | C12: PROTECCIÓN OJOS, CARA Y VÍAS RESPIRATORIAS
B13: 2.1 | C13: MASCARILLA PARA GASES Y VAPORES | D13: UND | E13: =+'PRESUPUESTO OFICIAL'!E13 -> 2 | G13: =+E13*F13 -> 0
B14: 2.2 | C14: MONOGAFAS DE SEGURIDAD | D14: UND | E14: =+'PRESUPUESTO OFICIAL'!E14 -> 248 | G14: =+E14*F14 -> 0
B15: 2.3 | C15: GAFAS DE PROTECCIÓN UV (POLICARBONATO) | D15: UND | E15: =+'PRESUPUESTO OFICIAL'!E15 -> 12 | G15: =+E15*F15 -> 0
B16: 2.4 | C16: PROTECTOR AUDITIVO COPA | D16: UND | E16: =+'PRESUPUESTO OFICIAL'!E16 -> 51 | G16: =+E16*F16 -> 0
B17: 2.5 | C17: PROTECTOR AUDITIVO TIPO TAPON-REUTILIZABLE | D17: UND | E17: =+'PRESUPUESTO OFICIAL'!E17 -> 235 | G17: =+E17*F17 -> 0
B18: 2.6 | C18: PROTECTOR AUDITIVO TIPO TAPON-DESECHABLE | D18: UND | E18: =+'PRESUPUESTO OFICIAL'!E18 -> 200 | G18: =+E18*F18 -> 0
B19: 3 | C19: PROTECCIÓN TRONCO
B20: 3.1 | C20: OVEROL ENTERIZO ALGODÓN | D20: UND | E20: =+'PRESUPUESTO OFICIAL'!E20 -> 131 | G20: =+E20*F20 -> 0
B21: 3.2 | C21: BLUSA DE TRABAJO | D21: UND | E21: =+'PRESUPUESTO OFICIAL'!E21 -> 21 | G21: =+E21*F21 -> 0
B22: 3.3 | C22: PETO EN CARNAZA | D22: UND | E22: =+'PRESUPUESTO OFICIAL'!E22 -> 3 | G22: =+E22*F22 -> 0
B23: 3.4 | C23: CAMISETA TIPO POLO | D23: UND | E23: =+'PRESUPUESTO OFICIAL'!E23 -> 670 | G23: =+E23*F23 -> 0
B24: 3.5 | C24: CHALECO REFLECTIVO COLOR NARANJA | D24: UND | E24: =+'PRESUPUESTO OFICIAL'!E24 -> 346 | G24: =+E24*F24 -> 0
B25: 3.6 | C25: CHALECO REFLECTIVO COLOR AZUL BRIGADISTA / COORDINADOR EVACUACION | D25: UND | E25: =+'PRESUPUESTO OFICIAL'!E25 -> 11 | G25: =+E25*F25 -> 0
B26: 3.7 | C26: CHAQUETA BOMBER INSTITUCIONAL | D26: UND | E26: =+'PRESUPUESTO OFICIAL'!E26 -> 670 | G26: =+E26*F26 -> 0
B27: 3.8 | C27: IMPERMEABLE | D27: UND | E27: =+'PRESUPUESTO OFICIAL'!E27 -> 21 | G27: =+E27*F27 -> 0
B28: 4 | C28: PROTECCIÓN EXTREMIDADES SUPERIORES
B29: 4.1 | C29: GUANTES DE VAQUETA | D29: UND | E29: =+'PRESUPUESTO OFICIAL'!E29 -> 177 | G29: =+E29*F29 -> 0
B30: 4.2 | C30: GUANTES DE CAUCHO | D30: UND | E30: =+'PRESUPUESTO OFICIAL'!E30 -> 251 | G30: =+E30*F30 -> 0
B31: 4.3 | C31: GUANTES NITRILO | D31: UND | E31: =+'PRESUPUESTO OFICIAL'!E31 -> 181 | G31: =+E31*F31 -> 0
B32: 4.4 | C32: GUANTES DIELECTRICOS | D32: UND | E32: =+'PRESUPUESTO OFICIAL'!E32 -> 12 | G32: =+E32*F32 -> 0
B33: 5 | C33: PROTECCIÓN EXTREMIDADES INFERIORES
B34: 5.1 | C34: BOTA DE SEGURIDAD DIELECTRICA CON PUNTERA | D34: UND | E34: =+'PRESUPUESTO OFICIAL'!E34 -> 70 | G34: =+E34*F34 -> 0
B35: 5.2 | C35: BOTA DE CAUCHO DIELECTRICA CON PUNTERA | D35: UND | E35: =+'PRESUPUESTO OFICIAL'!E35 -> 60 | G35: =+E35*F35 -> 0
B36: COSTOS TOTALES | G36: =SUM(G7:G35) -> 0
B37: IVA | F37: 19% | G37: 0
B38: TOTAL PROYECTO | G38: =+G36+G37 -> 0
B39: NOTA 1. Para diligenciar el presente formato se debe tener en cuenta lo siguiente: Si es una adquisición deben discriminar todos los ítems que hacen parte del objeto contractual y se deben tener en cuenta las unidades de medidas y las cantidades a adquirir, además se debe tener en cuenta si aplica o no el IVA, de lo anterior se puede concluir que este formato al ser publicado deberá tener diligenciados los campos de ítems, descripción, unidad y cantidad. Si es una prestación de servicios deben discriminar todos los ítems que hacen parte del objeto contractual y se deben tener en cuenta las unidades de medidas y las cantidades a adquirir, además se debe tener en cuenta si aplica o no el IVA, de lo anterior se puede concluir que este formato al ser publicado deberá tener diligenciados los campos de ítems, descripción, unidad y cantidad.
F40: FIRMA REPRESENTANTE LEGAL
F41: Nombre
F42: NIT
F43: Dirección
F44: Teléfonos, Fax
F45: Dirección Correo Electrónico
F46: Número Celular
F47: Ciudad

Sheet PRESUPUESTO OFICIAL
C2: FORMATO 7
C3: FORMATO 7 - PRESUPUESTO OFICIAL
C4: Clave: APOY-9.0-12-014 | D4: Versión: 4 | G4: Fecha de aprobación: 08/07/2022
B5: OBJETO: 63100C1232 ADQUIRIR ELEMENTOS DE PROTECCIÓN PERSONAL PARA LOS SERVIDORES PÚBLICOS Y COLABORADORES DE AERONÁUTICA CIVIL REGIONAL CENTRO SUR
B6: ÍTEM | C6: DESCRIPCIÓN | D6: UND | E6: CANTIDAD | F6: VALOR UNITARIO | G6: VALOR PARCIAL
B7: 1 | C7: PROTECCIÓN CABEZA
B8: 1.1 | C8: GOLIANA O CACHUCHA EN TELA, TIPO SAFARI | D8: UND | E8: 127 | F8: 50294 | G8: 6387338
B9: 1.2 | C9: CACHUCHA EN TELA BRIGADISTA | D9: UND | E9: 22 | F9: 36680 | G9: 806960
B10: 1.3 | C10: CASCO TIPO II CLASE G Y E DIELÉCTRICO | D10: UND | E10: 38 | F10: 104706 | G10: 3978828
B11: 1.4 | C11: CASCO BRIGADISTA | D11: UND | E11: 28 | F11: 332134 | G11: 9299752
B12: 2 | C12: PROTECCIÓN OJOS, CARA Y VÍAS RESPIRATORIAS
B13: 2.1 | C13: MASCARILLA PARA GASES Y VAPORES | D13: UND | E13: 2 | F13: 182395 | G13: 364790
B14: 2.2 | C14: MONOGAFAS DE SEGURIDAD | D14: UND | E14: 248 | F14: 43003 | G14: 10664744
B15: 2.3 | C15: GAFAS DE PROTECCIÓN UV (POLICARBONATO) | D15: UND | E15: 12 | F15: 22892 | G15: 274704
B16: 2.4 | C16: PROTECTOR AUDITIVO COPA | D16: UND | E16: 51 | F16: 163530 | G16: 8340030
B17: 2.5 | C17: PROTECTOR AUDITIVO TIPO TAPON-REUTILIZABLE | D17: UND | E17: 235 | F17: 3662 | G17: 860570
B18: 2.6 | C18: PROTECTOR AUDITIVO TIPO TAPON-DESECHABLE | D18: UND | E18: 200 | F18: 6000 | G18: 1200000
B19: 3 | C19: PROTECCIÓN TRONCO
B20: 3.1 | C20: OVEROL ENTERIZO ALGODÓN | D20: UND | E20: 131 | F20: 150386 | G20: 19700566
B21: 3.2 | C21: BLUSA DE TRABAJO | D21: UND | E21: 21 | F21: 69312 | G21: 1455552
B22: 3.3 | C22: PETO EN CARNAZA | D22: UND | E22: 3 | F22: 37755 | G22: 113265
B23: 3.4 | C23: CAMISETA TIPO POLO | D23: UND | E23: 670 | F23: 80977 | G23: 54254590
B24: 3.5 | C24: CHALECO REFLECTIVO COLOR NARANJA | D24: UND | E24: 346 | F24: 88053 | G24: 30466338
B25: 3.6 | C25: CHALECO REFLECTIVO COLOR AZUL BRIGADISTA / COORDINADOR EVACUACION | D25: UND | E25: 11 | F25: 97863 | G25: 1076493
B26: 3.7 | C26: CHAQUETA BOMBER INSTITUCIONAL | D26: UND | E26: 670 | F26: 152295 | G26: 102037650
B27: 3.8 | C27: IMPERMEABLE | D27: UND | E27: 21 | F27: 85189 | G27: 1788969
B28: 4 | C28: PROTECCIÓN EXTREMIDADES SUPERIORES
B29: 4.1 | C29: GUANTES DE VAQUETA | D29: UND | E29: 177 | F29: 32632 | G29: 5775864
B30: 4.2 | C30: GUANTES DE CAUCHO | D30: UND | E30: 251 | F30: 16540 | G30: 4151540
B31: 4.3 | C31: GUANTES NITRILO | D31: UND | E31: 181 | F31: 14402 | G31: 2606762
B32: 4.4 | C32: GUANTES DIELECTRICOS | D32: UND | E32: 12 | F32: 568395 | G32: 6820740
B33: 5 | C33: PROTECCIÓN EXTREMIDADES INFERIORES
B34: 5.1 | C34: BOTA DE SEGURIDAD DIELECTRICA CON PUNTERA | D34: UND | E34: 70 | F34: 212936 | G34: 14905520
B35: 5.2 | C35: BOTA DE CAUCHO DIELECTRICA CON PUNTERA | D35: UND | E35: 60 | F35: 89519 | G35: 5371140
B36: COSTOS TOTALES | G36: 292702705
B37: IVA | F37: 19% | G37: 55613514
B38: TOTAL PROYECTO | G38: 348316219
B39: NOTA 1. Para diligenciar el presente formato se debe tener en cuenta lo siguiente: Si es una adquisición deben discriminar todos los ítems que hacen parte del objeto contractual y se deben tener en cuenta las unidades de medidas y las cantidades a adquirir, además se debe tener en cuenta si aplica o no el IVA, de lo anterior se puede concluir que este formato al ser publicado deberá tener diligenciados los campos de ítems, descripción, unidad y cantidad. Si es una prestación de servicios deben discriminar todos los ítems que hacen parte del objeto contractual y se deben tener en cuenta las unidades de medidas y las cantidades a adquirir, además se debe tener en cuenta si aplica o no el IVA, de lo anterior se puede concluir que este formato al ser publicado deberá tener diligenciados los campos de ítems, descripción, unidad y cantidad. Si es un proceso de obra pública se deberá anexar el Formulario 1 establecido por Colombia Compra Eficiente para los Pliegos Tipo de Infraestructura Aeroportuaria.
F40: FIRMA REPRESENTANTE LEGAL
F41: Nombre
F42: NIT
F43: Dirección
F44: Teléfonos, Fax
F45: Dirección Correo Electrónico
F46: Número Celular
F47: Ciudad
