Workbook
Name \0: #REF!
Name \0: #REF!
Name \0: #REF!
Name \0: #REF!
Name \0: #REF!
Name \00: #REF!
Name \00: #REF!
Name \a: #REF!
Name \a: #REF!
Name \a: #REF!
Name \a: #REF!
Name \a: #REF!
Name \a: #REF!
Name \a: #REF!
Name \a: #REF!
Name \a: #REF!
Name \a: #REF!
Name \a: #REF!
Name \a: #REF!
Name \a: #REF!
Name \a: #REF!
Name \a: #REF!
Name \a: #REF!
Name \a: #REF!
Name \a: #REF!
Name \a: #REF!
Name \a: #REF!
Name \a: #REF!
Name \a: #REF!
Name \a: #REF!
Name \a: #REF!
Name \a: #REF!
Name \a: #REF!
Name \a: #REF!
Name \a: #REF!
Name \a: #REF!
Name \a: #REF!
Name \a: #REF!
Name \a: #REF!
Name \a: #REF!
Name \a: #REF!
Name \a: #REF!
Name \a: #REF!
Name \a: #REF!
Name \a: #REF!
Name \a: #REF!
Name \a: #REF!
Name \a: #REF!
Name \a: #REF!
Name \a: #REF!
Name \a: #REF!
Name \a: #REF!
Name \a: #REF!
Name \a: #REF!
Name \a: #REF!
Name \a: #REF!
Name \a: #REF!
Name \a: #REF!
Name \a: #REF!
Name \a: #REF!

Sheet PROPUESTA ECONOMICA(Proponente)
B1: Formulario 1 - Propuesta económica - Documento tipo de selección abreviada de menor cuantía - versión 1
B2: Versión: 1 del 21 de agosto de 2025
C5: FORMULARIO 1
C6: PROPUESTA ECONOMICA
C7: [La entidad puede utilizar este formulario de presentación de propuesta económica de forma detallada, sin perjuicio que la entidad pueda modificarlo o establecer la presentación de la oferta económica con un formulario distinto al indicado.] [Los proponentes emplearán el formulario establecido por la entidad para determinar su propuesta económica conforme al Formulario 1 - Presupuesto Oficial publicado por la Entidad] [En caso de modificar el formulario, es importante tener en cuenta que no se deben incluir causales de rechazo, reglas o parámetros contrarios a los definidos en el documento base. Los términos del proceso solo se encuentran en el Documento Base, por lo que la Entidad no deberá incluir ningún tipo de notas que se configuren en reglas contrarias a las definidas en dicho documento, las notas únicamente pueden ser aclaratorias para efectos del diligenciamiento del formato]
C9: Cuando el proceso de contratación es estructurado por precios unitarios, la Entidad debe aplicar las notas 1, 2 y 3 del presente formato y las casillas de "Descripción", "Porcentaje" de la Administración, Imprevisto, Utilidad y total A.I.U. resaltadas en color amarillo.
C11: Nº | D11: ITEM DE PAGO | E11: ESPECIFICACIONES | G11: DESCRIPCION | H11: UND. | I11: CANTIDAD | J11: VALOR UNITARIO | K11: VALOR TOTAL
E12: GENERAL | F12: PARTICULAR
C15: Subtotal
C21: Subtotal
C31: Subtotal
C36: Subtotal
C39: Subtotal
C40: SUBTOTAL OBRAS
G45: SUBTOTAL OBRAS (INCLUYE IVA)
G49: VALOR TOTAL
C52: NOTA 1: Se debe tener en cuenta que el PRECIO UNITARIO incluye el valor de A.I.U. | H52: DESCRIPCION | K52: PORCENTAJE
C53: NOTA 2: Cuando la fracción decimal del peso sea igual o superior a 5 se aproximara por exceso al número entero siguiente del peso y cuando la fracción decimal del peso sea inferior a 5 se aproximará por defecto al número entero del peso. | H53: ADMINISTRACION | J53: A= | K53: [Ofrecimiento del Proponente]
C54: NOTA 3: El A.I.U y su discriminación deben estar en porcentaje (%). | H54: IMPREVISTO | J54: I= | K54: [Ofrecimiento del Proponente]
H55: UTILIDAD | J55: U= | K55: [Ofrecimiento del Proponente]
H56: TOTAL A.I.U | J56: A.I.U.= | K56: [Ofrecimiento del Proponente]
G59: Firma del Proponente o de su Representante Legal

Sheet PRESUPUESTO
B1: Formulario 1 - Propuesta económica - Documento tipo de selección abreviada de menor cuantía - versión 1
B2: Versión: 1 del 21 de agosto de 2025
C5: FORMULARIO 1
C6: PRESUPUESTO OFICIAL
C7: [La entidad puede utilizar este formulario de detalle del presupuesto oficial para determinar las condiciones bajo las cuales los proponentes analizarán y presentarán su propuesta económica de forma detallada, sin perjuicio que la entidad pueda modificarlo o establecer la presentación de la oferta económica con un formulario distinto al indicado.]
C9: Adicionalmente, cuando el proceso de contratación es estructurado por precios unitarios, la Entidad debe aplicar las notas 1, 2 y 3 del presente formulario y las casillas de "Descripción", "Porcentaje" de la Administración, Imprevisto, Utilidad y total A.I.U. resaltadas en colo amarillo. Tratándose de otras modalidades de precio, la Entidad puede o no configurar los mismos aspectos.
C10: MANTENIMIENTO, ADECUACIÓN Y MEJORAMIENTO DE INFRAESTRUCTURA EDUCATIVA EN LAS SEDES PRIMARIAS DE LAS VEREDAS EL CARMÉN Y MATANZAS DEL MUNICIPIO DE PAICOL HUILA.
C11: Nº | D11: ITEM DE PAGO | E11: ESPECIFICACIONES | G11: DESCRIPCION | H11: UNIDAD | I11: CANTIDAD | J11: VALOR UNITARIO | K11: VALOR TOTAL
E12: GENERAL | F12: PARTICULAR
C13: 1. SEDE PRIMARIA VEREDA EL CARMEN | K13: =ROUND(K19+K24+K27+K30+K33+K41+K52+K56+K68+K71,0) -> 110250064
C14: 1. PRELIMINARES
C15: 1.1 | D15: =C15 -> 1.1 | G15: Demolición de muro en ladrillo en salón de bienestar y baño de estudiantes. Incluye retiro de material y disposición final. | H15: M2 | I15: 58.9 | J15: ='1.1'!O62 -> 37956 | K15: =ROUND(I15*J15,0) -> 2235608
C16: 1.2 | D16: =C16 -> 1.2 | G16: Desmonte de elementos de carpintería metálica (ventanas y puertas) existente en salón de Bienestar, baño de estudiantes y cocina. | H16: UNIDAD | I16: 9 | J16: ='1.2'!O62 -> 60729 | K16: =ROUND(I16*J16,0) -> 546561
C17: 1.3 | D17: =C17 -> 1.3 | G17: Desmonte de cubierta existente de asbesto cemento, incluye retiro y disposición final. | H17: M2 | I17: 419.6 | J17: ='1.3'!O63 -> 18346 | K17: =ROUND(I17*J17,0) -> 7697982
C18: 1.4 | D18: =C18 -> 1.4 | G18: Desmonte de sanitario en baño de estudiantes y maestros. Incluye desconexión, retiro y traslado hasta el sitio de almacenamiento. | H18: UNIDAD | I18: 4 | J18: ='1.4'!O62 -> 60729 | K18: =ROUND(I18*J18,0) -> 242916
C19: Subtotal | K19: =ROUND(SUM(K15:K18),0) -> 10723067
C20: 2. ESTRUCTURAS
C21: 2.1 | D21: =C21 -> 2.1 | G21: Construcción de columna en concreto reforzado de 3000 PSI, sección de 0,20 m x 0,12 m; altura entre 2,60 m y 2,90 m; incluye acero de refuerzo 4B N° 3, estribos E 1/4" c/0,10 m, longitud de estribo 0,54 m; para salón de Bienestar y baño de estudiantes. Incluye formaleta, fundida, vibrado, desencofrado y curado. | H21: ML | I21: 11.4 | J21: ='2.1'!O64 -> 132258 | K21: =ROUND(I21*J21,0) -> 1507741
C22: 2.2 | D22: =C22 -> 2.2 | G22: Construcción de viga aérea en concreto reforzado de 3000 PSI, sección de 0,20 m x 0,12 m; incluye acero de refuerzo 4B N° 3, estribos E 1/4" c/0,10 m, longitud de estribo 0,54 m; para salón de Bienestar y baño de estudiantes. Incluye formaleta, fundida, vibrado, desencofrado y curado. | H22: ML | I22: 7.55 | J22: ='2.2'!O64 -> 158823 | K22: =ROUND(I22*J22,0) -> 1199114
C23: 2.3 | D23: =C23 -> 2.3 | G23: Suministro, armado e instalación de gavión de 2,0 x 1,0 x 1,0 m; en malla de alambre galvanizado para parte exterior del salón de bienestar. Incluye suministro y colocación de piedra para gavión, amarres, tensores y demás elementos para su instalación. | H23: M3 | I23: 12 | J23: ='2.3'!O62 -> 521242 | K23: =ROUND(I23*J23,0) -> 6254904
C24: Subtotal | K24: =ROUND(SUM(K21:K23),0) -> 8961759
C25: 3. MAMPOSTERÍA
C26: 3.1 | D26: =C26 -> 3.1 | G26: Construcción de muro en ladrillo hueco N° 5, en baño de estudiantes. | H26: M2 | I26: 15.7 | J26: ='3.1'!O64 -> 84972 | K26: =ROUND(I26*J26,0) -> 1334060
C27: Subtotal | K27: =ROUND(SUM(K26:K26),0) -> 1334060
C28: 4. PISOS
C29: 4.1 | D29: =C29 -> 4.1 | G29: Construcción de placa de piso en concreto de 3000 PSI, e= 0,10 m, para anden lateral de cocina y baño de estudiantes. | H29: M2 | I29: 10 | J29: ='4.1'!O63 -> 129662 | K29: =ROUND(I29*J29,0) -> 1296620
C30: Subtotal | K30: =ROUND(SUM(K29),0) -> 1296620
C31: 5. PAÑETE
C32: 5.1 | D32: =C32 -> 5.1 | G32: Suministro y aplicación de pañete 1:4 para resane de muros. | H32: M2 | I32: 46.4 | J32: ='5.1'!O63 -> 37127 | K32: =ROUND(I32*J32,0) -> 1722693
C33: Subtotal | K33: =ROUND(SUM(K32),0) -> 1722693
C34: 6. INSTALACIONES SANITARIAS
C35: 6.1 | D35: =C35 -> 6.1 | G35: Suministro e Instalación de Rejilla para piso de 3". | H35: UNIDAD | I35: 2 | J35: ='6.1'!O62 -> 25255 | K35: =ROUND(I35*J35,0) -> 50510
C36: 6.2 | D36: =C36 -> 6.2 | G36: Suministro e Instalación de tubería sanitaria PVC 6". Incluye excavación. | H36: ML | I36: 18 | J36: ='6.2'!O62 -> 93758 | K36: =ROUND(I36*J36,0) -> 1687644
C37: 6.3 | D37: =C37 -> 6.3 | G37: Suministro e Instalación de punto de desagüe PVC 4", para instalación de sanitario y orinal, vereda El Carmen. | H37: UNIDAD | I37: 4 | J37: ='6.3'!O66 -> 340447 | K37: =ROUND(I37*J37,0) -> 1361788
C38: 6.4 | D38: =C38 -> 6.4 | G38: Suministro e Instalación de punto de desagüe PVC 2", para lavamanos, vereda El Carmen. | H38: UNIDAD | I38: 4 | J38: ='6.4'!O66 -> 191366 | K38: =ROUND(I38*J38,0) -> 765464
C39: 6.5 | D39: =C39 -> 6.5 | G39: Construcción de caja de inspección en concreto de 2500 PSI, sección exterior de 0,80 m x 0,80 m, profundidad de 0,6 m aproximadamente, paredes con espesor de 0,10 m y tapa en concreto reforzado de 2500 PSI, acero de 3/8" y espesor de 0,08 m. Incluye excavación y cañuela. | H39: UNIDAD | I39: 1 | J39: ='6.5'!O63 -> 625127 | K39: =ROUND(I39*J39,0) -> 625127
C40: 6.6 | D40: =C40 -> 6.6 | G40: Mantenimiento y revisión de Pozo Séptico. | H40: UNIDAD | I40: 1 | J40: ='6.6'!O63 -> 561860 | K40: =ROUND(I40*J40,0) -> 561860
C41: Subtotal | K41: =ROUND(SUM(K35:K40),0) -> 5052393
C42: 7. INSTALACIONES HIDRÁULICAS
C43: 7.1 | D43: =C43 -> 7.1 | G43: Suministro e instalación de Tubería PVC presión 3/4". Incluye excavación. | H43: ML | I43: 24 | J43: ='7.1'!O63 -> 28178 | K43: =ROUND(I43*J43,0) -> 676272
...

Sheet 1.1
B1: Formulario 1 - Propuesta económica - Documento tipo de selección abreviada de menor cuantía
B2: Versión: 1 del 21 de agosto de 2025
D7: ALCALDÍA MUNICIPAL DE PAICOL HUILA
D8: NIT. 891.180.194-4 | L8: VERSIÓN
D9: PROCESO DE MÍNMA CIANTÍA
L10: PÁGINA | M10: 1 | N10: DE | O10: 1
D11: ANALISIS DE PRECIOS UNITARIOS
L13: FECHA | M13: DD | N13: MM | O13: AA
M14: 1 | N14: 9 | O14: 2026
C15: ITEMS DEL PRESUPUESTO OFICIAL
C19: DATOS ESPECÍFICOS
C21: ITEM | D21: DESCRIPCIÓN | M21: UNIDAD | O21: CANTIDAD
D22: Demolición de muro en ladrillo | M22: =PRESUPUESTO!H15 -> M2
C23: I. EQUIPO
C26: DESCRIPCIÓN | H26: MARCA | J26: TIPO | L26: TARIFA/HORA | M26: RENDIMIENTO | O26: Vr. UNITARIO
C27: HERRAMIENTA MENOR | L27: %M.O. | M27: 0.05 | O27: =O50*M27 -> 1369.25
C29: SUBTOTAL $ | O29: =ROUND(SUM(O27:O28),0) -> 1369
C30: II. MATERIALES
C33: DESCRIPCIÓN | K33: UNIDAD | L33: CANTIDAD | M33: PRECIO UNIT. | O33: Vr. UNITARIO
C38: SUBTOTAL $ | O38: =ROUND(SUM(O34:O37),0) -> 0
C39: III. TRANSPORTES
C42: MATERIAL | J42: VOL. o PESO | K42: DISTANCIA | L42: M3 o Ton/Km | M42: TARIFA | O42: Vr. UNITARIO
C44: SUBTOTAL $ | O44: =ROUND(SUM(O43:O43),0) -> 0
C45: IV. MANO DE OBRA
C48: TRABAJADOR | J48: JORNAL | K48: PRESTACIONES | L48: JORNAL TOTAL | M48: RENDIMIENTO | O48: Vr. UNITARIO
C49: =SALARIO!I10 -> CUADRILLA (1 obrero + 1 oficial) | J49: 1 | L49: =SALARIO!M10 -> 219079 | M49: 8 | O49: =L49/M49 -> 27384.875
C50: SUBTOTAL $ | O50: =ROUND(SUM(O49:O49),0) -> 27385
C52: TOTAL COSTO DIRECTO $ | O52: =ROUND(O29+O38+O44+O50,0) -> 28754
C53: V. COSTOS INDIRECTOS
C56: Descripción | L56: Porcentaje | M56: Valor Total
C57: ADMINISTRACION | L57: 0.25 | M57: =ROUND(O52*L57,0) -> 7189
C58: IMPREVISTOS | L58: 0.02 | M58: =ROUND(O52*L58,0) -> 575
C59: UTILIDAD | L59: 0.05 | M59: =ROUND(O52*L59,0) -> 1438
C60: SUBTOTAL $ | O60: =SUM(M57:N59) -> 9202
C62: Precio Unitario Total Aproximado al peso $ | O62: =ROUND(O52+O60,0) -> 37956
H66: Firma
H67: Nombre: | I67: MIGUEL ALBERTO DURÁN SALAS
H68: Secretario de Planeación y Obras Públicas

Sheet 1.2
B1: Formulario 1 - Propuesta económica - Documento tipo de selección abreviada de menor cuantía
B2: Versión: 1 del 21 de agosto de 2025
D7: ALCALDÍA MUNICIPAL DE PAICOL HUILA
D8: NIT. 891.180.194-4 | L8: VERSIÓN
D9: PROCESO DE MÍNMA CIANTÍA
L10: PÁGINA | M10: 1 | N10: DE | O10: 1
D11: ANALISIS DE PRECIOS UNITARIOS
L13: FECHA | M13: DD | N13: MM | O13: AA
M14: 1 | N14: 9 | O14: 2026
C15: ITEMS DEL PRESUPUESTO OFICIAL
C19: DATOS ESPECÍFICOS
C21: ITEM | D21: DESCRIPCIÓN | M21: UNIDAD | O21: CANTIDAD
D22: Desmonte de elementos de carpintería metálica | M22: =PRESUPUESTO!H16 -> UNIDAD
C23: I. EQUIPO
C26: DESCRIPCIÓN | H26: MARCA | J26: TIPO | L26: TARIFA/HORA | M26: RENDIMIENTO | O26: Vr. UNITARIO
C27: HERRAMIENTA MENOR | L27: %M.O. | M27: 0.05 | O27: =O50*M27 -> 2190.8
C29: SUBTOTAL $ | O29: =ROUND(SUM(O27:O28),0) -> 2191
C30: II. MATERIALES
C33: DESCRIPCIÓN | K33: UNIDAD | L33: CANTIDAD | M33: PRECIO UNIT. | O33: Vr. UNITARIO
C38: SUBTOTAL $ | O38: =ROUND(SUM(O34:O37),0) -> 0
C39: III. TRANSPORTES
C42: MATERIAL | J42: VOL. o PESO | K42: DISTANCIA | L42: M3 o Ton/Km | M42: TARIFA | O42: Vr. UNITARIO
C44: SUBTOTAL $ | O44: =ROUND(SUM(O43:O43),0) -> 0
C45: IV. MANO DE OBRA
C48: TRABAJADOR | J48: JORNAL | K48: PRESTACIONES | L48: JORNAL TOTAL | M48: RENDIMIENTO | O48: Vr. UNITARIO
C49: =SALARIO!I10 -> CUADRILLA (1 obrero + 1 oficial) | J49: 1 | L49: =SALARIO!M10 -> 219079 | M49: 5 | O49: =L49/M49 -> 43815.8
C50: SUBTOTAL $ | O50: =ROUND(SUM(O49:O49),0) -> 43816
C52: TOTAL COSTO DIRECTO $ | O52: =ROUND(O29+O38+O44+O50,0) -> 46007
C53: V. COSTOS INDIRECTOS
C56: Descripción | L56: Porcentaje | M56: Valor Total
C57: ADMINISTRACION | L57: 0.25 | M57: =ROUND(O52*L57,0) -> 11502
C58: IMPREVISTOS | L58: 0.02 | M58: =ROUND(O52*L58,0) -> 920
C59: UTILIDAD | L59: 0.05 | M59: =ROUND(O52*L59,0) -> 2300
C60: SUBTOTAL $ | O60: =SUM(M57:N59) -> 14722
C62: Precio Unitario Total Aproximado al peso $ | O62: =ROUND(O52+O60,0) -> 60729
H66: Firma
H67: Nombre: | I67: MIGUEL ALBERTO DURÁN SALAS
H68: Secretario de Planeación y Obras Públicas

Sheet 1.3
B1: Formulario 1 - Propuesta económica - Documento tipo de selección abreviada de menor cuantía
B2: Versión: 1 del 21 de agosto de 2025
D7: ALCALDÍA MUNICIPAL DE PAICOL HUILA
D8: NIT. 891.180.194-4 | L8: VERSIÓN
D9: PROCESO DE MÍNMA CIANTÍA
L10: PÁGINA | M10: 1 | N10: DE | O10: 1
D11: ANALISIS DE PRECIOS UNITARIOS
L13: FECHA | M13: DD | N13: MM | O13: AA
M14: 1 | N14: 9 | O14: 2026
C15: ITEMS DEL PRESUPUESTO OFICIAL
C19: DATOS ESPECÍFICOS
C21: ITEM | D21: DESCRIPCIÓN | M21: UNIDAD | O21: CANTIDAD
D22: =PRESUPUESTO!G17 -> Desmonte de cubierta existente de asbesto cemento, incluye retiro y disposición final. | M22: =PRESUPUESTO!H17 -> M2
C23: I. EQUIPO
C26: DESCRIPCIÓN | H26: MARCA | J26: TIPO | L26: TARIFA/HORA | M26: RENDIMIENTO | O26: Vr. UNITARIO
C27: HERRAMIENTA MENOR | L27: %M.O. | M27: 0.05 | O27: =O51*M27 -> 654.2
C28: ANDAMIO TUBULA 1.5 X 1.5 | H28: DÍA | L28: 4000 | M28: =1/M50 -> 0.04 | O28: =L28*M28 -> 160
C30: SUBTOTAL $ | O30: =ROUND(SUM(O27:O29),0) -> 814
C31: II. MATERIALES
C34: DESCRIPCIÓN | K34: UNIDAD | L34: CANTIDAD | M34: PRECIO UNIT. | O34: Vr. UNITARIO
C39: SUBTOTAL $ | O39: =ROUND(SUM(O35:O38),0) -> 0
C40: III. TRANSPORTES
C43: MATERIAL | J43: VOL. o PESO | K43: DISTANCIA | L43: M3 o Ton/Km | M43: TARIFA | O43: Vr. UNITARIO
C45: SUBTOTAL $ | O45: =ROUND(SUM(O44:O44),0) -> 0
C46: IV. MANO DE OBRA
C49: TRABAJADOR | J49: JORNAL | K49: PRESTACIONES | L49: JORNAL TOTAL | M49: RENDIMIENTO | O49: Vr. UNITARIO
C50: =SALARIO!I13 -> CUADRILLA (2 obreros + 1 oficial) | J50: 1 | L50: =SALARIO!M13 -> 327104 | M50: 25 | O50: =L50/M50 -> 13084.16
C51: SUBTOTAL $ | O51: =ROUND(SUM(O50:O50),0) -> 13084
C53: TOTAL COSTO DIRECTO $ | O53: =ROUND(O30+O39+O45+O51,0) -> 13898
C54: V. COSTOS INDIRECTOS
C57: Descripción | L57: Porcentaje | M57: Valor Total
C58: ADMINISTRACION | L58: 0.25 | M58: =ROUND(O53*L58,0) -> 3475
C59: IMPREVISTOS | L59: 0.02 | M59: =ROUND(O53*L59,0) -> 278
C60: UTILIDAD | L60: 0.05 | M60: =ROUND(O53*L60,0) -> 695
C61: SUBTOTAL $ | O61: =SUM(M58:N60) -> 4448
C63: Precio Unitario Total Aproximado al peso $ | O63: =ROUND(O53+O61,0) -> 18346
H67: Firma
H68: Nombre: | I68: MIGUEL ALBERTO DURÁN SALAS
H69: Secretario de Planeación y Obras Públicas

Sheet 1.4
B1: Formulario 1 - Propuesta económica - Documento tipo de selección abreviada de menor cuantía
B2: Versión: 1 del 21 de agosto de 2025
D7: ALCALDÍA MUNICIPAL DE PAICOL HUILA
D8: NIT. 891.180.194-4 | L8: VERSIÓN
D9: PROCESO DE MÍNMA CIANTÍA
L10: PÁGINA | M10: 1 | N10: DE | O10: 1
D11: ANALISIS DE PRECIOS UNITARIOS
L13: FECHA | M13: DD | N13: MM | O13: AA
M14: 1 | N14: 9 | O14: 2026
C15: ITEMS DEL PRESUPUESTO OFICIAL
C19: DATOS ESPECÍFICOS
C21: ITEM | D21: DESCRIPCIÓN | M21: UNIDAD | O21: CANTIDAD
D22: Desmonte de sanitario. Incluye desconexión, retiro y traslado hasta el sitio del almacenamiento. | M22: =PRESUPUESTO!H18 -> UNIDAD
C23: I. EQUIPO
C26: DESCRIPCIÓN | H26: MARCA | J26: TIPO | L26: TARIFA/HORA | M26: RENDIMIENTO | O26: Vr. UNITARIO
C27: HERRAMIENTA MENOR | L27: %M.O. | M27: 0.05 | O27: =O50*M27 -> 2190.8
C29: SUBTOTAL $ | O29: =ROUND(SUM(O27:O28),0) -> 2191
C30: II. MATERIALES
C33: DESCRIPCIÓN | K33: UNIDAD | L33: CANTIDAD | M33: PRECIO UNIT. | O33: Vr. UNITARIO
C38: SUBTOTAL $ | O38: =ROUND(SUM(O34:O37),0) -> 0
C39: III. TRANSPORTES
C42: MATERIAL | J42: VOL. o PESO | K42: DISTANCIA | L42: M3 o Ton/Km | M42: TARIFA | O42: Vr. UNITARIO
C44: SUBTOTAL $ | O44: =ROUND(SUM(O43:O43),0) -> 0
C45: IV. MANO DE OBRA
C48: TRABAJADOR | J48: JORNAL | K48: PRESTACIONES | L48: JORNAL TOTAL | M48: RENDIMIENTO | O48: Vr. UNITARIO
C49: =SALARIO!I10 -> CUADRILLA (1 obrero + 1 oficial) | J49: 1 | L49: =SALARIO!M10 -> 219079 | M49: 5 | O49: =L49/M49 -> 43815.8
C50: SUBTOTAL $ | O50: =ROUND(SUM(O49:O49),0) -> 43816
C52: TOTAL COSTO DIRECTO $ | O52: =ROUND(O29+O38+O44+O50,0) -> 46007
C53: V. COSTOS INDIRECTOS
C56: Descripción | L56: Porcentaje | M56: Valor Total
C57: ADMINISTRACION | L57: 0.25 | M57: =ROUND(O52*L57,0) -> 11502
C58: IMPREVISTOS | L58: 0.02 | M58: =ROUND(O52*L58,0) -> 920
C59: UTILIDAD | L59: 0.05 | M59: =ROUND(O52*L59,0) -> 2300
C60: SUBTOTAL $ | O60: =SUM(M57:N59) -> 14722
C62: Precio Unitario Total Aproximado al peso $ | O62: =ROUND(O52+O60,0) -> 60729
H66: Firma
H67: Nombre: | I67: MIGUEL ALBERTO DURÁN SALAS
H68: Secretario de Planeación y Obras Públicas

Sheet 2.1
B1: Formulario 1 - Propuesta económica - Documento tipo de selección abreviada de menor cuantía
B2: Versión: 1 del 21 de agosto de 2025
D7: ALCALDÍA MUNICIPAL DE PAICOL HUILA
D8: NIT. 891.180.194-4 | L8: VERSIÓN
D9: PROCESO DE MÍNMA CIANTÍA
L10: PÁGINA | M10: 1 | N10: DE | O10: 1
D11: ANALISIS DE PRECIOS UNITARIOS
L13: FECHA | M13: DD | N13: MM | O13: AA
M14: 1 | N14: 9 | O14: 2026
C15: ITEMS DEL PRESUPUESTO OFICIAL
C19: DATOS ESPECÍFICOS
C21: ITEM | D21: DESCRIPCIÓN | M21: UNIDAD | O21: CANTIDAD
D22: =PRESUPUESTO!G21 -> Construcción de columna en concreto reforzado de 3000 PSI, sección de 0,20 m x 0,12 m; altura entre 2,60 m y 2,90 m; incluye acero de refuerzo 4B N° 3, estribos E 1/4" c/0,10 m, longitud de estribo 0,54 m; para salón de Bienestar y baño de estudiantes. Incluye formaleta, fundida, vibrado, desencofrado y curado. | M22: =PRESUPUESTO!H21 -> ML
C23: I. EQUIPO
C26: DESCRIPCIÓN | H26: MARCA | J26: TIPO | L26: TARIFA/HORA | M26: RENDIMIENTO | O26: Vr. UNITARIO
C27: HERRAMIENTA MENOR | L27: %M.O. | M27: 0.1 | O27: =O52*M27 -> 4672.9
C28: ANDAMIO TUBULA 1.5 X 1.5 | H28: DÍA | L28: 4000 | M28: 0.14 | O28: =L28*M28 -> 560
C30: SUBTOTAL $ | O30: =ROUND(SUM(O27:O29),0) -> 5233
C31: II. MATERIALES
C34: DESCRIPCIÓN | K34: UNIDAD | L34: CANTIDAD | M34: PRECIO UNIT. | O34: Vr. UNITARIO
C35: CONCRETO DE 3000 PSI | K35: M3 | L35: 0.0252 | M35: ='CONCRETO 3000'!O54 -> 731518 | O35: =L35*M35 -> 18434.254
C36: FORMALETA | K36: M2 | L36: 0.08 | M36: 45000 | O36: =L36*M36 -> 3600
C37: ACERO CORRUGADO N° 3 (3/8") PARA REFUERZO LONGITUDINAL X 6M | K37: M | L37: 4.2 | M37: 3833 | O37: =L37*M37 -> 16098.6
C38: ACERO CORRUGADO N° 2 (1/4") CADA 0,10 M PARA ESTRIBOS | K38: KG | L38: 1.42 | M38: 6514 | O38: =L38*M38 -> 9249.88
C39: ALAMBRE NEGRO PARA AMARRE | K39: KG | L39: 0.1 | M39: 8500 | O39: =L39*M39 -> 850
C40: SUBTOTAL $ | O40: =ROUND(SUM(O35:O39),0) -> 48233
C41: III. TRANSPORTES
C44: MATERIAL | J44: VOL. o PESO | K44: DISTANCIA | L44: M3 o Ton/Km | M44: TARIFA | O44: Vr. UNITARIO
C46: SUBTOTAL $ | O46: =ROUND(SUM(O45:O45),0) -> 0
C47: IV. MANO DE OBRA
C50: TRABAJADOR | J50: JORNAL | K50: PRESTACIONES | L50: JORNAL TOTAL | M50: RENDIMIENTO | O50: Vr. UNITARIO
C51: =SALARIO!I13 -> CUADRILLA (2 obreros + 1 oficial) | J51: 1 | L51: =SALARIO!M13 -> 327104 | M51: 7 | O51: =L51/M51 -> 46729.143
C52: SUBTOTAL $ | O52: =ROUND(SUM(O51:O51),0) -> 46729
C54: TOTAL COSTO DIRECTO $ | O54: =ROUND(O30+O40+O46+O52,0) -> 100195
C55: V. COSTOS INDIRECTOS
C58: Descripción | L58: Porcentaje | M58: Valor Total
C59: ADMINISTRACION | L59: 0.25 | M59: =ROUND(O54*L59,0) -> 25049
C60: IMPREVISTOS | L60: 0.02 | M60: =ROUND(O54*L60,0) -> 2004
C61: UTILIDAD | L61: 0.05 | M61: =ROUND(O54*L61,0) -> 5010
C62: SUBTOTAL $ | O62: =SUM(M59:N61) -> 32063
...

Sheet 2.2
B1: Formulario 1 - Propuesta económica - Documento tipo de selección abreviada de menor cuantía
B2: Versión: 1 del 21 de agosto de 2025
D7: ALCALDÍA MUNICIPAL DE PAICOL HUILA
D8: NIT. 891.180.194-4 | L8: VERSIÓN
D9: PROCESO DE MÍNMA CIANTÍA
L10: PÁGINA | M10: 1 | N10: DE | O10: 1
D11: ANALISIS DE PRECIOS UNITARIOS
L13: FECHA | M13: DD | N13: MM | O13: AA
M14: 1 | N14: 9 | O14: 2026
C15: ITEMS DEL PRESUPUESTO OFICIAL
C19: DATOS ESPECÍFICOS
C21: ITEM | D21: DESCRIPCIÓN | M21: UNIDAD | O21: CANTIDAD
D22: =PRESUPUESTO!G22 -> Construcción de viga aérea en concreto reforzado de 3000 PSI, sección de 0,20 m x 0,12 m; incluye acero de refuerzo 4B N° 3, estribos E 1/4" c/0,10 m, longitud de estribo 0,54 m; para salón de Bienestar y baño de estudiantes. Incluye formaleta, fundida, vibrado, desencofrado y curado. | M22: =PRESUPUESTO!H22 -> ML
C23: I. EQUIPO
C26: DESCRIPCIÓN | H26: MARCA | J26: TIPO | L26: TARIFA/HORA | M26: RENDIMIENTO | O26: Vr. UNITARIO
C27: HERRAMIENTA MENOR | L27: %M.O. | M27: 0.1 | O27: =O52*M27 -> 6542.1
C28: ANDAMIO TUBULA 1.5 X 1.5 | H28: DÍA | L28: 4000 | M28: 0.2 | O28: =L28*M28 -> 800
C30: SUBTOTAL $ | O30: =ROUND(SUM(O27:O29),0) -> 7342
C31: II. MATERIALES
C34: DESCRIPCIÓN | K34: UNIDAD | L34: CANTIDAD | M34: PRECIO UNIT. | O34: Vr. UNITARIO
C35: CONCRETO DE 3000 PSI | K35: M3 | L35: 0.0252 | M35: ='CONCRETO 3000'!O54 -> 731518 | O35: =L35*M35 -> 18434.254
C36: FORMALETA | K36: M2 | L36: 0.065 | M36: 45000 | O36: =L36*M36 -> 2925
C37: ACERO CORRUGADO N° 3 (3/8") PARA REFUERZO LONGITUDINAL X 6M | K37: M | L37: 4.2 | M37: 3833 | O37: =L37*M37 -> 16098.6
C38: ACERO CORRUGADO N° 2 (1/4") CADA 0,10 M PARA ESTRIBOS | K38: KG | L38: 1.42 | M38: 6514 | O38: =L38*M38 -> 9249.88
C39: ALAMBRE NEGRO PARA AMARRE | K39: KG | L39: 0.1 | M39: 8500 | O39: =L39*M39 -> 850
C40: SUBTOTAL $ | O40: =ROUND(SUM(O35:O39),0) -> 47558
C41: III. TRANSPORTES
C44: MATERIAL | J44: VOL. o PESO | K44: DISTANCIA | L44: M3 o Ton/Km | M44: TARIFA | O44: Vr. UNITARIO
C46: SUBTOTAL $ | O46: =ROUND(SUM(O45:O45),0) -> 0
C47: IV. MANO DE OBRA
C50: TRABAJADOR | J50: JORNAL | K50: PRESTACIONES | L50: JORNAL TOTAL | M50: RENDIMIENTO | O50: Vr. UNITARIO
C51: =SALARIO!I13 -> CUADRILLA (2 obreros + 1 oficial) | J51: 1 | L51: =SALARIO!M13 -> 327104 | M51: 5 | O51: =L51/M51 -> 65420.801
C52: SUBTOTAL $ | O52: =ROUND(SUM(O51:O51),0) -> 65421
C54: TOTAL COSTO DIRECTO $ | O54: =ROUND(O30+O40+O46+O52,0) -> 120321
C55: V. COSTOS INDIRECTOS
C58: Descripción | L58: Porcentaje | M58: Valor Total
C59: ADMINISTRACION | L59: 0.25 | M59: =ROUND(O54*L59,0) -> 30080
C60: IMPREVISTOS | L60: 0.02 | M60: =ROUND(O54*L60,0) -> 2406
C61: UTILIDAD | L61: 0.05 | M61: =ROUND(O54*L61,0) -> 6016
C62: SUBTOTAL $ | O62: =SUM(M59:N61) -> 38502
...

Sheet 2.3
B1: Formulario 1 - Propuesta económica - Documento tipo de selección abreviada de menor cuantía
B2: Versión: 1 del 21 de agosto de 2025
D7: ALCALDÍA MUNICIPAL DE PAICOL HUILA
D8: NIT. 891.180.194-4 | L8: VERSIÓN
D9: PROCESO DE MÍNMA CIANTÍA
L10: PÁGINA | M10: 1 | N10: DE | O10: 1
D11: ANALISIS DE PRECIOS UNITARIOS
L13: FECHA | M13: DD | N13: MM | O13: AA
M14: 1 | N14: 9 | O14: 2026
C15: ITEMS DEL PRESUPUESTO OFICIAL
C19: DATOS ESPECÍFICOS
C21: ITEM | D21: DESCRIPCIÓN | M21: UNIDAD | O21: CANTIDAD
D22: Suministro, armado e instalación de gavión de 2,0 x 1,0 x 1,0 m; en malla de alambre galvanizado. Incluye suministro y colocación de piedra para gavión, amarres, tensores y demás elementos para su instalación. | M22: =PRESUPUESTO!H23 -> M3
C23: I. EQUIPO
C26: DESCRIPCIÓN | H26: MARCA | J26: TIPO | L26: TARIFA/HORA | M26: RENDIMIENTO | O26: Vr. UNITARIO
C27: HERRAMIENTA MENOR | L27: %M.O. | M27: 0.05 | O27: =O50*M27 -> 8177.6
C29: SUBTOTAL $ | O29: =ROUND(SUM(O27:O28),0) -> 8178
C30: II. MATERIALES
C33: DESCRIPCIÓN | K33: UNIDAD | L33: CANTIDAD | M33: PRECIO UNIT. | O33: Vr. UNITARIO
C34: MALLA PARA GAVIÓN 2M X 1M X 1M, ALAMBRE C12 (2,77MM) | K34: UNIDAD | L34: 0.5 | M34: 125000 | O34: =L34*M34 -> 62500
C35: PIEDRA SELECCIONADA DE 3 A 15" | K35: M3 | L35: 1.1 | M35: 142800 | O35: =L35*M35 -> 157080
C36: ALAMBRE GALVANIZADO | K36: KG | L36: 0.3 | M36: 11900 | O36: =L36*M36 -> 3570
O37: =L37*M37 -> 0
C38: SUBTOTAL $ | O38: =ROUND(SUM(O34:O37),0) -> 223150
C39: III. TRANSPORTES
C42: MATERIAL | J42: VOL. o PESO | K42: DISTANCIA | L42: M3 o Ton/Km | M42: TARIFA | O42: Vr. UNITARIO
C44: SUBTOTAL $ | O44: =ROUND(SUM(O43:O43),0) -> 0
C45: IV. MANO DE OBRA
C48: TRABAJADOR | J48: JORNAL | K48: PRESTACIONES | L48: JORNAL TOTAL | M48: RENDIMIENTO | O48: Vr. UNITARIO
C49: =SALARIO!I13 -> CUADRILLA (2 obreros + 1 oficial) | J49: 1 | L49: =SALARIO!M13 -> 327104 | M49: 2 | O49: =L49/M49 -> 163552
C50: SUBTOTAL $ | O50: =ROUND(SUM(O49:O49),0) -> 163552
C52: TOTAL COSTO DIRECTO $ | O52: =ROUND(O29+O38+O44+O50,0) -> 394880
C53: V. COSTOS INDIRECTOS
C56: Descripción | L56: Porcentaje | M56: Valor Total
C57: ADMINISTRACION | L57: 0.25 | M57: =ROUND(O52*L57,0) -> 98720
C58: IMPREVISTOS | L58: 0.02 | M58: =ROUND(O52*L58,0) -> 7898
C59: UTILIDAD | L59: 0.05 | M59: =ROUND(O52*L59,0) -> 19744
C60: SUBTOTAL $ | O60: =SUM(M57:N59) -> 126362
C62: Precio Unitario Total Aproximado al peso $ | O62: =ROUND(O52+O60,0) -> 521242
H66: Firma
...

Sheet 3.1
B1: Formulario 1 - Propuesta económica - Documento tipo de selección abreviada de menor cuantía
B2: Versión: 1 del 21 de agosto de 2025
D7: ALCALDÍA MUNICIPAL DE PAICOL HUILA
D8: NIT. 891.180.194-4 | L8: VERSIÓN
D9: PROCESO DE MÍNMA CIANTÍA
L10: PÁGINA | M10: 1 | N10: DE | O10: 1
D11: ANALISIS DE PRECIOS UNITARIOS
L13: FECHA | M13: DD | N13: MM | O13: AA
M14: 1 | N14: 9 | O14: 2026
C15: ITEMS DEL PRESUPUESTO OFICIAL
C19: DATOS ESPECÍFICOS
C21: ITEM | D21: DESCRIPCIÓN | M21: UNIDAD | O21: CANTIDAD
D22: Construcción de muro en ladrillo hueco N° 5 | M22: =PRESUPUESTO!H26 -> M2
C23: I. EQUIPO
C26: DESCRIPCIÓN | H26: MARCA | J26: TIPO | L26: TARIFA/HORA | M26: RENDIMIENTO | O26: Vr. UNITARIO
C27: HERRAMIENTA MENOR | L27: %M.O. | M27: 0.05 | O27: =O52*M27 -> 782.45
C30: SUBTOTAL $ | O30: =ROUND(SUM(O27:O29),0) -> 782
C31: II. MATERIALES
C34: DESCRIPCIÓN | K34: UNIDAD | L34: CANTIDAD | M34: PRECIO UNIT. | O34: Vr. UNITARIO
C35: LADRILLO HUECO N° 5 | K35: UND | L35: 16 | M35: 2250 | O35: =L35*M35 -> 36000
C36: MORTERO 1:4 | K36: M3 | L36: 0.022 | M36: ='MORTERO 1.4'!O53 -> 542818 | O36: =L36*M36 -> 11941.996
C40: SUBTOTAL $ | O40: =ROUND(SUM(O35:O39),0) -> 47942
C41: III. TRANSPORTES
C44: MATERIAL | J44: VOL. o PESO | K44: DISTANCIA | L44: M3 o Ton/Km | M44: TARIFA | O44: Vr. UNITARIO
C46: SUBTOTAL $ | O46: =ROUND(SUM(O45:O45),0) -> 0
C47: IV. MANO DE OBRA
C50: TRABAJADOR | J50: JORNAL | K50: PRESTACIONES | L50: JORNAL TOTAL | M50: RENDIMIENTO | O50: Vr. UNITARIO
C51: =SALARIO!I10 -> CUADRILLA (1 obrero + 1 oficial) | J51: 1 | L51: =SALARIO!M10 -> 219079 | M51: 14 | O51: =L51/M51 -> 15648.5
C52: SUBTOTAL $ | O52: =ROUND(SUM(O51:O51),0) -> 15649
C54: TOTAL COSTO DIRECTO $ | O54: =ROUND(O30+O40+O46+O52,0) -> 64373
C55: V. COSTOS INDIRECTOS
C58: Descripción | L58: Porcentaje | M58: Valor Total
C59: ADMINISTRACION | L59: 0.25 | M59: =ROUND(O54*L59,0) -> 16093
C60: IMPREVISTOS | L60: 0.02 | M60: =ROUND(O54*L60,0) -> 1287
C61: UTILIDAD | L61: 0.05 | M61: =ROUND(O54*L61,0) -> 3219
C62: SUBTOTAL $ | O62: =SUM(M59:N61) -> 20599
C64: Precio Unitario Total Aproximado al peso $ | O64: =ROUND(O54+O62,0) -> 84972
H68: Firma
H69: Nombre: | I69: MIGUEL ALBERTO DURÁN SALAS
H70: Secretario de Planeación y Obras Públicas

Sheet 4.1
B1: Formulario 1 - Propuesta económica - Documento tipo de selección abreviada de menor cuantía
B2: Versión: 1 del 21 de agosto de 2025
D7: ALCALDÍA MUNICIPAL DE PAICOL HUILA
D8: NIT. 891.180.194-4 | L8: VERSIÓN
D9: PROCESO DE MÍNMA CIANTÍA
L10: PÁGINA | M10: 1 | N10: DE | O10: 1
D11: ANALISIS DE PRECIOS UNITARIOS
L13: FECHA | M13: DD | N13: MM | O13: AA
M14: 1 | N14: 9 | O14: 2026
C15: ITEMS DEL PRESUPUESTO OFICIAL
C19: DATOS ESPECÍFICOS
C21: ITEM | D21: DESCRIPCIÓN | M21: UNIDAD | O21: CANTIDAD
D22: Construcción de placa de piso en concreto de 3000 PSI, e= 0,10 m. | M22: =PRESUPUESTO!H29 -> M2
C23: I. EQUIPO
C26: DESCRIPCIÓN | H26: MARCA | J26: TIPO | L26: TARIFA/HORA | M26: RENDIMIENTO | O26: Vr. UNITARIO
C27: HERRAMIENTA MENOR | L27: %M.O. | M27: 0.05 | O27: =O51*M27 -> 912.85
O28: =L28*M28 -> 0
C30: SUBTOTAL $ | O30: =ROUND(SUM(O27:O29),0) -> 913
C31: II. MATERIALES
C34: DESCRIPCIÓN | K34: UNIDAD | L34: CANTIDAD | M34: PRECIO UNIT. | O34: Vr. UNITARIO
C35: CONCRETO DE 3000 PSI | K35: M3 | L35: 0.105 | M35: ='CONCRETO 3000'!O54 -> 731518 | O35: =L35*M35 -> 76809.39
C36: FORMALETA | K36: M2 | L36: 0.05 | M36: 45000 | O36: =L36*M36 -> 2250
O37: =L37*M37 -> 0
O38: =L38*M38 -> 0
C39: SUBTOTAL $ | O39: =ROUND(SUM(O35:O38),0) -> 79059
C40: III. TRANSPORTES
C43: MATERIAL | J43: VOL. o PESO | K43: DISTANCIA | L43: M3 o Ton/Km | M43: TARIFA | O43: Vr. UNITARIO
C45: SUBTOTAL $ | O45: =ROUND(SUM(O44:O44),0) -> 0
C46: IV. MANO DE OBRA
C49: TRABAJADOR | J49: JORNAL | K49: PRESTACIONES | L49: JORNAL TOTAL | M49: RENDIMIENTO | O49: Vr. UNITARIO
C50: =SALARIO!I10 -> CUADRILLA (1 obrero + 1 oficial) | J50: 1 | L50: =SALARIO!M10 -> 219079 | M50: 12 | O50: =L50/M50 -> 18256.584
C51: SUBTOTAL $ | O51: =ROUND(SUM(O50:O50),0) -> 18257
C53: TOTAL COSTO DIRECTO $ | O53: =ROUND(O30+O39+O45+O51,0) -> 98229
C54: V. COSTOS INDIRECTOS
C57: Descripción | L57: Porcentaje | M57: Valor Total
C58: ADMINISTRACION | L58: 0.25 | M58: =ROUND(O53*L58,0) -> 24557
C59: IMPREVISTOS | L59: 0.02 | M59: =ROUND(O53*L59,0) -> 1965
C60: UTILIDAD | L60: 0.05 | M60: =ROUND(O53*L60,0) -> 4911
C61: SUBTOTAL $ | O61: =SUM(M58:N60) -> 31433
C63: Precio Unitario Total Aproximado al peso $ | O63: =ROUND(O53+O61,0) -> 129662
...

Sheet 5.1
B1: Formulario 1 - Propuesta económica - Documento tipo de selección abreviada de menor cuantía
B2: Versión: 1 del 21 de agosto de 2025
D7: ALCALDÍA MUNICIPAL DE PAICOL HUILA
D8: NIT. 891.180.194-4 | L8: VERSIÓN
D9: PROCESO DE MÍNMA CIANTÍA
L10: PÁGINA | M10: 1 | N10: DE | O10: 1
D11: ANALISIS DE PRECIOS UNITARIOS
L13: FECHA | M13: DD | N13: MM | O13: AA
M14: 1 | N14: 9 | O14: 2026
C15: ITEMS DEL PRESUPUESTO OFICIAL
C19: DATOS ESPECÍFICOS
C21: ITEM | D21: DESCRIPCIÓN | M21: UNIDAD | O21: CANTIDAD
D22: =PRESUPUESTO!G32 -> Suministro y aplicación de pañete 1:4 para resane de muros. | M22: =PRESUPUESTO!H32 -> M2
C23: I. EQUIPO
C26: DESCRIPCIÓN | H26: MARCA | J26: TIPO | L26: TARIFA/HORA | M26: RENDIMIENTO | O26: Vr. UNITARIO
C27: HERRAMIENTA MENOR | L27: %M.O. | M27: 0.05 | O27: =O51*M27 -> 912.85
C30: SUBTOTAL $ | O30: =ROUND(SUM(O27:O29),0) -> 913
C31: II. MATERIALES
C34: DESCRIPCIÓN | K34: UNIDAD | L34: CANTIDAD | M34: PRECIO UNIT. | O34: Vr. UNITARIO
C35: MORTERO 1:4 | K35: M3 | L35: 0.0165 | M35: ='MORTERO 1.4'!O53 -> 542818 | O35: =L35*M35 -> 8956.497
O36: =L36*M36 -> 0
O37: =L37*M37 -> 0
O38: =L38*M38 -> 0
C39: SUBTOTAL $ | O39: =ROUND(SUM(O35:O38),0) -> 8956
C40: III. TRANSPORTES
C43: MATERIAL | J43: VOL. o PESO | K43: DISTANCIA | L43: M3 o Ton/Km | M43: TARIFA | O43: Vr. UNITARIO
C45: SUBTOTAL $ | O45: =ROUND(SUM(O44:O44),0) -> 0
C46: IV. MANO DE OBRA
C49: TRABAJADOR | J49: JORNAL | K49: PRESTACIONES | L49: JORNAL TOTAL | M49: RENDIMIENTO | O49: Vr. UNITARIO
C50: =SALARIO!I10 -> CUADRILLA (1 obrero + 1 oficial) | J50: 1 | L50: =SALARIO!M10 -> 219079 | M50: 12 | O50: =L50/M50 -> 18256.584
C51: SUBTOTAL $ | O51: =ROUND(SUM(O50:O50),0) -> 18257
C53: TOTAL COSTO DIRECTO $ | O53: =ROUND(O30+O39+O45+O51,0) -> 28126
C54: V. COSTOS INDIRECTOS
C57: Descripción | L57: Porcentaje | M57: Valor Total
C58: ADMINISTRACION | L58: 0.25 | M58: =ROUND(O53*L58,0) -> 7032
C59: IMPREVISTOS | L59: 0.02 | M59: =ROUND(O53*L59,0) -> 563
C60: UTILIDAD | L60: 0.05 | M60: =ROUND(O53*L60,0) -> 1406
C61: SUBTOTAL $ | O61: =SUM(M58:N60) -> 9001
C63: Precio Unitario Total Aproximado al peso $ | O63: =ROUND(O53+O61,0) -> 37127
H67: Firma
...

Sheet 6.1
B1: Formulario 1 - Propuesta económica - Documento tipo de selección abreviada de menor cuantía
B2: Versión: 1 del 21 de agosto de 2025
D7: ALCALDÍA MUNICIPAL DE PAICOL HUILA
D8: NIT. 891.180.194-4 | L8: VERSIÓN
D9: PROCESO DE MÍNMA CIANTÍA
L10: PÁGINA | M10: 1 | N10: DE | O10: 1
D11: ANALISIS DE PRECIOS UNITARIOS
L13: FECHA | M13: DD | N13: MM | O13: AA
M14: 1 | N14: 9 | O14: 2026
C15: ITEMS DEL PRESUPUESTO OFICIAL
C19: DATOS ESPECÍFICOS
C21: ITEM | D21: DESCRIPCIÓN | M21: UNIDAD | O21: CANTIDAD
D22: =PRESUPUESTO!G35 -> Suministro e Instalación de Rejilla para piso de 3". | M22: =PRESUPUESTO!H35 -> UNIDAD
C23: I. EQUIPO
C26: DESCRIPCIÓN | H26: MARCA | J26: TIPO | L26: TARIFA/HORA | M26: RENDIMIENTO | O26: Vr. UNITARIO
C27: HERRAMIENTA MENOR | L27: %M.O. | M27: 0.05 | O27: =O50*M27 -> 216.05
C29: SUBTOTAL $ | O29: =ROUND(SUM(O27:O28),0) -> 216
C30: II. MATERIALES
C33: DESCRIPCIÓN | K33: UNIDAD | L33: CANTIDAD | M33: PRECIO UNIT. | O33: Vr. UNITARIO
C34: REJILLA SOSCO SIFÓN PLÁSTICA TRADICIONAL DE 3" X 2" | K34: UNIDAD | L34: 1 | M34: 14595 | O34: =L34*M34 -> 14595
O35: =L35*M35 -> 0
O36: =L36*M36 -> 0
O37: =L37*M37 -> 0
C38: SUBTOTAL $ | O38: =ROUND(SUM(O34:O37),0) -> 14595
C39: III. TRANSPORTES
C42: MATERIAL | J42: VOL. o PESO | K42: DISTANCIA | L42: M3 o Ton/Km | M42: TARIFA | O42: Vr. UNITARIO
O43: =L43*M43 -> 0
C44: SUBTOTAL $ | O44: =ROUND(SUM(O43:O43),0) -> 0
C45: IV. MANO DE OBRA
C48: TRABAJADOR | J48: JORNAL | K48: PRESTACIONES | L48: JORNAL TOTAL | M48: RENDIMIENTO | O48: Vr. UNITARIO
C49: =SALARIO!I8 -> OBRERO | J49: 1 | L49: =SALARIO!M8 -> 108025 | M49: 25 | O49: =L49/M49 -> 4321.0001
C50: SUBTOTAL $ | O50: =ROUND(SUM(O49:O49),0) -> 4321
C52: TOTAL COSTO DIRECTO $ | O52: =ROUND(O29+O38+O44+O50,0) -> 19132
C53: V. COSTOS INDIRECTOS
C56: Descripción | L56: Porcentaje | M56: Valor Total
C57: ADMINISTRACION | L57: 0.25 | M57: =ROUND(O52*L57,0) -> 4783
C58: IMPREVISTOS | L58: 0.02 | M58: =ROUND(O52*L58,0) -> 383
C59: UTILIDAD | L59: 0.05 | M59: =ROUND(O52*L59,0) -> 957
C60: SUBTOTAL $ | O60: =SUM(M57:N59) -> 6123
C62: Precio Unitario Total Aproximado al peso $ | O62: =ROUND(O52+O60,0) -> 25255
...

Sheet 6.2
B1: Formulario 1 - Propuesta económica - Documento tipo de selección abreviada de menor cuantía
B2: Versión: 1 del 21 de agosto de 2025
D7: ALCALDÍA MUNICIPAL DE PAICOL HUILA
D8: NIT. 891.180.194-4 | L8: VERSIÓN
D9: PROCESO DE MÍNMA CIANTÍA
L10: PÁGINA | M10: 1 | N10: DE | O10: 1
D11: ANALISIS DE PRECIOS UNITARIOS
L13: FECHA | M13: DD | N13: MM | O13: AA
M14: 1 | N14: 9 | O14: 2026
C15: ITEMS DEL PRESUPUESTO OFICIAL
C19: DATOS ESPECÍFICOS
C21: ITEM | D21: DESCRIPCIÓN | M21: UNIDAD | O21: CANTIDAD
D22: =PRESUPUESTO!G36 -> Suministro e Instalación de tubería sanitaria PVC 6". Incluye excavación. | M22: =PRESUPUESTO!H36 -> ML
C23: I. EQUIPO
C26: DESCRIPCIÓN | H26: MARCA | J26: TIPO | L26: TARIFA/HORA | M26: RENDIMIENTO | O26: Vr. UNITARIO
C27: HERRAMIENTA MENOR | L27: %M.O. | M27: 0.05 | O27: =O50*M27 -> 1095.4
C29: SUBTOTAL $ | O29: =ROUND(SUM(O27:O28),0) -> 1095
C30: II. MATERIALES
C33: DESCRIPCIÓN | K33: UNIDAD | L33: CANTIDAD | M33: PRECIO UNIT. | O33: Vr. UNITARIO
C34: TUBERÍA SANITARIA PVC DE 6" X 6M | K34: ML | L34: 1.03 | M34: 38300 | O34: =L34*M34 -> 39449
C35: UNIÓN SANITARIA PVC DE 6" | K35: UNIDAD | L35: 0.17 | M35: 6000 | O35: =L35*M35 -> 1020
C36: SOLDADURA PVC (1/4 GAL) | K36: UNIDAD | L36: 0.05 | M36: 88900 | O36: =L36*M36 -> 4445
C37: LIMPIADOR PVC (12 ONZ) | K37: UNIDAD | L37: 0.08 | M37: 38900 | O37: =L37*M37 -> 3112
C38: SUBTOTAL $ | O38: =ROUND(SUM(O34:O37),0) -> 48026
C39: III. TRANSPORTES
C42: MATERIAL | J42: VOL. o PESO | K42: DISTANCIA | L42: M3 o Ton/Km | M42: TARIFA | O42: Vr. UNITARIO
C44: SUBTOTAL $ | O44: =ROUND(SUM(O43:O43),0) -> 0
C45: IV. MANO DE OBRA
C48: TRABAJADOR | J48: JORNAL | K48: PRESTACIONES | L48: JORNAL TOTAL | M48: RENDIMIENTO | O48: Vr. UNITARIO
C49: =SALARIO!I10 -> CUADRILLA (1 obrero + 1 oficial) | J49: 1 | L49: =SALARIO!M10 -> 219079 | M49: 10 | O49: =L49/M49 -> 21907.9
C50: SUBTOTAL $ | O50: =ROUND(SUM(O49:O49),0) -> 21908
C52: TOTAL COSTO DIRECTO $ | O52: =ROUND(O29+O38+O44+O50,0) -> 71029
C53: V. COSTOS INDIRECTOS
C56: Descripción | L56: Porcentaje | M56: Valor Total
C57: ADMINISTRACION | L57: 0.25 | M57: =ROUND(O52*L57,0) -> 17757
C58: IMPREVISTOS | L58: 0.02 | M58: =ROUND(O52*L58,0) -> 1421
C59: UTILIDAD | L59: 0.05 | M59: =ROUND(O52*L59,0) -> 3551
C60: SUBTOTAL $ | O60: =SUM(M57:N59) -> 22729
C62: Precio Unitario Total Aproximado al peso $ | O62: =ROUND(O52+O60,0) -> 93758
H66: Firma
...

Sheet 6.3
B1: Formulario 1 - Propuesta económica - Documento tipo de selección abreviada de menor cuantía
B2: Versión: 1 del 21 de agosto de 2025
D7: ALCALDÍA MUNICIPAL DE PAICOL HUILA
D8: NIT. 891.180.194-4 | L8: VERSIÓN
D9: PROCESO DE MÍNMA CIANTÍA
L10: PÁGINA | M10: 1 | N10: DE | O10: 1
D11: ANALISIS DE PRECIOS UNITARIOS
L13: FECHA | M13: DD | N13: MM | O13: AA
M14: 1 | N14: 9 | O14: 2026
C15: ITEMS DEL PRESUPUESTO OFICIAL
C19: DATOS ESPECÍFICOS
C21: ITEM | D21: DESCRIPCIÓN | M21: UNIDAD | O21: CANTIDAD
D22: =PRESUPUESTO!G37 -> Suministro e Instalación de punto de desagüe PVC 4", para instalación de sanitario y orinal, vereda El Carmen. | M22: =PRESUPUESTO!H37 -> UNIDAD
C23: I. EQUIPO
C26: DESCRIPCIÓN | H26: MARCA | J26: TIPO | L26: TARIFA/HORA | M26: RENDIMIENTO | O26: Vr. UNITARIO
C27: HERRAMIENTA MENOR | L27: %M.O. | M27: 0.05 | O27: =O54*M27 -> 3651.3
O28: =L28*M28 -> 0
C30: SUBTOTAL $ | O30: =ROUND(SUM(O27:O29),0) -> 3651
C31: II. MATERIALES
C34: DESCRIPCIÓN | K34: UNIDAD | L34: CANTIDAD | M34: PRECIO UNIT. | O34: Vr. UNITARIO
C35: TUBERÍA SANITARIA PVC DE 4" X 6M | K35: ML | L35: 8 | M35: 19967 | O35: =L35*M35 -> 159736
C36: CODO PVC SANITARIO DE 4" X 90 CXC | K36: UNIDAD | L36: 1 | M36: 16000 | O36: =L36*M36 -> 16000
C37: SOLDADURA PVC (1/4 GAL) | K37: UNIDAD | L37: 0.04 | M37: 88900 | O37: =L37*M37 -> 3556
C38: LIMPIADOR PVC (12 ONZ) | K38: UNIDAD | L38: 0.05 | M38: 38900 | O38: =L38*M38 -> 1945
C42: SUBTOTAL $ | O42: =ROUND(SUM(O35:O41),0) -> 181237
C43: III. TRANSPORTES
C46: MATERIAL | J46: VOL. o PESO | K46: DISTANCIA | L46: M3 o Ton/Km | M46: TARIFA | O46: Vr. UNITARIO
C48: SUBTOTAL $ | O48: =ROUND(SUM(O47:O47),0) -> 0
C49: IV. MANO DE OBRA
C52: TRABAJADOR | J52: JORNAL | K52: PRESTACIONES | L52: JORNAL TOTAL | M52: RENDIMIENTO | O52: Vr. UNITARIO
C53: =SALARIO!I10 -> CUADRILLA (1 obrero + 1 oficial) | J53: 1 | L53: =SALARIO!M10 -> 219079 | M53: 3 | O53: =L53/M53 -> 73026.334
C54: SUBTOTAL $ | O54: =ROUND(SUM(O53:O53),0) -> 73026
C56: TOTAL COSTO DIRECTO $ | O56: =ROUND(O30+O42+O48+O54,0) -> 257914
C57: V. COSTOS INDIRECTOS
C60: Descripción | L60: Porcentaje | M60: Valor Total
C61: ADMINISTRACION | L61: 0.25 | M61: =ROUND(O56*L61,0) -> 64479
C62: IMPREVISTOS | L62: 0.02 | M62: =ROUND(O56*L62,0) -> 5158
C63: UTILIDAD | L63: 0.05 | M63: =ROUND(O56*L63,0) -> 12896
C64: SUBTOTAL $ | O64: =SUM(M61:N63) -> 82533
C66: Precio Unitario Total Aproximado al peso $ | O66: =ROUND(O56+O64,0) -> 340447
...

Sheet 6.4
B1: Formulario 1 - Propuesta económica - Documento tipo de selección abreviada de menor cuantía
B2: Versión: 1 del 21 de agosto de 2025
D7: ALCALDÍA MUNICIPAL DE PAICOL HUILA
D8: NIT. 891.180.194-4 | L8: VERSIÓN
D9: PROCESO DE MÍNMA CIANTÍA
L10: PÁGINA | M10: 1 | N10: DE | O10: 1
D11: ANALISIS DE PRECIOS UNITARIOS
L13: FECHA | M13: DD | N13: MM | O13: AA
M14: 1 | N14: 9 | O14: 2026
C15: ITEMS DEL PRESUPUESTO OFICIAL
C19: DATOS ESPECÍFICOS
C21: ITEM | D21: DESCRIPCIÓN | M21: UNIDAD | O21: CANTIDAD
C22: =PRESUPUESTO!C38 -> 6.4 | D22: =PRESUPUESTO!G38 -> Suministro e Instalación de punto de desagüe PVC 2", para lavamanos, vereda El Carmen. | M22: =PRESUPUESTO!H38 -> UNIDAD | O22: =PRESUPUESTO!I38 -> 4
C23: I. EQUIPO
C26: DESCRIPCIÓN | H26: MARCA | J26: TIPO | L26: TARIFA/HORA | M26: RENDIMIENTO | O26: Vr. UNITARIO
C27: HERRAMIENTA MENOR | L27: %M.O. | M27: 0.05 | O27: =O54*M27 -> 2738.5
O28: =L28*M28 -> 0
C30: SUBTOTAL $ | O30: =ROUND(SUM(O27:O29),0) -> 2739
C31: II. MATERIALES
C34: DESCRIPCIÓN | K34: UNIDAD | L34: CANTIDAD | M34: PRECIO UNIT. | O34: Vr. UNITARIO
C35: TUBERÍA SANITARIA PVC DE 2" X 6M | K35: ML | L35: 9 | M35: 8980 | O35: =L35*M35 -> 80820
C36: CODO PVC SANITARIO DE 2" X 90 CXC | K36: UNIDAD | L36: 1 | M36: 3839 | O36: =L36*M36 -> 3839
C37: SOLDADURA PVC (1/4 GAL) | K37: UNIDAD | L37: 0.025 | M37: 88900 | O37: =L37*M37 -> 2222.5
C38: LIMPIADOR PVC (12 ONZ) | K38: UNIDAD | L38: 0.015 | M38: 38900 | O38: =L38*M38 -> 583.5
C42: SUBTOTAL $ | O42: =ROUND(SUM(O35:O41),0) -> 87465
C43: III. TRANSPORTES
C46: MATERIAL | J46: VOL. o PESO | K46: DISTANCIA | L46: M3 o Ton/Km | M46: TARIFA | O46: Vr. UNITARIO
C48: SUBTOTAL $ | O48: =ROUND(SUM(O47:O47),0) -> 0
C49: IV. MANO DE OBRA
C52: TRABAJADOR | J52: JORNAL | K52: PRESTACIONES | L52: JORNAL TOTAL | M52: RENDIMIENTO | O52: Vr. UNITARIO
C53: =SALARIO!I10 -> CUADRILLA (1 obrero + 1 oficial) | J53: 1 | L53: =SALARIO!M10 -> 219079 | M53: 4 | O53: =L53/M53 -> 54769.751
C54: SUBTOTAL $ | O54: =ROUND(SUM(O53:O53),0) -> 54770
C56: TOTAL COSTO DIRECTO $ | O56: =ROUND(O30+O42+O48+O54,0) -> 144974
C57: V. COSTOS INDIRECTOS
C60: Descripción | L60: Porcentaje | M60: Valor Total
C61: ADMINISTRACION | L61: 0.25 | M61: =ROUND(O56*L61,0) -> 36244
C62: IMPREVISTOS | L62: 0.02 | M62: =ROUND(O56*L62,0) -> 2899
C63: UTILIDAD | L63: 0.05 | M63: =ROUND(O56*L63,0) -> 7249
C64: SUBTOTAL $ | O64: =SUM(M61:N63) -> 46392
C66: Precio Unitario Total Aproximado al peso $ | O66: =ROUND(O56+O64,0) -> 191366
...

Sheet 6.5
B1: Formulario 1 - Propuesta económica - Documento tipo de selección abreviada de menor cuantía
B2: Versión: 1 del 21 de agosto de 2025
D7: ALCALDÍA MUNICIPAL DE PAICOL HUILA
D8: NIT. 891.180.194-4 | L8: VERSIÓN
D9: PROCESO DE MÍNMA CIANTÍA
L10: PÁGINA | M10: 1 | N10: DE | O10: 1
D11: ANALISIS DE PRECIOS UNITARIOS
L13: FECHA | M13: DD | N13: MM | O13: AA
M14: 1 | N14: 9 | O14: 2026
C15: ITEMS DEL PRESUPUESTO OFICIAL
C19: DATOS ESPECÍFICOS
C21: ITEM | D21: DESCRIPCIÓN | M21: UNIDAD | O21: CANTIDAD
D22: =PRESUPUESTO!G39 -> Construcción de caja de inspección en concreto de 2500 PSI, sección exterior de 0,80 m x 0,80 m, profundidad de 0,6 m aproximadamente, paredes con espesor de 0,10 m y tapa en concreto reforzado de 2500 PSI, acero de 3/8" y espesor de 0,08 m. Incluye excavación y cañuela. | M22: =PRESUPUESTO!H39 -> UNIDAD
C23: I. EQUIPO
C26: DESCRIPCIÓN | H26: MARCA | J26: TIPO | L26: TARIFA/HORA | M26: RENDIMIENTO | O26: Vr. UNITARIO
C27: HERRAMIENTA MENOR | L27: %M.O. | M27: 0.05 | O27: =O51*M27 -> 7302.65
C29: SUBTOTAL $ | O29: =ROUND(SUM(O27:O28),0) -> 7303
C30: II. MATERIALES
C33: DESCRIPCIÓN | K33: UNIDAD | L33: CANTIDAD | M33: PRECIO UNIT. | O33: Vr. UNITARIO
C34: CONCRETO DE 2500 PSI | K34: M3 | L34: 0.3 | M34: ='CONCRETO 2500'!O54 -> 689098 | O34: =L34*M34 -> 206729.4
C35: FORMALETA | K35: M2 | L35: 1.5 | M35: 45000 | O35: =L35*M35 -> 67500
C36: ACERO CORRUGADO N° 3 (3/8") PARA REFUERZO LONGITUDINAL X 6M | K36: ML | L36: 12 | M36: 3833 | O36: =L36*M36 -> 45996
C39: SUBTOTAL $ | O39: =ROUND(SUM(O34:O38),0) -> 320225
C40: III. TRANSPORTES
C43: MATERIAL | J43: VOL. o PESO | K43: DISTANCIA | L43: M3 o Ton/Km | M43: TARIFA | O43: Vr. UNITARIO
C45: SUBTOTAL $ | O45: =ROUND(SUM(O44:O44),0) -> 0
C46: IV. MANO DE OBRA
C49: TRABAJADOR | J49: JORNAL | K49: PRESTACIONES | L49: JORNAL TOTAL | M49: RENDIMIENTO | O49: Vr. UNITARIO
C50: =SALARIO!I10 -> CUADRILLA (1 obrero + 1 oficial) | J50: 1 | L50: =SALARIO!M10 -> 219079 | M50: 1.5 | O50: =L50/M50 -> 146052.67
C51: SUBTOTAL $ | O51: =ROUND(SUM(O50:O50),0) -> 146053
C53: TOTAL COSTO DIRECTO $ | O53: =ROUND(O29+O39+O45+O51,0) -> 473581
C54: V. COSTOS INDIRECTOS
C57: Descripción | L57: Porcentaje | M57: Valor Total
C58: ADMINISTRACION | L58: 0.25 | M58: =ROUND(O53*L58,0) -> 118395
C59: IMPREVISTOS | L59: 0.02 | M59: =ROUND(O53*L59,0) -> 9472
C60: UTILIDAD | L60: 0.05 | M60: =ROUND(O53*L60,0) -> 23679
C61: SUBTOTAL $ | O61: =SUM(M58:N60) -> 151546
C63: Precio Unitario Total Aproximado al peso $ | O63: =ROUND(O53+O61,0) -> 625127
H67: Firma
H68: Nombre: | I68: MIGUEL ALBERTO DURÁN SALAS
...

Sheet 6.6
B1: Formulario 1 - Propuesta económica - Documento tipo de selección abreviada de menor cuantía
B2: Versión: 1 del 21 de agosto de 2025
D7: ALCALDÍA MUNICIPAL DE PAICOL HUILA
D8: NIT. 891.180.194-4 | L8: VERSIÓN
D9: PROCESO DE MÍNMA CIANTÍA
L10: PÁGINA | M10: 1 | N10: DE | O10: 1
D11: ANALISIS DE PRECIOS UNITARIOS
L13: FECHA | M13: DD | N13: MM | O13: AA
M14: 1 | N14: 9 | O14: 2026
C15: ITEMS DEL PRESUPUESTO OFICIAL
C19: DATOS ESPECÍFICOS
C21: ITEM | D21: DESCRIPCIÓN | M21: UNIDAD | O21: CANTIDAD
D22: =PRESUPUESTO!G40 -> Mantenimiento y revisión de Pozo Séptico. | M22: =PRESUPUESTO!H40 -> UNIDAD
C23: I. EQUIPO
C26: DESCRIPCIÓN | H26: MARCA | J26: TIPO | L26: TARIFA/HORA | M26: RENDIMIENTO | O26: Vr. UNITARIO
C27: HERRAMIENTA MENOR | L27: %M.O. | M27: 0.03 | O27: =O51*M27 -> 6572.37
C29: SUBTOTAL $ | O29: =ROUND(SUM(O27:O28),0) -> 6572
C30: II. MATERIALES
C33: DESCRIPCIÓN | K33: UNIDAD | L33: CANTIDAD | M33: PRECIO UNIT. | O33: Vr. UNITARIO
C34: MATERIAL PARA REPARACIONES | K34: GLB | L34: 1 | M34: 200000 | O34: =L34*M34 -> 200000
C39: SUBTOTAL $ | O39: =ROUND(SUM(O34:O38),0) -> 200000
C40: III. TRANSPORTES
C43: MATERIAL | J43: VOL. o PESO | K43: DISTANCIA | L43: M3 o Ton/Km | M43: TARIFA | O43: Vr. UNITARIO
O44: =L44*M44 -> 0
C45: SUBTOTAL $ | O45: =ROUND(SUM(O44:O44),0) -> 0
C46: IV. MANO DE OBRA
C49: TRABAJADOR | J49: JORNAL | K49: PRESTACIONES | L49: JORNAL TOTAL | M49: RENDIMIENTO | O49: Vr. UNITARIO
C50: =SALARIO!I10 -> CUADRILLA (1 obrero + 1 oficial) | J50: 1 | L50: =SALARIO!M10 -> 219079 | M50: 1 | O50: =L50/M50 -> 219079
C51: SUBTOTAL $ | O51: =ROUND(SUM(O50:O50),0) -> 219079
C53: TOTAL COSTO DIRECTO $ | O53: =ROUND(O29+O39+O45+O51,0) -> 425651
C54: V. COSTOS INDIRECTOS
C57: Descripción | L57: Porcentaje | M57: Valor Total
C58: ADMINISTRACION | L58: 0.25 | M58: =ROUND(O53*L58,0) -> 106413
C59: IMPREVISTOS | L59: 0.02 | M59: =ROUND(O53*L59,0) -> 8513
C60: UTILIDAD | L60: 0.05 | M60: =ROUND(O53*L60,0) -> 21283
C61: SUBTOTAL $ | O61: =SUM(M58:N60) -> 136209
C63: Precio Unitario Total Aproximado al peso $ | O63: =ROUND(O53+O61,0) -> 561860
H67: Firma
H68: Nombre: | I68: MIGUEL ALBERTO DURÁN SALAS
H69: Secretario de Planeación y Obras Públicas

Sheet 7.1
B1: Formulario 1 - Propuesta económica - Documento tipo de selección abreviada de menor cuantía
B2: Versión: 1 del 21 de agosto de 2025
D7: ALCALDÍA MUNICIPAL DE PAICOL HUILA
D8: NIT. 891.180.194-4 | L8: VERSIÓN
D9: PROCESO DE MÍNMA CIANTÍA
L10: PÁGINA | M10: 1 | N10: DE | O10: 1
D11: ANALISIS DE PRECIOS UNITARIOS
L13: FECHA | M13: DD | N13: MM | O13: AA
M14: 1 | N14: 9 | O14: 2026
C15: ITEMS DEL PRESUPUESTO OFICIAL
C19: DATOS ESPECÍFICOS
C21: ITEM | D21: DESCRIPCIÓN | M21: UNIDAD | O21: CANTIDAD
D22: =PRESUPUESTO!G43 -> Suministro e instalación de Tubería PVC presión 3/4". Incluye excavación. | M22: =PRESUPUESTO!H43 -> ML
C23: I. EQUIPO
C26: DESCRIPCIÓN | H26: MARCA | J26: TIPO | L26: TARIFA/HORA | M26: RENDIMIENTO | O26: Vr. UNITARIO
C27: HERRAMIENTA MENOR | L27: %M.O. | M27: 0.05 | O27: =O51*M27 -> 730.25
C29: SUBTOTAL $ | O29: =ROUND(SUM(O27:O28),0) -> 730
C30: II. MATERIALES
C33: DESCRIPCIÓN | K33: UNIDAD | L33: CANTIDAD | M33: PRECIO UNIT. | O33: Vr. UNITARIO
C34: TUBERIA PVC PRESIÓN DE 3/4" X 6M | K34: ML | L34: 1.03 | M34: 4900 | O34: =L34*M34 -> 5047
C35: UNIÓN PVC DE 3/4" | K35: UNIDAD | L35: 0.17 | M35: 1000 | O35: =L35*M35 -> 170
C36: SOLDADURA PVC (1/4 GAL) | K36: UNIDAD | L36: 0.005 | M36: 88900 | O36: =L36*M36 -> 444.5
C37: LIMPIADOR PVC (12 ONZ) | K37: UNIDAD | L37: 0.009 | M37: 38900 | O37: =L37*M37 -> 350.1
C39: SUBTOTAL $ | O39: =ROUND(SUM(O34:O38),0) -> 6012
C40: III. TRANSPORTES
C43: MATERIAL | J43: VOL. o PESO | K43: DISTANCIA | L43: M3 o Ton/Km | M43: TARIFA | O43: Vr. UNITARIO
C45: SUBTOTAL $ | O45: =ROUND(SUM(O44:O44),0) -> 0
C46: IV. MANO DE OBRA
C49: TRABAJADOR | J49: JORNAL | K49: PRESTACIONES | L49: JORNAL TOTAL | M49: RENDIMIENTO | O49: Vr. UNITARIO
C50: =SALARIO!I10 -> CUADRILLA (1 obrero + 1 oficial) | J50: 1 | L50: =SALARIO!M10 -> 219079 | M50: 15 | O50: =L50/M50 -> 14605.267
C51: SUBTOTAL $ | O51: =ROUND(SUM(O50:O50),0) -> 14605
C53: TOTAL COSTO DIRECTO $ | O53: =ROUND(O29+O39+O45+O51,0) -> 21347
C54: V. COSTOS INDIRECTOS
C57: Descripción | L57: Porcentaje | M57: Valor Total
C58: ADMINISTRACION | L58: 0.25 | M58: =ROUND(O53*L58,0) -> 5337
C59: IMPREVISTOS | L59: 0.02 | M59: =ROUND(O53*L59,0) -> 427
C60: UTILIDAD | L60: 0.05 | M60: =ROUND(O53*L60,0) -> 1067
C61: SUBTOTAL $ | O61: =SUM(M58:N60) -> 6831
C63: Precio Unitario Total Aproximado al peso $ | O63: =ROUND(O53+O61,0) -> 28178
H67: Firma
...

Sheet 7.2
B1: Formulario 1 - Propuesta económica - Documento tipo de selección abreviada de menor cuantía
B2: Versión: 1 del 21 de agosto de 2025
D7: ALCALDÍA MUNICIPAL DE PAICOL HUILA
D8: NIT. 891.180.194-4 | L8: VERSIÓN
D9: PROCESO DE MÍNMA CIANTÍA
L10: PÁGINA | M10: 1 | N10: DE | O10: 1
D11: ANALISIS DE PRECIOS UNITARIOS
L13: FECHA | M13: DD | N13: MM | O13: AA
M14: 1 | N14: 9 | O14: 2026
C15: ITEMS DEL PRESUPUESTO OFICIAL
C19: DATOS ESPECÍFICOS
C21: ITEM | D21: DESCRIPCIÓN | M21: UNIDAD | O21: CANTIDAD
D22: =PRESUPUESTO!G44 -> Suministro e instalación de Tubería PVC presión 1/2". Incluye excavación. | M22: =PRESUPUESTO!H44 -> ML
C23: I. EQUIPO
C26: DESCRIPCIÓN | H26: MARCA | J26: TIPO | L26: TARIFA/HORA | M26: RENDIMIENTO | O26: Vr. UNITARIO
C27: HERRAMIENTA MENOR | L27: %M.O. | M27: 0.05 | O27: =O51*M27 -> 684.6
C29: SUBTOTAL $ | O29: =ROUND(SUM(O27:O28),0) -> 685
C30: II. MATERIALES
C33: DESCRIPCIÓN | K33: UNIDAD | L33: CANTIDAD | M33: PRECIO UNIT. | O33: Vr. UNITARIO
C34: TUBERIA PVC PRESIÓN DE 1/2" X 6M | K34: ML | L34: 1.03 | M34: 2400 | O34: =L34*M34 -> 2472
C35: UNIÓN PVC DE 1/2" | K35: UNIDAD | L35: 0.17 | M35: 1000 | O35: =L35*M35 -> 170
C36: SOLDADURA PVC (1/4 GAL) | K36: UNIDAD | L36: 0.005 | M36: 88900 | O36: =L36*M36 -> 444.5
C37: LIMPIADOR PVC (12 ONZ) | K37: UNIDAD | L37: 0.009 | M37: 38900 | O37: =L37*M37 -> 350.1
C39: SUBTOTAL $ | O39: =ROUND(SUM(O34:O38),0) -> 3437
C40: III. TRANSPORTES
C43: MATERIAL | J43: VOL. o PESO | K43: DISTANCIA | L43: M3 o Ton/Km | M43: TARIFA | O43: Vr. UNITARIO
C45: SUBTOTAL $ | O45: =ROUND(SUM(O44:O44),0) -> 0
C46: IV. MANO DE OBRA
C49: TRABAJADOR | J49: JORNAL | K49: PRESTACIONES | L49: JORNAL TOTAL | M49: RENDIMIENTO | O49: Vr. UNITARIO
C50: =SALARIO!I10 -> CUADRILLA (1 obrero + 1 oficial) | J50: 1 | L50: =SALARIO!M10 -> 219079 | M50: 16 | O50: =L50/M50 -> 13692.438
C51: SUBTOTAL $ | O51: =ROUND(SUM(O50:O50),0) -> 13692
C53: TOTAL COSTO DIRECTO $ | O53: =ROUND(O29+O39+O45+O51,0) -> 17814
C54: V. COSTOS INDIRECTOS
C57: Descripción | L57: Porcentaje | M57: Valor Total
C58: ADMINISTRACION | L58: 0.25 | M58: =ROUND(O53*L58,0) -> 4454
C59: IMPREVISTOS | L59: 0.02 | M59: =ROUND(O53*L59,0) -> 356
C60: UTILIDAD | L60: 0.05 | M60: =ROUND(O53*L60,0) -> 891
C61: SUBTOTAL $ | O61: =SUM(M58:N60) -> 5701
C63: Precio Unitario Total Aproximado al peso $ | O63: =ROUND(O53+O61,0) -> 23515
H67: Firma
...

Sheet 7.3
B1: Formulario 1 - Propuesta económica - Documento tipo de selección abreviada de menor cuantía
B2: Versión: 1 del 21 de agosto de 2025
D7: ALCALDÍA MUNICIPAL DE PAICOL HUILA
D8: NIT. 891.180.194-4 | L8: VERSIÓN
D9: PROCESO DE MÍNMA CIANTÍA
L10: PÁGINA | M10: 1 | N10: DE | O10: 1
D11: ANALISIS DE PRECIOS UNITARIOS
L13: FECHA | M13: DD | N13: MM | O13: AA
M14: 1 | N14: 9 | O14: 2026
C15: ITEMS DEL PRESUPUESTO OFICIAL
C19: DATOS ESPECÍFICOS
C21: ITEM | D21: DESCRIPCIÓN | M21: UNIDAD | O21: CANTIDAD
D22: =PRESUPUESTO!G45 -> Suministro e instalación de Registro llave de paso de 1/2" en PVC. | M22: =PRESUPUESTO!H45 -> UNIDAD
C23: I. EQUIPO
C26: DESCRIPCIÓN | H26: MARCA | J26: TIPO | L26: TARIFA/HORA | M26: RENDIMIENTO | O26: Vr. UNITARIO
C27: HERRAMIENTA MENOR | L27: %M.O. | M27: 0.05 | O27: =O50*M27 -> 270.05
C29: SUBTOTAL $ | O29: =ROUND(SUM(O27:O28),0) -> 270
C30: II. MATERIALES
C33: DESCRIPCIÓN | K33: UNIDAD | L33: CANTIDAD | M33: PRECIO UNIT. | O33: Vr. UNITARIO
C34: REGISTRO LLAVE DE PASO DE 1/2" PVC | K34: UNIDAD | L34: 1 | M34: 32900 | O34: =L34*M34 -> 32900
C35: UNIÓN UNIVERSAL AG DE 1/2" PVC | K35: GLB | L35: 1 | M35: 7500 | O35: =L35*M35 -> 7500
C36: SELLADOR | K36: GLB | L36: 0.01 | M36: 17860 | O36: =L36*M36 -> 178.6
O37: =L37*M37 -> 0
C38: SUBTOTAL $ | O38: =ROUND(SUM(O34:O37),0) -> 40579
C39: III. TRANSPORTES
C42: MATERIAL | J42: VOL. o PESO | K42: DISTANCIA | L42: M3 o Ton/Km | M42: TARIFA | O42: Vr. UNITARIO
O43: =L43*M43 -> 0
C44: SUBTOTAL $ | O44: =ROUND(SUM(O43:O43),0) -> 0
C45: IV. MANO DE OBRA
C48: TRABAJADOR | J48: JORNAL | K48: PRESTACIONES | L48: JORNAL TOTAL | M48: RENDIMIENTO | O48: Vr. UNITARIO
C49: =SALARIO!I8 -> OBRERO | J49: 1 | L49: =SALARIO!M8 -> 108025 | M49: 20 | O49: =L49/M49 -> 5401.2501
C50: SUBTOTAL $ | O50: =ROUND(SUM(O49:O49),0) -> 5401
C52: TOTAL COSTO DIRECTO $ | O52: =ROUND(O29+O38+O44+O50,0) -> 46250
C53: V. COSTOS INDIRECTOS
C56: Descripción | L56: Porcentaje | M56: Valor Total
C57: ADMINISTRACION | L57: 0.25 | M57: =ROUND(O52*L57,0) -> 11563
C58: IMPREVISTOS | L58: 0.02 | M58: =ROUND(O52*L58,0) -> 925
C59: UTILIDAD | L59: 0.05 | M59: =ROUND(O52*L59,0) -> 2313
C60: SUBTOTAL $ | O60: =SUM(M57:N59) -> 14801
C62: Precio Unitario Total Aproximado al peso $ | O62: =ROUND(O52+O60,0) -> 61051
...

Sheet 7.4
B1: Formulario 1 - Propuesta económica - Documento tipo de selección abreviada de menor cuantía
B2: Versión: 1 del 21 de agosto de 2025
D7: ALCALDÍA MUNICIPAL DE PAICOL HUILA
D8: NIT. 891.180.194-4 | L8: VERSIÓN
D9: PROCESO DE MÍNMA CIANTÍA
L10: PÁGINA | M10: 1 | N10: DE | O10: 1
D11: ANALISIS DE PRECIOS UNITARIOS
L13: FECHA | M13: DD | N13: MM | O13: AA
M14: 1 | N14: 9 | O14: 2026
C15: ITEMS DEL PRESUPUESTO OFICIAL
C19: DATOS ESPECÍFICOS
C21: ITEM | D21: DESCRIPCIÓN | M21: UNIDAD | O21: CANTIDAD
D22: =PRESUPUESTO!G46 -> Suministro e instalación de punto de agua fría 1/2". | M22: =PRESUPUESTO!H46 -> UNIDAD
C23: I. EQUIPO
C26: DESCRIPCIÓN | H26: MARCA | J26: TIPO | L26: TARIFA/HORA | M26: RENDIMIENTO | O26: Vr. UNITARIO
C27: HERRAMIENTA MENOR | L27: %M.O. | M27: 0.05 | O27: =O54*M27 -> 2190.8
O28: =L28*M28 -> 0
C30: SUBTOTAL $ | O30: =ROUND(SUM(O27:O29),0) -> 2191
C31: II. MATERIALES
C34: DESCRIPCIÓN | K34: UNIDAD | L34: CANTIDAD | M34: PRECIO UNIT. | O34: Vr. UNITARIO
C35: TUBERIA PVC PRESIÓN DE 1/2" X 6M | K35: ML | L35: 1.03 | M35: 2400 | O35: =L35*M35 -> 2472
C36: NIPLE GALVANIZADO DE 1/2" X 6" | K36: UNIDAD | L36: 1 | M36: 5200 | O36: =L36*M36 -> 5200
C37: SOLDADURA PVC (1/4 GAL) | K37: UNIDAD | L37: 0.005 | M37: 88900 | O37: =L37*M37 -> 444.5
C38: LIMPIADOR PVC (12 ONZ) | K38: UNIDAD | L38: 0.009 | M38: 38900 | O38: =L38*M38 -> 350.1
C42: SUBTOTAL $ | O42: =ROUND(SUM(O35:O41),0) -> 8467
C43: III. TRANSPORTES
C46: MATERIAL | J46: VOL. o PESO | K46: DISTANCIA | L46: M3 o Ton/Km | M46: TARIFA | O46: Vr. UNITARIO
C48: SUBTOTAL $ | O48: =ROUND(SUM(O47:O47),0) -> 0
C49: IV. MANO DE OBRA
C52: TRABAJADOR | J52: JORNAL | K52: PRESTACIONES | L52: JORNAL TOTAL | M52: RENDIMIENTO | O52: Vr. UNITARIO
C53: =SALARIO!I10 -> CUADRILLA (1 obrero + 1 oficial) | J53: 1 | L53: =SALARIO!M10 -> 219079 | M53: 5 | O53: =L53/M53 -> 43815.8
C54: SUBTOTAL $ | O54: =ROUND(SUM(O53:O53),0) -> 43816
C56: TOTAL COSTO DIRECTO $ | O56: =ROUND(O30+O42+O48+O54,0) -> 54474
C57: V. COSTOS INDIRECTOS
C60: Descripción | L60: Porcentaje | M60: Valor Total
C61: ADMINISTRACION | L61: 0.25 | M61: =ROUND(O56*L61,0) -> 13619
C62: IMPREVISTOS | L62: 0.02 | M62: =ROUND(O56*L62,0) -> 1089
C63: UTILIDAD | L63: 0.05 | M63: =ROUND(O56*L63,0) -> 2724
C64: SUBTOTAL $ | O64: =SUM(M61:N63) -> 17432
C66: Precio Unitario Total Aproximado al peso $ | O66: =ROUND(O56+O64,0) -> 71906
...

Sheet 7.5
B1: Formulario 1 - Propuesta económica - Documento tipo de selección abreviada de menor cuantía
B2: Versión: 1 del 21 de agosto de 2025
D7: ALCALDÍA MUNICIPAL DE PAICOL HUILA
D8: NIT. 891.180.194-4 | L8: VERSIÓN
D9: PROCESO DE MÍNMA CIANTÍA
L10: PÁGINA | M10: 1 | N10: DE | O10: 1
D11: ANALISIS DE PRECIOS UNITARIOS
L13: FECHA | M13: DD | N13: MM | O13: AA
M14: 1 | N14: 9 | O14: 2026
C15: ITEMS DEL PRESUPUESTO OFICIAL
C19: DATOS ESPECÍFICOS
C21: ITEM | D21: DESCRIPCIÓN | M21: UNIDAD | O21: CANTIDAD
D22: =PRESUPUESTO!G47 -> Mantenimiento de tanque existente, reposición de accesorios necesarios para su buen funcionamiento. | M22: =PRESUPUESTO!H47 -> UNIDAD
C23: I. EQUIPO
C26: DESCRIPCIÓN | H26: MARCA | J26: TIPO | L26: TARIFA/HORA | M26: RENDIMIENTO | O26: Vr. UNITARIO
C27: HERRAMIENTA MENOR | L27: %M.O. | M27: 0.03 | O27: =O51*M27 -> 3286.2
C29: SUBTOTAL $ | O29: =ROUND(SUM(O27:O28),0) -> 3286
C30: II. MATERIALES
C33: DESCRIPCIÓN | K33: UNIDAD | L33: CANTIDAD | M33: PRECIO UNIT. | O33: Vr. UNITARIO
C34: MATERIAL PARA REPARACIONES | K34: GLB | L34: 1 | M34: 100000 | O34: =L34*M34 -> 100000
C39: SUBTOTAL $ | O39: =ROUND(SUM(O34:O38),0) -> 100000
C40: III. TRANSPORTES
C43: MATERIAL | J43: VOL. o PESO | K43: DISTANCIA | L43: M3 o Ton/Km | M43: TARIFA | O43: Vr. UNITARIO
O44: =L44*M44 -> 0
C45: SUBTOTAL $ | O45: =ROUND(SUM(O44:O44),0) -> 0
C46: IV. MANO DE OBRA
C49: TRABAJADOR | J49: JORNAL | K49: PRESTACIONES | L49: JORNAL TOTAL | M49: RENDIMIENTO | O49: Vr. UNITARIO
C50: =SALARIO!I10 -> CUADRILLA (1 obrero + 1 oficial) | J50: 1 | L50: =SALARIO!M10 -> 219079 | M50: 2 | O50: =L50/M50 -> 109539.5
C51: SUBTOTAL $ | O51: =ROUND(SUM(O50:O50),0) -> 109540
C53: TOTAL COSTO DIRECTO $ | O53: =ROUND(O29+O39+O45+O51,0) -> 212826
C54: V. COSTOS INDIRECTOS
C57: Descripción | L57: Porcentaje | M57: Valor Total
C58: ADMINISTRACION | L58: 0.25 | M58: =ROUND(O53*L58,0) -> 53207
C59: IMPREVISTOS | L59: 0.02 | M59: =ROUND(O53*L59,0) -> 4257
C60: UTILIDAD | L60: 0.05 | M60: =ROUND(O53*L60,0) -> 10641
C61: SUBTOTAL $ | O61: =SUM(M58:N60) -> 68105
C63: Precio Unitario Total Aproximado al peso $ | O63: =ROUND(O53+O61,0) -> 280931
H67: Firma
H68: Nombre: | I68: MIGUEL ALBERTO DURÁN SALAS
H69: Secretario de Planeación y Obras Públicas

Sheet 7.6
B1: Formulario 1 - Propuesta económica - Documento tipo de selección abreviada de menor cuantía
B2: Versión: 1 del 21 de agosto de 2025
D7: ALCALDÍA MUNICIPAL DE PAICOL HUILA
D8: NIT. 891.180.194-4 | L8: VERSIÓN
D9: PROCESO DE MÍNMA CIANTÍA
L10: PÁGINA | M10: 1 | N10: DE | O10: 1
D11: ANALISIS DE PRECIOS UNITARIOS
L13: FECHA | M13: DD | N13: MM | O13: AA
M14: 1 | N14: 9 | O14: 2026
C15: ITEMS DEL PRESUPUESTO OFICIAL
C19: DATOS ESPECÍFICOS
C21: ITEM | D21: DESCRIPCIÓN | M21: UNIDAD | O21: CANTIDAD
D22: Instalación de sanitario. | M22: =PRESUPUESTO!H48 -> UNIDAD
C23: I. EQUIPO
C26: DESCRIPCIÓN | H26: MARCA | J26: TIPO | L26: TARIFA/HORA | M26: RENDIMIENTO | O26: Vr. UNITARIO
C27: HERRAMIENTA MENOR | L27: %M.O. | M27: 0.05 | O27: =O51*M27 -> 2738.5
C29: SUBTOTAL $ | O29: =ROUND(SUM(O27:O28),0) -> 2739
C30: II. MATERIALES
C33: DESCRIPCIÓN | K33: UNIDAD | L33: CANTIDAD | M33: PRECIO UNIT. | O33: Vr. UNITARIO
C34: CEMENTO BLANCO X KILOGRAMO | K34: KG | L34: 0.5 | M34: 4200 | O34: =L34*M34 -> 2100
C39: SUBTOTAL $ | O39: =ROUND(SUM(O34:O38),0) -> 2100
C40: III. TRANSPORTES
C43: MATERIAL | J43: VOL. o PESO | K43: DISTANCIA | L43: M3 o Ton/Km | M43: TARIFA | O43: Vr. UNITARIO
O44: =L44*M44 -> 0
C45: SUBTOTAL $ | O45: =ROUND(SUM(O44:O44),0) -> 0
C46: IV. MANO DE OBRA
C49: TRABAJADOR | J49: JORNAL | K49: PRESTACIONES | L49: JORNAL TOTAL | M49: RENDIMIENTO | O49: Vr. UNITARIO
