Workbook
Name contratación: 'IDENTIFICACION Y ANALISIS'!$B$39:$B$43
Name ejecución: 'IDENTIFICACION Y ANALISIS'!$B$45:$B$68
Name OPCIONES: 'ASIGNACION Y TRATAMIENTO'!$B$52:$B$54
Name planeación: 'IDENTIFICACION Y ANALISIS'!$B$19:$B$29
Name selección: 'IDENTIFICACION Y ANALISIS'!$B$31:$B$37

Sheet CONTEXTO
C2: MATRIZ DE RIESGOS EN CONTRATACIÓN | F2: Código: GCO-GCI-F164 Versión: 02 Vigencia: 01 de diciembre de 2022 Caso HOLA: 280117
B6: ESTABLECER EL CONTEXTO
B7: El punto inicial es identificar el contexto en el cual interactúa la Entidad Estatal para conocer el ambiente social, económico y político, e identificar (i) sus propios Riesgos; (ii) los Riesgos comunes a sus Procesos de Contratación; y (iii) los Riesgos del Proceso de Contratación en particular. (Aplica igual para contratos interadministrativos) En este paso la Entidad Estatal debe identificar los aspectos que se mencionan a continuación y los posibles efectos adversos que estos pueden generar.
B8: Objeto del Proceso de Contratación
B9: Partícipes del Proceso de Contratación: Agentes externos (Organismos de control, veedurías ciudadanas), agentes internos (supervisores, funcionarios y demás usuarios).
B10: Ciudadanía que se beneficia del Proceso de Contratación: Agentes internos (funcionarios, pasantes) y externos (contratistas, visitantes y usuarios externos en general)
B11: Capacidad de la Entidad Estatal entendida como la disponibilidad de recursos y conocimientos para el Proceso de Contratación: La disponibilidad de la Entidad de sus recursos y el conocimiento de su equipo humano se refleja en los diferentes funcionarios que participarán en las diversas etapas del proceso de selección: participan las áreas que requieren los procesos de contratación (Etapa de Planeación), Dirección de Contratación, Comité Evaluador (Etapa de selección), Dirección de Contratación (Etapa de contratación) y la supervisión y apoyos a la misma (Estapa de Ejecución).
B12: Suficiencia del presupuesto oficial del Proceso de Contratación: De acuerdo al Plan Anual de Adquisiciones se deben estimar los recursos necesarios para el desarrollo del proceso de la contratación, el cual tendrá el soporte presupuestal suficiente para su desarrollo.
B13: Condiciones geográficas y de acceso del lugar en el cual se debe cumplir el objeto del Proceso de Contratación: El suministro, obra o servicio se prestará principalmente en las Sedes de la Entidad, o en el lugar indicado en los estudios previos del proceso.
B14: Entorno socio ambiental: Si aplican
B15: Condiciones políticas: Si aplican
B16: Factores ambientales.
B17: Sector del objeto del Proceso de Contratación y su mercado.
... B19: Experiencia propia y de otras Entidades Estatales en Procesos de Contratación del mismo tipo.

Sheet IDENTIFICACION Y ANALISIS
C2: MATRIZ DE RIESGOS DE CONTRATACIÓN | F2: Código: GCO-GCI-F164 Versión: 02 Vigencia: 01 de diciembre de 2022 Caso HOLA: 280117
B6: DEFINICIONES
B7: RIESGO: Evento que puede generar efectos adversos y de distinta magnitud en el logro de los objetivos del Proceso de Contratación o en la ejecución de un contrato RIESGOS PREVISIBLES: Son los posibles hechos o circunstancias que por la naturaleza del contrato y de la actividad a ejecutar es factible su ocurrencia. ETAPA DE PLANEACIÓN: Está comprendida desde el momento en que se identifican las necesidades que debe satisfacer la Secretaría Distrital de Gobierno y los Fondos de Desarrollo Local, a través del abastecimiento de bienes, obras o servicios, la elaboración del Plan Anual de Adquisiciones y la estructuración de los documentos y estudios previos. ETAPA DE SELECCIÓN: Está comprendida entre el acto de Apertura del Proceso de Contratación y la Adjudicación o la declaración de desierto del Proceso de Contratación ETAPA DE CONTRATACIÓN: Una vez adjudicado el contrato objeto del Proceso de Contratación, inicia la etapa para la celebración del contrato y el cumplimiento de los requisitos para de perfeccionamiento y ejecución. ETAPA DE EJECUCIÓN: Inicia una vez cumplidos los requisitos previstos para iniciar la ejecución del contrato respectivo y termina con el vencimiento del plazo del contrato o la fecha de liquidación si hay lugar a ella. RIESGO GENERAL: Es un riesgo de todos los procesos de contratación adelantados por la Entidad Estatal, por lo cual está presente en toda su actividad contractual. RIEGO ESPECIFICO: Es un riesgo propio del proceso de contratación objeto de análisis. RIESGOS ECONÓMICOS: Son los derivados del comportamiento del mercado, tales como la fluctuación de los precios de los insumos, desabastecimiento y especulación de los mismos, entre otros. RIESGOS SOCIALES O POLÍTICOS: son los derivados de los cambios de las políticas gubernamentales y de cambios en las condiciones sociales que tengan impacto en la ejecución del contrato. RIESGOS OPERACIONALES: Son los asociados a la operatividad del contrato, tales como la suficiencia del presupuesto oficial, del plazo o los derivados de procesos, procedimientos, parámetros, sistemas de información y tecnológicos, equipos humanos o técnicos inadecuados o insuficientes. RIESGOS FINANCIEROS: Son (i) el riesgo de consecución de financiación o riesgo de liquidez para obtener recursos para cumplir con el objeto del contrato, y (ii) el riesgo de las condiciones financieras establecidas para la obtención de los recursos, tales como plazos, tasas, garantías, contragarantías, y refinanciaciones, entre otros. RIESGOS REGULATORIOS: Derivados de cambios regulatorios o reglamentarios que afecten la ecuación económica del contrato. RIESGOS DE LA NATURALEZA: Son los eventos naturales previsibles en los cuales no hay intervención humana que puedan tener impacto en la ejecución del contrato, por ejemplo los temblores, inundaciones, lluvias, sequías, entre otros. RIESGOS AMBIENTALES: Son los derivados de las obligaciones legales o reglamentarias de carácter ambiental, así como de las licencias, planes de manejo o de permisos y autorizaciones ambientales, incluyendo tasas retributivas y compensatorias, obligaciones de mitigación, tareas de monitoreo y control, entre otras. RIESGOS TECNOLÓGICOS: Son los derivados de fallas en los sistemas de comunicación de voz y de datos, suspensión de servicios públicos, nuevos desarrollos tecnológicos o estándares que deben ser tenidos en cuenta para la ejecución del contrato, obsolescencia tecnológica.
B15: INSTRUCCIONES PARA LA IDENTIFICACIÓN, ANALISIS, EVALUACIÓN , ASIGNACIÓN Y TRATAMIENTO DE RIESGOS EN LA CONTRATACIÓN
B16: 1) Identifique los riesgos previsibles que le apliquen al objeto contractual que se adelante. Los relacionados a continuación se establecen de manera general y como proforma. No obstante, si del objeto contractual se identifican otros riesgos diferentes a los aquí determinados, por favor reemplace el texto de la casilla teniendo en cuenta la etapa del proceso. Así mismo, seleccione la clase, fuente y el tipo (Operacional, Económico, Sociales o Políticos, Regulatorios, Financieros, Tecnológicos, De la naturaleza, Ambientales) 2) Continúe en la hoja de "EVALUACIÓN" (SI EXISTEN DUDAS CONCEPTUALES PARA LA ELABORACIÓN DE LA MATRIZ DE RIESGO CONSULTE EL MANUAL PARA LA IDENTIFICACIÓN Y COBERTURA DEL RIESGO EN LOS PROCESOS DE CONTRATACIÓN EXPEDIDO POR COLOMBIA COMPRA EFICIENTE Y LA GUÍA DE RIESGOS PREVISIBLES CONTRACTUALES, EXPEDIDA POR LA VEEDURÍA DISTRITAL)
C17: ETAPAS | D17: CLASE | E17: FUENTE | F17: TIPO
C18: PLANEACIÓN
B19: EXPEDICIÓN DE NORMAS GENERALES, ABSTRACTAS E IMPERSONALES, CON INCIDENCIA DIRECTA E INDIRECTA EN LA REGULACIÓN NEGOCIAL | F19: Operacionales
B20: REQUISITOS HABILITANTES INAPROPIADOS PARA EL PROCESO DE SELECCIÓN | F20: Operacionales
B21: INADECUADO ANÁLISIS ECONÓMICO ESTIMATIVO DEL VALOR DEL CONTRATO | F21: Economicos
B22: INADECUADA DESCRIPCIÓN DEL BIEN O SERVICIO REQUERIDO | F22: Operacionales
B23: INADECUADA ELABORACIÓN DE DOCUMENTOS PRECONTRACTUALES | F23: Operacionales
B24: REQUISITOS HABILITANTES QUE IMPIDAN LA SELECCIÓN OBJETIVA | F24: Operacionales
B25: FALTA DE PROFUNDIDAD EN EL ESTUDIO DE SECTOR NO IDENTIFICANDOSE CLARAMENTE ASPECTOS DE OFERTA Y DEMANDA | F25: Economicos
B26: AUSENCIA DE FUNDAMENTACIÓN DE LA JUSTIFICACIÓN Y CONVENIENCIA DE LA CONTRATACIÓN | F26: Operacionales
B27: INADECUADA IDENTIFICACIÓN DE LAS CONDICIONES CONTRACTUALES | F27: Operacionales
B28: NO APROBACIÓN O DEMORAS EN LA EXPEDICIÓN VIGENCIAS FUTURAS | F28: Operacionales
B29: EXPEDICIÓN DE NORMAS GENERALES, ABSTRACTAS E IMPERSONALES, CON INCIDENCIA DIRECTA E INDIRECTA EN LA REGULACIÓN NEGOCIAL | F29: Operacionales
C30: SELECCIÓN
B31: INADECUADA EVALUACIÓN DE LAS OFERTAS Y/O VERIFICACIÓN DE REQUISITOS HABILITANTES | F31: Operacionales
B32: INADECUADO MANEJO ADMINISTRATIVO DEL PROCESO CONTRACTUAL | F32: Operacionales
B33: CUANDO DURANTE EL DESARROLLO DEL PROCESO DE SELECCIÓN DEBA REVOCARSE EL MISMO POR NO SER CONVENIENTE SU ADJUDICACIÓN. | F33: Operacionales
B34: CONTESTACIÓN INOPORTUNA A TODAS LAS OBSERVACIONES FORMULADAS A LOS DOCUMENTOS DE LA CONTRATACIÓN | F34: Operacionales
B35: NO PUBLICACIÓN DE LA DOCUMENTACIÓN DEL PROCESO DE SELECCIÓN EN EL SECOP | F35: Operacionales
B36: CONFABULACION DE LOS PROPONENTES (COLUSIÓN) | F36: Operacionales
B37: SELECCIÓN DE OFERTAS CON PRECIOS ARTIFICIALMENTE BAJOS. | F37: Operacionales
C38: CONTRATACIÓN
B39: RIESGO DE QUE NO SE FIRME EL CONTRATO. | F39: Operacionales
B40: FALTA DE CONSTITUCIÓN O CONSTITUCIÓN TARDÍA DE LA GARANTÍA ÚNICA. ACEPTACIÓN DE GARANTÍAS QUE NO SE AJUSTAN A LO CONTEMPLADO EN EL CONTRATO | F40: Operacionales
B41: FALTA DE SOLICITUD O SOLICITUD TARDÍA DEL REGISTRO PRESUPUESTAL | F41: Operacionales
B42: NO PUBLICACIÓN DE LA DOCUMENTACIÓN DEL PROCESO DE SELECCIÓN EN EL SECOP | F42: Operacionales
B43: PRESENTACIÓN DE RECLAMOS DE TERCEROS SOBRE LA SELECCIÓN DEL OFERENTE QUE RETRASEN EL PERFECCIONAMIENTO DEL CONTRATO. | F43: Operacionales
C44: EJECUCIÓN
B45: FLUCTUACIONES DEL VALOR DE LA MONEDA | F45: Economicos
B46: CAMBIO DE PRECIOS EN FACTORES DE PRODUCCIÓN. | F46: Economicos
B47: VARIACIÓN DE LOS PRECIOS DEL MERCADO | F47: Economicos
B48: EL NO PAGO DE SUS OBLIGACIONES RELACIONADAS CON LA SEGURIDAD SOCIAL INTEGRAL Y PARAFISCALES A LAS QUE SE ENCUENTRE OBLIGADO A PAGAR EL CONTRATISTA | F48: Sociales o Políticos
B49: DAÑO EN LOS BIENES PÚBLICOS | F49: Economicos
B50: VARIACIÓN EN LA DISPONIBILIDAD O EN EL COSTO DE LOS INSUMOS NECESARIOS PARA PRESTAR LOS SERVICIOS. | F50: Economicos
B51: INCUMPLIMIENTO DE COMPROMISOS ADQUIRIDOS POR EL CONTRATISTA SELECCIONADO CON SUS SUBCONTRATISTAS, SUMINISTRADORES DE BIENES Y SERVICIOS. | F51: Economicos
...

Sheet EVALUACION
C2: MATRIZ DE RIESGOS DE CONTRATACIÓN | K2: Código: GCO-GCI-F164 Versión: 02 Vigencia: 01 de diciembre de 2022 Caso HOLA: 280117
B6: Objeto Contractual: REALIZAR LA INTERVENTORÍA TÉCNICA, ADMINISTRATIVA, FINANCIERA, ECONÓMICA, SOCIAL, JURÍDICA, AMBIENTAL, Y SST, DEL CONTRATO CUYO OBJETO ES: EJECUTAR A PRECIOS UNITARIOS Y A MONTO AGOTABLE LA ACTUALIZACIÓN Y/O COMPLEMENTACIÓN Y/O AJUSTES A LOS ESTUDIOS Y DISEÑOS, Y LAS OBRAS DE CONSTRUCCIÓN Y/O CONSERVACIÓN DE LAS VÍAS Y ESPACIO PÚBLICO ASOCIADO A LA INFRAESTRUCTURA DE TRANSPORTE DE LA LOCALIDAD DE CIUDAD BOLÍVAR
B7: INSTRUCCIONES PARA LA IDENTIFICACIÓN, ANALISIS, EVALUACIÓN , ASIGNACIÓN Y TRATAMIENTO DE RIESGOS EN LA CONTRATACIÓN
B8: 1) Diligencie el objeto contractual y seleccione la(s) etapas y los riesgos que aplican al objeto contractual, de acuerdo a lo definido en la hoja de "IDENTIFICACIÓN Y ANÁLISIS"
B9: 2) Describa las consecuencias de la ocurrencia del Riesgo/evento.
B10: 3) Asigne la probabilidad de ocurrencia del riesgo, de conformidad con la tabla de probabilidad y la valoración del riesgo (Cualitativa o Monetaria)
B11: 4) Asigne el impacto que generaría la materialización del riesgo, de conformidad con la tabla de impacto y la valoración del riesgo (Cualitativa o Monetaria)
B12: 5) Al realizar las anteriores actividades se obtendrá la calificación total y la valoración del riesgo (prioridad).
B13: 6) Continúe en la hoja de "EVALUACIÓN DE CONTROLES"
B15: CALIFICACIÓN | H15: Cualitativa
B16: ETAPA | C16: Descripción (Que puede pasar y, cómo puede ocurrir) | H16: Consecuencias de la ocurrencia del evento | I16: Probabilidad de Ocurrencia | J16: Impacto | K16: Calificación Total | L16: Prioridad
B17: PLANEACIÓN | C17: INADECUADA ELABORACIÓN DE DOCUMENTOS PRECONTRACTUALES | H17: SUBVALORACION O SOBREVALORACION DE LOS PRECIOS DEL MERCADO O DEL SECTOR ESTUDIADO. INAPLICACION DE LOS PRINCIPIOS DE SELECCIÓN OBJETIVA, ECONOMIA Y TRANSPARENCIA. | I17: 2 | J17: 3 | K17: =I17+J17 -> 5 | L17: =IF(K17<=4,"BAJO",IF(K17=5,"MEDIO",IF(K17=6,"ALTO",IF(K17=7,"ALTO","EXTREMO")))) -> MEDIO
B18: PLANEACIÓN | C18: EXPEDICIÓN DE NORMAS GENERALES, ABSTRACTAS E IMPERSONALES, CON INCIDENCIA DIRECTA E INDIRECTA EN LA REGULACIÓN NEGOCIAL | H18: ACTOS GENERALES DE LA ADMINISTRACIÓN "HECHO DEL PRICNCIPE" | I18: 2 | J18: 3 | K18: =+I18+J18 -> 5 | L18: =IF(K18<=4,"BAJO",IF(K18=5,"MEDIO",IF(K18=6,"ALTO",IF(K18=7,"ALTO","EXTREMO")))) -> MEDIO
B19: EJECUCIÓN | C19: EL NO PAGO DE SUS OBLIGACIONES RELACIONADAS CON LA SEGURIDAD SOCIAL INTEGRAL Y PARAFISCALES A LAS QUE SE ENCUENTRE OBLIGADO A PAGAR EL CONTRATISTA | H19: SANCIONES POR LAS ENTIDADES COMPETENTES POR EL INCUMPLIMIENTO, RETRASO EN LA EJECUCIÓN DE LAS OBLIGACIONES CONTRACTUALES, | I19: 2 | J19: 3 | K19: =+I19+J19 -> 5 | L19: =IF(K19<=4,"BAJO",IF(K19=5,"MEDIO",IF(K19=6,"ALTO",IF(K19=7,"ALTO","EXTREMO")))) -> MEDIO
B20: EJECUCIÓN | C20: AUMENTO O DISMINUCIÓN EN LAS CANTIDADES ESTABLECIDAS EN LOS SERVICIOS SEÑALADOS EN LA FICHA TÉCNICA POR NECESIDADES DEL SERVICIO | H20: RETRASO EN LA EJECUCIÓN DE LAS OBLIGACIONES CONTRACTUALES, GENERANDO DEMORAS EN LA OPORTUNA RESPUESTA A LOS REQUERIMIENTOS DE LA ENTIDAD CONTRATANTE | I20: 2 | J20: 3 | K20: =+I20+J20 -> 5 | L20: =IF(K20<=4,"BAJO",IF(K20=5,"MEDIO",IF(K20=6,"ALTO",IF(K20=7,"ALTO","EXTREMO")))) -> MEDIO
B21: EJECUCIÓN | C21: SITUACIONES DE ORDEN PÚBLICO NO IMPUTABLES A LA RESPONSABILIDAD Y DILIGENCIA DEL CONTRATISTA (ASONADAS, HUELGAS, MANIFESTACIONES Y SEMEJANTES). | H21: FALLAS EN LA PRESTACIÓN DEL SERVICIO | I21: 3 | J21: 3 | K21: =+I21+J21 -> 6 | L21: =IF(K21<=4,"BAJO",IF(K21=5,"MEDIO",IF(K21=6,"ALTO",IF(K21=7,"ALTO","EXTREMO")))) -> ALTO
B22: EJECUCIÓN | C22: DAÑO EN LOS BIENES PÚBLICOS | H22: DISMINUCIÓN EN SU PATRIMONIO Y AFECTACIONES EN LA REALIZACIÓN DE ACTIVIDADES OPERATIVAS Y MISIONALES DE LA ENTIDAD | I22: 2 | J22: 3 | K22: =+I22+J22 -> 5 | L22: =IF(K22<=4,"BAJO",IF(K22=5,"MEDIO",IF(K22=6,"ALTO",IF(K22=7,"ALTO","EXTREMO")))) -> MEDIO
B23: SELECCIÓN | C23: SELECCIÓN DE OFERTAS CON PRECIOS ARTIFICIALMENTE BAJOS. | H23: PRODUCTOS DE MALA CALIDAD | I23: 2 | J23: 3 | K23: =+I23+J23 -> 5 | L23: =IF(K23<=4,"BAJO",IF(K23=5,"MEDIO",IF(K23=6,"ALTO",IF(K23=7,"ALTO","EXTREMO")))) -> MEDIO
B24: SELECCIÓN | C24: CUANDO DURANTE EL DESARROLLO DEL PROCESO DE SELECCIÓN DEBA REVOCARSE EL MISMO POR NO SER CONVENIENTE SU ADJUDICACIÓN. | H24: INICIO DE UN NUEVO PROCESO DE CONTRATACIÓN | I24: 2 | J24: 3 | K24: =+I24+J24 -> 5 | L24: =IF(K24<=4,"BAJO",IF(K24=5,"MEDIO",IF(K24=6,"ALTO",IF(K24=7,"ALTO","EXTREMO")))) -> MEDIO
B25: EJECUCIÓN | C25: DEMORAS EN LA ELABORACIÓN DE LOS DIAGNÓSTICOS POR PARTE DEL CONTRATISTA EN LA ETAPA PRELIMINAR. | H25: RETRASOS EN LA EJECUCIÓN DE LA OBRA Y EL CUMPLIMIENTO DELPLAZO CONTRACTUAL | I25: 3 | J25: 3 | K25: =+I25+J25 -> 6 | L25: =IF(K25<=4,"BAJO",IF(K25=5,"MEDIO",IF(K25=6,"ALTO",IF(K25=7,"ALTO","EXTREMO")))) -> ALTO
B26: CONTRATACIÓN | C26: NO PUBLICACIÓN DE LA DOCUMENTACIÓN DEL PROCESO DE SELECCIÓN EN EL SECOP | H26: POSIBLE VULNERACIÓN AL PRINCIPIO DE PUBLICIDAD, SELECCIÓN OBJETIVA O ADJUDICACIÓN | I26: 2 | J26: 3 | K26: =+I26+J26 -> 5 | L26: =IF(K26<=4,"BAJO",IF(K26=5,"MEDIO",IF(K26=6,"ALTO",IF(K26=7,"ALTO","EXTREMO")))) -> MEDIO
B27: SELECCIÓN | C27: CONFABULACION DE LOS PROPONENTES (COLUSIÓN) | H27: VULNERACIÓN DEL PRINCIPIO DE SELECCIÓN OBJETIVA Y ADJUDICACIÓN DEL PROCESO DE SELECCIÓN POR MEDIOS ILEGALES | I27: 2 | J27: 3 | K27: =+I27+J27 -> 5 | L27: =IF(K27<=4,"BAJO",IF(K27=5,"MEDIO",IF(K27=6,"ALTO",IF(K27=7,"ALTO","EXTREMO")))) -> MEDIO
B28: SELECCIÓN | C28: CONTESTACIÓN INOPORTUNA A TODAS LAS OBSERVACIONES FORMULADAS A LOS DOCUMENTOS DE LA CONTRATACIÓN | H28: POSIBLE REVOCATORIA DEL ACTO DE APERTURA DEL PROCESO DE SELECCIÓN O DECLARATORIA DE DESIERTA DEL PROCESO DE SELECCIÓN, POR CAMBIOS SUSTANCIALES EN LAS CONDICIONES TÉCNICAS, FINANCIERAS Y JURÍDICAS QUE INCIDAN EN LA ESCOGENCIA DEL CONTRATISTA O EN LA EJECUCIÓN DEL CONTRATO | I28: 2 | J28: 3 | K28: =+I28+J28 -> 5 | L28: =IF(K28<=4,"BAJO",IF(K28=5,"MEDIO",IF(K28=6,"ALTO",IF(K28=7,"ALTO","EXTREMO")))) -> MEDIO
B29: EJECUCIÓN | C29: INCUMPLIMIENTO RESPECTO DE LOS HITOS DEL CRONOGRAMA | H29: CONTITUCION DE RESERVAS PRESUPUESTALES AFECTACION EN LOS INDICAADORES DE EJECUCIÓN PRESUESTAL DE LA ENTIDAD . | I29: 2 | J29: 4 | K29: =+I29+J29 -> 6 | L29: =IF(K29<=4,"BAJO",IF(K29=5,"MEDIO",IF(K29=6,"ALTO",IF(K29=7,"ALTO","EXTREMO")))) -> ALTO
... B36: EJECUCIÓN | C36: DECISIONES ADMINISTRATIVAS POR PARTE DE AUTORIDADES COMPETENTES QUE PUEDAN AFECTAR LA PRESTACIÓN DEL SERVICIO TALES COMO: EXPEDICION DE NORMAS QUE AFECTEN LAS CONDICIONES PACTADAS EN EL CONTRATO , MEDIDAS RELACIONADAS CON SITUACIONES DE SALUD PÚBLICA, DESASTRES NATURALES, PROTESTA SOCIALY TODAS AQUELLAS QUE TENGAN LA CONNOTACION DE FUERZA MAYOR Y/O INTERES PUBLICO. | H36: INCUMPLIMIENTO DEL CRONOGRAMA DE ENTREGA DE LOS CERTIFICADOS. INDISPONIBILIDAD DE LA INFRAESTRUCTURA TECNOLÓGIA POR DAÑOS. | I36: 3 | J36: 4 | K36: =+I36+J36 -> 7 | L36: =IF(K36<=4,"BAJO",IF(K36=5,"MEDIO",IF(K36=6,"ALTO",IF(K36=7,"ALTO","EXTREMO")))) -> ALTO
B39: Probabilidad | C39: Catagoria | E39: Valoración | G39: Impacto | H39: Categoria | I39: Valoración
C40: Raro (puede ocurrir excepcionalmente) | E40: 1 | H40: Insignificante | I40: 1
C41: Improbable (puede ocurrir ocasionalmente) | E41: 2 | H41: Menor | I41: 2
C42: Posible (puede ocurrir en cualquier momento futuro) | E42: 3 | H42: Moderado | I42: 3
C43: Probable (probablemente va a ocurrir) | E43: 4 | H43: Mayor | I43: 4
C44: Casi cierto (ocurre en la mayoria de circunstancias) | E44: 5 | H44: Catastrófico | I44: 5
C46: Valoración del Riesgo
C47: Calificación Cualitativa | F47: Obstruye la ejecución del contrato de manera intrascendente. | G47: Dificulta la ejecución del contrato de manera baja, aplicando medidas mínimas se pueden lograr el objeto contractual | H47: Afecta la ejecución del contrato sin alterar el beneficio para las partes | I47: Obstruye la ejecución del contrato sustancialmente pero aun así permite la consecución del objeto contractual | K47: Perturba la ejecución del contrato de manera grave imposibilitando la consecución del objeto contractual.
C48: Calificación Monetaria | F48: Los sobrecostos no representan más del uno por ciento (1%) del valor del contrato. | G48: Los sobrecostos no representan más del cinco por ciento (5%) del valor del contrato. | H48: Genera un impacto sobre el valor del contrato entre el cinco (5%) y el quince por ciento (15%). | I48: Incrementa el valor del contrato entre el quince (15%) y el treinta por ciento (30%). | K48: Impacto sobre el valor del contrato en más del treinta por ciento (30%).
C49: Categoría | E49: Valoración | F49: Insignificante | G49: Menor | H49: Moderado | I49: Mayor | K49: Catastrófico
F50: 1 | G50: 2 | H50: 3 | I50: 4 | K50: 5
C51: Raro (puede ocurrir excepcionalmente) | E51: 1 | F51: 2 | G51: 3 | H51: 4 | I51: 5 | K51: 6
C52: Improbable (puede ocurrir ocasionalmente) | E52: 2 | F52: 3 | G52: 4 | H52: 5 | I52: 6 | K52: 7
C53: Posible (puede ocurrir en cualquier momento futuro) | E53: 3 | F53: 4 | G53: 5 | H53: 6 | I53: 7 | K53: 8
C54: Probable (probablemente va a ocurrir) | E54: 4 | F54: 5 | G54: 6 | H54: 7 | I54: 8 | K54: 9
...

Sheet EVALUACION CON CONTROLES
C2: MATRIZ DE RIESGOS DE CONTRATACIÓN | Q2: Código: GCO-GCI-F164 Versión: 02 Vigencia: 01 de diciembre de 2022 Caso HOLA: 280117
B6: =+EVALUACION!B6 -> Objeto Contractual: REALIZAR LA INTERVENTORÍA TÉCNICA, ADMINISTRATIVA, FINANCIERA, ECONÓMICA, SOCIAL, JURÍDICA, AMBIENTAL, Y SST, DEL CONTRATO CUYO OBJETO ES: EJECUTAR A PRECIOS UNITARIOS Y A MONTO AGOTABLE LA ACTUALIZACIÓN Y/O COMPLEMENTACIÓN Y/O AJUSTES A LOS ESTUDIOS Y DISEÑOS, Y LAS OBRAS DE CONSTRUCCIÓN Y/O CONSERVACIÓN DE LAS VÍAS Y ESPACIO PÚBLICO ASOCIADO A LA INFRAESTRUCTURA DE TRANSPORTE DE LA LOCALIDAD DE CIUDAD BOLÍVAR
B7: INSTRUCCIONES PARA LA IDENTIFICACIÓN, ANALISIS, EVALUACIÓN , ASIGNACIÓN Y TRATAMIENTO DE RIESGOS EN LA CONTRATACIÓN
B8: 1) Describa el tratamiento/controles a ser implementados
B9: 2) Diligencie la información de las siguientes columnas, de acuerdo con el análisis realizado a cada riesgo: Afecta el equilibrio económico, persona responsable de implementar el tratamiento, fecha estimada de inicio del tratamiento, fecha estimada en la que se completa el tratamiento, cómo se realiza el monitoreo y la periodicidad.
B10: 3) Continúe en la hoja de "ASIGNACIÓN Y TRATAMIENTO" y diligencie las siguientes casillas: A quien se le asigna y el porcentaje que asume cada una de las partes en caso de que sea compartido.
B15: ETAPA | C15: Descripción (Que puede pasar y, cómo puede ocurrir) | G15: Tratamiento/Controles a ser implementados | I15: Probabilidad de Ocurrencia | J15: Impacto | K15: Calificación Total | L15: Prioridad | M15: ¿Afecta el equilibrio económico del contrato? | N15: Persona responsable por implementar el tratamiento | O15: Fecha estimada en que se inicia el tratamiento | P15: Fecha estimada en que se completa el tratamiento | Q15: ¿Cómo se realiza el monitoreo? | R15: Periodicidad ¿Cuándo?
B16: =+EVALUACION!B17 -> PLANEACIÓN | C16: =+EVALUACION!C17 -> INADECUADA ELABORACIÓN DE DOCUMENTOS PRECONTRACTUALES | G16: ESTABLECER UN GRUPO MULTIDISCIPLINARIO ENTRE LAS ÁREAS TECNICA, Y JURIDICA PARA LA ELABORACION DEL ESTUDIO PREVIO Y ANÁLISIS DEL SECTOR | I16: =+EVALUACION!I17 -> 2 | J16: =+EVALUACION!J17 -> 3 | K16: =+I16+J16 -> 5 | L16: =IF(K16<=4,"BAJO",IF(K16=5,"MEDIO",IF(K16=6,"ALTO",IF(K16=7,"ALTO","EXTREMO")))) -> MEDIO | M16: NO | N16: FDLCB | O16: DESDE LA ETAPA DE PLANEACIÓN | P16: HASTA LA ETAPA DE ADJUDICACIÓN | Q16: MESAS DE TRABAJO, PROGRAMAS ANTES DE LA ADJUDICACION | R16: Durante toda la etapa precontractual y hasta la adjudicación
B17: =+EVALUACION!B18 -> PLANEACIÓN | C17: =+EVALUACION!C18 -> EXPEDICIÓN DE NORMAS GENERALES, ABSTRACTAS E IMPERSONALES, CON INCIDENCIA DIRECTA E INDIRECTA EN LA REGULACIÓN NEGOCIAL | G17: HACER SEGUMIENTO A LAS NORMAS QUE PUEDAN AFECTAR LA EJECUCIÓN DEL CONTRATO EN LOS TÉMINOS PACTADOS Y EN CASO E AFECTACIÓN DEL PUNTO DE NO PÉRDIDA EFECTUAR LOS AJUSTES PRESUPUESTALES RESPECTIVOS | I17: =+EVALUACION!I18 -> 2 | J17: =+EVALUACION!J18 -> 3 | K17: =+I17+J17 -> 5 | L17: =IF(K17<=4,"BAJO",IF(K17=5,"MEDIO",IF(K17=6,"ALTO",IF(K17=7,"ALTO","EXTREMO")))) -> MEDIO | M17: SI | N17: SUPERVISIÓN Y/O APOYO A LA SUPERVISIÓN DEL CONTRATO | O17: DESDE LA FIRMA DEL CONTRATO | P17: HASTA LA ETAPA DE ADJUDICACIÓN | Q17: SEGUIMIENTO A LOS CAMBIOS EN MATERIA JURÍDICA, PRESUPUESTAL, TRIBUTARIA Y EN GENERAL LAS QUE TENGAN INCIDENCIA EN EL CONTRATO | R17: Durante la ejecución del contrato
B18: =+EVALUACION!B19 -> EJECUCIÓN | C18: =+EVALUACION!C19 -> EL NO PAGO DE SUS OBLIGACIONES RELACIONADAS CON LA SEGURIDAD SOCIAL INTEGRAL Y PARAFISCALES A LAS QUE SE ENCUENTRE OBLIGADO A PAGAR EL CONTRATISTA | G18: 1) DENTRO DE LAS OBLIGACIONES DEL CONTRATO QUEDA ESTIPULADO QUE DEBE CUMPLIR CON LOS PAGOS A SEGURIDAD SOCIAL INTEGRAL DE SUS EMPLEADOS Y PARAFISCALES (CUANDO HAYAN LUGAR A ELLO). 2) ASÍ MISMO, CADA VEZ QUE PRESENTEN LA FACTURA OSU EQUIVALENTE LA ENTIDAD DEBERÁ REVISAR QUE EL CONTRATISTA ACREDITA QUE SE ENCUENTRA A PAZ Y SALVO POR ESTOS CONCEPTOS DE ACUERDO CON LO SEÑALADO EN LAS NORMAS QUE REGULAN LA MATERIA Y EL CONTRATO. 3) EN CASO QUE SE EVIDENCIE INCUMPLIMIENTO DE ESTA OBLIGACIÓN LA ENTIDAD INFORMARÁ AL ENTE COMPETENTE PARA QUE REALICE LAS GESTIONES Y SANCIONES DEL CASO | I18: =+EVALUACION!I19 -> 2 | J18: =+EVALUACION!J19 -> 3 | K18: =+I18+J18 -> 5 | L18: =IF(K18<=4,"BAJO",IF(K18=5,"MEDIO",IF(K18=6,"ALTO",IF(K18=7,"ALTO","EXTREMO")))) -> MEDIO | M18: SI | N18: SUPERVISIÓN Y/O APOYO A LA SUPERVISIÓN DEL CONTRATO | O18: DESDE LA FIRMA DEL CONTRATO | P18: HASTA LA ETAPA DE ADJUDICACIÓN | Q18: MESAS DE TRABAJO Y REUNIONES DE SEGUIMIENTO | R18: CADA VEZ QUE SE PRESENTE LA FACTURA O DOCUMENTO EQUIVALENTE PARA EL PAGO
B19: =+EVALUACION!B20 -> EJECUCIÓN | C19: =+EVALUACION!C20 -> AUMENTO O DISMINUCIÓN EN LAS CANTIDADES ESTABLECIDAS EN LOS SERVICIOS SEÑALADOS EN LA FICHA TÉCNICA POR NECESIDADES DEL SERVICIO | G19: EL CONTRATISTA DEBERÁ ESTRUCTURAR SU PROPUESTA TENIENDO EN CUENTA QUE EL CONTRATO SE EJECUTARÁ CONFORME A LOS VALORES UNITARIOS Y A LAS CANTIDADES REQUERIDAS POR EL CONTRATANTE QUE OBEDECEN A LAS NECESIDADES DEL SERVICIO.ASÍ MISMO, LA ENTIDAD PODRÁ ANALIZAR DE ACUERDO CON EL SERVICIO, EL AUMENTO DE LAS CANTIDADES EN OTROS ÍTEMS QUE SE REQUIERA PARA EL CUMPLIMIENTO DEL CONTRATO | I19: =+EVALUACION!I20 -> 2 | J19: =+EVALUACION!J20 -> 3 | K19: =+I19+J19 -> 5 | L19: =IF(K19<=4,"BAJO",IF(K19=5,"MEDIO",IF(K19=6,"ALTO",IF(K19=7,"ALTO","EXTREMO")))) -> MEDIO | M19: SI | N19: SUPERVISIÓN Y/O APOYO A LA SUPERVISIÓN DEL CONTRATO | O19: DESDE EL INICIO DE EJECUCIÓN | P19: HASTA LA FINALIZACION DE LA ETAPA DE EJECUCIÓN | Q19: MESAS DE TRABAJO Y REUNIONES DE SEGUIMIENTO | R19: DURANTE LA EJECUCIÓN DEL CONTRATO
B20: =+EVALUACION!B21 -> EJECUCIÓN | C20: =+EVALUACION!C21 -> SITUACIONES DE ORDEN PÚBLICO NO IMPUTABLES A LA RESPONSABILIDAD Y DILIGENCIA DEL CONTRATISTA (ASONADAS, HUELGAS, MANIFESTACIONES Y SEMEJANTES). | G20: 1) DE ACUERDO CON LA NECESIDAD DE LA ENTIDAD, EL SUPERVISOR DEL CONTRATO Y EL CONTRATISTA REALIZARÁ LA REPROGRAMACIÓN DE LAS ACTIVIDADES DENTRO DE LOS TRES (3) DÍAS SIGUIENTES A LAS QUE INICIALMENTE SE TENÍAN ACORDADAS | I20: =+EVALUACION!I21 -> 3 | J20: =+EVALUACION!J21 -> 3 | K20: =+I20+J20 -> 6 | L20: =IF(K20<=4,"BAJO",IF(K20=5,"MEDIO",IF(K20=6,"ALTO",IF(K20=7,"ALTO","EXTREMO")))) -> ALTO | M20: SI | N20: SUPERVISIÓN Y/O APOYO A LA SUPERVISIÓN DEL CONTRATO | O20: DESDE EL INICIO DE EJECUCIÓN | P20: HASTA LA FINALIZACION DE LA ETAPA DE EJECUCIÓN | Q20: SEGUIMIENTO A LOS CAMBIOS EN MATERIA DE ORDEN PUBLICO DURANTE LA EJECUCIÓN DEL CONTRATO | R20: DURANTE LA EJECUCIÓN DEL CONTRATO
B21: =+EVALUACION!B22 -> EJECUCIÓN | C21: =+EVALUACION!C22 -> DAÑO EN LOS BIENES PÚBLICOS | G21: EL CONTRATISTA DEBERÁ REPARAR O ENTREGAR EN EL TIEMPO ESTABLECIDO POR LA ENTIDAD EL MISMO BIEN OBJETO DE DAÑO. ASÍ MISMO, EL CONTRATISTA DEBE CONTAR CON PERSONAL IDÓNEO, LOS MEDIOS, ELEMENTOS NECESARIOS QUE GARANTICEN LA CORRECTA REALIZACIÓN DEL OBJETO CONTRACTUAL | I21: =+EVALUACION!I22 -> 2 | J21: =+EVALUACION!J22 -> 3 | K21: =+I21+J21 -> 5 | L21: =IF(K21<=4,"BAJO",IF(K21=5,"MEDIO",IF(K21=6,"ALTO",IF(K21=7,"ALTO","EXTREMO")))) -> MEDIO | M21: SI | N21: CONTRATISTA | O21: DESDE EL INICIO DE EJECUCIÓN | P21: HASTA LA FINALIZACION DE LA ETAPA DE EJECUCIÓN | Q21: MESAS DE TRABAJO Y REUNIONES DE SEGUIMIENTO | R21: DURANTE LA EJECUCIÓN DEL CONTRATO
B22: =+EVALUACION!B23 -> SELECCIÓN | C22: =+EVALUACION!C23 -> SELECCIÓN DE OFERTAS CON PRECIOS ARTIFICIALMENTE BAJOS. | G22: VERIFICACIÓN Y EVALUACIÓN DE ACUERDO CON LO ESTABLECIDO EN EL PLIEGO DE CONDICIONES DEFINITIVO DE QUE LAS OFERTAS ECONOMICAS NO PRESENTEN PRECIOS ARTIFICIALMENTE BAJOS Y/O ARGUMENTACION DE LA PRESENTACION DE PRECIOS ARTIFICIALMENTE BAJO DE CONFORMIDAD CON LO ESTABLECIDO POR LEY | I22: =+EVALUACION!I23 -> 2 | J22: =+EVALUACION!J23 -> 3 | K22: =+I22+J22 -> 5 | L22: =IF(K22<=4,"BAJO",IF(K22=5,"MEDIO",IF(K22=6,"ALTO",IF(K22=7,"ALTO","EXTREMO")))) -> MEDIO | M22: SI | N22: FDLCB | O22: DESDE LA PRESENTACIÓN DE OFERTAS | P22: HASTA LA SELECCIÓN DEL OFERENTE | Q22: MESAS DE TRABAJO, PROGRAMAS ANTES DE LA ADJUDICACION | R22: Durante toda la etapa precontractual y hasta la adjudicación
B23: =+EVALUACION!B24 -> SELECCIÓN | C23: =+EVALUACION!C24 -> CUANDO DURANTE EL DESARROLLO DEL PROCESO DE SELECCIÓN DEBA REVOCARSE EL MISMO POR NO SER CONVENIENTE SU ADJUDICACIÓN. | G23: REALIZAR UNA ADECUADA PLAANEACIÓN Y ESTRUCTURACIÓN DE LOS DOCUMENTOS PRECONTRACTUALES, PERMITIENDO QUE EL PROCESO CUMPLA CON LOS PRINCIPIOS PROPIOS DE LA CONTRATACIÓN ESTATAL Y PERMITAN UNA SELECCIÓN OBJETIVA | I23: =+EVALUACION!I24 -> 2 | J23: =+EVALUACION!J24 -> 3 | K23: =+I23+J23 -> 5 | L23: =IF(K23<=4,"BAJO",IF(K23=5,"MEDIO",IF(K23=6,"ALTO",IF(K23=7,"ALTO","EXTREMO")))) -> MEDIO | M23: NO | N23: FDLCB | O23: DESDE LA PRESENTACIÓN DE OFERTAS | P23: HASTA LA SELECCIÓN DEL OFERENTE | Q23: MESAS DE TRABAJO, PROGRAMAS ANTES DE LA ADJUDICACION | R23: Durante toda la etapa precontractual y hasta la adjudicación
B24: =+EVALUACION!B25 -> EJECUCIÓN | C24: =+EVALUACION!C25 -> DEMORAS EN LA ELABORACIÓN DE LOS DIAGNÓSTICOS POR PARTE DEL CONTRATISTA EN LA ETAPA PRELIMINAR. | G24: 1) DE ACUERDO CON LA NECESIDAD DE LA ENTIDAD, EL SUPERVISOR DEL CONTRATO Y EL CONTRATISTA REALIZARÁ LA REPROGRAMACIÓN DE LAS ACTIVIDADES DENTRO DE LOS TRES (3) DÍAS SIGUIENTES A LAS QUE INICIALMENTE SE TENÍAN ACORDADAS | I24: =+EVALUACION!I25 -> 3 | J24: =+EVALUACION!J25 -> 3 | K24: =+I24+J24 -> 6 | L24: =IF(K24<=4,"BAJO",IF(K24=5,"MEDIO",IF(K24=6,"ALTO",IF(K24=7,"ALTO","EXTREMO")))) -> ALTO | M24: SI | N24: CONTRATISTA / SUPERVISIÓN Y/O APOYO A LA SUPERVISIÓN DEL CONTRATO | O24: DESDE EL INICIO DE EJECUCIÓN | P24: HASTA LA FINALIZACION DE LA ETAPA DE EJECUCIÓN | Q24: MESAS DE TRABAJO Y REUNIONES DE SEGUIMIENTO | R24: DURANTE LA EJECUCIÓN DEL CONTRATO
B25: =+EVALUACION!B26 -> CONTRATACIÓN | C25: =+EVALUACION!C26 -> NO PUBLICACIÓN DE LA DOCUMENTACIÓN DEL PROCESO DE SELECCIÓN EN EL SECOP | G25: VERIFICAR LA PUBLICACIÓN DE TODOS LOS DOCUMENTOS QUE SE EXPIDAN EN DESARROLLO DEL PROCESO DE SELECCIÓN | I25: =+EVALUACION!I26 -> 2 | J25: =+EVALUACION!J26 -> 3 | K25: =+I25+J25 -> 5 | L25: =IF(K25<=4,"BAJO",IF(K25=5,"MEDIO",IF(K25=6,"ALTO",IF(K25=7,"ALTO","EXTREMO")))) -> MEDIO | M25: NO | N25: FDLCB | O25: DESDE LA ETAPA DE PLANEACIÓN | P25: HASTA LA ETAPA DE LIQUIDACIÓN | Q25: SEGUIMIENTO CONSTANTE A LA PUBLICACIÓN DE LOS DOCUMENTOS DEL PROCESO EN TODAS SUS ETAPAS | R25: DURANTE TODAS LAS ETAPAS DEL PROCESO
B26: =+EVALUACION!B27 -> SELECCIÓN | C26: =+EVALUACION!C27 -> CONFABULACION DE LOS PROPONENTES (COLUSIÓN) | G26: VERIFICANDO DETALLADAMENTE LAS PROPUESTAS PRESENTADAS DE MODO QUE SE PUEDA DETERMINAR SI PUEDEN EXISTIR INDICIOS DE COLUSIÓN ENTRE DOS O MÁS PROPONENTES PARA LA ADJUDICACIÓN DEL PROCESO | I26: =+EVALUACION!I27 -> 2 | J26: =+EVALUACION!J27 -> 3 | K26: =+I26+J26 -> 5 | L26: =IF(K26<=4,"BAJO",IF(K26=5,"MEDIO",IF(K26=6,"ALTO",IF(K26=7,"ALTO","EXTREMO")))) -> MEDIO | M26: NO | N26: FDLCB | O26: DESDE LA ETAPA DE PLANEACIÓN | P26: HASTA LA ADJUDICACIÓN DEL PROCESO | Q26: MESAS DE TRABAJO, PROGRAMAS ANTES DE LA ADJUDICACION | R26: Durante toda la etapa precontractual y hasta la adjudicación
B27: =+EVALUACION!B28 -> SELECCIÓN | C27: =+EVALUACION!C28 -> CONTESTACIÓN INOPORTUNA A TODAS LAS OBSERVACIONES FORMULADAS A LOS DOCUMENTOS DE LA CONTRATACIÓN | G27: LA ENTIDAD DEBERÁ RELIZAR UNA REVISIÓN INTEGRA DE LAS OBSERVACIONES PRESENTADAS POR LOS INTERESADOS U OFERENTES, GARANTIZANDO LA RESPUESTA DE CADA UNA DE ÉSTAS | I27: =+EVALUACION!I28 -> 2 | J27: =+EVALUACION!J28 -> 3 | K27: =+I27+J27 -> 5 | L27: =IF(K27<=4,"BAJO",IF(K27=5,"MEDIO",IF(K27=6,"ALTO",IF(K27=7,"ALTO","EXTREMO")))) -> MEDIO | M27: NO | N27: FDLCB | O27: DESDE LA ETAPA DE PLANEACIÓN | P27: HASTA LA ADJUDICACIÓN DEL PROCESO | Q27: MESAS DE TRABAJO, PROGRAMAS ANTES DE LA ADJUDICACION | R27: Durante toda la etapa precontractual y hasta la adjudicación
... B35: =+EVALUACION!B36 -> EJECUCIÓN | C35: =+EVALUACION!C36 -> DECISIONES ADMINISTRATIVAS POR PARTE DE AUTORIDADES COMPETENTES QUE PUEDAN AFECTAR LA PRESTACIÓN DEL SERVICIO TALES COMO: EXPEDICION DE NORMAS QUE AFECTEN LAS CONDICIONES PACTADAS EN EL CONTRATO , MEDIDAS RELACIONADAS CON SITUACIONES DE SALUD PÚBLICA, DESASTRES NATURALES, PROTESTA SOCIALY TODAS AQUELLAS QUE TENGAN LA CONNOTACION DE FUERZA MAYOR Y/O INTERES PUBLICO. | G35: POSIBILIDAD DE MODIFICAR LOS CRONOGRAMAS DE MUTUO ACUERDO | I35: =+EVALUACION!I36 -> 3 | J35: =+EVALUACION!J36 -> 4 | K35: =+I35+J35 -> 7 | L35: =IF(K35<=4,"BAJO",IF(K35=5,"MEDIO",IF(K35=6,"ALTO",IF(K35=7,"ALTO","EXTREMO")))) -> ALTO | M35: SI | N35: SUPERVISIÓN Y/O APOYO A LA SUPERVISIÓN DEL CONTRATO | O35: A PARTIR DE LA SUSCRIPCION DEL ACTA DE INICIO | P35: HASTA LA FINALIZACION DE LA ETAPA DE EJECUCIÓN | Q35: INSPECCIONES Y REVISIONES PERMANENTES A LA PROGRAMACION DE LOS SERVICIOS, SOLICITUD DE INFORMES DE SEGUIMIENTO A LA EJECUCION DE LABORES REALIZADAS | R35: DURANTE EJECUCION DEL CONTRATO
C37: Categoria del Riesgo | H37: Impacto del Riesgo
B38: Probabilidad | C38: Catagoria | F38: Valoración | H38: Categoria | J38: Valoración | N38: Categoria del Riesgo
C39: Raro (puede ocurrir excepcionalmente) | F39: 1 | H39: Insignificante | J39: 1 | N39: Valoración del Riesgo | P39: Categoría
C40: Improbable (puede ocurrir ocasionalmente) | F40: 2 | H40: Menor | J40: 2 | N40: 8, 9 y 10 | P40: Riesgo extremo
C41: Posible (puede ocurrir en cualquier momento futuro) | F41: 3 | H41: Moderado | J41: 3 | N41: 6 y 7 | P41: Riesgo alto
C42: Probable (probablemente va a ocurrir) | F42: 4 | H42: Mayor | J42: 4 | N42: 5 | P42: Riesgo medio
C43: Casi cierto (ocurre en la mayoria de circunstancias) | F43: 5 | H43: Catastrófico | J43: 5 | N43: 2, 3 y 4 | P43: Riesgo bajo
C45: Valoración del Riesgo
C46: Calificación Cualitativa | G46: Obstruye la ejecución del contrato de manera intrascendente. | I46: Dificulta la ejecución del contrato de manera baja, aplicando medidas mínimas se pueden lograr el objeto contractual | L46: Afecta la ejecución del contrato sin alterar el beneficio para las partes | N46: Obstruye la ejecución del contrato sustancialmente pero aun así permite la consecución del objeto contractual | P46: Perturba la ejecución del contrato de manera grave imposibilitando la consecución del objeto contractual.
C47: Calificación Monetaria | G47: Los sobrecostos no representan más del uno por ciento (1%) del valor del contrato. | I47: Los sobrecostos no representan más del cinco por ciento (5%) del valor del contrato. | L47: Genera un impacto sobre el valor del contrato entre el cinco (5%) y el quince por ciento (15%). | N47: Incrementa el valor del contrato entre el quince (15%) y el treinta por ciento (30%). | P47: Impacto sobre el valor del contrato en más del treinta por ciento (30%).
C48: Catagoria | F48: Valoración | G48: Insignificante | I48: Menor | L48: Moderado | N48: Mayor | P48: Catastrófico
G49: 1 | I49: 2 | L49: 3 | N49: 4 | P49: 5
C50: Raro (puede ocurrir excepcionalmente) | F50: 1 | G50: 2 | I50: 3 | L50: 4 | N50: 5 | P50: 6
C51: Improbable (puede ocurrir ocasionalmente) | F51: 2 | G51: 3 | I51: 4 | L51: 5 | N51: 6 | P51: 7
C52: Posible (puede ocurrir en cualquier momento futuro) | F52: 3 | G52: 4 | I52: 5 | L52: 6 | N52: 7 | P52: 8
C53: Probable (probablemente va a ocurrir) | F53: 4 | G53: 5 | I53: 6 | L53: 7 | N53: 8 | P53: 9
C54: Casi cierto (ocurre en la mayoria de circunstancias) | F54: 5 | G54: 6 | I54: 7 | L54: 8 | N54: 9 | P54: 10

Sheet ASIGNACION Y TRATAMIENTO
C2: MATRIZ DE RIESGOS DE CONTRATACIÓN | W2: Código: GCO-GCI-F164 Versión: 02 Vigencia: 01 de diciembre de 2022 Caso HOLA: 280117
B6: =+EVALUACION!B6 -> Objeto Contractual: REALIZAR LA INTERVENTORÍA TÉCNICA, ADMINISTRATIVA, FINANCIERA, ECONÓMICA, SOCIAL, JURÍDICA, AMBIENTAL, Y SST, DEL CONTRATO CUYO OBJETO ES: EJECUTAR A PRECIOS UNITARIOS Y A MONTO AGOTABLE LA ACTUALIZACIÓN Y/O COMPLEMENTACIÓN Y/O AJUSTES A LOS ESTUDIOS Y DISEÑOS, Y LAS OBRAS DE CONSTRUCCIÓN Y/O CONSERVACIÓN DE LAS VÍAS Y ESPACIO PÚBLICO ASOCIADO A LA INFRAESTRUCTURA DE TRANSPORTE DE LA LOCALIDAD DE CIUDAD BOLÍVAR
B7: Esta matriz es un documento anexo del Estudio Previo
B10: No | C10: Descripción (Que puede pasar y, cómo puede ocurrir) | D10: Etapa | E10: Clase | F10: Fuente | G10: Consecuencias de la ocurrencia del evento | H10: Probabilidad | I10: Impacto | J10: Calificación total | K10: Prioridad | L10: ¿A quien se le asigna? | M10: % | N10: Tratamiento/Controles a ser implementados | O10: Probabilidad | P10: Impacto | Q10: Calificación total | R10: Prioridad | S10: ¿Afecta el equilibrio económico del contrato? | T10: Persona responsable por implementar el tratamiento | U10: Fecha estimada en que se inicia el tratamiento | V10: Fecha estimada en que se completa el tratamiento | W10: ¿Cómo se realiza el monitoreo | X10: Periodicidad ¿Cuándo?
B11: 1 | C11: =+'EVALUACION CON CONTROLES'!C16:F16 -> INADECUADA ELABORACIÓN DE DOCUMENTOS PRECONTRACTUALES | D11: =+'EVALUACION CON CONTROLES'!B16 -> PLANEACIÓN | E11: GENERAL | F11: INTERNO | G11: =+EVALUACION!H17 -> SUBVALORACION O SOBREVALORACION DE LOS PRECIOS DEL MERCADO O DEL SECTOR ESTUDIADO. INAPLICACION DE LOS PRINCIPIOS DE SELECCIÓN OBJETIVA, ECONOMIA Y TRANSPARENCIA. | H11: =+EVALUACION!I17 -> 2 | I11: =+EVALUACION!J17 -> 3 | J11: =+EVALUACION!K17 -> 5 | K11: =+EVALUACION!L17 -> MEDIO | L11: FDLCB | M11: 1 | N11: =+'EVALUACION CON CONTROLES'!G16 -> ESTABLECER UN GRUPO MULTIDISCIPLINARIO ENTRE LAS ÁREAS TECNICA, Y JURIDICA PARA LA ELABORACION DEL ESTUDIO PREVIO Y ANÁLISIS DEL SECTOR | O11: =+'EVALUACION CON CONTROLES'!I16 -> 2 | P11: =+'EVALUACION CON CONTROLES'!J16 -> 3 | Q11: =+'EVALUACION CON CONTROLES'!K16 -> 5 | R11: =+'EVALUACION CON CONTROLES'!L16 -> MEDIO | S11: NO | T11: =+'EVALUACION CON CONTROLES'!N16 -> FDLCB | U11: =+'EVALUACION CON CONTROLES'!O16 -> DESDE LA ETAPA DE PLANEACIÓN | V11: =+'EVALUACION CON CONTROLES'!P16 -> HASTA LA ETAPA DE ADJUDICACIÓN | W11: =+'EVALUACION CON CONTROLES'!Q16 -> MESAS DE TRABAJO, PROGRAMAS ANTES DE LA ADJUDICACION | X11: =+'EVALUACION CON CONTROLES'!R16 -> Durante toda la etapa precontractual y hasta la adjudicación
B12: 2 | C12: =+'EVALUACION CON CONTROLES'!C17:F17 -> EXPEDICIÓN DE NORMAS GENERALES, ABSTRACTAS E IMPERSONALES, CON INCIDENCIA DIRECTA E INDIRECTA EN LA REGULACIÓN NEGOCIAL | D12: =+'EVALUACION CON CONTROLES'!B17 -> PLANEACIÓN | E12: GENERAL | F12: EXTERNO | G12: =+EVALUACION!H18 -> ACTOS GENERALES DE LA ADMINISTRACIÓN "HECHO DEL PRICNCIPE" | H12: =+EVALUACION!I18 -> 2 | I12: =+EVALUACION!J18 -> 3 | J12: =+EVALUACION!K18 -> 5 | K12: =+EVALUACION!L18 -> MEDIO | L12: FDCB / CONTRATISTA | M12: 50% - 50% | N12: =+'EVALUACION CON CONTROLES'!G17 -> HACER SEGUMIENTO A LAS NORMAS QUE PUEDAN AFECTAR LA EJECUCIÓN DEL CONTRATO EN LOS TÉMINOS PACTADOS Y EN CASO E AFECTACIÓN DEL PUNTO DE NO PÉRDIDA EFECTUAR LOS AJUSTES PRESUPUESTALES RESPECTIVOS | O12: =+'EVALUACION CON CONTROLES'!I17 -> 2 | P12: =+'EVALUACION CON CONTROLES'!J17 -> 3 | Q12: =+'EVALUACION CON CONTROLES'!K17 -> 5 | R12: =+'EVALUACION CON CONTROLES'!L17 -> MEDIO | S12: SI | T12: =+'EVALUACION CON CONTROLES'!N17 -> SUPERVISIÓN Y/O APOYO A LA SUPERVISIÓN DEL CONTRATO | U12: =+'EVALUACION CON CONTROLES'!O17 -> DESDE LA FIRMA DEL CONTRATO | V12: =+'EVALUACION CON CONTROLES'!P17 -> HASTA LA ETAPA DE ADJUDICACIÓN | W12: =+'EVALUACION CON CONTROLES'!Q17 -> SEGUIMIENTO A LOS CAMBIOS EN MATERIA JURÍDICA, PRESUPUESTAL, TRIBUTARIA Y EN GENERAL LAS QUE TENGAN INCIDENCIA EN EL CONTRATO | X12: =+'EVALUACION CON CONTROLES'!R17 -> Durante la ejecución del contrato
B13: 3 | C13: =+'EVALUACION CON CONTROLES'!C18:F18 -> EL NO PAGO DE SUS OBLIGACIONES RELACIONADAS CON LA SEGURIDAD SOCIAL INTEGRAL Y PARAFISCALES A LAS QUE SE ENCUENTRE OBLIGADO A PAGAR EL CONTRATISTA | D13: =+'EVALUACION CON CONTROLES'!B18 -> EJECUCIÓN | E13: ESPECIFICO | F13: EXTERNO | G13: =+EVALUACION!H19 -> SANCIONES POR LAS ENTIDADES COMPETENTES POR EL INCUMPLIMIENTO, RETRASO EN LA EJECUCIÓN DE LAS OBLIGACIONES CONTRACTUALES, | H13: =+EVALUACION!I19 -> 2 | I13: =+EVALUACION!J19 -> 3 | J13: =+EVALUACION!K19 -> 5 | K13: =+EVALUACION!L19 -> MEDIO | L13: CONTRATISTA | M13: 1 | N13: =+'EVALUACION CON CONTROLES'!G18 -> 1) DENTRO DE LAS OBLIGACIONES DEL CONTRATO QUEDA ESTIPULADO QUE DEBE CUMPLIR CON LOS PAGOS A SEGURIDAD SOCIAL INTEGRAL DE SUS EMPLEADOS Y PARAFISCALES (CUANDO HAYAN LUGAR A ELLO). 2) ASÍ MISMO, CADA VEZ QUE PRESENTEN LA FACTURA OSU EQUIVALENTE LA ENTIDAD DEBERÁ REVISAR QUE EL CONTRATISTA ACREDITA QUE SE ENCUENTRA A PAZ Y SALVO POR ESTOS CONCEPTOS DE ACUERDO CON LO SEÑALADO EN LAS NORMAS QUE REGULAN LA MATERIA Y EL CONTRATO. 3) EN CASO QUE SE EVIDENCIE INCUMPLIMIENTO DE ESTA OBLIGACIÓN LA ENTIDAD INFORMARÁ AL ENTE COMPETENTE PARA QUE REALICE LAS GESTIONES Y SANCIONES DEL CASO | O13: =+'EVALUACION CON CONTROLES'!I18 -> 2 | P13: =+'EVALUACION CON CONTROLES'!J18 -> 3 | Q13: =+'EVALUACION CON CONTROLES'!K18 -> 5 | R13: =+'EVALUACION CON CONTROLES'!L18 -> MEDIO | S13: SI | T13: =+'EVALUACION CON CONTROLES'!N18 -> SUPERVISIÓN Y/O APOYO A LA SUPERVISIÓN DEL CONTRATO | U13: =+'EVALUACION CON CONTROLES'!O18 -> DESDE LA FIRMA DEL CONTRATO | V13: =+'EVALUACION CON CONTROLES'!P18 -> HASTA LA ETAPA DE ADJUDICACIÓN | W13: =+'EVALUACION CON CONTROLES'!Q18 -> MESAS DE TRABAJO Y REUNIONES DE SEGUIMIENTO | X13: =+'EVALUACION CON CONTROLES'!R18 -> CADA VEZ QUE SE PRESENTE LA FACTURA O DOCUMENTO EQUIVALENTE PARA EL PAGO
B14: 4 | C14: =+'EVALUACION CON CONTROLES'!C19:F19 -> AUMENTO O DISMINUCIÓN EN LAS CANTIDADES ESTABLECIDAS EN LOS SERVICIOS SEÑALADOS EN LA FICHA TÉCNICA POR NECESIDADES DEL SERVICIO | D14: =+'EVALUACION CON CONTROLES'!B19 -> EJECUCIÓN | E14: ESPECIFICO | F14: INTERNO | G14: =+EVALUACION!H20 -> RETRASO EN LA EJECUCIÓN DE LAS OBLIGACIONES CONTRACTUALES, GENERANDO DEMORAS EN LA OPORTUNA RESPUESTA A LOS REQUERIMIENTOS DE LA ENTIDAD CONTRATANTE | H14: =+EVALUACION!I20 -> 2 | I14: =+EVALUACION!J20 -> 3 | J14: =+EVALUACION!K20 -> 5 | K14: =+EVALUACION!L20 -> MEDIO | L14: FDLCB / CONTRATISTA | M14: 50% - 50% | N14: =+'EVALUACION CON CONTROLES'!G19 -> EL CONTRATISTA DEBERÁ ESTRUCTURAR SU PROPUESTA TENIENDO EN CUENTA QUE EL CONTRATO SE EJECUTARÁ CONFORME A LOS VALORES UNITARIOS Y A LAS CANTIDADES REQUERIDAS POR EL CONTRATANTE QUE OBEDECEN A LAS NECESIDADES DEL SERVICIO.ASÍ MISMO, LA ENTIDAD PODRÁ ANALIZAR DE ACUERDO CON EL SERVICIO, EL AUMENTO DE LAS CANTIDADES EN OTROS ÍTEMS QUE SE REQUIERA PARA EL CUMPLIMIENTO DEL CONTRATO | O14: =+'EVALUACION CON CONTROLES'!I19 -> 2 | P14: =+'EVALUACION CON CONTROLES'!J19 -> 3 | Q14: =+'EVALUACION CON CONTROLES'!K19 -> 5 | R14: =+'EVALUACION CON CONTROLES'!L19 -> MEDIO | S14: SI | T14: =+'EVALUACION CON CONTROLES'!N19 -> SUPERVISIÓN Y/O APOYO A LA SUPERVISIÓN DEL CONTRATO | U14: =+'EVALUACION CON CONTROLES'!O19 -> DESDE EL INICIO DE EJECUCIÓN | V14: =+'EVALUACION CON CONTROLES'!P19 -> HASTA LA FINALIZACION DE LA ETAPA DE EJECUCIÓN | W14: =+'EVALUACION CON CONTROLES'!Q19 -> MESAS DE TRABAJO Y REUNIONES DE SEGUIMIENTO | X14: =+'EVALUACION CON CONTROLES'!R19 -> DURANTE LA EJECUCIÓN DEL CONTRATO
B15: 5 | C15: =+'EVALUACION CON CONTROLES'!C20:F20 -> SITUACIONES DE ORDEN PÚBLICO NO IMPUTABLES A LA RESPONSABILIDAD Y DILIGENCIA DEL CONTRATISTA (ASONADAS, HUELGAS, MANIFESTACIONES Y SEMEJANTES). | D15: =+'EVALUACION CON CONTROLES'!B20 -> EJECUCIÓN | E15: GENERAL | F15: EXTERNO | G15: =+EVALUACION!H21 -> FALLAS EN LA PRESTACIÓN DEL SERVICIO | H15: =+EVALUACION!I21 -> 3 | I15: =+EVALUACION!J21 -> 3 | J15: =+EVALUACION!K21 -> 6 | K15: =+EVALUACION!L21 -> ALTO | L15: FDLCB / CONTRATISTA | M15: 50% - 50% | N15: =+'EVALUACION CON CONTROLES'!G20 -> 1) DE ACUERDO CON LA NECESIDAD DE LA ENTIDAD, EL SUPERVISOR DEL CONTRATO Y EL CONTRATISTA REALIZARÁ LA REPROGRAMACIÓN DE LAS ACTIVIDADES DENTRO DE LOS TRES (3) DÍAS SIGUIENTES A LAS QUE INICIALMENTE SE TENÍAN ACORDADAS | O15: =+'EVALUACION CON CONTROLES'!I20 -> 3 | P15: =+'EVALUACION CON CONTROLES'!J20 -> 3 | Q15: =+'EVALUACION CON CONTROLES'!K20 -> 6 | R15: =+'EVALUACION CON CONTROLES'!L20 -> ALTO | S15: SI | T15: =+'EVALUACION CON CONTROLES'!N20 -> SUPERVISIÓN Y/O APOYO A LA SUPERVISIÓN DEL CONTRATO | U15: =+'EVALUACION CON CONTROLES'!O20 -> DESDE EL INICIO DE EJECUCIÓN | V15: =+'EVALUACION CON CONTROLES'!P20 -> HASTA LA FINALIZACION DE LA ETAPA DE EJECUCIÓN | W15: =+'EVALUACION CON CONTROLES'!Q20 -> SEGUIMIENTO A LOS CAMBIOS EN MATERIA DE ORDEN PUBLICO DURANTE LA EJECUCIÓN DEL CONTRATO | X15: =+'EVALUACION CON CONTROLES'!R20 -> DURANTE LA EJECUCIÓN DEL CONTRATO
B16: 6 | C16: =+'EVALUACION CON CONTROLES'!C21:F21 -> DAÑO EN LOS BIENES PÚBLICOS | D16: =+'EVALUACION CON CONTROLES'!B21 -> EJECUCIÓN | E16: ESPECIFICO | F16: EXTERNO | G16: =+EVALUACION!H22 -> DISMINUCIÓN EN SU PATRIMONIO Y AFECTACIONES EN LA REALIZACIÓN DE ACTIVIDADES OPERATIVAS Y MISIONALES DE LA ENTIDAD | H16: =+EVALUACION!I22 -> 2 | I16: =+EVALUACION!J22 -> 3 | J16: =+EVALUACION!K22 -> 5 | K16: =+EVALUACION!L22 -> MEDIO | L16: CONTRATISTA | M16: 1 | N16: =+'EVALUACION CON CONTROLES'!G21 -> EL CONTRATISTA DEBERÁ REPARAR O ENTREGAR EN EL TIEMPO ESTABLECIDO POR LA ENTIDAD EL MISMO BIEN OBJETO DE DAÑO. ASÍ MISMO, EL CONTRATISTA DEBE CONTAR CON PERSONAL IDÓNEO, LOS MEDIOS, ELEMENTOS NECESARIOS QUE GARANTICEN LA CORRECTA REALIZACIÓN DEL OBJETO CONTRACTUAL | O16: =+'EVALUACION CON CONTROLES'!I21 -> 2 | P16: =+'EVALUACION CON CONTROLES'!J21 -> 3 | Q16: =+'EVALUACION CON CONTROLES'!K21 -> 5 | R16: =+'EVALUACION CON CONTROLES'!L21 -> MEDIO | S16: SI | T16: =+'EVALUACION CON CONTROLES'!N21 -> CONTRATISTA | U16: =+'EVALUACION CON CONTROLES'!O21 -> DESDE EL INICIO DE EJECUCIÓN | V16: =+'EVALUACION CON CONTROLES'!P21 -> HASTA LA FINALIZACION DE LA ETAPA DE EJECUCIÓN | W16: =+'EVALUACION CON CONTROLES'!Q21 -> MESAS DE TRABAJO Y REUNIONES DE SEGUIMIENTO | X16: =+'EVALUACION CON CONTROLES'!R21 -> DURANTE LA EJECUCIÓN DEL CONTRATO
B17: 7 | C17: =+'EVALUACION CON CONTROLES'!C22:F22 -> SELECCIÓN DE OFERTAS CON PRECIOS ARTIFICIALMENTE BAJOS. | D17: =+'EVALUACION CON CONTROLES'!B22 -> SELECCIÓN | E17: GENERAL | F17: EXTERNO | G17: =+EVALUACION!H23 -> PRODUCTOS DE MALA CALIDAD | H17: =+EVALUACION!I23 -> 2 | I17: =+EVALUACION!J23 -> 3 | J17: =+EVALUACION!K23 -> 5 | K17: =+EVALUACION!L23 -> MEDIO | L17: FDLCB | M17: 1 | N17: =+'EVALUACION CON CONTROLES'!G22 -> VERIFICACIÓN Y EVALUACIÓN DE ACUERDO CON LO ESTABLECIDO EN EL PLIEGO DE CONDICIONES DEFINITIVO DE QUE LAS OFERTAS ECONOMICAS NO PRESENTEN PRECIOS ARTIFICIALMENTE BAJOS Y/O ARGUMENTACION DE LA PRESENTACION DE PRECIOS ARTIFICIALMENTE BAJO DE CONFORMIDAD CON LO ESTABLECIDO POR LEY | O17: =+'EVALUACION CON CONTROLES'!I22 -> 2 | P17: =+'EVALUACION CON CONTROLES'!J22 -> 3 | Q17: =+'EVALUACION CON CONTROLES'!K22 -> 5 | R17: =+'EVALUACION CON CONTROLES'!L22 -> MEDIO | S17: SI | T17: =+'EVALUACION CON CONTROLES'!N22 -> FDLCB | U17: =+'EVALUACION CON CONTROLES'!O22 -> DESDE LA PRESENTACIÓN DE OFERTAS | V17: =+'EVALUACION CON CONTROLES'!P22 -> HASTA LA SELECCIÓN DEL OFERENTE | W17: =+'EVALUACION CON CONTROLES'!Q22 -> MESAS DE TRABAJO, PROGRAMAS ANTES DE LA ADJUDICACION | X17: =+'EVALUACION CON CONTROLES'!R22 -> Durante toda la etapa precontractual y hasta la adjudicación
B18: 8 | C18: =+'EVALUACION CON CONTROLES'!C23:F23 -> CUANDO DURANTE EL DESARROLLO DEL PROCESO DE SELECCIÓN DEBA REVOCARSE EL MISMO POR NO SER CONVENIENTE SU ADJUDICACIÓN. | D18: =+'EVALUACION CON CONTROLES'!B23 -> SELECCIÓN | E18: GENERAL | F18: EXTERNO | G18: =+EVALUACION!H24 -> INICIO DE UN NUEVO PROCESO DE CONTRATACIÓN | H18: =+EVALUACION!I24 -> 2 | I18: =+EVALUACION!J24 -> 3 | J18: =+EVALUACION!K24 -> 5 | K18: =+EVALUACION!L24 -> MEDIO | L18: FDLCB | M18: 1 | N18: =+'EVALUACION CON CONTROLES'!G23 -> REALIZAR UNA ADECUADA PLAANEACIÓN Y ESTRUCTURACIÓN DE LOS DOCUMENTOS PRECONTRACTUALES, PERMITIENDO QUE EL PROCESO CUMPLA CON LOS PRINCIPIOS PROPIOS DE LA CONTRATACIÓN ESTATAL Y PERMITAN UNA SELECCIÓN OBJETIVA | O18: =+'EVALUACION CON CONTROLES'!I23 -> 2 | P18: =+'EVALUACION CON CONTROLES'!J23 -> 3 | Q18: =+'EVALUACION CON CONTROLES'!K23 -> 5 | R18: =+'EVALUACION CON CONTROLES'!L23 -> MEDIO | S18: NO | T18: =+'EVALUACION CON CONTROLES'!N23 -> FDLCB | U18: =+'EVALUACION CON CONTROLES'!O23 -> DESDE LA PRESENTACIÓN DE OFERTAS | V18: =+'EVALUACION CON CONTROLES'!P23 -> HASTA LA SELECCIÓN DEL OFERENTE | W18: =+'EVALUACION CON CONTROLES'!Q23 -> MESAS DE TRABAJO, PROGRAMAS ANTES DE LA ADJUDICACION | X18: =+'EVALUACION CON CONTROLES'!R23 -> Durante toda la etapa precontractual y hasta la adjudicación
B19: 9 | C19: =+'EVALUACION CON CONTROLES'!C24:F24 -> DEMORAS EN LA ELABORACIÓN DE LOS DIAGNÓSTICOS POR PARTE DEL CONTRATISTA EN LA ETAPA PRELIMINAR. | D19: =+'EVALUACION CON CONTROLES'!B24 -> EJECUCIÓN | E19: ESPECIFICO | F19: EXTERNO | G19: =+EVALUACION!H25 -> RETRASOS EN LA EJECUCIÓN DE LA OBRA Y EL CUMPLIMIENTO DELPLAZO CONTRACTUAL | H19: =+EVALUACION!I25 -> 3 | I19: =+EVALUACION!J25 -> 3 | J19: =+EVALUACION!K25 -> 6 | K19: =+EVALUACION!L25 -> ALTO | L19: CONTRATISTA | M19: 1 | N19: =+'EVALUACION CON CONTROLES'!G24 -> 1) DE ACUERDO CON LA NECESIDAD DE LA ENTIDAD, EL SUPERVISOR DEL CONTRATO Y EL CONTRATISTA REALIZARÁ LA REPROGRAMACIÓN DE LAS ACTIVIDADES DENTRO DE LOS TRES (3) DÍAS SIGUIENTES A LAS QUE INICIALMENTE SE TENÍAN ACORDADAS | O19: =+'EVALUACION CON CONTROLES'!I24 -> 3 | P19: =+'EVALUACION CON CONTROLES'!J24 -> 3 | Q19: =+'EVALUACION CON CONTROLES'!K24 -> 6 | R19: =+'EVALUACION CON CONTROLES'!L24 -> ALTO | S19: SI | T19: =+'EVALUACION CON CONTROLES'!N24 -> CONTRATISTA / SUPERVISIÓN Y/O APOYO A LA SUPERVISIÓN DEL CONTRATO | U19: =+'EVALUACION CON CONTROLES'!O24 -> DESDE EL INICIO DE EJECUCIÓN | V19: =+'EVALUACION CON CONTROLES'!P24 -> HASTA LA FINALIZACION DE LA ETAPA DE EJECUCIÓN | W19: =+'EVALUACION CON CONTROLES'!Q24 -> MESAS DE TRABAJO Y REUNIONES DE SEGUIMIENTO | X19: =+'EVALUACION CON CONTROLES'!R24 -> DURANTE LA EJECUCIÓN DEL CONTRATO
B20: 10 | C20: =+'EVALUACION CON CONTROLES'!C25:F25 -> NO PUBLICACIÓN DE LA DOCUMENTACIÓN DEL PROCESO DE SELECCIÓN EN EL SECOP | D20: =+'EVALUACION CON CONTROLES'!B25 -> CONTRATACIÓN | E20: GENERAL | F20: INTERNO | G20: =+EVALUACION!H26 -> POSIBLE VULNERACIÓN AL PRINCIPIO DE PUBLICIDAD, SELECCIÓN OBJETIVA O ADJUDICACIÓN | H20: =+EVALUACION!I26 -> 2 | I20: =+EVALUACION!J26 -> 3 | J20: =+EVALUACION!K26 -> 5 | K20: =+EVALUACION!L26 -> MEDIO | L20: FDLCB / CONTRATISTA | M20: 50% - 50% | N20: =+'EVALUACION CON CONTROLES'!G25 -> VERIFICAR LA PUBLICACIÓN DE TODOS LOS DOCUMENTOS QUE SE EXPIDAN EN DESARROLLO DEL PROCESO DE SELECCIÓN | O20: =+'EVALUACION CON CONTROLES'!I25 -> 2 | P20: =+'EVALUACION CON CONTROLES'!J25 -> 3 | Q20: =+'EVALUACION CON CONTROLES'!K25 -> 5 | R20: =+'EVALUACION CON CONTROLES'!L25 -> MEDIO | S20: NO | T20: =+'EVALUACION CON CONTROLES'!N25 -> FDLCB | U20: =+'EVALUACION CON CONTROLES'!O25 -> DESDE LA ETAPA DE PLANEACIÓN | V20: =+'EVALUACION CON CONTROLES'!P25 -> HASTA LA ETAPA DE LIQUIDACIÓN | W20: =+'EVALUACION CON CONTROLES'!Q25 -> SEGUIMIENTO CONSTANTE A LA PUBLICACIÓN DE LOS DOCUMENTOS DEL PROCESO EN TODAS SUS ETAPAS | X20: =+'EVALUACION CON CONTROLES'!R25 -> DURANTE TODAS LAS ETAPAS DEL PROCESO
B21: 11 | C21: =+'EVALUACION CON CONTROLES'!C26:F26 -> CONFABULACION DE LOS PROPONENTES (COLUSIÓN) | D21: =+'EVALUACION CON CONTROLES'!B26 -> SELECCIÓN | E21: GENERAL | F21: EXTERNO | G21: =+EVALUACION!H27 -> VULNERACIÓN DEL PRINCIPIO DE SELECCIÓN OBJETIVA Y ADJUDICACIÓN DEL PROCESO DE SELECCIÓN POR MEDIOS ILEGALES | H21: =+EVALUACION!I27 -> 2 | I21: =+EVALUACION!J27 -> 3 | J21: =+EVALUACION!K27 -> 5 | K21: =+EVALUACION!L27 -> MEDIO | L21: PROPONENTES | M21: 1 | N21: =+'EVALUACION CON CONTROLES'!G26 -> VERIFICANDO DETALLADAMENTE LAS PROPUESTAS PRESENTADAS DE MODO QUE SE PUEDA DETERMINAR SI PUEDEN EXISTIR INDICIOS DE COLUSIÓN ENTRE DOS O MÁS PROPONENTES PARA LA ADJUDICACIÓN DEL PROCESO | O21: =+'EVALUACION CON CONTROLES'!I26 -> 2 | P21: =+'EVALUACION CON CONTROLES'!J26 -> 3 | Q21: =+'EVALUACION CON CONTROLES'!K26 -> 5 | R21: =+'EVALUACION CON CONTROLES'!L26 -> MEDIO | S21: NO | T21: =+'EVALUACION CON CONTROLES'!N26 -> FDLCB | U21: =+'EVALUACION CON CONTROLES'!O26 -> DESDE LA ETAPA DE PLANEACIÓN | V21: =+'EVALUACION CON CONTROLES'!P26 -> HASTA LA ADJUDICACIÓN DEL PROCESO | W21: =+'EVALUACION CON CONTROLES'!Q26 -> MESAS DE TRABAJO, PROGRAMAS ANTES DE LA ADJUDICACION | X21: =+'EVALUACION CON CONTROLES'!R26 -> Durante toda la etapa precontractual y hasta la adjudicación
B22: 12 | C22: =+'EVALUACION CON CONTROLES'!C27:F27 -> CONTESTACIÓN INOPORTUNA A TODAS LAS OBSERVACIONES FORMULADAS A LOS DOCUMENTOS DE LA CONTRATACIÓN | D22: =+'EVALUACION CON CONTROLES'!B27 -> SELECCIÓN | E22: GENERAL | F22: INTERNO | G22: =+EVALUACION!H28 -> POSIBLE REVOCATORIA DEL ACTO DE APERTURA DEL PROCESO DE SELECCIÓN O DECLARATORIA DE DESIERTA DEL PROCESO DE SELECCIÓN, POR CAMBIOS SUSTANCIALES EN LAS CONDICIONES TÉCNICAS, FINANCIERAS Y JURÍDICAS QUE INCIDAN EN LA ESCOGENCIA DEL CONTRATISTA O EN LA EJECUCIÓN DEL CONTRATO | H22: =+EVALUACION!I28 -> 2 | I22: =+EVALUACION!J28 -> 3 | J22: =+EVALUACION!K28 -> 5 | K22: =+EVALUACION!L28 -> MEDIO | L22: FDLCB | M22: 1 | N22: =+'EVALUACION CON CONTROLES'!G27 -> LA ENTIDAD DEBERÁ RELIZAR UNA REVISIÓN INTEGRA DE LAS OBSERVACIONES PRESENTADAS POR LOS INTERESADOS U OFERENTES, GARANTIZANDO LA RESPUESTA DE CADA UNA DE ÉSTAS | O22: =+'EVALUACION CON CONTROLES'!I27 -> 2 | P22: =+'EVALUACION CON CONTROLES'!J27 -> 3 | Q22: =+'EVALUACION CON CONTROLES'!K27 -> 5 | R22: =+'EVALUACION CON CONTROLES'!L27 -> MEDIO | S22: NO | T22: =+'EVALUACION CON CONTROLES'!N27 -> FDLCB | U22: =+'EVALUACION CON CONTROLES'!O27 -> DESDE LA ETAPA DE PLANEACIÓN | V22: =+'EVALUACION CON CONTROLES'!P27 -> HASTA LA ADJUDICACIÓN DEL PROCESO | W22: =+'EVALUACION CON CONTROLES'!Q27 -> MESAS DE TRABAJO, PROGRAMAS ANTES DE LA ADJUDICACION | X22: =+'EVALUACION CON CONTROLES'!R27 -> Durante toda la etapa precontractual y hasta la adjudicación
B23: 13 | C23: =+'EVALUACION CON CONTROLES'!C28:F28 -> INCUMPLIMIENTO RESPECTO DE LOS HITOS DEL CRONOGRAMA | D23: =+'EVALUACION CON CONTROLES'!B28 -> EJECUCIÓN | E23: ESPECIFICO | F23: EXTERNO | G23: =+EVALUACION!H29 -> CONTITUCION DE RESERVAS PRESUPUESTALES AFECTACION EN LOS INDICAADORES DE EJECUCIÓN PRESUESTAL DE LA ENTIDAD . | H23: =+EVALUACION!I29 -> 2 | I23: =+EVALUACION!J29 -> 4 | J23: =+EVALUACION!K29 -> 6 | K23: =+EVALUACION!L29 -> ALTO | L23: CONTRATISTA | M23: 1 | N23: =+'EVALUACION CON CONTROLES'!G28 -> 1) DE ACUERDO CON LA NECESIDAD DE LA ENTIDAD, EL SUPERVISOR DEL CONTRATO Y EL CONTRATISTA REALIZARÁ LA REPROGRAMACIÓN DE LAS ACTIVIDADES DENTRO DE LOS TRES (3) DÍAS SIGUIENTES A LAS QUE INICIALMENTE SE TENÍAN ACORDADAS | O23: =+'EVALUACION CON CONTROLES'!I28 -> 2 | P23: =+'EVALUACION CON CONTROLES'!J28 -> 4 | Q23: =+'EVALUACION CON CONTROLES'!K28 -> 6 | R23: =+'EVALUACION CON CONTROLES'!L28 -> ALTO | S23: SI | T23: =+'EVALUACION CON CONTROLES'!N28 -> CONTRATISTA | U23: =+'EVALUACION CON CONTROLES'!O28 -> DESDE EL INICIO DE EJECUCIÓN | V23: =+'EVALUACION CON CONTROLES'!P28 -> HASTA LA FINALIZACION DE LA ETAPA DE EJECUCIÓN | W23: =+'EVALUACION CON CONTROLES'!Q28 -> MESAS DE TRABAJO Y REUNIONES DE SEGUIMIENTO | X23: =+'EVALUACION CON CONTROLES'!R28 -> DURANTE LA EJECUCIÓN DEL CONTRATO
B24: 14 | C24: =+'EVALUACION CON CONTROLES'!C29:F29 -> INCUMPLIMIENTO DE COMPROMISOS ADQUIRIDOS POR EL CONTRATISTA SELECCIONADO CON SUS SUBCONTRATISTAS, SUMINISTRADORES DE BIENES Y SERVICIOS. | D24: =+'EVALUACION CON CONTROLES'!B29 -> EJECUCIÓN | E24: ESPECIFICO | F24: EXTERNO | G24: =+EVALUACION!H30 -> AFECTAR LA EJECUCIÓN DEL CONTRATO POR FALTA DE RECURSOS, ATRASO DE CRONOGRAMAS, PAGO A PERSONAL, DISPONIBILIDAD DE MATERIALES Y EQUIPOS, PAGO A SUBCONTRATISTAS | H24: =+EVALUACION!I30 -> 2 | I24: =+EVALUACION!J30 -> 3 | J24: =+EVALUACION!K30 -> 5 | K24: =+EVALUACION!L30 -> MEDIO | L24: CONTRATISTA | M24: 1 | N24: =+'EVALUACION CON CONTROLES'!G29 -> PAGAR EN LA FORMA Y TÉRMINO SUS OBLIGACIONES LABORARES | O24: =+'EVALUACION CON CONTROLES'!I29 -> 2 | P24: =+'EVALUACION CON CONTROLES'!J29 -> 3 | Q24: =+'EVALUACION CON CONTROLES'!K29 -> 5 | R24: =+'EVALUACION CON CONTROLES'!L29 -> MEDIO | S24: SI | T24: =+'EVALUACION CON CONTROLES'!N29 -> CONTRATISTA | U24: =+'EVALUACION CON CONTROLES'!O29 -> DESDE EL INICIO DE EJECUCIÓN | V24: =+'EVALUACION CON CONTROLES'!P29 -> HASTA LA ETAPA DE LIQUIDACIÓN | W24: =+'EVALUACION CON CONTROLES'!Q29 -> MESAS DE TRABAJO Y REUNIONES DE SEGUIMIENTO | X24: =+'EVALUACION CON CONTROLES'!R29 -> DURANTE LA EJECUCIÓN DEL CONTRATO HASTA LA LIQUIDACIÓN
B25: 15 | C25: =+'EVALUACION CON CONTROLES'!C30:F30 -> INCUMPLIMIENTO DE LA ADMINISTRACIÓN EN LOS PAGOS. | D25: =+'EVALUACION CON CONTROLES'!B30 -> EJECUCIÓN | E25: ESPECIFICO | F25: EXTERNO | G25: =+EVALUACION!H31 -> PÉRDIDA DE LIQUIDEZ POR PARTE DEL CONTRATISTA | H25: =+EVALUACION!I31 -> 2 | I25: =+EVALUACION!J31 -> 4 | J25: =+EVALUACION!K31 -> 6 | K25: =+EVALUACION!L31 -> ALTO | L25: FDLCB / CONTRATISTA | M25: 50% - 50% | N25: =+'EVALUACION CON CONTROLES'!G30 -> TENER PRESENTA AL MOMENTO DE PRESENTAR LAS CUENTAS DE PARA PAGO, QUE CUMPLAN CON LOS DOCUMENTOS Y TRÁMITES ESTABLECIDOS EN EL CONTRATO | O25: =+'EVALUACION CON CONTROLES'!I30 -> 2 | P25: =+'EVALUACION CON CONTROLES'!J30 -> 4 | Q25: =+'EVALUACION CON CONTROLES'!K30 -> 6 | R25: =+'EVALUACION CON CONTROLES'!L30 -> ALTO | S25: SI | T25: =+'EVALUACION CON CONTROLES'!N30 -> CONTRATISTA / SUPERVISIÓN Y/O APOYO A LA SUPERVISIÓN DEL CONTRATO | U25: =+'EVALUACION CON CONTROLES'!O30 -> DESDE EL INICIO DE EJECUCIÓN | V25: =+'EVALUACION CON CONTROLES'!P30 -> HASTA LA ETAPA DE LIQUIDACIÓN | W25: =+'EVALUACION CON CONTROLES'!Q30 -> MESAS DE TRABAJO Y REUNIONES DE SEGUIMIENTO Y VERIFICACIÓN DE LA DOCUMENTACIÓN CORRECTA PRESENTADA POR EL CONTRATISTA PARA EL PAGO | X25: =+'EVALUACION CON CONTROLES'!R30 -> DURANTE LA EJECUCIÓN DEL CONTRATO HASTA LA LIQUIDACIÓN
B26: 16 | C26: =+'EVALUACION CON CONTROLES'!C31:F31 -> LA NO PRESENTACIÓN DEL EQUIPO DE TRABAJO IDÓNEO DE ACUERDO A LO OFERTADO EN LA PROPUESTA PRESENTADA | D26: =+'EVALUACION CON CONTROLES'!B31 -> EJECUCIÓN | E26: ESPECIFICO | F26: EXTERNO | G26: =+EVALUACION!H32 -> RETRASOS EN LA EJECUCIÓN DE LA OBRA Y EL CUMPLIMIENTO DELPLAZO CONTRACTUAL | H26: =+EVALUACION!I32 -> 2 | I26: =+EVALUACION!J32 -> 3 | J26: =+EVALUACION!K32 -> 5 | K26: =+EVALUACION!L32 -> MEDIO | L26: CONTRATISTA | M26: 1 | N26: =+'EVALUACION CON CONTROLES'!G31 -> EL CONTRATISTA DEBERÁ ENTREGAR DENTRO DEL TÉRMINO ESTABLECIDO EL EQUIPO DE TRABAJO OFRECIDO Y LA DOCUMENTACIÓN EXIGIDA CON EL FIN DE HACER LA REVISIÓN Y APRBACIÓN POR LAS PERSONAS DESIGNADAS EN LA ENTIDAD PARA ELLO | O26: =+'EVALUACION CON CONTROLES'!I31 -> 2 | P26: =+'EVALUACION CON CONTROLES'!J31 -> 3 | Q26: =+'EVALUACION CON CONTROLES'!K31 -> 5 | R26: =+'EVALUACION CON CONTROLES'!L31 -> MEDIO | S26: SI | T26: =+'EVALUACION CON CONTROLES'!N31 -> CONTRATISTA | U26: =+'EVALUACION CON CONTROLES'!O31 -> DESDE EL INICIO DE EJECUCIÓN | V26: =+'EVALUACION CON CONTROLES'!P31 -> HASTA LA FINALIZACION DE LA ETAPA DE EJECUCIÓN | W26: =+'EVALUACION CON CONTROLES'!Q31 -> MESAS DE TRABAJO Y REUNIONES DE SEGUIMIENTO | X26: =+'EVALUACION CON CONTROLES'!R31 -> DURANTE LA EJECUCIÓN DEL CONTRATO
B27: 17 | C27: =+'EVALUACION CON CONTROLES'!C32:F32 -> MAYORES TIEMPOS DE EJECUCIÓN DE INTERENTORÍA DEBIDO A RETRASOS EN LA EJECUCIÓN O DESARROLLO DE LA OBRA | D27: =+'EVALUACION CON CONTROLES'!B32 -> EJECUCIÓN | E27: ESPECIFICO | F27: EXTERNO | G27: =+EVALUACION!H33 -> RETRASO EN LA EJECUCION DEL CRONOGRMA | H27: =+EVALUACION!I33 -> 2 | I27: =+EVALUACION!J33 -> 4 | J27: =+EVALUACION!K33 -> 6 | K27: =+EVALUACION!L33 -> ALTO | L27: CONTRATISTA | M27: 1 | N27: =+'EVALUACION CON CONTROLES'!G32 -> PLANEACIÓN PREVIA DE LAS ACTIVIDADES DE LA INTERVENTORÍA SEGUIMIENTO AL CUMPLIMIENTO DEL CRONOGRAMA DEFINIDO Y GENERAR ALERTAS CUANDO SE EVIDENCIEN ATRASOS | O27: =+'EVALUACION CON CONTROLES'!I32 -> 2 | P27: =+'EVALUACION CON CONTROLES'!J32 -> 4 | Q27: =+'EVALUACION CON CONTROLES'!K32 -> 6 | R27: =+'EVALUACION CON CONTROLES'!L32 -> ALTO | S27: SI | T27: =+'EVALUACION CON CONTROLES'!N32 -> CONTRATISTA / SUPERVISIÓN Y/O APOYO A LA SUPERVISIÓN DEL CONTRATO | U27: =+'EVALUACION CON CONTROLES'!O32 -> DESDE EL INICIO DE EJECUCIÓN | V27: =+'EVALUACION CON CONTROLES'!P32 -> HASTA LA FINALIZACION DE LA ETAPA DE EJECUCIÓN | W27: =+'EVALUACION CON CONTROLES'!Q32 -> MESAS DE TRABAJO Y REUNIONES DE SEGUIMIENTO | X27: =+'EVALUACION CON CONTROLES'!R32 -> DURANTE LA EJECUCIÓN DEL CONTRATO
