Workbook

Sheet GRUPO 1 OPERATORIA
F9: COTIZACION CO-25-DIFSA-DISAN-ARC-2026
A11: FECHA: | D11: Junio 27 de 2026
A12: EMPRESA: | D12: DENTAL NADER S.A.S
A13: REPRESENTANTE LEGAL: | D13: Ligia Garzon Bustos
A14: NIT: | D14: 900.486.577-8
A15: DIRECCION: | D15: Carrera 47 # 123 A -09
A16: TELEFONOS Y FAX: | D16: 6199095- Celular 318-5028699
A17: E-MAIL: | D17: licitaciones@dentalnader.com
A18: VIGENCIA COTIZACION: | D18: 60 dias
A20: Atendiendo su amable solicitud me permito presentar la cotizacion asi:
A23: “ESPECIFICACIONES TÉCNICAS MÍNIMAS DE OBLIGATORIO CUMPLIMIENTO PARA CONTRATAR”
B25: ITEM | C25: CODIGO SAP | D25: CODIGO | E25: DESCRIPCIÓN | F25: ESPECIFICACIÓN TÉCNICA | G25: PRESENTACIÓN | H25: OFERTA
H26: VALOR UNITARIO | I26: IVA | J26: VALOR TOTAL INCLUIDO IVA
B27: 1 | C27: 2500060 | D27: 42151669 | E27: ÁCIDO FOSFÓRICO AL 35% al 37% | F27: AGENTE GRABADOR PARA ESMALTE Y DENTINA. GEL FÁCILMENTE CONTROLABLE QUE FLUYE SEGÚN LA DIRECCIÓN DE LA APLICACIÓN, NO POR LA GRAVEDAD. CREA MICROPOROS EN LA SUPERFICIE DEL ESMALTE Y REMUEVE LA CAPA DE SARRO DENTINARIO DESBLOQUEANDO LOS TÚBULOS. ES VITAL PARA LA RETENCIÓN MECÁNICA DE LA RESTAURACIÓN. NO INTERFIERE CON LA ADHESIÓN GEL TIXOTRÓPICO | G27: JERINGA 12 GRAMOS | H27: 52000 | I27: 0 | J27: =+H27+I27 -> 52000
B28: 2 | C28: 2504362 | D28: 42152443 | E28: ADHESIVO RESINA COMPUESTA UNIVERSAL | F28: ADHESIVO UNIVERSAL FOTOPOLIMERIZABLE A BASE DE ETANOL O A BASE DE AGUA Y ETANOL. VISCOSIDAD ÓPTIMA. PARA LA ADHESIÓN INDIRECTA Y DIRECTA. PROPORCIONA ALTAS FUERZAS DE ADHESIÓN EN ESMALTE Y DENTINA Y MAYOR ESTABILIDAD FRENTE A LA HUMEDAD PROPORCIONADA. PARA ADHESIÓN QUÍMICA A ZIRCONIO, METAL, RESINA, CERÁMICA | G28: FRASCO 4 a 6 ml | H28: 230000 | I28: 0 | J28: =+H28+I28 -> 230000
B29: 3 | C29: 2501145 | D29: 42152424 | E29: CEMENTO IONOMERO DE VIDRIO CEMENTANTE | F29: POLIALQUENOATO DE VIDRIO CONVENCIONAL TIPO I RADIOPACO, PARTICULA GRANULADA DE CONSISTENCIA CREMOSA Y SUAVE, FACIL MEZCLA Y MANEJO, CON LIBERACIÓN DE FLUOR. SOLUBILIDAD INFERIOR AL 0,1 %, ADHESIÓN QUÍMICA, BIOCOMPATIBLE, MINIMO ESPESOR DE VCAPA, INDICADO PARA CEMENTAR INCRUSTACIONES INLAYS Y ONLAYS METÁLICOS, CORONAS Y PUENTES METAL-CERÁMICOS, BANDAS DE ORTODONCIA, QUE NO PERMITA LA FILTRACIÓN Y SEA RESISTENTYE A LA TRACCIÓN Y COMPRESIÓN. | G29: KIT (FCO POLVO X 15 GR. Y FCO LÍQUIDO ENTRE 6 ML) | H29: 200000 | I29: 0 | J29: =+H29+I29 -> 200000
B30: 4 | C30: 2502001 | D30: 42152424 | E30: CEMENTO IONOMERO DE VIDRIO LINER CAVITARIO | F30: LINER O FORRO CAVITARIO INDICACIONES RECUBRIMIENTO PULPAR INDIRECTO, LIBERACION SOSTENIDA DE FLUOR, BIOCOMPATIBLE NO REQUIERE PRETRATAMIENTO DE LA DENTINA, ALTA ADHERENCIA A LA DENTINA CON ACIDO POLIALQUENOICO PARA LA BAJA SENSIBILIDAD POST-OPERATORIA AYUDA A REDUCIR EFECTO DE CONTRACCION DE POLIMETIZACION FOTOCURADO DISPENSACION PASTA LIQUIDO | G30: CLICKER O DISPENSADOR 10 GR | H30: 500000 | I30: 0 | J30: =+H30+I30 -> 500000 | K30: SE AJUSTE EL VALOR
B31: 5 | C31: 2502001 | D31: 42152424 | E31: CEMENTO IONOMERO DE VIDRIO BASE INTERMEDIA Y RECONSTRUCTOR | F31: IONOMERO DE VIDRIO MODIFICADO CON RESINA MULTIPRPÓSITO. MÓDULO DE ELASTICIDAD SIMILAR A LA DENTINA LO QUE LO HACE EL SUSTITUTO DENTINAL IDEAL. TIPO II: DE TRIPLE CURADO MICROENCAPSULADO QUE PERMITE COLOCACION EN BLOQUE. INSOLUBILIDAD POR SU COPOLIMERO DE ACIDO POLICARBOXILICO MODIFICADO EN GRUPOS METACRILATOS, ALTA RESISTENCIA A LA FRACTURA , RADIOPACO | G31: FCO POLVO X 5 GR/ LIQUIDO 2.5 ML / PRIMER 2 ML | H31: 400000 | I31: 0 | J31: =+H31+I31 -> 400000
B32: 6 | C32: 2502001 | D32: 42152424 | E32: CEMENTO IONOMERO DE VIDRIO BASE INTERMEDIA Y RECONSTRUCTOR (A1, A2, A3) | F32: IONOMERO DE VIDRIO RESTAURADOR FOTOPOLIMERIZABLE MODIFICADO CON RESINA, CON NANORELLENO ADHESIVA, ACIDO POLIALQUENOICO MODIFICADO CON METACRILIADO, NANORELLENO DE 5NM A 25NM. MULTIPROPOSITO RECONSTRUCTOR, BASE INTERMEDIA, CARGA DE 69% RESISTENTE | G32: DISPENSADOR PASTA-PASTA CLICKER 12G | H32: 300000 | I32: 0 | J32: =+H32+I32 -> 300000
B33: 7 | C33: 2501631 | D33: 42151810 | E33: CEPILLOS PARA PULIR RESINAS | F33: CEPILLOS CON FIBRAS IMPREGNADAS DE CARBURO DE SILICIO PARA PULIR/BRILLAR RESTAURACIONES EN RESINA Y CERÁMICAS, PARA BAJA VELOCIDAD, PULIDO DE SUPERFICIES OCLUSALES, SUPERFICIES CERVICALES Y ZONAS INTERPROXIMALES. (COPA REGULAR, PUNTA) | G33: UNIDAD | H33: 21000 | I33: =+H33*0.19 -> 3990 | J33: =+H33+I33 -> 24990
B34: 8 | C34: 2503373 | D34: 13111037 | E34: IONOMERO DE VIDRIO RECONSTRUCTOR CONVENCIONAL | F34: IONÓMERO DE VIDRIO AUTOPOLIMERIZABLE, PARTIUCLA GRANULADA FACIL MEZCLA CON LIBERACIÓN DE FLÚOR, ADHESIÓN QUÍMICA, BIOCOMPATIBLE, RADIOOPACO, PARA RECONSTRUCCIÓN DE MUÑONES Y APLICACIONES RESTAURADORAS. TECNICA A.R.T | G34: POLVO 12,5 GRAMOS; LIQUIDO 8,5ML | H34: 240000 | I34: 0 | J34: =+H34+I34 -> 240000
B35: 9 | C35: 2502881 | D35: 42151807 | E35: PUNTAS SILICONADAS PARA PULIR RESINA | F35: PUNTAS PARA PULIR PARA PIEZA DE BAJA VELOCIDAD, CON PARTE ACTIVA DE DIFERENTES FORMAS (LLAMA PEQUEÑA, COPA, DISCO) Y TRES GRADOS DE ABRASIÓN (VERDE, AMARILLA, BLANCA) | G35: UNIDAD | H35: 10000 | I35: =+H35*0.19 -> 1900 | J35: =+H35+I35 -> 11900
B36: 10 | C36: 2505296 | D36: 13111037 | E36: RESINA UNIVERSAL VARIEDAD DE COLORES DIENTES CLAROS (A1, B1, B2, C1, D2) PARA ANTERIORES Y POSTERIORES | F36: RESTAURADOR UNIVERSAL DE NANOPARTICULA PARA DIENTES ANTERIORES Y POSTERIORES, RELLENO SILICE DE 20NM NO AGLOMERADO NO CONGLOMERADO,RELLENO DE CIRCONIO 4NM A 11NM NO AGLOMERADO NO CONGLOMERADO PESO 78,5% VOLUMEN 63,3% BAJA CONTRACCIÓN VOLUMÉTRICA 1,73% bis-GMA UDMA,TEGDMA, PEGDMA | G36: JERINGA X 4 GRS | H36: 50000 | I36: 0 | J36: =+H36+I36 -> 50000
B37: 11 | C37: 2505297 | D37: 13111037 | E37: RESINA UNIVERSAL VARIEDAD DE COLORES DIENTES NATURALES (A2, A3, C2, D3, D4) PARA ANTERIORES Y POSTERIORES | F37: RESTAURADOR UNIVERSAL DE NANOPARTICULA PARA DIENTES ANTERIORES Y POSTERIORES, RELLENO SILICE DE 20NM NO AGLOMERADO NO CONGLOMERADO,RELLENO DE CIRCONIO 4NM A 11NM NO AGLOMERADO NO CONGLOMERADO PESO 78,5% VOLUMEN 63,3% BAJA CONTRACCIÓN VOLUMÉTRICA 1,73% bis-GMA UDMA,TEGDMA, PEGDMA | G37: JERINGA X 4 GRS | H37: 50000 | I37: 0 | J37: =+H37+I37 -> 50000
B38: 12 | C38: 2505304 | D38: 13111037 | E38: RESINA UNIVERSAL VARIEDAD DE COLORES DIENTES OSCUROS (A3.5, A4, B3, C3, C4) PARA ANTERIORES Y POSTERIORES | F38: RESTAURADOR UNIVERSAL DE NANOPARTICULA PARA DIENTES ANTERIORES Y POSTERIORES, RELLENO SILICE DE 20NM NO AGLOMERADO NO CONGLOMERADO,RELLENO DE CIRCONIO 4NM A 11NM NO AGLOMERADO NO CONGLOMERADO PESO 78,5% VOLUMEN 63,3% BAJA CONTRACCIÓN VOLUMÉTRICA 1,73% bis-GMA UDMA,TEGDMA, PEGDMA | G38: JERINGA X 4 GRS | H38: 50000 | I38: 0 | J38: =+H38+I38 -> 50000
B39: 13 | C39: 2505296 | D39: 13111037 | E39: RESINA A1 | F39: RESINA DE FOTOCURADO DE ZIRCONIO/SILICE PARTICULAS NANOHIBRIDAS O NANORELLENO CON TAMAÑO DE PARTICULAS ENTRE 0.04 nm A 700 nm, RESISTENCIA AL DESGASTE SIMILAR AL ESMALTE. CONTRACCION ENTRE 1,2% HASTA 2.0 % CON AGLOMERACIÓN DE NANOPARTICULAS DE ZIRCONIO. FUERZA COMPRESIVA SUPERIOR A 360 MPa. CARGA DE RELLENO ENTRE 60% HASTA 68% DE VOLUMEN | G39: JERINGA X 3GRS O 4 GRS | H39: 95000 | I39: 0 | J39: =+H39+I39 -> 95000
B40: 14 | C40: 2505297 | D40: 13111037 | E40: RESINA A2 | F40: RESINA DE FOTOCURADO DE ZIRCONIO/SILICE PARTICULAS NANOHIBRIDAS O NANORELLENO CON TAMAÑO DE PARTICULAS ENTRE 0.04 nm A 700 nm, RESISTENCIA AL DESGASTE SIMILAR AL ESMALTE. CONTRACCION ENTRE 1,2% HASTA 2.0 % CON AGLOMERACIÓN DE NANOPARTICULAS DE ZIRCONIO. FUERZA COMPRESIVA SUPERIOR A 360 MPa. CARGA DE RELLENO ENTRE 60% HASTA 68% DE VOLUMEN | G40: JERINGA X 3GRS O 4 GRS | H40: 95000 | I40: 0 | J40: =+H40+I40 -> 95000
B41: 15 | C41: 2505298 | D41: 13111037 | E41: RESINA A3 | F41: RESINA DE FOTOCURADO DE ZIRCONIO/SILICE PARTICULAS NANOHIBRIDAS O NANORELLENO CON TAMAÑO DE PARTICULAS ENTRE 0.04 nm A 700 nm, RESISTENCIA AL DESGASTE SIMILAR AL ESMALTE. CONTRACCION ENTRE 1,2% HASTA 2.0 % CON AGLOMERACIÓN DE NANOPARTICULAS DE ZIRCONIO. FUERZA COMPRESIVA SUPERIOR A 360 MPa. CARGA DE RELLENO ENTRE 60% HASTA 68% DE VOLUMEN | G41: JERINGA X 3GRS O 4 GRS | H41: 95000 | I41: 0 | J41: =+H41+I41 -> 95000
B42: 16 | C42: 2504644 | D42: 13111037 | E42: RESINA PARA POSTERIORES COLOR A2 | F42: RESINA PARA POSTERIORES DE RELLENO EN BLOQUE EXCELENTE FUERZA Y DESGASTE BAJO, ESTRÉS MINIMO LO CUAL PROPORCIONA UNA PROFUNDIDAD DE POLIMERIZACIÓN DE 5MM EXCELENTE RETENCIÓN DEL PULIDO, TAMBIEN IDEAL PARA RESTAURACIONES EN ANTERIORES, CON COMBINACIÓN DE SILICE NO AGLOMERADO/NO AGREGADO DE 20NM, ZIRCONIA AGLOMERADA NO AGREGADA DE 4 A 11NM. RELLENO DE TRIFLORURO DE ITERBIO. AUDMA - AFM PESO DE 76.5% 58.4% VOLUMEN | G42: JERINGA X 4 GRS | H42: 240000 | I42: 0 | J42: =+H42+I42 -> 240000
B43: 17 | C43: 2504644 | D43: 13111037 | E43: RESINA PARA POSTERIORES COLOR A3 | F43: RESINA PARA POSTERIORES DE RELLENO EN BLOQUE, EXCELENTE FUERZA Y DESGASTE BAJO, ESTRÉS MINIMO LO CUAL PROPORCIONA UNA PROFUNDIDAD DE POLIMERIZACIÓN DE 5MM, EXCELENTE RETENCIÓN DEL PULIDO, TAMBIEN IDEAL PARA RESTAURACIONES EN ANTERIORES, CON COMBINACIÓN DE SILICE NO AGLOMERADO/NO AGREGADO DE 20NM, ZIRCONIA AGLOMERADA NO AGREGADA DE 4 A 11NM. RELLENO DE TRIFLORURO DE ITERBIO. AUDMA - AFM PESO DE 76.5% 58.4% VOLUMEN | G43: JERINGA X 4 GRS | H43: 240000 | I43: 0 | J43: =+H43+I43 -> 240000
B44: 18 | C44: 2500346 | D44: 13111037 | E44: RESINA JERINGA FLUIDA A 3 | F44: COMPOSITE FLUIDO FOTOPOLIMERIZABLE, RADIOPACO, DE BAJA VISCOSIDAD BASE DE METACRILATO O TRIFLUORURO DE ITERBIO CON, TAMAÑO DE PARTÍCULA PROMEDIO ENTRE 0,1 A 5 MICRONES, 20NM CON UNA DISTRIBUCIÓN DE PARTÍCULAS TIXOTRÓPICO, ENTRE 65% A 68% DE RELLENO PUEDE UTILIZARSE EN ANTERIORES, POSTERIORES | G44: JERINGA DE 1 A 3 GRS | H44: 140000 | I44: 0 | J44: =+H44+I44 -> 140000
B45: 19 | C45: 2503874 | D45: 13111037 | E45: RESINA JERINGA FLUIDA A2 | F45: COMPOSITE FLUIDO FOTOPOLIMERIZABLE, RADIOPACO, DE BAJA VISCOSIDAD BASE DE METACRILATO O TRIFLUORURO DE ITERBIO CON, TAMAÑO DE PARTÍCULA PROMEDIO ENTRE 0,1 A 5 MICRONES, 20NM CON UNA DISTRIBUCIÓN DE PARTÍCULAS TIXOTRÓPICO, ENTRE 65% A 68% DE RELLENO PUEDE UTILIZARSE EN ANTERIORES, POSTERIORES | G45: JERINGA DE 1 A 3 GRS | H45: 140000 | I45: 0 | J45: =+H45+I45 -> 140000
B46: 20 | C46: 2503874 | D46: 13111037 | E46: RESINA JERINGA FLUIDA PARA POSTERIORES | F46: RESINA FLUIDA DE BAJA VISCOCIDAD RESINA DE PROCRILATO RELLENO COMBINACIÓN DE TRICLORURO DE ITERBIO TAMAÑO DE PARTICULA 0,1 A 0,5 MICRONES ZIRCONIO/SILICE 64,5% PESO 42,5% POR VOLUMEN PROFUNDIDAD DE 4mm | G46: JERINGA DE 1 A 3 GRS | H46: 225000 | I46: 0 | J46: =+H46+I46 -> 225000
B47: 21 | C47: 2503874 | D47: 13111037 | E47: RESINA | F47: RESINA NANOHIBRIDA UNIVERSAL, DE FOTOCURADO PARA RESTAURACIONES DIRECTAS E INDIRECTAS, PARA DIENTES ANTERIORES Y POSTERIORES. TECNOLOGÍA DE BALANCE ENTRE LOS INDICES DE REFRACCION DE LA RESINA Y LAS PARTICULAS DE RELLENO DEL 70 AL 80% RELLENO DE PESO, TAMAÑO MEDIO DE PARTICULA DE 0,6 A 0,9UM, FUERZA DE COMPRESION DE 400 A 450MPA | G47: JERINGA DE 1 A 4 GRS | H47: 95000 | I47: 0 | J47: =+H47+I47 -> 95000
B48: 22 | C48: 2502102 | D48: 42152423 | E48: SELLANTES DE FOTOCURADO | F48: SELLANTE DE FOSETAS Y FISURAS TIXOTRÓPICO, RELLENO ENTRE 6% O 53%, RADIOPACO, CON BASE DE METACRILATO COLOR BLANCO CON BAJO TIEMPO DE FOTOPOLIMERIZACION BAJA VISCOSIDAD CON LIBERACIÓN DE FLÚOR Y ALTA ADHESIÓN AL ESMALTE. HIDROFÍLICO E HIDROFÓBICO. FLUORESCENTE | G48: JERINGA 1.2ML A 20.ML / FRASCO X 6 A 8 ML | H48: 68000 | I48: =+H48*0.19 -> 12920 | J48: =+H48+I48 -> 80920
B49: 23 | C49: 2501966 | D49: 42151614 | E49: FRESA DIAMANTE OPERATORIA DENTAL REDONDA | F49: FRESAS DE DIAMANTE PARA PIEZA DE MANO DE ALTA VELOCIDAD, DIAMANTES DISTRIBUIDOS UNIFORMEMENTE, FUERTEMENTE FIJADOS EN EL LECHO DE NÍQUEL, DE DESPRENDIMIENTO RETARDADO, DURACIÓN EXTENDIDA. ALTA EFICIENCIA DE DESGASTE, GARANTÍA DE CALIDAD SEGÚN ISO. GALVANIZADO, DE ACERO INOXIDABLE TEMPLADO: Fresa DE 19mm de largo de forma redonda desde grano grueso hasta grano extrafino con diámetro mayor desde 1mm a 2.3mm. | G49: UNIDAD | H49: 5000 | I49: =+H49*0.19 -> 950 | J49: =+H49+I49 -> 5950
B50: 24 | C50: 2501966 | D50: 42151614 | E50: FRESA DIAMANTE OPERATORIA DENTAL FLAMA | F50: FRESAS DE DIAMANTE PARA PIEZA DE MANO DE ALTA VELOCIDAD, DIAMANTES DISTRIBUIDOS UNIFORMEMENTE, FUERTEMENTE FIJADOS EN EL LECHO DE NÍQUEL, DE DESPRENDIMIENTO RETARDADO, DURACIÓN EXTENDIDA. ALTA EFICIENCIA DE DESGASTE, GARANTÍA DE CALIDAD SEGÚN ISO. GALVANIZADO, DE ACERO INOXIDABLE TEMPLADO: Fresa de 19mm de largo de forma flama en punta grano desde grueso hasta extrafino con diámetro mayor desde 1.0mm hasta 1.8mm. | G50: UNIDAD | H50: 5000 | I50: =+H50*0.19 -> 950 | J50: =+H50+I50 -> 5950
B51: 25 | C51: 2503002 | D51: 42151614 | E51: FRESA DIAMANTE OPERATORIA DENTAL PERA LARGA PUNTA REDONDA | F51: FRESAS DE DIAMANTE PARA PIEZA DE MANO DE ALTA VELOCIDAD, DIAMANTES DISTRIBUIDOS UNIFORMEMENTE, FUERTEMENTE FIJADOS EN EL LECHO DE NÍQUEL, DE DESPRENDIMIENTO RETARDADO, DURACIÓN EXTENDIDA. ALTA EFICIENCIA DE DESGASTE, GARANTÍA DE CALIDAD SEGÚN ISO. GALVANIZADO, DE ACERO INOXIDABLE TEMPLADO: Fresa de 19mm de largo de forma de pera larga punta redondeada desde grano grueso hasta grano extrafino desde 0.5 a 1.6 mm de diámetro mayor | G51: UNIDAD | H51: 5000 | I51: =+H51*0.19 -> 950 | J51: =+H51+I51 -> 5950
B52: 26 | C52: 2503052 | D52: 42151614 | E52: FRESA DIAMANTE OPERATORIA DENTAL PUNTO DE CONTACTO | F52: FRESAS DE DIAMANTE PARA PIEZA DE MANO DE ALTA VELOCIDAD, DIAMANTES DISTRIBUIDOS UNIFORMEMENTE, FUERTEMENTE FIJADOS EN EL LECHO DE NÍQUEL, DE DESPRENDIMIENTO RETARDADO, DURACIÓN EXTENDIDA. ALTA EFICIENCIA DE DESGASTE, GARANTÍA DE CALIDAD SEGÚN ISO. GALVANIZADO, DE ACERO INOXIDABLE TEMPLADO: Fresa de 19mm de largo de forma cónica puntiaguda delgada desde grano extrafino hasta grano medio desde 0.5mm hasta 1 mm de diámetro mayor | G52: UNIDAD | H52: 5000 | I52: =+H52*0.19 -> 950 | J52: =+H52+I52 -> 5950
B53: 27 | C53: 2503002 | D53: 42151614 | E53: FRESA DIAMANTE OPERATORIA DENTAL CONICA PUNTA REDONDA | F53: FRESAS DE DIAMANTE PARA PIEZA DE MANO DE ALTA VELOCIDAD, DIAMANTES DISTRIBUIDOS UNIFORMEMENTE, FUERTEMENTE FIJADOS EN EL LECHO DE NÍQUEL, DE DESPRENDIMIENTO RETARDADO, DURACIÓN EXTENDIDA. ALTA EFICIENCIA DE DESGASTE, GARANTÍA DE CALIDAD SEGÚN ISO. GALVANIZADO, DE ACERO INOXIDABLE TEMPLADO: Fresa de 19mm de largo de forma cónica larga punta redondeada desde grano grueso hasta grano extrafino de 1.0 mm a 1.8mm de diámetro mayor | G53: UNIDAD | H53: 5000 | I53: =+H53*0.19 -> 950 | J53: =+H53+I53 -> 5950
...

Sheet GRUPO 2  ENDODONCIA
A7: FECHA:
F8: COTIZACION CO-25-DIFSA-DISAN-ARC-2026
A10: FECHA: | D10: Junio 27 de 2026
A11: EMPRESA: | D11: DENTAL NADER S.A.S
A12: REPRESENTANTE LEGAL: | D12: Ligia Garzon Bustos
A13: NIT: | D13: 900.486.577-8
A14: DIRECCION: | D14: Carrera 47 # 123 A -09
A15: TELEFONOS Y FAX: | D15: 6199095- Celular 318-5028699
A16: E-MAIL: | D16: licitaciones@dentalnader.com
A17: VIGENCIA COTIZACION: | D17: 60 dias
A19: =+'GRUPO 1 OPERATORIA'!A20 -> Atendiendo su amable solicitud me permito presentar la cotizacion asi:
A22: “ESPECIFICACIONES TÉCNICAS MÍNIMAS DE OBLIGATORIO CUMPLIMIENTO PARA CONTRATAR”
B25: ITEM | C25: CODIGO SAP | D25: CODIGO | E25: DESCRIPCIÓN | F25: ESPECIFICACIÓN TÉCNICA | G25: PRESENTACIÓN | H25: OFERTA
H26: VALOR UNITARIO | I26: IVA | J26: VALOR TOTAL INCLUIDO IVA
B27: 1 | D27: 42151910 | E27: AGUA OXIGENADA | F27: PERÓXIDO DE HIDRÓGENO AL 30%, FRASCO PLÁSTICO, USO ODONTOLÓGICO | G27: FCO X 10 ML | H27: 18000 | I27: 0 | J27: =+H27+I27 -> 18000
B28: 2 | C28: 2500863 | D28: 42152430 | E28: AGUJA PARA IRRIGAR CONDUCTOS RADICULARES | F28: CAPILLARY TIPS: PUNTA MUY FINA, TOTALMENTE DE PLÁSTICO, DE 25 MM DE LONGITUD Ø 0,35 MM, PARA LA IRRIGACIÓN, LA APLICACIÓN, LA ASPIRACIÓN Y REBAJADO CON AIRE COMPRIMIDO, ÚTIL COMO ELEMENTO ESPACIADOR PARA POSTES RADICULARES AL REALIZAR RESTAURACIONES CON POSTES Y MUÑONES, YA QUE NO SE ADHIERE AL COMPOSITE. | G28: CAJA X 20 UNDS | H28: 26000 | I28: =+H28*0.19 -> 4940 | J28: =+H28+I28 -> 30940
B29: 3 | D29: 42152443 | E29: CEMENTO DE OBTURACION TEMPORAL SIN EUGENOL | F29: MATERIAL DE OBTURACIÓN POR ENDURECIMIENTO QUÍMICO, RADIO-OPACO, DE COLOR SIMILAR AL DIENTE, PARA OBTURACIÓN PROVISIONAL DE CAVIDADES DENTALES. COMPOSICIÓN: OXIDO DE ZINC, SULFATO DE ZINC-HIDRATO, SULFATO DE CALCIO-HEMIHIDRATO, TIERRA DE DIATOMEAS, RESINA EVA,FLUORURO, LIBRE DE EUGENOL. | G29: FRASCO POR 38 GRS | H29: 110000 | I29: 0 | J29: =+H29+I29 -> 110000
B30: 4 | C30: 2501143 | D30: 42152430 | E30: CEMENTO PARA OBTURACION DE CONDUCTOS RADICULAR | F30: PRESENTACIÓN EN DOS TUBOS (BASE CATALIZADOR). A BASE DE RESINA EPOXICA, SELLADOR DE CONDUCTOS RADICULARES. | G30: KIT DE 4 ML (BASE ) , 4ML CATALIZADOR) | H30: 238000 | I30: 0 | J30: =+H30+I30 -> 238000
B31: 5 | C31: 2501913 | D31: 51142931 | E31: SPRAY REFRIGERANTE | F31: SPRAY REFRIGERANTE CON EXTENSIÓN PARA DIRECCIONAR, NO CFCS, MENOS DE 50°C. PARA PRUEBAS DE VITALIDAD PULPAR. | G31: FRASCO SPRAY X 200 ML | H31: 70000 | I31: =+H31*0.19 -> 13300 | J31: =+H31+I31 -> 83300
B32: 6 | C32: 2502903 | D32: 42152430 | E32: CONOS GUTAPERCHA 1A SERIE | F32: ESTANDARIZADOS SEGÚN ISO 6877 Y SEGÚN COLOR DE LA LIMA CORRESPONDIENTE, BIOCOMPATIBLES, RADIOPACOS, FLEXIBLES CON UN GRADO DE RIGIDEZ QUE NO PERMITA DEFORMACIÓN. UTILIZADOS PARA OBTURACIÓN DE CANALES RADICULARES A BASE DE GUTAPERCHA, ÓXIDO DE ZINC Y COLORANTE ORGÁNICO (TODO EL CONO DEL COLOR DE LA LIMA LIMA O PINTADOS EN EXTREMOS), CALIBRADOS EN CONICIDAD .02-.06 | G32: CAJA X 6 TUBOS | H32: 28000 | I32: 0 | J32: =+H32+I32 -> 28000
B33: 7 | C33: 2502903 | D33: 42152430 | E33: CONOS GUTAPERCHA NO. 20 | F33: ESTANDARIZADOS SEGÚN ISO 6877 Y SEGÚN COLOR DE LA LIMA CORRESPONDIENTE, BIOCOMPATIBLES, RADIOPACOS, FLEXIBLES CON UN GRADO DE RIGIDEZ QUE NO PERMITA DEFORMACIÓN. UTILIZADOS PARA OBTURACIÓN DE CANALES RADICULARES A BASE DE GUTAPERCHA, ÓXIDO DE ZINC Y COLORANTE ORGÁNICO (TODO EL CONO DEL COLOR DE LA LIMA LIMA O PINTADOS EN EXTREMOS), CALIBRADOS EN CONICIDAD .02-.06 | G33: CAJA X 6 TUB | H33: 28000 | I33: 0 | J33: =+H33+I33 -> 28000
B34: 8 | C34: 2502903 | D34: 42152430 | E34: CONOS GUTAPERCHA NO. 25 | F34: ESTANDARIZADOS SEGÚN ISO 6877 Y SEGÚN COLOR DE LA LIMA CORRESPONDIENTE, BIOCOMPATIBLES, RADIOPACOS, FLEXIBLES CON UN GRADO DE RIGIDEZ QUE NO PERMITA DEFORMACIÓN. UTILIZADOS PARA OBTURACIÓN DE CANALES RADICULARES A BASE DE GUTAPERCHA, ÓXIDO DE ZINC Y COLORANTE ORGÁNICO (TODO EL CONO DEL COLOR DE LA LIMA LIMA O PINTADOS EN EXTREMOS), CALIBRADOS EN CONICIDAD .02-.06 | G34: CAJA X 6 TUB | H34: 28000 | I34: 0 | J34: =+H34+I34 -> 28000
B35: 9 | C35: 2502903 | D35: 42152430 | E35: CONOS GUTAPERCHA 2A SERIE | F35: ESTANDARIZADOS SEGÚN ISO 6877 Y SEGÚN COLOR DE LA LIMA CORRESPONDIENTE, BIOCOMPATIBLES, RADIOPACOS, FLEXIBLES CON UN GRADO DE RIGIDEZ QUE NO PERMITA DEFORMACIÓN. UTILIZADOS PARA OBTURACIÓN DE CANALES RADICULARES A BASE DE GUTAPERCHA, ÓXIDO DE ZINC Y COLORANTE ORGÁNICO (TODO EL CONO DEL COLOR DE LA LIMA LIMA O PINTADOS EN EXTREMOS), CALIBRADOS EN CONICIDAD .02-.06 | G35: CAJA X 6 TUBOS | H35: 28000 | I35: 0 | J35: =+H35+I35 -> 28000
B36: 10 | C36: 2502903 | D36: 42152430 | E36: CONOS GUTAPERCHA 30 | F36: ESTANDARIZADOS SEGÚN ISO 6877 Y SEGÚN COLOR DE LA LIMA CORRESPONDIENTE, BIOCOMPATIBLES, RADIOPACOS, FLEXIBLES CON UN GRADO DE RIGIDEZ QUE NO PERMITA DEFORMACIÓN. UTILIZADOS PARA OBTURACIÓN DE CANALES RADICULARES A BASE DE GUTAPERCHA, ÓXIDO DE ZINC Y COLORANTE ORGÁNICO (TODO EL CONO DEL COLOR DE LA LIMA LIMA O PINTADOS EN EXTREMOS), CALIBRADOS EN CONICIDAD .02-.06 | G36: CAJA X 6 TUB | H36: 28000 | I36: 0 | J36: =+H36+I36 -> 28000
B37: 11 | C37: 2502903 | D37: 42152430 | E37: CONOS GUTAPERCHA 35 | F37: ESTANDARIZADOS SEGÚN ISO 6877 Y SEGÚN COLOR DE LA LIMA CORRESPONDIENTE, BIOCOMPATIBLES, RADIOPACOS, FLEXIBLES CON UN GRADO DE RIGIDEZ QUE NO PERMITA DEFORMACIÓN. UTILIZADOS PARA OBTURACIÓN DE CANALES RADICULARES A BASE DE GUTAPERCHA, ÓXIDO DE ZINC Y COLORANTE ORGÁNICO (TODO EL CONO DEL COLOR DE LA LIMA LIMA O PINTADOS EN EXTREMOS), CALIBRADOS EN CONICIDAD .02-.06 | G37: CAJA X 6 TUB | H37: 28000 | I37: 0 | J37: =+H37+I37 -> 28000
B38: 12 | C38: 2502903 | D38: 42152430 | E38: CONOS GUTAPERCHA 40 | F38: ESTANDARIZADOS SEGÚN ISO 6877 Y SEGÚN COLOR DE LA LIMA CORRESPONDIENTE, BIOCOMPATIBLES, RADIOPACOS, FLEXIBLES CON UN GRADO DE RIGIDEZ QUE NO PERMITA DEFORMACIÓN. UTILIZADOS PARA OBTURACIÓN DE CANALES RADICULARES A BASE DE GUTAPERCHA, ÓXIDO DE ZINC Y COLORANTE ORGÁNICO (TODO EL CONO DEL COLOR DE LA LIMA LIMA O PINTADOS EN EXTREMOS), CALIBRADOS EN CONICIDAD .02-.06 | G38: CAJA X 6 TUB | H38: 28000 | I38: 0 | J38: =+H38+I38 -> 28000
B39: 13 | C39: 2502903 | D39: 42152430 | E39: CONOS GUTAPERCHA 45 | F39: ESTANDARIZADOS SEGÚN ISO 6877 Y SEGÚN COLOR DE LA LIMA CORRESPONDIENTE, BIOCOMPATIBLES, RADIOPACOS, FLEXIBLES CON UN GRADO DE RIGIDEZ QUE NO PERMITA DEFORMACIÓN. UTILIZADOS PARA OBTURACIÓN DE CANALES RADICULARES A BASE DE GUTAPERCHA, ÓXIDO DE ZINC Y COLORANTE ORGÁNICO (TODO EL CONO DEL COLOR DE LA LIMA LIMA O PINTADOS EN EXTREMOS), CALIBRADOS EN CONICIDAD .02-.06 | G39: CAJA X 6 TUB | H39: 28000 | I39: 0 | J39: =+H39+I39 -> 28000
B40: 14 | C40: 2502903 | D40: 42152430 | E40: CONOS GUTAPERCHA NO. 15 | F40: ESTANDARIZADOS SEGÚN ISO 6877 Y SEGÚN COLOR DE LA LIMA CORRESPONDIENTE, BIOCOMPATIBLES, RADIOPACOS, FLEXIBLES CON UN GRADO DE RIGIDEZ QUE NO PERMITA DEFORMACIÓN. UTILIZADOS PARA OBTURACIÓN DE CANALES RADICULARES A BASE DE GUTAPERCHA, ÓXIDO DE ZINC Y COLORANTE ORGÁNICO (TODO EL CONO DEL COLOR DE LA LIMA LIMA O PINTADOS EN EXTREMOS), CALIBRADOS EN CONICIDAD .02-.06 | G40: CAJA X 6 TUBOS | H40: 28000 | I40: 0 | J40: =+H40+I40 -> 28000
B41: 15 | D41: 42152408 | E41: CONOS PAPEL 1A SERIE | F41: ESTANDARIZADOS EN FORMA Y COLOR SEGÚN LIMAS, EMPAQUE RÍGIDO QUE NO PERMITA CONTAMINACIÓN DEL CONTENIDO. | G41: CAJA 200 UNDS | H41: 25000 | I41: =+H41*0.19 -> 4750 | J41: =+H41+I41 -> 29750
B42: 16 | D42: 42152408 | E42: CONOS PAPEL 2A SERIE | F42: ESTANDARIZADOS EN FORMA Y COLOR SEGÚN LIMAS, EMPAQUE RÍGIDO QUE NO PERMITA CONTAMINACIÓN DEL CONTENIDO. | G42: CAJA 200 UNDS | H42: 25000 | I42: =+H42*0.19 -> 4750 | J42: =+H42+I42 -> 29750
B43: 17 | C43: 2503006 | D43: 42152465 | E43: EDTA + PERÓXIDO DE UREA | F43: 10 % DE UREA, 15% ÁCIDO TETRA ACÉTICO DE ETILENDIAMINO (EDTA). | G43: JERINGA X 3 A 9 GRS APROX | H43: 51000 | I43: 0 | J43: =+H43+I43 -> 51000 | K43: Se cotiza presentacion de 3gr.
B44: 18 | C44: 2503006 | D44: 42152465 | E44: ESPACIADORES MANUALES A25 | F44: ACERO INOXIDABLE DIN 1.4310, ELECTRO-PULIDO, PERTENECIENTE A LA CLASIFICACIÓN AISI 302 (CON 17% DE CROMO Y 8% DE NÍQUEL, REFERENCIA DE ESPACIADOR A25 MANGO EXAGONAL | G44: UNIDAD | H44: 70000 | I44: =+H44*0.19 -> 13300 | J44: =+H44+I44 -> 83300
B45: 19 | C45: 2500661 | D45: 42152600 | E45: GLUTARALDEHIDO MOMIFICANTE AL 2% | F45: MOMIFICANTEPULPAR, ANTISÉPTICO, DESINFECTANTE Y HEMOSTÁTICO. | G45: FRASCO X 7 ML | H45: 12000 | I45: 0 | J45: =+H45+I45 -> 12000
B46: 20 | C46: 2502884 | D46: 42152500 | E46: GRAPAS MOLARES PARCIALMENTE ERUPCIONADOS NO. 14A | F46: GRAPA PARA AISALMIENTO ABSOLUTO CON TELA DE CAUCHO, FABRICADA EN ACERO INOXIDABLE GRADO QUIRURGICO DE ALTA RESISTENCIA, MEMORIA ELASTICA CON RECUPERACION DE SU FORMAW ORIGINAL DESPUES DE LA APERTURA Y COLOCACION. SUPERFICIE LISA, LIBRE DE POROSIDADES. BORDES ANATOMICOS Y PUNTAS DE FIJACION PULIDAS CON ADECUADA RETENCION CERVICAL. ESTERILIZABLE EN AUTOCLAVE. PARA DIENTES TEMPORALES Y PERMANENTES. | G46: UNIDAD | H46: 7000 | I46: =+H46*0.19 -> 1330 | J46: =+H46+I46 -> 8330
B47: 21 | C47: 2501426 | D47: 42152600 | E47: GRAPAS No. 00 | F47: GRAPA PARA AISALMIENTO ABSOLUTO CON TELA DE CAUCHO, FABRICADA EN ACERO INOXIDABLE GRADO QUIRURGICO DE ALTA RESISTENCIA, MEMORIA ELASTICA CON RECUPERACION DE SU FORMAW ORIGINAL DESPUES DE LA APERTURA Y COLOCACION. SUPERFICIE LISA, LIBRE DE POROSIDADES. BORDES ANATOMICOS Y PUNTAS DE FIJACION PULIDAS CON ADECUADA RETENCION CERVICAL. ESTERILIZABLE EN AUTOCLAVE. PARA DIENTES TEMPORALES Y PERMANENTES. | G47: UNIDAD | H47: 7000 | I47: =+H47*0.19 -> 1330 | J47: =+H47+I47 -> 8330
B48: 22 | C48: 2584623 | D48: 42152600 | E48: GRAPAS No.8 | F48: GRAPA PARA AISALMIENTO ABSOLUTO CON TELA DE CAUCHO, FABRICADA EN ACERO INOXIDABLE GRADO QUIRURGICO DE ALTA RESISTENCIA, MEMORIA ELASTICA CON RECUPERACION DE SU FORMAW ORIGINAL DESPUES DE LA APERTURA Y COLOCACION. SUPERFICIE LISA, LIBRE DE POROSIDADES. BORDES ANATOMICOS Y PUNTAS DE FIJACION PULIDAS CON ADECUADA RETENCION CERVICAL. ESTERILIZABLE EN AUTOCLAVE. PARA DIENTES TEMPORALES Y PERMANENTES. | G48: UNIDAD | H48: 7000 | I48: =+H48*0.19 -> 1330 | J48: =+H48+I48 -> 8330
B49: 23 | C49: 2584623 | D49: 42152600 | E49: GRAPAS No.9 | F49: GRAPA PARA AISALMIENTO ABSOLUTO CON TELA DE CAUCHO, FABRICADA EN ACERO INOXIDABLE GRADO QUIRURGICO DE ALTA RESISTENCIA, MEMORIA ELASTICA CON RECUPERACION DE SU FORMAW ORIGINAL DESPUES DE LA APERTURA Y COLOCACION. SUPERFICIE LISA, LIBRE DE POROSIDADES. BORDES ANATOMICOS Y PUNTAS DE FIJACION PULIDAS CON ADECUADA RETENCION CERVICAL. ESTERILIZABLE EN AUTOCLAVE. PARA DIENTES TEMPORALES Y PERMANENTES. | G49: UNIDAD | H49: 7000 | I49: =+H49*0.19 -> 1330 | J49: =+H49+I49 -> 8330
B50: 24 | C50: 2584623 | D50: 42152600 | E50: KIT GRAPAS: CLAMP SET BRINKER TISSUE RETRACTORS HYGENIC | F50: KIT GRAPAS CLAMP SET BRINKER TISSUE RETRACTORS HYGENIC EN ACERO INOXIDABLE, PARA AISLAMIENTO TOTAL CON TELA DE CAUCHO DE DIENTES RESTOS RADICULARES, RESISTENTE A LA FRACTURA Y A LA CORROSIÓN, INDEFORMABLE, AUTOCLAVABLES | G50: KIT x 6 UNIDADES | H50: 50000 | I50: =+H50*0.19 -> 9500 | J50: =+H50+I50 -> 59500
B51: 25 | C51: 2584623 | D51: 42152600 | E51: HIDRÓXIDO DE CALCIO | F51: HIDRÓXIDO DE CALCIO PURO EN POLVO BLANCO FINO , INOLORO,LIBRE DE PARTICULAS EXTRAÑAS. | G51: FCO X 10 GRS | H51: 10000 | I51: 0 | J51: =+H51+I51 -> 10000
B52: 26 | C52: 2501988 | D52: 12352319 | E52: HIDROXIDO DE CALCIO PASTA ACIDO RESISTENTE | F52: HIDROXIDO DE CALCIO E HIDROAPATITA DE CALCIO. MATERIAL BIOACTIVO DE RECUBRIMEINTO PULPAR DIRECTO E INDIRECTO, LINER O BASE. PROMUEVE LA FORMACIÓN DE DENTINA REPARATIVA. RADIOPACO, FOTOACTIVO. APLICACIÓN CONTROLADA Y PRECISA, SIN NECESIDAD DE MEZCLA. ÁCIDO RESISTENTE, NO SE DISUELVE CON EL TIEMPO. | G52: JERINGA X 1,64 GRS | H52: 60000 | I52: 0 | J52: =+H52+I52 -> 60000 | K52: ESTE VALOR SI CORRESPONDE
...

Sheet GRUPO 3  INSUMOS VARIOS
F7: =+'GRUPO 2 ENDODONCIA'!F8 -> COTIZACION CO-25-DIFSA-DISAN-ARC-2026
A9: FECHA: | D9: Junio 27 de 2026
A10: EMPRESA: | D10: DENTAL NADER S.A.S
A11: REPRESENTANTE LEGAL: | D11: Ligia Garzon Bustos
A12: NIT: | D12: 900.486.577-8
A13: DIRECCION: | D13: Carrera 47 # 123 A -09
A14: TELEFONOS Y FAX: | D14: 6199095- Celular 318-5028699
A15: E-MAIL: | D15: licitaciones@dentalnader.com
A16: VIGENCIA COTIZACION: | D16: 60 dias
A19: =+'GRUPO 2 ENDODONCIA'!A19 -> Atendiendo su amable solicitud me permito presentar la cotizacion asi:
A21: “ESPECIFICACIONES TÉCNICAS MÍNIMAS DE OBLIGATORIO CUMPLIMIENTO PARA CONTRATAR”
B23: ITEM | C23: CODIGO SAP | D23: CODIGO | E23: DESCRIPCIÓN | F23: ESPECIFICACIÓN TÉCNICA | G23: PRESENTACIÓN | H23: OFERTA
H24: VALOR UNITARIO | I24: IVA | J24: VALOR TOTAL INCLUIDO IVA
B25: 1 | C25: 2503018 | D25: 42151660 | E25: MICROAPLICADOR | F25: APLICADOR DE FÁCIL MANEJO QUE PERMITA TRANSFERIR CANTIDADES PEQUEÑAS DE MATERIALES LIQUIDOS. QUE PERMITA DOBLARSE EN EL EXTREMO. EN 2 TAMAÑOS DE LA EXTREMIDAD: MEDIO Y PEQUEÑO. | G25: PAQUETE X 100 | H25: 8500 | I25: =+H25*0.19 -> 1615 | J25: =+H25+I25 -> 10115
B26: 2 | C26: 2501694 | D26: 42152502 | E26: BABEROS DESECHABLES | F26: UN CAPA DE PAPEL DE ALTA ABSORCIÓN ACOPLADO Y GROFADO, CON UNA PELÍCULA DE POLIETILENO IMPERMEABLE.PRE CORTADO, CON TIRAS PARA ATAR EN EL MISMO MATERIAL DELBABERO. MEDIDAS 610X530 MM. ALTAMENTE ASÉPTICO, EVITA LA ACUMULACIÓN DE FOCOS BACTERIANOS, NO SE RASGA Y NO PRODUCE ALERGIAS. IMPERMEABLE, RESISTENTE A LÍQUIDOS. | G26: CAJA CON ROLLO X 80 UNIDADES | H26: 50000 | I26: =+H26*0.19 -> 9500 | J26: =+H26+I26 -> 59500
B27: 3 | C27: 2501695 | D27: 42151602 | E27: BANDA PORTAMATRIZ ANCHA | F27: MATERIAL EN ACERO INOXIDABLE PARA REALIZAR SEPARACIONES INTERPROXIMALES. TAMAÑO 1/4 | G27: ROLLO X 3 MT | H27: 7500 | I27: =+H27*0.19 -> 1425 | J27: =+H27+I27 -> 8925
B28: 4 | C28: 2501696 | D28: 42151602 | E28: BANDA PORTAMATRIZ DELGADA | F28: MATERIAL EN ACERO INOXIDABLE PARA REALIZAR SEPARACIONES INTERPROXIMALES. TAMAÑO 3/16 | G28: ROLLO X 3 MT | H28: 7500 | I28: =+H28*0.19 -> 1425 | J28: =+H28+I28 -> 8925
B29: 5 | D29: 42151681 | E29: CARETA VISOR DE PROTECCIÓN | F29: PROTECTOR FACIAL PARA EL ÁREA DE LA SALUD. SOPORTE FRONTAL PLÁSTICO, NO NASAL, CON CORDON ELÁSTICO AJUSTABLE TRASERO. PESO LIVIANO (NO DESECHABLE). CARETA CON 10 REPUESTOS. PERMITE USO DE GAFAS. SU ESTRUCTURA SUPERIOR PERMITE SUFICIENTE FLUJO DE AIRE LOGRANDO CON ELLO EVITAR EMPAÑAMIENTO. | G29: UNIDAD | H29: 30000 | I29: =+H29*0.19 -> 5700 | J29: =+H29+I29 -> 35700
B30: 6 | C30: 2501928 | D30: 42152009 | E30: CEPILLO PARA PROFILAXIS MANGO METALICO | F30: CEPILLO DESECHABLE METÁLICO O PLÁSTICO DE EMPATE UNIVERSAL PARA CONTRÁNGULO CON PARTE ACTIVA CONFORMADA POR CERDAS SUAVES Y HOMOGÉNEAS | G30: CAJA X 100 A 144 UND | H30: 45000 | I30: =+H30*0.19 -> 8550 | J30: =+H30+I30 -> 53550
B31: 7 | C31: 2501908 | D31: 42151611 | E31: CEPILLOS PARA LAVAR INSTRUMENTAL | F31: CEPILLO CON CERDAS EN NYLON EN LINEA RECTA CON AGARRE EN DOBLE EXTREMO PARA AJUSTAR EN MANO | G31: UNIDAD | H31: 6000 | I31: =+H31*0.19 -> 1140 | J31: =+H31+I31 -> 7140
B32: 8 | C32: 2501909 | D32: 421525 | E32: CUÑAS DE MADERA SURTIDAS | F32: ACCESORIO DESECHABLE DE MADERA PARA PROCEDIMIENTOS DE OPERATORIA PARA ADOSAR MATRICES AL DIENTE | G32: CAJA X 100 A 120 | H32: 23000 | I32: =+H32*0.19 -> 4370 | J32: =+H32+I32 -> 27370
B33: 9 | C33: 2501929 | D33: 42151663 | E33: ENHEBRADORES | F33: PLÁSTICO, DESECHABLE, USO ODONTOLÓGICO | G33: PAQUETE DE 18 A 24 UND | H33: 10000 | I33: =+H33*0.19 -> 1900 | J33: =+H33+I33 -> 11900
B34: 10 | C34: 2501940 | D34: 42151658 | E34: ENJUAGUE ORAL CON CLOHREXIDINA | F34: SOLUCION ANTISÉPTICA BUCAL DE GLUCONATO DE CLORHEXIDINA AL 0.12% . LISTA PARA USO. AMPLIO ESPECTRO MICROBIANO, CONTROL DE PLACA BACTERIANA | G34: FCO DE 900 ml A 2000 ml CON TAPA O VALVULA DOSIFICADORA | H34: 60000 | I34: =+H34*0.19 -> 11400 | J34: =+H34+I34 -> 71400
B35: 11 | C35: 2501943 | D35: 42151627 | E35: ESPONJAS HEMOSTATICA PARA POSTEXODONCIAS | F35: ESPONJA ESTERIL DE USO QUIRURGICO PARA FAVORECER HEMOSTASIA LOCAL DE ORIGEN ANIMAL, VEGETAL O SINTETICO, BIOCOMPATIBLE, ABSORBIBLE, EFECTO DE DEPÓSITO DE LARGA DURACIÓN | G35: FRASCO X 50 UND ó CAJA X 10 UNIDADES (10*10*10) | H35: 110000 | I35: 0 | J35: =+H35+I35 -> 110000 | K35: Se cotiza frasco x 50 unidades
B36: 12 | C36: 2501944 | D36: 42162702 | E36: ESPONJAS DE GASA PARA EXODONCIA | F36: ESPONJAS NO TEJIDAS, CON ABSORBENCIA MAXIMA PARA SITIOS QUIRURGICOS DE EXTRACCION DE CAVIDAD ORAL. | G36: PAQUETE X 200 GASAS | H36: 3500 | I36: =+H36*0.19 -> 665 | J36: =+H36+I36 -> 4165
B37: 13 | C37: 2501944 | D37: 42162702 | E37: OXIDO DE ZINC | F37: POVO BLANCO QUIMICAMENTE PUEO, CONCENTRACION DEL 99%. APROPIADO PARA PREPARAR CEMENTOS DE OBTURACIÓN COMO EUGENOLATO. | G37: FRASCO X 175G | H37: 26000 | I37: 0 | J37: =+H37+I37 -> 26000
B38: 14 | C38: 2501945 | D38: 42311512 | E38: EUGENOL | F38: ES UNA SOLUCIÓN ANESTÉSICA, ANALGÉSICA Y ANTISÉPTICA, APROPIADA PARA PREPARAR CEMENTOS DE OBTURACIÓN COMO EUGENOLATO CON OXIDO DE ZINC Y CEMENTO DE ENDODONCIA . | G38: FRASCO X 15 ML | H38: 16000 | I38: 0 | J38: =+H38+I38 -> 16000
B39: 15 | C39: 2502131 | D39: 42152419 | E39: EYECTORES DE SALIVA | F39: ADITAMENTO CILÍNDRICO EN PLÁSTICO CON REFUERZO METÁLICO COBRIZADO, MALEABLE, CON EMPATE UNIVERSAL A LA UNIDAD ODONTOLÓGICA Y EXTREMO ACTIVO EN FORMA DE BOQUILLA SUAVE ATRAUMÁTICA Y CON ORIFICIOS AMPLIOS | G39: PAQUETE X 100 | H39: 15000 | I39: =+H39*0.19 -> 2850 | J39: =+H39+I39 -> 17850
B40: 16 | C40: 2504002 | D40: 42152460 | E40: GAFAS TRANSPARENTES | F40: PARA PROTECCIÓN OCULAR ANTIEMPAÑANTE, ANTIARAÑAZO, DE POLICARBONATO, TRANSPARENTE. | G40: UNIDAD | H40: 10000 | I40: =+H40*0.19 -> 1900 | J40: =+H40+I40 -> 11900
B41: 17 | C41: 2501096 | D41: 42152004 | E41: HIPOCLORITO DE SODIO AL 5% | F41: HIPOCLORITO DE SODIO PARA IRRIGACIÓN DE CONDUCTOS RADICULARES USO ENDODÓNTICO. | G41: FRASCO X GALON IGUAL A 1000 CC | H41: 25000 | I41: 0 | J41: =+H41+I41 -> 25000 | K41: SE AJUSTA PRECIO
B42: 18 | D42: 421522 | E42: ARTICAINA 4% CON EPINEFRINA | F42: ANESTÉSICO LOCAL INYECTABLE. CADA CÁRPULA DE 1.8 ML CONTIENE LIDOCAÍNA CLORHIDRATO AL 4% CON EPINEFRINA AL 1:100.000, ESTÉRIL. | G42: CAJA X 50 CÁRPULAS DE 1.8 ML | H42: 90000 | I42: 0 | J42: =+H42+I42 -> 90000
B43: 19 | C43: 2501114 | D43: 421522 | E43: LIDOCAINA 2% CON EPINEFRINA | F43: ANESTÉSICO LOCAL INYECTABLE. CADA CÁRPULA DE 1.8 ML CONTIENE LIDOCAÍNA CLORHIDRATO AL 2% CON EPINEFRINA AL 1:80.000, ESTÉRIL. | G43: CAJA X 50 CÁRPULAS DE 1.8 ML | H43: 88000 | I43: 0 | J43: =+H43+I43 -> 88000
B44: 20 | D44: 42151681 | E44: MEPIVACAINA 3% SIN EPINEFRINA | F44: ANESTÉSICO LOCAL INYECTABLE. CADA CÁRPULA DE 1.8 ML, CONTIENE MEPIVACAINA CLOHIDRATO 0, 054 G ESTÉRIL | G44: CAJA X 50 CÁRPULAS DE 1.8 ML | H44: 90000 | I44: 0 | J44: =+H44+I44 -> 90000
B45: 21 | D45: 42151681 | E45: LOSETA DE VIDRIO | F45: EXTREMOS Y BORDES ROMOS, GROSOR DE 7 MM a 10 MM | G45: UNIDAD | H45: 8000 | I45: =+H45*0.19 -> 1520 | J45: =+H45+I45 -> 9520
B46: 22 | C46: 2502059 | D46: 42151628 | E46: PASTA PARA PROFILAXIS | F46: PASTA PARA PROFILAXIS , PASTA SUAVE, DE BASE HIDROSOLUBLE. | G46: TUBO X 50 GR | H46: 13000 | I46: 0 | J46: =+H46+I46 -> 13000
B47: 23 | C47: 2502915 | D47: 42151909 | E47: PIEDRA POMEZ | F47: POLVO DE PIEDRA PÓMEZ UTILIZADA EN LIMPIEZAS DENTALES | G47: BOLSA X LIBRA | H47: 5000 | I47: =+H47*0.19 -> 950 | J47: =+H47+I47 -> 5950
B48: 24 | C48: 2502070 | D48: 42152407 | E48: PUNTAS PARA CAVITRON (TIPO DE INSERTO DE 25 KHZ | F48: PUNTA METÁLICA CUYA PARTE ACTIVA VIENE DE DIFERENTE ESPECIFICACIÓN, MANGO PLÁSTICO, ACOPLE A DISPOSITIVO DEL ULTRASONIDO O CAVITRÓN, FSI-10 AUTOCLAVABLE CON IRRIGACIÓN INTERNA. | G48: UNIDAD | H48: 270000 | I48: =+H48*0.19 -> 51300 | J48: =+H48+I48 -> 321300
B49: 25 | C49: 2502081 | D49: 42151636 | E49: REVELADOR DE PLACA BACTERIANA | F49: LIQUIDO CON SUSTANCIA QUE TIÑE LA PLACA BACTERIANA ( ERITROSINA) | G49: FRASCO X 10 ML | H49: 15000 | I49: =+H49*0.19 -> 2850 | J49: =+H49+I49 -> 17850
B50: 26 | C50: 2584750 | D50: 42151904 | E50: SEDA DENTAL | F50: SEDA DENTAL SIN SABOR QUE PERMITA LA LIMPIEZA ADECUADA EN ESPACIOS INTERPROXIMALES. | G50: ROLLO X 400 MTS | H50: 10000 | I50: =+H50*0.19 -> 1900 | J50: =+H50+I50 -> 11900
B51: 27 | C51: 2500258 | D51: 42152010 | E51: PORTAMATRIZ | F51: INSTRUMENTO METALICO EN CUYA PARTE ACTIVA SE COLOCA LA BANDA MATRIZ PARA PODER SER ACOPLADA AL DIENTE. | G51: UNIDAD | H51: 13000 | I51: =+H51*0.19 -> 2470 | J51: =+H51+I51 -> 15470
...

Sheet GRUPO 4 HIGIENE ORAL
F5: =+'GRUPO 3 INSUMOS VARIOS'!F7 -> COTIZACION CO-25-DIFSA-DISAN-ARC-2026
A9: FECHA: | D9: Junio 27 de 2026
A10: EMPRESA: | D10: DENTAL NADER S.A.S
A11: REPRESENTANTE LEGAL: | D11: Ligia Garzon Bustos
A12: NIT: | D12: 900.486.577-8
A13: DIRECCION: | D13: Carrera 47 # 123 A -09
A14: TELEFONOS Y FAX: | D14: 6199095- Celular 318-5028699
A15: E-MAIL: | D15: licitaciones@dentalnader.com
A16: VIGENCIA COTIZACION: | D16: 60 dias
A18: =+'GRUPO 3 INSUMOS VARIOS'!A19 -> Atendiendo su amable solicitud me permito presentar la cotizacion asi:
A21: “ESPECIFICACIONES TÉCNICAS MÍNIMAS DE OBLIGATORIO CUMPLIMIENTO PARA CONTRATAR”
B23: ITEM | C23: CODIGO SAP | D23: CODIGO | E23: DESCRIPCIÓN | F23: ESPECIFICACIÓN TÉCNICA | G23: PRESENTACIÓN | H23: OFERTA
H24: VALOR UNITARIO | I24: IVA | J24: VALOR TOTAL INCLUIDO IVA
B25: 1 | C25: 2500060 | D25: 42151669 | E25: CEPILLO DENTAL ADULTO | F25: CERDAS TEXTURA MEDIA MANGO ERGONÓMICO ANTIDESLIZANTE PUNTA DIAMANTE CON 4 LÍNEAS DE CERDAS | G25: UNIDAD | H25: 2000 | I25: =+H25*0.19 -> 380 | J25: =+H25+I25 -> 2380
B26: 2 | C26: 2503373 | D26: 13111037 | E26: CREMA DENTAL | F26: MARCA RECONOCIDA. CONTENIDO DE 30 -75 GRAMOS, POR RECOMENDACIÓN DEL MINISTERIO DE SALUD LA PASTA DENTAL CON UN CONTENIDO DE ENTRE 1000 A 1500 PPM (PARTES POR MILLÓN) DE FLÚOR. | G26: UNIDAD | H26: 4000 | I26: =+H26*0.19 -> 760 | J26: =+H26+I26 -> 4760
B27: 3 | E27: BOLSAS INDIVIDUALES TRANSPARENTES | F27: BOLSAS PLASTICAS DE POLIPROPILENO TRANSPARENTES DE ALTA DENSIDAD, LIBRE DE BPA, SELLADO A PRESION O DESLIZANTE DE 15 CM DE ANCHO POR 23 CM DE ALTO, CON LOGO IMPRESO EN PAPEL ADHESIVO PEGADO EN BOLSA. | G27: UNIDAD | H27: 3500 | I27: =+H27*0.19 -> 665 | J27: =+H27+I27 -> 4165
G28: Total Cotizacion Grupo No. 4 | J28: =SUM(J25:J27) -> 11305
B29: Cordialmente,
B33: Ligia Garzon Bustos
B34: Representante Legal
B35: Dental Nader S.A.S.
B36: Nit. 900.486.577-8
