Workbook
Name AdminCargos: [1]Admin!$D$12:$D$21
Name Grupos: #REF!
Name ListaCargos: [1]!ListPers[Cargos]
Name OBJETO: #REF!
Name PMTCargos: [1]PMT!$E$10:$E$19
Name RefCargos: #REF!
Name Unidades: #REF!

Sheet Presupuesto
G1: MUNICIPIO DE FUNDACIÓN | P1: Individual
P2: Final
Q3: 2
G6: Proyecto: | K6: ´Agosto 2026 | Q6: Pantalla
D8: =COUNTIF(Presupuesto!$C$15:$C$40,"Sub") -> 0 | G8: CONSTRUCCIÓN DE PAVIMENTO EN CONCRETO RIGIDO EN CALLE 3A ACCESO AL NUEVO MERCADO PUBLICO EN EL MUNICIPIO DE FUNDACION, MAGDALENA
G13: Presupuesto
B14: Apu | C14: Clase | D14: Cap | E14: Sub | F14: Codigo | G14: Item | H14: Descripción | I14: Unidad | J14: Cantidad | K14: Vr Unitario | L14: SubTotal | M14: Vr Total | N14: MC
C15: Cap | D15: =COUNTIF($C$14:'Presupuesto'!$C15,"Cap") -> 1 | E15: =COUNTIFS($C$14:'Presupuesto'!$C15,"Sub",$D$14:'Presupuesto'!$D15,Presupuesto!$D15) -> 0 | F15: =IF(Presupuesto!$C15="Item",COUNTIFS($D$14:'Presupuesto'!$D15,Presupuesto!$D15,$C$14:'Presupuesto'!$C15,Presupuesto!$C15,$E$14:'Presupuesto'!$E15,Presupuesto!$E15),0) -> 0 | G15: =IF(Presupuesto!$C15="","",IF(Presupuesto!$C15="Cap",""&Presupuesto!$D15,IF(Presupuesto!$C15="Sub",""&Presupuesto!$D15&"."&Presupuesto!$E15,IF($D$8=0,""&Presupuesto!$D15&"."&Presupuesto!$F15&".",""&Presupuesto!$D15&"."&Presupuesto!$E15&"."&Presupuesto!$F15)))) -> 1 | H15: PRELIMINARES | M15: =ROUND(IF(Presupuesto!$C15="Cap",SUMIFS(Presupuesto!$L$15:$L$40,Presupuesto!$D$15:$D$40,Presupuesto!$D15),IF(Presupuesto!$C15="Sub",SUMIFS(Presupuesto!$L$15:$L$40,Presupuesto!$D$15:$D$40,Presupuesto!$D15,Presupuesto!$E$15:$E$40,Presupuesto!$E15),Presupuesto!$L15)),$Q$3) -> 2169279.4 | N15: =IFERROR(IF(IFERROR(VLOOKUP(Presupuesto!$G15,INDIRECT("'"&"MC "&Presupuesto!$G15&"'!C:AS"),43,0),IFERROR(VLOOKUP(Presupuesto!$G15,INDIRECT("'Memorias'!C:AS"),43,0),""))<>"",1,""),"")
B16: 3718 | C16: Item | D16: =COUNTIF($C$14:'Presupuesto'!$C16,"Cap") -> 1 | E16: =COUNTIFS($C$14:'Presupuesto'!$C16,"Sub",$D$14:'Presupuesto'!$D16,Presupuesto!$D16) -> 0 | F16: =IF(Presupuesto!$C16="Item",COUNTIFS($D$14:'Presupuesto'!$D16,Presupuesto!$D16,$C$14:'Presupuesto'!$C16,Presupuesto!$C16,$E$14:'Presupuesto'!$E16,Presupuesto!$E16),0) -> 1 | G16: =IF(Presupuesto!$C16="","",IF(Presupuesto!$C16="Cap",""&Presupuesto!$D16,IF(Presupuesto!$C16="Sub",""&Presupuesto!$D16&"."&Presupuesto!$E16,IF($D$8=0,""&Presupuesto!$D16&"."&Presupuesto!$F16&".",""&Presupuesto!$D16&"."&Presupuesto!$E16&"."&Presupuesto!$F16)))) -> 1.1. | H16: Localización Y Replanteo De Calle Y Zonas De Influencia | I16: M2 | J16: =+'[1]Cantidades de Obra'!S43 -> 445.079 | K16: 4873.92 | L16: =ROUND(Presupuesto!$J16*Presupuesto!$K16,$Q$3) -> 2169279.4 | M16: =ROUND(IF(Presupuesto!$C16="Cap",SUMIFS(Presupuesto!$L$15:$L$40,Presupuesto!$D$15:$D$40,Presupuesto!$D16),IF(Presupuesto!$C16="Sub",SUMIFS(Presupuesto!$L$15:$L$40,Presupuesto!$D$15:$D$40,Presupuesto!$D16,Presupuesto!$E$15:$E$40,Presupuesto!$E16),Presupuesto!$L16)),$Q$3) -> 2169279.4 | N16: =IFERROR(IF(IFERROR(VLOOKUP(Presupuesto!$G16,INDIRECT("'"&"MC "&Presupuesto!$G16&"'!C:AS"),43,0),IFERROR(VLOOKUP(Presupuesto!$G16,INDIRECT("'Memorias'!C:AS"),43,0),""))<>"",1,""),"")
C17: Cap | D17: =COUNTIF($C$14:'Presupuesto'!$C17,"Cap") -> 2 | E17: =COUNTIFS($C$14:'Presupuesto'!$C17,"Sub",$D$14:'Presupuesto'!$D17,Presupuesto!$D17) -> 0 | F17: =IF(Presupuesto!$C17="Item",COUNTIFS($D$14:'Presupuesto'!$D17,Presupuesto!$D17,$C$14:'Presupuesto'!$C17,Presupuesto!$C17,$E$14:'Presupuesto'!$E17,Presupuesto!$E17),0) -> 0 | G17: =IF(Presupuesto!$C17="","",IF(Presupuesto!$C17="Cap",""&Presupuesto!$D17,IF(Presupuesto!$C17="Sub",""&Presupuesto!$D17&"."&Presupuesto!$E17,IF($D$8=0,""&Presupuesto!$D17&"."&Presupuesto!$F17&".",""&Presupuesto!$D17&"."&Presupuesto!$E17&"."&Presupuesto!$F17)))) -> 2 | H17: EXCAVACIONES Y MOVIMIENTOS DE TIERRA | M17: =ROUND(IF(Presupuesto!$C17="Cap",SUMIFS(Presupuesto!$L$15:$L$40,Presupuesto!$D$15:$D$40,Presupuesto!$D17),IF(Presupuesto!$C17="Sub",SUMIFS(Presupuesto!$L$15:$L$40,Presupuesto!$D$15:$D$40,Presupuesto!$D17,Presupuesto!$E$15:$E$40,Presupuesto!$E17),Presupuesto!$L17)),$Q$3) -> 14103199 | N17: =IFERROR(IF(IFERROR(VLOOKUP(Presupuesto!$G17,INDIRECT("'"&"MC "&Presupuesto!$G17&"'!C:AS"),43,0),IFERROR(VLOOKUP(Presupuesto!$G17,INDIRECT("'Memorias'!C:AS"),43,0),""))<>"",1,""),"")
B18: 730 | C18: Item | D18: =COUNTIF($C$14:'Presupuesto'!$C18,"Cap") -> 2 | E18: =COUNTIFS($C$14:'Presupuesto'!$C18,"Sub",$D$14:'Presupuesto'!$D18,Presupuesto!$D18) -> 0 | F18: =IF(Presupuesto!$C18="Item",COUNTIFS($D$14:'Presupuesto'!$D18,Presupuesto!$D18,$C$14:'Presupuesto'!$C18,Presupuesto!$C18,$E$14:'Presupuesto'!$E18,Presupuesto!$E18),0) -> 1 | G18: =IF(Presupuesto!$C18="","",IF(Presupuesto!$C18="Cap",""&Presupuesto!$D18,IF(Presupuesto!$C18="Sub",""&Presupuesto!$D18&"."&Presupuesto!$E18,IF($D$8=0,""&Presupuesto!$D18&"."&Presupuesto!$F18&".",""&Presupuesto!$D18&"."&Presupuesto!$E18&"."&Presupuesto!$F18)))) -> 2.1. | H18: Demolición De Pisos Y Andenes De Concreto | I18: M2 | J18: =+'[1]Cantidades de Obra'!N105 -> 10.8924 | K18: 16729.24 | L18: =ROUND(Presupuesto!$J18*Presupuesto!$K18,$Q$3) -> 182221.57 | M18: =ROUND(IF(Presupuesto!$C18="Cap",SUMIFS(Presupuesto!$L$15:$L$40,Presupuesto!$D$15:$D$40,Presupuesto!$D18),IF(Presupuesto!$C18="Sub",SUMIFS(Presupuesto!$L$15:$L$40,Presupuesto!$D$15:$D$40,Presupuesto!$D18,Presupuesto!$E$15:$E$40,Presupuesto!$E18),Presupuesto!$L18)),$Q$3) -> 182221.57 | N18: =IFERROR(IF(IFERROR(VLOOKUP(Presupuesto!$G18,INDIRECT("'"&"MC "&Presupuesto!$G18&"'!C:AS"),43,0),IFERROR(VLOOKUP(Presupuesto!$G18,INDIRECT("'Memorias'!C:AS"),43,0),""))<>"",1,""),"")
B19: 1051 | C19: Item | D19: =COUNTIF($C$14:'Presupuesto'!$C19,"Cap") -> 2 | E19: =COUNTIFS($C$14:'Presupuesto'!$C19,"Sub",$D$14:'Presupuesto'!$D19,Presupuesto!$D19) -> 0 | F19: =IF(Presupuesto!$C19="Item",COUNTIFS($D$14:'Presupuesto'!$D19,Presupuesto!$D19,$C$14:'Presupuesto'!$C19,Presupuesto!$C19,$E$14:'Presupuesto'!$E19,Presupuesto!$E19),0) -> 2 | G19: =IF(Presupuesto!$C19="","",IF(Presupuesto!$C19="Cap",""&Presupuesto!$D19,IF(Presupuesto!$C19="Sub",""&Presupuesto!$D19&"."&Presupuesto!$E19,IF($D$8=0,""&Presupuesto!$D19&"."&Presupuesto!$F19&".",""&Presupuesto!$D19&"."&Presupuesto!$E19&"."&Presupuesto!$F19)))) -> 2.2. | H19: Demolicion estructuras Existente | I19: M2 | J19: =+'[1]Cantidades de Obra'!M144 -> 2 | K19: 53033.66 | L19: =ROUND(Presupuesto!$J19*Presupuesto!$K19,$Q$3) -> 106067.32 | M19: =ROUND(IF(Presupuesto!$C19="Cap",SUMIFS(Presupuesto!$L$15:$L$40,Presupuesto!$D$15:$D$40,Presupuesto!$D19),IF(Presupuesto!$C19="Sub",SUMIFS(Presupuesto!$L$15:$L$40,Presupuesto!$D$15:$D$40,Presupuesto!$D19,Presupuesto!$E$15:$E$40,Presupuesto!$E19),Presupuesto!$L19)),$Q$3) -> 106067.32 | N19: =IFERROR(IF(IFERROR(VLOOKUP(Presupuesto!$G19,INDIRECT("'"&"MC "&Presupuesto!$G19&"'!C:AS"),43,0),IFERROR(VLOOKUP(Presupuesto!$G19,INDIRECT("'Memorias'!C:AS"),43,0),""))<>"",1,""),"")
B20: 3720 | C20: Item | D20: =COUNTIF($C$14:'Presupuesto'!$C20,"Cap") -> 2 | E20: =COUNTIFS($C$14:'Presupuesto'!$C20,"Sub",$D$14:'Presupuesto'!$D20,Presupuesto!$D20) -> 0 | F20: =IF(Presupuesto!$C20="Item",COUNTIFS($D$14:'Presupuesto'!$D20,Presupuesto!$D20,$C$14:'Presupuesto'!$C20,Presupuesto!$C20,$E$14:'Presupuesto'!$E20,Presupuesto!$E20),0) -> 3 | G20: =IF(Presupuesto!$C20="","",IF(Presupuesto!$C20="Cap",""&Presupuesto!$D20,IF(Presupuesto!$C20="Sub",""&Presupuesto!$D20&"."&Presupuesto!$E20,IF($D$8=0,""&Presupuesto!$D20&"."&Presupuesto!$F20&".",""&Presupuesto!$D20&"."&Presupuesto!$E20&"."&Presupuesto!$F20)))) -> 2.3. | H20: Excavación En Material Común De La Explanación (Corte Con Maquina En Vía) | I20: M3 | J20: =+'[1]Cantidades de Obra'!S171 -> 120.2 | K20: 49155.93 | L20: =ROUND(Presupuesto!$J20*Presupuesto!$K20,$Q$3) -> 5908542.8 | M20: =ROUND(IF(Presupuesto!$C20="Cap",SUMIFS(Presupuesto!$L$15:$L$40,Presupuesto!$D$15:$D$40,Presupuesto!$D20),IF(Presupuesto!$C20="Sub",SUMIFS(Presupuesto!$L$15:$L$40,Presupuesto!$D$15:$D$40,Presupuesto!$D20,Presupuesto!$E$15:$E$40,Presupuesto!$E20),Presupuesto!$L20)),$Q$3) -> 5908542.8 | N20: =IFERROR(IF(IFERROR(VLOOKUP(Presupuesto!$G20,INDIRECT("'"&"MC "&Presupuesto!$G20&"'!C:AS"),43,0),IFERROR(VLOOKUP(Presupuesto!$G20,INDIRECT("'Memorias'!C:AS"),43,0),""))<>"",1,""),"")
B21: 3721 | C21: Item | D21: =COUNTIF($C$14:'Presupuesto'!$C21,"Cap") -> 2 | E21: =COUNTIFS($C$14:'Presupuesto'!$C21,"Sub",$D$14:'Presupuesto'!$D21,Presupuesto!$D21) -> 0 | F21: =IF(Presupuesto!$C21="Item",COUNTIFS($D$14:'Presupuesto'!$D21,Presupuesto!$D21,$C$14:'Presupuesto'!$C21,Presupuesto!$C21,$E$14:'Presupuesto'!$E21,Presupuesto!$E21),0) -> 4 | G21: =IF(Presupuesto!$C21="","",IF(Presupuesto!$C21="Cap",""&Presupuesto!$D21,IF(Presupuesto!$C21="Sub",""&Presupuesto!$D21&"."&Presupuesto!$E21,IF($D$8=0,""&Presupuesto!$D21&"."&Presupuesto!$F21&".",""&Presupuesto!$D21&"."&Presupuesto!$E21&"."&Presupuesto!$F21)))) -> 2.4. | H21: Reconformación, Escarificación, Nivelación Y Compactación De La Subrasante Existente | I21: M2 | J21: =+'[1]Cantidades de Obra'!S192 -> 230.617 | K21: 13743.01 | L21: =ROUND(Presupuesto!$J21*Presupuesto!$K21,$Q$3) -> 3169371.7 | M21: =ROUND(IF(Presupuesto!$C21="Cap",SUMIFS(Presupuesto!$L$15:$L$40,Presupuesto!$D$15:$D$40,Presupuesto!$D21),IF(Presupuesto!$C21="Sub",SUMIFS(Presupuesto!$L$15:$L$40,Presupuesto!$D$15:$D$40,Presupuesto!$D21,Presupuesto!$E$15:$E$40,Presupuesto!$E21),Presupuesto!$L21)),$Q$3) -> 3169371.7 | N21: =IFERROR(IF(IFERROR(VLOOKUP(Presupuesto!$G21,INDIRECT("'"&"MC "&Presupuesto!$G21&"'!C:AS"),43,0),IFERROR(VLOOKUP(Presupuesto!$G21,INDIRECT("'Memorias'!C:AS"),43,0),""))<>"",1,""),"")
B22: 3722 | C22: Item | D22: =COUNTIF($C$14:'Presupuesto'!$C22,"Cap") -> 2 | E22: =COUNTIFS($C$14:'Presupuesto'!$C22,"Sub",$D$14:'Presupuesto'!$D22,Presupuesto!$D22) -> 0 | F22: =IF(Presupuesto!$C22="Item",COUNTIFS($D$14:'Presupuesto'!$D22,Presupuesto!$D22,$C$14:'Presupuesto'!$C22,Presupuesto!$C22,$E$14:'Presupuesto'!$E22,Presupuesto!$E22),0) -> 5 | G22: =IF(Presupuesto!$C22="","",IF(Presupuesto!$C22="Cap",""&Presupuesto!$D22,IF(Presupuesto!$C22="Sub",""&Presupuesto!$D22&"."&Presupuesto!$E22,IF($D$8=0,""&Presupuesto!$D22&"."&Presupuesto!$F22&".",""&Presupuesto!$D22&"."&Presupuesto!$E22&"."&Presupuesto!$F22)))) -> 2.5. | H22: Cargue Y Retiro De Material De Corte | I22: M3 | J22: =+'[1]Cantidades de Obra'!S212 -> 126.57334 | K22: 37424.91 | L22: =ROUND(Presupuesto!$J22*Presupuesto!$K22,$Q$3) -> 4736995.9 | M22: =ROUND(IF(Presupuesto!$C22="Cap",SUMIFS(Presupuesto!$L$15:$L$40,Presupuesto!$D$15:$D$40,Presupuesto!$D22),IF(Presupuesto!$C22="Sub",SUMIFS(Presupuesto!$L$15:$L$40,Presupuesto!$D$15:$D$40,Presupuesto!$D22,Presupuesto!$E$15:$E$40,Presupuesto!$E22),Presupuesto!$L22)),$Q$3) -> 4736995.9 | N22: =IFERROR(IF(IFERROR(VLOOKUP(Presupuesto!$G22,INDIRECT("'"&"MC "&Presupuesto!$G22&"'!C:AS"),43,0),IFERROR(VLOOKUP(Presupuesto!$G22,INDIRECT("'Memorias'!C:AS"),43,0),""))<>"",1,""),"")
C23: Cap | D23: =COUNTIF($C$14:'Presupuesto'!$C23,"Cap") -> 3 | E23: =COUNTIFS($C$14:'Presupuesto'!$C23,"Sub",$D$14:'Presupuesto'!$D23,Presupuesto!$D23) -> 0 | F23: =IF(Presupuesto!$C23="Item",COUNTIFS($D$14:'Presupuesto'!$D23,Presupuesto!$D23,$C$14:'Presupuesto'!$C23,Presupuesto!$C23,$E$14:'Presupuesto'!$E23,Presupuesto!$E23),0) -> 0 | G23: =IF(Presupuesto!$C23="","",IF(Presupuesto!$C23="Cap",""&Presupuesto!$D23,IF(Presupuesto!$C23="Sub",""&Presupuesto!$D23&"."&Presupuesto!$E23,IF($D$8=0,""&Presupuesto!$D23&"."&Presupuesto!$F23&".",""&Presupuesto!$D23&"."&Presupuesto!$E23&"."&Presupuesto!$F23)))) -> 3 | H23: REDES HUMEDAS | M23: =ROUND(IF(Presupuesto!$C23="Cap",SUMIFS(Presupuesto!$L$15:$L$40,Presupuesto!$D$15:$D$40,Presupuesto!$D23),IF(Presupuesto!$C23="Sub",SUMIFS(Presupuesto!$L$15:$L$40,Presupuesto!$D$15:$D$40,Presupuesto!$D23,Presupuesto!$E$15:$E$40,Presupuesto!$E23),Presupuesto!$L23)),$Q$3) -> 16284859 | N23: =IFERROR(IF(IFERROR(VLOOKUP(Presupuesto!$G23,INDIRECT("'"&"MC "&Presupuesto!$G23&"'!C:AS"),43,0),IFERROR(VLOOKUP(Presupuesto!$G23,INDIRECT("'Memorias'!C:AS"),43,0),""))<>"",1,""),"")
B24: 3733 | C24: Item | D24: =COUNTIF($C$14:'Presupuesto'!$C24,"Cap") -> 3 | E24: =COUNTIFS($C$14:'Presupuesto'!$C24,"Sub",$D$14:'Presupuesto'!$D24,Presupuesto!$D24) -> 0 | F24: =IF(Presupuesto!$C24="Item",COUNTIFS($D$14:'Presupuesto'!$D24,Presupuesto!$D24,$C$14:'Presupuesto'!$C24,Presupuesto!$C24,$E$14:'Presupuesto'!$E24,Presupuesto!$E24),0) -> 1 | G24: =IF(Presupuesto!$C24="","",IF(Presupuesto!$C24="Cap",""&Presupuesto!$D24,IF(Presupuesto!$C24="Sub",""&Presupuesto!$D24&"."&Presupuesto!$E24,IF($D$8=0,""&Presupuesto!$D24&"."&Presupuesto!$F24&".",""&Presupuesto!$D24&"."&Presupuesto!$E24&"."&Presupuesto!$F24)))) -> 3.1. | H24: Reubicación y señalización red de Gas | I24: M2 | J24: =+'[1]Cantidades de Obra'!S237 -> 27.231 | K24: 49508.67 | L24: =ROUND(Presupuesto!$J24*Presupuesto!$K24,$Q$3) -> 1348170.6 | M24: =ROUND(IF(Presupuesto!$C24="Cap",SUMIFS(Presupuesto!$L$15:$L$40,Presupuesto!$D$15:$D$40,Presupuesto!$D24),IF(Presupuesto!$C24="Sub",SUMIFS(Presupuesto!$L$15:$L$40,Presupuesto!$D$15:$D$40,Presupuesto!$D24,Presupuesto!$E$15:$E$40,Presupuesto!$E24),Presupuesto!$L24)),$Q$3) -> 1348170.6 | N24: =IFERROR(IF(IFERROR(VLOOKUP(Presupuesto!$G24,INDIRECT("'"&"MC "&Presupuesto!$G24&"'!C:AS"),43,0),IFERROR(VLOOKUP(Presupuesto!$G24,INDIRECT("'Memorias'!C:AS"),43,0),""))<>"",1,""),"")
B25: 3723 | C25: Item | D25: =COUNTIF($C$14:'Presupuesto'!$C25,"Cap") -> 3 | E25: =COUNTIFS($C$14:'Presupuesto'!$C25,"Sub",$D$14:'Presupuesto'!$D25,Presupuesto!$D25) -> 0 | F25: =IF(Presupuesto!$C25="Item",COUNTIFS($D$14:'Presupuesto'!$D25,Presupuesto!$D25,$C$14:'Presupuesto'!$C25,Presupuesto!$C25,$E$14:'Presupuesto'!$E25,Presupuesto!$E25),0) -> 2 | G25: =IF(Presupuesto!$C25="","",IF(Presupuesto!$C25="Cap",""&Presupuesto!$D25,IF(Presupuesto!$C25="Sub",""&Presupuesto!$D25&"."&Presupuesto!$E25,IF($D$8=0,""&Presupuesto!$D25&"."&Presupuesto!$F25&".",""&Presupuesto!$D25&"."&Presupuesto!$E25&"."&Presupuesto!$F25)))) -> 3.2. | H25: Suministro y/o Reposición De Acometida Domiciliaria De Acueducto (Incluye Suministro E Instalación De Collar De Derivación, Reposición De Hasta 6.5m De Tubería, Excavación, Relleno, Compactación Y Reconexión Del Servicio) | I25: Und | J25: =+'[1]Cantidades de Obra'!S248 -> 6 | K25: 651378.23 | L25: =ROUND(Presupuesto!$J25*Presupuesto!$K25,$Q$3) -> 3908269.4 | M25: =ROUND(IF(Presupuesto!$C25="Cap",SUMIFS(Presupuesto!$L$15:$L$40,Presupuesto!$D$15:$D$40,Presupuesto!$D25),IF(Presupuesto!$C25="Sub",SUMIFS(Presupuesto!$L$15:$L$40,Presupuesto!$D$15:$D$40,Presupuesto!$D25,Presupuesto!$E$15:$E$40,Presupuesto!$E25),Presupuesto!$L25)),$Q$3) -> 3908269.4 | N25: =IFERROR(IF(IFERROR(VLOOKUP(Presupuesto!$G25,INDIRECT("'"&"MC "&Presupuesto!$G25&"'!C:AS"),43,0),IFERROR(VLOOKUP(Presupuesto!$G25,INDIRECT("'Memorias'!C:AS"),43,0),""))<>"",1,""),"")
B26: 3724 | C26: Item | D26: =COUNTIF($C$14:'Presupuesto'!$C26,"Cap") -> 3 | E26: =COUNTIFS($C$14:'Presupuesto'!$C26,"Sub",$D$14:'Presupuesto'!$D26,Presupuesto!$D26) -> 0 | F26: =IF(Presupuesto!$C26="Item",COUNTIFS($D$14:'Presupuesto'!$D26,Presupuesto!$D26,$C$14:'Presupuesto'!$C26,Presupuesto!$C26,$E$14:'Presupuesto'!$E26,Presupuesto!$E26),0) -> 3 | G26: =IF(Presupuesto!$C26="","",IF(Presupuesto!$C26="Cap",""&Presupuesto!$D26,IF(Presupuesto!$C26="Sub",""&Presupuesto!$D26&"."&Presupuesto!$E26,IF($D$8=0,""&Presupuesto!$D26&"."&Presupuesto!$F26&".",""&Presupuesto!$D26&"."&Presupuesto!$E26&"."&Presupuesto!$F26)))) -> 3.3. | H26: Construcción y/o Reposición De Acometida Sanitaria Domiciliaria, Afectada Por Excavaciones. Incluye Suministro E Instalación De Tuberia De 6", Yee De 8" X 6", Excavación, Relleno, Compactación, Reubicación Y/O Construcción De Caja De Registro, Y Reconexi | I26: Und | J26: =+'[1]Cantidades de Obra'!S258 -> 6 | K26: 1665269.9 | L26: =ROUND(Presupuesto!$J26*Presupuesto!$K26,$Q$3) -> 9991619.1 | M26: =ROUND(IF(Presupuesto!$C26="Cap",SUMIFS(Presupuesto!$L$15:$L$40,Presupuesto!$D$15:$D$40,Presupuesto!$D26),IF(Presupuesto!$C26="Sub",SUMIFS(Presupuesto!$L$15:$L$40,Presupuesto!$D$15:$D$40,Presupuesto!$D26,Presupuesto!$E$15:$E$40,Presupuesto!$E26),Presupuesto!$L26)),$Q$3) -> 9991619.1 | N26: =IFERROR(IF(IFERROR(VLOOKUP(Presupuesto!$G26,INDIRECT("'"&"MC "&Presupuesto!$G26&"'!C:AS"),43,0),IFERROR(VLOOKUP(Presupuesto!$G26,INDIRECT("'Memorias'!C:AS"),43,0),""))<>"",1,""),"")
B27: 3725 | C27: Item | D27: =COUNTIF($C$14:'Presupuesto'!$C27,"Cap") -> 3 | E27: =COUNTIFS($C$14:'Presupuesto'!$C27,"Sub",$D$14:'Presupuesto'!$D27,Presupuesto!$D27) -> 0 | F27: =IF(Presupuesto!$C27="Item",COUNTIFS($D$14:'Presupuesto'!$D27,Presupuesto!$D27,$C$14:'Presupuesto'!$C27,Presupuesto!$C27,$E$14:'Presupuesto'!$E27,Presupuesto!$E27),0) -> 4 | G27: =IF(Presupuesto!$C27="","",IF(Presupuesto!$C27="Cap",""&Presupuesto!$D27,IF(Presupuesto!$C27="Sub",""&Presupuesto!$D27&"."&Presupuesto!$E27,IF($D$8=0,""&Presupuesto!$D27&"."&Presupuesto!$F27&".",""&Presupuesto!$D27&"."&Presupuesto!$E27&"."&Presupuesto!$F27)))) -> 3.4. | H27: Ajuste Y Nivelación De La Losa Superior Manhole A Rasante Pavimento | I27: Und | J27: =+'[1]Cantidades de Obra'!S270 -> 1 | K27: 1036800.2 | L27: =ROUND(Presupuesto!$J27*Presupuesto!$K27,$Q$3) -> 1036800.2 | M27: =ROUND(IF(Presupuesto!$C27="Cap",SUMIFS(Presupuesto!$L$15:$L$40,Presupuesto!$D$15:$D$40,Presupuesto!$D27),IF(Presupuesto!$C27="Sub",SUMIFS(Presupuesto!$L$15:$L$40,Presupuesto!$D$15:$D$40,Presupuesto!$D27,Presupuesto!$E$15:$E$40,Presupuesto!$E27),Presupuesto!$L27)),$Q$3) -> 1036800.2 | N27: =IFERROR(IF(IFERROR(VLOOKUP(Presupuesto!$G27,INDIRECT("'"&"MC "&Presupuesto!$G27&"'!C:AS"),43,0),IFERROR(VLOOKUP(Presupuesto!$G27,INDIRECT("'Memorias'!C:AS"),43,0),""))<>"",1,""),"")
C28: Cap | D28: =COUNTIF($C$14:'Presupuesto'!$C28,"Cap") -> 4 | E28: =COUNTIFS($C$14:'Presupuesto'!$C28,"Sub",$D$14:'Presupuesto'!$D28,Presupuesto!$D28) -> 0 | F28: =IF(Presupuesto!$C28="Item",COUNTIFS($D$14:'Presupuesto'!$D28,Presupuesto!$D28,$C$14:'Presupuesto'!$C28,Presupuesto!$C28,$E$14:'Presupuesto'!$E28,Presupuesto!$E28),0) -> 0 | G28: =IF(Presupuesto!$C28="","",IF(Presupuesto!$C28="Cap",""&Presupuesto!$D28,IF(Presupuesto!$C28="Sub",""&Presupuesto!$D28&"."&Presupuesto!$E28,IF($D$8=0,""&Presupuesto!$D28&"."&Presupuesto!$F28&".",""&Presupuesto!$D28&"."&Presupuesto!$E28&"."&Presupuesto!$F28)))) -> 4 | H28: RELLENOS Y SUB-BASES | M28: =ROUND(IF(Presupuesto!$C28="Cap",SUMIFS(Presupuesto!$L$15:$L$40,Presupuesto!$D$15:$D$40,Presupuesto!$D28),IF(Presupuesto!$C28="Sub",SUMIFS(Presupuesto!$L$15:$L$40,Presupuesto!$D$15:$D$40,Presupuesto!$D28,Presupuesto!$E$15:$E$40,Presupuesto!$E28),Presupuesto!$L28)),$Q$3) -> 12970669 | N28: =IFERROR(IF(IFERROR(VLOOKUP(Presupuesto!$G28,INDIRECT("'"&"MC "&Presupuesto!$G28&"'!C:AS"),43,0),IFERROR(VLOOKUP(Presupuesto!$G28,INDIRECT("'Memorias'!C:AS"),43,0),""))<>"",1,""),"")
B29: 3726 | C29: Item | D29: =COUNTIF($C$14:'Presupuesto'!$C29,"Cap") -> 4 | E29: =COUNTIFS($C$14:'Presupuesto'!$C29,"Sub",$D$14:'Presupuesto'!$D29,Presupuesto!$D29) -> 0 | F29: =IF(Presupuesto!$C29="Item",COUNTIFS($D$14:'Presupuesto'!$D29,Presupuesto!$D29,$C$14:'Presupuesto'!$C29,Presupuesto!$C29,$E$14:'Presupuesto'!$E29,Presupuesto!$E29),0) -> 1 | G29: =IF(Presupuesto!$C29="","",IF(Presupuesto!$C29="Cap",""&Presupuesto!$D29,IF(Presupuesto!$C29="Sub",""&Presupuesto!$D29&"."&Presupuesto!$E29,IF($D$8=0,""&Presupuesto!$D29&"."&Presupuesto!$F29&".",""&Presupuesto!$D29&"."&Presupuesto!$E29&"."&Presupuesto!$F29)))) -> 4.1. | H29: Suministro Y Colocación De Subbase Granular, Incluye Extendido, Humectación, Conformación, Nivelación Y Compactación Hasta Alcanzar Las Especificaciones Técnicas Requeridas | I29: M3 | J29: =+'[1]Cantidades de Obra'!S295 -> 57.65425 | K29: 224973.34 | L29: =ROUND(Presupuesto!$J29*Presupuesto!$K29,$Q$3) -> 12970669 | M29: =ROUND(IF(Presupuesto!$C29="Cap",SUMIFS(Presupuesto!$L$15:$L$40,Presupuesto!$D$15:$D$40,Presupuesto!$D29),IF(Presupuesto!$C29="Sub",SUMIFS(Presupuesto!$L$15:$L$40,Presupuesto!$D$15:$D$40,Presupuesto!$D29,Presupuesto!$E$15:$E$40,Presupuesto!$E29),Presupuesto!$L29)),$Q$3) -> 12970669 | N29: =IFERROR(IF(IFERROR(VLOOKUP(Presupuesto!$G29,INDIRECT("'"&"MC "&Presupuesto!$G29&"'!C:AS"),43,0),IFERROR(VLOOKUP(Presupuesto!$G29,INDIRECT("'Memorias'!C:AS"),43,0),""))<>"",1,""),"")
C30: Cap | D30: =COUNTIF($C$14:'Presupuesto'!$C30,"Cap") -> 5 | E30: =COUNTIFS($C$14:'Presupuesto'!$C30,"Sub",$D$14:'Presupuesto'!$D30,Presupuesto!$D30) -> 0 | F30: =IF(Presupuesto!$C30="Item",COUNTIFS($D$14:'Presupuesto'!$D30,Presupuesto!$D30,$C$14:'Presupuesto'!$C30,Presupuesto!$C30,$E$14:'Presupuesto'!$E30,Presupuesto!$E30),0) -> 0 | G30: =IF(Presupuesto!$C30="","",IF(Presupuesto!$C30="Cap",""&Presupuesto!$D30,IF(Presupuesto!$C30="Sub",""&Presupuesto!$D30&"."&Presupuesto!$E30,IF($D$8=0,""&Presupuesto!$D30&"."&Presupuesto!$F30&".",""&Presupuesto!$D30&"."&Presupuesto!$E30&"."&Presupuesto!$F30)))) -> 5 | H30: PAVIMENTO | M30: =ROUND(IF(Presupuesto!$C30="Cap",SUMIFS(Presupuesto!$L$15:$L$40,Presupuesto!$D$15:$D$40,Presupuesto!$D30),IF(Presupuesto!$C30="Sub",SUMIFS(Presupuesto!$L$15:$L$40,Presupuesto!$D$15:$D$40,Presupuesto!$D30,Presupuesto!$E$15:$E$40,Presupuesto!$E30),Presupuesto!$L30)),$Q$3) -> 59905274 | N30: =IFERROR(IF(IFERROR(VLOOKUP(Presupuesto!$G30,INDIRECT("'"&"MC "&Presupuesto!$G30&"'!C:AS"),43,0),IFERROR(VLOOKUP(Presupuesto!$G30,INDIRECT("'Memorias'!C:AS"),43,0),""))<>"",1,""),"")
B31: 3727 | C31: Item | D31: =COUNTIF($C$14:'Presupuesto'!$C31,"Cap") -> 5 | E31: =COUNTIFS($C$14:'Presupuesto'!$C31,"Sub",$D$14:'Presupuesto'!$D31,Presupuesto!$D31) -> 0 | F31: =IF(Presupuesto!$C31="Item",COUNTIFS($D$14:'Presupuesto'!$D31,Presupuesto!$D31,$C$14:'Presupuesto'!$C31,Presupuesto!$C31,$E$14:'Presupuesto'!$E31,Presupuesto!$E31),0) -> 1 | G31: =IF(Presupuesto!$C31="","",IF(Presupuesto!$C31="Cap",""&Presupuesto!$D31,IF(Presupuesto!$C31="Sub",""&Presupuesto!$D31&"."&Presupuesto!$E31,IF($D$8=0,""&Presupuesto!$D31&"."&Presupuesto!$F31&".",""&Presupuesto!$D31&"."&Presupuesto!$E31&"."&Presupuesto!$F31)))) -> 5.1. | H31: Construcción De Losa De Calzada En Concreto E=20cm.( Incluye Suministro, Transporte, Colocación Y Acabado Del Concreto; Instalación De Pasadores En Acero Liso Ø 3/4" Cada 30cm Y Barras De Unión Corrugadas Ø 1/2" Cada 1.20m (Long. 0.85m)) | I31: M2 | J31: =+'[1]Cantidades de Obra'!S320 -> 225.617 | K31: 238508.83 | L31: =ROUND(Presupuesto!$J31*Presupuesto!$K31,$Q$3) -> 53811647 | M31: =ROUND(IF(Presupuesto!$C31="Cap",SUMIFS(Presupuesto!$L$15:$L$40,Presupuesto!$D$15:$D$40,Presupuesto!$D31),IF(Presupuesto!$C31="Sub",SUMIFS(Presupuesto!$L$15:$L$40,Presupuesto!$D$15:$D$40,Presupuesto!$D31,Presupuesto!$E$15:$E$40,Presupuesto!$E31),Presupuesto!$L31)),$Q$3) -> 53811647 | N31: =IFERROR(IF(IFERROR(VLOOKUP(Presupuesto!$G31,INDIRECT("'"&"MC "&Presupuesto!$G31&"'!C:AS"),43,0),IFERROR(VLOOKUP(Presupuesto!$G31,INDIRECT("'Memorias'!C:AS"),43,0),""))<>"",1,""),"")
B32: 3728 | C32: Item | D32: =COUNTIF($C$14:'Presupuesto'!$C32,"Cap") -> 5 | E32: =COUNTIFS($C$14:'Presupuesto'!$C32,"Sub",$D$14:'Presupuesto'!$D32,Presupuesto!$D32) -> 0 | F32: =IF(Presupuesto!$C32="Item",COUNTIFS($D$14:'Presupuesto'!$D32,Presupuesto!$D32,$C$14:'Presupuesto'!$C32,Presupuesto!$C32,$E$14:'Presupuesto'!$E32,Presupuesto!$E32),0) -> 2 | G32: =IF(Presupuesto!$C32="","",IF(Presupuesto!$C32="Cap",""&Presupuesto!$D32,IF(Presupuesto!$C32="Sub",""&Presupuesto!$D32&"."&Presupuesto!$E32,IF($D$8=0,""&Presupuesto!$D32&"."&Presupuesto!$F32&".",""&Presupuesto!$D32&"."&Presupuesto!$E32&"."&Presupuesto!$F32)))) -> 5.2. | H32: Ejecución De Junta De Contracción Con Sello Elastomérico De Poliuretano De Alto Desempeño. Incluye Suministro E Instalación De Cordon De Respaldo (Fondo De Junta), Preparación De Superficie Y Aplicación De Sello. | I32: M | J32: =+'[1]Cantidades de Obra'!S337 -> 97.3 | K32: 36932.64 | L32: =ROUND(Presupuesto!$J32*Presupuesto!$K32,$Q$3) -> 3593545.9 | M32: =ROUND(IF(Presupuesto!$C32="Cap",SUMIFS(Presupuesto!$L$15:$L$40,Presupuesto!$D$15:$D$40,Presupuesto!$D32),IF(Presupuesto!$C32="Sub",SUMIFS(Presupuesto!$L$15:$L$40,Presupuesto!$D$15:$D$40,Presupuesto!$D32,Presupuesto!$E$15:$E$40,Presupuesto!$E32),Presupuesto!$L32)),$Q$3) -> 3593545.9 | N32: =IFERROR(IF(IFERROR(VLOOKUP(Presupuesto!$G32,INDIRECT("'"&"MC "&Presupuesto!$G32&"'!C:AS"),43,0),IFERROR(VLOOKUP(Presupuesto!$G32,INDIRECT("'Memorias'!C:AS"),43,0),""))<>"",1,""),"")
B33: 3729 | C33: Item | D33: =COUNTIF($C$14:'Presupuesto'!$C33,"Cap") -> 5 | E33: =COUNTIFS($C$14:'Presupuesto'!$C33,"Sub",$D$14:'Presupuesto'!$D33,Presupuesto!$D33) -> 0 | F33: =IF(Presupuesto!$C33="Item",COUNTIFS($D$14:'Presupuesto'!$D33,Presupuesto!$D33,$C$14:'Presupuesto'!$C33,Presupuesto!$C33,$E$14:'Presupuesto'!$E33,Presupuesto!$E33),0) -> 3 | G33: =IF(Presupuesto!$C33="","",IF(Presupuesto!$C33="Cap",""&Presupuesto!$D33,IF(Presupuesto!$C33="Sub",""&Presupuesto!$D33&"."&Presupuesto!$E33,IF($D$8=0,""&Presupuesto!$D33&"."&Presupuesto!$F33&".",""&Presupuesto!$D33&"."&Presupuesto!$E33&"."&Presupuesto!$F33)))) -> 5.3. | H33: Fabricación, Suministro e Insalatación de Canastilla Pasajuntas para Losas de Concreto (Incluye Posicionamiento, Alineación y Fijación de pasadores conforme a planos de Diseño) | I33: M | J33: =+'[1]Cantidades de Obra'!S351 -> 65 | K33: 38462.79 | L33: =ROUND(Presupuesto!$J33*Presupuesto!$K33,$Q$3) -> 2500081.4 | M33: =ROUND(IF(Presupuesto!$C33="Cap",SUMIFS(Presupuesto!$L$15:$L$40,Presupuesto!$D$15:$D$40,Presupuesto!$D33),IF(Presupuesto!$C33="Sub",SUMIFS(Presupuesto!$L$15:$L$40,Presupuesto!$D$15:$D$40,Presupuesto!$D33,Presupuesto!$E$15:$E$40,Presupuesto!$E33),Presupuesto!$L33)),$Q$3) -> 2500081.4 | N33: =IFERROR(IF(IFERROR(VLOOKUP(Presupuesto!$G33,INDIRECT("'"&"MC "&Presupuesto!$G33&"'!C:AS"),43,0),IFERROR(VLOOKUP(Presupuesto!$G33,INDIRECT("'Memorias'!C:AS"),43,0),""))<>"",1,""),"")
C34: Cap | D34: =COUNTIF($C$14:'Presupuesto'!$C34,"Cap") -> 6 | E34: =COUNTIFS($C$14:'Presupuesto'!$C34,"Sub",$D$14:'Presupuesto'!$D34,Presupuesto!$D34) -> 0 | F34: =IF(Presupuesto!$C34="Item",COUNTIFS($D$14:'Presupuesto'!$D34,Presupuesto!$D34,$C$14:'Presupuesto'!$C34,Presupuesto!$C34,$E$14:'Presupuesto'!$E34,Presupuesto!$E34),0) -> 0 | G34: =IF(Presupuesto!$C34="","",IF(Presupuesto!$C34="Cap",""&Presupuesto!$D34,IF(Presupuesto!$C34="Sub",""&Presupuesto!$D34&"."&Presupuesto!$E34,IF($D$8=0,""&Presupuesto!$D34&"."&Presupuesto!$F34&".",""&Presupuesto!$D34&"."&Presupuesto!$E34&"."&Presupuesto!$F34)))) -> 6 | H34: BORDILLOS Y ANDENES | M34: =ROUND(IF(Presupuesto!$C34="Cap",SUMIFS(Presupuesto!$L$15:$L$40,Presupuesto!$D$15:$D$40,Presupuesto!$D34),IF(Presupuesto!$C34="Sub",SUMIFS(Presupuesto!$L$15:$L$40,Presupuesto!$D$15:$D$40,Presupuesto!$D34,Presupuesto!$E$15:$E$40,Presupuesto!$E34),Presupuesto!$L34)),$Q$3) -> 34390110 | N34: =IFERROR(IF(IFERROR(VLOOKUP(Presupuesto!$G34,INDIRECT("'"&"MC "&Presupuesto!$G34&"'!C:AS"),43,0),IFERROR(VLOOKUP(Presupuesto!$G34,INDIRECT("'Memorias'!C:AS"),43,0),""))<>"",1,""),"")
B35: 3730 | C35: Item | D35: =COUNTIF($C$14:'Presupuesto'!$C35,"Cap") -> 6 | E35: =COUNTIFS($C$14:'Presupuesto'!$C35,"Sub",$D$14:'Presupuesto'!$D35,Presupuesto!$D35) -> 0 | F35: =IF(Presupuesto!$C35="Item",COUNTIFS($D$14:'Presupuesto'!$D35,Presupuesto!$D35,$C$14:'Presupuesto'!$C35,Presupuesto!$C35,$E$14:'Presupuesto'!$E35,Presupuesto!$E35),0) -> 1 | G35: =IF(Presupuesto!$C35="","",IF(Presupuesto!$C35="Cap",""&Presupuesto!$D35,IF(Presupuesto!$C35="Sub",""&Presupuesto!$D35&"."&Presupuesto!$E35,IF($D$8=0,""&Presupuesto!$D35&"."&Presupuesto!$F35&".",""&Presupuesto!$D35&"."&Presupuesto!$E35&"."&Presupuesto!$F35)))) -> 6.1. | H35: Construcción De Bordillo En Concreto De 3.000psi, Sección 0.15m X 0.20m. Incluye Suministro, Formaleta, Vaciado, Conformación, Acabado, Desencofrado Y Curado. | I35: M | J35: =+'[1]Cantidades de Obra'!S366 -> 57.3 | K35: 85735.55 | L35: =ROUND(Presupuesto!$J35*Presupuesto!$K35,$Q$3) -> 4912647 | M35: =ROUND(IF(Presupuesto!$C35="Cap",SUMIFS(Presupuesto!$L$15:$L$40,Presupuesto!$D$15:$D$40,Presupuesto!$D35),IF(Presupuesto!$C35="Sub",SUMIFS(Presupuesto!$L$15:$L$40,Presupuesto!$D$15:$D$40,Presupuesto!$D35,Presupuesto!$E$15:$E$40,Presupuesto!$E35),Presupuesto!$L35)),$Q$3) -> 4912647 | N35: =IFERROR(IF(IFERROR(VLOOKUP(Presupuesto!$G35,INDIRECT("'"&"MC "&Presupuesto!$G35&"'!C:AS"),43,0),IFERROR(VLOOKUP(Presupuesto!$G35,INDIRECT("'Memorias'!C:AS"),43,0),""))<>"",1,""),"")
B36: 2547 | C36: Item | D36: =COUNTIF($C$14:'Presupuesto'!$C36,"Cap") -> 6 | E36: =COUNTIFS($C$14:'Presupuesto'!$C36,"Sub",$D$14:'Presupuesto'!$D36,Presupuesto!$D36) -> 0 | F36: =IF(Presupuesto!$C36="Item",COUNTIFS($D$14:'Presupuesto'!$D36,Presupuesto!$D36,$C$14:'Presupuesto'!$C36,Presupuesto!$C36,$E$14:'Presupuesto'!$E36,Presupuesto!$E36),0) -> 2 | G36: =IF(Presupuesto!$C36="","",IF(Presupuesto!$C36="Cap",""&Presupuesto!$D36,IF(Presupuesto!$C36="Sub",""&Presupuesto!$D36&"."&Presupuesto!$E36,IF($D$8=0,""&Presupuesto!$D36&"."&Presupuesto!$F36&".",""&Presupuesto!$D36&"."&Presupuesto!$E36&"."&Presupuesto!$F36)))) -> 6.2. | H36: Anden Concreto 10Cm 3000 Psi | I36: M2 | J36: =+'[1]Cantidades de Obra'!S379 -> 119 | K36: 247709.77 | L36: =ROUND(Presupuesto!$J36*Presupuesto!$K36,$Q$3) -> 29477463 | M36: =ROUND(IF(Presupuesto!$C36="Cap",SUMIFS(Presupuesto!$L$15:$L$40,Presupuesto!$D$15:$D$40,Presupuesto!$D36),IF(Presupuesto!$C36="Sub",SUMIFS(Presupuesto!$L$15:$L$40,Presupuesto!$D$15:$D$40,Presupuesto!$D36,Presupuesto!$E$15:$E$40,Presupuesto!$E36),Presupuesto!$L36)),$Q$3) -> 29477463 | N36: =IFERROR(IF(IFERROR(VLOOKUP(Presupuesto!$G36,INDIRECT("'"&"MC "&Presupuesto!$G36&"'!C:AS"),43,0),IFERROR(VLOOKUP(Presupuesto!$G36,INDIRECT("'Memorias'!C:AS"),43,0),""))<>"",1,""),"")
C37: Cap | D37: =COUNTIF($C$14:'Presupuesto'!$C37,"Cap") -> 7 | E37: =COUNTIFS($C$14:'Presupuesto'!$C37,"Sub",$D$14:'Presupuesto'!$D37,Presupuesto!$D37) -> 0 | F37: =IF(Presupuesto!$C37="Item",COUNTIFS($D$14:'Presupuesto'!$D37,Presupuesto!$D37,$C$14:'Presupuesto'!$C37,Presupuesto!$C37,$E$14:'Presupuesto'!$E37,Presupuesto!$E37),0) -> 0 | G37: =IF(Presupuesto!$C37="","",IF(Presupuesto!$C37="Cap",""&Presupuesto!$D37,IF(Presupuesto!$C37="Sub",""&Presupuesto!$D37&"."&Presupuesto!$E37,IF($D$8=0,""&Presupuesto!$D37&"."&Presupuesto!$F37&".",""&Presupuesto!$D37&"."&Presupuesto!$E37&"."&Presupuesto!$F37)))) -> 7 | H37: ACEROS DE REFUERZO | M37: =ROUND(IF(Presupuesto!$C37="Cap",SUMIFS(Presupuesto!$L$15:$L$40,Presupuesto!$D$15:$D$40,Presupuesto!$D37),IF(Presupuesto!$C37="Sub",SUMIFS(Presupuesto!$L$15:$L$40,Presupuesto!$D$15:$D$40,Presupuesto!$D37,Presupuesto!$E$15:$E$40,Presupuesto!$E37),Presupuesto!$L37)),$Q$3) -> 6700068.9 | N37: =IFERROR(IF(IFERROR(VLOOKUP(Presupuesto!$G37,INDIRECT("'"&"MC "&Presupuesto!$G37&"'!C:AS"),43,0),IFERROR(VLOOKUP(Presupuesto!$G37,INDIRECT("'Memorias'!C:AS"),43,0),""))<>"",1,""),"")
B38: 3731 | C38: Item | D38: =COUNTIF($C$14:'Presupuesto'!$C38,"Cap") -> 7 | E38: =COUNTIFS($C$14:'Presupuesto'!$C38,"Sub",$D$14:'Presupuesto'!$D38,Presupuesto!$D38) -> 0 | F38: =IF(Presupuesto!$C38="Item",COUNTIFS($D$14:'Presupuesto'!$D38,Presupuesto!$D38,$C$14:'Presupuesto'!$C38,Presupuesto!$C38,$E$14:'Presupuesto'!$E38,Presupuesto!$E38),0) -> 1 | G38: =IF(Presupuesto!$C38="","",IF(Presupuesto!$C38="Cap",""&Presupuesto!$D38,IF(Presupuesto!$C38="Sub",""&Presupuesto!$D38&"."&Presupuesto!$E38,IF($D$8=0,""&Presupuesto!$D38&"."&Presupuesto!$F38&".",""&Presupuesto!$D38&"."&Presupuesto!$E38&"."&Presupuesto!$F38)))) -> 7.1. | H38: Acero de refuerzo y dovelas | I38: Kg | J38: =+'[1]Cantidades de Obra'!P417 -> 655.1776 | K38: 10226.34 | L38: =ROUND(Presupuesto!$J38*Presupuesto!$K38,$Q$3) -> 6700068.9 | M38: =ROUND(IF(Presupuesto!$C38="Cap",SUMIFS(Presupuesto!$L$15:$L$40,Presupuesto!$D$15:$D$40,Presupuesto!$D38),IF(Presupuesto!$C38="Sub",SUMIFS(Presupuesto!$L$15:$L$40,Presupuesto!$D$15:$D$40,Presupuesto!$D38,Presupuesto!$E$15:$E$40,Presupuesto!$E38),Presupuesto!$L38)),$Q$3) -> 6700068.9 | N38: =IFERROR(IF(IFERROR(VLOOKUP(Presupuesto!$G38,INDIRECT("'"&"MC "&Presupuesto!$G38&"'!C:AS"),43,0),IFERROR(VLOOKUP(Presupuesto!$G38,INDIRECT("'Memorias'!C:AS"),43,0),""))<>"",1,""),"")
C39: Cap | D39: =COUNTIF($C$14:'Presupuesto'!$C39,"Cap") -> 8 | E39: =COUNTIFS($C$14:'Presupuesto'!$C39,"Sub",$D$14:'Presupuesto'!$D39,Presupuesto!$D39) -> 0 | F39: =IF(Presupuesto!$C39="Item",COUNTIFS($D$14:'Presupuesto'!$D39,Presupuesto!$D39,$C$14:'Presupuesto'!$C39,Presupuesto!$C39,$E$14:'Presupuesto'!$E39,Presupuesto!$E39),0) -> 0 | G39: =IF(Presupuesto!$C39="","",IF(Presupuesto!$C39="Cap",""&Presupuesto!$D39,IF(Presupuesto!$C39="Sub",""&Presupuesto!$D39&"."&Presupuesto!$E39,IF($D$8=0,""&Presupuesto!$D39&"."&Presupuesto!$F39&".",""&Presupuesto!$D39&"."&Presupuesto!$E39&"."&Presupuesto!$F39)))) -> 8 | H39: LIMPIEZA OBRA | M39: =ROUND(IF(Presupuesto!$C39="Cap",SUMIFS(Presupuesto!$L$15:$L$40,Presupuesto!$D$15:$D$40,Presupuesto!$D39),IF(Presupuesto!$C39="Sub",SUMIFS(Presupuesto!$L$15:$L$40,Presupuesto!$D$15:$D$40,Presupuesto!$D39,Presupuesto!$E$15:$E$40,Presupuesto!$E39),Presupuesto!$L39)),$Q$3) -> 2336664.8 | N39: =IFERROR(IF(IFERROR(VLOOKUP(Presupuesto!$G39,INDIRECT("'"&"MC "&Presupuesto!$G39&"'!C:AS"),43,0),IFERROR(VLOOKUP(Presupuesto!$G39,INDIRECT("'Memorias'!C:AS"),43,0),""))<>"",1,""),"")
B40: 3445 | C40: Item | D40: =COUNTIF($C$14:'Presupuesto'!$C40,"Cap") -> 8 | E40: =COUNTIFS($C$14:'Presupuesto'!$C40,"Sub",$D$14:'Presupuesto'!$D40,Presupuesto!$D40) -> 0 | F40: =IF(Presupuesto!$C40="Item",COUNTIFS($D$14:'Presupuesto'!$D40,Presupuesto!$D40,$C$14:'Presupuesto'!$C40,Presupuesto!$C40,$E$14:'Presupuesto'!$E40,Presupuesto!$E40),0) -> 1 | G40: =IF(Presupuesto!$C40="","",IF(Presupuesto!$C40="Cap",""&Presupuesto!$D40,IF(Presupuesto!$C40="Sub",""&Presupuesto!$D40&"."&Presupuesto!$E40,IF($D$8=0,""&Presupuesto!$D40&"."&Presupuesto!$F40&".",""&Presupuesto!$D40&"."&Presupuesto!$E40&"."&Presupuesto!$F40)))) -> 8.1. | H40: Limpieza General | I40: M2 | J40: =+'[1]Cantidades de Obra'!L441 -> 445.079 | K40: 5250 | L40: =ROUND(Presupuesto!$J40*Presupuesto!$K40,$Q$3) -> 2336664.8 | M40: =ROUND(IF(Presupuesto!$C40="Cap",SUMIFS(Presupuesto!$L$15:$L$40,Presupuesto!$D$15:$D$40,Presupuesto!$D40),IF(Presupuesto!$C40="Sub",SUMIFS(Presupuesto!$L$15:$L$40,Presupuesto!$D$15:$D$40,Presupuesto!$D40,Presupuesto!$E$15:$E$40,Presupuesto!$E40),Presupuesto!$L40)),$Q$3) -> 2336664.8 | N40: =IFERROR(IF(IFERROR(VLOOKUP(Presupuesto!$G40,INDIRECT("'"&"MC "&Presupuesto!$G40&"'!C:AS"),43,0),IFERROR(VLOOKUP(Presupuesto!$G40,INDIRECT("'Memorias'!C:AS"),43,0),""))<>"",1,""),"")
D41: AIU
D42: AIU | G42: Observaciones: | I42: Costo Directo | M42: =ROUND(SUM(Presupuesto!$L$15:$L$40),$Q$3) -> 1.4886012e+08
D43: AIU | J43: Admin | K43: 0.26 | M43: =ROUND($M$42*K43,$Q$3) -> 38703632
D44: AIU | J44: Imprevistos | K44: 0.01 | M44: =ROUND($M$42*K44,$Q$3) -> 1488601.2
D45: AIU | J45: Utilidad | K45: 0.03 | M45: =ROUND($M$42*K45,$Q$3) -> 4465803.7
D46: AIU | J46: Iva/Utilidad | K46: 0.19 | M46: =ROUND(M45*K46,$Q$3) -> 848502.71
D47: AIU | I47: Valor Total | M47: =SUM(M42:M46) -> 1.9436666e+08
...
