Workbook

Sheet SEDES
A1: SEDE | B1: ABC 10 LB | C1: CO2 10 LB
A2: PEDRO A LÓPEZ | B2: 7 | C2: 2
A3: BANCOL | B3: 7 | C3: 0
A4: MEZANINE | B4: 7 | C4: 0
A5: FONTIBÓN | B5: 14 | C5: 0
A6: SAN MARTIN | B6: 36 | C6: 9
A7: TOTAL | B7: =SUM(B2:B6) -> 71 | C7: =SUM(C2:C6) -> 11
A8: TOTAL | B8: =SUM(B7:C7) -> 82

Sheet Parque Automotor
A1: N° | B1: Tipo de Vehículo | C1: Marca | D1: Línea | E1: Modelo | F1: Codigo fasecolda | G1: Placa | H1: Total | I1: Tipo de tenencia | J1: Fecha entrega la tenencia del bien
A2: 1 | B2: Automóvil | C2: CHEVROLET | D2: SAIL | E2: 2013 | F2: 1601254 | G2: CEV629 | H2: 16 | I2: Destinación provisional Resolución 0362 del 16/03/2020 - SAE | J2: Indefinida
A3: 2 | D3: CRUZE | E3: 2012 | F3: 1601247 | G3: OCJ915 | I3: Comodato 354 de 2024 entre MADR Y FONDO ROTATORIO DEL MINISTERIO DE RELACIONES EXTERIORES | J3: 46387
A4: 3 | G4: OBI505
A5: 4 | G5: OBI983
A6: 5 | G6: OBI946
A7: 6 | G7: OCJ907
A8: 7 | G8: OBI509
A9: 8 | C9: KIA | D9: SOUL | E9: 2018 | F9: 4601256 | G9: EHY460 | I9: Destinación provisional Resolución 0362 del 16/03/2020 - SAE | J9: Indefinida
A10: 9 | D10: NIRO | E10: 2023 | F10: 4606135 | G10: KMW760 | I10: Propio | J10: N/A
A11: 10 | C11: MAZDA | D11: 3 | E11: 2019 | F11: 5601141 | G11: ELY649 | I11: Destinación provisional Resolución 0456 del 15/09/2023 - SAE | J11: Indefinida
A12: 11 | D12: CX-30 | E12: 2022 | F12: 5606102 | G12: JWQ063 | I12: Destinación provisional Resolución 0456 del 15/09/2023 - SAE | J12: Indefinida
A13: 12 | C13: NISSAN | D13: SENTRA B13 | E13: 2014 | F13: 6401113 | G13: OBI275 | I13: Propio | J13: N/A
A14: 13 | C14: RENAULT | D14: LOGAN 2 | E14: 2017 | F14: 8001173 | G14: JEP587 | I14: Destinación provisional Resolución 0362 del 16/03/2020 - SAE | J14: Indefinida
A15: 14 | D15: LOGAN | E15: 2013 | F15: 8001135 | G15: OCK271 | I15: Propio | J15: N/A
A16: 15 | G16: OCK272 | I16: Propio | J16: N/A
A17: 16 | G17: OCK275 | I17: Propio | J17: N/A
A18: 18 | B18: Campero | D18: FJ CRUISER | E18: 2022 | F18: 9008108 | G18: KWU842 | H18: 7 | I18: Destinación provisional Resolución 0456 del 15/09/2023 - SAE | J18: Indefinida
A19: 19 | D19: PRADO | E19: 2021 | F19: 9008231 | G19: GHS367 | I19: Destinación provisional Resolución 0456 del 15/09/2023 - SAE | J19: Indefinida
A20: 20 | E20: 2015 | F20: 9008188 | G20: HZV525 | I20: Destinación provisional Resolución 0362 del 16/03/2020 - SAE | J20: Indefinida
A21: 21 | E21: 2014 | F21: 9008146 | G21: ODS804 | I21: Propio | J21: N/A
A22: 22 | G22: ODS805 | I22: Propio | J22: N/A
A23: 23 | E23: 2000 | F23: 9008039 | G23: OBE663 | I23: Propio | J23: N/A
A24: 24 | E24: 2008 | F24: 9008054 | G24: DOD262 | I24: Destinación provisional Resolución 0321 del 08//02/2010 - SAE | J24: Indefinida
A25: 25 | B25: Motocicleta | C25: YAMAHA | D25: XT660 | E25: 2014 | F25: 9817128 | G25: AWS83D | H25: 1 | I25: Propio | J25: N/A
A26: Total | H26: =SUM(H2:H25) -> 24

Sheet cotizaciones
A1: ITEM | B1: DESCRIPCIÓN | C1: UNIDAD DE MEDIDA | D1: CANTIDAD | E1: ABC COMTOTAL SA | F1: DESARROLLO COLOMBIANO DE ARQUITECTURA E INGENIERIA SAS | G1: EXTINTORES METALES Y EQUIPOS FULL AC SAS | H1: MANPOWER CIS SAS | I1: ANALISIS
E2: VALOR TOTAL UNITARIO CON IVA INCLUIDO | I2: VALOR MÁXIMO | J2: VALOR MÍNIMO | K2: PROMEDIO
A3: 1 | B3: Mantenimiento del Extintor Multipropósito Polvo Secco ABC de 10 libras | C3: Unidad | D3: 1 | E3: 30940 | F3: 33320 | G3: 23205 | H3: 27370 | I3: =MAX(E3:H3) -> 33320 | J3: =MIN(E3:H3) -> 23205 | K3: =AVERAGE(E3:H3) -> 28708.75
A4: 2 | B4: Mantenimiento del Extintor Multipropósito Polvo Secco ABC de 5 libras | C4: Unidad | D4: 1 | E4: 21420 | F4: 21420 | G4: 11305 | H4: 17850 | I4: =MAX(E4:H4) -> 21420 | J4: =MIN(E4:H4) -> 11305 | K4: =AVERAGE(E4:H4) -> 17998.75
A5: 3 | B5: Mantenimiento del Extintor Multipropósito CO2 de 10 libras | C5: Unidad | D5: 1 | E5: 89250 | F5: 101150 | G5: 26180 | H5: 77350 | I5: =MAX(E5:H5) -> 101150 | J5: =MIN(E5:H5) -> 26180 | K5: =AVERAGE(E5:H5) -> 73482.5
A6: 4 | B6: Recarga del Extintor Multipropósito Polvo Secco ABC de 10 libras | C6: Unidad | D6: 1 | E6: 30940 | F6: 33320 | G6: 23205 | H6: 27370 | I6: =MAX(E6:H6) -> 33320 | J6: =MIN(E6:H6) -> 23205 | K6: =AVERAGE(E6:H6) -> 28708.75
A7: 5 | B7: Recarga del Extintor Multipropósito Polvo Secco ABC de 5 libras | C7: Unidad | D7: 1 | E7: 21420 | F7: 21420 | G7: 11305 | H7: 17850 | I7: =MAX(E7:H7) -> 21420 | J7: =MIN(E7:H7) -> 11305 | K7: =AVERAGE(E7:H7) -> 17998.75
A8: 6 | B8: Recarga del Extintor Multipropósito CO2 de 10 libras | C8: Unidad | D8: 1 | E8: 188615 | F8: 101150 | G8: 77350 | H8: 101150 | I8: =MAX(E8:H8) -> 188615 | J8: =MIN(E8:H8) -> 77350 | K8: =AVERAGE(E8:H8) -> 117066.25
E9: ABC COMTOTAL SA.pdf | F9: DESARROLLO COLOMBIANO DE ARQUITECTURA E INGENIERIA SAS.pdf | G9: EXTINTORES METALES Y EQUIPOS FULL AC SAS.pdf | H9: MANPOWER CIS SAS.pdf
A11: ITEM | B11: DESCRIPCIÓN | C11: CANTIDAD DE SERVICIOS | D11: VALOR PROMEDIO | E11: VALOR TECHO
A12: 1 | B12: Mantenimiento del Extintor Multipropósito Polvo Secco ABC de 10 libras | C12: 71 | D12: =ROUND(K3,0) -> 28709 | E12: =ROUND(C12*D12,0) -> 2038339
A13: 2 | B13: Mantenimiento del Extintor Multipropósito Polvo Secco ABC de 5 libras | C13: 24 | D13: =ROUND(K4,0) -> 17999 | E13: =ROUND(C13*D13,0) -> 431976
A14: 3 | B14: Mantenimiento del Extintor Multipropósito CO2 de 10 libras | C14: 11 | D14: =ROUND(K5,0) -> 73483 | E14: =ROUND(C14*D14,0) -> 808313
A15: 4 | B15: Recarga del Extintor Multipropósito Polvo Secco ABC de 10 libras | C15: 71 | D15: =ROUND(K6,0) -> 28709 | E15: =ROUND(C15*D15,0) -> 2038339
A16: 5 | B16: Recarga del Extintor Multipropósito Polvo Secco ABC de 5 libras | C16: 24 | D16: =ROUND(K7,0) -> 17999 | E16: =ROUND(C16*D16,0) -> 431976
A17: 6 | B17: Recarga del Extintor Multipropósito CO2 de 10 libras | C17: 11 | D17: =ROUND(K8,0) -> 117066 | E17: =ROUND(C17*D17,0) -> 1287726
A18: TOTAL | E18: =SUM(E12:E17) -> 7036669
B23: SEDE | C23: ABC 10 LB | D23: ABC 5 LB | E23: CO2 10 LB
B24: PEDRO A LÓPEZ | C24: 7 | D24: 0 | E24: 2
B25: BANCOL | C25: 7 | D25: 0 | E25: 0
B26: MEZANINE | C26: 7 | D26: 0 | E26: 0
B27: FONTIBÓN | C27: 14 | D27: 0 | E27: 0
B28: SAN MARTIN | C28: 36 | D28: 0 | E28: 9
B29: VEHÍCULOS | C29: 0 | D29: 24 | E29: 0
B30: TOTAL | C30: =SUM(C24:C29) -> 71 | D30: =SUM(D24:D29) -> 24 | E30: =SUM(E24:E29) -> 11
B31: TOTAL | C31: =SUM(C30:E30) -> 106

Sheet OFERTA ECONOMICA
A1: ITEM | B1: DESCRIPCIÓN | C1: CANTIDAD DE SERVICIOS | D1: VALOR UNITARIO TECHO
A2: 1 | B2: Mantenimiento del Extintor Multipropósito Polvo Secco ABC de 10 libras | C2: =cotizaciones!C12 -> 71 | D2: =cotizaciones!D12 -> 28709
A3: 2 | B3: Mantenimiento del Extintor Multipropósito Polvo Secco ABC de 5 libras | C3: =cotizaciones!C13 -> 24 | D3: =cotizaciones!D13 -> 17999
A4: 3 | B4: Mantenimiento del Extintor Multipropósito CO2 de 10 libras | C4: =cotizaciones!C14 -> 11 | D4: =cotizaciones!D14 -> 73483
A5: 4 | B5: Recarga del Extintor Multipropósito Polvo Secco ABC de 10 libras | C5: =cotizaciones!C15 -> 71 | D5: =cotizaciones!D15 -> 28709
A6: 5 | B6: Recarga del Extintor Multipropósito Polvo Secco ABC de 5 libras | C6: =cotizaciones!C16 -> 24 | D6: =cotizaciones!D16 -> 17999
A7: 6 | B7: Recarga del Extintor Multipropósito CO2 de 10 libras | C7: =cotizaciones!C17 -> 11 | D7: =cotizaciones!D17 -> 117066
