Workbook

Sheet Presupuesto
A1: PRESUPUESTO ACUEDUCTO VEREDA CARAUQUIA
A2: MUNICIPIO DE BURITICA | M2: =0.5*0.5*0.5*2 -> 0.25
A3: ITEM | B3: DETALLE | C3: U/M | D3: CANTIDAD | E3: VLR. UNIT. | F3: VLR. TOTAL
A4: I. | B4: BOCATOMA
A5: 1 | B5: Localización | C5: m² | D5: =+'Cantidades de obra '!E7 -> 5.7879 | E5: =+Bocatoma!G44 -> 6125 | F5: =D5*E5 -> 35450.887 | I5: =2.36+1.65+4.4 -> 8.41
A6: 2 | B6: Manejo de la quebrada. | C6: gl | D6: 1 | E6: =+Bocatoma!G88 -> 818125 | F6: =D6*E6 -> 818125 | I6: =+I5/3 -> 2.8033333 | J6: =+I6*1.8*0.1 -> 0.5046 | M6: =+(1.65+2.36+4.4+1.88*2)/5 -> 2.434
A7: 3 | B7: Excavación en las condiciones de humedad existentes | M7: =+M6*0.05 -> 0.1217 | N7: =1*1*1*2+0.5*0.5*0.5*2 -> 2.25 | O7: =0.4*0.4*0.4+2.9*0.4*0.4 -> 0.528
A8: 3.1 | B8: en material heterogeneo | C8: m³ | D8: =+'Cantidades de obra '!E5 -> 0.289395 | E8: =+Bocatoma!G132 -> 122500 | F8: =D8*E8 -> 35450.888 | M8: =+M7+N7+O7+M2 -> 3.1497
A9: 3.2 | B9: en roca | C9: m³ | D9: =+'Cantidades de obra '!F26 -> 2.25 | E9: =+Bocatoma!G176 -> 339583.56 | F9: =D9*E9 -> 764063
A10: 4 | B10: Concreto ciclopeo para fundacion de losa para represamiento de agua de fc=175 kg/cm2, con 60% de piedra. | C10: m³ | D10: =+(0.92+1.2+1.36)/3*1.8*0 -> 0 | E10: =Bocatoma!G216 -> 1567876.9 | F10: =D10*E10 -> 0
A11: 5 | B11: Concreto de f´c=210 Kg/cm², incluye acelerante y formaleteria. | C11: m³ | D11: =+'Cantidades de obra '!F59 -> 3.067395 | E11: =+Bocatoma!G264 -> 1782312.4 | F11: =D11*E11 -> 5467056
A12: 6 | B12: Acero de refuerzo. | I12: =4.85*4 -> 19.4
A13: 6.1 | B13: Ø 3/8"- 5/8" (60000 psi). | C13: Kg | D13: =+'Cantidades de obra '!F90 -> 88.890625 | E13: =+Bocatoma!G308 -> 9989.5574 | F13: =D13*E13 -> 887978 | I13: =4.375*4 -> 17.5
A14: 6.2 | B14: Ø 1/2" (60000 psi). | C14: Kg | D14: =160*0 -> 0 | E14: =Bocatoma!G348 -> 11691.877 | F14: =D14*E14 -> 0
A15: 7 | B15: Construccion de caja de derivacion en concreto, adosada a bocatoma, (ver planos). | C15: un | D15: 1 | E15: =+Bocatoma!G396 -> 1148345 | F15: =D15*E15 -> 1148345
A16: 8 | B16: Rejilla (ver planos). | C16: un | D16: 1 | E16: =+Bocatoma!G440 -> 368125 | F16: =D16*E16 -> 368125
A17: 9 | B17: Valvula de compuerta Ø 2" roscada tipo Reed White, incluye accesorios. | C17: un | D17: 1 | E17: =+Bocatoma!G484 -> 425238 | F17: =D17*E17 -> 425238
A18: 10 | B18: Caja para valvula de (o,70 x 0,70m) libres incluye, base.muros y tapa con marco metalico. | C18: un | D18: 1 | E18: =+Bocatoma!G528 -> 598938 | F18: =D18*E18 -> 598938
A19: 11 | B19: Sistema de aforo en fibra de vidrio, incluye vertedero, sistema de rebose y desagues. | C19: un | D19: 1 | E19: =+Bocatoma!G572 -> 2271438 | F19: =D19*E19 -> 2271438
A20: 12 | B20: Medio codo PVC-P Ø 2" X 45°. | C20: un | D20: 2 | E20: =+Bocatoma!G616 -> 89088 | F20: =D20*E20 -> 178176
A21: 13 | B21: Niple Ø 4" en PVC, adaptador macho y tapón, para limpieza de bocatoma, (ver panos). | C21: un | D21: 1 | E21: =+Bocatoma!G660 -> 227664 | F21: =D21*E21 -> 227664
A22: 14 | B22: Tubería PVC-P Ø 3" empotrada en toma. | C22: ml | D22: 1 | E22: =+Bocatoma!G704 -> 88938 | F22: =D22*E22 -> 88938 | J22: =+F25+F112 -> 77762132
A23: 15 | B23: Llenos con material de la excavación. | C23: m³ | D23: 0 | E23: =+Bocatoma!G748 -> 73500 | F23: =D23*E23 -> 0
A24: 16 | B24: S.T.I Guaya Cable Galvanizado 1/4 Alma De Acero | C24: m | D24: =16+17+2.5+4+1.25+0.35+0.4+0.45 -> 41.95 | E24: =+Bocatoma!G792 -> 19350.632 | F24: =+D24*E24 -> 811759
A25: COSTO DIRECTO BOCATOMA | F25: =SUM(F5:F24) -> 14126745
A26: ITEM | B26: DETALLE | C26: U/M | D26: CANTIDAD | E26: VLR. UNIT. | F26: VLR. TOTAL
A27: II. | B27: TANQUE DESARENADOR
A28: 1 | B28: Excavación.
A29: 1.1 | B29: en material heterogéneo. | C29: m³ | D29: 4 | E29: ='Tanque Desarenador'!G40 -> 122500 | F29: =D29*E29 -> 490000
A30: 1.2 | B30: en roca. | C30: m³ | D30: 0.5 | E30: =+'Tanque Desarenador'!G85 -> 760169.49 | F30: =D30*E30 -> 380084.75
A31: 2 | B31: Concreto para solado esp. = 0,05 m. | C31: m² | D31: 2 | E31: ='Tanque Desarenador'!G131 -> 154675 | F31: =D31*E31 -> 309350
A32: 3 | B32: Tapa de concreto para desarenador tapa con marco metalico. | C32: un | D32: 1 | E32: =+'Tanque Desarenador'!G179 -> 950958 | F32: =D32*E32 -> 950958
A33: 4 | B33: Tanque desarenador en fibra de vidrio (PRFV), según planos. L = 2.20 m, Ancho = 0,80 m, H = 1.10 m. | C33: m³ | D33: 1 | E33: =+'Tanque Desarenador'!G218 -> 6434750 | F33: =D33*E33 -> 6434750
A34: 5 | B34: Válvula de compuerta eastica, vastago no ascendente Ø4" | C34: un | D34: 1 | E34: =+'Tanque Desarenador'!G263 -> 854825 | F34: =D34*E34 -> 854825
A35: 6 | B35: Válvula de compuerta Ø11/2", E.R. | C35: un | D35: 4 | E35: =+'Tanque Desarenador'!G307 -> 296740.85 | F35: =D35*E35 -> 1186963.4
A36: 7 | B36: Válvula de compuerta Ø2", E.R. | C36: un | D36: 3 | E36: =+'Tanque Desarenador'!G350 -> 420435 | F36: =D36*E36 -> 1261305
A37: 8 | B37: Tubería PVC presión.
A38: 8.1 | B38: Ø 11/2" RDE 21 | C38: ml | D38: 6 | E38: =+'Tanque Desarenador'!G396 -> 44361.9 | F38: =D38*E38 -> 266171.4
A39: 8.2 | B39: Ø 2" RDE 21 | C39: ml | D39: 2.5 | E39: ='Tanque Desarenador'!G442 -> 60977.55 | F39: =D39*E39 -> 152443.88
A40: 8.3 | B40: Ø 4" RDE 21 | C40: ml | D40: 6 | E40: ='Tanque Desarenador'!G488 -> 115609.69 | F40: =D40*E40 -> 693658.15
...

Sheet Redes de Distribución
A1: ANALISIS DE PRECIOS UNITARIOS
A3: NOMBRE: MUNICIPIO DE BURITICA
A4: OBRA N° Conducción - Red de Distribución | F4: Fecha: | G4: =+TODAY() -> 46289
A6: ITEM N° : 1. | B6: Localización
C7: CANTIDAD: | D7: 4704 | E7: UNID: | F7: M.L
A8: I.EQUIPO
A9: Descripción | B9: Tipo | C9: Tarifa/Hr. | D9: Rendim. | E9: Valor Unit.
A10: Herram. | E10: =G38*0.05 -> 113.75 | K10: 1 Oficial | L10: 150000
K11: 1 Ayudante | L11: 100000
K12: 1 Minero | L12: 120000
F13: Subtotal | G13: =E10+E11+E12+E13 -> 113.75 | K13: 1 pintor | L13: 120000
A14: II. MATERIALES
A15: Descripción | B15: Unidad | C15: Prec. Un. | D15: Cantid. | E15: Valor Unit.
F22: Subtotal
A23: III.TRANSPORTE
A24: Material | B24: Vol.o peso | C24: Distancia | D24: Tarifa | E24: Valor Unit.
E25: 1164.3269
F29: Subtotal | G29: =+E25 -> 1164.3269
A30: IV. MANO DE OBRA
A31: Trabajador | B31: Jornal/dia | C31: Prest. Soc. | D31: Jornal Tot. | E31: Rendim/to | F31: Valor total
A32: Comision Topografía | B32: 650000 | C32: =B32*0.75 -> 487500 | D32: =B32+C32 -> 1137500 | E32: 500 | F32: =D32/E32 -> 2275
F38: Subtotal | G38: =F32+F33+F34+F35+F36+F37 -> 2275
A40: A: 25% | D40: TOTAL COSTO DIRECTO | G40: =G13+G22+G29+G38 -> 3553.0769 | I40: 4619
E42: A.I.U. ( 30 ) % | G42: =0.3*G40 -> 1065.9231
A44: U: 5% | D44: PRECIO UNITARIO | G44: =G40+G42 -> 4619
A45: ANALISIS DE PRECIOS UNITARIOS
A47: NOMBRE: MUNICIPIO DE BURITICA
A48: =+A4 -> OBRA N° Conducción - Red de Distribución | F48: Fecha: | G48: =+TODAY() -> 46289
A50: ITEM N° : 2.1 | B50: Excavacion en material humedo heterogeneo
C51: CANTIDAD: | D51: 2002 | E51: UNID: | F51: M3
A52: I.EQUIPO
A53: Descripción | B53: Tipo | C53: Tarifa/Hr. | D53: Rendim. | E53: Valor Unit.
A54: Herram. | E54: =G82*0.05 -> 3231.2535
F57: Subtotal | G57: =E54+E55+E56+E57 -> 3231.2535
A58: II. MATERIALES
A59: Descripción | B59: Unidad | C59: Prec. Un. | D59: Cantid. | E59: Valor Unit.
F66: Subtotal | G66: =E60+E61+E62+E63+E64+E65+E66 -> 0
A67: III.TRANSPORTE
A68: Material | B68: Vol.o peso | C68: Distancia | D68: Tarifa | E68: Valor Unit.
F73: Subtotal | G73: =E69+E70+E71+E72+E73 -> 0
...

Sheet Cantidades de obra 
B2: Cantidades de obra
B4: Excavaciones - En bocatoma | C4: Unidad de medida | D4: Dimensiones | E4: Total (m3)
B5: Largo | C5: m | D5: =+(1.65+4.4+1.88*2)/4 -> 2.4525 | E5: =+D5*D6*D7 -> 0.289395
B6: Ancho | C6: m | D6: 2.36
B7: Desplante | C7: m | D7: 0.05 | E7: =+D5*D6 -> 5.7879
B20: Excavaciones pase aereo - En bocatoma | C20: Unidad de medida | D20: Dimensiones | E20: Cantidad | F20: Total (m3)
B21: Largo | C21: m | D21: 1 | E21: 2 | F21: =+D21*D22*D23*E21 -> 2
B22: Ancho | C22: m | D22: 1
B23: Desplante | C23: m | D23: 1
B24: Largo | C24: m | D24: 0.5 | E24: 2 | F24: =+D24*D25*D26*E24 -> 0.25
B25: Ancho | C25: m | D25: 0.5
B26: Desplante | C26: m | D26: 0.5 | F26: =+F21+F24 -> 2.25
B39: Concreto - Losa de bocatoma | C39: Unidad de medida | D39: Dimensiones | E39: Total (m3)
B40: Largo | C40: m | D40: =+D5 -> 2.4525 | E40: =+D40*D41*D42 -> 0.289395
B41: Ancho | C41: m | D41: =+D6 -> 2.36
B42: Desplante | C42: m | D42: =+D7 -> 0.05
B44: cimentacion pase aereo | C44: Unidad de medida | D44: Dimensiones | E44: Cantidad | F44: Total (m3)
B45: Largo | C45: m | D45: 1 | E45: 2 | F45: =+D45*D46*D47*E45 -> 2
B46: Ancho | C46: m | D46: 1
B47: Desplante | C47: m | D47: 1
B48: Largo | C48: m | D48: 0.5 | E48: 2 | F48: =+D48*D49*D50*E48 -> 0.25
B49: Ancho | C49: m | D49: 0.5
B50: Desplante | C50: m | D50: 0.5 | F50: =+F45+F48 -> 2.25
B52: columnas pase aereo | C52: Unidad de medida | D52: Dimensiones | E52: Total (m3)
B53: Largo c1 | C53: m | D53: 2.9 | E53: =+D53*D54*D55 -> 0.464
B54: Ancho c1 | C54: m | D54: 0.4
B55: Espesor c1 | C55: m | D55: 0.4
B56: Largo c2 | C56: m | D56: 0.4 | E56: =+D56*D57*D58 -> 0.064
B57: Ancho c2 | C57: m | D57: 0.4
B58: Espesor c2 | C58: m | D58: 0.4 | F58: =+E53+E56 -> 0.528
B59: total concreto (m3) | F59: =+E40+F50+F58 -> 3.067395
B72: Acero pase aereo - En bocatoma | C72: Unidad de medida | D72: Dimensiones | E72: Acero superior | F72: Acero inferior
B73: Largo c1 | C73: m | D73: 2.9 | E73: 3/8" | F73: 5/8"
B74: Ancho c1 | C74: m | D74: 0.4 | E74: 0.5625 | F74: 1.5625
B75: Espesor c1 | C75: m | D75: 0.4 | E75: 0.05 | F75: 0.075
B76: Largo c2 | C76: m | D76: 0.4 | E76: 3/8" | F76: 5/8"
B77: Ancho c2 | C77: m | D77: 0.4 | E77: 0.5625 | F77: 1.5625
B78: Espesor c2 | C78: m | D78: 0.4 | E78: 0.05 | F78: 0.075
B80: Columna 1 L=2,90 m | C80: Cantidad de barras | D80: Longitud de Barras | E80: Ganchos | F80: Total Acero (Kg)
B81: Acero Longitudinal C1 (kg) | C81: 4 | D81: =+(D73+D45)-E75-F75+0.25*2 -> 4.275 | E81: =D74-E75*2-0.1 -> 0.2 | F81: =C81*(D81+E81*2)*F74 -> 29.21875
...

Sheet Tanque almacenamiento
A1: ANALISIS DE PRECIOS UNITARIOS
A3: NOMBRE: MUNICIPIO DE BURITICA
A4: OBRA N° Tanque almacenamiento - Acueducto | F4: Fecha: | G4: =+TODAY() -> 46289
A6: ITEM N° : 1. | B6: Localización
C7: CANTIDAD: | D7: 140 | E7: UNID: | F7: M2
A8: I.EQUIPO
A9: Descripción | B9: Tipo | C9: Tarifa/Hr. | D9: Rendim. | E9: Valor Unit.
A10: Herram. | E10: =G38*0.05 -> 280.43958
F13: Subtotal | G13: =E10+E11+E12+E13 -> 280.43958
A14: II. MATERIALES
A15: Descripción | B15: Unidad | C15: Prec. Un. | D15: Cantid. | E15: Valor Unit.
I16: =+A32 -> 1 Oficial | J16: =+B32 -> 140000
I17: =+A33 -> 1 Ayudante | J17: =+B33 -> 91000
I18: =+A120 -> 1 Minero | J18: =+B120 -> 120000
I19: 1 pintor | J19: =+J18 -> 120000
F22: Subtotal | G22: =E16+E17+E18+E19+E20+E21+E22 -> 0
A23: III.TRANSPORTE
A24: Material | B24: Vol.o peso | C24: Distancia | D24: Tarifa | E24: Valor Unit.
F29: Subtotal | G29: =E25+E26+E27+E28+E29 -> 0
A30: IV. MANO DE OBRA
A31: Trabajador | B31: Jornal/dia | C31: Prest. Soc. | D31: Jornal Tot. | E31: Rendim/to | F31: Valor total
A32: 1 Oficial | B32: 140000 | C32: =0.75*B32 -> 105000 | D32: =B32+C32 -> 245000 | E32: 73.489896 | F32: =D32/E32 -> 3333.7916
A33: 1 Ayudante | B33: 91000 | C33: =0.75*B33 -> 68250 | D33: =B33+C33 -> 159250 | E33: 70 | F33: =D33/E33 -> 2275
F38: Subtotal | G38: =F32+F33+F34+F35+F36+F37 -> 5608.7916 | I38: 7656
A40: A: 25% | D40: TOTAL COSTO DIRECTO | G40: =G13+G22+G29+G38 -> 5889.2312
E42: A.I.U. ( 30 ) % | G42: =0.3*G40 -> 1766.7694
A44: U: 5% | D44: PRECIO UNITARIO | G44: =G40+G42 -> 7656.0006
A45: ANALISIS DE PRECIOS UNITARIOS
A47: NOMBRE: MUNICIPIO DE BURITICA
A48: OBRA N° Tanque almacenamiento - Acueducto | F48: Fecha: | G48: =+TODAY() -> 46289
A50: ITEM N° : 2,1 | B50: Excavacion en material heterogéneo.
C51: CANTIDAD: | D51: 30 | E51: UNID: | F51: M3
A52: I.EQUIPO
A53: Descripción | B53: Tipo | C53: Tarifa/Hr. | D53: Rendim. | E53: Valor Unit.
A54: Herram. | E54: =G82*0.05 -> 1923.0769
F57: Subtotal | G57: =E54+E55+E56+E57 -> 1923.0769
A58: II. MATERIALES
A59: Descripción | B59: Unidad | C59: Prec. Un. | D59: Cantid. | E59: Valor Unit.
F66: Subtotal | G66: =E60+E61+E62+E63+E64+E65+E66 -> 0
A67: III.TRANSPORTE
...

Sheet Bocatoma
A1: ANALISIS DE PRECIOS UNITARIOS
A3: NOMBRE: MUNICIPIO DE BURITICA
A4: OBRA N° Bocatoma - Acueducto | F4: Fecha: | G4: =+TODAY() -> 46289
A6: ITEM N° : 1. | B6: Localización
C7: CANTIDAD: | D7: 12 | E7: UNID: | F7: M2
A8: I.EQUIPO
A9: Descripción | B9: Tipo | C9: Tarifa/Hr. | D9: Rendim. | E9: Valor Unit.
A10: Herram. | E10: =G38*0.05 -> 224.35897
J12: 1 Oficial | K12: 150000
F13: Subtotal | G13: =E10+E11+E12+E13 -> 224.35897 | J13: 1 Ayudante | K13: 100000
A14: II. MATERIALES | J14: 1 Minero | K14: 120000
A15: Descripción | B15: Unidad | C15: Prec. Un. | D15: Cantid. | E15: Valor Unit. | J15: 1 pintor | K15: 120000
F22: Subtotal
A23: III.TRANSPORTE
A24: Material | B24: Vol.o peso | C24: Distancia | D24: Tarifa | E24: Valor Unit.
F29: Subtotal
A30: IV. MANO DE OBRA
A31: Trabajador | B31: Jornal/dia | C31: Prest. Soc. | D31: Jornal Tot. | E31: Rendim/to | F31: Valor total
A32: 1 Oficial | B32: 140000 | C32: =B32*0.75 -> 105000 | D32: =B32+C32 -> 245000 | E32: 90 | F32: =D32/E32 -> 2722.2222 | I32: =60000*30 -> 1800000 | J32: =+#REF!+I32 -> #REF!
A33: 1 Ayudante | B33: 90769.231 | C33: =B33*0.75 -> 68076.923 | D33: =B33+C33 -> 158846.15 | E33: 90 | F33: =D33/E33 -> 1764.9573
F38: Subtotal | G38: =F32+F33+F34+F35+F36+F37 -> 4487.1795
A40: A: 25% | D40: TOTAL COSTO DIRECTO | G40: =G13+G22+G29+G38 -> 4711.5385
E42: A.I.U. ( 30 ) % | G42: =0.3*G40 -> 1413.4615
A44: U: 5% | D44: PRECIO UNITARIO | G44: =G40+G42 -> 6125
A45: ANALISIS DE PRECIOS UNITARIOS
A47: NOMBRE: MUNICIPIO DE BURITICA
A48: =+A4 -> OBRA N° Bocatoma - Acueducto | F48: Fecha: | G48: =+TODAY() -> 46289
A50: ITEM N° : 2. | B50: Manejo de la quebrada
C51: CANTIDAD: | D51: 1 | E51: UNID: | F51: GLB
A52: I.EQUIPO
A53: Descripción | B53: Tipo | C53: Tarifa/Hr. | D53: Rendim. | E53: Valor Unit.
A54: Herram. | E54: =G82*0.05 -> 21623.697
J56: =+K56*350 -> 4998000 | K56: =12000*1.19 -> 14280
F57: Subtotal | G57: =E54+E55+E56+E57 -> 21623.697
A58: II. MATERIALES
A59: Descripción | B59: Unidad | C59: Prec. Un. | D59: Cantid. | E59: Valor Unit.
A60: Costales | B60: Unidad | C60: 1400 | D60: 25 | E60: =C60*D60 -> 35000
A61: Plastico | B61: glb | C61: 30000 | D61: 1 | E61: =C61*D61 -> 30000
A62: Tubería | B62: glb | C62: 60000 | D62: 1 | E62: =C62*D62 -> 60000
F66: Subtotal | G66: =E60+E61+E62+E63+E64+E65+E66 -> 125000
...

Sheet Tanque Desarenador
A1: ANALISIS DE PRECIOS UNITARIOS
A3: NOMBRE: MUNICIPIO DE BURITICA
A4: OBRA N° Desarenador - Acueducto | F4: Fecha: | G4: =+TODAY() -> 46289
A6: ITEM N° : 1,1 | B6: Excavacion en material heterogéneo.
C7: CANTIDAD: | D7: 4 | E7: UNID: | F7: M3
A8: I.EQUIPO
A9: Descripción | B9: Tipo | C9: Tarifa/Hr. | D9: Rendim. | E9: Valor Unit.
A10: Herram. | E10: =G38*0.05 -> 5833.3333 | J10: 1 Oficial | K10: 150000
J11: 1 Ayudante | K11: 100000
J12: 1 Minero | K12: 120000
F13: Subtotal | G13: =E10+E11+E12+E13 -> 5833.3333 | J13: 1 pintor | K13: 120000
A14: II. MATERIALES
A15: Descripción | B15: Unidad | C15: Prec. Un. | D15: Cantid. | E15: Valor Unit.
F22: Subtotal | G22: =E16+E17+E18+E19+E20+E21+E22 -> 0
A23: III.TRANSPORTE
A24: Material | B24: Vol.o peso | C24: Distancia | D24: Tarifa | E24: Valor Unit.
F29: Subtotal | G29: =E25+E26+E27+E28+E29 -> 0
A30: IV. MANO DE OBRA
A31: Trabajador | B31: Jornal/dia | C31: Prest. Soc. | D31: Jornal Tot. | E31: Rendim/to | F31: Valor total
A32: 2 Ayudantes | B32: =K11*2 -> 200000 | C32: =0.75*B32 -> 150000 | D32: =B32+C32 -> 350000 | E32: 3 | F32: =D32/E32 -> 116666.67
F38: Subtotal | G38: =F32+F33+F34+F35+F36+F37 -> 116666.67
A40: A: 25% | D40: TOTAL COSTO DIRECTO | G40: =G13+G22+G29+G38 -> 122500
E42: A.I.U. ( 30 ) % | G42: =0.3*G40 -> 36750
A44: U: 5% | D44: PRECIO UNITARIO | G44: =G40+G42 -> 159250
A46: ANALISIS DE PRECIOS UNITARIOS
A48: NOMBRE: MUNICIPIO DE BURITICA
A49: =+A4 -> OBRA N° Desarenador - Acueducto | F49: Fecha: | G49: =+TODAY() -> 46289
A51: ITEM N° : 1.2 | B51: Excavacion en roca.
C52: CANTIDAD: | D52: 2 | E52: UNID: | F52: M3
A53: I.EQUIPO
A54: Descripción | B54: Tipo | C54: Tarifa/Hr. | D54: Rendim. | E54: Valor Unit.
A55: Herram. | E55: =G83*0.05 -> 32627.119
A56: Taladro percutor | E56: 7500
A57: Planta Energia | E57: 7500
F58: Subtotal | G58: =E55+E56+E57+E58 -> 47627.119
A59: II. MATERIALES
A60: Descripción | B60: Unidad | C60: Prec. Un. | D60: Cantid. | E60: Valor Unit.
A61: Cemento demoledor. | B61: glb | C61: 35000 | D61: 1 | E61: =C61*D61 -> 35000
F67: Subtotal | G67: =E61+E62+E63+E64+E65+E66+E67 -> 35000
A68: III.TRANSPORTE
...

Sheet Base_Insumos
A1: CATÁLOGO MAESTRO DE PRECIOS UNITARIOS, CUADRILLAS Y TRANSPORTE
A2: MUNICIPIO DE BURITICÁ - PROYECTO OPTIMIZACIÓN ACUEDUCTO RURAL (VIGENCIA 2026)
A4: CÓDIGO | B4: DESCRIPCIÓN DEL INSUMO / CUADRILLA / SERVICIO | C4: UNIDAD | D4: TARIFA BASE 2026 (COP) | E4: DESPERDICIO (%) | F4: PRECIO UNITARIO FINAL (COP) | G4: ESPECIFICACIÓN TÉCNICA / OBSERVACIONES
A5: 1. MANO DE OBRA Y CUADRILLAS (FAS 75% INCLUIDO - BURITICÁ 2026)
A6: MO-01 | B6: Oficial de Construcción / Obras Civiles (incl. FAS 75%) | C6: H-D | D6: 115000 | E6: 0 | F6: =ROUND(D6*(1+E6),0) -> 115000 | G6: Resolución de Salarios 2026 - Obras Hidráulicas
A7: MO-02 | B7: Ayudante Práctico de Construcción (incl. FAS 75%) | C7: H-D | D7: 78000 | E7: 0 | F7: =ROUND(D7*(1+E7),0) -> 78000 | G7: Mano de obra no calificada zona rural Buriticá
A8: MO-03 | B8: Minero / Especialista en Excavación en Roca y Zanja | C8: H-D | D8: 95000 | E8: 0 | F8: =ROUND(D8*(1+E8),0) -> 95000 | G8: Excavación manual en terrenos de alta pendiente
A9: MO-04 | B9: Pintor / Aplicador Recubrimientos Epóxicos | C9: H-D | D9: 88000 | E9: 0 | F9: =ROUND(D9*(1+E9),0) -> 88000 | G9: Impermeabilización tanques y estructuras
A10: MO-05 | B10: Topógrafo Especialista (con Comisión de Topografía) | C10: Día | D10: 320000 | E10: 0 | F10: =ROUND(D10*(1+E10),0) -> 320000 | G10: Replanteo y control altimétrico redes y tanques
A11: MO-06 | B11: Cadenero / Auxiliar de Topografía | C11: Día | D11: 85000 | E11: 0 | F11: =ROUND(D11*(1+E11),0) -> 85000 | G11: Apoyo en levantamiento de redes acueducto
A12: MO-07 | B12: Cuadrilla Básica Obras Civiles (1 Oficial + 2 Ayudantes) | C12: Día | D12: 271000 | E12: 0 | F12: =ROUND(D12*(1+E12),0) -> 271000 | G12: Cuadrilla estándar estructuración y vaciados
A13: MO-08 | B13: Cuadrilla Especializada Redes (1 Oficial + 3 Ayudantes) | C13: Día | D13: 349000 | E13: 0 | F13: =ROUND(D13*(1+E13),0) -> 349000 | G13: Instalación, acople y prueba hidráulica de redes
A14: 2. TUBERÍAS, MANGUERAS Y ACCESORIOS PVC-P (PRESIÓN RDE)
A15: TUB-01 | B15: Tubería PVC Presión Ø 1/2" RDE 13.5 (Extr. Lisa L=6m) | C15: Tub | D15: 16800 | E15: 0.05 | F15: =ROUND(D15*(1+E15),0) -> 17640 | G15: NTC 382 / ASTM D2241 para acometidas
A16: TUB-02 | B16: Tubería PVC Presión Ø 1" RDE 21 (Unión Mecánica L=6m) | C16: Tub | D16: 28500 | E16: 0.05 | F16: =ROUND(D16*(1+E16),0) -> 29925 | G16: NTC 382 Redes secundarias y derivaciones
A17: TUB-03 | B17: Tubería PVC Presión Ø 1-1/2" RDE 21 (Unión Mecánica L=6m) | C17: Tub | D17: 44200 | E17: 0.05 | F17: =ROUND(D17*(1+E17),0) -> 46410 | G17: NTC 382 Redes matrices menores
A18: TUB-04 | B18: Tubería PVC Presión Ø 2" RDE 21 (Unión Mecánica L=6m) | C18: Tub | D18: 62000 | E18: 0.05 | F18: =ROUND(D18*(1+E18),0) -> 65100 | G18: NTC 382 Conducción y distribución principal
A19: TUB-05 | B19: Tubería PVC Presión Ø 2-1/2" RDE 21 (Unión Mecánica L=6m) | C19: Tub | D19: 94500 | E19: 0.05 | F19: =ROUND(D19*(1+E19),0) -> 99225 | G19: NTC 382 Línea aducción y desarenador
A20: TUB-06 | B20: Tubería PVC Presión Ø 3" RDE 21 (Unión Mecánica L=6m) | C20: Tub | D20: 132000 | E20: 0.05 | F20: =ROUND(D20*(1+E20),0) -> 138600 | G20: NTC 382 Aducción principal bocatoma
A21: TUB-07 | B21: Tubería PVC Presión Ø 4" RDE 21 (Unión Mecánica L=6m) | C21: Tub | D21: 215000 | E21: 0.05 | F21: =ROUND(D21*(1+E21),0) -> 225750 | G21: NTC 382 Tubería matriz y excesos tanques
A22: TUB-08 | B22: Manguera Polietileno Alta Densidad PEAD Ø 1" PN 10 | C22: m | D22: 6800 | E22: 0.03 | F22: =ROUND(D22*(1+E22),0) -> 7004 | G22: Tramos escarpados y cruces de quebradas
A23: ACC-01 | B23: Codo PVC Presión 90° Ø 2" Campana x Campana | C23: Und | D23: 9500 | E23: 0.03 | F23: =ROUND(D23*(1+E23),0) -> 9785 | G23: NTC 1339 Accesorios soldables PVC presión
A24: ACC-02 | B24: Codo PVC Presión 90° Ø 3" Campana x Campana | C24: Und | D24: 22000 | E24: 0.03 | F24: =ROUND(D24*(1+E24),0) -> 22660 | G24: NTC 1339 Cambios de alineamiento aducción
A25: ACC-03 | B25: Codo PVC Presión 90° Ø 4" Campana x Campana | C25: Und | D25: 41000 | E25: 0.03 | F25: =ROUND(D25*(1+E25),0) -> 42230 | G25: NTC 1339 Tubería descole y salidas de fondo
A26: ACC-04 | B26: Tee PVC Presión Ø 2" x 2" x 2" Campana | C26: Und | D26: 14500 | E26: 0.03 | F26: =ROUND(D26*(1+E26),0) -> 14935 | G26: NTC 1339 Derivaciones en red de distribución
... A35: INS-02 | B35: Limpiador Desengrasante Removedor PVC (1/4 Galón) | C35: Und | D35: 34000 | E35: 0.05 | F35: =ROUND(D35*(1+E35),0) -> 35700 | G35: Preparación superficial de juntas PVC
A36: 3. MATERIALES BÁSICOS Y ESTRUCTURALES
A37: MAT-01 | B37: Cemento Portland Gris Tipo 1 (Saco de 50 kg) | C37: Saco | D37: 37500 | E37: 0.05 | F37: =ROUND(D37*(1+E37),0) -> 39375 | G37: NTC 121 / NTC 321 Concretos estructurales
A38: MAT-02 | B38: Arena Lavada de Río para Revoque / Pega / Concreto | C38: m3 | D38: 110000 | E38: 0.08 | F38: =ROUND(D38*(1+E38),0) -> 118800 | G38: NTC 174 Agregado fino libre de materia orgánica
A39: MAT-03 | B39: Triturado Estructural 3/4" de Cantera | C39: m3 | D39: 135000 | E39: 0.08 | F39: =ROUND(D39*(1+E39),0) -> 145800 | G39: NTC 174 Agregado grueso para concretos
A40: MAT-04 | B40: Piedra Media Zanja / Rajón para Concreto Ciclópeo | C40: m3 | D40: 85000 | E40: 0.05 | F40: =ROUND(D40*(1+E40),0) -> 89250 | G40: Para cimientos y descoles de bocatoma
A41: MAT-05 | B41: Acero de Refuerzo Corrugado Grado 60 (3/8" y 1/2") | C41: kg | D41: 5400 | E41: 0.07 | F41: =ROUND(D41*(1+E41),0) -> 5778 | G41: NTC 2289 / ASTM A706 Sismorresistente
A42: MAT-06 | B42: Alambre Negro Recocido Calibre 18 para Amarre | C42: kg | D42: 8500 | E42: 0.1 | F42: =ROUND(D42*(1+E42),0) -> 9350 | G42: Fijación y armado de canastillas de refuerzo
A43: MAT-07 | B43: Aditivo Impermeabilizante Integral (Sika 1 o equivalente) | C43: kg | D43: 9200 | E43: 0.03 | F43: =ROUND(D43*(1+E43),0) -> 9476 | G43: Impermeabilización de masa en tanques de agua
A44: MAT-08 | B44: Madera para Formaleta (Listones, Tablas y Puntales 4 usos) | C44: m2 | D44: 28000 | E44: 0.1 | F44: =ROUND(D44*(1+E44),0) -> 30800 | G44: Encofrados muros y losas de tanques
A45: MAT-09 | B45: Tabla Chapa / Triplay Fenólico 15mm para Encofrado Visto | C45: Und | D45: 125000 | E45: 0.08 | F45: =ROUND(D45*(1+E45),0) -> 135000 | G45: Acabado liso e impermeable en muros de agua
A46: MAT-10 | B46: Puntillas de Acero con Cabeza (2", 2-1/2", 3") | C46: lb | D46: 4800 | E46: 0.05 | F46: =ROUND(D46*(1+E46),0) -> 5040 | G46: Fijación de encofrados y formaletería
A47: 4. EQUIPOS, MAQUINARIA Y HERRAMIENTAS
A48: EQ-01 | B48: Mezcladora de Concreto Cap. 1 Bulto a Gasolina (8 HP) | C48: Día | D48: 85000 | E48: 0 | F48: =ROUND(D48*(1+E48),0) -> 85000 | G48: Rendimiento 3.5 m3/h con operario
A49: EQ-02 | B49: Vibrador de Concreto a Gasolina con Aguja 1-1/2" (4 HP) | C49: Día | D49: 55000 | E49: 0 | F49: =ROUND(D49*(1+E49),0) -> 55000 | G49: Compactación óptima de muros y losas
...

Sheet Resumen_Licitacion
A1: MUNICIPIO DE BURITICÁ - ANTIOQUIA | SECRETARÍA DE PLANEACIÓN E INFRAESTRUCTURA
A2: PROYECTO: CONSTRUCCIÓN Y OPTIMIZACIÓN ACUEDUCTO VEREDA CARAUQUIA
A3: DOCUMENTO TÉCNICO-FINANCIERO: RESUMEN GENERAL DE LICITACIÓN PÚBLICA
A5: COSTO DIRECTO TOTAL | B5: TOTAL A.I.U. (30%) | C5: INTERVENTORÍA INTEGRAL (8%) | E5: PRESUPUESTO GENERAL
A6: =+C14 -> 305945222 | E6: =+A6 -> 305945222
A8: 1. RESUMEN DE COSTOS DIRECTOS POR CAPÍTULO DE OBRA
A9: Capítulo | B9: Descripción del Componente | C9: Costo Directo (COP) | D9: % Incidencia | E9: Estado / Observaciones
A10: Cap. I | B10: Bocatoma y Obras de Captación | C10: {=Presupuesto!F154} -> 14126745 | D10: =C10/$C$14 -> 0.046174098 | E10: Obras civiles e hidráulicas
A11: Cap. II | B11: Tanque Desarenador y Prefiltro | C11: {=Presupuesto!F155} -> 950958 | D11: =C11/$C$14 -> 0.0031082623 | E11: Unidades de sedimentación y filtrado
A12: Cap. III | B12: Tanque de Almacenamiento y Cloración | C12: {=Presupuesto!F156} -> 63635388 | D12: =C12/$C$14 -> 0.20799602 | E12: Estructura de reserva y desinfección
A13: Cap. IV | B13: Aducción, Conducción y Red de Distribución | C13: {=Presupuesto!F157} -> 2.2723213e+08 | D13: =C13/$C$14 -> 0.74272162 | E13: Tuberías RDE 21, accesorios e hidrantes
A14: TOTAL | B14: TOTAL COSTO DIRECTO DE CONSTRUCCIÓN | C14: =SUM(C10:C13) -> 305945222 | D14: =SUM(D10:D13) -> 1 | E14: 100.0% Presupuesto Base
A16: 2. ESTRUCTURA ECONÓMICA DE LA PROPUESTA (A.I.U. E INDIRECTOS)
A17: Ítem | B17: Concepto Financiero / Contractual | C17: Valor Total (COP) | D17: % Base / CD | E17: Bases de Cálculo
A18: A | B18: Costo Directo Total de Obra | C18: {=C14} -> 305945222 | D18: =C18/$C$14 -> 1 | E18: Presupuesto de ejecución material
A19: B.1 | B19: Administración e Imprevistos (AI) | C19: 0 | D19: =C19/$C$14 -> 0 | E19: 25.0% sobre Costo Directo
A20: B.2 | B20: Utilidad del Contratista (U) | C20: 0 | D20: =C20/$C$14 -> 0 | E20: 5.0% sobre Costo Directo
A21: SUBTOTAL | B21: VALOR TOTAL DEL CONTRATO DE OBRA (A + B) | C21: =SUM(C18:C20) -> 305945222 | D21: =C21/$C$14 -> 1 | E21: Costo Directo + AIU (30.0%)
A22: C | B22: Interventoría Técnica, Administrativa y Ambiental | C22: 0 | D22: =C22/$C$14 -> 0 | E22: 8.0% sobre Costo Directo
A23: D | B23: Plan de Manejo Ambiental y Social (PMAS) | C23: {=Presupuesto!F169} -> 0 | D23: =C23/$C$14 -> 0 | E23: 1.0% sobre Costo Directo
A24: TOTAL | B24: PRESUPUESTO OFICIAL TOTAL DEL PROYECTO | C24: =+C21 -> 305945222 | D24: =C24/$C$14 -> 1 | E24: Inversión Municipal Total
