Workbook
Name \0: #REF!
Name \0: #REF!
Name \0: #REF!
Name \0: #REF!
Name \0: #REF!
Name \0: #REF!
Name \0: #REF!
Name \0: #REF!
Name \0: #REF!
Name \0: #REF!
Name \0: #REF!
Name \00: #REF!
Name \00: #REF!
Name \00: #REF!
Name \00: #REF!
Name \00: #REF!
Name \00: #REF!
Name \00: #REF!
Name \00: #REF!
Name \00: #REF!
Name \00: #REF!
Name \00: #REF!
Name \a: #REF!
Name \a: #REF!
Name \a: #REF!
Name \a: #REF!
Name \a: #REF!
Name \a: #REF!
Name \a: #REF!
Name \a: #REF!
Name \a: #REF!
Name \a: #REF!
Name \a: #REF!
Name \a: #REF!
Name \a: #REF!
Name \a: #REF!
Name \a: #REF!
Name \a: #REF!
Name \a: #REF!
Name \a: #REF!
Name \a: #REF!
Name \a: #REF!
Name \a: #REF!
Name \a: #REF!
Name \a: #REF!
Name \a: #REF!
Name \a: #REF!
Name \a: #REF!
Name \a: #REF!
Name \a: #REF!
Name \a: #REF!
Name \a: #REF!
Name \a: #REF!
Name \a: #REF!
Name \a: #REF!
Name \a: #REF!
Name \a: #REF!
Name \a: #REF!
Name \a: #REF!
Name \a: #REF!

Sheet PRESUPUESTO OFICIAL
C2: Código | D2: CCE-EICP-FM-25 | E2: Versión | F2: 1
C3: FORMULARIO 1
C4: PRESUPUESTO OFICIAL
C5: [El presente formulario aplica para los procesos de contratación que tengan como forma de pago precios unitarios. Tratándose de otras modalidades de precio, la Entidad debe ajustarlo cuando corresponde a: precio global, llave en mano, administración delegada, reembolso de gastos o cualquier otra forma precio]
C7: Adicionalmente, cuando el proceso de contratación es estructurado por precios unitarios, la Entidad debe aplicar las notas 1, 2 y 3 del presente formulario y las casillas de "Descripción", "Porcentaje" de la Administración, Imprevisto, Utilidad y total A.I.U. resaltadas en colo amarillo. Tratándose de otras modalidades de precio, la Entidad puede o no configurar los mismos aspectos.
C8: OBJETO: ADECUACIÓN DE LA INFRAESTRUCTURA DE LAS SEDES ADMINISTRATIVAS DEL MUNICIPIO DE PITALITO
C9: A | D9: CENTRO ADMINISTRATIVO "LA CHAPOLERA"
C10: Nº | D10: ITEM | E10: ESPECIFICACIONES | G10: DESCRIPCION | H10: UND. | I10: CANTIDAD | J10: VALOR UNITARIO | K10: VALOR TOTAL
E11: GENERAL | F11: PARTICULAR
C12: 1 | D12: ESTRUCTURA METÁLICA
D13: 1.1 | F13: PARTICULAR | G13: Suministro y aplicación de protección anticorrosiva sobre estructura metálica existente (vigas, columnas y viguetas), incluye preparación y limpieza total de la superficie mediante grateado, aplicación localizada de tratamiento antihongo en áreas afectadas, aplicación de una capa de imprimante anticorrosivo tipo base y dos capas de pintura de acabado, suministro, transporte, instalación, disposición final de residuos y todo lo necesario para su correcta ejecución y funcionamiento | H13: ML | I13: =+'CANTIDADES CHAP'!V19 -> 5467.69 | J13: =+'1.1'!O61 -> 32579 | K13: =+ROUND(I13*J13,0) -> 178131873
D14: 1.2 | F14: PARTICULAR | G14: Mantenimiento de unión pernada viga–columna, incluye inspección, limpieza mecánica de pernos y superficies, ajuste y reapriete con herramienta especializada, reposición parcial de elementos defectuosos (en caso de ser necesario), suministro de materiales, mano de obra, equipos, herramientas, medios de acceso, disposición final de residuos, y todo lo necesario para su correcta ejecución y funcionamiento. | H14: UND. | I14: =+'CANTIDADES CHAP'!V29 -> 708 | J14: =+'1.2'!O65 -> 133880 | K14: =+ROUND(I14*J14,0) -> 94787040
C15: Subtotal | K15: =+SUM(K13:K14) -> 272918913
C16: 2 | D16: CIELO RASO
D17: 2.1 | F17: PARTICULAR | G17: Mantenimiento y reposición parcial de cielo raso en el quinto piso, incluye desmonte de paneles deteriorados, suministro e instalación de nuevos paneles de Drywall, ajuste de estructura existente, nivelación, acabado y limpieza final., disposición final de los residuos y todo lo necesario para su correcta ejecución. | H17: m² | I17: =+'CANTIDADES CHAP'!V54 -> 258.17 | J17: =+'2.1'!O64 -> 129000 | K17: =+ROUND(I17*J17,0) -> 33303930
C18: Subtotal | K18: =+SUM(K17:K17) -> 33303930
C19: 3 | D19: FACHADA
D20: 3.1 | F20: PARTICULAR | G20: Limpieza de fachada en vidrio de seguridad laminado mediante procedimiento manual controlado con soluciones neutras y elementos no abrasivo. Incluye equipos de acceso para trabajo en alturas, suministro, transporte, instalación, disposición final de residuos y todo lo necesario para su correcta ejecución y funcionamiento | H20: m² | I20: =+'CANTIDADES CHAP'!V65 -> 361.23 | J20: =+'3.1'!O63 -> 15950 | K20: =+ROUND(I20*J20,0) -> 5761619
D21: 3.2 | F21: PARTICULAR | G21: Desmonte, suministro e instalación de película de protección solar nanoceramica con control de rayos UV, control de radiación y coeficiente de sombra para fachada en vidrio a todo costo, incluye equipos para trabjo en altura, mano de obra, transporte y todo lo necesario para su correcta ejecución y funcionamiento. | H21: m² | I21: =+'CANTIDADES CHAP'!V76 -> 361.23 | J21: =+'3.2'!O63 -> 102891 | K21: =+ROUND(I21*J21,0) -> 37167316
C22: Subtotal | K22: =+SUM(K20:K21) -> 42928935
C23: SUBTOTAL OBRAS | K23: =+SUM(K13:K22)/2 -> 349151778
C25: B | D25: CAMPAMENTO MAQUINARIA
C26: Nº | D26: ITEM | E26: ESPECIFICACIONES | G26: DESCRIPCION | H26: UND. | I26: CANTIDAD | J26: VALOR UNITARIO | K26: VALOR TOTAL
E27: GENERAL | F27: PARTICULAR
C28: 4 | D28: PRELIMINARES
D29: 4.1 | F29: PARTICULAR | G29: Trazado localización y replanteo de la unidad sanitaria, incluye trazado de ejes, niveles, alineamientos, referencias topográficas, mano de obra, herramientas, equipos y todos los elementos necesarios para su correcta ejecución. | H29: m² | I29: =+'CANTIDADES CAMPA'!V18 -> 6.4 | J29: =+'4.1'!O61 -> 3650 | K29: =+ROUND(I29*J29,0) -> 23360
D30: 4.2 | F30: PARTICULAR | G30: Desmonte y demolición manual de cerramiento y cubierta existente, compuesto por malla eslabonada, postes metálicos, murete de concreto y/o mampostería de soporte, estructura de cubierta en guadua y teja existentes, incluye corte, desmontaje, desensamble, retiro de elementos de fijación, cargue, retiro, transporte interno, disposición final de materiales y escombros, limpieza del área intervenida, mano de obra, herramientas, equipos y todos los elementos necesarios para su correcta ejecución. | H30: m² | I30: =+'CANTIDADES CAMPA'!V29 -> 41.65 | J30: =+'4.2'!O61 -> 32132 | K30: =+ROUND(I30*J30,0) -> 1338298
C31: Subtotal | K31: =+SUM(K29:K30) -> 1361658
C32: 5 | D32: EXCAVACIONES
D33: 5.1 | F33: PARTICULAR | G33: Excavación manual para cimentación en material común, incluye cargue, retiro, transporte y disposición final de material sobrante, mano de obra, herramientas y equipos necesarios para su correcta ejecución. | H33: m³ | I33: =+'CANTIDADES CAMPA'!V40 -> 3.67 | J33: =+'5.1'!O61 -> 41625 | K33: =+ROUND(I33*J33,0) -> 152764
D34: 5.2 | F34: PARTICULAR | G34: Suministro, extendido y compactación de relleno en recebo seleccionado en espesor de 0.30 m, incluye compactación por capas, mano de obra, equipos y todos los elementos necesarios para su correcta ejecución. | H34: m³ | I34: =+'CANTIDADES CAMPA'!V63 -> 2.97 | J34: =+'5.2'!O61 -> 71050 | K34: =+ROUND(I34*J34,0) -> 211019
C35: Subtotal | K35: =+SUM(K33:K34) -> 363783
C36: 6 | D36: CIMENTACIÓN
D37: 6.1 | F37: PARTICULAR | G37: Suministro y vaciado de concreto de limpieza f'c=1500 psi y e=0.05 m, incluye preparación de la superficie, vaciado, nivelación, curado, mano de obra y todo lo necesario para su correcta ejecución. | H37: ML | I37: =+'CANTIDADES CAMPA'!V74 -> 15.1 | J37: =+'6.1'!O61 -> 40910 | K37: =+ROUND(I37*J37,0) -> 617741
D38: 6.2 | F38: PARTICULAR | G38: Suministro y vaciado de placa de concreto reforzado de f'c=3000 psi y e=0.10 m, incluye formaleta, colocación, vibrado, nivelación, curado, mano de obra, equipos y todo lo necesario para su correcta ejecución. No incluye acero. | H38: m² | I38: =+'CANTIDADES CAMPA'!V85 -> 6.4 | J38: =+'6.2'!O61 -> 131101 | K38: =+ROUND(I38*J38,0) -> 839046
D39: 6.3 | F39: PARTICULAR | G39: Suministro y vaciado de vigas de cimentación de dimensiones 0.2x0.3 m en concreto de f'c=3000 psi, incluye formaleta, colocación, vibrado, nivelación, curado, mano de obra, equipos y todo lo necesario para su correcta ejecución. No incluye acero. | H39: ML | I39: =+'CANTIDADES CAMPA'!V106 -> 15.1 | J39: =+'6.3'!O61 -> 135231 | K39: =+ROUND(I39*J39,0) -> 2041988
D40: 6.4 | G40: Suministro y vaciado de zapata de cimentación de dimensiones 0.9x0.9x0.3 m en concreto de f'c=3000 psi, incluye formaleta, colocación, vibrado, nivelación, curado, mano de obra, equipos y todo lo necesario para su correcta ejecución. No incluye acero. | H40: UND. | I40: 1 | J40: 300000 | K40: =+ROUND(I40*J40,0) -> 300000
D41: 6.5 | F41: PARTICULAR | G41: Suministro, corte, figurado, doblado y colocación de acero de refuerzo fy=60.000 psi (4200 kg/cm²), incluye alambre de amarre, separadores, desperdicios, mano de obra y todo lo necesario para su correcta ejecución. | H41: KG | I41: =+'CANTIDADES CAMPA'!V132 -> 137.53 | J41: =+'6.5'!O61 -> 10418 | K41: =+ROUND(I41*J41,0) -> 1432788
C42: Subtotal | K42: =+SUM(K37:K41) -> 5231563
C43: 7 | D43: MAMPOSTERÍA
...

Sheet AIU
A1: SECRETARIA DE INFRAESTRUCTURA
A3: ANALISIS DETALLADO DE LOS COSTOS DE ADMINISTRACIÓN, IMPREVISTOS Y UTILIDAD (A.I.U.)
A5: OBJETO: MANTENIMIENTO DE LA INFRAESTRUCTURA DE LAS SEDES ADMINISTRATIVAS DEL MUNICIPIO DE PITALITO
A7: FECHA DE ELABORACIÓN: | G7: 46268
A8: COSTO DIRECTO DE LA OBRA | G8: =+'PRESUPUESTO OFICIAL'!K104 -> 386885523
A9: Descripción | B9: Formación | C9: CANT (Personal) | D9: UND | E9: CANT (Mes) | F9: Dedicación (%) | G9: Vr. Parcial | H9: F.P. | I9: Vr. Unitario
A10: ADMINISTRACIÓN (A)
A11: PERSONAL PROFESIONAL Y TÉCNICO
A12: Director de obra | B12: Ingeniero Civil - Especialista en patología | C12: 1 | D12: Mes | E12: 2.5 | F12: 0.5 | G12: 4200000 | H12: 1.8 | I12: =+(G12*F12)*E12*H12 -> 9450000
A13: Residente de Obra | B13: Ingeniero Civil - Especialista en estructuras | C13: 1 | D13: Mes | E13: 2.5 | F13: 1 | G13: 3450000 | H13: 1.8 | I13: =+(G13*F13)*E13*H13 -> 15525000
A14: Profesional | B14: Profesional HSEQ | C14: 1 | D14: Mes | E14: 2.5 | F14: 1 | G14: 2550000 | H14: 1.8 | I14: =+(G14*F14)*E14*H14 -> 11475000
A15: Sub - Total | I15: =ROUND(SUM(I12:I14),0) -> 36450000
A16: Gastos Contractuales
A17: Impuestos y Contribuciones | C17: 1 | F17: 0.05 | G17: =ROUND($G$8*F17,0) -> 19344276 | I17: =+G17 -> 19344276
A18: Seguros y Pólizas | C18: 1 | F18: 0.005 | G18: =ROUND($G$8*F18,0) -> 1934428 | I18: =+G18 -> 1934428
A19: Estampilla | B19: TASA DEPORTE | C19: 1 | F19: 0.02 | G19: =ROUND($G$8*F19,0) -> 7737710 | I19: =+G19 -> 7737710
A20: Estampilla | B20: ESTAMPILLA PRO CULTURA | C20: 1 | F20: 0.01 | G20: =ROUND($G$8*F20,0) -> 3868855 | I20: =+G20 -> 3868855
A21: Estampilla | B21: ESTAMPILLA PRO UNIVERSIDAD | C21: 1 | F21: 0.005 | G21: =ROUND($G$8*F21,0) -> 1934428 | I21: =+G21 -> 1934428
A22: Estampilla | B22: ESTAMPILLA PRO JUSTICIA FAMILIAR | C22: 1 | F22: 0.02 | G22: =ROUND($G$8*F22,0) -> 7737710 | I22: =+G22 -> 7737710
A23: Estampilla | B23: ESTAMPILLA PRO BIENESTAR DEL ANCIANATO | C23: 1 | F23: 0.04 | G23: =ROUND($G$8*F23,0) -> 15475421 | I23: =+G23 -> 15475421
A24: Estampilla | B24: ESTAMPILLA PRO ELECTRIFICADORA RURAL | C24: 1 | F24: 0.005 | G24: =ROUND($G$8*F24,0) -> 1934428 | I24: =+G24 -> 1934428
A25: Sub - Total | I25: =ROUND(SUM(I17:I24),0) -> 59967256
A26: Otros Costos
A27: Gastos Fotocopias, Plotter Planos, Impresiones, archivo, etc. | C27: UND | E27: 1 | F27: 1 | G27: 304124.91 | I27: =+ROUND(E27*F27*G27,0) -> 304125
A28: Sub-Total | I28: =ROUND(I15+I25+I27,0) -> 96721381 | K28: =+I27-K29 -> 304125
A29: ADMINISTRACIÓN (A) TOTAL | F29: 0.25 | G29: =+ROUND(F29*G8,0) -> 96721381 | K29: =+I28-G29 -> 0 | L29: =+I28/G8 -> 0.25
A30: IMPREVISTOS (B) | F30: 0.01 | G30: =+ROUND(F30*G8,0) -> 3868855
A31: UTILIDAD (C) | F31: 0.05 | G31: =+ROUND(F31*G8,0) -> 19344276
A32: COSTO TOTAL (A+B+C) | G32: =+G29+G30+G31 -> 119934512
B34: Elaborado por: | D34: Aprobado por:
B37: LAURA CAMILA ORDOÑEZ TEJADA | D37: MILTON STIVEN HOYOS HERMIDA
B38: ING. CIVIL - APOYO PROFESIONAL | D38: SECRETARIO DE INFRAESTRUCTURA
B39: M.P 091037-0639549 CND | D39: M.P 161037-0560021 TLM

Sheet PMT
A1: SECRETARIA DE INFRAESTRUCTURA
A3: PLAN DE MANEJO DE TRÁNSITO
A5: OBJETO: MANTENIMIENTO DE LA INFRAESTRUCTURA DE LAS SEDES ADMINISTRATIVAS DEL MUNICIPIO DE PITALITO
A7: FECHA DE ELABORACIÓN: | D7: 46268
A8: Descripción | B8: UND | C8: CANT | D8: Vr. Unitario | E8: Vr. Total
A9: Baliza de señalización vial en PVC=1.4m, con ranura para cinta de prevención | B9: UND | C9: 12 | D9: 45000 | E9: =+C9*D9 -> 540000
A10: Cono de señalziación vial H=0.70 m | B10: UND | C10: 10 | D10: 35000 | E10: =+C10*D10 -> 350000
A11: Señal preventiva tipo rombo móvil 0,60 × 0,60 m | B11: UND | C11: 2 | D11: 230000 | E11: =+C11*D11 -> 460000
A12: Señal informativa circular móvil H=0.60 m | B12: UND | C12: 2 | D12: 180000 | E12: =+C12*D12 -> 360000
A13: Cinta de señalización y prevención | B13: ROLLO | C13: 4 | D13: 25000 | E13: =+C13*D13 -> 100000
A14: Malla de cerramiento para aislamiento temporal del área de trabajo, H=1.80 m | B14: M | C14: 40 | D14: 18000 | E14: =+C14*D14 -> 720000
A15: Protección/pasarela provisional para circulación peatonal sobre andén | B15: UND | C15: 1 | D15: 300000 | E15: =+C15*D15 -> 300000
A16: TOTAL | D16: =+SUM(E9:E15) -> 2830000
B18: Realizado por:
B21: LAURA CAMILA ORDOÑEZ TEJADA
B22: ING. CIVIL - APOYO PROFESIONAL
B23: M.P 091037-0639549 CND
B25: Aprobado por:
B28: MILTON STIVEN HOYOS HERMIDA
B29: SECRETARIO DE INFRAESTRUCTURA
B30: M.P 161037-0560021 TLM

Sheet CANTIDADES CHAP
B2: REPÚBLICA DE COLOMBIA
B3: DEPARTAMENTO DEL HUILA
B4: MUNICIPIO DE PITALITO
B5: =+'[120]PRESUPUESTO OFICIAL'!D10 -> CENTRO ADMINISTRATIVO "LA CHAPOLERA"
B7: MEMORIA DE CÁLCULO DE CANTIDADES
B9: Capítulo | H9: =+'PRESUPUESTO OFICIAL'!C12 -> 1 | I9: =+'PRESUPUESTO OFICIAL'!D12 -> ESTRUCTURA METÁLICA
B10: Ítem | H10: =+'PRESUPUESTO OFICIAL'!D13 -> 1.1 | J10: =+'PRESUPUESTO OFICIAL'!G13 -> Suministro y aplicación de protección anticorrosiva sobre estructura metálica existente (vigas, columnas y viguetas), incluye preparación y limpieza total de la superficie mediante grateado, aplicación localizada de tratamiento antihongo en áreas afectadas, aplicación de una capa de imprimante anticorrosivo tipo base y dos capas de pintura de acabado, suministro, transporte, instalación, disposición final de residuos y todo lo necesario para su correcta ejecución y funcionamiento | W10: =+'PRESUPUESTO OFICIAL'!H13 -> ML
B11: Evidencia fotográfica
B13: Área/lugar/elemento | H13: Longitud (m) | K13: Ancho (m) | M13: Alto (m) | O13: Peso (kg) | Q13: CANT/. | S13: N° DE ELEMENTOS | T13: UNIDAD | V13: TOTAL
B14: Piso 2 Vigas, viguetas, columnas | H14: =+E.M!F46 -> 1656.69 | S14: 1 | V14: =+H14*S14 -> 1656.69
B15: Piso 3 Vigas, viguetas, columnas | H15: =+E.M!F87 -> 1265.17 | S15: 1 | V15: =+H15*S15 -> 1265.17
B16: Piso 4 Vigas, viguetas, columnas | H16: =+E.M!F128 -> 1254.44 | S16: 1 | V16: =+H16*S16 -> 1254.44
B17: Piso 5 Vigas, viguetas, columnas | H17: =+E.M!F169 -> 1291.39 | S17: 1 | V17: =+H17*S17 -> 1291.39
B18: Nota: el detalle de los elementos se encuentra anexo a este documento.
B19: TOTAL | V19: =SUM(V14:W17) -> 5467.69
B21: Capítulo | H21: =+H9 -> 1 | I21: =+I9 -> ESTRUCTURA METÁLICA
B22: Ítem | H22: =+'PRESUPUESTO OFICIAL'!D14 -> 1.2 | J22: =+'PRESUPUESTO OFICIAL'!G14 -> Mantenimiento de unión pernada viga–columna, incluye inspección, limpieza mecánica de pernos y superficies, ajuste y reapriete con herramienta especializada, reposición parcial de elementos defectuosos (en caso de ser necesario), suministro de materiales, mano de obra, equipos, herramientas, medios de acceso, disposición final de residuos, y todo lo necesario para su correcta ejecución y funcionamiento. | W22: =+'PRESUPUESTO OFICIAL'!H14 -> UND.
B23: Evidencia fotográfica
B25: Área/lugar/elemento | H25: Area (m^2) | K25: Ancho (m) | M25: Alto (m) | O25: Peso (kg) | Q25: CANT/. | S25: N° DE PISOS | T25: N° DE UNIONES | V25: TOTAL
B26: Columnas bloque 1 | Q26: 30 | S26: 5 | T26: 4 | V26: =+Q26*S26*T26 -> 600
B27: Columnas bloque 2 | Q27: 20 | S27: 1 | T27: 3 | V27: =+Q27*S27*T27 -> 60
B28: Columnas bloque 2 | Q28: 6 | S28: 4 | T28: 2 | V28: =+Q28*S28*T28 -> 48
B29: TOTAL | V29: =ROUND(SUM(V26:W28),2) -> 708
E33: Elaborado por: | O33: Aprobado por:
E38: LAURA CAMILA ORDOÑEZ TEJADA | O38: MILTON STIVEN HOYOS HERMIDA
E39: ING. CIVIL - APOYO PROFESIONAL | O39: SECRETARIO DE INFRAESTRUCTURA
E40: M.P 091037-0639549 CND | O40: M.P 161037-0560021 TLM
B43: Capítulo | H43: =+'PRESUPUESTO OFICIAL'!$C$16 -> 2 | I43: =+'PRESUPUESTO OFICIAL'!$D$16 -> CIELO RASO
B44: Ítem | H44: =+'PRESUPUESTO OFICIAL'!D17 -> 2.1 | J44: =+'PRESUPUESTO OFICIAL'!G17 -> Mantenimiento y reposición parcial de cielo raso en el quinto piso, incluye desmonte de paneles deteriorados, suministro e instalación de nuevos paneles de Drywall, ajuste de estructura existente, nivelación, acabado y limpieza final., disposición final de los residuos y todo lo necesario para su correcta ejecución. | W44: =+'PRESUPUESTO OFICIAL'!H17 -> m²
B45: Evidencia fotográfica
B47: Área/lugar/elemento | H47: Area (m^2) | K47: Ancho (m) | M47: Longitud (m) | O47: Peso (kg) | Q47: CANT/. | S47: N° DE ELEMENTOS | T47: UNIDAD | V47: TOTAL
B48: Auditorio 5 piso | H48: =+K48*M48 -> 159.8116 | K48: 8.42 | M48: 18.98 | Q48: 1 | S48: 1 | V48: =ROUND(Q48*H48,2) -> 159.81
B49: Pasillo 1 | H49: =+K49*M49 -> 51.911 | K49: 1.85 | M49: 28.06 | Q49: 1 | S49: 1 | V49: =ROUND(Q49*H49,2) -> 51.91
B50: Pasillo 2 | H50: =+K50*M50 -> 17.5 | K50: 1.75 | M50: 10 | Q50: 1 | S50: 1 | V50: =ROUND(Q50*H50,2) -> 17.5
B51: L balcón | H51: =+K51*M51 -> 16.4243 | K51: 1.93 | M51: 8.51 | Q51: 1 | S51: 1 | V51: =ROUND(Q51*H51,2) -> 16.42
H52: =+K52*M52 -> 12.528 | K52: 1.6 | M52: 7.83 | Q52: 1 | S52: 1 | V52: =ROUND(Q52*H52,2) -> 12.53
B54: TOTAL | V54: =ROUND(SUM(V48:W53),2) -> 258.17
B56: Capítulo | H56: =+'PRESUPUESTO OFICIAL'!$C$19 -> 3 | I56: =+'PRESUPUESTO OFICIAL'!$D$19 -> FACHADA
B57: Ítem | H57: =+'PRESUPUESTO OFICIAL'!D20 -> 3.1 | J57: =+'PRESUPUESTO OFICIAL'!G20 -> Limpieza de fachada en vidrio de seguridad laminado mediante procedimiento manual controlado con soluciones neutras y elementos no abrasivo. Incluye equipos de acceso para trabajo en alturas, suministro, transporte, instalación, disposición final de residuos y todo lo necesario para su correcta ejecución y funcionamiento | W57: =+'PRESUPUESTO OFICIAL'!H20 -> m²
B58: Evidencia fotográfica
...

Sheet CANTIDADES CAMPA
B2: REPÚBLICA DE COLOMBIA
B3: DEPARTAMENTO DEL HUILA
B4: MUNICIPIO DE PITALITO
B5: CENTRO ADMINISTRATIVO "CAMPAMENTO DE MAQUINARIA DE LA DIRECCIÓN TÉCNICA DE OBRAS PÚBLICAS"
B7: MEMORIA DE CÁLCULO DE CANTIDADES
B9: Capítulo | H9: =+'PRESUPUESTO OFICIAL'!$C$28 -> 4 | I9: =+'PRESUPUESTO OFICIAL'!$D$28 -> PRELIMINARES
B10: Ítem | H10: =+'PRESUPUESTO OFICIAL'!D29 -> 4.1 | J10: =+'PRESUPUESTO OFICIAL'!G29 -> Trazado localización y replanteo de la unidad sanitaria, incluye trazado de ejes, niveles, alineamientos, referencias topográficas, mano de obra, herramientas, equipos y todos los elementos necesarios para su correcta ejecución. | W10: =+'PRESUPUESTO OFICIAL'!H29 -> m²
B11: Evidencia fotográfica
B13: Área/lugar/elemento | H13: Largo (m) | K13: Ancho (m) | M13: Alto (m) | O13: Peso (kg) | Q13: CANT/. | S13: N° DE ELEMENTOS | T13: UNIDAD | V13: TOTAL
B14: Unidad sanitaria | H14: 3.2 | K14: 2 | Q14: 1 | V14: =+Q14*H14*K14 -> 6.4
B18: TOTAL | V18: =ROUND(SUM(V14:W17),2) -> 6.4
B20: Capítulo | H20: =+'PRESUPUESTO OFICIAL'!$C$28 -> 4 | I20: =+'PRESUPUESTO OFICIAL'!$D$28 -> PRELIMINARES
B21: Ítem | H21: =+'PRESUPUESTO OFICIAL'!D30 -> 4.2 | J21: =+'PRESUPUESTO OFICIAL'!G30 -> Desmonte y demolición manual de cerramiento y cubierta existente, compuesto por malla eslabonada, postes metálicos, murete de concreto y/o mampostería de soporte, estructura de cubierta en guadua y teja existentes, incluye corte, desmontaje, desensamble, retiro de elementos de fijación, cargue, retiro, transporte interno, disposición final de materiales y escombros, limpieza del área intervenida, mano de obra, herramientas, equipos y todos los elementos necesarios para su correcta ejecución. | W21: =+'PRESUPUESTO OFICIAL'!H30 -> m²
B22: Evidencia fotográfica
B24: Área/lugar/elemento | H24: Largo (m) | K24: Ancho (m) | M24: Alto (m) | O24: Peso (kg) | Q24: CANT/. | S24: N° DE ELEMENTOS | T24: UNIDAD | V24: TOTAL
B25: Cerramiento en malla galvanizada | K25: 7 | M25: 2 | Q25: 1 | V25: =+K25*M25*Q25 -> 14
B26: Cubierta | K26: 7.9 | M26: 3.5 | Q26: 1 | V26: =+K26*M26*Q26 -> 27.65
B29: TOTAL | V29: =ROUND(SUM(V25:W28),2) -> 41.65
B31: Capítulo | H31: =+'PRESUPUESTO OFICIAL'!$C$32 -> 5 | I31: =+'PRESUPUESTO OFICIAL'!$D$32 -> EXCAVACIONES
B32: Ítem | H32: =+'PRESUPUESTO OFICIAL'!D33 -> 5.1 | J32: =+'PRESUPUESTO OFICIAL'!G33 -> Excavación manual para cimentación en material común, incluye cargue, retiro, transporte y disposición final de material sobrante, mano de obra, herramientas y equipos necesarios para su correcta ejecución. | W32: =+'PRESUPUESTO OFICIAL'!H33 -> m³
B33: Evidencia fotográfica
B35: Área/lugar/elemento | H35: Largo (m) | K35: Ancho (m) | M35: Alto (m) | O35: Peso (kg) | Q35: CANT/. | S35: N° DE ELEMENTOS | T35: UNIDAD | V35: TOTAL
B36: Cimentación unidad sanitaria | H36: 3.2 | K36: 2 | M36: 0.4 | V36: =+H36*K36*M36 -> 2.56
B37: Cimentación muro cerramiento | H37: =+K26-H36 -> 4.7 | K37: 0.2 | M37: 0.4 | V37: =+H37*K37*M37 -> 0.376
B38: Zapata | H38: 0.9 | K38: 0.9 | M38: 0.9 | V38: =+H38*K38*M38 -> 0.729
B40: TOTAL | V40: =ROUND(SUM(V36:W39),2) -> 3.67
E44: Elaborado por: | O44: Aprobado por:
E49: LAURA CAMILA ORDOÑEZ TEJADA | O49: MILTON STIVEN HOYOS HERMIDA
E50: ING. CIVIL - APOYO PROFESIONAL | O50: SECRETARIO DE INFRAESTRUCTURA
E51: M.P 091037-0639549 CND | O51: M.P 161037-0560021 TLM
B54: Capítulo | H54: =+'PRESUPUESTO OFICIAL'!$C$32 -> 5 | I54: =+'PRESUPUESTO OFICIAL'!$D$32 -> EXCAVACIONES
B55: Ítem | H55: =+'PRESUPUESTO OFICIAL'!D34 -> 5.2 | J55: =+'PRESUPUESTO OFICIAL'!G34 -> Suministro, extendido y compactación de relleno en recebo seleccionado en espesor de 0.30 m, incluye compactación por capas, mano de obra, equipos y todos los elementos necesarios para su correcta ejecución. | W55: =+'PRESUPUESTO OFICIAL'!H34 -> m³
B56: Evidencia fotográfica
B58: Área/lugar/elemento | H58: Largo (m) | K58: Ancho (m) | M58: Alto (m) | O58: Peso (kg) | Q58: CANT/. | S58: N° DE ELEMENTOS | T58: UNIDAD | V58: TOTAL
B59: Cimentación unidad sanitaria | H59: 3.2 | K59: 2 | M59: 0.35 | V59: =+H59*K59*M59 -> 2.24
B60: Cimentación muro cerramiento | H60: =+H37 -> 4.7 | K60: 0.2 | M60: 0.35 | V60: =+H60*K60*M60 -> 0.329
B61: Zapata | H61: 0.9 | K61: 0.9 | M61: 0.5 | V61: =+H61*K61*M61 -> 0.405
B63: TOTAL | V63: =ROUND(SUM(V59:W62),2) -> 2.97
B65: Capítulo | H65: =+'PRESUPUESTO OFICIAL'!$C$36 -> 6 | I65: =+'PRESUPUESTO OFICIAL'!$D$36 -> CIMENTACIÓN
B66: Ítem | H66: =+'PRESUPUESTO OFICIAL'!D37 -> 6.1 | J66: =+'PRESUPUESTO OFICIAL'!G37 -> Suministro y vaciado de concreto de limpieza f'c=1500 psi y e=0.05 m, incluye preparación de la superficie, vaciado, nivelación, curado, mano de obra y todo lo necesario para su correcta ejecución. | W66: =+'PRESUPUESTO OFICIAL'!H37 -> ML
...

Sheet E.M
B2: Piso 2
B4: Elemento | C4: Perfil | D4: L | E4: Ai | F4: A
B5: Vigas Piso 2 - Bloque 1 | C5: IPE 400 | D5: 37.21 | E5: 1 | F5: =+ROUND(D5*E5,2) -> 37.21
C6: IPE 400 | D6: =20.93*2 -> 41.86 | E6: 1 | F6: =+ROUND(D6*E6,2) -> 41.86
C7: IPE 400 | D7: 34.94 | E7: 1 | F7: =+ROUND(D7*E7,2) -> 34.94
C8: IPE 360 | D8: =37.21*3 -> 111.63 | E8: 1 | F8: =+ROUND(D8*E8,2) -> 111.63
C9: IPE 330 | D9: =20.93*4 -> 83.72 | E9: 1 | F9: =+ROUND(D9*E9,2) -> 83.72
C10: IPE 330 | D10: 5.05 | E10: 1 | F10: =+ROUND(D10*E10,2) -> 5.05
C11: IPE 330 | D11: 2.24 | E11: 1 | F11: =+ROUND(D11*E11,2) -> 2.24
C12: IPE 330 | D12: 3.41 | E12: 1 | F12: =+ROUND(D12*E12,2) -> 3.41
C13: IPE 330 | D13: 3.94 | E13: 1 | F13: =+ROUND(D13*E13,2) -> 3.94
C14: IPE 330 | D14: 4.91 | E14: 1 | F14: =+ROUND(D14*E14,2) -> 4.91
B16: Viguetas Piso 2 - Bloque 1 | C16: IPE 100 | D16: =37.21*2 -> 74.42 | E16: 1 | F16: =+ROUND(D16*E16,2) -> 74.42
C17: IPE 100 | D17: =(37.21-3.41-2.24)*2 -> 63.12 | E17: 1 | F17: =+ROUND(D17*E17,2) -> 63.12
C18: IPE 100 | D18: =(37.21-3.94)*2 -> 66.54 | E18: 1 | F18: =+ROUND(D18*E18,2) -> 66.54
C19: IPE 100 | D19: =(37.21-4.91-2.19)*2 -> 60.22 | E19: 1 | F19: =+ROUND(D19*E19,2) -> 60.22
C20: IPE 180 | D20: =16.97*14 -> 237.58 | E20: 1 | F20: =+ROUND(D20*E20,2) -> 237.58
C21: IPE 180 | D21: =(16.97-2.61-2.2) -> 12.16 | E21: 1 | F21: =+ROUND(D21*E21,2) -> 12.16
C22: IPE 180 | D22: =(16.97-2.61) -> 14.36 | E22: 1 | F22: =+ROUND(D22*E22,2) -> 14.36
C23: IPE 140 | D23: =4.13*12 -> 49.56 | E23: 1 | F23: =+ROUND(D23*E23,2) -> 49.56
B25: Columnas - Bloque 1 | C25: W14-109 | D25: =3.24*30 -> 97.2 | E25: 1 | F25: =+ROUND(D25*E25,2) -> 97.2
B27: Vigas Piso 2 - Bloque 2 | C27: IPE 450 | D27: =6.87*2 -> 13.74 | E27: 1 | F27: =+ROUND(D27*E27,2) -> 13.74
C28: IPE 450 | D28: =+(6.87+2)*2 -> 17.74 | E28: 1 | F28: =+ROUND(D28*E28,2) -> 17.74
C29: IPE 450 | D29: =14.8*2 -> 29.6 | E29: 1 | F29: =+ROUND(D29*E29,2) -> 29.6
C30: IPE 450 | D30: =11.3*5 -> 56.5 | E30: 1 | F30: =+ROUND(D30*E30,2) -> 56.5
C31: IPE 360 | D31: 28 | E31: 1 | F31: =+ROUND(D31*E31,2) -> 28
C32: IPE 360 | D32: =31.62*2 -> 63.24 | E32: 1 | F32: =+ROUND(D32*E32,2) -> 63.24
B34: Viguetas Piso 2 - Bloque 2 | C34: IPE 180 | D34: =6.87*2 -> 13.74 | E34: 1 | F34: =+ROUND(D34*E34,2) -> 13.74
C35: IPE 180 | D35: =34.87*2 -> 69.74 | E35: 1 | F35: =+ROUND(D35*E35,2) -> 69.74
C36: IPE 180 | D36: =38.49*4 -> 153.96 | E36: 1 | F36: =+ROUND(D36*E36,2) -> 153.96
C37: IPE 160 | D37: =1.99*4 -> 7.96 | E37: 1 | F37: =+ROUND(D37*E37,2) -> 7.96
C38: IPE 160 | D38: 6.8 | E38: 1 | F38: =+ROUND(D38*E38,2) -> 6.8
C39: IPE 100 | D39: 6.8 | E39: 1 | F39: =+ROUND(D39*E39,2) -> 6.8
C40: IPE 100 | D40: =14.8*2 -> 29.6 | E40: 1 | F40: =+ROUND(D40*E40,2) -> 29.6
C41: IPE 100 | D41: =11.3*8 -> 90.4 | E41: 1 | F41: =+ROUND(D41*E41,2) -> 90.4
B43: Columnas - Bloque 2 | C43: W14-233 | D43: =3.24*6 -> 19.44 | E43: 1 | F43: =+ROUND(D43*E43,2) -> 19.44
C44: W14-79 | D44: =3.24*14 -> 45.36 | E44: 1 | F44: =+ROUND(D44*E44,2) -> 45.36
B46: Total | F46: =+ROUND(SUM(F5:F44),2) -> 1656.69
B48: Piso 3
B50: Elemento | C50: Perfil | D50: L | E50: Ai | F50: A
...

Sheet SUBPRODUCTOS
A3: ANÁLISIS DE PRECIOS UNITARIOS - SUBPRODUCTOS
A4: ALQUILER DE ANDAMIO TUBULAR CON TIJERA 1.50x1.50 m | E4: UNIDAD: Día
A5: DESCRIPCIÓN | B5: UNIDAD | C5: CANT/ REND | D5: PRECIO UNITARIO | E5: VR PARCIAL
A6: EQUIPO y HERRAMIENTAS:
A7: MARCO ANDAMIO DE TIJERA 1.50x1.50 m | B7: Día | C7: 2 | D7: 657 | E7: =ROUND(C7*D7, 2) -> 1314
A8: TIJERA DE ANDAMIO | B8: Día | C8: 2 | D8: 175 | E8: =ROUND(C8*D8, 2) -> 350
A9: PLATAFORMA METÁLICA PARA ANDAMIO | B9: Día | C9: 1 | D9: 3163 | E9: =ROUND(C9*D9, 2) -> 3163
D10: Subtotal = | E10: =SUM(E7:E9) -> 4827
D12: VR UNITARIO = | E12: =ROUND(SUM(E6:E10)/2, 0) -> 4827
A15: CARRETA BUGGIE, PALA, BALDES | E15: UNIDAD: Un
A16: DESCRIPCIÓN | B16: UNIDAD | C16: CANT/ REND | D16: PRECIO UNITARIO | E16: VR PARCIAL
A17: EQUIPO y HERRAMIENTAS:
A18: CARRETA LLANTA NEUMÁTICA | B18: Un | C18: 1 | D18: 313308 | E18: =ROUND(C18*D18, 2) -> 313308
A19: PALA REDONDA CON CABO | B19: Un | C19: 1 | D19: 34845 | E19: =ROUND(C19*D19, 2) -> 34845
A20: BALDE CONSTRUCCIÓN | B20: Un | C20: 2 | D20: 6265 | E20: =ROUND(C20*D20, 2) -> 12530
D21: Subtotal = | E21: =SUM(E18:E20) -> 360683
A24: CUADRILLA 1 OF + 1 AY | E24: UNIDAD: Día
A25: DESCRIPCIÓN | B25: UNIDAD | C25: CANT/ REND | D25: PRECIO UNITARIO | E25: VR PARCIAL
A26: MANO de OBRA:
A27: OFICIAL (Incl. prestaciones) | B27: Día | C27: 1 | D27: =+'CUADRILLAS '!$E$10 -> 123394 | E27: =ROUND(C27*D27, 2) -> 123394
A28: AYUDANTE (Incl. prestaciones) | B28: Día | C28: 1 | D28: =+'CUADRILLAS '!$E$7 -> 100048 | E28: =ROUND(C28*D28, 2) -> 100048
D29: Subtotal = | E29: =SUM(E27:E28) -> 223442
D31: VR UNITARIO = | E31: =ROUND(SUM(E26:E29)/2, 0) -> 223442
A34: CUADRILLA 1 OF + 2 AY | E34: UNIDAD: Día
A35: DESCRIPCIÓN | B35: UNIDAD | C35: CANT/ REND | D35: PRECIO UNITARIO | E35: VR PARCIAL
A36: MANO de OBRA:
A37: OFICIAL (Incl. prestaciones) | B37: Día | C37: 1 | D37: =+'CUADRILLAS '!$E$10 -> 123394 | E37: =ROUND(C37*D37, 2) -> 123394
A38: AYUDANTE (Incl. prestaciones) | B38: Día | C38: 2 | D38: =+'CUADRILLAS '!$E$7 -> 100048 | E38: =ROUND(C38*D38, 2) -> 200096
D39: Subtotal = | E39: =SUM(E37:E38) -> 323490
D41: VR UNITARIO = | E41: =ROUND(SUM(E36:E39)/2, 0) -> 323490
A44: CUADRILLA 2 Ay | E44: UNIDAD: Día
A45: DESCRIPCIÓN | B45: UNIDAD | C45: CANT/ REND | D45: PRECIO UNITARIO | E45: VR PARCIAL
A46: MANO de OBRA:
A47: AYUDANTE (Incl. prestaciones) | B47: Día | C47: 2 | D47: =+'CUADRILLAS '!$E$7 -> 100048 | E47: =ROUND(C47*D47, 2) -> 200096
D48: Subtotal = | E48: =SUM(E47:E47) -> 200096
D50: VR UNITARIO = | E50: =ROUND(SUM(E46:E48)/2, 0) -> 200096
A53: MORTERO 1:3 | E53: UNIDAD: m2
A54: DESCRIPCIÓN | B54: UNIDAD | C54: CANT/ REND | D54: PRECIO UNITARIO | E54: VR PARCIAL
A55: MATERIALES:
A56: CEMENTO GRIS | B56: Kg | C56: 450 | D56: 699 | E56: =ROUND(C56*D56, 2) -> 314550
...

Sheet 1.1
C3: Código | D3: CCE-EICP-FM-32 | E3: Versión | F3: 1
C5: =+'PRESUPUESTO OFICIAL'!C8:K8 -> OBJETO: ADECUACIÓN DE LA INFRAESTRUCTURA DE LAS SEDES ADMINISTRATIVAS DEL MUNICIPIO DE PITALITO
D8: ALCALDIA DE PITALITO
L9: VERSIÓN
D10: [NÚMERO DEL PROCESO]
L11: PÁGINA | M11: 1 | N11: DE | O11: 1
D13: ANALISIS DE PRECIOS UNITARIOS
L15: FECHA | M15: DD | N15: MM | O15: AA
M16: 3 | N16: 9 | O16: 2026
C21: DATOS ESPECÍFICOS
C23: ÍTEM | D23: DESCRIPCIÓN | M23: UNIDAD | O23: CANTIDAD
C24: =+'PRESUPUESTO OFICIAL'!D13 -> 1.1 | D24: =+'PRESUPUESTO OFICIAL'!G13 -> Suministro y aplicación de protección anticorrosiva sobre estructura metálica existente (vigas, columnas y viguetas), incluye preparación y limpieza total de la superficie mediante grateado, aplicación localizada de tratamiento antihongo en áreas afectadas, aplicación de una capa de imprimante anticorrosivo tipo base y dos capas de pintura de acabado, suministro, transporte, instalación, disposición final de residuos y todo lo necesario para su correcta ejecución y funcionamiento | M24: =+'PRESUPUESTO OFICIAL'!H13 -> ML | O24: =+'PRESUPUESTO OFICIAL'!I13 -> 5467.69
C25: I. EQUIPO
C28: DESCRIPCIÓN | H28: MARCA | J28: UNIDAD | L28: TARIFA | M28: RENDIMIENTO | O28: Vr. UNITARIO
C29: HERRAMIENTA MENOR (M.O. 10%) | H29: N/A | J29: =INSUMOS!B29 -> Un | L29: =O59 -> 16175 | M29: 0.1 | O29: =ROUND(M29*L29,0) -> 1618
C30: =+'EQ. Y TRANSP.'!C21 -> Alquiler de andamio certificado | H30: N/A | J30: h | L30: =+'EQ. Y TRANSP.'!E21 -> 20000 | M30: 0.1 | O30: =ROUND(M30*L30,0) -> 2000
C33: SUBTOTAL $ | O33: =ROUND(SUM(O29:O32),0) -> 3618
C34: II. MATERIALES
C37: DESCRIPCIÓN | K37: UNIDAD | L37: CANTIDAD | M37: PRECIO UNIT. | O37: Vr. UNITARIO
C38: =+INSUMOS!A90 -> DESOXIDANTE Y REMOVEDOR | K38: =INSUMOS!B90 -> GAL | L38: 0.06 | M38: =INSUMOS!C90 -> 58900 | O38: =ROUND(M38*L38,0) -> 3534
C39: =+INSUMOS!A92 -> PINTURA ACABADO BLANCA PARA ESTRUCTURA METÁLICA | K39: =INSUMOS!B92 -> Gal | L39: 0.05 | M39: =INSUMOS!C92 -> 80900 | O39: =ROUND(M39*L39,0) -> 4045
C40: =+INSUMOS!A18 -> PINTURA ANTICORROSIVA PREMIUM | K40: =INSUMOS!B18 -> Gal | L40: 0.05 | M40: =INSUMOS!C18 -> 80900 | O40: =ROUND(M40*L40,0) -> 4045 | R40: =+O24*L40 -> 273.3845
O41: =M41*L41 -> 0
O42: =M42*L42 -> 0
C43: SUBTOTAL $ | O43: =ROUND(SUM(O38:O42),0) -> 11624
C44: III. TRANSPORTES
C47: TIPO | J47: VOL. o PESO | K47: UNIDAD | L47: TARIFA | M47: CANT / REND | O47: Vr. UNITARIO
C48: Transporte (% Vr. Materiales) | L48: =+O43 -> 11624 | M48: 0.1 | O48: =ROUND(M48*L48,0) -> 1162
C50: SUBTOTAL $ | O50: =SUM(O48:O49) -> 1162
C51: IV. MANO DE OBRA
C54: TRABAJADOR | J54: CANTIDAD | K54: UNIDAD | L54: TARIFA | M54: RENDIMIENTO | O54: Vr. UNITARIO
C55: =+SUBPRODUCTOS!A34 -> CUADRILLA 1 OF + 2 AY | J55: 1 | K55: =SUBPRODUCTOS!B27 -> Día | L55: =+SUBPRODUCTOS!E41 -> 323490 | M55: 0.05 | O55: =L55*M55 -> 16174.5
C59: SUBTOTAL $ | O59: =ROUND(SUM(O55:O58),0) -> 16175
C61: TOTAL COSTO DIRECTO $ | O61: =(O33+O43+O50+O59) -> 32579
C62: V. COSTOS INDIRECTOS
C65: Descripción | L65: Porcentaje | M65: Valor Total
C66: ADMINISTRACION | L66: =+AIU!F29 -> 0.25 | M66: =L66*$O$61 -> 8144.75
C67: IMPREVISTOS | L67: =+AIU!F30 -> 0.01 | M67: =L67*$O$61 -> 325.79
C68: UTILIDAD | L68: =+AIU!F31 -> 0.05 | M68: =L68*$O$61 -> 1628.95
C69: SUBTOTAL $ | O69: =ROUND(SUM(M66:O68),0) -> 10099
...

Sheet 1.2
C3: Código | D3: CCE-EICP-FM-32 | E3: Versión | F3: 1
C5: =+'PRESUPUESTO OFICIAL'!C8:K8 -> OBJETO: ADECUACIÓN DE LA INFRAESTRUCTURA DE LAS SEDES ADMINISTRATIVAS DEL MUNICIPIO DE PITALITO
D8: ALCALDIA DE PITALITO
L9: VERSIÓN
D10: [NÚMERO DEL PROCESO]
L11: PÁGINA | M11: 1 | N11: DE | O11: 1
D13: ANALISIS DE PRECIOS UNITARIOS
L15: FECHA | M15: DD | N15: MM | O15: AA
M16: 3 | N16: 9 | O16: 2026
C21: DATOS ESPECÍFICOS
C23: ÍTEM | D23: DESCRIPCIÓN | M23: UNIDAD | O23: CANTIDAD
C24: =+'PRESUPUESTO OFICIAL'!D14 -> 1.2 | D24: =+'PRESUPUESTO OFICIAL'!G14 -> Mantenimiento de unión pernada viga–columna, incluye inspección, limpieza mecánica de pernos y superficies, ajuste y reapriete con herramienta especializada, reposición parcial de elementos defectuosos (en caso de ser necesario), suministro de materiales, mano de obra, equipos, herramientas, medios de acceso, disposición final de residuos, y todo lo necesario para su correcta ejecución y funcionamiento. | M24: =+'PRESUPUESTO OFICIAL'!H14 -> UND. | O24: =+'PRESUPUESTO OFICIAL'!I14 -> 708
C25: I. EQUIPO
C28: DESCRIPCIÓN | H28: MARCA | J28: UNIDAD | L28: TARIFA | M28: RENDIMIENTO | O28: Vr. UNITARIO
C29: HERRAMIENTA MENOR (M.O. 10%) | H29: N/A | J29: =INSUMOS!B29 -> Un | L29: =O63 -> 71168 | M29: 0.1 | O29: =ROUND(M29*L29,0) -> 7117
C30: =+'EQ. Y TRANSP.'!C21 -> Alquiler de andamio certificado | H30: N/A | J30: h | L30: =+'EQ. Y TRANSP.'!E21 -> 20000 | M30: 0.15 | O30: =ROUND(M30*L30,0) -> 3000
C31: =+INSUMOS!A32 -> KIT ARNÉS PARA ALTURAS | H31: N/A | J31: =+INSUMOS!B32 -> Un | L31: =+INSUMOS!C32 -> 691646 | M31: 0.005 | O31: =ROUND(M31*L31,0) -> 3458
C32: =+INSUMOS!A128 -> LLAVE DE IMPACTO | H32: N/A | J32: =+INSUMOS!B128 -> Día | L32: =+INSUMOS!C128 -> 40000 | M32: 0.1 | O32: =ROUND(M32*L32,0) -> 4000
C33: =+INSUMOS!A129 -> TORQUIMETRO | H33: N/A | J33: =+INSUMOS!B129 -> Día | L33: =+INSUMOS!C129 -> 50000 | M33: 0.1 | O33: =ROUND(M33*L33,0) -> 5000
C34: =+INSUMOS!A130 -> MOTOTOOL | H34: N/A | J34: =+INSUMOS!B130 -> Día | L34: =+INSUMOS!C130 -> 32000 | M34: 0.1 | O34: =ROUND(M34*L34,0) -> 3200
C35: SUBTOTAL $ | O35: =ROUND(SUM(O29:O34),0) -> 25775
C36: II. MATERIALES
C39: DESCRIPCIÓN | K39: UNIDAD | L39: CANTIDAD | M39: PRECIO UNIT. | O39: Vr. UNITARIO
C40: =+INSUMOS!A131 -> GRATAS CIRCULARES/DISCOS DE LIMPIEZA | K40: =+INSUMOS!B131 -> UND | L40: 0.5 | M40: =+INSUMOS!C131 -> 22900 | O40: =ROUND(M40*L40,0) -> 11450
C41: =+INSUMOS!A132 -> DESENGASANTE POLIURETANO | K41: =+INSUMOS!B132 -> ML | L41: 0.01 | M41: =+INSUMOS!C132 -> 74900 | O41: =ROUND(M41*L41,0) -> 749
C42: =+INSUMOS!A133 -> LUBRICANTE DE ALTA TEMPERATURA | K42: =+INSUMOS!B133 -> GR | L42: 0.025 | M42: =+INSUMOS!C133 -> 44000 | O42: =ROUND(M42*L42,0) -> 1100
C43: =+INSUMOS!A134 -> PINTURA/MARCADOR DE TORQUE | K43: =+INSUMOS!B134 -> ML | L43: 0.1 | M43: =+INSUMOS!C134 -> 88000 | O43: =ROUND(M43*L43,0) -> 8800
C44: =+INSUMOS!A136 -> FRESA METALICA CILINDRICA | K44: =+INSUMOS!B136 -> UND | L44: 0.05 | M44: =+INSUMOS!C136 -> 140000 | O44: =ROUND(M44*L44,0) -> 7000
C45: =+INSUMOS!A137 -> ACEITE AFLOJATODO DIELECTRICO | K45: =+INSUMOS!B137 -> ML | L45: 0.05 | M45: =+INSUMOS!C137 -> 42000 | O45: =ROUND(M45*L45,0) -> 2100
C46: =+INSUMOS!A138 -> SPRAY DE ZINC FRIO | K46: =+INSUMOS!B138 -> ML | L46: 0.07 | M46: =+INSUMOS!C138 -> 34000 | O46: =M46*L46 -> 2380
C47: SUBTOTAL $ | O47: =ROUND(SUM(O40:O46),0) -> 33579
C48: III. TRANSPORTES
C51: TIPO | J51: VOL. o PESO | K51: UNIDAD | L51: TARIFA | M51: CANT / REND | O51: Vr. UNITARIO
C52: Transporte (% Vr. Materiales) | L52: =+O47 -> 33579 | M52: 0.1 | O52: =ROUND(M52*L52,0) -> 3358
C54: SUBTOTAL $ | O54: =SUM(O52:O53) -> 3358
C55: IV. MANO DE OBRA
C58: TRABAJADOR | J58: CANTIDAD | K58: UNIDAD | L58: TARIFA | M58: RENDIMIENTO | O58: Vr. UNITARIO
C59: =+SUBPRODUCTOS!A34 -> CUADRILLA 1 OF + 2 AY | J59: 1 | K59: =SUBPRODUCTOS!B27 -> Día | L59: =+SUBPRODUCTOS!E41 -> 323490 | M59: 0.22 | O59: =ROUND(L59*M59,0) -> 71168
C63: SUBTOTAL $ | O63: =ROUND(SUM(O59:O62),0) -> 71168
C65: TOTAL COSTO DIRECTO $ | O65: =ROUND(O35+O47+O54+O63,0) -> 133880
...

Sheet 2.1
C3: Código | D3: CCE-EICP-FM-32 | E3: Versión | F3: 1
C5: =+'1.1'!C5:O5 -> OBJETO: ADECUACIÓN DE LA INFRAESTRUCTURA DE LAS SEDES ADMINISTRATIVAS DEL MUNICIPIO DE PITALITO
D8: ALCALDIA DE PITALITO
L9: VERSIÓN
D10: [NÚMERO DEL PROCESO]
L11: PÁGINA | M11: 1 | N11: DE | O11: 1
D13: ANALISIS DE PRECIOS UNITARIOS
L15: FECHA | M15: DD | N15: MM | O15: AA
M16: 3 | N16: 9 | O16: 2026
C21: DATOS ESPECÍFICOS
C23: ÍTEM | D23: DESCRIPCIÓN | M23: UNIDAD | O23: CANTIDAD
C24: =+'PRESUPUESTO OFICIAL'!D17 -> 2.1 | D24: =+'PRESUPUESTO OFICIAL'!G17 -> Mantenimiento y reposición parcial de cielo raso en el quinto piso, incluye desmonte de paneles deteriorados, suministro e instalación de nuevos paneles de Drywall, ajuste de estructura existente, nivelación, acabado y limpieza final., disposición final de los residuos y todo lo necesario para su correcta ejecución. | M24: =+'PRESUPUESTO OFICIAL'!H17 -> m² | O24: =+'PRESUPUESTO OFICIAL'!I17 -> 258.17
C25: I. EQUIPO
C28: DESCRIPCIÓN | H28: MARCA | J28: UNIDAD | L28: TARIFA | M28: RENDIMIENTO | O28: Vr. UNITARIO
C29: HERRAMIENTA MENOR (M.O. 10%) | H29: N/A | J29: =[120]INSUMOS!B32 -> Un | L29: =O62 -> 37201 | M29: 0.1 | O29: =ROUND(M29*L29,0) -> 3720
C30: =+SUBPRODUCTOS!A4 -> ALQUILER DE ANDAMIO TUBULAR CON TIJERA 1.50x1.50 m | H30: N/A | J30: =[120]SUBPRODUCTOS!B7 -> Día | L30: =[120]SUBPRODUCTOS!E12 -> 4827 | M30: 1 | O30: =ROUND(M30*L30,0) -> 4827
C32: SUBTOTAL $ | O32: =ROUND(SUM(O29:O31),0) -> 8547
C33: II. MATERIALES
C36: DESCRIPCIÓN | K36: UNIDAD | L36: CANTIDAD | M36: PRECIO UNIT. | O36: Vr. UNITARIO
C37: =INSUMOS!A58 -> PERFIL CANAL CAL. 26 ( 90 MM ) - 2.44 M. | K37: UND | L37: 0.45 | M37: =INSUMOS!C58 -> 7491 | O37: =ROUND(M37*L37,0) -> 3371
C38: =INSUMOS!A59 -> PERFIL OMEGA CAL 26 - 2.44 M. | K38: UND | L38: 0.45 | M38: =INSUMOS!C59 -> 6741 | O38: =ROUND(M38*L38,0) -> 3033
C39: =INSUMOS!A60 -> PERFIL PARAL CAL 26 - 2.44 M. | K39: UND | L39: 0.45 | M39: =INSUMOS!C60 -> 55462 | O39: =ROUND(M39*L39,0) -> 24958
C40: =+INSUMOS!A116 -> Placa De Yeso Rh Knauf 1/2 Pulgada 1.22 X 2.44m (12.7mm) Resistente Humedad | K40: M2 | L40: 1.05 | M40: =+INSUMOS!C116 -> 26167 | O40: =ROUND(M40*L40,0) -> 27475
C41: =INSUMOS!A62 -> TORNILLO AUTOPERFORANTE EST. 7/16 " | K41: UND | L41: 5 | M41: =INSUMOS!C62 -> 50 | O41: =ROUND(M41*L41,0) -> 250
C42: =INSUMOS!A63 -> TORNILLO AUTOPERFORANTE YESO 6 X1 | K42: UND | L42: 5 | M42: =INSUMOS!C63 -> 50 | O42: =ROUND(M42*L42,0) -> 250
C43: =+INSUMOS!A80 -> MASILLA JUNTAS | K43: =+[120]INSUMOS!B79 -> GAL | L43: 0.15 | M43: =INSUMOS!C80 -> 49000 | O43: =ROUND(M43*L43,0) -> 7350
C44: =+INSUMOS!A81 -> CINTA JUNTAS | K44: =+INSUMOS!B81 -> ML | L44: 0.045 | M44: =INSUMOS!C81 -> 49000 | O44: =ROUND(M44*L44,0) -> 2205
C45: =INSUMOS!A52 -> VINILO SUPERLAVABLE TIPO 1 | K45: =+INSUMOS!B52 -> GAL | L45: 0.08 | M45: =+INSUMOS!C52 -> 84900 | O45: =ROUND(M45*L45,0) -> 6792
C46: SUBTOTAL $ | O46: =ROUND(SUM(O37:O45),0) -> 75684
C47: III. TRANSPORTES
C50: TIPO | J50: VOL. o PESO | K50: UNIDAD | L50: TARIFA | M50: CANT / REND | O50: Vr. UNITARIO
C51: Transporte (10% Vr. Materiales) | L51: =+O46 -> 75684 | M51: 0.1 | O51: =+ROUND(L51*M51,0) -> 7568
C53: SUBTOTAL $ | O53: =ROUND(SUM(O51:O52),0) -> 7568
C54: IV. MANO DE OBRA
C57: TRABAJADOR | J57: CANTIDAD | K57: UNIDAD | L57: TARIFA | M57: RENDIMIENTO | O57: Vr. UNITARIO
C58: =SUBPRODUCTOS!A34 -> CUADRILLA 1 OF + 2 AY | J58: 1 | K58: =SUBPRODUCTOS!B27 -> Día | L58: =SUBPRODUCTOS!E41 -> 323490 | M58: 0.115 | O58: =ROUND(L58*M58,0) -> 37201
C62: SUBTOTAL $ | O62: =SUM(O58:O61) -> 37201
C64: TOTAL COSTO DIRECTO $ | O64: =O32+O46+O53+O62 -> 129000
C65: V. COSTOS INDIRECTOS
C68: Descripción | L68: Porcentaje | M68: Valor Total
...

Sheet 2.2
C3: Código | D3: CCE-EICP-FM-32 | E3: Versión | F3: 1
C5: =+'PRESUPUESTO OFICIAL'!C8:K8 -> OBJETO: ADECUACIÓN DE LA INFRAESTRUCTURA DE LAS SEDES ADMINISTRATIVAS DEL MUNICIPIO DE PITALITO
D8: ALCALDIA DE PITALITO
L9: VERSIÓN
D10: [NÚMERO DEL PROCESO]
L11: PÁGINA | M11: 1 | N11: DE | O11: 1
D13: ANALISIS DE PRECIOS UNITARIOS
L15: FECHA | M15: DD | N15: MM | O15: AA
M16: 3 | N16: 9 | O16: 2026
C21: DATOS ESPECÍFICOS
C23: ÍTEM | D23: DESCRIPCIÓN | M23: UNIDAD | O23: CANTIDAD
C24: =+'PRESUPUESTO OFICIAL'!#REF! -> #REF! | D24: =+'PRESUPUESTO OFICIAL'!#REF! -> #REF! | M24: =+'PRESUPUESTO OFICIAL'!#REF! -> #REF! | O24: =+'PRESUPUESTO OFICIAL'!#REF! -> #REF!
C25: I. EQUIPO
C28: DESCRIPCIÓN | H28: MARCA | J28: UNIDAD | L28: TARIFA | M28: RENDIMIENTO | O28: Vr. UNITARIO
C29: HERRAMIENTA MENOR (M.O. 10%) | H29: N/A | J29: =INSUMOS!B32 -> Un | L29: =O61 -> 16175 | M29: 0.1 | O29: =ROUND(M29*L29,0) -> 1618
C30: =+INSUMOS!A75 -> ALQUILER TALADRO/ATORNILLADOR | H30: N/A | J30: Día | L30: =+INSUMOS!C75 -> 32679.86 | M30: 0.1 | O30: =ROUND(M30*L30,0) -> 3268
C34: SUBTOTAL $ | O34: =SUM(O29:O33) -> 4886
C35: II. MATERIALES
C38: DESCRIPCIÓN | K38: UNIDAD | L38: CANTIDAD | M38: PRECIO UNIT. | O38: Vr. UNITARIO
C39: =+INSUMOS!A76 -> PLACA SUPERBOARD 10 MMx1220x2440 | K39: =+INSUMOS!B76 -> m2 | L39: 1.05 | M39: =+INSUMOS!C76 -> 28000 | O39: =ROUND(M39*L39,0) -> 29400
C40: =+INSUMOS!A77 -> PERFIL 1-1/2X3/4 pg | K40: =+INSUMOS!B77 -> UND | L40: 0.9 | M40: =+INSUMOS!C77 -> 4593.75 | O40: =ROUND(M40*L40,0) -> 4134
C41: =+INSUMOS!A78 -> BANDA AUTOADHESIVA | K41: =+INSUMOS!B78 -> ML | L41: 1.2 | M41: =INSUMOS!C78 -> 642.43 | O41: =ROUND(M41*L41,0) -> 771
C42: =+INSUMOS!A79 -> TORNILLO AUTOPERFORANTE | K42: =INSUMOS!B79 -> UND | L42: 25 | M42: =+INSUMOS!C79 -> 50 | O42: =ROUND(M42*L42,0) -> 1250
C43: =+INSUMOS!A81 -> CINTA JUNTAS | K43: =+INSUMOS!B81 -> ML | L43: 0.3 | M43: =INSUMOS!C81 -> 49000 | O43: =ROUND(M43*L43,0) -> 14700
C44: =+INSUMOS!A80 -> MASILLA JUNTAS | K44: =+K43 -> ML | L44: 0.4 | M44: =INSUMOS!C80 -> 49000 | O44: =ROUND(M44*L44,0) -> 19600
C45: SUBTOTAL $ | O45: =SUM(O39:O44) -> 69855
C46: III. TRANSPORTES
C49: TIPO | J49: VOL. o PESO | K49: UNIDAD | L49: TARIFA | M49: CANT / REND | O49: Vr. UNITARIO
C50: Transporte (% Vr. Materiales) | L50: =+O45 -> 69855 | M50: 0.01 | O50: =+ROUND(L50*M50,0) -> 699
C52: SUBTOTAL $ | O52: =SUM(O50:O51) -> 699
C53: IV. MANO DE OBRA
C56: TRABAJADOR | J56: CANTIDAD | K56: UNIDAD | L56: TARIFA | M56: RENDIMIENTO | O56: Vr. UNITARIO
C57: =+SUBPRODUCTOS!A34 -> CUADRILLA 1 OF + 2 AY | J57: 1 | K57: =SUBPRODUCTOS!B27 -> Día | L57: =+SUBPRODUCTOS!E41 -> 323490 | M57: 0.05 | O57: =ROUND(L57*M57,0) -> 16175
C61: SUBTOTAL $ | O61: =SUM(O57:O60) -> 16175
C63: TOTAL COSTO DIRECTO $ | O63: =O34+O45+O52+O61 -> 91615
C64: V. COSTOS INDIRECTOS
C67: Descripción | L67: Porcentaje | M67: Valor Total
C68: ADMINISTRACION | L68: =+AIU!F29 -> 0.25 | M68: =L68*$O$63 -> 22903.75
C69: IMPREVISTOS | L69: =+AIU!F30 -> 0.01 | M69: =L69*$O$63 -> 916.15
C70: UTILIDAD | L70: =+AIU!F31 -> 0.05 | M70: =L70*$O$63 -> 4580.75
...

Sheet 3.1
C3: Código | D3: CCE-EICP-FM-32 | E3: Versión | F3: 1
C5: =+'PRESUPUESTO OFICIAL'!C8:K8 -> OBJETO: ADECUACIÓN DE LA INFRAESTRUCTURA DE LAS SEDES ADMINISTRATIVAS DEL MUNICIPIO DE PITALITO
D8: ALCALDIA DE PITALITO
L9: VERSIÓN
D10: [NÚMERO DEL PROCESO]
L11: PÁGINA | M11: 1 | N11: DE | O11: 1
D13: ANALISIS DE PRECIOS UNITARIOS
L15: FECHA | M15: DD | N15: MM | O15: AA
M16: 3 | N16: 9 | O16: 2026
C21: DATOS ESPECÍFICOS
C23: ÍTEM | D23: DESCRIPCIÓN | M23: UNIDAD | O23: CANTIDAD
C24: =+'PRESUPUESTO OFICIAL'!D20 -> 3.1 | D24: =+'PRESUPUESTO OFICIAL'!G20 -> Limpieza de fachada en vidrio de seguridad laminado mediante procedimiento manual controlado con soluciones neutras y elementos no abrasivo. Incluye equipos de acceso para trabajo en alturas, suministro, transporte, instalación, disposición final de residuos y todo lo necesario para su correcta ejecución y funcionamiento | M24: =+'PRESUPUESTO OFICIAL'!H20 -> m² | O24: =+'PRESUPUESTO OFICIAL'!I20 -> 361.23
C25: I. EQUIPO
C28: DESCRIPCIÓN | H28: MARCA | J28: UNIDAD | L28: TARIFA | M28: RENDIMIENTO | O28: Vr. UNITARIO
C29: HERRAMIENTA MENOR (M.O. 10%) | H29: N/A | J29: =INSUMOS!B32 -> Un | L29: =O61 -> 5586 | M29: 0.1 | O29: =ROUND(M29*L29,0) -> 559
C30: =+INSUMOS!A32 -> KIT ARNÉS PARA ALTURAS | H30: N/A | J30: =+INSUMOS!B32 -> Un | L30: =+INSUMOS!C32 -> 691646 | M30: 0.001 | O30: =ROUND(M30*L30,0) -> 692
C31: =+'EQ. Y TRANSP.'!C21 -> Alquiler de andamio certificado | H31: N/A | J31: =+'EQ. Y TRANSP.'!D21 -> h | L31: =+'EQ. Y TRANSP.'!E21 -> 20000 | M31: 0.3 | O31: =ROUND(M31*L31,0) -> 6000
C34: SUBTOTAL $ | O34: =SUM(O29:O33) -> 7251
C35: II. MATERIALES
C38: DESCRIPCIÓN | K38: UNIDAD | L38: CANTIDAD | M38: PRECIO UNIT. | O38: Vr. UNITARIO
C39: =+INSUMOS!A139 -> SOLUCION NEUTRA LIMPIA VIDRIOS DE FACHADAS | K39: =+INSUMOS!B139 -> Lt | L39: 0.05 | M39: =+INSUMOS!C139 -> 50000 | O39: =+L39*M39 -> 2500
C40: =+INSUMOS!A140 -> PAÑO DE MICROFIBRA | K40: =+INSUMOS!B140 -> UND | L40: 0.02 | M40: =+INSUMOS!C140 -> 11200 | O40: =+L40*M40 -> 224
C41: =+INSUMOS!A5 -> AGUA | K41: =+INSUMOS!B5 -> Lt | L41: 0.1 | M41: =+INSUMOS!C5 -> 70 | O41: =+L41*M41 -> 7
C42: =+INSUMOS!A141 -> ESPONJA NO ABRASIVA | K42: =+INSUMOS!B141 -> UND | L42: 0.01 | M42: =+INSUMOS!C141 -> 9900 | O42: =+L42*M42 -> 99
C45: SUBTOTAL $ | O45: =SUM(O39:O44) -> 2830
C46: III. TRANSPORTES
C49: TIPO | J49: VOL. o PESO | K49: UNIDAD | L49: TARIFA | M49: CANT / REND | O49: Vr. UNITARIO
C50: Transporte (% Vr. Materiales) | L50: =+O45 -> 2830 | M50: 0.1 | O50: =+ROUND(L50*M50,0) -> 283
C52: SUBTOTAL $ | O52: =SUM(O50:O51) -> 283
C53: IV. MANO DE OBRA
C56: TRABAJADOR | J56: CANTIDAD | K56: UNIDAD | L56: TARIFA | M56: RENDIMIENTO | O56: Vr. UNITARIO
C57: =SUBPRODUCTOS!A24 -> CUADRILLA 1 OF + 1 AY | J57: 1 | K57: =SUBPRODUCTOS!B27 -> Día | L57: =+SUBPRODUCTOS!E31 -> 223442 | M57: 0.025 | O57: =ROUND(L57*M57,0) -> 5586
C61: SUBTOTAL $ | O61: =SUM(O57:O60) -> 5586
C63: TOTAL COSTO DIRECTO $ | O63: =O34+O45+O52+O61 -> 15950
C64: V. COSTOS INDIRECTOS
C67: Descripción | L67: Porcentaje | M67: Valor Total
C68: ADMINISTRACION | L68: =+AIU!F29 -> 0.25 | M68: =L68*$O$63 -> 3987.5
C69: IMPREVISTOS | L69: =+AIU!F30 -> 0.01 | M69: =L69*$O$63 -> 159.5
C70: UTILIDAD | L70: =+AIU!F31 -> 0.05 | M70: =L70*$O$63 -> 797.5
C71: SUBTOTAL $ | O71: =SUM(M68:O70) -> 4944.5
...

Sheet 3.2
C3: Código | D3: CCE-EICP-FM-32 | E3: Versión | F3: 1
C5: =+'PRESUPUESTO OFICIAL'!C8:K8 -> OBJETO: ADECUACIÓN DE LA INFRAESTRUCTURA DE LAS SEDES ADMINISTRATIVAS DEL MUNICIPIO DE PITALITO
D8: ALCALDIA DE PITALITO
L9: VERSIÓN
D10: [NÚMERO DEL PROCESO]
L11: PÁGINA | M11: 1 | N11: DE | O11: 1
D13: ANALISIS DE PRECIOS UNITARIOS
L15: FECHA | M15: DD | N15: MM | O15: AA
M16: 3 | N16: 9 | O16: 2026
C21: DATOS ESPECÍFICOS
C23: ÍTEM | D23: DESCRIPCIÓN | M23: UNIDAD | O23: CANTIDAD
C24: =+'PRESUPUESTO OFICIAL'!D21 -> 3.2 | D24: =+'PRESUPUESTO OFICIAL'!G21 -> Desmonte, suministro e instalación de película de protección solar nanoceramica con control de rayos UV, control de radiación y coeficiente de sombra para fachada en vidrio a todo costo, incluye equipos para trabjo en altura, mano de obra, transporte y todo lo necesario para su correcta ejecución y funcionamiento. | M24: =+'PRESUPUESTO OFICIAL'!H21 -> m² | O24: =+'PRESUPUESTO OFICIAL'!I21 -> 361.23
C25: I. EQUIPO
C28: DESCRIPCIÓN | H28: MARCA | J28: UNIDAD | L28: TARIFA | M28: RENDIMIENTO | O28: Vr. UNITARIO
C29: HERRAMIENTA MENOR (M.O. 10%) | H29: N/A | J29: =INSUMOS!B32 -> Un | L29: =O61 -> 42454 | M29: 0.1 | O29: =ROUND(M29*L29,0) -> 4245
C30: =+INSUMOS!A32 -> KIT ARNÉS PARA ALTURAS | H30: N/A | J30: =+INSUMOS!B32 -> Un | L30: =+INSUMOS!C32 -> 691646 | M30: 0.001 | O30: =ROUND(M30*L30,0) -> 692
C31: =+'EQ. Y TRANSP.'!C21 -> Alquiler de andamio certificado | H31: N/A | J31: =+'EQ. Y TRANSP.'!D21 -> h | L31: =+'EQ. Y TRANSP.'!E21 -> 20000 | M31: 0.3 | O31: =ROUND(M31*L31,0) -> 6000
C34: SUBTOTAL $ | O34: =SUM(O29:O33) -> 10937
C35: II. MATERIALES
C38: DESCRIPCIÓN | K38: UNIDAD | L38: CANTIDAD | M38: PRECIO UNIT. | O38: Vr. UNITARIO
C39: =+INSUMOS!A142 -> POLARIZADO NANOCERAMICO REFLECTIVO ESPEJO | K39: =+INSUMOS!B142 -> M2 | L39: 1 | M39: =+INSUMOS!C142 -> 45000 | O39: =ROUND(M39*L39,0) -> 45000
O40: =ROUND(M40*L40,0) -> 0
O41: =ROUND(M41*L41,0) -> 0
O42: =ROUND(M42*L42,0) -> 0
O43: =ROUND(M43*L43,0) -> 0
O44: =ROUND(M44*L44,0) -> 0
C45: SUBTOTAL $ | O45: =SUM(O39:O44) -> 45000
C46: III. TRANSPORTES
C49: TIPO | J49: VOL. o PESO | K49: UNIDAD | L49: TARIFA | M49: CANT / REND | O49: Vr. UNITARIO
C50: Transporte (% Vr. Materiales) | L50: =+O45 -> 45000 | M50: 0.1 | O50: =+ROUND(L50*M50,0) -> 4500
C52: SUBTOTAL $ | O52: =SUM(O50:O51) -> 4500
C53: IV. MANO DE OBRA
C56: TRABAJADOR | J56: CANTIDAD | K56: UNIDAD | L56: TARIFA | M56: RENDIMIENTO | O56: Vr. UNITARIO
C57: =SUBPRODUCTOS!A24 -> CUADRILLA 1 OF + 1 AY | J57: 1 | K57: =SUBPRODUCTOS!B27 -> Día | L57: =+SUBPRODUCTOS!E31 -> 223442 | M57: 0.19 | O57: =ROUND(L57*M57,0) -> 42454
C61: SUBTOTAL $ | O61: =SUM(O57:O60) -> 42454
C63: TOTAL COSTO DIRECTO $ | O63: =O34+O45+O52+O61 -> 102891
C64: V. COSTOS INDIRECTOS
C67: Descripción | L67: Porcentaje | M67: Valor Total
C68: ADMINISTRACION | L68: =+AIU!F29 -> 0.25 | M68: =L68*$O$63 -> 25722.75
C69: IMPREVISTOS | L69: =+AIU!F30 -> 0.01 | M69: =L69*$O$63 -> 1028.91
...

Sheet 4.1
C3: Código | D3: CCE-EICP-FM-32 | E3: Versión | F3: 1
C5: OBJETO: MANTENIMIENTO DE LA INFRAESTRUCTURA DE LAS SEDES ADMINISTRATIVAS DEL MUNICIPIO DE PITALITO
D8: ALCALDIA DE PITALITO
L9: VERSIÓN
D10: [NÚMERO DEL PROCESO]
L11: PÁGINA | M11: 1 | N11: DE | O11: 1
D13: ANALISIS DE PRECIOS UNITARIOS
L15: FECHA | M15: DD | N15: MM | O15: AA
M16: 3 | N16: 9 | O16: 2026
C21: DATOS ESPECÍFICOS
C23: ÍTEM | D23: DESCRIPCIÓN | M23: UNIDAD | O23: CANTIDAD
C24: =+'PRESUPUESTO OFICIAL'!D29 -> 4.1 | D24: =+'PRESUPUESTO OFICIAL'!G29 -> Trazado localización y replanteo de la unidad sanitaria, incluye trazado de ejes, niveles, alineamientos, referencias topográficas, mano de obra, herramientas, equipos y todos los elementos necesarios para su correcta ejecución. | M24: =+'PRESUPUESTO OFICIAL'!H29 -> m² | O24: =+'PRESUPUESTO OFICIAL'!I29 -> 6.4
C25: I. EQUIPO
C28: DESCRIPCIÓN | H28: MARCA | J28: UNIDAD | L28: TARIFA | M28: RENDIMIENTO | O28: Vr. UNITARIO
C29: HERRAMIENTA MENOR (M.O. 10%) | H29: N/A | J29: =INSUMOS!B26 -> Un | L29: =+O59 -> 2603 | M29: 0.1 | O29: =ROUND(M29*L29,0) -> 260
C30: =+'EQ. Y TRANSP.'!C19 -> Equipo de topografía | H30: N/A | J30: =+'EQ. Y TRANSP.'!D19 -> h | L30: =+'EQ. Y TRANSP.'!E19 -> 20000 | M30: 0.02 | O30: =+L30*M30 -> 400
C33: SUBTOTAL $ | O33: =SUM(O29:O32) -> 660
C34: II. MATERIALES
C37: DESCRIPCIÓN | K37: UNIDAD | L37: CANTIDAD | M37: PRECIO UNIT. | O37: Vr. UNITARIO
C38: =+INSUMOS!A143 -> ALAMBRE NEGRO NO. 18 | K38: =+INSUMOS!B143 -> KG | L38: 0.01 | M38: =+INSUMOS!C143 -> 6790 | O38: =ROUND(M38*L38,0) -> 68
C39: =+INSUMOS!A144 -> PUNTILLA CON CABEZA 1" | K39: =+INSUMOS!B144 -> LB | L39: 0.01 | M39: =+INSUMOS!C144 -> 6900 | O39: =ROUND(M39*L39,0) -> 69
C40: =+INSUMOS!A145 -> DURMIENTE ORDINARIO 4X4 CM (2 USOS) | K40: =+INSUMOS!B145 -> ML | L40: 0.05 | M40: =+INSUMOS!C145 -> 5000 | O40: =ROUND(M40*L40,0) -> 250
C43: SUBTOTAL $ | O43: =ROUND(SUM(O38:O42),0) -> 387
C44: III. TRANSPORTES
C47: TIPO | J47: VOL. o PESO | K47: UNIDAD | L47: TARIFA | M47: CANT / REND | O47: Vr. UNITARIO
C50: SUBTOTAL $ | O50: =ROUND(SUM(O48:O49),0) -> 0
C51: IV. MANO DE OBRA
C54: TRABAJADOR | J54: CANTIDAD | K54: UNIDAD | L54: TARIFA | M54: RENDIMIENTO | O54: Vr. UNITARIO
C55: =+'CUADRILLAS '!D68 -> CUADRILLA TT (Topografía) 1 Top - 1 of ejero | J55: 1 | K55: =SUBPRODUCTOS!B27 -> Día | L55: =+'CUADRILLAS '!H74 -> 173518 | M55: 0.015 | O55: =ROUND(L55*M55,0) -> 2603
C59: SUBTOTAL $ | O59: =SUM(O55:O58) -> 2603
C61: TOTAL COSTO DIRECTO $ | O61: =ROUND(O33+O43+O50+O59,0) -> 3650
C62: V. COSTOS INDIRECTOS
C65: Descripción | L65: Porcentaje | M65: Valor Total
C66: ADMINISTRACION | L66: =AIU!F29 -> 0.25 | M66: =L66*$O$61 -> 912.5
C67: IMPREVISTOS | L67: =AIU!F30 -> 0.01 | M67: =L67*$O$61 -> 36.5
C68: UTILIDAD | L68: =AIU!F31 -> 0.05 | M68: =L68*$O$61 -> 182.5
C69: SUBTOTAL $ | O69: =SUM(M66:O68) -> 1131.5
C71: Precio Unitario Total Aproximado al peso $ | O71: =O69+O61 -> 4781.5
D74: Elaborado por: | H74: Aprobado por:
D77: LAURA CAMILA ORDOÑEZ TEJADA | H77: MILTON STIVEN HOYOS HERMIDA
...

Sheet 4.2
C3: Código | D3: CCE-EICP-FM-32 | E3: Versión | F3: 1
C5: OBJETO: MANTENIMIENTO DE LA INFRAESTRUCTURA DE LAS SEDES ADMINISTRATIVAS DEL MUNICIPIO DE PITALITO
D8: ALCALDIA DE PITALITO
L9: VERSIÓN
D10: [NÚMERO DEL PROCESO]
L11: PÁGINA | M11: 1 | N11: DE | O11: 1
D13: ANALISIS DE PRECIOS UNITARIOS
L15: FECHA | M15: DD | N15: MM | O15: AA
M16: 3 | N16: 9 | O16: 2026
C21: DATOS ESPECÍFICOS
C23: ÍTEM | D23: DESCRIPCIÓN | M23: UNIDAD | O23: CANTIDAD
C24: =+'PRESUPUESTO OFICIAL'!D30 -> 4.2 | D24: =+'PRESUPUESTO OFICIAL'!G30 -> Desmonte y demolición manual de cerramiento y cubierta existente, compuesto por malla eslabonada, postes metálicos, murete de concreto y/o mampostería de soporte, estructura de cubierta en guadua y teja existentes, incluye corte, desmontaje, desensamble, retiro de elementos de fijación, cargue, retiro, transporte interno, disposición final de materiales y escombros, limpieza del área intervenida, mano de obra, herramientas, equipos y todos los elementos necesarios para su correcta ejecución. | M24: =+'PRESUPUESTO OFICIAL'!H30 -> m² | O24: =+'PRESUPUESTO OFICIAL'!I30 -> 41.65
C25: I. EQUIPO
C28: DESCRIPCIÓN | H28: MARCA | J28: UNIDAD | L28: TARIFA | M28: RENDIMIENTO | O28: Vr. UNITARIO
C29: HERRAMIENTA MENOR (M.O. 10%) | H29: N/A | J29: =INSUMOS!B26 -> Un | L29: =+O59 -> 20881 | M29: 0.1 | O29: =ROUND(M29*L29,0) -> 2088
C33: SUBTOTAL $ | O33: =SUM(O29:O32) -> 2088
C34: II. MATERIALES
C37: DESCRIPCIÓN | K37: UNIDAD | L37: CANTIDAD | M37: PRECIO UNIT. | O37: Vr. UNITARIO
C43: SUBTOTAL $ | O43: =ROUND(SUM(O38:O42),0) -> 0
C44: III. TRANSPORTES
C47: TIPO | J47: VOL. o PESO | K47: UNIDAD | L47: TARIFA | M47: CANT / REND | O47: Vr. UNITARIO
C48: =+'EQ. Y TRANSP.'!C9 -> Volqueta 6 m³ (cargue manual) botadero hasta 20 km | J48: =+O24 -> 41.65 | K48: =+'EQ. Y TRANSP.'!D9 -> m³ | L48: =+'EQ. Y TRANSP.'!E9 -> 22000 | M48: 0.01 | O48: =+L48*M48*J48 -> 9163
C50: SUBTOTAL $ | O50: =ROUND(SUM(O48:O49),0) -> 9163
C51: IV. MANO DE OBRA
C54: TRABAJADOR | J54: CANTIDAD | K54: UNIDAD | L54: TARIFA | M54: RENDIMIENTO | O54: Vr. UNITARIO
C55: =+'CUADRILLAS '!D28 -> Cuadrilla OAA (Albañilería) 1Of y 2Ay | J55: 1 | K55: =SUBPRODUCTOS!B27 -> Día | L55: =+'CUADRILLAS '!H34 -> 139205 | M55: 0.15 | O55: =ROUND(L55*M55,0) -> 20881
C59: SUBTOTAL $ | O59: =SUM(O55:O58) -> 20881
C61: TOTAL COSTO DIRECTO $ | O61: =ROUND(O33+O43+O50+O59,0) -> 32132
C62: V. COSTOS INDIRECTOS
C65: Descripción | L65: Porcentaje | M65: Valor Total
C66: ADMINISTRACION | L66: =AIU!F29 -> 0.25 | M66: =L66*$O$61 -> 8033
C67: IMPREVISTOS | L67: =AIU!F30 -> 0.01 | M67: =L67*$O$61 -> 321.32
C68: UTILIDAD | L68: =AIU!F31 -> 0.05 | M68: =L68*$O$61 -> 1606.6
C69: SUBTOTAL $ | O69: =SUM(M66:O68) -> 9960.92
C71: Precio Unitario Total Aproximado al peso $ | O71: =O69+O61 -> 42092.92
D74: Elaborado por: | H74: Aprobado por:
D77: LAURA CAMILA ORDOÑEZ TEJADA | H77: MILTON STIVEN HOYOS HERMIDA
D78: ING. CIVIL APOYO PROFESIONAL | H78: SECRETARIO DE INFRAESTRUCTURA
D79: M.P 091037-0639549 CND | H79: M.P 161037-0560021 TLM

Sheet 5.1
C3: Código | D3: CCE-EICP-FM-32 | E3: Versión | F3: 1
C5: OBJETO: MANTENIMIENTO DE LA INFRAESTRUCTURA DE LAS SEDES ADMINISTRATIVAS DEL MUNICIPIO DE PITALITO
D8: ALCALDIA DE PITALITO
L9: VERSIÓN
D10: [NÚMERO DEL PROCESO]
L11: PÁGINA | M11: 1 | N11: DE | O11: 1
D13: ANALISIS DE PRECIOS UNITARIOS
L15: FECHA | M15: DD | N15: MM | O15: AA
M16: 3 | N16: 9 | O16: 2026
C21: DATOS ESPECÍFICOS
C23: ÍTEM | D23: DESCRIPCIÓN | M23: UNIDAD | O23: CANTIDAD
C24: =+'PRESUPUESTO OFICIAL'!D33 -> 5.1 | D24: =+'PRESUPUESTO OFICIAL'!G33 -> Excavación manual para cimentación en material común, incluye cargue, retiro, transporte y disposición final de material sobrante, mano de obra, herramientas y equipos necesarios para su correcta ejecución. | M24: =+'PRESUPUESTO OFICIAL'!H33 -> m³ | O24: =+'PRESUPUESTO OFICIAL'!I33 -> 3.67
C25: I. EQUIPO
C28: DESCRIPCIÓN | H28: MARCA | J28: UNIDAD | L28: TARIFA | M28: RENDIMIENTO | O28: Vr. UNITARIO
C29: HERRAMIENTA MENOR (M.O. 10%) | H29: N/A | J29: =INSUMOS!B26 -> Un | L29: =+O59 -> 27841 | M29: 0.1 | O29: =ROUND(M29*L29,0) -> 2784
C33: SUBTOTAL $ | O33: =SUM(O29:O32) -> 2784
C34: II. MATERIALES
C37: DESCRIPCIÓN | K37: UNIDAD | L37: CANTIDAD | M37: PRECIO UNIT. | O37: Vr. UNITARIO
C43: SUBTOTAL $ | O43: =ROUND(SUM(O38:O42),0) -> 0
C44: III. TRANSPORTES
C47: TIPO | J47: VOL. o PESO | K47: UNIDAD | L47: TARIFA | M47: CANT / REND | O47: Vr. UNITARIO
C48: =+'EQ. Y TRANSP.'!C9 -> Volqueta 6 m³ (cargue manual) botadero hasta 20 km | K48: =+'EQ. Y TRANSP.'!D9 -> m³ | L48: =+'EQ. Y TRANSP.'!E9 -> 22000 | M48: 0.5 | O48: =+L48*M48 -> 11000
C50: SUBTOTAL $ | O50: =ROUND(SUM(O48:O49),0) -> 11000
C51: IV. MANO DE OBRA
C54: TRABAJADOR | J54: CANTIDAD | K54: UNIDAD | L54: TARIFA | M54: RENDIMIENTO | O54: Vr. UNITARIO
C55: =+'CUADRILLAS '!D28 -> Cuadrilla OAA (Albañilería) 1Of y 2Ay | J55: 1 | K55: =SUBPRODUCTOS!B27 -> Día | L55: =+'CUADRILLAS '!H34 -> 139205 | M55: 0.2 | O55: =ROUND(L55*M55,0) -> 27841
C59: SUBTOTAL $ | O59: =SUM(O55:O58) -> 27841
C61: TOTAL COSTO DIRECTO $ | O61: =ROUND(O33+O43+O50+O59,0) -> 41625
C62: V. COSTOS INDIRECTOS
C65: Descripción | L65: Porcentaje | M65: Valor Total
C66: ADMINISTRACION | L66: =AIU!F29 -> 0.25 | M66: =L66*$O$61 -> 10406.25
C67: IMPREVISTOS | L67: =AIU!F30 -> 0.01 | M67: =L67*$O$61 -> 416.25
C68: UTILIDAD | L68: =AIU!F31 -> 0.05 | M68: =L68*$O$61 -> 2081.25
C69: SUBTOTAL $ | O69: =SUM(M66:O68) -> 12903.75
C71: Precio Unitario Total Aproximado al peso $ | O71: =O69+O61 -> 54528.75
D74: Elaborado por: | H74: Aprobado por:
D77: LAURA CAMILA ORDOÑEZ TEJADA | H77: MILTON STIVEN HOYOS HERMIDA
D78: ING. CIVIL APOYO PROFESIONAL | H78: SECRETARIO DE INFRAESTRUCTURA
D79: M.P 091037-0639549 CND | H79: M.P 161037-0560021 TLM

Sheet 5.2
C3: Código | D3: CCE-EICP-FM-32 | E3: Versión | F3: 1
C5: OBJETO: MANTENIMIENTO DE LA INFRAESTRUCTURA DE LAS SEDES ADMINISTRATIVAS DEL MUNICIPIO DE PITALITO
D8: ALCALDIA DE PITALITO
L9: VERSIÓN
D10: [NÚMERO DEL PROCESO]
L11: PÁGINA | M11: 1 | N11: DE | O11: 1
D13: ANALISIS DE PRECIOS UNITARIOS
L15: FECHA | M15: DD | N15: MM | O15: AA
M16: 3 | N16: 9 | O16: 2026
C21: DATOS ESPECÍFICOS
C23: ÍTEM | D23: DESCRIPCIÓN | M23: UNIDAD | O23: CANTIDAD
C24: =+'PRESUPUESTO OFICIAL'!D34 -> 5.2 | D24: =+'PRESUPUESTO OFICIAL'!G34 -> Suministro, extendido y compactación de relleno en recebo seleccionado en espesor de 0.30 m, incluye compactación por capas, mano de obra, equipos y todos los elementos necesarios para su correcta ejecución. | M24: =+'PRESUPUESTO OFICIAL'!H34 -> m³ | O24: =+'PRESUPUESTO OFICIAL'!I34 -> 2.97
C25: I. EQUIPO
C28: DESCRIPCIÓN | H28: MARCA | J28: UNIDAD | L28: TARIFA | M28: RENDIMIENTO | O28: Vr. UNITARIO
C29: HERRAMIENTA MENOR (M.O. 10%) | H29: N/A | J29: =INSUMOS!B26 -> Un | L29: =+O59 -> 27841 | M29: 0.1 | O29: =ROUND(M29*L29,0) -> 2784
C33: SUBTOTAL $ | O33: =SUM(O29:O32) -> 2784
C34: II. MATERIALES
C37: DESCRIPCIÓN | K37: UNIDAD | L37: CANTIDAD | M37: PRECIO UNIT. | O37: Vr. UNITARIO
C38: =+INSUMOS!A127 -> RECEBO COMÚN | K38: =+INSUMOS!B127 -> m3 | L38: 1.05 | M38: =+INSUMOS!C127 -> 35000 | O38: =+L38*M38 -> 36750
C43: SUBTOTAL $ | O43: =ROUND(SUM(O38:O42),0) -> 36750
C44: III. TRANSPORTES
C47: TIPO | J47: VOL. o PESO | K47: UNIDAD | L47: TARIFA | M47: CANT / REND | O47: Vr. UNITARIO
C48: Transporte (% Vr. Materiales) | L48: =+O43 -> 36750 | M48: 0.1 | O48: =+ROUND(L48*M48,0) -> 3675
C50: SUBTOTAL $ | O50: =ROUND(SUM(O48:O49),0) -> 3675
C51: IV. MANO DE OBRA
