Workbook

Sheet PRESUP
E4: PRESUPUESTO DE OBRA N°1
E7: OBJETO: ¨CONSTRUCCION DE ALCANTARILLADO PARA MANEJO DE VERTIMIENTOS SECTOR ITALIA 90
E9: FECHA ACTA | F9: 46168
E10: CONTRATO DE OBRA | I10: VALOR OBRA
A11: ALCALDIA MUNICIPAL DE GACHETA | E11: CONTRATANTE | F11: MUNICIPIO DE GACHETA | I11: =+I83 -> 490149736
E12: FECHA DE INICIO | F12: 46168 | I12: PLAZO: 2.5 MESES
A13: CONDICIONES ORIGINALES
A14: No. | B14: ITEM DE PAGO | C14: ESPECIFICACIONES | E14: DESCRIPCIÓN | F14: UN | G14: CANT | H14: V. UNITARIO | I14: V. PARCIAL
C15: GENE RAL | D15: PARTI CULAR
A16: 1 | E16: ALCANTARILLADO SANITARIO
A17: 1.1 | B17: EPC 1.1.1 | C17: EPC | E17: LOCALIZACIÓN Y REPLANTEO REDES | F17: ML | G17: =+[1]Presupuesto!$F$4 -> 685.59182 | H17: =+'[2]Table 1'!$E$7 -> 11940 | I17: =+H17*G17 -> 8185966.3
A18: 1.2 | B18: 1.1 | C18: ICCU | E18: Descapote manual y retiro e= 0.20 m Apile a 15 m | F18: M2 | G18: 145.68 | H18: 11854 | I18: =+H18*G18 -> 1726890.7
A19: 2 | E19: DEMOLICIONES, DESMONTE Y DESCAPOTE
B20: 2.1 | E20: DEMOLICIONES
A21: 2.1 | B21: 2.1.1 | C21: EPC | E21: DEMOLICIÓN DE ESTRUCTURAS EN CONCRETO | F21: M3 | G21: 4 | H21: 118037 | I21: =+G21*H21 -> 472148
A22: 2.2 | B22: 3 | C22: EPC | E22: DEMOLICIÓN DE PAVIMENTO FLEXIBLE (INCLUYE CORTE A MÁQUINA 2 COSTADOS | F22: M3 | G22: =250*1*0.08 -> 20 | H22: 233235 | I22: =+G22*H22 -> 4664700
A23: 3 | E23: IMPACTO URBANO
B24: 3.1 | E24: SEÑALIZACIÓN
A25: 3.1 | B25: 3.1.3 | C25: EPC | E25: SEÑALIZACIÓN Y AISLAMIENTO DE ÁREAS DE TRABAJO, INCLUYE CINTA DE SEGURIDAD, POSTES TUBULARES, CONOS GUIA, SEÑALES PREVENTIVAS Y REGLAMENTARIAS | F25: ML/MES | G25: 100 | H25: =+'[2]Table 1'!$E$25 -> 85723 | I25: =+H25*G25 -> 8572300
A26: 4 | B26: 4 | E26: EXCAVACIONES, NO INCLUYE CARGUE NI TRANSPORTE
B27: 4.1 | E27: EXCAVACIONES MANUAL EN TIERRA
A28: 4.1 | B28: 4.1.1 | C28: EPC | E28: EXCAVACIONES A MANO EN TIERRA DE 0 A 2 M DE PROFUNDIDAD | F28: M3 | G28: =ROUND(G43*0.1*1,2) -> 54.44 | H28: =+'[2]Table 1'!$E$34 -> 61019 | I28: =+H28*G28 -> 3321874.4
B29: 4.3 | E29: EXCAVACIÓN MECÁNICA A CUALQUIER PROFUNDIDAD
A30: 4.2 | B30: 4.3.1 | E30: EXCAVACIÓN MECÁNICA A CUALǪUIER PROFUNDIDAD | F30: M3 | G30: =+Hoja2!K39*0.8 -> 446.52 | H30: =+'[2]Table 1'!$E$37 -> 11536 | I30: =+H30*G30 -> 5151054.7 | K30: =1.2*1.1*190 -> 250.8 | L30: =(660-190)*0.7*1.5 -> 493.5
A31: 5 | B31: 5 | E31: RELLENOS
B32: 5.1 | E32: RELLENOS
A33: 5.1 | B33: 2.5 | C33: ICCU - ALCALDIA | E33: RECEBO COMÚN COMPACTADO MECÁNICAMENTE | F33: M3 | G33: =+Hoja2!N39*0.7 -> 348.474 | H33: =+'[3]5.1.2'!$N$63 -> 144582 | I33: =+H33*G33 -> 50383068 | K33: VERIFICAR PRECIO
A34: 5.2 | B34: 2.9 | C34: ICCU - ALCALDIA | D34: 5.1.6 ARENA BOGOTA | E34: ARENA DE PEÑA PARA SOPORTE DE TUBERÍA | F34: M3 | G34: =+Hoja2!M39*0.8 -> 82.4144 | H34: 185227 | I34: =ROUND(+H34*G34,0) -> 15265372
A35: 5.3 | B35: 2.4 | C35: EPC-ALCALDIA | D35: 5.2.1- GRAVILLA | E35: RELLENO TIPO 1 "GRAVILLA" + 50% areana de rio | F35: M3 | G35: =+Hoja2!L39*0.8 -> 91.0896 | H35: =+'[3]gravilla gacheta'!$N$63 -> 141587 | I35: =ROUND(+H35*G35,0) -> 12897103 | K35: CON NUEVO APU
A36: 6 | E36: CARGUE Y RETIRO DE SOBRANTES
B37: 6.1 | E37: CARGUE Y RETIRO DE SOBRANTES
A38: 6.1 | B38: 6.1.1 | C38: EPC | E38: CARGUE Y RETIRO DE SOBRANTES (HASTA 5 KM) INCLUYE DERECHOS DE BOTADERO | F38: M3 | G38: =+G21+G22+G28+G30-40 -> 484.96 | H38: 21251 | I38: =ROUND(+H38*G38,0) -> 10305885
A39: 7 | E39: REDES DE ALCANTARILLADO DE AGUAS RESIDUALES Y AGUAS LLUVIAS
B40: 8.1 | E40: INSTALACIÓN DE TUBERÍAS PVC U.M. (INCLUYE: TRANSPORTE LOCAL, ARREGLO FONDO ZANJA, BAJADA DE LA TUBERÍA A LA ZANJA, PRUEBAS DE ESTANQUEIDAD / HERMETICIDAD Y LIMPIEZA DE LA TUBERÍA).
A41: 7.1 | B41: 3042 | C41: IDU | E41: TUBERIA PVC U.M. EXT CORRUGADO/INT LISO U.M. NORMA NTC 3722-1 D=6" (INCLUYE SUMINISTRO E INSTALACIÓN) | F41: ML | G41: =+Hoja2!B36 -> 20 | H41: 65583 | I41: =ROUND(+H41*G41,0) -> 1311660
A42: 7.2 | B42: 3.5 | C42: ICCU | E42: CAJA DE INSPECCIÓN DE 60X60 | F42: UD | G42: 10 | H42: 366564 | I42: =ROUND(+H42*G42,0) -> 3665640
A43: 7.3 | B43: 3.25 | C43: ICCU | E43: INSTALACIÓN TUBERÍA PVC U.M. ALCANTARILLADO D=8" | F43: ML | G43: =+Hoja2!I39 -> 544.44 | H43: 76724 | I43: =ROUND(+H43*G43,0) -> 41771615
A44: 7.4 | B44: 3.26 | C44: ICCU | E44: INSTALACIÓN TUBERÍA PVC U.M. ALCANTARILLADO D=10" | F44: ML | G44: =+Hoja2!J39 -> 148.65 | H44: 107629 | I44: =ROUND(+H44*G44,0) -> 15999051
A46: 8 | B46: 8.3 | E46: POZO DE INSPECCION
A47: 8.1 | B47: 4.1 | C47: ICCU | E47: PLACA DE FONDO POZO D=1.7M, E=0.25M (CONCRETO 3000 PSI CON REFUERZO) | F47: ml | G47: 26 | H47: 1167919 | I47: =ROUND(+H47*G47,0) -> 30365894 | K47: 1167919
...

Sheet Hoja2
A1: CANTIDADES
A4: POZO | B4: TUBERIA 8" | C4: TUBERIA 10" | D4: HD 14" | E4: DIAMETRO | F4: CARCAMO NS-90 TIPO C | G4: POZOS CARGHES Y PLACA DE FONDO | H4: "-pozo | I4: TUBERIA 8" | J4: TUBERIA 10" | K4: Excavación | L4: lleno gravilla e= a fondo 0.10 m hasta 1/2 tubo | M4: lleno arena e= a arriba 0.10 m desde 1/2 tubo | N4: lleno material DE RECEBO
K5: h=1,25, a =0,7 | L5: a=(8" - 0.17)_ (10"0.19) -0,04 | M5: a=(8" - 0.17)_ (10"0.19) -0,04
A6: MN-1
A7: MH1 | B7: 7.52 | E7: 8" | H7: 1.2 | I7: =+B7-H7 -> 6.32 | K7: =+I7*0.7*1.25 -> 5.53 | L7: =+(0.21-0.04)*I7 -> 1.0744 | M7: =+L7 -> 1.0744 | N7: =+(1.25-0.42)*0.5*I7 -> 2.6228
A8: MN-2
A9: MH1 | B9: 3.17 | E9: 8" | H9: 1.2 | I9: =+B9-H9 -> 1.97 | K9: =+I9*0.7*1.25 -> 1.72375 | L9: =+(0.21-0.04)*I9 -> 0.3349 | M9: =+L9 -> 0.3349 | N9: =+(1.25-0.42)*0.5*I9 -> 0.81755 | P9: =+N9+M9+L9 -> 1.48735 | Q9: =+K9-P9 -> 0.2364
A10: MH2 | B10: 51.71 | E10: 8" | F10: 15.86 | H10: 1.2 | I10: =+B10-H10 -> 50.51 | K10: =+I10*0.7*1.25 -> 44.19625 | L10: =+(0.21-0.04)*I10 -> 8.5867 | M10: =+L10 -> 8.5867 | N10: =+(1.25-0.42)*0.5*I10 -> 20.96165 | P10: =+N10+M10+L10 -> 38.13505 | Q10: =+K10-P10 -> 6.0612
A11: MH3 | B11: 41.34 | E11: 8" | H11: 1.2 | I11: =+B11-H11 -> 40.14 | K11: =+I11*0.7*1.25 -> 35.1225 | L11: =+(0.21-0.04)*I11 -> 6.8238 | M11: =+L11 -> 6.8238 | N11: =+(1.25-0.42)*0.5*I11 -> 16.6581 | P11: =+N11+M11+L11 -> 30.3057 | Q11: =+K11-P11 -> 4.8168
A12: MN-3 | I12: =+B12-H12 -> 0
A13: MH3 | B13: 2.5 | E13: 8" | H13: 1.2 | I13: =+B13-H13 -> 1.3 | K13: =+I13*0.7*1.25 -> 1.1375 | L13: =+(0.21-0.04)*I13 -> 0.221 | M13: =+L13 -> 0.221 | N13: =+(1.25-0.42)*0.5*I13 -> 0.5395 | P13: =+N13+M13+L13 -> 0.9815 | Q13: =+K13-P13 -> 0.156
A14: MH4 | B14: 17.96 | E14: 8" | H14: 1.2 | I14: =+B14-H14 -> 16.76 | K14: =+I14*0.7*1.25 -> 14.665 | L14: =+(0.21-0.04)*I14 -> 2.8492 | M14: =+L14 -> 2.8492 | N14: =+(1.25-0.42)*0.5*I14 -> 6.9554 | P14: =+N14+M14+L14 -> 12.6538 | Q14: =+K14-P14 -> 2.0112
A15: MH5 | B15: 23.26 | E15: 8" | H15: 1.2 | I15: =+B15-H15 -> 22.06 | K15: =+I15*0.7*1.25 -> 19.3025 | L15: =+(0.21-0.04)*I15 -> 3.7502 | M15: =+L15 -> 3.7502 | N15: =+(1.25-0.42)*0.5*I15 -> 9.1549 | P15: =+N15+M15+L15 -> 16.6553 | Q15: =+K15-P15 -> 2.6472
A16: MH6 | B16: 31.34 | E16: 8" | F16: 4.2 | H16: 1.2 | I16: =+B16-H16 -> 30.14 | K16: =+I16*0.7*1.25 -> 26.3725 | L16: =+(0.21-0.04)*I16 -> 5.1238 | M16: =+L16 -> 5.1238 | N16: =+(1.25-0.42)*0.5*I16 -> 12.5081 | P16: =+N16+M16+L16 -> 22.7557 | Q16: =+K16-P16 -> 3.6168
A17: MH7 | B17: 57 | E17: 8" | F17: 57 | H17: 1.2 | I17: =+B17-H17 -> 55.8 | K17: =+I17*0.7*1.25 -> 48.825 | L17: =+(0.21-0.04)*I17 -> 9.486 | M17: =+L17 -> 9.486 | N17: =+(1.25-0.42)*0.5*I17 -> 23.157 | P17: =+N17+M17+L17 -> 42.129 | Q17: =+K17-P17 -> 6.696
A18: MH8 | B18: 47.11 | E18: 8" | H18: 1.2 | I18: =+B18-H18 -> 45.91 | K18: =+I18*0.7*1.25 -> 40.17125 | L18: =+(0.21-0.04)*I18 -> 7.8047 | M18: =+L18 -> 7.8047 | N18: =+(1.25-0.42)*0.5*I18 -> 19.05265
A19: MN-5 | E19: 8"
A20: MH8 | B20: 9.28 | E20: 8" | H20: 1.2 | I20: =+B20-H20 -> 8.08 | K20: =+I20*0.7*1.25 -> 7.07 | L20: =+(0.21-0.04)*I20 -> 1.3736 | M20: =+L20 -> 1.3736 | N20: =+(1.25-0.42)*0.5*I20 -> 3.3532 | P20: =+N20+M20+L20 -> 6.1004 | Q20: =+K20-P20 -> 0.9696
A21: MH9 | B21: 15.78 | E21: 8" | H21: 1.2 | I21: =+B21-H21 -> 14.58 | K21: =+I21*0.7*1.25 -> 12.7575 | L21: =+(0.21-0.04)*I21 -> 2.4786 | M21: =+L21 -> 2.4786 | N21: =+(1.25-0.42)*0.5*I21 -> 6.0507 | P21: =+N21+M21+L21 -> 11.0079 | Q21: =+K21-P21 -> 1.7496
A22: MH10 | B22: 34.88 | E22: 8" | H22: 1.2 | I22: =+B22-H22 -> 33.68 | K22: =+I22*0.7*1.25 -> 29.47 | L22: =+(0.21-0.04)*I22 -> 5.7256 | M22: =+L22 -> 5.7256 | N22: =+(1.25-0.42)*0.5*I22 -> 13.9772 | P22: =+N22+M22+L22 -> 25.4284 | Q22: =+K22-P22 -> 4.0416
A23: MH11 | B23: 33.37 | E23: 8" | H23: 1.2 | I23: =+B23-H23 -> 32.17 | K23: =+I23*0.7*1.25 -> 28.14875 | L23: =+(0.21-0.04)*I23 -> 5.4689 | M23: =+L23 -> 5.4689 | N23: =+(1.25-0.42)*0.5*I23 -> 13.35055 | P23: =+N23+M23+L23 -> 24.28835 | Q23: =+K23-P23 -> 3.8604
A24: MH12 | B24: 13.64 | E24: 8" | H24: 1.2 | I24: =+B24-H24 -> 12.44 | K24: =+I24*0.7*1.25 -> 10.885 | L24: =+(0.21-0.04)*I24 -> 2.1148 | M24: =+L24 -> 2.1148 | N24: =+(1.25-0.42)*0.5*I24 -> 5.1626 | P24: =+N24+M24+L24 -> 9.3922 | Q24: =+K24-P24 -> 1.4928
A25: MH13 | B25: 30.67 | E25: 8" | H25: 1.2 | I25: =+B25-H25 -> 29.47 | K25: =+I25*0.7*1.25 -> 25.78625 | L25: =+(0.21-0.04)*I25 -> 5.0099 | M25: =+L25 -> 5.0099 | N25: =+(1.25-0.42)*0.5*I25 -> 12.23005
A26: MH14 | B26: 17.64 | E26: 8" | H26: 1.2 | I26: =+B26-H26 -> 16.44 | K26: =+I26*0.7*1.25 -> 14.385 | L26: =+(0.21-0.04)*I26 -> 2.7948 | M26: =+L26 -> 2.7948 | N26: =+(1.25-0.42)*0.5*I26 -> 6.8226 | P26: 86.82
A27: MH15 | B27: 36.46 | E27: 8" | H27: 1.2 | I27: =+B27-H27 -> 35.26 | K27: =+I27*0.7*1.25 -> 30.8525 | L27: =+(0.21-0.04)*I27 -> 5.9942 | M27: =+L27 -> 5.9942 | N27: =+(1.25-0.42)*0.5*I27 -> 14.6329 | P27: 185.06
A28: MH16 | B28: 19.32 | E28: 8" | H28: 1.2 | I28: =+B28-H28 -> 18.12 | K28: =+I28*0.7*1.25 -> 15.855 | L28: =+(0.21-0.04)*I28 -> 3.0804 | M28: =+L28 -> 3.0804 | N28: =+(1.25-0.42)*0.5*I28 -> 7.5198
A29: MH17 | B29: 35.37 | E29: 8" | H29: 1.2 | I29: =+B29-H29 -> 34.17 | K29: =+I29*0.7*1.25 -> 29.89875 | L29: =+(0.21-0.04)*I29 -> 5.8089 | M29: =+L29 -> 5.8089 | N29: =+(1.25-0.42)*0.5*I29 -> 14.18055
A30: MH18 | B30: 46.64 | E30: 8" | H30: 1.2 | I30: =+B30-H30 -> 45.44 | K30: =+I30*0.7*1.25 -> 39.76 | L30: =+(0.21-0.04)*I30 -> 7.7248 | M30: =+L30 -> 7.7248 | N30: =+(1.25-0.42)*0.5*I30 -> 18.8576
A31: MH19 | C31: 56.4 | D31: 15 | E31: 10" | H31: 1.2 | J31: =+C31-H31 -> 55.2 | K31: =+I31*0.7*1.25 -> 0 | L31: =+(0.21-0.04)*I31 -> 0 | M31: =+L31 -> 0 | N31: =+(1.25-0.42)*0.5*I31 -> 0
A32: MH20 | C32: 14.55 | E32: 10" | H32: 1.2 | J32: =+C32-H32 -> 13.35 | K32: =+J32*0.7*1.25 -> 11.68125 | L32: =+(0.21-0.04)*J32 -> 2.2695 | M32: =+L32 -> 2.2695 | N32: =+(1.25-0.42)*0.5*I32 -> 0
A33: MH21 | C33: 35.94 | E33: 10" | H33: 1.2 | J33: =+C33-H33 -> 34.74 | K33: =+J33*0.7*1.25 -> 30.3975 | L33: =+(0.21-0.04)*J33 -> 5.9058 | M33: =+L33 -> 5.9058 | N33: =+(1.25-0.42)*0.5*I33 -> 0
A34: MH22 | C34: 12.76 | E34: 10" | F34: 13 | H34: 1.2 | J34: =+C34-H34 -> 11.56 | K34: =+J34*0.7*1.25 -> 10.115 | L34: =+(0.21-0.04)*J34 -> 1.9652 | M34: =+L34 -> 1.9652 | N34: =+(1.25-0.42)*0.5*I34 -> 0
A35: CABEZAL DE DESCARGA | C35: 35 | E35: 10" | H35: 1.2 | J35: =+C35-H35 -> 33.8 | K35: =+J35*0.7*1.25 -> 29.575 | L35: =+(0.21-0.04)*J35 -> 5.746 | M35: =+L35 -> 5.746 | N35: =+(1.25-0.42)*0.5*I35 -> 0
A36: MANIJAS ADIC. | B36: 20 | C36: 0 | E36: 6" | H36: 1.2 | K36: =+I36*0.7*1.25 -> 0 | L36: =+(0.21-0.04)*I36 -> 0 | M36: =+L36 -> 0 | N36: =+(1.25-0.42)*0.5*I36 -> 0
A37: ACERO CABEZAL | N37: =+P27+P26 -> 271.88
A38: CONCRETO 3000 PSI CABEZAL | N38: =4*2*0.25*1.6 -> 3.2
B39: =ROUND(SUM(B7:B37),2) -> 595.96 | C39: =ROUND(SUM(C9:C37),2) -> 154.65 | D39: =ROUND(SUM(D9:D37),2) -> 15 | F39: =ROUND(SUM(F10:F37),2) -> 90.06 | H39: =COUNT(H7:H36) -> 27 | I39: =ROUND(SUM(I9:I37),2) -> 544.44 | J39: =ROUND(SUM(J9:J37),2) -> 148.65 | K39: =ROUND(SUM(K9:K37),2) -> 558.15 | L39: =ROUND(SUM(L9:L37),2)*1.05 -> 113.862 | M39: =ROUND(SUM(M9:M37),2)*0.95 -> 103.018 | N39: =ROUND(SUM(N9:N37),2) -> 497.82
H40: desperdicio
A41: excava pozos

Sheet ponderacion
A1: DESCRIPCIÓN | B1: UN | C1: CANT | D1: V. UNITARIO | E1: V. PARCIAL
A2: RECEBO COMÚN COMPACTADO MECÁNICAMENTE | B2: M3 | C2: 217.29 | D2: 144582 | E2: 31416223
A3: ARENA DE PEÑA PARA SOPORTE DE TUBERÍA | B3: M3 | C3: 108.6705 | D3: 174546 | E3: 18968001
A4: RELLENO TIPO 1 "GRAVILLA" + 50% areana de rio | B4: M3 | C4: 120.1095 | D4: 141587 | E4: 17005944
A5: TUBERIA PVC U.M. EXT CORRUGADO/INT LISO U.M. NORMA NTC 3722-1 D=6" (INCLUYE SUMINISTRO E INSTALACIÓN) | B5: ML | C5: 62 | D5: 65583 | E5: 4066146
A6: CAJA DE INSPECCIÓN DE 60X60 | B6: UD | C6: 10 | D6: 366564 | E6: 3665640
A7: INSTALACIÓN TUBERÍA PVC U.M. ALCANTARILLADO D=8" | B7: ML | C7: 523.6 | D7: 76724 | E7: 40172686
A8: INSTALACIÓN TUBERÍA PVC U.M. ALCANTARILLADO D=10" | B8: ML | C8: 149.27 | D8: 107629 | E8: 16065781
A9: BASE PARA POZO D=170CM E=20CM (INCLUYE RECEBO Y CAÑUELA | B9: ml | C9: 30 | D9: 1520184 | E9: 45605520
A10: CILINDRO PARA POZO DE INSPECCIÓN Ø1.20 M., E=25 CM, EN LADRILLO RECOCIDO, INCLUYE PAÑETE Y PASOS EN ACERO 3/4" | B10: ml | C10: 37.5 | D10: 1420966 | E10: 53286225
A11: PLACA CUBIERTA POZO D=170CM-E=25CM--27,6MPA-4000PSI PREFABRICADO | B11: un | C11: 30 | D11: 2275649 | E11: 68269470
A12: ESTRUCTURA DE PROTECCION
A13: CARCAMO PROTECCIÓN DE TUBERÍA Ø 8" (TIPO C) NORMA EAAB NS-090. | B13: ML | C13: 63.5 | D13: 245488 | E13: 15588488
A14: CARCAMO PROTECCIÓN DE TUBERÍA Ø 10" (TIPO C) NORMA EAAB NS-090. | B14: ML | C14: 20 | D14: 245488 | E14: 4909760
A15: RELLENO CON MATERIAL SELECCIONADO PROCEDENTE DE LA EXCAVACIÓN | B15: ML | C15: 130.24161 | D15: 41941 | E15: 5462463.5
A16: ARENA DE PEÑA PARA SOPORTE DE TUBERÍA | B16: M3 | C16: 96.378794 | D16: 174546 | E16: 16822533
A17: TUBERIA Y ACCESORIOS
A18: TUBERIA PVC D=3" TIPO U.M. RDE 26 (SUMINISTRO E INSTALACIÓN) | B18: ML | C18: 651 | D18: 50566 | E18: 32918466
A19: CODO G.RAD. PVC 22.5° TIPO U.M. D=3" (SUMINISTRO E INSTALACIÓN) | B19: UD | C19: 2 | D19: 87232 | E19: 174464
A20: CODO G.RAD. PVC 11.25° TIPO U.M. D=3" (SUMINISTRO E INSTALACIÓN) | B20: UD | C20: 11 | D20: 80131 | E20: 881441
A21: UNION DE REPARACION PVC TIPO U.M. D=3" (SUMINISTRO E INSTALACIÓN) | B21: UD | C21: 10 | D21: 82241 | E21: 822410
A22: ADAPTADOR TERMINAL CAMPANA PVC D=3" (SUMINISTRO E INSTALACIÓN) | B22: UD | C22: 8 | D22: 12757 | E22: 102056
A23: VALVULA COMPUERTA ELASTICA VASTAGO NO ASCENDENTE EXTREMO LISO D=3" (SUMINISTRO E INSTALACIÓN) | B23: UD | C23: 1 | D23: 881069 | E23: 881069
A24: CAJA PARA VALVULA 0.4X0.4M H=0.8M (INCLUYE MARCO Y TAPA) | B24: UD | C24: 1 | D24: 273361 | E24: 273361
A25: ACOMETIDA DOMICILIARIA DE 1/2" CON COLLAR DE DERIVACION DE 4" X 1/2". SUMINISTRO E INSTALACION. (INCLUYE TUBERIA PF, REGISTROS Y ACCESORIOS EN PVC, LONGITUD PROMEDIO DE 6.5M, INCLUYE CAJILLA EN POLIPROPILENO PARA MEDIDOR) | B25: UD | C25: 30 | D25: 311000 | E25: 9330000
A26: ACOMETIDA DOMICILIARIA DE 1/2" CON COLLAR DE DERIVACION DE 4" X 1/2". SUMINISTRO E INSTALACION. (INCLUYE TUBERIA PF, REGISTROS Y ACCESORIOS EN PVC, LONGITUD PROMEDIO DE 6.5M, (SIN CAJILLA EN POLIPROPILENO PARA MEDIDOR) | B26: UD | C26: 2 | D26: 256000 | E26: 512000
A27: TUBERIA GALVANIZADA 2" PARA ANCLAJES | B27: ML | C27: 24 | D27: 74754 | E27: 1794096
A28: CONCRETO 2500 PSI HECHO EN OBRA PARA REDES (SUMINISTRO Y COLOCACIÓN)(ANCLAJES) | B28: M3 | C28: 5.04 | D28: 648923 | E28: 3270571.9
E30: 5.1014831e+08
A34: DESCRIPCIÓN | B34: RECEBO COMÚN COMPACTADO MECÁNICAMENTE | C34: ARENA DE PEÑA PARA SOPORTE DE TUBERÍA | D34: RELLENO TIPO 1 "GRAVILLA" + 50% areana de rio | E34: TUBERIA PVC U.M. EXT CORRUGADO/INT LISO U.M. NORMA NTC 3722-1 D=6" (INCLUYE SUMINISTRO E INSTALACIÓN) | F34: CAJA DE INSPECCIÓN DE 60X60 | G34: INSTALACIÓN TUBERÍA PVC U.M. ALCANTARILLADO D=8" | H34: INSTALACIÓN TUBERÍA PVC U.M. ALCANTARILLADO D=10" | I34: BASE PARA POZO D=170CM E=20CM (INCLUYE RECEBO Y CAÑUELA | J34: CILINDRO PARA POZO DE INSPECCIÓN Ø1.20 M., E=25 CM, EN LADRILLO RECOCIDO, INCLUYE PAÑETE Y PASOS EN ACERO 3/4" | K34: PLACA CUBIERTA POZO D=170CM-E=25CM--27,6MPA-4000PSI PREFABRICADO | L34: CARCAMO PROTECCIÓN DE TUBERÍA Ø 8" (TIPO C) NORMA EAAB NS-090. | M34: CARCAMO PROTECCIÓN DE TUBERÍA Ø 10" (TIPO C) NORMA EAAB NS-090. | N34: RELLENO CON MATERIAL SELECCIONADO PROCEDENTE DE LA EXCAVACIÓN | O34: ARENA DE PEÑA PARA SOPORTE DE TUBERÍA | P34: TUBERIA PVC D=3" TIPO U.M. RDE 26 (SUMINISTRO E INSTALACIÓN) | Q34: CODO G.RAD. PVC 22.5° TIPO U.M. D=3" (SUMINISTRO E INSTALACIÓN) | R34: CODO G.RAD. PVC 11.25° TIPO U.M. D=3" (SUMINISTRO E INSTALACIÓN) | S34: UNION DE REPARACION PVC TIPO U.M. D=3" (SUMINISTRO E INSTALACIÓN) | T34: ADAPTADOR TERMINAL CAMPANA PVC D=3" (SUMINISTRO E INSTALACIÓN) | U34: VALVULA COMPUERTA ELASTICA VASTAGO NO ASCENDENTE EXTREMO LISO D=3" (SUMINISTRO E INSTALACIÓN) | V34: CAJA PARA VALVULA 0.4X0.4M H=0.8M (INCLUYE MARCO Y TAPA) | W34: ACOMETIDA DOMICILIARIA DE 1/2" CON COLLAR DE DERIVACION DE 4" X 1/2". SUMINISTRO E INSTALACION. (INCLUYE TUBERIA PF, REGISTROS Y ACCESORIOS EN PVC, LONGITUD PROMEDIO DE 6.5M, INCLUYE CAJILLA EN POLIPROPILENO PARA MEDIDOR) | X34: ACOMETIDA DOMICILIARIA DE 1/2" CON COLLAR DE DERIVACION DE 4" X 1/2". SUMINISTRO E INSTALACION. (INCLUYE TUBERIA PF, REGISTROS Y ACCESORIOS EN PVC, LONGITUD PROMEDIO DE 6.5M, (SIN CAJILLA EN POLIPROPILENO PARA MEDIDOR) | Y34: TUBERIA GALVANIZADA 2" PARA ANCLAJES | Z34: CONCRETO 2500 PSI HECHO EN OBRA PARA REDES (SUMINISTRO Y COLOCACIÓN)(ANCLAJES)
A35: UN | B35: M3 | C35: M3 | D35: M3 | E35: ML | F35: UD | G35: ML | H35: ML | I35: ml | J35: ml | K35: un | L35: ML | M35: ML | N35: ML | O35: M3 | P35: ML | Q35: UD | R35: UD | S35: UD | T35: UD | U35: UD | V35: UD | W35: UD | X35: UD | Y35: ML | Z35: M3
A36: CANT | B36: 217.29 | C36: 108.6705 | D36: 120.1095 | E36: 62 | F36: 10 | G36: 523.6 | H36: 149.27 | I36: 30 | J36: 37.5 | K36: 30 | L36: 63.5 | M36: 20 | N36: 130.24161 | O36: 96.378794 | P36: 651 | Q36: 2 | R36: 11 | S36: 10 | T36: 8 | U36: 1 | V36: 1 | W36: 30 | X36: 2 | Y36: 24 | Z36: 5.04
A37: V. UNITARIO | B37: 144582 | C37: 174546 | D37: 141587 | E37: 65583 | F37: 366564 | G37: 76724 | H37: 107629 | I37: 1520184 | J37: 1420966 | K37: 2275649 | L37: 245488 | M37: 245488 | N37: 41941 | O37: 174546 | P37: 50566 | Q37: 87232 | R37: 80131 | S37: 82241 | T37: 12757 | U37: 881069 | V37: 273361 | W37: 311000 | X37: 256000 | Y37: 74754 | Z37: 648923
A38: V. PARCIAL | B38: 31416223 | C38: 18968001 | D38: 17005944 | E38: 4066146 | F38: 3665640 | G38: 40172686 | H38: 16065781 | I38: 45605520 | J38: 53286225 | K38: 68269470 | L38: 15588488 | M38: 4909760 | N38: 5462463.5 | O38: 16822533 | P38: 32918466 | Q38: 174464 | R38: 881441 | S38: 822410 | T38: 102056 | U38: 881069 | V38: 273361 | W38: 9330000 | X38: 512000 | Y38: 1794096 | Z38: 3270571.9 | AA38: =SUM(B38:Z38) -> 3.9226482e+08 | AB38: 5.1014831e+08
AC39: DESCRIPCION | AD39: UNIDADES | AE39: CANTIDAD
A40: AGREGADO GRUESO | B40: =+B38 -> 31416223 | D40: =+D38 -> 17005944 | I40: =+I38*0.35 -> 15961932 | K40: =+$K$38*0.35 -> 23894314 | L40: =+$L$38*0.35 -> 5455970.8 | M40: =+$M$38*0.35 -> 1718416 | N40: =+N38 -> 5462463.5 | Z40: =+$Z$38*0.35 -> 1144700.2 | AA40: =SUM(B40:Z40) -> 1.0205996e+08 | AB40: =+AA40/$AA$38 -> 0.26018129 | AC40: AGREGADO GRUESO | AD40: m3 | AE40: =ROUND(+AA40/D37,0) -> 721 | AF40: =+D37 -> 141587
A41: AGREGADO FINO | C41: =+C38 -> 18968001 | I41: =+$I$38*0.3 -> 13681656 | J41: =+J38*0.1 -> 5328622.5 | K41: =+$K$38*0.3 -> 20480841 | L41: =+$L$38*0.25 -> 3897122 | M41: =+$M$38*0.25 -> 1227440 | O41: =+O38 -> 16822533 | Z41: =+$Z$38*0.4 -> 1308228.8 | AA41: =SUM(B41:Z41) -> 81714444 | AB41: =+AA41/$AA$38 -> 0.20831449 | AC41: AGREGADO FINO | AD41: m3 | AE41: =ROUND(+AA41/D37,0) -> 577 | AF41: =+D37 -> 141587
A42: CEMENTO | F42: =+F38*0.1 -> 366564 | I42: =+$I$38*0.1 -> 4560552 | K42: =+$K$38*0.1 -> 6826947 | L42: =+$L$38*0.15 -> 2338273.2 | M42: =+$M$38*0.15 -> 736464 | Z42: =+$Z$38*0.15 -> 490585.79 | AA42: =SUM(B42:Z42) -> 15319386 | AB42: =+AA42/$AA$38 -> 0.039053684 | AC42: CEMENTO | AD42: KG | AE42: =35400/50 -> 708 | AF42: =+AA42/AE42 -> 21637.551 | AG42: =+AF42/50 -> 432.75102 | AH42: =+AG42/7 -> 61.821574
A43: ACERO | F43: =+F38*0.4 -> 1466256 | I43: =+$I$38*0.25 -> 11401380 | J43: =+J38*0.2 -> 10657245 | K43: =+$K$38*0.25 -> 17067368 | L43: =+$L$38*0.25 -> 3897122 | M43: =+$M$38*0.25 -> 1227440 | Y43: =+Y38 -> 1794096 | AA43: =SUM(B43:Z43) -> 47510906 | AB43: =+AA43/$AA$38 -> 0.12111947 | AC43: ACERO | AD43: KG | AE43: =ROUND(+AA43/8424,0) -> 5640 | AF43: 8424
A44: LADRILLO MACIZO | F44: =+F38*0.5 -> 1832820 | J44: =+J38*0.7 -> 37300358 | V44: =+V38 -> 273361 | AA44: =SUM(B44:Z44) -> 39406538 | AB44: =+AA44/$AA$38 -> 0.10045902 | AC44: LADRILLO MACIZO | AD44: m2 | AE44: =ROUND(+AA44/1040,0) -> 37891 | AF44: 1040
...

Sheet BIENES RELEVANTES PASO 1
A1: DESCRIPCIÓN | B1: UN | C1: CANT | D1: V. UNITARIO
A2: RECEBO COMÚN COMPACTADO MECÁNICAMENTE | B2: M3 | C2: 217.29 | D2: 144582 | E2: =+D2*C2 -> 31416223
A3: ARENA DE PEÑA PARA SOPORTE DE TUBERÍA | B3: M3 | C3: 108.6705 | D3: 174546 | E3: =+D3*C3 -> 18968001
A4: RELLENO TIPO 1 "GRAVILLA" + 50% areana de rio | B4: M3 | C4: 120.1095 | D4: 141587 | E4: =+D4*C4 -> 17005944
A5: RELLENO CON MATERIAL SELECCIONADO PROCEDENTE DE LA EXCAVACIÓN | B5: ML | C5: 130.24161 | D5: 41941 | E5: =+D5*C5 -> 5462463.5
A6: ARENA DE PEÑA PARA SOPORTE DE TUBERÍA | B6: M3 | C6: 96.378794 | D6: 174546 | E6: =+D6*C6 -> 16822533
A7: CAJA DE INSPECCIÓN DE 60X60 | B7: UD | C7: 10 | D7: 366564 | E7: =+D7*C7 -> 3665640
A8: POZO DE INSPECCION | E8: =+D8*C8 -> 0
A9: BASE PARA POZO D=170CM E=20CM (INCLUYE RECEBO Y CAÑUELA | B9: ml | C9: 30 | D9: 1520184 | E9: =+D9*C9 -> 45605520
A10: CILINDRO PARA POZO DE INSPECCIÓN Ø1.20 M., E=25 CM, EN LADRILLO RECOCIDO, INCLUYE PAÑETE Y PASOS EN ACERO 3/4" | B10: ml | C10: 37.5 | D10: 1420966 | E10: =+D10*C10 -> 53286225
A11: CARCAMO PROTECCIÓN DE TUBERÍA Ø 8" (TIPO C) NORMA EAAB NS-090. | B11: ML | C11: 63.5 | D11: 245488 | E11: =+D11*C11 -> 15588488
A12: CARCAMO PROTECCIÓN DE TUBERÍA Ø 10" (TIPO C) NORMA EAAB NS-090. | B12: ML | C12: 20 | D12: 245488 | E12: =+D12*C12 -> 4909760
A13: CAJA PARA VALVULA 0.4X0.4M H=0.8M (INCLUYE MARCO Y TAPA) | B13: UD | C13: 1 | D13: 273361 | E13: =+D13*C13 -> 273361
A14: CONCRETO 2500 PSI HECHO EN OBRA PARA REDES (SUMINISTRO Y COLOCACIÓN)(ANCLAJES) | B14: M3 | C14: 5.04 | D14: 648923 | E14: =+D14*C14 -> 3270571.9
A15: TUBERIA PVC U.M. EXT CORRUGADO/INT LISO U.M. NORMA NTC 3722-1 D=6" (INCLUYE SUMINISTRO E INSTALACIÓN) | B15: ML | C15: 62 | D15: 65583 | E15: =+D15*C15 -> 4066146
A16: CAJA DE INSPECCIÓN DE 60X60 | B16: UD | C16: 10 | D16: 366564 | E16: =+D16*C16 -> 3665640
A17: INSTALACIÓN TUBERÍA PVC U.M. ALCANTARILLADO D=8" | B17: ML | C17: 523.6 | D17: 76724 | E17: =+D17*C17 -> 40172686
A18: INSTALACIÓN TUBERÍA PVC U.M. ALCANTARILLADO D=10" | B18: ML | C18: 149.27 | D18: 107629 | E18: =+D18*C18 -> 16065781
A19: POZO DE INSPECCION | E19: =+D19*C19 -> 0
A20: BASE PARA POZO D=170CM E=20CM (INCLUYE RECEBO Y CAÑUELA | B20: ml | C20: 30 | D20: 1520184 | E20: =+D20*C20 -> 45605520
A21: CILINDRO PARA POZO DE INSPECCIÓN Ø1.20 M., E=25 CM, EN LADRILLO RECOCIDO, INCLUYE PAÑETE Y PASOS EN ACERO 3/4" | B21: ml | C21: 37.5 | D21: 1420966 | E21: =+D21*C21 -> 53286225
A22: PLACA CUBIERTA POZO D=170CM-E=25CM--27,6MPA-4000PSI PREFABRICADO | B22: un | C22: 30 | D22: 2275649 | E22: =+D22*C22 -> 68269470
A23: ESTRUCTURA DE PROTECCION | E23: =+D23*C23 -> 0
A24: CARCAMO PROTECCIÓN DE TUBERÍA Ø 8" (TIPO C) NORMA EAAB NS-090. | B24: ML | C24: 63.5 | D24: 245488 | E24: =+D24*C24 -> 15588488
A25: CARCAMO PROTECCIÓN DE TUBERÍA Ø 10" (TIPO C) NORMA EAAB NS-090. | B25: ML | C25: 20 | D25: 245488 | E25: =+D25*C25 -> 4909760
A26: TUBERIA PVC D=3" TIPO U.M. RDE 26 (SUMINISTRO E INSTALACIÓN) | B26: ML | C26: 651 | D26: 50566 | E26: =+D26*C26 -> 32918466
A27: CODO G.RAD. PVC 22.5° TIPO U.M. D=3" (SUMINISTRO E INSTALACIÓN) | B27: UD | C27: 2 | D27: 87232 | E27: =+D27*C27 -> 174464
A28: CODO G.RAD. PVC 11.25° TIPO U.M. D=3" (SUMINISTRO E INSTALACIÓN) | B28: UD | C28: 11 | D28: 80131 | E28: =+D28*C28 -> 881441
A29: UNION DE REPARACION PVC TIPO U.M. D=3" (SUMINISTRO E INSTALACIÓN) | B29: UD | C29: 10 | D29: 82241 | E29: =+D29*C29 -> 822410
A30: ADAPTADOR TERMINAL CAMPANA PVC D=3" (SUMINISTRO E INSTALACIÓN) | B30: UD | C30: 8 | D30: 12757 | E30: =+D30*C30 -> 102056
A31: VALVULA COMPUERTA ELASTICA VASTAGO NO ASCENDENTE EXTREMO LISO D=3" (SUMINISTRO E INSTALACIÓN) | B31: UD | C31: 1 | D31: 881069 | E31: =+D31*C31 -> 881069
A32: CAJA PARA VALVULA 0.4X0.4M H=0.8M (INCLUYE MARCO Y TAPA) | B32: UD | C32: 1 | D32: 273361 | E32: =+D32*C32 -> 273361
A33: ACOMETIDA DOMICILIARIA DE 1/2" CON COLLAR DE DERIVACION DE 4" X 1/2". SUMINISTRO E INSTALACION. (INCLUYE TUBERIA PF, REGISTROS Y ACCESORIOS EN PVC, LONGITUD PROMEDIO DE 6.5M, INCLUYE CAJILLA EN POLIPROPILENO PARA MEDIDOR) | B33: UD | C33: 30 | D33: 311000 | E33: =+D33*C33 -> 9330000
A34: ACOMETIDA DOMICILIARIA DE 1/2" CON COLLAR DE DERIVACION DE 4" X 1/2". SUMINISTRO E INSTALACION. (INCLUYE TUBERIA PF, REGISTROS Y ACCESORIOS EN PVC, LONGITUD PROMEDIO DE 6.5M, (SIN CAJILLA EN POLIPROPILENO PARA MEDIDOR) | B34: UD | C34: 2 | D34: 256000 | E34: =+D34*C34 -> 512000
A35: TUBERIA GALVANIZADA 2" PARA ANCLAJES | B35: ML | C35: 24 | D35: 74754 | E35: =+D35*C35 -> 1794096
A36: CONCRETO 2500 PSI HECHO EN OBRA PARA REDES (SUMINISTRO Y COLOCACIÓN)(ANCLAJES) | B36: M3 | C36: 5.04 | D36: 648923 | E36: =+D36*C36 -> 3270571.9
D37: =SUM(D2:D36) -> 14480485 | E37: =SUM(E2:E36) -> 5.1886438e+08

Sheet Hoja5
